{"text_format":"1","workbook":"xlsx","n_sheets":6,"sheets":["試験問題（関数）","網羅問題（関数） ","漢字読み","漢字書き","関数（読み）","関数（書き）"],"not_rendered":{"charts":0,"images":0,"macros":1,"external_links":0,"defined_names":6,"comments":1,"pivot_tables":0},"unopened":[],"bounds":{"document_bytes":16777216,"sheet_cells":100000,"rows_first":2000,"rows_last":500,"rows_between":2000,"halvings":0,"cell_chars":16384,"cell_head_chars":4096},"cells_cut":0,"cells_raw":0,"read":"whole","date_system":"1900"}

{"sheet":"試験問題（関数）","index":0,"n_rows":20,"n_cols":23,"rows_kept":20,"cut":false,"hidden":false,"merged":[[8,21,9,21],[1,20,4,20],[3,21,4,21],[6,20,9,20],[1,22,3,22],[6,22,8,22],[13,21,14,21],[16,20,19,20],[16,22,18,22],[18,21,19,21],[21,22,22,22],[22,21,23,21],[11,20,14,20],[11,22,13,22]]}
[{"$f":"'関数（書き）'!$C$2","v":79},{"$f":"'関数（書き）'!$C$3","v":101},{"$f":"'関数（書き）'!$C$4","v":188},{"$f":"'関数（書き）'!$C$5","v":121},{"$f":"'関数（書き）'!$C$6","v":34},{"$f":"'関数（書き）'!$C$7","v":105},{"$f":"'関数（書き）'!$C$8","v":123},{"$f":"'関数（書き）'!$C$9","v":171},{"$f":"'関数（書き）'!$C$10","v":1},{"$f":"'関数（書き）'!$C$11","v":166},{"$f":"'関数（読み）'!$C$2","v":128},{"$f":"'関数（読み）'!$C$3","v":38},{"$f":"'関数（読み）'!$C$4","v":33},{"$f":"'関数（読み）'!$C$5","v":141},{"$f":"'関数（読み）'!$C$6","v":191},{"$f":"'関数（読み）'!$C$7","v":146},{"$f":"'関数（読み）'!$C$8","v":76},{"$f":"'関数（読み）'!$C$9","v":173},{"$f":"'関数（読み）'!$C$10","v":26},{"$f":"'関数（読み）'!$C$11","v":91}]
["⑳","⑲","⑱","⑰","⑯","⑮","⑭","⑬","⑫","⑪","⑩","⑨","⑧","⑦","⑥","⑤","④","③","②","①","次の［　　　　］の部分の漢字には読みがなをひらがなで書き、カタカナは漢字に直しなさい。",10,"「漢字の博士検定試験」練習問題　"]
[{"$f":"IF(A1=\"\",\"\",VLOOKUP(A1,漢字書き!$A$2:$N$506,6,0))","v":"花が［チ］る"},{"$f":"IF(B1=\"\",\"\",VLOOKUP(B1,漢字書き!$A$2:$N$506,6,0))","v":"［ウシナ］われた自然"},{"$f":"IF(C1=\"\",\"\",VLOOKUP(C1,漢字書き!$A$2:$N$506,6,0))","v":"［オンガクタイ］が来る"},{"$f":"IF(D1=\"\",\"\",VLOOKUP(D1,漢字書き!$A$2:$N$506,6,0))","v":"にっこりと[ワラ]う"},{"$f":"IF(E1=\"\",\"\",VLOOKUP(E1,漢字書き!$A$2:$N$506,6,0))","v":"[ケツ]ろんをのべる"},{"$f":"IF(F1=\"\",\"\",VLOOKUP(F1,漢字書き!$A$2:$N$506,6,0))","v":"［タネ］をまく"},{"$f":"IF(G1=\"\",\"\",VLOOKUP(G1,漢字書き!$A$2:$N$506,6,0))","v":"平和を［トナ］える"},{"$f":"IF(H1=\"\",\"\",VLOOKUP(H1,漢字書き!$A$2:$N$506,6,0))","v":"［シゼン］を大切にする"},{"$f":"IF(I1=\"\",\"\",VLOOKUP(I1,漢字書き!$A$2:$N$506,6,0))","v":"おいしい［キュウショク］"},{"$f":"IF(J1=\"\",\"\",VLOOKUP(J1,漢字書き!$A$2:$N$506,6,0))","v":"決勝[セン]に出る"},{"$f":"IF(K1=\"\",\"\",VLOOKUP(K1,漢字読み!$A$2:$I$506,6,0))","v":"［石焼］きいも"},{"$f":"IF(L1=\"\",\"\",VLOOKUP(L1,漢字読み!$A$2:$I$506,6,0))","v":"家を［建］てる"},{"$f":"IF(M1=\"\",\"\",VLOOKUP(M1,漢字読み!$A$2:$I$506,6,0))","v":"月が［欠］ける"},{"$f":"IF(N1=\"\",\"\",VLOOKUP(N1,漢字読み!$A$2:$I$506,6,0))","v":"絵が［完成］する"},{"$f":"IF(O1=\"\",\"\",VLOOKUP(O1,漢字読み!$A$2:$I$506,6,0))","v":"［孫］と遊ぶ"},{"$f":"IF(P1=\"\",\"\",VLOOKUP(P1,漢字読み!$A$2:$I$506,6,0))","v":"説明を［省］く"},{"$f":"IF(Q1=\"\",\"\",VLOOKUP(Q1,漢字読み!$A$2:$I$506,6,0))","v":"お宮［参］り"},{"$f":"IF(R1=\"\",\"\",VLOOKUP(R1,漢字読み!$A$2:$I$506,6,0))","v":"［戦争］が起こる"},{"$f":"IF(S1=\"\",\"\",VLOOKUP(S1,漢字読み!$A$2:$I$506,6,0))","v":"［泣］きっ面にハチ"},{"$f":"IF(T1=\"\",\"\",VLOOKUP(T1,漢字読み!$A$2:$I$506,6,0))","v":"［試合］の結果"},null,"級"]
[null,null,null,null,null,null,null,null,null,null,null,null,null,null,null,null,null,null,null,null,null,"名前"]
[{"$f":"IF(A1=\"\",\"\",IF(VLOOKUP(A1,漢字書き!$A$2:$N$502,7,0)=0,\"\",VLOOKUP(A1,漢字書き!$A$2:$N$502,7,0)))","v":"る"},{"$f":"IF(B1=\"\",\"\",IF(VLOOKUP(B1,漢字書き!$A$2:$N$502,7,0)=0,\"\",VLOOKUP(B1,漢字書き!$A$2:$N$502,7,0)))","v":"われた"},{"$f":"IF(C1=\"\",\"\",IF(VLOOKUP(C1,漢字書き!$A$2:$N$502,7,0)=0,\"\",VLOOKUP(C1,漢字書き!$A$2:$N$502,7,0)))","v":""},{"$f":"IF(D1=\"\",\"\",IF(VLOOKUP(D1,漢字書き!$A$2:$N$502,7,0)=0,\"\",VLOOKUP(D1,漢字書き!$A$2:$N$502,7,0)))","v":"う"},{"$f":"IF(E1=\"\",\"\",IF(VLOOKUP(E1,漢字書き!$A$2:$N$502,7,0)=0,\"\",VLOOKUP(E1,漢字書き!$A$2:$N$502,7,0)))","v":"ろん"},{"$f":"IF(F1=\"\",\"\",IF(VLOOKUP(F1,漢字書き!$A$2:$N$502,7,0)=0,\"\",VLOOKUP(F1,漢字書き!$A$2:$N$502,7,0)))","v":""},{"$f":"IF(G1=\"\",\"\",IF(VLOOKUP(G1,漢字書き!$A$2:$N$502,7,0)=0,\"\",VLOOKUP(G1,漢字書き!$A$2:$N$502,7,0)))","v":"える"},{"$f":"IF(H1=\"\",\"\",IF(VLOOKUP(H1,漢字書き!$A$2:$N$502,7,0)=0,\"\",VLOOKUP(H1,漢字書き!$A$2:$N$502,7,0)))","v":""},{"$f":"IF(I1=\"\",\"\",IF(VLOOKUP(I1,漢字書き!$A$2:$N$502,7,0)=0,\"\",VLOOKUP(I1,漢字書き!$A$2:$N$502,7,0)))","v":""},{"$f":"IF(J1=\"\",\"\",IF(VLOOKUP(J1,漢字書き!$A$2:$N$502,7,0)=0,\"\",VLOOKUP(J1,漢字書き!$A$2:$N$502,7,0)))","v":""},{"$f":"IF(K1=\"\",\"\",IF(VLOOKUP(K1,漢字読み!$A$2:$I$502,7,0)=0,\"\",VLOOKUP(K1,漢字読み!$A$2:$I$502,7,0)))","v":"き"},{"$f":"IF(L1=\"\",\"\",IF(VLOOKUP(L1,漢字読み!$A$2:$I$502,7,0)=0,\"\",VLOOKUP(L1,漢字読み!$A$2:$I$502,7,0)))","v":"てる"},{"$f":"IF(M1=\"\",\"\",IF(VLOOKUP(M1,漢字読み!$A$2:$I$502,7,0)=0,\"\",VLOOKUP(M1,漢字読み!$A$2:$I$502,7,0)))","v":"ける"},{"$f":"IF(N1=\"\",\"\",IF(VLOOKUP(N1,漢字読み!$A$2:$I$502,7,0)=0,\"\",VLOOKUP(N1,漢字読み!$A$2:$I$502,7,0)))","v":"する"},{"$f":"IF(O1=\"\",\"\",IF(VLOOKUP(O1,漢字読み!$A$2:$I$502,7,0)=0,\"\",VLOOKUP(O1,漢字読み!$A$2:$I$502,7,0)))","v":""},{"$f":"IF(P1=\"\",\"\",IF(VLOOKUP(P1,漢字読み!$A$2:$I$502,7,0)=0,\"\",VLOOKUP(P1,漢字読み!$A$2:$I$502,7,0)))","v":"く"},{"$f":"IF(Q1=\"\",\"\",IF(VLOOKUP(Q1,漢字読み!$A$2:$I$502,7,0)=0,\"\",VLOOKUP(Q1,漢字読み!$A$2:$I$502,7,0)))","v":"り"},{"$f":"IF(R1=\"\",\"\",IF(VLOOKUP(R1,漢字読み!$A$2:$I$502,7,0)=0,\"\",VLOOKUP(R1,漢字読み!$A$2:$I$502,7,0)))","v":""},{"$f":"IF(S1=\"\",\"\",IF(VLOOKUP(S1,漢字読み!$A$2:$I$502,7,0)=0,\"\",VLOOKUP(S1,漢字読み!$A$2:$I$502,7,0)))","v":"きっ面"},{"$f":"IF(T1=\"\",\"\",IF(VLOOKUP(T1,漢字読み!$A$2:$I$502,7,0)=0,\"\",VLOOKUP(T1,漢字読み!$A$2:$I$502,7,0)))","v":""},null,null,"和歌山県教育委員会"]
[{"$f":"'関数（書き）'!$C$12","v":150},{"$f":"'関数（書き）'!$C$13","v":91},{"$f":"'関数（書き）'!$C$14","v":44},{"$f":"'関数（書き）'!$C$15","v":25},{"$f":"'関数（書き）'!$C$16","v":109},{"$f":"'関数（書き）'!$C$17","v":179},{"$f":"'関数（書き）'!$C$18","v":58},{"$f":"'関数（書き）'!$C$19","v":180},{"$f":"'関数（書き）'!$C$20","v":100},{"$f":"'関数（書き）'!$C$21","v":70},{"$f":"'関数（読み）'!$C$12","v":150},{"$f":"'関数（読み）'!$C$13","v":104},{"$f":"'関数（読み）'!$C$14","v":105},{"$f":"'関数（読み）'!$C$15","v":80},{"$f":"'関数（読み）'!$C$16","v":47},{"$f":"'関数（読み）'!$C$17","v":172},{"$f":"'関数（読み）'!$C$18","v":113},{"$f":"'関数（読み）'!$C$19","v":89},{"$f":"'関数（読み）'!$C$20","v":149},{"$f":"'関数（読み）'!$C$21","v":131}]
["⑳","⑲","⑱","⑰","⑯","⑮","⑭","⑬","⑫","⑪","⑩","⑨","⑧","⑦","⑥","⑤","④","③","②","①","次の［　　　　］の部分の漢字には読みがなをひらがなで書き、カタカナは漢字に直しなさい。",10,"「漢字の博士検定試験」練習問題　"]
[{"$f":"IF(A6=\"\",\"\",VLOOKUP(A6,漢字書き!$A$2:$N$506,6,0))","v":"［セキ］にすわる"},{"$f":"IF(B6=\"\",\"\",VLOOKUP(B6,漢字書き!$A$2:$N$506,6,0))","v":"[イクジ]休かをとる"},{"$f":"IF(C6=\"\",\"\",VLOOKUP(C6,漢字書き!$A$2:$N$506,6,0))","v":"［カタ］くしばる"},{"$f":"IF(D6=\"\",\"\",VLOOKUP(D6,漢字書き!$A$2:$N$506,6,0))","v":"赤ちゃんが［ナ］き止む"},{"$f":"IF(E6=\"\",\"\",VLOOKUP(E6,漢字書き!$A$2:$N$506,6,0))","v":"たん生日を［イワ］う"},{"$f":"IF(F6=\"\",\"\",VLOOKUP(F6,漢字書き!$A$2:$N$506,6,0))","v":"花を［タバ］ねる"},{"$f":"IF(G6=\"\",\"\",VLOOKUP(G6,漢字書き!$A$2:$N$506,6,0))","v":"［ナ］の花"},{"$f":"IF(H6=\"\",\"\",VLOOKUP(H6,漢字書き!$A$2:$N$506,6,0))","v":"円柱の［ソクメン］"},{"$f":"IF(I6=\"\",\"\",VLOOKUP(I6,漢字書き!$A$2:$N$506,6,0))","v":"［シツレイ］します"},{"$f":"IF(J6=\"\",\"\",VLOOKUP(J6,漢字書き!$A$2:$N$506,6,0))","v":"［カオ］りのよい部屋"},{"$f":"IF(K6=\"\",\"\",VLOOKUP(K6,漢字読み!$A$2:$I$506,6,0))","v":"［静］かな音楽"},{"$f":"IF(L6=\"\",\"\",VLOOKUP(L6,漢字読み!$A$2:$I$506,6,0))","v":"気を［失］う"},{"$f":"IF(M6=\"\",\"\",VLOOKUP(M6,漢字読み!$A$2:$I$506,6,0))","v":"［借金］をする"},{"$f":"IF(N6=\"\",\"\",VLOOKUP(N6,漢字読み!$A$2:$I$506,6,0))","v":"卵が［産］まれる"},{"$f":"IF(O6=\"\",\"\",VLOOKUP(O6,漢字読み!$A$2:$I$506,6,0))","v":"犬が［好］き"},{"$f":"IF(P6=\"\",\"\",VLOOKUP(P6,漢字読み!$A$2:$I$506,6,0))","v":"［天然］のうなぎ"},{"$f":"IF(Q6=\"\",\"\",VLOOKUP(Q6,漢字読み!$A$2:$I$506,6,0))","v":"［順調］に進む"},{"$f":"IF(R6=\"\",\"\",VLOOKUP(R6,漢字読み!$A$2:$I$506,6,0))","v":"［滋賀県］にある湖"},{"$f":"IF(S6=\"\",\"\",VLOOKUP(S6,漢字読み!$A$2:$I$506,6,0))","v":"［静物］画をかく"},{"$f":"IF(T6=\"\",\"\",VLOOKUP(T6,漢字読み!$A$2:$I$506,6,0))","v":"部屋の［照明］"},null,"級"]
[null,null,null,null,null,null,null,null,null,null,null,null,null,null,null,null,null,null,null,null,null,"名前"]
[{"$f":"IF(A6=\"\",\"\",IF(VLOOKUP(A6,漢字書き!$A$2:$N$502,7,0)=0,\"\",(VLOOKUP(A6,漢字書き!$A$2:$N$502,7,0))))","v":""},{"$f":"IF(B6=\"\",\"\",IF(VLOOKUP(B6,漢字書き!$A$2:$N$502,7,0)=0,\"\",(VLOOKUP(B6,漢字書き!$A$2:$N$502,7,0))))","v":"休か"},{"$f":"IF(X6=\"\",\"\",IF(VLOOKUP(X6,漢字書き!$A$2:$N$502,7,0)=0,\"\",VLOOKUP(X6,漢字書き!$A$2:$N$502,7,0)))","v":""},{"$f":"IF(D6=\"\",\"\",IF(VLOOKUP(D6,漢字書き!$A$2:$N$502,7,0)=0,\"\",VLOOKUP(D6,漢字書き!$A$2:$N$502,7,0)))","v":"き止む"},{"$f":"IF(E6=\"\",\"\",IF(VLOOKUP(E6,漢字書き!$A$2:$N$502,7,0)=0,\"\",(VLOOKUP(E6,漢字書き!$A$2:$N$502,7,0))))","v":"う"},{"$f":"IF(F6=\"\",\"\",IF(VLOOKUP(F6,漢字書き!$A$2:$N$502,7,0)=0,\"\",(VLOOKUP(F6,漢字書き!$A$2:$N$502,7,0))))","v":"ねる"},{"$f":"IF(G6=\"\",\"\",IF(VLOOKUP(G6,漢字書き!$A$2:$N$502,7,0)=0,\"\",VLOOKUP(G6,漢字書き!$A$2:$N$502,7,0)))","v":""},{"$f":"IF(H6=\"\",\"\",IF(VLOOKUP(H6,漢字書き!$A$2:$N$502,7,0)=0,\"\",VLOOKUP(H6,漢字書き!$A$2:$N$502,7,0)))","v":""},{"$f":"IF(I6=\"\",\"\",IF(VLOOKUP(I6,漢字書き!$A$2:$N$502,7,0)=0,\"\",VLOOKUP(I6,漢字書き!$A$2:$N$502,7,0)))","v":""},{"$f":"IF(J6=\"\",\"\",IF(VLOOKUP(J6,漢字書き!$A$2:$N$502,7,0)=0,\"\",VLOOKUP(J6,漢字書き!$A$2:$N$502,7,0)))","v":"り"},{"$f":"IF(K6=\"\",\"\",IF(VLOOKUP(K6,漢字読み!$A$2:$I$502,7,0)=0,\"\",VLOOKUP(K6,漢字読み!$A$2:$I$502,7,0)))","v":"かな"},{"$f":"IF(L6=\"\",\"\",IF(VLOOKUP(L6,漢字読み!$A$2:$I$502,7,0)=0,\"\",VLOOKUP(L6,漢字読み!$A$2:$I$502,7,0)))","v":"う"},{"$f":"IF(M6=\"\",\"\",IF(VLOOKUP(M6,漢字読み!$A$2:$I$502,7,0)=0,\"\",VLOOKUP(M6,漢字読み!$A$2:$I$502,7,0)))","v":""},{"$f":"IF(N6=\"\",\"\",IF(VLOOKUP(N6,漢字読み!$A$2:$I$502,7,0)=0,\"\",VLOOKUP(N6,漢字読み!$A$2:$I$502,7,0)))","v":"まれる"},{"$f":"IF(O6=\"\",\"\",IF(VLOOKUP(O6,漢字読み!$A$2:$I$502,7,0)=0,\"\",VLOOKUP(O6,漢字読み!$A$2:$I$502,7,0)))","v":"き"},{"$f":"IF(P6=\"\",\"\",IF(VLOOKUP(P6,漢字読み!$A$2:$I$502,7,0)=0,\"\",VLOOKUP(P6,漢字読み!$A$2:$I$502,7,0)))","v":""},{"$f":"IF(Q6=\"\",\"\",IF(VLOOKUP(Q6,漢字読み!$A$2:$I$502,7,0)=0,\"\",VLOOKUP(Q6,漢字読み!$A$2:$I$502,7,0)))","v":"に"},{"$f":"IF(R6=\"\",\"\",IF(VLOOKUP(R6,漢字読み!$A$2:$I$502,7,0)=0,\"\",VLOOKUP(R6,漢字読み!$A$2:$I$502,7,0)))","v":""},{"$f":"IF(S6=\"\",\"\",IF(VLOOKUP(S6,漢字読み!$A$2:$I$502,7,0)=0,\"\",VLOOKUP(S6,漢字読み!$A$2:$I$502,7,0)))","v":"画"},{"$f":"IF(T6=\"\",\"\",IF(VLOOKUP(T6,漢字読み!$A$2:$I$502,7,0)=0,\"\",VLOOKUP(T6,漢字読み!$A$2:$I$502,7,0)))","v":""},null,null,"和歌山県教育委員会"]
[{"$f":"'関数（書き）'!$C$2","v":79},{"$f":"'関数（書き）'!$C$3","v":101},{"$f":"'関数（書き）'!$C$4","v":188},{"$f":"'関数（書き）'!$C$5","v":121},{"$f":"'関数（書き）'!$C$6","v":34},{"$f":"'関数（書き）'!$C$7","v":105},{"$f":"'関数（書き）'!$C$8","v":123},{"$f":"'関数（書き）'!$C$9","v":171},{"$f":"'関数（書き）'!$C$10","v":1},{"$f":"'関数（書き）'!$C$11","v":166},{"$f":"'関数（読み）'!$C$2","v":128},{"$f":"'関数（読み）'!$C$3","v":38},{"$f":"'関数（読み）'!$C$4","v":33},{"$f":"'関数（読み）'!$C$5","v":141},{"$f":"'関数（読み）'!$C$6","v":191},{"$f":"'関数（読み）'!$C$7","v":146},{"$f":"'関数（読み）'!$C$8","v":76},{"$f":"'関数（読み）'!$C$9","v":173},{"$f":"'関数（読み）'!$C$10","v":26},{"$f":"'関数（読み）'!$C$11","v":91}]
["⑳","⑲","⑱","⑰","⑯","⑮","⑭","⑬","⑫","⑪","⑩","⑨","⑧","⑦","⑥","⑤","④","③","②","①","次の［　　　　］の部分の漢字には読みがなをひらがなで書き、カタカナは漢字に直しなさい。",10,"「漢字の博士検定試験」練習問題　"]
[{"$f":"IF(A11=\"\",\"\",VLOOKUP(A11,漢字書き!$A$2:$N$506,6,0))","v":"花が［チ］る"},{"$f":"IF(B11=\"\",\"\",VLOOKUP(B11,漢字書き!$A$2:$N$506,6,0))","v":"［ウシナ］われた自然"},{"$f":"IF(C11=\"\",\"\",VLOOKUP(C11,漢字書き!$A$2:$N$506,6,0))","v":"［オンガクタイ］が来る"},{"$f":"IF(D11=\"\",\"\",VLOOKUP(D11,漢字書き!$A$2:$N$506,6,0))","v":"にっこりと[ワラ]う"},{"$f":"IF(E11=\"\",\"\",VLOOKUP(E11,漢字書き!$A$2:$N$506,6,0))","v":"[ケツ]ろんをのべる"},{"$f":"IF(F11=\"\",\"\",VLOOKUP(F11,漢字書き!$A$2:$N$506,6,0))","v":"［タネ］をまく"},{"$f":"IF(G11=\"\",\"\",VLOOKUP(G11,漢字書き!$A$2:$N$506,6,0))","v":"平和を［トナ］える"},{"$f":"IF(H11=\"\",\"\",VLOOKUP(H11,漢字書き!$A$2:$N$506,6,0))","v":"［シゼン］を大切にする"},{"$f":"IF(I11=\"\",\"\",VLOOKUP(I11,漢字書き!$A$2:$N$506,6,0))","v":"おいしい［キュウショク］"},{"$f":"IF(J11=\"\",\"\",VLOOKUP(J11,漢字書き!$A$2:$N$506,6,0))","v":"決勝[セン]に出る"},{"$f":"IF(K11=\"\",\"\",VLOOKUP(K11,漢字読み!$A$2:$I$506,6,0))","v":"［石焼］きいも"},{"$f":"IF(L11=\"\",\"\",VLOOKUP(L11,漢字読み!$A$2:$I$506,6,0))","v":"家を［建］てる"},{"$f":"IF(M11=\"\",\"\",VLOOKUP(M11,漢字読み!$A$2:$I$506,6,0))","v":"月が［欠］ける"},{"$f":"IF(N11=\"\",\"\",VLOOKUP(N11,漢字読み!$A$2:$I$506,6,0))","v":"絵が［完成］する"},{"$f":"IF(O11=\"\",\"\",VLOOKUP(O11,漢字読み!$A$2:$I$506,6,0))","v":"［孫］と遊ぶ"},{"$f":"IF(P11=\"\",\"\",VLOOKUP(P11,漢字読み!$A$2:$I$506,6,0))","v":"説明を［省］く"},{"$f":"IF(Q11=\"\",\"\",VLOOKUP(Q11,漢字読み!$A$2:$I$506,6,0))","v":"お宮［参］り"},{"$f":"IF(R11=\"\",\"\",VLOOKUP(R11,漢字読み!$A$2:$I$506,6,0))","v":"［戦争］が起こる"},{"$f":"IF(S11=\"\",\"\",VLOOKUP(S11,漢字読み!$A$2:$I$506,6,0))","v":"［泣］きっ面にハチ"},{"$f":"IF(T11=\"\",\"\",VLOOKUP(T11,漢字読み!$A$2:$I$506,6,0))","v":"［試合］の結果"},null,"級"]
[{"$f":"IF(A$11=\"\",\"\",VLOOKUP(A$11,漢字書き!$A$2:$O$506,8,0))","v":"散"},{"$f":"IF(B$11=\"\",\"\",VLOOKUP(B$11,漢字書き!$A$2:$O$506,8,0))","v":"失"},{"$f":"IF(C$11=\"\",\"\",VLOOKUP(C$11,漢字書き!$A$2:$O$506,8,0))","v":"音楽隊"},{"$f":"IF(D$11=\"\",\"\",VLOOKUP(D$11,漢字書き!$A$2:$O$506,8,0))","v":"笑"},{"$f":"IF(E$11=\"\",\"\",VLOOKUP(E$11,漢字書き!$A$2:$O$506,8,0))","v":"結"},{"$f":"IF(F$11=\"\",\"\",VLOOKUP(F$11,漢字書き!$A$2:$O$506,8,0))","v":"種"},{"$f":"IF(G$11=\"\",\"\",VLOOKUP(G$11,漢字書き!$A$2:$O$506,8,0))","v":"唱"},{"$f":"IF(H$11=\"\",\"\",VLOOKUP(H$11,漢字書き!$A$2:$O$506,8,0))","v":"自然"},{"$f":"IF(I$11=\"\",\"\",VLOOKUP(I$11,漢字書き!$A$2:$O$506,8,0))","v":"給食"},{"$f":"IF(J$11=\"\",\"\",VLOOKUP(J$11,漢字書き!$A$2:$O$506,8,0))","v":"戦"},{"$f":"IF(K$11=\"\",\"\",VLOOKUP(K$11,漢字読み!$A$2:$O$506,8,0))","v":"いしや"},{"$f":"IF(L$11=\"\",\"\",VLOOKUP(L$11,漢字読み!$A$2:$O$506,8,0))","v":"た"},{"$f":"IF(M$11=\"\",\"\",VLOOKUP(M$11,漢字読み!$A$2:$O$506,8,0))","v":"か"},{"$f":"IF(N$11=\"\",\"\",VLOOKUP(N$11,漢字読み!$A$2:$O$506,8,0))","v":"かんせい"},{"$f":"IF(O$11=\"\",\"\",VLOOKUP(O$11,漢字読み!$A$2:$O$506,8,0))","v":"まご"},{"$f":"IF(P$11=\"\",\"\",VLOOKUP(P$11,漢字読み!$A$2:$O$506,8,0))","v":"はぶ"},{"$f":"IF(Q$11=\"\",\"\",VLOOKUP(Q$11,漢字読み!$A$2:$O$506,8,0))","v":"まい"},{"$f":"IF(R$11=\"\",\"\",VLOOKUP(R$11,漢字読み!$A$2:$O$506,8,0))","v":"せんそう"},{"$f":"IF(S$11=\"\",\"\",VLOOKUP(S$11,漢字読み!$A$2:$O$506,8,0))","v":"な"},{"$f":"IF(T$11=\"\",\"\",VLOOKUP(T$11,漢字読み!$A$2:$O$506,8,0))","v":"しあい"},null,"名前"]
[{"$f":"IF(A11=\"\",\"\",IF(VLOOKUP(A11,漢字書き!$A$2:$N$502,7,0)=0,\"\",VLOOKUP(A11,漢字書き!$A$2:$N$502,7,0)))","v":"る"},{"$f":"IF(B11=\"\",\"\",IF(VLOOKUP(B11,漢字書き!$A$2:$N$502,7,0)=0,\"\",VLOOKUP(B11,漢字書き!$A$2:$N$502,7,0)))","v":"われた"},{"$f":"IF(C11=\"\",\"\",IF(VLOOKUP(C11,漢字書き!$A$2:$N$502,7,0)=0,\"\",VLOOKUP(C11,漢字書き!$A$2:$N$502,7,0)))","v":""},{"$f":"IF(D11=\"\",\"\",IF(VLOOKUP(D11,漢字書き!$A$2:$N$502,7,0)=0,\"\",VLOOKUP(D11,漢字書き!$A$2:$N$502,7,0)))","v":"う"},{"$f":"IF(E11=\"\",\"\",IF(VLOOKUP(E11,漢字書き!$A$2:$N$502,7,0)=0,\"\",VLOOKUP(E11,漢字書き!$A$2:$N$502,7,0)))","v":"ろん"},{"$f":"IF(F11=\"\",\"\",IF(VLOOKUP(F11,漢字書き!$A$2:$N$502,7,0)=0,\"\",VLOOKUP(F11,漢字書き!$A$2:$N$502,7,0)))","v":""},{"$f":"IF(G11=\"\",\"\",IF(VLOOKUP(G11,漢字書き!$A$2:$N$502,7,0)=0,\"\",VLOOKUP(G11,漢字書き!$A$2:$N$502,7,0)))","v":"える"},{"$f":"IF(H11=\"\",\"\",IF(VLOOKUP(H11,漢字書き!$A$2:$N$502,7,0)=0,\"\",VLOOKUP(H11,漢字書き!$A$2:$N$502,7,0)))","v":""},{"$f":"IF(I11=\"\",\"\",IF(VLOOKUP(I11,漢字書き!$A$2:$N$502,7,0)=0,\"\",VLOOKUP(I11,漢字書き!$A$2:$N$502,7,0)))","v":""},{"$f":"IF(J11=\"\",\"\",IF(VLOOKUP(J11,漢字書き!$A$2:$N$502,7,0)=0,\"\",VLOOKUP(J11,漢字書き!$A$2:$N$502,7,0)))","v":""},{"$f":"IF(K11=\"\",\"\",IF(VLOOKUP(K11,漢字読み!$A$2:$I$502,7,0)=0,\"\",VLOOKUP(K11,漢字読み!$A$2:$I$502,7,0)))","v":"き"},{"$f":"IF(L11=\"\",\"\",IF(VLOOKUP(L11,漢字読み!$A$2:$I$502,7,0)=0,\"\",VLOOKUP(L11,漢字読み!$A$2:$I$502,7,0)))","v":"てる"},{"$f":"IF(M11=\"\",\"\",IF(VLOOKUP(M11,漢字読み!$A$2:$I$502,7,0)=0,\"\",VLOOKUP(M11,漢字読み!$A$2:$I$502,7,0)))","v":"ける"},{"$f":"IF(N11=\"\",\"\",IF(VLOOKUP(N11,漢字読み!$A$2:$I$502,7,0)=0,\"\",VLOOKUP(N11,漢字読み!$A$2:$I$502,7,0)))","v":"する"},{"$f":"IF(O11=\"\",\"\",IF(VLOOKUP(O11,漢字読み!$A$2:$I$502,7,0)=0,\"\",VLOOKUP(O11,漢字読み!$A$2:$I$502,7,0)))","v":""},{"$f":"IF(P11=\"\",\"\",IF(VLOOKUP(P11,漢字読み!$A$2:$I$502,7,0)=0,\"\",VLOOKUP(P11,漢字読み!$A$2:$I$502,7,0)))","v":"く"},{"$f":"IF(Q11=\"\",\"\",IF(VLOOKUP(Q11,漢字読み!$A$2:$I$502,7,0)=0,\"\",VLOOKUP(Q11,漢字読み!$A$2:$I$502,7,0)))","v":"り"},{"$f":"IF(R11=\"\",\"\",IF(VLOOKUP(R11,漢字読み!$A$2:$I$502,7,0)=0,\"\",VLOOKUP(R11,漢字読み!$A$2:$I$502,7,0)))","v":""},{"$f":"IF(S11=\"\",\"\",IF(VLOOKUP(S11,漢字読み!$A$2:$I$502,7,0)=0,\"\",VLOOKUP(S11,漢字読み!$A$2:$I$502,7,0)))","v":"きっ面"},{"$f":"IF(T11=\"\",\"\",IF(VLOOKUP(T11,漢字読み!$A$2:$I$502,7,0)=0,\"\",VLOOKUP(T11,漢字読み!$A$2:$I$502,7,0)))","v":""},null,null,"和歌山県教育委員会"]
[{"$f":"'関数（書き）'!$C$12","v":150},{"$f":"'関数（書き）'!$C$13","v":91},{"$f":"'関数（書き）'!$C$14","v":44},{"$f":"'関数（書き）'!$C$15","v":25},{"$f":"'関数（書き）'!$C$16","v":109},{"$f":"'関数（書き）'!$C$17","v":179},{"$f":"'関数（書き）'!$C$18","v":58},{"$f":"'関数（書き）'!$C$19","v":180},{"$f":"'関数（書き）'!$C$20","v":100},{"$f":"'関数（書き）'!$C$21","v":70},{"$f":"'関数（読み）'!$C$12","v":150},{"$f":"'関数（読み）'!$C$13","v":104},{"$f":"'関数（読み）'!$C$14","v":105},{"$f":"'関数（読み）'!$C$15","v":80},{"$f":"'関数（読み）'!$C$16","v":47},{"$f":"'関数（読み）'!$C$17","v":172},{"$f":"'関数（読み）'!$C$18","v":113},{"$f":"'関数（読み）'!$C$19","v":89},{"$f":"'関数（読み）'!$C$20","v":149},{"$f":"'関数（読み）'!$C$21","v":131}]
["⑳","⑲","⑱","⑰","⑯","⑮","⑭","⑬","⑫","⑪","⑩","⑨","⑧","⑦","⑥","⑤","④","③","②","①","次の［　　　　］の部分の漢字には読みがなをひらがなで書き、カタカナは漢字に直しなさい。",10,"「漢字の博士検定試験」練習問題　"]
[{"$f":"IF(A16=\"\",\"\",VLOOKUP(A16,漢字書き!$A$2:$N$506,6,0))","v":"［セキ］にすわる"},{"$f":"IF(B16=\"\",\"\",VLOOKUP(B16,漢字書き!$A$2:$N$506,6,0))","v":"[イクジ]休かをとる"},{"$f":"IF(C16=\"\",\"\",VLOOKUP(C16,漢字書き!$A$2:$N$506,6,0))","v":"［カタ］くしばる"},{"$f":"IF(D16=\"\",\"\",VLOOKUP(D16,漢字書き!$A$2:$N$506,6,0))","v":"赤ちゃんが［ナ］き止む"},{"$f":"IF(E16=\"\",\"\",VLOOKUP(E16,漢字書き!$A$2:$N$506,6,0))","v":"たん生日を［イワ］う"},{"$f":"IF(F16=\"\",\"\",VLOOKUP(F16,漢字書き!$A$2:$N$506,6,0))","v":"花を［タバ］ねる"},{"$f":"IF(G16=\"\",\"\",VLOOKUP(G16,漢字書き!$A$2:$N$506,6,0))","v":"［ナ］の花"},{"$f":"IF(H16=\"\",\"\",VLOOKUP(H16,漢字書き!$A$2:$N$506,6,0))","v":"円柱の［ソクメン］"},{"$f":"IF(I16=\"\",\"\",VLOOKUP(I16,漢字書き!$A$2:$N$506,6,0))","v":"［シツレイ］します"},{"$f":"IF(J16=\"\",\"\",VLOOKUP(J16,漢字書き!$A$2:$N$506,6,0))","v":"［カオ］りのよい部屋"},{"$f":"IF(K16=\"\",\"\",VLOOKUP(K16,漢字読み!$A$2:$I$506,6,0))","v":"［静］かな音楽"},{"$f":"IF(L16=\"\",\"\",VLOOKUP(L16,漢字読み!$A$2:$I$506,6,0))","v":"気を［失］う"},{"$f":"IF(M16=\"\",\"\",VLOOKUP(M16,漢字読み!$A$2:$I$506,6,0))","v":"［借金］をする"},{"$f":"IF(N16=\"\",\"\",VLOOKUP(N16,漢字読み!$A$2:$I$506,6,0))","v":"卵が［産］まれる"},{"$f":"IF(O16=\"\",\"\",VLOOKUP(O16,漢字読み!$A$2:$I$506,6,0))","v":"犬が［好］き"},{"$f":"IF(P16=\"\",\"\",VLOOKUP(P16,漢字読み!$A$2:$I$506,6,0))","v":"［天然］のうなぎ"},{"$f":"IF(Q16=\"\",\"\",VLOOKUP(Q16,漢字読み!$A$2:$I$506,6,0))","v":"［順調］に進む"},{"$f":"IF(R16=\"\",\"\",VLOOKUP(R16,漢字読み!$A$2:$I$506,6,0))","v":"［滋賀県］にある湖"},{"$f":"IF(S16=\"\",\"\",VLOOKUP(S16,漢字読み!$A$2:$I$506,6,0))","v":"［静物］画をかく"},{"$f":"IF(T16=\"\",\"\",VLOOKUP(T16,漢字読み!$A$2:$I$506,6,0))","v":"部屋の［照明］"},null,"級"]
[{"$f":"IF(A$16=\"\",\"\",VLOOKUP(A$16,漢字書き!$A$2:$O$506,8,0))","v":"席"},{"$f":"IF(B$16=\"\",\"\",VLOOKUP(B$16,漢字書き!$A$2:$O$506,8,0))","v":"育児"},{"$f":"IF(C$16=\"\",\"\",VLOOKUP(C$16,漢字書き!$A$2:$O$506,8,0))","v":"固"},{"$f":"IF(D$16=\"\",\"\",VLOOKUP(D$16,漢字書き!$A$2:$O$506,8,0))","v":"泣"},{"$f":"IF(E$16=\"\",\"\",VLOOKUP(E$16,漢字書き!$A$2:$O$506,8,0))","v":"祝"},{"$f":"IF(F$16=\"\",\"\",VLOOKUP(F$16,漢字書き!$A$2:$O$506,8,0))","v":"束"},{"$f":"IF(G$16=\"\",\"\",VLOOKUP(G$16,漢字書き!$A$2:$O$506,8,0))","v":"菜"},{"$f":"IF(H$16=\"\",\"\",VLOOKUP(H$16,漢字書き!$A$2:$O$506,8,0))","v":"側面"},{"$f":"IF(I$16=\"\",\"\",VLOOKUP(I$16,漢字書き!$A$2:$O$506,8,0))","v":"失礼"},{"$f":"IF(J$16=\"\",\"\",VLOOKUP(J$16,漢字書き!$A$2:$O$506,8,0))","v":"香"},{"$f":"IF(K$16=\"\",\"\",VLOOKUP(K$16,漢字読み!$A$2:$O$506,8,0))","v":"しず"},{"$f":"IF(L$16=\"\",\"\",VLOOKUP(L$16,漢字読み!$A$2:$O$506,8,0))","v":"うしな"},{"$f":"IF(M$16=\"\",\"\",VLOOKUP(M$16,漢字読み!$A$2:$O$506,8,0))","v":"しゃっきん"},{"$f":"IF(N$16=\"\",\"\",VLOOKUP(N$16,漢字読み!$A$2:$O$506,8,0))","v":"う"},{"$f":"IF(O$16=\"\",\"\",VLOOKUP(O$16,漢字読み!$A$2:$O$506,8,0))","v":"す"},{"$f":"IF(P$16=\"\",\"\",VLOOKUP(P$16,漢字読み!$A$2:$O$506,8,0))","v":"てんねん"},{"$f":"IF(Q$16=\"\",\"\",VLOOKUP(Q$16,漢字読み!$A$2:$O$506,8,0))","v":"じゅんちょう"},{"$f":"IF(R$16=\"\",\"\",VLOOKUP(R$16,漢字読み!$A$2:$O$506,8,0))","v":"しがけん"},{"$f":"IF(S$16=\"\",\"\",VLOOKUP(S$16,漢字読み!$A$2:$O$506,8,0))","v":"せいぶつ"},{"$f":"IF(T$16=\"\",\"\",VLOOKUP(T$16,漢字読み!$A$2:$O$506,8,0))","v":"しょうめい"},null,"名前"]
[{"$f":"IF(A16=\"\",\"\",IF(VLOOKUP(A16,漢字書き!$A$2:$N$502,7,0)=0,\"\",(VLOOKUP(A16,漢字書き!$A$2:$N$502,7,0))))","v":""},{"$f":"IF(B16=\"\",\"\",IF(VLOOKUP(B16,漢字書き!$A$2:$N$502,7,0)=0,\"\",(VLOOKUP(B16,漢字書き!$A$2:$N$502,7,0))))","v":"休か"},{"$f":"IF(X16=\"\",\"\",IF(VLOOKUP(X16,漢字書き!$A$2:$N$502,7,0)=0,\"\",VLOOKUP(X16,漢字書き!$A$2:$N$502,7,0)))","v":""},{"$f":"IF(D16=\"\",\"\",IF(VLOOKUP(D16,漢字書き!$A$2:$N$502,7,0)=0,\"\",VLOOKUP(D16,漢字書き!$A$2:$N$502,7,0)))","v":"き止む"},{"$f":"IF(E16=\"\",\"\",IF(VLOOKUP(E16,漢字書き!$A$2:$N$502,7,0)=0,\"\",(VLOOKUP(E16,漢字書き!$A$2:$N$502,7,0))))","v":"う"},{"$f":"IF(F16=\"\",\"\",IF(VLOOKUP(F16,漢字書き!$A$2:$N$502,7,0)=0,\"\",(VLOOKUP(F16,漢字書き!$A$2:$N$502,7,0))))","v":"ねる"},{"$f":"IF(G16=\"\",\"\",IF(VLOOKUP(G16,漢字書き!$A$2:$N$502,7,0)=0,\"\",VLOOKUP(G16,漢字書き!$A$2:$N$502,7,0)))","v":""},{"$f":"IF(H16=\"\",\"\",IF(VLOOKUP(H16,漢字書き!$A$2:$N$502,7,0)=0,\"\",VLOOKUP(H16,漢字書き!$A$2:$N$502,7,0)))","v":""},{"$f":"IF(I16=\"\",\"\",IF(VLOOKUP(I16,漢字書き!$A$2:$N$502,7,0)=0,\"\",VLOOKUP(I16,漢字書き!$A$2:$N$502,7,0)))","v":""},{"$f":"IF(J16=\"\",\"\",IF(VLOOKUP(J16,漢字書き!$A$2:$N$502,7,0)=0,\"\",VLOOKUP(J16,漢字書き!$A$2:$N$502,7,0)))","v":"り"},{"$f":"IF(K16=\"\",\"\",IF(VLOOKUP(K16,漢字読み!$A$2:$I$502,7,0)=0,\"\",VLOOKUP(K16,漢字読み!$A$2:$I$502,7,0)))","v":"かな"},{"$f":"IF(L16=\"\",\"\",IF(VLOOKUP(L16,漢字読み!$A$2:$I$502,7,0)=0,\"\",VLOOKUP(L16,漢字読み!$A$2:$I$502,7,0)))","v":"う"},{"$f":"IF(M16=\"\",\"\",IF(VLOOKUP(M16,漢字読み!$A$2:$I$502,7,0)=0,\"\",VLOOKUP(M16,漢字読み!$A$2:$I$502,7,0)))","v":""},{"$f":"IF(N16=\"\",\"\",IF(VLOOKUP(N16,漢字読み!$A$2:$I$502,7,0)=0,\"\",VLOOKUP(N16,漢字読み!$A$2:$I$502,7,0)))","v":"まれる"},{"$f":"IF(O16=\"\",\"\",IF(VLOOKUP(O16,漢字読み!$A$2:$I$502,7,0)=0,\"\",VLOOKUP(O16,漢字読み!$A$2:$I$502,7,0)))","v":"き"},{"$f":"IF(P16=\"\",\"\",IF(VLOOKUP(P16,漢字読み!$A$2:$I$502,7,0)=0,\"\",VLOOKUP(P16,漢字読み!$A$2:$I$502,7,0)))","v":""},{"$f":"IF(Q16=\"\",\"\",IF(VLOOKUP(Q16,漢字読み!$A$2:$I$502,7,0)=0,\"\",VLOOKUP(Q16,漢字読み!$A$2:$I$502,7,0)))","v":"に"},{"$f":"IF(R16=\"\",\"\",IF(VLOOKUP(R16,漢字読み!$A$2:$I$502,7,0)=0,\"\",VLOOKUP(R16,漢字読み!$A$2:$I$502,7,0)))","v":""},{"$f":"IF(S16=\"\",\"\",IF(VLOOKUP(S16,漢字読み!$A$2:$I$502,7,0)=0,\"\",VLOOKUP(S16,漢字読み!$A$2:$I$502,7,0)))","v":"画"},{"$f":"IF(T16=\"\",\"\",IF(VLOOKUP(T16,漢字読み!$A$2:$I$502,7,0)=0,\"\",VLOOKUP(T16,漢字読み!$A$2:$I$502,7,0)))","v":""},null,null,"和歌山県教育委員会"]

{"sheet":"網羅問題（関数） ","index":1,"n_rows":420,"n_cols":36,"rows_kept":420,"cut":false,"hidden":false,"merged":[[1,20,4,20],[1,22,3,22],[3,21,4,21],[6,20,9,20],[6,22,8,22],[8,21,9,21],[11,20,14,20],[11,22,13,22],[13,21,14,21],[16,20,19,20],[16,22,18,22],[18,21,19,21],[21,20,24,20],[21,22,23,22],[23,21,24,21],[26,20,29,20],[26,22,28,22],[28,21,29,21],[31,20,34,20],[31,22,33,22],[33,21,34,21],[36,20,39,20],[36,22,38,22],[38,21,39,21],[41,20,44,20],[41,22,43,22],[43,21,44,21],[46,20,49,20],[46,22,48,22],[48,21,49,21],[51,20,54,20],[51,22,53,22],[53,21,54,21],[56,20,59,20],[56,22,58,22],[58,21,59,21],[61,20,64,20],[61,22,63,22],[63,21,64,21],[66,20,69,20],[66,22,68,22],[68,21,69,21],[71,20,74,20],[71,22,73,22],[73,21,74,21],[76,20,79,20],[76,22,78,22],[78,21,79,21],[81,20,84,20],[81,22,83,22],[83,21,84,21],[86,20,89,20],[86,22,88,22],[88,21,89,21],[91,20,94,20],[91,22,93,22],[93,21,94,21],[96,20,99,20],[96,22,98,22],[98,21,99,21],[101,20,104,20],[101,22,103,22],[103,21,104,21],[106,20,109,20],[106,22,108,22],[108,21,109,21],[111,20,114,20],[111,22,113,22],[113,21,114,21],[116,20,119,20],[116,22,118,22],[118,21,119,21],[121,20,124,20],[121,22,123,22],[123,21,124,21],[126,20,129,20],[126,22,128,22],[128,21,129,21],[131,20,134,20],[131,22,133,22],[133,21,134,21],[136,20,139,20],[136,22,138,22],[138,21,139,21],[141,20,144,20],[141,22,143,22],[143,21,144,21],[146,20,149,20],[146,22,148,22],[148,21,149,21],[151,20,154,20],[151,22,153,22],[153,21,154,21],[156,20,159,20],[156,22,158,22],[158,21,159,21],[161,20,164,20],[161,22,163,22],[163,21,164,21],[166,20,169,20],[166,22,168,22],[168,21,169,21],[171,20,174,20],[171,22,173,22],[173,21,174,21],[176,20,179,20],[176,22,178,22],[178,21,179,21],[181,20,184,20],[181,22,183,22],[183,21,184,21],[186,20,189,20],[186,22,188,22],[188,21,189,21],[191,20,194,20],[191,22,193,22],[193,21,194,21],[196,20,199,20],[196,22,198,22],[198,21,199,21],[201,20,204,20],[201,22,203,22],[203,21,204,21],[206,20,209,20],[206,22,208,22],[208,21,209,21],[211,20,214,20],[211,22,213,22],[213,21,214,21],[216,20,219,20],[216,22,218,22],[218,21,219,21],[221,20,224,20],[221,22,223,22],[223,21,224,21],[226,20,229,20],[226,22,228,22],[228,21,229,21],[231,20,234,20],[231,22,233,22],[233,21,234,21],[236,20,239,20],[236,22,238,22],[238,21,239,21],[241,20,244,20],[241,22,243,22],[243,21,244,21],[246,20,249,20],[246,22,248,22],[248,21,249,21],[251,20,254,20],[251,22,253,22],[253,21,254,21],[256,20,259,20],[256,22,258,22],[258,21,259,21],[261,20,264,20],[261,22,263,22],[263,21,264,21],[266,20,269,20],[266,22,268,22],[268,21,269,21],[271,20,274,20],[271,22,273,22],[273,21,274,21],[276,20,279,20],[276,22,278,22],[278,21,279,21],[281,20,284,20],[281,22,283,22],[283,21,284,21],[286,20,289,20],[286,22,288,22],[288,21,289,21],[291,20,294,20],[291,22,293,22],[293,21,294,21],[296,20,299,20],[296,22,298,22],[298,21,299,21],[301,20,304,20],[301,22,303,22],[303,21,304,21],[306,20,309,20],[306,22,308,22],[308,21,309,21],[311,20,314,20],[311,22,313,22],[313,21,314,21],[316,20,319,20],[316,22,318,22],[318,21,319,21],[321,20,324,20],[321,22,323,22],[323,21,324,21],[326,20,329,20],[326,22,328,22],[328,21,329,21],[331,20,334,20],[331,22,333,22],[333,21,334,21],[336,20,339,20],[336,22,338,22],[338,21,339,21],[341,20,344,20],[341,22,343,22],[343,21,344,21],[346,20,349,20],[346,22,348,22],[348,21,349,21],[351,20,354,20],[351,22,353,22],[353,21,354,21],[356,20,359,20],[356,22,358,22],[358,21,359,21],[361,20,364,20],[361,22,363,22],[363,21,364,21],[366,20,369,20],[366,22,368,22],[368,21,369,21],[371,20,374,20],[371,22,373,22],[373,21,374,21],[376,20,379,20],[376,22,378,22],[378,21,379,21],[381,20,384,20],[381,22,383,22],[383,21,384,21],[386,20,389,20],[386,22,388,22],[388,21,389,21],[391,20,394,20],[391,22,393,22],[393,21,394,21],[396,20,399,20],[396,22,398,22],[398,21,399,21],[401,20,404,20],[401,22,403,22],[403,21,404,21],[406,20,409,20],[406,22,408,22],[408,21,409,21],[411,20,414,20],[411,22,413,22],[413,21,414,21],[416,20,419,20],[416,22,418,22],[418,21,419,21]]}
[{"$f":"INDIRECT(\"'関数（書き）'!C\" & COLUMN(B$1)+SUM($AD$2:$AD2))","v":79},{"$f":"INDIRECT(\"'関数（書き）'!C\" & COLUMN(C$1)+SUM($AD$2:$AD2))","v":101},{"$f":"INDIRECT(\"'関数（書き）'!C\" & COLUMN(D$1)+SUM($AD$2:$AD2))","v":188},{"$f":"INDIRECT(\"'関数（書き）'!C\" & COLUMN(E$1)+SUM($AD$2:$AD2))","v":121},{"$f":"INDIRECT(\"'関数（書き）'!C\" & COLUMN(F$1)+SUM($AD$2:$AD2))","v":34},{"$f":"INDIRECT(\"'関数（書き）'!C\" & COLUMN(G$1)+SUM($AD$2:$AD2))","v":105},{"$f":"INDIRECT(\"'関数（書き）'!C\" & COLUMN(H$1)+SUM($AD$2:$AD2))","v":123},{"$f":"INDIRECT(\"'関数（書き）'!C\" & COLUMN(I$1)+SUM($AD$2:$AD2))","v":171},{"$f":"INDIRECT(\"'関数（書き）'!C\" & COLUMN(J$1)+SUM($AD$2:$AD2))","v":1},{"$f":"INDIRECT(\"'関数（書き）'!C\" & COLUMN(K$1)+SUM($AD$2:$AD2))","v":166},{"$f":"INDIRECT(\"'関数（読み）'!C\" & COLUMN(B$1)+SUM($AD$2:$AD2))","v":128},{"$f":"INDIRECT(\"'関数（読み）'!C\" & COLUMN(C$1)+SUM($AD$2:$AD2))","v":38},{"$f":"INDIRECT(\"'関数（読み）'!C\" & COLUMN(D$1)+SUM($AD$2:$AD2))","v":33},{"$f":"INDIRECT(\"'関数（読み）'!C\" & COLUMN(E$1)+SUM($AD$2:$AD2))","v":141},{"$f":"INDIRECT(\"'関数（読み）'!C\" & COLUMN(F$1)+SUM($AD$2:$AD2))","v":191},{"$f":"INDIRECT(\"'関数（読み）'!C\" & COLUMN(G$1)+SUM($AD$2:$AD2))","v":146},{"$f":"INDIRECT(\"'関数（読み）'!C\" & COLUMN(H$1)+SUM($AD$2:$AD2))","v":76},{"$f":"INDIRECT(\"'関数（読み）'!C\" & COLUMN(I$1)+SUM($AD$2:$AD2))","v":173},{"$f":"INDIRECT(\"'関数（読み）'!C\" & COLUMN(J$1)+SUM($AD$2:$AD2))","v":26},{"$f":"INDIRECT(\"'関数（読み）'!C\" & COLUMN(K$1)+SUM($AD$2:$AD2))","v":91}]
["⑳","⑲","⑱","⑰","⑯","⑮","⑭","⑬","⑫","⑪","⑩","⑨","⑧","⑦","⑥","⑤","④","③","②","①","次の［　　　　］の部分の漢字には読みがなをひらがなで書き、カタカナは漢字に直しなさい。",10,"「漢字の博士検定試験」練習問題　",null,null,null,null,null,null,0,"問",1,"～",{"$f":"SUM($AD$2:$AD2)+10","v":10},"問まで",{"$f":"COUNTIF($A$1:$T$200,T3)","v":2}]
[{"$f":"IF(A1=\"\",\"\",VLOOKUP(A1,漢字書き!$A$2:$N$506,6,0))","v":"花が［チ］る"},{"$f":"IF(B1=\"\",\"\",VLOOKUP(B1,漢字書き!$A$2:$N$506,6,0))","v":"［ウシナ］われた自然"},{"$f":"IF(C1=\"\",\"\",VLOOKUP(C1,漢字書き!$A$2:$N$506,6,0))","v":"［オンガクタイ］が来る"},{"$f":"IF(D1=\"\",\"\",VLOOKUP(D1,漢字書き!$A$2:$N$506,6,0))","v":"にっこりと[ワラ]う"},{"$f":"IF(E1=\"\",\"\",VLOOKUP(E1,漢字書き!$A$2:$N$506,6,0))","v":"[ケツ]ろんをのべる"},{"$f":"IF(F1=\"\",\"\",VLOOKUP(F1,漢字書き!$A$2:$N$506,6,0))","v":"［タネ］をまく"},{"$f":"IF(G1=\"\",\"\",VLOOKUP(G1,漢字書き!$A$2:$N$506,6,0))","v":"平和を［トナ］える"},{"$f":"IF(H1=\"\",\"\",VLOOKUP(H1,漢字書き!$A$2:$N$506,6,0))","v":"［シゼン］を大切にする"},{"$f":"IF(I1=\"\",\"\",VLOOKUP(I1,漢字書き!$A$2:$N$506,6,0))","v":"おいしい［キュウショク］"},{"$f":"IF(J1=\"\",\"\",VLOOKUP(J1,漢字書き!$A$2:$N$506,6,0))","v":"決勝[セン]に出る"},{"$f":"IF(K1=\"\",\"\",VLOOKUP(K1,漢字読み!$A$2:$O$506,6,0))","v":"［石焼］きいも"},{"$f":"IF(L1=\"\",\"\",VLOOKUP(L1,漢字読み!$A$2:$O$506,6,0))","v":"家を［建］てる"},{"$f":"IF(M1=\"\",\"\",VLOOKUP(M1,漢字読み!$A$2:$O$506,6,0))","v":"月が［欠］ける"},{"$f":"IF(N1=\"\",\"\",VLOOKUP(N1,漢字読み!$A$2:$O$506,6,0))","v":"絵が［完成］する"},{"$f":"IF(O1=\"\",\"\",VLOOKUP(O1,漢字読み!$A$2:$O$506,6,0))","v":"［孫］と遊ぶ"},{"$f":"IF(P1=\"\",\"\",VLOOKUP(P1,漢字読み!$A$2:$O$506,6,0))","v":"説明を［省］く"},{"$f":"IF(Q1=\"\",\"\",VLOOKUP(Q1,漢字読み!$A$2:$O$506,6,0))","v":"お宮［参］り"},{"$f":"IF(R1=\"\",\"\",VLOOKUP(R1,漢字読み!$A$2:$O$506,6,0))","v":"［戦争］が起こる"},{"$f":"IF(S1=\"\",\"\",VLOOKUP(S1,漢字読み!$A$2:$O$506,6,0))","v":"［泣］きっ面にハチ"},{"$f":"IF(T1=\"\",\"\",VLOOKUP(T1,漢字読み!$A$2:$O$506,6,0))","v":"［試合］の結果"},null,"級"]
[null,null,null,null,null,null,null,null,null,null,null,null,null,null,null,null,null,null,null,null,null,"名前"]
[{"$f":"IF(A1=\"\",\"\",IF(VLOOKUP(A1,漢字書き!$A$2:$N$502,7,0)=0,\"\",VLOOKUP(A1,漢字書き!$A$2:$N$502,7,0)))","v":"る"},{"$f":"IF(B1=\"\",\"\",IF(VLOOKUP(B1,漢字書き!$A$2:$N$502,7,0)=0,\"\",VLOOKUP(B1,漢字書き!$A$2:$N$502,7,0)))","v":"われた"},{"$f":"IF(C1=\"\",\"\",IF(VLOOKUP(C1,漢字書き!$A$2:$N$502,7,0)=0,\"\",VLOOKUP(C1,漢字書き!$A$2:$N$502,7,0)))","v":""},{"$f":"IF(D1=\"\",\"\",IF(VLOOKUP(D1,漢字書き!$A$2:$N$502,7,0)=0,\"\",VLOOKUP(D1,漢字書き!$A$2:$N$502,7,0)))","v":"う"},{"$f":"IF(E1=\"\",\"\",IF(VLOOKUP(E1,漢字書き!$A$2:$N$502,7,0)=0,\"\",VLOOKUP(E1,漢字書き!$A$2:$N$502,7,0)))","v":"ろん"},{"$f":"IF(F1=\"\",\"\",IF(VLOOKUP(F1,漢字書き!$A$2:$N$502,7,0)=0,\"\",VLOOKUP(F1,漢字書き!$A$2:$N$502,7,0)))","v":""},{"$f":"IF(G1=\"\",\"\",IF(VLOOKUP(G1,漢字書き!$A$2:$N$502,7,0)=0,\"\",VLOOKUP(G1,漢字書き!$A$2:$N$502,7,0)))","v":"える"},{"$f":"IF(H1=\"\",\"\",IF(VLOOKUP(H1,漢字書き!$A$2:$N$502,7,0)=0,\"\",VLOOKUP(H1,漢字書き!$A$2:$N$502,7,0)))","v":""},{"$f":"IF(I1=\"\",\"\",IF(VLOOKUP(I1,漢字書き!$A$2:$N$502,7,0)=0,\"\",VLOOKUP(I1,漢字書き!$A$2:$N$502,7,0)))","v":""},{"$f":"IF(J1=\"\",\"\",IF(VLOOKUP(J1,漢字書き!$A$2:$N$502,7,0)=0,\"\",VLOOKUP(J1,漢字書き!$A$2:$N$502,7,0)))","v":""},{"$f":"IF(K1=\"\",\"\",IF(VLOOKUP(K1,漢字読み!$A$2:$O$502,7,0)=0,\"\",VLOOKUP(K1,漢字読み!$A$2:$O$502,7,0)))","v":"き"},{"$f":"IF(L1=\"\",\"\",IF(VLOOKUP(L1,漢字読み!$A$2:$O$502,7,0)=0,\"\",VLOOKUP(L1,漢字読み!$A$2:$O$502,7,0)))","v":"てる"},{"$f":"IF(M1=\"\",\"\",IF(VLOOKUP(M1,漢字読み!$A$2:$O$502,7,0)=0,\"\",VLOOKUP(M1,漢字読み!$A$2:$O$502,7,0)))","v":"ける"},{"$f":"IF(N1=\"\",\"\",IF(VLOOKUP(N1,漢字読み!$A$2:$O$502,7,0)=0,\"\",VLOOKUP(N1,漢字読み!$A$2:$O$502,7,0)))","v":"する"},{"$f":"IF(O1=\"\",\"\",IF(VLOOKUP(O1,漢字読み!$A$2:$O$502,7,0)=0,\"\",VLOOKUP(O1,漢字読み!$A$2:$O$502,7,0)))","v":""},{"$f":"IF(P1=\"\",\"\",IF(VLOOKUP(P1,漢字読み!$A$2:$O$502,7,0)=0,\"\",VLOOKUP(P1,漢字読み!$A$2:$O$502,7,0)))","v":"く"},{"$f":"IF(Q1=\"\",\"\",IF(VLOOKUP(Q1,漢字読み!$A$2:$O$502,7,0)=0,\"\",VLOOKUP(Q1,漢字読み!$A$2:$O$502,7,0)))","v":"り"},{"$f":"IF(R1=\"\",\"\",IF(VLOOKUP(R1,漢字読み!$A$2:$O$502,7,0)=0,\"\",VLOOKUP(R1,漢字読み!$A$2:$O$502,7,0)))","v":""},{"$f":"IF(S1=\"\",\"\",IF(VLOOKUP(S1,漢字読み!$A$2:$O$502,7,0)=0,\"\",VLOOKUP(S1,漢字読み!$A$2:$O$502,7,0)))","v":"きっ面"},{"$f":"IF(T1=\"\",\"\",IF(VLOOKUP(T1,漢字読み!$A$2:$O$502,7,0)=0,\"\",VLOOKUP(T1,漢字読み!$A$2:$O$502,7,0)))","v":""},null,null,"和歌山県教育委員会"]
[{"$f":"INDIRECT(\"'関数（書き）'!C\" & COLUMN(B$1)+SUM($AD$2:$AD7))","v":150},{"$f":"INDIRECT(\"'関数（書き）'!C\" & COLUMN(C$1)+SUM($AD$2:$AD7))","v":91},{"$f":"INDIRECT(\"'関数（書き）'!C\" & COLUMN(D$1)+SUM($AD$2:$AD7))","v":44},{"$f":"INDIRECT(\"'関数（書き）'!C\" & COLUMN(E$1)+SUM($AD$2:$AD7))","v":25},{"$f":"INDIRECT(\"'関数（書き）'!C\" & COLUMN(F$1)+SUM($AD$2:$AD7))","v":109},{"$f":"INDIRECT(\"'関数（書き）'!C\" & COLUMN(G$1)+SUM($AD$2:$AD7))","v":179},{"$f":"INDIRECT(\"'関数（書き）'!C\" & COLUMN(H$1)+SUM($AD$2:$AD7))","v":58},{"$f":"INDIRECT(\"'関数（書き）'!C\" & COLUMN(I$1)+SUM($AD$2:$AD7))","v":180},{"$f":"INDIRECT(\"'関数（書き）'!C\" & COLUMN(J$1)+SUM($AD$2:$AD7))","v":100},{"$f":"INDIRECT(\"'関数（書き）'!C\" & COLUMN(K$1)+SUM($AD$2:$AD7))","v":70},{"$f":"INDIRECT(\"'関数（読み）'!C\" & COLUMN(B$1)+SUM($AD$2:$AD7))","v":150},{"$f":"INDIRECT(\"'関数（読み）'!C\" & COLUMN(C$1)+SUM($AD$2:$AD7))","v":104},{"$f":"INDIRECT(\"'関数（読み）'!C\" & COLUMN(D$1)+SUM($AD$2:$AD7))","v":105},{"$f":"INDIRECT(\"'関数（読み）'!C\" & COLUMN(E$1)+SUM($AD$2:$AD7))","v":80},{"$f":"INDIRECT(\"'関数（読み）'!C\" & COLUMN(F$1)+SUM($AD$2:$AD7))","v":47},{"$f":"INDIRECT(\"'関数（読み）'!C\" & COLUMN(G$1)+SUM($AD$2:$AD7))","v":172},{"$f":"INDIRECT(\"'関数（読み）'!C\" & COLUMN(H$1)+SUM($AD$2:$AD7))","v":113},{"$f":"INDIRECT(\"'関数（読み）'!C\" & COLUMN(I$1)+SUM($AD$2:$AD7))","v":89},{"$f":"INDIRECT(\"'関数（読み）'!C\" & COLUMN(J$1)+SUM($AD$2:$AD7))","v":149},{"$f":"INDIRECT(\"'関数（読み）'!C\" & COLUMN(K$1)+SUM($AD$2:$AD7))","v":131}]
["⑳","⑲","⑱","⑰","⑯","⑮","⑭","⑬","⑫","⑪","⑩","⑨","⑧","⑦","⑥","⑤","④","③","②","①","次の［　　　　］の部分の漢字には読みがなをひらがなで書き、カタカナは漢字に直しなさい。",10,"「漢字の博士検定試験」練習問題　",null,null,null,null,null,"←",10,"問",{"$f":"AH2+1","v":11},"～",{"$f":"SUM($AD$2:$AD7)+10","v":20},"問まで",{"$f":"COUNTIF($A$1:$T$200,T8)","v":2}]
[{"$f":"IF(A6=\"\",\"\",VLOOKUP(A6,漢字書き!$A$2:$N$506,6,0))","v":"［セキ］にすわる"},{"$f":"IF(B6=\"\",\"\",VLOOKUP(B6,漢字書き!$A$2:$N$506,6,0))","v":"[イクジ]休かをとる"},{"$f":"IF(C6=\"\",\"\",VLOOKUP(C6,漢字書き!$A$2:$N$506,6,0))","v":"［カタ］くしばる"},{"$f":"IF(D6=\"\",\"\",VLOOKUP(D6,漢字書き!$A$2:$N$506,6,0))","v":"赤ちゃんが［ナ］き止む"},{"$f":"IF(E6=\"\",\"\",VLOOKUP(E6,漢字書き!$A$2:$N$506,6,0))","v":"たん生日を［イワ］う"},{"$f":"IF(F6=\"\",\"\",VLOOKUP(F6,漢字書き!$A$2:$N$506,6,0))","v":"花を［タバ］ねる"},{"$f":"IF(G6=\"\",\"\",VLOOKUP(G6,漢字書き!$A$2:$N$506,6,0))","v":"［ナ］の花"},{"$f":"IF(H6=\"\",\"\",VLOOKUP(H6,漢字書き!$A$2:$N$506,6,0))","v":"円柱の［ソクメン］"},{"$f":"IF(I6=\"\",\"\",VLOOKUP(I6,漢字書き!$A$2:$N$506,6,0))","v":"［シツレイ］します"},{"$f":"IF(J6=\"\",\"\",VLOOKUP(J6,漢字書き!$A$2:$N$506,6,0))","v":"［カオ］りのよい部屋"},{"$f":"IF(K6=\"\",\"\",VLOOKUP(K6,漢字読み!$A$2:$O$506,6,0))","v":"［静］かな音楽"},{"$f":"IF(L6=\"\",\"\",VLOOKUP(L6,漢字読み!$A$2:$O$506,6,0))","v":"気を［失］う"},{"$f":"IF(M6=\"\",\"\",VLOOKUP(M6,漢字読み!$A$2:$O$506,6,0))","v":"［借金］をする"},{"$f":"IF(N6=\"\",\"\",VLOOKUP(N6,漢字読み!$A$2:$O$506,6,0))","v":"卵が［産］まれる"},{"$f":"IF(O6=\"\",\"\",VLOOKUP(O6,漢字読み!$A$2:$O$506,6,0))","v":"犬が［好］き"},{"$f":"IF(P6=\"\",\"\",VLOOKUP(P6,漢字読み!$A$2:$O$506,6,0))","v":"［天然］のうなぎ"},{"$f":"IF(Q6=\"\",\"\",VLOOKUP(Q6,漢字読み!$A$2:$O$506,6,0))","v":"［順調］に進む"},{"$f":"IF(R6=\"\",\"\",VLOOKUP(R6,漢字読み!$A$2:$O$506,6,0))","v":"［滋賀県］にある湖"},{"$f":"IF(S6=\"\",\"\",VLOOKUP(S6,漢字読み!$A$2:$O$506,6,0))","v":"［静物］画をかく"},{"$f":"IF(T6=\"\",\"\",VLOOKUP(T6,漢字読み!$A$2:$O$506,6,0))","v":"部屋の［照明］"},null,"級"]
[null,null,null,null,null,null,null,null,null,null,null,null,null,null,null,null,null,null,null,null,null,"名前"]
[{"$f":"IF(A6=\"\",\"\",IF(VLOOKUP(A6,漢字書き!$A$2:$N$502,7,0)=0,\"\",VLOOKUP(A6,漢字書き!$A$2:$N$502,7,0)))","v":""},{"$f":"IF(B6=\"\",\"\",IF(VLOOKUP(B6,漢字書き!$A$2:$N$502,7,0)=0,\"\",VLOOKUP(B6,漢字書き!$A$2:$N$502,7,0)))","v":"休か"},{"$f":"IF(C6=\"\",\"\",IF(VLOOKUP(C6,漢字書き!$A$2:$N$502,7,0)=0,\"\",VLOOKUP(C6,漢字書き!$A$2:$N$502,7,0)))","v":"く"},{"$f":"IF(D6=\"\",\"\",IF(VLOOKUP(D6,漢字書き!$A$2:$N$502,7,0)=0,\"\",VLOOKUP(D6,漢字書き!$A$2:$N$502,7,0)))","v":"き止む"},{"$f":"IF(E6=\"\",\"\",IF(VLOOKUP(E6,漢字書き!$A$2:$N$502,7,0)=0,\"\",VLOOKUP(E6,漢字書き!$A$2:$N$502,7,0)))","v":"う"},{"$f":"IF(F6=\"\",\"\",IF(VLOOKUP(F6,漢字書き!$A$2:$N$502,7,0)=0,\"\",VLOOKUP(F6,漢字書き!$A$2:$N$502,7,0)))","v":"ねる"},{"$f":"IF(G6=\"\",\"\",IF(VLOOKUP(G6,漢字書き!$A$2:$N$502,7,0)=0,\"\",VLOOKUP(G6,漢字書き!$A$2:$N$502,7,0)))","v":""},{"$f":"IF(H6=\"\",\"\",IF(VLOOKUP(H6,漢字書き!$A$2:$N$502,7,0)=0,\"\",VLOOKUP(H6,漢字書き!$A$2:$N$502,7,0)))","v":""},{"$f":"IF(I6=\"\",\"\",IF(VLOOKUP(I6,漢字書き!$A$2:$N$502,7,0)=0,\"\",VLOOKUP(I6,漢字書き!$A$2:$N$502,7,0)))","v":""},{"$f":"IF(J6=\"\",\"\",IF(VLOOKUP(J6,漢字書き!$A$2:$N$502,7,0)=0,\"\",VLOOKUP(J6,漢字書き!$A$2:$N$502,7,0)))","v":"り"},{"$f":"IF(K6=\"\",\"\",IF(VLOOKUP(K6,漢字読み!$A$2:$O$502,7,0)=0,\"\",VLOOKUP(K6,漢字読み!$A$2:$O$502,7,0)))","v":"かな"},{"$f":"IF(L6=\"\",\"\",IF(VLOOKUP(L6,漢字読み!$A$2:$O$502,7,0)=0,\"\",VLOOKUP(L6,漢字読み!$A$2:$O$502,7,0)))","v":"う"},{"$f":"IF(M6=\"\",\"\",IF(VLOOKUP(M6,漢字読み!$A$2:$O$502,7,0)=0,\"\",VLOOKUP(M6,漢字読み!$A$2:$O$502,7,0)))","v":""},{"$f":"IF(N6=\"\",\"\",IF(VLOOKUP(N6,漢字読み!$A$2:$O$502,7,0)=0,\"\",VLOOKUP(N6,漢字読み!$A$2:$O$502,7,0)))","v":"まれる"},{"$f":"IF(O6=\"\",\"\",IF(VLOOKUP(O6,漢字読み!$A$2:$O$502,7,0)=0,\"\",VLOOKUP(O6,漢字読み!$A$2:$O$502,7,0)))","v":"き"},{"$f":"IF(P6=\"\",\"\",IF(VLOOKUP(P6,漢字読み!$A$2:$O$502,7,0)=0,\"\",VLOOKUP(P6,漢字読み!$A$2:$O$502,7,0)))","v":""},{"$f":"IF(Q6=\"\",\"\",IF(VLOOKUP(Q6,漢字読み!$A$2:$O$502,7,0)=0,\"\",VLOOKUP(Q6,漢字読み!$A$2:$O$502,7,0)))","v":"に"},{"$f":"IF(R6=\"\",\"\",IF(VLOOKUP(R6,漢字読み!$A$2:$O$502,7,0)=0,\"\",VLOOKUP(R6,漢字読み!$A$2:$O$502,7,0)))","v":""},{"$f":"IF(S6=\"\",\"\",IF(VLOOKUP(S6,漢字読み!$A$2:$O$502,7,0)=0,\"\",VLOOKUP(S6,漢字読み!$A$2:$O$502,7,0)))","v":"画"},{"$f":"IF(T6=\"\",\"\",IF(VLOOKUP(T6,漢字読み!$A$2:$O$502,7,0)=0,\"\",VLOOKUP(T6,漢字読み!$A$2:$O$502,7,0)))","v":""},null,null,"和歌山県教育委員会"]
[{"$f":"A1","v":79},101,188,121,34,105,123,171,1,166,128,38,33,141,191,146,76,173,26,91]
["⑳","⑲","⑱","⑰","⑯","⑮","⑭","⑬","⑫","⑪","⑩","⑨","⑧","⑦","⑥","⑤","④","③","②","①","次の［　　　　］の部分の漢字には読みがなをひらがなで書き、カタカナは漢字に直しなさい。",10,"「漢字の博士検定試験」練習問題　"]
[{"$f":"IF(A11=\"\",\"\",VLOOKUP(A11,漢字書き!$A$2:$N$506,6,0))","v":"花が［チ］る"},{"$f":"IF(B11=\"\",\"\",VLOOKUP(B11,漢字書き!$A$2:$N$506,6,0))","v":"［ウシナ］われた自然"},{"$f":"IF(C11=\"\",\"\",VLOOKUP(C11,漢字書き!$A$2:$N$506,6,0))","v":"［オンガクタイ］が来る"},{"$f":"IF(D11=\"\",\"\",VLOOKUP(D11,漢字書き!$A$2:$N$506,6,0))","v":"にっこりと[ワラ]う"},{"$f":"IF(E11=\"\",\"\",VLOOKUP(E11,漢字書き!$A$2:$N$506,6,0))","v":"[ケツ]ろんをのべる"},{"$f":"IF(F11=\"\",\"\",VLOOKUP(F11,漢字書き!$A$2:$N$506,6,0))","v":"［タネ］をまく"},{"$f":"IF(G11=\"\",\"\",VLOOKUP(G11,漢字書き!$A$2:$N$506,6,0))","v":"平和を［トナ］える"},{"$f":"IF(H11=\"\",\"\",VLOOKUP(H11,漢字書き!$A$2:$N$506,6,0))","v":"［シゼン］を大切にする"},{"$f":"IF(I11=\"\",\"\",VLOOKUP(I11,漢字書き!$A$2:$N$506,6,0))","v":"おいしい［キュウショク］"},{"$f":"IF(J11=\"\",\"\",VLOOKUP(J11,漢字書き!$A$2:$N$506,6,0))","v":"決勝[セン]に出る"},{"$f":"IF(K11=\"\",\"\",VLOOKUP(K11,漢字読み!$A$2:$O$506,6,0))","v":"［石焼］きいも"},{"$f":"IF(L11=\"\",\"\",VLOOKUP(L11,漢字読み!$A$2:$O$506,6,0))","v":"家を［建］てる"},{"$f":"IF(M11=\"\",\"\",VLOOKUP(M11,漢字読み!$A$2:$O$506,6,0))","v":"月が［欠］ける"},{"$f":"IF(N11=\"\",\"\",VLOOKUP(N11,漢字読み!$A$2:$O$506,6,0))","v":"絵が［完成］する"},{"$f":"IF(O11=\"\",\"\",VLOOKUP(O11,漢字読み!$A$2:$O$506,6,0))","v":"［孫］と遊ぶ"},{"$f":"IF(P11=\"\",\"\",VLOOKUP(P11,漢字読み!$A$2:$O$506,6,0))","v":"説明を［省］く"},{"$f":"IF(Q11=\"\",\"\",VLOOKUP(Q11,漢字読み!$A$2:$O$506,6,0))","v":"お宮［参］り"},{"$f":"IF(R11=\"\",\"\",VLOOKUP(R11,漢字読み!$A$2:$O$506,6,0))","v":"［戦争］が起こる"},{"$f":"IF(S11=\"\",\"\",VLOOKUP(S11,漢字読み!$A$2:$O$506,6,0))","v":"［泣］きっ面にハチ"},{"$f":"IF(T11=\"\",\"\",VLOOKUP(T11,漢字読み!$A$2:$O$506,6,0))","v":"［試合］の結果"},null,"級"]
[{"$f":"IF(A$11=\"\",\"\",VLOOKUP(A11,漢字書き!$A$2:$O$506,8,0))","v":"散"},{"$f":"IF(B$11=\"\",\"\",VLOOKUP(B11,漢字書き!$A$2:$O$506,8,0))","v":"失"},{"$f":"IF(C$11=\"\",\"\",VLOOKUP(C11,漢字書き!$A$2:$O$506,8,0))","v":"音楽隊"},{"$f":"IF(D$11=\"\",\"\",VLOOKUP(D11,漢字書き!$A$2:$O$506,8,0))","v":"笑"},{"$f":"IF(E$11=\"\",\"\",VLOOKUP(E11,漢字書き!$A$2:$O$506,8,0))","v":"結"},{"$f":"IF(F$11=\"\",\"\",VLOOKUP(F11,漢字書き!$A$2:$O$506,8,0))","v":"種"},{"$f":"IF(G$11=\"\",\"\",VLOOKUP(G11,漢字書き!$A$2:$O$506,8,0))","v":"唱"},{"$f":"IF(H$11=\"\",\"\",VLOOKUP(H11,漢字書き!$A$2:$O$506,8,0))","v":"自然"},{"$f":"IF(I$11=\"\",\"\",VLOOKUP(I11,漢字書き!$A$2:$O$506,8,0))","v":"給食"},{"$f":"IF(J$11=\"\",\"\",VLOOKUP(J11,漢字書き!$A$2:$O$506,8,0))","v":"戦"},{"$f":"IF(K$11=\"\",\"\",VLOOKUP(K11,漢字読み!$A$2:$O$506,8,0))","v":"いしや"},{"$f":"IF(L$11=\"\",\"\",VLOOKUP(L11,漢字読み!$A$2:$O$506,8,0))","v":"た"},{"$f":"IF(M$11=\"\",\"\",VLOOKUP(M11,漢字読み!$A$2:$O$506,8,0))","v":"か"},{"$f":"IF(N$11=\"\",\"\",VLOOKUP(N11,漢字読み!$A$2:$O$506,8,0))","v":"かんせい"},{"$f":"IF(O$11=\"\",\"\",VLOOKUP(O11,漢字読み!$A$2:$O$506,8,0))","v":"まご"},{"$f":"IF(P$11=\"\",\"\",VLOOKUP(P11,漢字読み!$A$2:$O$506,8,0))","v":"はぶ"},{"$f":"IF(Q$11=\"\",\"\",VLOOKUP(Q11,漢字読み!$A$2:$O$506,8,0))","v":"まい"},{"$f":"IF(R$11=\"\",\"\",VLOOKUP(R11,漢字読み!$A$2:$O$506,8,0))","v":"せんそう"},{"$f":"IF(S$11=\"\",\"\",VLOOKUP(S11,漢字読み!$A$2:$O$506,8,0))","v":"な"},{"$f":"IF(T$11=\"\",\"\",VLOOKUP(T11,漢字読み!$A$2:$O$506,8,0))","v":"しあい"},null,"名前"]
[{"$f":"IF(A11=\"\",\"\",IF(VLOOKUP(A11,漢字書き!$A$2:$N$502,7,0)=0,\"\",VLOOKUP(A11,漢字書き!$A$2:$N$502,7,0)))","v":"る"},{"$f":"IF(B11=\"\",\"\",IF(VLOOKUP(B11,漢字書き!$A$2:$N$502,7,0)=0,\"\",VLOOKUP(B11,漢字書き!$A$2:$N$502,7,0)))","v":"われた"},{"$f":"IF(C11=\"\",\"\",IF(VLOOKUP(C11,漢字書き!$A$2:$N$502,7,0)=0,\"\",VLOOKUP(C11,漢字書き!$A$2:$N$502,7,0)))","v":""},{"$f":"IF(D11=\"\",\"\",IF(VLOOKUP(D11,漢字書き!$A$2:$N$502,7,0)=0,\"\",VLOOKUP(D11,漢字書き!$A$2:$N$502,7,0)))","v":"う"},{"$f":"IF(E11=\"\",\"\",IF(VLOOKUP(E11,漢字書き!$A$2:$N$502,7,0)=0,\"\",VLOOKUP(E11,漢字書き!$A$2:$N$502,7,0)))","v":"ろん"},{"$f":"IF(F11=\"\",\"\",IF(VLOOKUP(F11,漢字書き!$A$2:$N$502,7,0)=0,\"\",VLOOKUP(F11,漢字書き!$A$2:$N$502,7,0)))","v":""},{"$f":"IF(G11=\"\",\"\",IF(VLOOKUP(G11,漢字書き!$A$2:$N$502,7,0)=0,\"\",VLOOKUP(G11,漢字書き!$A$2:$N$502,7,0)))","v":"える"},{"$f":"IF(H11=\"\",\"\",IF(VLOOKUP(H11,漢字書き!$A$2:$N$502,7,0)=0,\"\",VLOOKUP(H11,漢字書き!$A$2:$N$502,7,0)))","v":""},{"$f":"IF(I11=\"\",\"\",IF(VLOOKUP(I11,漢字書き!$A$2:$N$502,7,0)=0,\"\",VLOOKUP(I11,漢字書き!$A$2:$N$502,7,0)))","v":""},{"$f":"IF(J11=\"\",\"\",IF(VLOOKUP(J11,漢字書き!$A$2:$N$502,7,0)=0,\"\",VLOOKUP(J11,漢字書き!$A$2:$N$502,7,0)))","v":""},{"$f":"IF(K11=\"\",\"\",IF(VLOOKUP(K11,漢字読み!$A$2:$O$502,7,0)=0,\"\",VLOOKUP(K11,漢字読み!$A$2:$O$502,7,0)))","v":"き"},{"$f":"IF(L11=\"\",\"\",IF(VLOOKUP(L11,漢字読み!$A$2:$O$502,7,0)=0,\"\",VLOOKUP(L11,漢字読み!$A$2:$O$502,7,0)))","v":"てる"},{"$f":"IF(M11=\"\",\"\",IF(VLOOKUP(M11,漢字読み!$A$2:$O$502,7,0)=0,\"\",VLOOKUP(M11,漢字読み!$A$2:$O$502,7,0)))","v":"ける"},{"$f":"IF(N11=\"\",\"\",IF(VLOOKUP(N11,漢字読み!$A$2:$O$502,7,0)=0,\"\",VLOOKUP(N11,漢字読み!$A$2:$O$502,7,0)))","v":"する"},{"$f":"IF(O11=\"\",\"\",IF(VLOOKUP(O11,漢字読み!$A$2:$O$502,7,0)=0,\"\",VLOOKUP(O11,漢字読み!$A$2:$O$502,7,0)))","v":""},{"$f":"IF(P11=\"\",\"\",IF(VLOOKUP(P11,漢字読み!$A$2:$O$502,7,0)=0,\"\",VLOOKUP(P11,漢字読み!$A$2:$O$502,7,0)))","v":"く"},{"$f":"IF(Q11=\"\",\"\",IF(VLOOKUP(Q11,漢字読み!$A$2:$O$502,7,0)=0,\"\",VLOOKUP(Q11,漢字読み!$A$2:$O$502,7,0)))","v":"り"},{"$f":"IF(R11=\"\",\"\",IF(VLOOKUP(R11,漢字読み!$A$2:$O$502,7,0)=0,\"\",VLOOKUP(R11,漢字読み!$A$2:$O$502,7,0)))","v":""},{"$f":"IF(S11=\"\",\"\",IF(VLOOKUP(S11,漢字読み!$A$2:$O$502,7,0)=0,\"\",VLOOKUP(S11,漢字読み!$A$2:$O$502,7,0)))","v":"きっ面"},{"$f":"IF(T11=\"\",\"\",IF(VLOOKUP(T11,漢字読み!$A$2:$O$502,7,0)=0,\"\",VLOOKUP(T11,漢字読み!$A$2:$O$502,7,0)))","v":""},null,null,"和歌山県教育委員会"]
[{"$f":"A6","v":150},91,44,25,109,179,58,180,100,70,150,104,105,80,47,172,113,89,149,131]
["⑳","⑲","⑱","⑰","⑯","⑮","⑭","⑬","⑫","⑪","⑩","⑨","⑧","⑦","⑥","⑤","④","③","②","①","次の［　　　　］の部分の漢字には読みがなをひらがなで書き、カタカナは漢字に直しなさい。",10,"「漢字の博士検定試験」練習問題　"]
[{"$f":"IF(A16=\"\",\"\",VLOOKUP(A16,漢字書き!$A$2:$N$506,6,0))","v":"［セキ］にすわる"},{"$f":"IF(B16=\"\",\"\",VLOOKUP(B16,漢字書き!$A$2:$N$506,6,0))","v":"[イクジ]休かをとる"},{"$f":"IF(C16=\"\",\"\",VLOOKUP(C16,漢字書き!$A$2:$N$506,6,0))","v":"［カタ］くしばる"},{"$f":"IF(D16=\"\",\"\",VLOOKUP(D16,漢字書き!$A$2:$N$506,6,0))","v":"赤ちゃんが［ナ］き止む"},{"$f":"IF(E16=\"\",\"\",VLOOKUP(E16,漢字書き!$A$2:$N$506,6,0))","v":"たん生日を［イワ］う"},{"$f":"IF(F16=\"\",\"\",VLOOKUP(F16,漢字書き!$A$2:$N$506,6,0))","v":"花を［タバ］ねる"},{"$f":"IF(G16=\"\",\"\",VLOOKUP(G16,漢字書き!$A$2:$N$506,6,0))","v":"［ナ］の花"},{"$f":"IF(H16=\"\",\"\",VLOOKUP(H16,漢字書き!$A$2:$N$506,6,0))","v":"円柱の［ソクメン］"},{"$f":"IF(I16=\"\",\"\",VLOOKUP(I16,漢字書き!$A$2:$N$506,6,0))","v":"［シツレイ］します"},{"$f":"IF(J16=\"\",\"\",VLOOKUP(J16,漢字書き!$A$2:$N$506,6,0))","v":"［カオ］りのよい部屋"},{"$f":"IF(K16=\"\",\"\",VLOOKUP(K16,漢字読み!$A$2:$O$506,6,0))","v":"［静］かな音楽"},{"$f":"IF(L16=\"\",\"\",VLOOKUP(L16,漢字読み!$A$2:$O$506,6,0))","v":"気を［失］う"},{"$f":"IF(M16=\"\",\"\",VLOOKUP(M16,漢字読み!$A$2:$O$506,6,0))","v":"［借金］をする"},{"$f":"IF(N16=\"\",\"\",VLOOKUP(N16,漢字読み!$A$2:$O$506,6,0))","v":"卵が［産］まれる"},{"$f":"IF(O16=\"\",\"\",VLOOKUP(O16,漢字読み!$A$2:$O$506,6,0))","v":"犬が［好］き"},{"$f":"IF(P16=\"\",\"\",VLOOKUP(P16,漢字読み!$A$2:$O$506,6,0))","v":"［天然］のうなぎ"},{"$f":"IF(Q16=\"\",\"\",VLOOKUP(Q16,漢字読み!$A$2:$O$506,6,0))","v":"［順調］に進む"},{"$f":"IF(R16=\"\",\"\",VLOOKUP(R16,漢字読み!$A$2:$O$506,6,0))","v":"［滋賀県］にある湖"},{"$f":"IF(S16=\"\",\"\",VLOOKUP(S16,漢字読み!$A$2:$O$506,6,0))","v":"［静物］画をかく"},{"$f":"IF(T16=\"\",\"\",VLOOKUP(T16,漢字読み!$A$2:$O$506,6,0))","v":"部屋の［照明］"},null,"級"]
[{"$f":"IF(A$16=\"\",\"\",VLOOKUP(A16,漢字書き!$A$2:$O$506,8,0))","v":"席"},{"$f":"IF(B$16=\"\",\"\",VLOOKUP(B16,漢字書き!$A$2:$O$506,8,0))","v":"育児"},{"$f":"IF(C$16=\"\",\"\",VLOOKUP(C16,漢字書き!$A$2:$O$506,8,0))","v":"固"},{"$f":"IF(D$16=\"\",\"\",VLOOKUP(D16,漢字書き!$A$2:$O$506,8,0))","v":"泣"},{"$f":"IF(E$16=\"\",\"\",VLOOKUP(E16,漢字書き!$A$2:$O$506,8,0))","v":"祝"},{"$f":"IF(F$16=\"\",\"\",VLOOKUP(F16,漢字書き!$A$2:$O$506,8,0))","v":"束"},{"$f":"IF(G$16=\"\",\"\",VLOOKUP(G16,漢字書き!$A$2:$O$506,8,0))","v":"菜"},{"$f":"IF(H$16=\"\",\"\",VLOOKUP(H16,漢字書き!$A$2:$O$506,8,0))","v":"側面"},{"$f":"IF(I$16=\"\",\"\",VLOOKUP(I16,漢字書き!$A$2:$O$506,8,0))","v":"失礼"},{"$f":"IF(J$16=\"\",\"\",VLOOKUP(J16,漢字書き!$A$2:$O$506,8,0))","v":"香"},{"$f":"IF(K$16=\"\",\"\",VLOOKUP(K16,漢字読み!$A$2:$O$506,8,0))","v":"しず"},{"$f":"IF(L$16=\"\",\"\",VLOOKUP(L16,漢字読み!$A$2:$O$506,8,0))","v":"うしな"},{"$f":"IF(M$16=\"\",\"\",VLOOKUP(M16,漢字読み!$A$2:$O$506,8,0))","v":"しゃっきん"},{"$f":"IF(N$16=\"\",\"\",VLOOKUP(N16,漢字読み!$A$2:$O$506,8,0))","v":"う"},{"$f":"IF(O$16=\"\",\"\",VLOOKUP(O16,漢字読み!$A$2:$O$506,8,0))","v":"す"},{"$f":"IF(P$16=\"\",\"\",VLOOKUP(P16,漢字読み!$A$2:$O$506,8,0))","v":"てんねん"},{"$f":"IF(Q$16=\"\",\"\",VLOOKUP(Q16,漢字読み!$A$2:$O$506,8,0))","v":"じゅんちょう"},{"$f":"IF(R$16=\"\",\"\",VLOOKUP(R16,漢字読み!$A$2:$O$506,8,0))","v":"しがけん"},{"$f":"IF(S$16=\"\",\"\",VLOOKUP(S16,漢字読み!$A$2:$O$506,8,0))","v":"せいぶつ"},{"$f":"IF(T$16=\"\",\"\",VLOOKUP(T16,漢字読み!$A$2:$O$506,8,0))","v":"しょうめい"},null,"名前"]
[{"$f":"IF(A16=\"\",\"\",IF(VLOOKUP(A16,漢字書き!$A$2:$N$502,7,0)=0,\"\",VLOOKUP(A16,漢字書き!$A$2:$N$502,7,0)))","v":""},{"$f":"IF(B16=\"\",\"\",IF(VLOOKUP(B16,漢字書き!$A$2:$N$502,7,0)=0,\"\",VLOOKUP(B16,漢字書き!$A$2:$N$502,7,0)))","v":"休か"},{"$f":"IF(C16=\"\",\"\",IF(VLOOKUP(C16,漢字書き!$A$2:$N$502,7,0)=0,\"\",VLOOKUP(C16,漢字書き!$A$2:$N$502,7,0)))","v":"く"},{"$f":"IF(D16=\"\",\"\",IF(VLOOKUP(D16,漢字書き!$A$2:$N$502,7,0)=0,\"\",VLOOKUP(D16,漢字書き!$A$2:$N$502,7,0)))","v":"き止む"},{"$f":"IF(E16=\"\",\"\",IF(VLOOKUP(E16,漢字書き!$A$2:$N$502,7,0)=0,\"\",VLOOKUP(E16,漢字書き!$A$2:$N$502,7,0)))","v":"う"},{"$f":"IF(F16=\"\",\"\",IF(VLOOKUP(F16,漢字書き!$A$2:$N$502,7,0)=0,\"\",VLOOKUP(F16,漢字書き!$A$2:$N$502,7,0)))","v":"ねる"},{"$f":"IF(G16=\"\",\"\",IF(VLOOKUP(G16,漢字書き!$A$2:$N$502,7,0)=0,\"\",VLOOKUP(G16,漢字書き!$A$2:$N$502,7,0)))","v":""},{"$f":"IF(H16=\"\",\"\",IF(VLOOKUP(H16,漢字書き!$A$2:$N$502,7,0)=0,\"\",VLOOKUP(H16,漢字書き!$A$2:$N$502,7,0)))","v":""},{"$f":"IF(I16=\"\",\"\",IF(VLOOKUP(I16,漢字書き!$A$2:$N$502,7,0)=0,\"\",VLOOKUP(I16,漢字書き!$A$2:$N$502,7,0)))","v":""},{"$f":"IF(J16=\"\",\"\",IF(VLOOKUP(J16,漢字書き!$A$2:$N$502,7,0)=0,\"\",VLOOKUP(J16,漢字書き!$A$2:$N$502,7,0)))","v":"り"},{"$f":"IF(K16=\"\",\"\",IF(VLOOKUP(K16,漢字読み!$A$2:$O$502,7,0)=0,\"\",VLOOKUP(K16,漢字読み!$A$2:$O$502,7,0)))","v":"かな"},{"$f":"IF(L16=\"\",\"\",IF(VLOOKUP(L16,漢字読み!$A$2:$O$502,7,0)=0,\"\",VLOOKUP(L16,漢字読み!$A$2:$O$502,7,0)))","v":"う"},{"$f":"IF(M16=\"\",\"\",IF(VLOOKUP(M16,漢字読み!$A$2:$O$502,7,0)=0,\"\",VLOOKUP(M16,漢字読み!$A$2:$O$502,7,0)))","v":""},{"$f":"IF(N16=\"\",\"\",IF(VLOOKUP(N16,漢字読み!$A$2:$O$502,7,0)=0,\"\",VLOOKUP(N16,漢字読み!$A$2:$O$502,7,0)))","v":"まれる"},{"$f":"IF(O16=\"\",\"\",IF(VLOOKUP(O16,漢字読み!$A$2:$O$502,7,0)=0,\"\",VLOOKUP(O16,漢字読み!$A$2:$O$502,7,0)))","v":"き"},{"$f":"IF(P16=\"\",\"\",IF(VLOOKUP(P16,漢字読み!$A$2:$O$502,7,0)=0,\"\",VLOOKUP(P16,漢字読み!$A$2:$O$502,7,0)))","v":""},{"$f":"IF(Q16=\"\",\"\",IF(VLOOKUP(Q16,漢字読み!$A$2:$O$502,7,0)=0,\"\",VLOOKUP(Q16,漢字読み!$A$2:$O$502,7,0)))","v":"に"},{"$f":"IF(R16=\"\",\"\",IF(VLOOKUP(R16,漢字読み!$A$2:$O$502,7,0)=0,\"\",VLOOKUP(R16,漢字読み!$A$2:$O$502,7,0)))","v":""},{"$f":"IF(S16=\"\",\"\",IF(VLOOKUP(S16,漢字読み!$A$2:$O$502,7,0)=0,\"\",VLOOKUP(S16,漢字読み!$A$2:$O$502,7,0)))","v":"画"},{"$f":"IF(T16=\"\",\"\",IF(VLOOKUP(T16,漢字読み!$A$2:$O$502,7,0)=0,\"\",VLOOKUP(T16,漢字読み!$A$2:$O$502,7,0)))","v":""},null,null,"和歌山県教育委員会"]
[{"$f":"INDIRECT(\"'関数（書き）'!C\" & COLUMN(B$1)+SUM($AD$2:$AD22))","v":172},{"$f":"INDIRECT(\"'関数（書き）'!C\" & COLUMN(C$1)+SUM($AD$2:$AD22))","v":56},{"$f":"INDIRECT(\"'関数（書き）'!C\" & COLUMN(D$1)+SUM($AD$2:$AD22))","v":2},{"$f":"INDIRECT(\"'関数（書き）'!C\" & COLUMN(E$1)+SUM($AD$2:$AD22))","v":165},{"$f":"INDIRECT(\"'関数（書き）'!C\" & COLUMN(F$1)+SUM($AD$2:$AD22))","v":80},{"$f":"INDIRECT(\"'関数（書き）'!C\" & COLUMN(G$1)+SUM($AD$2:$AD22))","v":185},{"$f":"INDIRECT(\"'関数（書き）'!C\" & COLUMN(H$1)+SUM($AD$2:$AD22))","v":97},{"$f":"INDIRECT(\"'関数（書き）'!C\" & COLUMN(I$1)+SUM($AD$2:$AD22))","v":151},{"$f":"INDIRECT(\"'関数（書き）'!C\" & COLUMN(J$1)+SUM($AD$2:$AD22))","v":71},{"$f":"INDIRECT(\"'関数（書き）'!C\" & COLUMN(K$1)+SUM($AD$2:$AD22))","v":42},{"$f":"INDIRECT(\"'関数（読み）'!C\" & COLUMN(B$1)+SUM($AD$2:$AD22))","v":143},{"$f":"INDIRECT(\"'関数（読み）'!C\" & COLUMN(C$1)+SUM($AD$2:$AD22))","v":95},{"$f":"INDIRECT(\"'関数（読み）'!C\" & COLUMN(D$1)+SUM($AD$2:$AD22))","v":186},{"$f":"INDIRECT(\"'関数（読み）'!C\" & COLUMN(E$1)+SUM($AD$2:$AD22))","v":17},{"$f":"INDIRECT(\"'関数（読み）'!C\" & COLUMN(F$1)+SUM($AD$2:$AD22))","v":179},{"$f":"INDIRECT(\"'関数（読み）'!C\" & COLUMN(G$1)+SUM($AD$2:$AD22))","v":183},{"$f":"INDIRECT(\"'関数（読み）'!C\" & COLUMN(H$1)+SUM($AD$2:$AD22))","v":97},{"$f":"INDIRECT(\"'関数（読み）'!C\" & COLUMN(I$1)+SUM($AD$2:$AD22))","v":170},{"$f":"INDIRECT(\"'関数（読み）'!C\" & COLUMN(J$1)+SUM($AD$2:$AD22))","v":152},{"$f":"INDIRECT(\"'関数（読み）'!C\" & COLUMN(K$1)+SUM($AD$2:$AD22))","v":169}]
["⑳","⑲","⑱","⑰","⑯","⑮","⑭","⑬","⑫","⑪","⑩","⑨","⑧","⑦","⑥","⑤","④","③","②","①","次の［　　　　］の部分の漢字には読みがなをひらがなで書き、カタカナは漢字に直しなさい。",10,"「漢字の博士検定試験」練習問題　",null,null,null,null,null,"←",10,"問",{"$f":"AH7+1","v":21},"～",{"$f":"SUM($AD$2:$AD22)+10","v":30},"問まで",{"$f":"COUNTIF($A$1:$T$200,T23)","v":2}]
[{"$f":"IF(A21=\"\",\"\",VLOOKUP(A21,漢字書き!$A$2:$N$506,6,0))","v":"［テンネン］記ねん物"},{"$f":"IF(B21=\"\",\"\",VLOOKUP(B21,漢字書き!$A$2:$N$506,6,0))","v":"日が［サ］してきた"},{"$f":"IF(C21=\"\",\"\",VLOOKUP(C21,漢字書き!$A$2:$N$506,6,0))","v":"［イッキョ］にふえる"},{"$f":"IF(D21=\"\",\"\",VLOOKUP(D21,漢字書き!$A$2:$N$506,6,0))","v":"［サクセン］を立てる"},{"$f":"IF(E21=\"\",\"\",VLOOKUP(E21,漢字書き!$A$2:$N$506,6,0))","v":"［ザンショ］お見まいを送る"},{"$f":"IF(F21=\"\",\"\",VLOOKUP(F21,漢字書き!$A$2:$N$506,6,0))","v":"かわいい［マゴ］"},{"$f":"IF(G21=\"\",\"\",VLOOKUP(G21,漢字書き!$A$2:$N$506,6,0))","v":"病気が［ナオ］る"},{"$f":"IF(H21=\"\",\"\",VLOOKUP(H21,漢字書き!$A$2:$N$506,6,0))","v":"［タイセキ］を計る"},{"$f":"IF(I21=\"\",\"\",VLOOKUP(I21,漢字書き!$A$2:$N$506,6,0))","v":"星の［カンサツ］"},{"$f":"IF(J21=\"\",\"\",VLOOKUP(J21,漢字書き!$A$2:$N$506,6,0))","v":"ねじで［コテイ］する"},{"$f":"IF(K21=\"\",\"\",VLOOKUP(K21,漢字読み!$A$2:$O$506,6,0))","v":"おそれを［成］す"},{"$f":"IF(L21=\"\",\"\",VLOOKUP(L21,漢字読み!$A$2:$O$506,6,0))","v":"[園児]を見送る"},{"$f":"IF(M21=\"\",\"\",VLOOKUP(M21,漢字読み!$A$2:$O$506,6,0))","v":"けいこを［続］ける"},{"$f":"IF(N21=\"\",\"\",VLOOKUP(N21,漢字読み!$A$2:$O$506,6,0))","v":"［北極］の白クマ"},{"$f":"IF(O21=\"\",\"\",VLOOKUP(O21,漢字読み!$A$2:$O$506,6,0))","v":"［巣箱］を作る"},{"$f":"IF(P21=\"\",\"\",VLOOKUP(P21,漢字読み!$A$2:$O$506,6,0))","v":"［側道］を走る"},{"$f":"IF(Q21=\"\",\"\",VLOOKUP(Q21,漢字読み!$A$2:$O$506,6,0))","v":"かぜが［完治］する"},{"$f":"IF(R21=\"\",\"\",VLOOKUP(R21,漢字読み!$A$2:$O$506,6,0))","v":"委員を［選］ぶ"},{"$f":"IF(S21=\"\",\"\",VLOOKUP(S21,漢字読み!$A$2:$O$506,6,0))","v":"すぐに［着席］する"},{"$f":"IF(T21=\"\",\"\",VLOOKUP(T21,漢字読み!$A$2:$O$506,6,0))","v":"マラソン［選手］"},null,"級"]
[null,null,null,null,null,null,null,null,null,null,null,null,null,null,null,null,null,null,null,null,null,"名前"]
[{"$f":"IF(A21=\"\",\"\",IF(VLOOKUP(A21,漢字書き!$A$2:$N$502,7,0)=0,\"\",VLOOKUP(A21,漢字書き!$A$2:$N$502,7,0)))","v":""},{"$f":"IF(B21=\"\",\"\",IF(VLOOKUP(B21,漢字書き!$A$2:$N$502,7,0)=0,\"\",VLOOKUP(B21,漢字書き!$A$2:$N$502,7,0)))","v":"して"},{"$f":"IF(C21=\"\",\"\",IF(VLOOKUP(C21,漢字書き!$A$2:$N$502,7,0)=0,\"\",VLOOKUP(C21,漢字書き!$A$2:$N$502,7,0)))","v":"に"},{"$f":"IF(D21=\"\",\"\",IF(VLOOKUP(D21,漢字書き!$A$2:$N$502,7,0)=0,\"\",VLOOKUP(D21,漢字書き!$A$2:$N$502,7,0)))","v":""},{"$f":"IF(E21=\"\",\"\",IF(VLOOKUP(E21,漢字書き!$A$2:$N$502,7,0)=0,\"\",VLOOKUP(E21,漢字書き!$A$2:$N$502,7,0)))","v":""},{"$f":"IF(F21=\"\",\"\",IF(VLOOKUP(F21,漢字書き!$A$2:$N$502,7,0)=0,\"\",VLOOKUP(F21,漢字書き!$A$2:$N$502,7,0)))","v":""},{"$f":"IF(G21=\"\",\"\",IF(VLOOKUP(G21,漢字書き!$A$2:$N$502,7,0)=0,\"\",VLOOKUP(G21,漢字書き!$A$2:$N$502,7,0)))","v":"る"},{"$f":"IF(H21=\"\",\"\",IF(VLOOKUP(H21,漢字書き!$A$2:$N$502,7,0)=0,\"\",VLOOKUP(H21,漢字書き!$A$2:$N$502,7,0)))","v":""},{"$f":"IF(I21=\"\",\"\",IF(VLOOKUP(I21,漢字書き!$A$2:$N$502,7,0)=0,\"\",VLOOKUP(I21,漢字書き!$A$2:$N$502,7,0)))","v":""},{"$f":"IF(J21=\"\",\"\",IF(VLOOKUP(J21,漢字書き!$A$2:$N$502,7,0)=0,\"\",VLOOKUP(J21,漢字書き!$A$2:$N$502,7,0)))","v":"する"},{"$f":"IF(K21=\"\",\"\",IF(VLOOKUP(K21,漢字読み!$A$2:$O$502,7,0)=0,\"\",VLOOKUP(K21,漢字読み!$A$2:$O$502,7,0)))","v":"す"},{"$f":"IF(L21=\"\",\"\",IF(VLOOKUP(L21,漢字読み!$A$2:$O$502,7,0)=0,\"\",VLOOKUP(L21,漢字読み!$A$2:$O$502,7,0)))","v":""},{"$f":"IF(M21=\"\",\"\",IF(VLOOKUP(M21,漢字読み!$A$2:$O$502,7,0)=0,\"\",VLOOKUP(M21,漢字読み!$A$2:$O$502,7,0)))","v":"ける"},{"$f":"IF(N21=\"\",\"\",IF(VLOOKUP(N21,漢字読み!$A$2:$O$502,7,0)=0,\"\",VLOOKUP(N21,漢字読み!$A$2:$O$502,7,0)))","v":""},{"$f":"IF(O21=\"\",\"\",IF(VLOOKUP(O21,漢字読み!$A$2:$O$502,7,0)=0,\"\",VLOOKUP(O21,漢字読み!$A$2:$O$502,7,0)))","v":""},{"$f":"IF(P21=\"\",\"\",IF(VLOOKUP(P21,漢字読み!$A$2:$O$502,7,0)=0,\"\",VLOOKUP(P21,漢字読み!$A$2:$O$502,7,0)))","v":""},{"$f":"IF(Q21=\"\",\"\",IF(VLOOKUP(Q21,漢字読み!$A$2:$O$502,7,0)=0,\"\",VLOOKUP(Q21,漢字読み!$A$2:$O$502,7,0)))","v":"する"},{"$f":"IF(R21=\"\",\"\",IF(VLOOKUP(R21,漢字読み!$A$2:$O$502,7,0)=0,\"\",VLOOKUP(R21,漢字読み!$A$2:$O$502,7,0)))","v":"ぶ"},{"$f":"IF(S21=\"\",\"\",IF(VLOOKUP(S21,漢字読み!$A$2:$O$502,7,0)=0,\"\",VLOOKUP(S21,漢字読み!$A$2:$O$502,7,0)))","v":"する"},{"$f":"IF(T21=\"\",\"\",IF(VLOOKUP(T21,漢字読み!$A$2:$O$502,7,0)=0,\"\",VLOOKUP(T21,漢字読み!$A$2:$O$502,7,0)))","v":""},null,null,"和歌山県教育委員会"]
[{"$f":"INDIRECT(\"'関数（書き）'!C\" & COLUMN(B$1)+SUM($AD$2:$AD27))","v":30},{"$f":"INDIRECT(\"'関数（書き）'!C\" & COLUMN(C$1)+SUM($AD$2:$AD27))","v":76},{"$f":"INDIRECT(\"'関数（書き）'!C\" & COLUMN(D$1)+SUM($AD$2:$AD27))","v":136},{"$f":"INDIRECT(\"'関数（書き）'!C\" & COLUMN(E$1)+SUM($AD$2:$AD27))","v":93},{"$f":"INDIRECT(\"'関数（書き）'!C\" & COLUMN(F$1)+SUM($AD$2:$AD27))","v":154},{"$f":"INDIRECT(\"'関数（書き）'!C\" & COLUMN(G$1)+SUM($AD$2:$AD27))","v":85},{"$f":"INDIRECT(\"'関数（書き）'!C\" & COLUMN(H$1)+SUM($AD$2:$AD27))","v":75},{"$f":"INDIRECT(\"'関数（書き）'!C\" & COLUMN(I$1)+SUM($AD$2:$AD27))","v":138},{"$f":"INDIRECT(\"'関数（書き）'!C\" & COLUMN(J$1)+SUM($AD$2:$AD27))","v":191},{"$f":"INDIRECT(\"'関数（書き）'!C\" & COLUMN(K$1)+SUM($AD$2:$AD27))","v":107},{"$f":"INDIRECT(\"'関数（読み）'!C\" & COLUMN(B$1)+SUM($AD$2:$AD27))","v":110},{"$f":"INDIRECT(\"'関数（読み）'!C\" & COLUMN(C$1)+SUM($AD$2:$AD27))","v":204},{"$f":"INDIRECT(\"'関数（読み）'!C\" & COLUMN(D$1)+SUM($AD$2:$AD27))","v":96},{"$f":"INDIRECT(\"'関数（読み）'!C\" & COLUMN(E$1)+SUM($AD$2:$AD27))","v":36},{"$f":"INDIRECT(\"'関数（読み）'!C\" & COLUMN(F$1)+SUM($AD$2:$AD27))","v":65},{"$f":"INDIRECT(\"'関数（読み）'!C\" & COLUMN(G$1)+SUM($AD$2:$AD27))","v":109},{"$f":"INDIRECT(\"'関数（読み）'!C\" & COLUMN(H$1)+SUM($AD$2:$AD27))","v":206},{"$f":"INDIRECT(\"'関数（読み）'!C\" & COLUMN(I$1)+SUM($AD$2:$AD27))","v":181},{"$f":"INDIRECT(\"'関数（読み）'!C\" & COLUMN(J$1)+SUM($AD$2:$AD27))","v":37},{"$f":"INDIRECT(\"'関数（読み）'!C\" & COLUMN(K$1)+SUM($AD$2:$AD27))","v":185}]
["⑳","⑲","⑱","⑰","⑯","⑮","⑭","⑬","⑫","⑪","⑩","⑨","⑧","⑦","⑥","⑤","④","③","②","①","次の［　　　　］の部分の漢字には読みがなをひらがなで書き、カタカナは漢字に直しなさい。",10,"「漢字の博士検定試験」練習問題　",null,null,null,null,null,"←",10,"問",{"$f":"AH22+1","v":31},"～",{"$f":"SUM($AD$2:$AD27)+10","v":40},"問まで",{"$f":"COUNTIF($A$1:$T$200,T28)","v":2}]
[{"$f":"IF(A26=\"\",\"\",VLOOKUP(A26,漢字書き!$A$2:$N$506,6,0))","v":"生活に［カ］くことができない"},{"$f":"IF(B26=\"\",\"\",VLOOKUP(B26,漢字書き!$A$2:$N$506,6,0))","v":"ウミガメの［サン］らん"},{"$f":"IF(C26=\"\",\"\",VLOOKUP(C26,漢字書き!$A$2:$N$506,6,0))","v":"ビルが［カンセイ］する"},{"$f":"IF(D26=\"\",\"\",VLOOKUP(D26,漢字書き!$A$2:$N$506,6,0))","v":"けがが［カンチ］する"},{"$f":"IF(E26=\"\",\"\",VLOOKUP(E26,漢字書き!$A$2:$N$506,6,0))","v":"指をこっ［セツ］する"},{"$f":"IF(F26=\"\",\"\",VLOOKUP(F26,漢字書き!$A$2:$N$506,6,0))","v":"図書館の[シショ]"},{"$f":"IF(G26=\"\",\"\",VLOOKUP(G26,漢字書き!$A$2:$N$506,6,0))","v":"野菜の［サンチ］"},{"$f":"IF(H26=\"\",\"\",VLOOKUP(H26,漢字書き!$A$2:$N$506,6,0))","v":"最後まで［ナ］しとげる"},{"$f":"IF(I26=\"\",\"\",VLOOKUP(I26,漢字書き!$A$2:$N$506,6,0))","v":"［タンゴ］を覚える"},{"$f":"IF(J26=\"\",\"\",VLOOKUP(J26,漢字書き!$A$2:$N$506,6,0))","v":"［マワ］りの人"},{"$f":"IF(K26=\"\",\"\",VLOOKUP(K26,漢字読み!$A$2:$O$506,6,0))","v":"家の［周］り"},{"$f":"IF(L26=\"\",\"\",VLOOKUP(L26,漢字読み!$A$2:$O$506,6,0))","v":"［仲］を取り持つ"},{"$f":"IF(M26=\"\",\"\",VLOOKUP(M26,漢字読み!$A$2:$O$506,6,0))","v":"［児童］画を観る"},{"$f":"IF(N26=\"\",\"\",VLOOKUP(N26,漢字読み!$A$2:$O$506,6,0))","v":"列車をれん[結]する"},{"$f":"IF(O26=\"\",\"\",VLOOKUP(O26,漢字読み!$A$2:$O$506,6,0))","v":"［昨年］の夏"},{"$f":"IF(P26=\"\",\"\",VLOOKUP(P26,漢字読み!$A$2:$O$506,6,0))","v":"池の［周囲］"},{"$f":"IF(Q26=\"\",\"\",VLOOKUP(Q26,漢字読み!$A$2:$O$506,6,0))","v":"リーダーのほ［佐］"},{"$f":"IF(R26=\"\",\"\",VLOOKUP(R26,漢字読み!$A$2:$O$506,6,0))","v":"大きな［花束］"},{"$f":"IF(S26=\"\",\"\",VLOOKUP(S26,漢字読み!$A$2:$O$506,6,0))","v":"ビルの［建］ちく"},{"$f":"IF(T26=\"\",\"\",VLOOKUP(T26,漢字読み!$A$2:$O$506,6,0))","v":"物語の［続］へん"},null,"級"]
[null,null,null,null,null,null,null,null,null,null,null,null,null,null,null,null,null,null,null,null,null,"名前"]
[{"$f":"IF(A26=\"\",\"\",IF(VLOOKUP(A26,漢字書き!$A$2:$N$502,7,0)=0,\"\",VLOOKUP(A26,漢字書き!$A$2:$N$502,7,0)))","v":"く"},{"$f":"IF(B26=\"\",\"\",IF(VLOOKUP(B26,漢字書き!$A$2:$N$502,7,0)=0,\"\",VLOOKUP(B26,漢字書き!$A$2:$N$502,7,0)))","v":""},{"$f":"IF(C26=\"\",\"\",IF(VLOOKUP(C26,漢字書き!$A$2:$N$502,7,0)=0,\"\",VLOOKUP(C26,漢字書き!$A$2:$N$502,7,0)))","v":"する"},{"$f":"IF(D26=\"\",\"\",IF(VLOOKUP(D26,漢字書き!$A$2:$N$502,7,0)=0,\"\",VLOOKUP(D26,漢字書き!$A$2:$N$502,7,0)))","v":"する"},{"$f":"IF(E26=\"\",\"\",IF(VLOOKUP(E26,漢字書き!$A$2:$N$502,7,0)=0,\"\",VLOOKUP(E26,漢字書き!$A$2:$N$502,7,0)))","v":"する"},{"$f":"IF(F26=\"\",\"\",IF(VLOOKUP(F26,漢字書き!$A$2:$N$502,7,0)=0,\"\",VLOOKUP(F26,漢字書き!$A$2:$N$502,7,0)))","v":""},{"$f":"IF(G26=\"\",\"\",IF(VLOOKUP(G26,漢字書き!$A$2:$N$502,7,0)=0,\"\",VLOOKUP(G26,漢字書き!$A$2:$N$502,7,0)))","v":""},{"$f":"IF(H26=\"\",\"\",IF(VLOOKUP(H26,漢字書き!$A$2:$N$502,7,0)=0,\"\",VLOOKUP(H26,漢字書き!$A$2:$N$502,7,0)))","v":"し"},{"$f":"IF(I26=\"\",\"\",IF(VLOOKUP(I26,漢字書き!$A$2:$N$502,7,0)=0,\"\",VLOOKUP(I26,漢字書き!$A$2:$N$502,7,0)))","v":""},{"$f":"IF(J26=\"\",\"\",IF(VLOOKUP(J26,漢字書き!$A$2:$N$502,7,0)=0,\"\",VLOOKUP(J26,漢字書き!$A$2:$N$502,7,0)))","v":"り"},{"$f":"IF(K26=\"\",\"\",IF(VLOOKUP(K26,漢字読み!$A$2:$O$502,7,0)=0,\"\",VLOOKUP(K26,漢字読み!$A$2:$O$502,7,0)))","v":"り"},{"$f":"IF(L26=\"\",\"\",IF(VLOOKUP(L26,漢字読み!$A$2:$O$502,7,0)=0,\"\",VLOOKUP(L26,漢字読み!$A$2:$O$502,7,0)))","v":""},{"$f":"IF(M26=\"\",\"\",IF(VLOOKUP(M26,漢字読み!$A$2:$O$502,7,0)=0,\"\",VLOOKUP(M26,漢字読み!$A$2:$O$502,7,0)))","v":"画"},{"$f":"IF(N26=\"\",\"\",IF(VLOOKUP(N26,漢字読み!$A$2:$O$502,7,0)=0,\"\",VLOOKUP(N26,漢字読み!$A$2:$O$502,7,0)))","v":"する"},{"$f":"IF(O26=\"\",\"\",IF(VLOOKUP(O26,漢字読み!$A$2:$O$502,7,0)=0,\"\",VLOOKUP(O26,漢字読み!$A$2:$O$502,7,0)))","v":""},{"$f":"IF(P26=\"\",\"\",IF(VLOOKUP(P26,漢字読み!$A$2:$O$502,7,0)=0,\"\",VLOOKUP(P26,漢字読み!$A$2:$O$502,7,0)))","v":""},{"$f":"IF(Q26=\"\",\"\",IF(VLOOKUP(Q26,漢字読み!$A$2:$O$502,7,0)=0,\"\",VLOOKUP(Q26,漢字読み!$A$2:$O$502,7,0)))","v":""},{"$f":"IF(R26=\"\",\"\",IF(VLOOKUP(R26,漢字読み!$A$2:$O$502,7,0)=0,\"\",VLOOKUP(R26,漢字読み!$A$2:$O$502,7,0)))","v":""},{"$f":"IF(S26=\"\",\"\",IF(VLOOKUP(S26,漢字読み!$A$2:$O$502,7,0)=0,\"\",VLOOKUP(S26,漢字読み!$A$2:$O$502,7,0)))","v":"ちく"},{"$f":"IF(T26=\"\",\"\",IF(VLOOKUP(T26,漢字読み!$A$2:$O$502,7,0)=0,\"\",VLOOKUP(T26,漢字読み!$A$2:$O$502,7,0)))","v":"へん"},null,null,"和歌山県教育委員会"]
[{"$f":"A21","v":172},56,2,165,80,185,97,151,71,42,143,95,186,17,179,183,97,170,152,169]
["⑳","⑲","⑱","⑰","⑯","⑮","⑭","⑬","⑫","⑪","⑩","⑨","⑧","⑦","⑥","⑤","④","③","②","①","次の［　　　　］の部分の漢字には読みがなをひらがなで書き、カタカナは漢字に直しなさい。",10,"「漢字の博士検定試験」練習問題　"]
[{"$f":"IF(A31=\"\",\"\",VLOOKUP(A31,漢字書き!$A$2:$N$506,6,0))","v":"［テンネン］記ねん物"},{"$f":"IF(B31=\"\",\"\",VLOOKUP(B31,漢字書き!$A$2:$N$506,6,0))","v":"日が［サ］してきた"},{"$f":"IF(C31=\"\",\"\",VLOOKUP(C31,漢字書き!$A$2:$N$506,6,0))","v":"［イッキョ］にふえる"},{"$f":"IF(D31=\"\",\"\",VLOOKUP(D31,漢字書き!$A$2:$N$506,6,0))","v":"［サクセン］を立てる"},{"$f":"IF(E31=\"\",\"\",VLOOKUP(E31,漢字書き!$A$2:$N$506,6,0))","v":"［ザンショ］お見まいを送る"},{"$f":"IF(F31=\"\",\"\",VLOOKUP(F31,漢字書き!$A$2:$N$506,6,0))","v":"かわいい［マゴ］"},{"$f":"IF(G31=\"\",\"\",VLOOKUP(G31,漢字書き!$A$2:$N$506,6,0))","v":"病気が［ナオ］る"},{"$f":"IF(H31=\"\",\"\",VLOOKUP(H31,漢字書き!$A$2:$N$506,6,0))","v":"［タイセキ］を計る"},{"$f":"IF(I31=\"\",\"\",VLOOKUP(I31,漢字書き!$A$2:$N$506,6,0))","v":"星の［カンサツ］"},{"$f":"IF(J31=\"\",\"\",VLOOKUP(J31,漢字書き!$A$2:$N$506,6,0))","v":"ねじで［コテイ］する"},{"$f":"IF(K31=\"\",\"\",VLOOKUP(K31,漢字読み!$A$2:$O$506,6,0))","v":"おそれを［成］す"},{"$f":"IF(L31=\"\",\"\",VLOOKUP(L31,漢字読み!$A$2:$O$506,6,0))","v":"[園児]を見送る"},{"$f":"IF(M31=\"\",\"\",VLOOKUP(M31,漢字読み!$A$2:$O$506,6,0))","v":"けいこを［続］ける"},{"$f":"IF(N31=\"\",\"\",VLOOKUP(N31,漢字読み!$A$2:$O$506,6,0))","v":"［北極］の白クマ"},{"$f":"IF(O31=\"\",\"\",VLOOKUP(O31,漢字読み!$A$2:$O$506,6,0))","v":"［巣箱］を作る"},{"$f":"IF(P31=\"\",\"\",VLOOKUP(P31,漢字読み!$A$2:$O$506,6,0))","v":"［側道］を走る"},{"$f":"IF(Q31=\"\",\"\",VLOOKUP(Q31,漢字読み!$A$2:$O$506,6,0))","v":"かぜが［完治］する"},{"$f":"IF(R31=\"\",\"\",VLOOKUP(R31,漢字読み!$A$2:$O$506,6,0))","v":"委員を［選］ぶ"},{"$f":"IF(S31=\"\",\"\",VLOOKUP(S31,漢字読み!$A$2:$O$506,6,0))","v":"すぐに［着席］する"},{"$f":"IF(T31=\"\",\"\",VLOOKUP(T31,漢字読み!$A$2:$O$506,6,0))","v":"マラソン［選手］"},null,"級"]
[{"$f":"IF(A$11=\"\",\"\",VLOOKUP(A31,漢字書き!$A$2:$O$506,8,0))","v":"天然"},{"$f":"IF(B$11=\"\",\"\",VLOOKUP(B31,漢字書き!$A$2:$O$506,8,0))","v":"差"},{"$f":"IF(C$11=\"\",\"\",VLOOKUP(C31,漢字書き!$A$2:$O$506,8,0))","v":"一挙"},{"$f":"IF(D$11=\"\",\"\",VLOOKUP(D31,漢字書き!$A$2:$O$506,8,0))","v":"作戦"},{"$f":"IF(E$11=\"\",\"\",VLOOKUP(E31,漢字書き!$A$2:$O$506,8,0))","v":"残暑"},{"$f":"IF(F$11=\"\",\"\",VLOOKUP(F31,漢字書き!$A$2:$O$506,8,0))","v":"孫"},{"$f":"IF(G$11=\"\",\"\",VLOOKUP(G31,漢字書き!$A$2:$O$506,8,0))","v":"治"},{"$f":"IF(H$11=\"\",\"\",VLOOKUP(H31,漢字書き!$A$2:$O$506,8,0))","v":"体積"},{"$f":"IF(I$11=\"\",\"\",VLOOKUP(I31,漢字書き!$A$2:$O$506,8,0))","v":"観察"},{"$f":"IF(J$11=\"\",\"\",VLOOKUP(J31,漢字書き!$A$2:$O$506,8,0))","v":"固定"},{"$f":"IF(K$11=\"\",\"\",VLOOKUP(K31,漢字読み!$A$2:$O$506,8,0))","v":"な"},{"$f":"IF(L$11=\"\",\"\",VLOOKUP(L31,漢字読み!$A$2:$O$506,8,0))","v":"えんじ"},{"$f":"IF(M$11=\"\",\"\",VLOOKUP(M31,漢字読み!$A$2:$O$506,8,0))","v":"つづ"},{"$f":"IF(N$11=\"\",\"\",VLOOKUP(N31,漢字読み!$A$2:$O$506,8,0))","v":"ほっきょく"},{"$f":"IF(O$11=\"\",\"\",VLOOKUP(O31,漢字読み!$A$2:$O$506,8,0))","v":"すばこ"},{"$f":"IF(P$11=\"\",\"\",VLOOKUP(P31,漢字読み!$A$2:$O$506,8,0))","v":"そくどう"},{"$f":"IF(Q$11=\"\",\"\",VLOOKUP(Q31,漢字読み!$A$2:$O$506,8,0))","v":"かんち"},{"$f":"IF(R$11=\"\",\"\",VLOOKUP(R31,漢字読み!$A$2:$O$506,8,0))","v":"えら"},{"$f":"IF(S$11=\"\",\"\",VLOOKUP(S31,漢字読み!$A$2:$O$506,8,0))","v":"ちゃくせき"},{"$f":"IF(T$11=\"\",\"\",VLOOKUP(T31,漢字読み!$A$2:$O$506,8,0))","v":"せんしゅ"},null,"名前"]
[{"$f":"IF(A31=\"\",\"\",IF(VLOOKUP(A31,漢字書き!$A$2:$N$502,7,0)=0,\"\",VLOOKUP(A31,漢字書き!$A$2:$N$502,7,0)))","v":""},{"$f":"IF(B31=\"\",\"\",IF(VLOOKUP(B31,漢字書き!$A$2:$N$502,7,0)=0,\"\",VLOOKUP(B31,漢字書き!$A$2:$N$502,7,0)))","v":"して"},{"$f":"IF(C31=\"\",\"\",IF(VLOOKUP(C31,漢字書き!$A$2:$N$502,7,0)=0,\"\",VLOOKUP(C31,漢字書き!$A$2:$N$502,7,0)))","v":"に"},{"$f":"IF(D31=\"\",\"\",IF(VLOOKUP(D31,漢字書き!$A$2:$N$502,7,0)=0,\"\",VLOOKUP(D31,漢字書き!$A$2:$N$502,7,0)))","v":""},{"$f":"IF(E31=\"\",\"\",IF(VLOOKUP(E31,漢字書き!$A$2:$N$502,7,0)=0,\"\",VLOOKUP(E31,漢字書き!$A$2:$N$502,7,0)))","v":""},{"$f":"IF(F31=\"\",\"\",IF(VLOOKUP(F31,漢字書き!$A$2:$N$502,7,0)=0,\"\",VLOOKUP(F31,漢字書き!$A$2:$N$502,7,0)))","v":""},{"$f":"IF(G31=\"\",\"\",IF(VLOOKUP(G31,漢字書き!$A$2:$N$502,7,0)=0,\"\",VLOOKUP(G31,漢字書き!$A$2:$N$502,7,0)))","v":"る"},{"$f":"IF(H31=\"\",\"\",IF(VLOOKUP(H31,漢字書き!$A$2:$N$502,7,0)=0,\"\",VLOOKUP(H31,漢字書き!$A$2:$N$502,7,0)))","v":""},{"$f":"IF(I31=\"\",\"\",IF(VLOOKUP(I31,漢字書き!$A$2:$N$502,7,0)=0,\"\",VLOOKUP(I31,漢字書き!$A$2:$N$502,7,0)))","v":""},{"$f":"IF(J31=\"\",\"\",IF(VLOOKUP(J31,漢字書き!$A$2:$N$502,7,0)=0,\"\",VLOOKUP(J31,漢字書き!$A$2:$N$502,7,0)))","v":"する"},{"$f":"IF(K31=\"\",\"\",IF(VLOOKUP(K31,漢字読み!$A$2:$O$502,7,0)=0,\"\",VLOOKUP(K31,漢字読み!$A$2:$O$502,7,0)))","v":"す"},{"$f":"IF(L31=\"\",\"\",IF(VLOOKUP(L31,漢字読み!$A$2:$O$502,7,0)=0,\"\",VLOOKUP(L31,漢字読み!$A$2:$O$502,7,0)))","v":""},{"$f":"IF(M31=\"\",\"\",IF(VLOOKUP(M31,漢字読み!$A$2:$O$502,7,0)=0,\"\",VLOOKUP(M31,漢字読み!$A$2:$O$502,7,0)))","v":"ける"},{"$f":"IF(N31=\"\",\"\",IF(VLOOKUP(N31,漢字読み!$A$2:$O$502,7,0)=0,\"\",VLOOKUP(N31,漢字読み!$A$2:$O$502,7,0)))","v":""},{"$f":"IF(O31=\"\",\"\",IF(VLOOKUP(O31,漢字読み!$A$2:$O$502,7,0)=0,\"\",VLOOKUP(O31,漢字読み!$A$2:$O$502,7,0)))","v":""},{"$f":"IF(P31=\"\",\"\",IF(VLOOKUP(P31,漢字読み!$A$2:$O$502,7,0)=0,\"\",VLOOKUP(P31,漢字読み!$A$2:$O$502,7,0)))","v":""},{"$f":"IF(Q31=\"\",\"\",IF(VLOOKUP(Q31,漢字読み!$A$2:$O$502,7,0)=0,\"\",VLOOKUP(Q31,漢字読み!$A$2:$O$502,7,0)))","v":"する"},{"$f":"IF(R31=\"\",\"\",IF(VLOOKUP(R31,漢字読み!$A$2:$O$502,7,0)=0,\"\",VLOOKUP(R31,漢字読み!$A$2:$O$502,7,0)))","v":"ぶ"},{"$f":"IF(S31=\"\",\"\",IF(VLOOKUP(S31,漢字読み!$A$2:$O$502,7,0)=0,\"\",VLOOKUP(S31,漢字読み!$A$2:$O$502,7,0)))","v":"する"},{"$f":"IF(T31=\"\",\"\",IF(VLOOKUP(T31,漢字読み!$A$2:$O$502,7,0)=0,\"\",VLOOKUP(T31,漢字読み!$A$2:$O$502,7,0)))","v":""},null,null,"和歌山県教育委員会"]
[{"$f":"A26","v":30},76,136,93,154,85,75,138,191,107,110,204,96,36,65,109,206,181,37,185]
["⑳","⑲","⑱","⑰","⑯","⑮","⑭","⑬","⑫","⑪","⑩","⑨","⑧","⑦","⑥","⑤","④","③","②","①","次の［　　　　］の部分の漢字には読みがなをひらがなで書き、カタカナは漢字に直しなさい。",10,"「漢字の博士検定試験」練習問題　"]
[{"$f":"IF(A36=\"\",\"\",VLOOKUP(A36,漢字書き!$A$2:$N$506,6,0))","v":"生活に［カ］くことができない"},{"$f":"IF(B36=\"\",\"\",VLOOKUP(B36,漢字書き!$A$2:$N$506,6,0))","v":"ウミガメの［サン］らん"},{"$f":"IF(C36=\"\",\"\",VLOOKUP(C36,漢字書き!$A$2:$N$506,6,0))","v":"ビルが［カンセイ］する"},{"$f":"IF(D36=\"\",\"\",VLOOKUP(D36,漢字書き!$A$2:$N$506,6,0))","v":"けがが［カンチ］する"},{"$f":"IF(E36=\"\",\"\",VLOOKUP(E36,漢字書き!$A$2:$N$506,6,0))","v":"指をこっ［セツ］する"},{"$f":"IF(F36=\"\",\"\",VLOOKUP(F36,漢字書き!$A$2:$N$506,6,0))","v":"図書館の[シショ]"},{"$f":"IF(G36=\"\",\"\",VLOOKUP(G36,漢字書き!$A$2:$N$506,6,0))","v":"野菜の［サンチ］"},{"$f":"IF(H36=\"\",\"\",VLOOKUP(H36,漢字書き!$A$2:$N$506,6,0))","v":"最後まで［ナ］しとげる"},{"$f":"IF(I36=\"\",\"\",VLOOKUP(I36,漢字書き!$A$2:$N$506,6,0))","v":"［タンゴ］を覚える"},{"$f":"IF(J36=\"\",\"\",VLOOKUP(J36,漢字書き!$A$2:$N$506,6,0))","v":"［マワ］りの人"},{"$f":"IF(K36=\"\",\"\",VLOOKUP(K36,漢字読み!$A$2:$O$506,6,0))","v":"家の［周］り"},{"$f":"IF(L36=\"\",\"\",VLOOKUP(L36,漢字読み!$A$2:$O$506,6,0))","v":"［仲］を取り持つ"},{"$f":"IF(M36=\"\",\"\",VLOOKUP(M36,漢字読み!$A$2:$O$506,6,0))","v":"［児童］画を観る"},{"$f":"IF(N36=\"\",\"\",VLOOKUP(N36,漢字読み!$A$2:$O$506,6,0))","v":"列車をれん[結]する"},{"$f":"IF(O36=\"\",\"\",VLOOKUP(O36,漢字読み!$A$2:$O$506,6,0))","v":"［昨年］の夏"},{"$f":"IF(P36=\"\",\"\",VLOOKUP(P36,漢字読み!$A$2:$O$506,6,0))","v":"池の［周囲］"},{"$f":"IF(Q36=\"\",\"\",VLOOKUP(Q36,漢字読み!$A$2:$O$506,6,0))","v":"リーダーのほ［佐］"},{"$f":"IF(R36=\"\",\"\",VLOOKUP(R36,漢字読み!$A$2:$O$506,6,0))","v":"大きな［花束］"},{"$f":"IF(S36=\"\",\"\",VLOOKUP(S36,漢字読み!$A$2:$O$506,6,0))","v":"ビルの［建］ちく"},{"$f":"IF(T36=\"\",\"\",VLOOKUP(T36,漢字読み!$A$2:$O$506,6,0))","v":"物語の［続］へん"},null,"級"]
[{"$f":"IF(A$16=\"\",\"\",VLOOKUP(A36,漢字書き!$A$2:$O$506,8,0))","v":"欠"},{"$f":"IF(B$16=\"\",\"\",VLOOKUP(B36,漢字書き!$A$2:$O$506,8,0))","v":"産"},{"$f":"IF(C$16=\"\",\"\",VLOOKUP(C36,漢字書き!$A$2:$O$506,8,0))","v":"完成"},{"$f":"IF(D$16=\"\",\"\",VLOOKUP(D36,漢字書き!$A$2:$O$506,8,0))","v":"完治"},{"$f":"IF(E$16=\"\",\"\",VLOOKUP(E36,漢字書き!$A$2:$O$506,8,0))","v":"折"},{"$f":"IF(F$16=\"\",\"\",VLOOKUP(F36,漢字書き!$A$2:$O$506,8,0))","v":"司書"},{"$f":"IF(G$16=\"\",\"\",VLOOKUP(G36,漢字書き!$A$2:$O$506,8,0))","v":"産地"},{"$f":"IF(H$16=\"\",\"\",VLOOKUP(H36,漢字書き!$A$2:$O$506,8,0))","v":"成"},{"$f":"IF(I$16=\"\",\"\",VLOOKUP(I36,漢字書き!$A$2:$O$506,8,0))","v":"単語"},{"$f":"IF(J$16=\"\",\"\",VLOOKUP(J36,漢字書き!$A$2:$O$506,8,0))","v":"周"},{"$f":"IF(K$16=\"\",\"\",VLOOKUP(K36,漢字読み!$A$2:$O$506,8,0))","v":"まわ"},{"$f":"IF(L$16=\"\",\"\",VLOOKUP(L36,漢字読み!$A$2:$O$506,8,0))","v":"なか"},{"$f":"IF(M$16=\"\",\"\",VLOOKUP(M36,漢字読み!$A$2:$O$506,8,0))","v":"じどう"},{"$f":"IF(N$16=\"\",\"\",VLOOKUP(N36,漢字読み!$A$2:$O$506,8,0))","v":"けつ"},{"$f":"IF(O$16=\"\",\"\",VLOOKUP(O36,漢字読み!$A$2:$O$506,8,0))","v":"さくねん"},{"$f":"IF(P$16=\"\",\"\",VLOOKUP(P36,漢字読み!$A$2:$O$506,8,0))","v":"しゅうい"},{"$f":"IF(Q$16=\"\",\"\",VLOOKUP(Q36,漢字読み!$A$2:$O$506,8,0))","v":"さ"},{"$f":"IF(R$16=\"\",\"\",VLOOKUP(R36,漢字読み!$A$2:$O$506,8,0))","v":"はなたば"},{"$f":"IF(S$16=\"\",\"\",VLOOKUP(S36,漢字読み!$A$2:$O$506,8,0))","v":"けん"},{"$f":"IF(T$16=\"\",\"\",VLOOKUP(T36,漢字読み!$A$2:$O$506,8,0))","v":"ぞく"},null,"名前"]
[{"$f":"IF(A36=\"\",\"\",IF(VLOOKUP(A36,漢字書き!$A$2:$N$502,7,0)=0,\"\",VLOOKUP(A36,漢字書き!$A$2:$N$502,7,0)))","v":"く"},{"$f":"IF(B36=\"\",\"\",IF(VLOOKUP(B36,漢字書き!$A$2:$N$502,7,0)=0,\"\",VLOOKUP(B36,漢字書き!$A$2:$N$502,7,0)))","v":""},{"$f":"IF(C36=\"\",\"\",IF(VLOOKUP(C36,漢字書き!$A$2:$N$502,7,0)=0,\"\",VLOOKUP(C36,漢字書き!$A$2:$N$502,7,0)))","v":"する"},{"$f":"IF(D36=\"\",\"\",IF(VLOOKUP(D36,漢字書き!$A$2:$N$502,7,0)=0,\"\",VLOOKUP(D36,漢字書き!$A$2:$N$502,7,0)))","v":"する"},{"$f":"IF(E36=\"\",\"\",IF(VLOOKUP(E36,漢字書き!$A$2:$N$502,7,0)=0,\"\",VLOOKUP(E36,漢字書き!$A$2:$N$502,7,0)))","v":"する"},{"$f":"IF(F36=\"\",\"\",IF(VLOOKUP(F36,漢字書き!$A$2:$N$502,7,0)=0,\"\",VLOOKUP(F36,漢字書き!$A$2:$N$502,7,0)))","v":""},{"$f":"IF(G36=\"\",\"\",IF(VLOOKUP(G36,漢字書き!$A$2:$N$502,7,0)=0,\"\",VLOOKUP(G36,漢字書き!$A$2:$N$502,7,0)))","v":""},{"$f":"IF(H36=\"\",\"\",IF(VLOOKUP(H36,漢字書き!$A$2:$N$502,7,0)=0,\"\",VLOOKUP(H36,漢字書き!$A$2:$N$502,7,0)))","v":"し"},{"$f":"IF(I36=\"\",\"\",IF(VLOOKUP(I36,漢字書き!$A$2:$N$502,7,0)=0,\"\",VLOOKUP(I36,漢字書き!$A$2:$N$502,7,0)))","v":""},{"$f":"IF(J36=\"\",\"\",IF(VLOOKUP(J36,漢字書き!$A$2:$N$502,7,0)=0,\"\",VLOOKUP(J36,漢字書き!$A$2:$N$502,7,0)))","v":"り"},{"$f":"IF(K36=\"\",\"\",IF(VLOOKUP(K36,漢字読み!$A$2:$O$502,7,0)=0,\"\",VLOOKUP(K36,漢字読み!$A$2:$O$502,7,0)))","v":"り"},{"$f":"IF(L36=\"\",\"\",IF(VLOOKUP(L36,漢字読み!$A$2:$O$502,7,0)=0,\"\",VLOOKUP(L36,漢字読み!$A$2:$O$502,7,0)))","v":""},{"$f":"IF(M36=\"\",\"\",IF(VLOOKUP(M36,漢字読み!$A$2:$O$502,7,0)=0,\"\",VLOOKUP(M36,漢字読み!$A$2:$O$502,7,0)))","v":"画"},{"$f":"IF(N36=\"\",\"\",IF(VLOOKUP(N36,漢字読み!$A$2:$O$502,7,0)=0,\"\",VLOOKUP(N36,漢字読み!$A$2:$O$502,7,0)))","v":"する"},{"$f":"IF(O36=\"\",\"\",IF(VLOOKUP(O36,漢字読み!$A$2:$O$502,7,0)=0,\"\",VLOOKUP(O36,漢字読み!$A$2:$O$502,7,0)))","v":""},{"$f":"IF(P36=\"\",\"\",IF(VLOOKUP(P36,漢字読み!$A$2:$O$502,7,0)=0,\"\",VLOOKUP(P36,漢字読み!$A$2:$O$502,7,0)))","v":""},{"$f":"IF(Q36=\"\",\"\",IF(VLOOKUP(Q36,漢字読み!$A$2:$O$502,7,0)=0,\"\",VLOOKUP(Q36,漢字読み!$A$2:$O$502,7,0)))","v":""},{"$f":"IF(R36=\"\",\"\",IF(VLOOKUP(R36,漢字読み!$A$2:$O$502,7,0)=0,\"\",VLOOKUP(R36,漢字読み!$A$2:$O$502,7,0)))","v":""},{"$f":"IF(S36=\"\",\"\",IF(VLOOKUP(S36,漢字読み!$A$2:$O$502,7,0)=0,\"\",VLOOKUP(S36,漢字読み!$A$2:$O$502,7,0)))","v":"ちく"},{"$f":"IF(T36=\"\",\"\",IF(VLOOKUP(T36,漢字読み!$A$2:$O$502,7,0)=0,\"\",VLOOKUP(T36,漢字読み!$A$2:$O$502,7,0)))","v":"へん"},null,null,"和歌山県教育委員会"]
[{"$f":"INDIRECT(\"'関数（書き）'!C\" & COLUMN(B$1)+SUM($AD$2:$AD42))","v":59},{"$f":"INDIRECT(\"'関数（書き）'!C\" & COLUMN(C$1)+SUM($AD$2:$AD42))","v":153},{"$f":"INDIRECT(\"'関数（書き）'!C\" & COLUMN(D$1)+SUM($AD$2:$AD42))","v":99},{"$f":"INDIRECT(\"'関数（書き）'!C\" & COLUMN(E$1)+SUM($AD$2:$AD42))","v":142},{"$f":"INDIRECT(\"'関数（書き）'!C\" & COLUMN(F$1)+SUM($AD$2:$AD42))","v":39},{"$f":"INDIRECT(\"'関数（書き）'!C\" & COLUMN(G$1)+SUM($AD$2:$AD42))","v":78},{"$f":"INDIRECT(\"'関数（書き）'!C\" & COLUMN(H$1)+SUM($AD$2:$AD42))","v":73},{"$f":"INDIRECT(\"'関数（書き）'!C\" & COLUMN(I$1)+SUM($AD$2:$AD42))","v":112},{"$f":"INDIRECT(\"'関数（書き）'!C\" & COLUMN(J$1)+SUM($AD$2:$AD42))","v":74},{"$f":"INDIRECT(\"'関数（書き）'!C\" & COLUMN(K$1)+SUM($AD$2:$AD42))","v":62},{"$f":"INDIRECT(\"'関数（読み）'!C\" & COLUMN(B$1)+SUM($AD$2:$AD42))","v":62},{"$f":"INDIRECT(\"'関数（読み）'!C\" & COLUMN(C$1)+SUM($AD$2:$AD42))","v":59},{"$f":"INDIRECT(\"'関数（読み）'!C\" & COLUMN(D$1)+SUM($AD$2:$AD42))","v":121},{"$f":"INDIRECT(\"'関数（読み）'!C\" & COLUMN(E$1)+SUM($AD$2:$AD42))","v":85},{"$f":"INDIRECT(\"'関数（読み）'!C\" & COLUMN(F$1)+SUM($AD$2:$AD42))","v":145},{"$f":"INDIRECT(\"'関数（読み）'!C\" & COLUMN(G$1)+SUM($AD$2:$AD42))","v":147},{"$f":"INDIRECT(\"'関数（読み）'!C\" & COLUMN(H$1)+SUM($AD$2:$AD42))","v":219},{"$f":"INDIRECT(\"'関数（読み）'!C\" & COLUMN(I$1)+SUM($AD$2:$AD42))","v":32},{"$f":"INDIRECT(\"'関数（読み）'!C\" & COLUMN(J$1)+SUM($AD$2:$AD42))","v":211},{"$f":"INDIRECT(\"'関数（読み）'!C\" & COLUMN(K$1)+SUM($AD$2:$AD42))","v":12}]
["⑳","⑲","⑱","⑰","⑯","⑮","⑭","⑬","⑫","⑪","⑩","⑨","⑧","⑦","⑥","⑤","④","③","②","①","次の［　　　　］の部分の漢字には読みがなをひらがなで書き、カタカナは漢字に直しなさい。",10,"「漢字の博士検定試験」練習問題　",null,null,null,null,null,"←",10,"問",{"$f":"AH27+1","v":41},"～",{"$f":"SUM($AD$2:$AD42)+10","v":50},"問まで",{"$f":"COUNTIF($A$1:$T$200,T43)","v":2}]
[{"$f":"IF(A41=\"\",\"\",VLOOKUP(A41,漢字書き!$A$2:$N$506,6,0))","v":"［サイコウ］にうれしい"},{"$f":"IF(B41=\"\",\"\",VLOOKUP(B41,漢字書き!$A$2:$N$506,6,0))","v":"雪が［ツ］もる"},{"$f":"IF(C41=\"\",\"\",VLOOKUP(C41,漢字書き!$A$2:$N$506,6,0))","v":"[シュクジ]をのべる"},{"$f":"IF(D41=\"\",\"\",VLOOKUP(D41,漢字書き!$A$2:$N$506,6,0))","v":"いらない部分を［ハブ］く"},{"$f":"IF(E41=\"\",\"\",VLOOKUP(E41,漢字書き!$A$2:$N$506,6,0))","v":"おそろしい[タイケン]"},{"$f":"IF(F41=\"\",\"\",VLOOKUP(F41,漢字書き!$A$2:$N$506,6,0))","v":"公園を［サンポ］する"},{"$f":"IF(G41=\"\",\"\",VLOOKUP(G41,漢字書き!$A$2:$N$506,6,0))","v":"イベントに［サンカ］する"},{"$f":"IF(H41=\"\",\"\",VLOOKUP(H41,漢字書き!$A$2:$N$506,6,0))","v":"［サイショ］が大切だ"},{"$f":"IF(I41=\"\",\"\",VLOOKUP(I41,漢字書き!$A$2:$N$506,6,0))","v":"［サンギョウ］が栄える"},{"$f":"IF(J41=\"\",\"\",VLOOKUP(J41,漢字書き!$A$2:$N$506,6,0))","v":"［キノウ］の出来事"},{"$f":"IF(K41=\"\",\"\",VLOOKUP(K41,漢字読み!$A$2:$O$506,6,0))","v":"［最］も高い山"},{"$f":"IF(L41=\"\",\"\",VLOOKUP(L41,漢字読み!$A$2:$O$506,6,0))","v":"［野菜］を育てる"},{"$f":"IF(M41=\"\",\"\",VLOOKUP(M41,漢字読み!$A$2:$O$506,6,0))","v":"[笑]い話を聞く"},{"$f":"IF(N41=\"\",\"\",VLOOKUP(N41,漢字読み!$A$2:$O$506,6,0))","v":"［残］りの絵を仕上げる"},{"$f":"IF(O41=\"\",\"\",VLOOKUP(O41,漢字読み!$A$2:$O$506,6,0))","v":"［反省］する"},{"$f":"IF(P41=\"\",\"\",VLOOKUP(P41,漢字読み!$A$2:$O$506,6,0))","v":"川の［清流］"},{"$f":"IF(Q41=\"\",\"\",VLOOKUP(Q41,漢字読み!$A$2:$O$506,6,0))","v":"［的当］てをして遊ぶ"},{"$f":"IF(R41=\"\",\"\",VLOOKUP(R41,漢字読み!$A$2:$O$506,6,0))","v":"じゅ業を［欠席］する"},{"$f":"IF(S41=\"\",\"\",VLOOKUP(S41,漢字読み!$A$2:$O$506,6,0))","v":"［低音］の声"},{"$f":"IF(T41=\"\",\"\",VLOOKUP(T41,漢字読み!$A$2:$O$506,6,0))","v":"体育［協会］に入る"},null,"級"]
[null,null,null,null,null,null,null,null,null,null,null,null,null,null,null,null,null,null,null,null,null,"名前"]
[{"$f":"IF(A41=\"\",\"\",IF(VLOOKUP(A41,漢字書き!$A$2:$N$502,7,0)=0,\"\",VLOOKUP(A41,漢字書き!$A$2:$N$502,7,0)))","v":"に"},{"$f":"IF(B41=\"\",\"\",IF(VLOOKUP(B41,漢字書き!$A$2:$N$502,7,0)=0,\"\",VLOOKUP(B41,漢字書き!$A$2:$N$502,7,0)))","v":"もる"},{"$f":"IF(C41=\"\",\"\",IF(VLOOKUP(C41,漢字書き!$A$2:$N$502,7,0)=0,\"\",VLOOKUP(C41,漢字書き!$A$2:$N$502,7,0)))","v":""},{"$f":"IF(D41=\"\",\"\",IF(VLOOKUP(D41,漢字書き!$A$2:$N$502,7,0)=0,\"\",VLOOKUP(D41,漢字書き!$A$2:$N$502,7,0)))","v":"く"},{"$f":"IF(E41=\"\",\"\",IF(VLOOKUP(E41,漢字書き!$A$2:$N$502,7,0)=0,\"\",VLOOKUP(E41,漢字書き!$A$2:$N$502,7,0)))","v":""},{"$f":"IF(F41=\"\",\"\",IF(VLOOKUP(F41,漢字書き!$A$2:$N$502,7,0)=0,\"\",VLOOKUP(F41,漢字書き!$A$2:$N$502,7,0)))","v":"する"},{"$f":"IF(G41=\"\",\"\",IF(VLOOKUP(G41,漢字書き!$A$2:$N$502,7,0)=0,\"\",VLOOKUP(G41,漢字書き!$A$2:$N$502,7,0)))","v":"する"},{"$f":"IF(H41=\"\",\"\",IF(VLOOKUP(H41,漢字書き!$A$2:$N$502,7,0)=0,\"\",VLOOKUP(H41,漢字書き!$A$2:$N$502,7,0)))","v":""},{"$f":"IF(I41=\"\",\"\",IF(VLOOKUP(I41,漢字書き!$A$2:$N$502,7,0)=0,\"\",VLOOKUP(I41,漢字書き!$A$2:$N$502,7,0)))","v":""},{"$f":"IF(J41=\"\",\"\",IF(VLOOKUP(J41,漢字書き!$A$2:$N$502,7,0)=0,\"\",VLOOKUP(J41,漢字書き!$A$2:$N$502,7,0)))","v":""},{"$f":"IF(K41=\"\",\"\",IF(VLOOKUP(K41,漢字読み!$A$2:$O$502,7,0)=0,\"\",VLOOKUP(K41,漢字読み!$A$2:$O$502,7,0)))","v":"も"},{"$f":"IF(L41=\"\",\"\",IF(VLOOKUP(L41,漢字読み!$A$2:$O$502,7,0)=0,\"\",VLOOKUP(L41,漢字読み!$A$2:$O$502,7,0)))","v":""},{"$f":"IF(M41=\"\",\"\",IF(VLOOKUP(M41,漢字読み!$A$2:$O$502,7,0)=0,\"\",VLOOKUP(M41,漢字読み!$A$2:$O$502,7,0)))","v":"い話"},{"$f":"IF(N41=\"\",\"\",IF(VLOOKUP(N41,漢字読み!$A$2:$O$502,7,0)=0,\"\",VLOOKUP(N41,漢字読み!$A$2:$O$502,7,0)))","v":"り"},{"$f":"IF(O41=\"\",\"\",IF(VLOOKUP(O41,漢字読み!$A$2:$O$502,7,0)=0,\"\",VLOOKUP(O41,漢字読み!$A$2:$O$502,7,0)))","v":"する"},{"$f":"IF(P41=\"\",\"\",IF(VLOOKUP(P41,漢字読み!$A$2:$O$502,7,0)=0,\"\",VLOOKUP(P41,漢字読み!$A$2:$O$502,7,0)))","v":""},{"$f":"IF(Q41=\"\",\"\",IF(VLOOKUP(Q41,漢字読み!$A$2:$O$502,7,0)=0,\"\",VLOOKUP(Q41,漢字読み!$A$2:$O$502,7,0)))","v":"て"},{"$f":"IF(R41=\"\",\"\",IF(VLOOKUP(R41,漢字読み!$A$2:$O$502,7,0)=0,\"\",VLOOKUP(R41,漢字読み!$A$2:$O$502,7,0)))","v":"する"},{"$f":"IF(S41=\"\",\"\",IF(VLOOKUP(S41,漢字読み!$A$2:$O$502,7,0)=0,\"\",VLOOKUP(S41,漢字読み!$A$2:$O$502,7,0)))","v":""},{"$f":"IF(T41=\"\",\"\",IF(VLOOKUP(T41,漢字読み!$A$2:$O$502,7,0)=0,\"\",VLOOKUP(T41,漢字読み!$A$2:$O$502,7,0)))","v":""},null,null,"和歌山県教育委員会"]
[{"$f":"INDIRECT(\"'関数（書き）'!C\" & COLUMN(B$1)+SUM($AD$2:$AD47))","v":132},{"$f":"INDIRECT(\"'関数（書き）'!C\" & COLUMN(C$1)+SUM($AD$2:$AD47))","v":20},{"$f":"INDIRECT(\"'関数（書き）'!C\" & COLUMN(D$1)+SUM($AD$2:$AD47))","v":199},{"$f":"INDIRECT(\"'関数（書き）'!C\" & COLUMN(E$1)+SUM($AD$2:$AD47))","v":128},{"$f":"INDIRECT(\"'関数（書き）'!C\" & COLUMN(F$1)+SUM($AD$2:$AD47))","v":118},{"$f":"INDIRECT(\"'関数（書き）'!C\" & COLUMN(G$1)+SUM($AD$2:$AD47))","v":173},{"$f":"INDIRECT(\"'関数（書き）'!C\" & COLUMN(H$1)+SUM($AD$2:$AD47))","v":124},{"$f":"INDIRECT(\"'関数（書き）'!C\" & COLUMN(I$1)+SUM($AD$2:$AD47))","v":18},{"$f":"INDIRECT(\"'関数（書き）'!C\" & COLUMN(J$1)+SUM($AD$2:$AD47))","v":197},{"$f":"INDIRECT(\"'関数（書き）'!C\" & COLUMN(K$1)+SUM($AD$2:$AD47))","v":96},{"$f":"INDIRECT(\"'関数（読み）'!C\" & COLUMN(B$1)+SUM($AD$2:$AD47))","v":64},{"$f":"INDIRECT(\"'関数（読み）'!C\" & COLUMN(C$1)+SUM($AD$2:$AD47))","v":209},{"$f":"INDIRECT(\"'関数（読み）'!C\" & COLUMN(D$1)+SUM($AD$2:$AD47))","v":67},{"$f":"INDIRECT(\"'関数（読み）'!C\" & COLUMN(E$1)+SUM($AD$2:$AD47))","v":184},{"$f":"INDIRECT(\"'関数（読み）'!C\" & COLUMN(F$1)+SUM($AD$2:$AD47))","v":10},{"$f":"INDIRECT(\"'関数（読み）'!C\" & COLUMN(G$1)+SUM($AD$2:$AD47))","v":3},{"$f":"INDIRECT(\"'関数（読み）'!C\" & COLUMN(H$1)+SUM($AD$2:$AD47))","v":162},{"$f":"INDIRECT(\"'関数（読み）'!C\" & COLUMN(I$1)+SUM($AD$2:$AD47))","v":74},{"$f":"INDIRECT(\"'関数（読み）'!C\" & COLUMN(J$1)+SUM($AD$2:$AD47))","v":125},{"$f":"INDIRECT(\"'関数（読み）'!C\" & COLUMN(K$1)+SUM($AD$2:$AD47))","v":87}]
["⑳","⑲","⑱","⑰","⑯","⑮","⑭","⑬","⑫","⑪","⑩","⑨","⑧","⑦","⑥","⑤","④","③","②","①","次の［　　　　］の部分の漢字には読みがなをひらがなで書き、カタカナは漢字に直しなさい。",10,"「漢字の博士検定試験」練習問題　",null,null,null,null,null,"←",10,"問",{"$f":"AH42+1","v":51},"～",{"$f":"SUM($AD$2:$AD47)+10","v":60},"問まで",{"$f":"COUNTIF($A$1:$T$200,T48)","v":2}]
[{"$f":"IF(A46=\"\",\"\",VLOOKUP(A46,漢字書き!$A$2:$N$506,6,0))","v":"[カゴシマ]県の名物"},{"$f":"IF(B46=\"\",\"\",VLOOKUP(B46,漢字書き!$A$2:$N$506,6,0))","v":"［イチグン］の選手になる"},{"$f":"IF(C46=\"\",\"\",VLOOKUP(C46,漢字書き!$A$2:$N$506,6,0))","v":"[オキナワケン]から来る"},{"$f":"IF(D46=\"\",\"\",VLOOKUP(D46,漢字書き!$A$2:$N$506,6,0))","v":"［ショウメイ］をつける"},{"$f":"IF(E46=\"\",\"\",VLOOKUP(E46,漢字書き!$A$2:$N$506,6,0))","v":"[ショウチクバイ]"},{"$f":"IF(F46=\"\",\"\",VLOOKUP(F46,漢字書き!$A$2:$N$506,6,0))","v":"［センソウ］がおこる"},{"$f":"IF(G46=\"\",\"\",VLOOKUP(G46,漢字書き!$A$2:$N$506,6,0))","v":"[ヤ]きめしを食べる"},{"$f":"IF(H46=\"\",\"\",VLOOKUP(H46,漢字書き!$A$2:$N$506,6,0))","v":"［クンヨ］みの漢字"},{"$f":"IF(I46=\"\",\"\",VLOOKUP(I46,漢字書き!$A$2:$N$506,6,0))","v":"一[チョウ]円の予算"},{"$f":"IF(J46=\"\",\"\",VLOOKUP(J46,漢字書き!$A$2:$N$506,6,0))","v":"病気を［ナオ］す"},{"$f":"IF(K46=\"\",\"\",VLOOKUP(K46,漢字読み!$A$2:$O$506,6,0))","v":"［昨日］の天気"},{"$f":"IF(L46=\"\",\"\",VLOOKUP(L46,漢字読み!$A$2:$O$506,6,0))","v":"[一兆]円の予算"},{"$f":"IF(M46=\"\",\"\",VLOOKUP(M46,漢字読み!$A$2:$O$506,6,0))","v":"［名札］をつける"},{"$f":"IF(N46=\"\",\"\",VLOOKUP(N46,漢字読み!$A$2:$O$506,6,0))","v":"［右側］に立つ"},{"$f":"IF(O46=\"\",\"\",VLOOKUP(O46,漢字読み!$A$2:$O$506,6,0))","v":"［共］に歌おう"},{"$f":"IF(P46=\"\",\"\",VLOOKUP(P46,漢字読み!$A$2:$O$506,6,0))","v":"［選挙］を行う"},{"$f":"IF(Q46=\"\",\"\",VLOOKUP(Q46,漢字読み!$A$2:$O$506,6,0))","v":"子どもに［説教］する"},{"$f":"IF(R46=\"\",\"\",VLOOKUP(R46,漢字読み!$A$2:$O$506,6,0))","v":"けい［察官］になる"},{"$f":"IF(S46=\"\",\"\",VLOOKUP(S46,漢字読み!$A$2:$O$506,6,0))","v":"全員で［唱和］する"},{"$f":"IF(T46=\"\",\"\",VLOOKUP(T46,漢字読み!$A$2:$O$506,6,0))","v":"［氏名］を書く"},null,"級"]
[null,null,null,null,null,null,null,null,null,null,null,null,null,null,null,null,null,null,null,null,null,"名前"]
[{"$f":"IF(A46=\"\",\"\",IF(VLOOKUP(A46,漢字書き!$A$2:$N$502,7,0)=0,\"\",VLOOKUP(A46,漢字書き!$A$2:$N$502,7,0)))","v":"県"},{"$f":"IF(B46=\"\",\"\",IF(VLOOKUP(B46,漢字書き!$A$2:$N$502,7,0)=0,\"\",VLOOKUP(B46,漢字書き!$A$2:$N$502,7,0)))","v":""},{"$f":"IF(C46=\"\",\"\",IF(VLOOKUP(C46,漢字書き!$A$2:$N$502,7,0)=0,\"\",VLOOKUP(C46,漢字書き!$A$2:$N$502,7,0)))","v":""},{"$f":"IF(D46=\"\",\"\",IF(VLOOKUP(D46,漢字書き!$A$2:$N$502,7,0)=0,\"\",VLOOKUP(D46,漢字書き!$A$2:$N$502,7,0)))","v":""},{"$f":"IF(E46=\"\",\"\",IF(VLOOKUP(E46,漢字書き!$A$2:$N$502,7,0)=0,\"\",VLOOKUP(E46,漢字書き!$A$2:$N$502,7,0)))","v":""},{"$f":"IF(F46=\"\",\"\",IF(VLOOKUP(F46,漢字書き!$A$2:$N$502,7,0)=0,\"\",VLOOKUP(F46,漢字書き!$A$2:$N$502,7,0)))","v":""},{"$f":"IF(G46=\"\",\"\",IF(VLOOKUP(G46,漢字書き!$A$2:$N$502,7,0)=0,\"\",VLOOKUP(G46,漢字書き!$A$2:$N$502,7,0)))","v":"きめし"},{"$f":"IF(H46=\"\",\"\",IF(VLOOKUP(H46,漢字書き!$A$2:$N$502,7,0)=0,\"\",VLOOKUP(H46,漢字書き!$A$2:$N$502,7,0)))","v":"み"},{"$f":"IF(I46=\"\",\"\",IF(VLOOKUP(I46,漢字書き!$A$2:$N$502,7,0)=0,\"\",VLOOKUP(I46,漢字書き!$A$2:$N$502,7,0)))","v":"円"},{"$f":"IF(J46=\"\",\"\",IF(VLOOKUP(J46,漢字書き!$A$2:$N$502,7,0)=0,\"\",VLOOKUP(J46,漢字書き!$A$2:$N$502,7,0)))","v":"す"},{"$f":"IF(K46=\"\",\"\",IF(VLOOKUP(K46,漢字読み!$A$2:$O$502,7,0)=0,\"\",VLOOKUP(K46,漢字読み!$A$2:$O$502,7,0)))","v":""},{"$f":"IF(L46=\"\",\"\",IF(VLOOKUP(L46,漢字読み!$A$2:$O$502,7,0)=0,\"\",VLOOKUP(L46,漢字読み!$A$2:$O$502,7,0)))","v":"円"},{"$f":"IF(M46=\"\",\"\",IF(VLOOKUP(M46,漢字読み!$A$2:$O$502,7,0)=0,\"\",VLOOKUP(M46,漢字読み!$A$2:$O$502,7,0)))","v":""},{"$f":"IF(N46=\"\",\"\",IF(VLOOKUP(N46,漢字読み!$A$2:$O$502,7,0)=0,\"\",VLOOKUP(N46,漢字読み!$A$2:$O$502,7,0)))","v":""},{"$f":"IF(O46=\"\",\"\",IF(VLOOKUP(O46,漢字読み!$A$2:$O$502,7,0)=0,\"\",VLOOKUP(O46,漢字読み!$A$2:$O$502,7,0)))","v":""},{"$f":"IF(P46=\"\",\"\",IF(VLOOKUP(P46,漢字読み!$A$2:$O$502,7,0)=0,\"\",VLOOKUP(P46,漢字読み!$A$2:$O$502,7,0)))","v":""},{"$f":"IF(Q46=\"\",\"\",IF(VLOOKUP(Q46,漢字読み!$A$2:$O$502,7,0)=0,\"\",VLOOKUP(Q46,漢字読み!$A$2:$O$502,7,0)))","v":"する"},{"$f":"IF(R46=\"\",\"\",IF(VLOOKUP(R46,漢字読み!$A$2:$O$502,7,0)=0,\"\",VLOOKUP(R46,漢字読み!$A$2:$O$502,7,0)))","v":""},{"$f":"IF(S46=\"\",\"\",IF(VLOOKUP(S46,漢字読み!$A$2:$O$502,7,0)=0,\"\",VLOOKUP(S46,漢字読み!$A$2:$O$502,7,0)))","v":"する"},{"$f":"IF(T46=\"\",\"\",IF(VLOOKUP(T46,漢字読み!$A$2:$O$502,7,0)=0,\"\",VLOOKUP(T46,漢字読み!$A$2:$O$502,7,0)))","v":""},null,null,"和歌山県教育委員会"]
[{"$f":"A41","v":59},153,99,142,39,78,73,112,74,62,62,59,121,85,145,147,219,32,211,12]
["⑳","⑲","⑱","⑰","⑯","⑮","⑭","⑬","⑫","⑪","⑩","⑨","⑧","⑦","⑥","⑤","④","③","②","①","次の［　　　　］の部分の漢字には読みがなをひらがなで書き、カタカナは漢字に直しなさい。",10,"「漢字の博士検定試験」練習問題　"]
[{"$f":"IF(A51=\"\",\"\",VLOOKUP(A51,漢字書き!$A$2:$N$506,6,0))","v":"［サイコウ］にうれしい"},{"$f":"IF(B51=\"\",\"\",VLOOKUP(B51,漢字書き!$A$2:$N$506,6,0))","v":"雪が［ツ］もる"},{"$f":"IF(C51=\"\",\"\",VLOOKUP(C51,漢字書き!$A$2:$N$506,6,0))","v":"[シュクジ]をのべる"},{"$f":"IF(D51=\"\",\"\",VLOOKUP(D51,漢字書き!$A$2:$N$506,6,0))","v":"いらない部分を［ハブ］く"},{"$f":"IF(E51=\"\",\"\",VLOOKUP(E51,漢字書き!$A$2:$N$506,6,0))","v":"おそろしい[タイケン]"},{"$f":"IF(F51=\"\",\"\",VLOOKUP(F51,漢字書き!$A$2:$N$506,6,0))","v":"公園を［サンポ］する"},{"$f":"IF(G51=\"\",\"\",VLOOKUP(G51,漢字書き!$A$2:$N$506,6,0))","v":"イベントに［サンカ］する"},{"$f":"IF(H51=\"\",\"\",VLOOKUP(H51,漢字書き!$A$2:$N$506,6,0))","v":"［サイショ］が大切だ"},{"$f":"IF(I51=\"\",\"\",VLOOKUP(I51,漢字書き!$A$2:$N$506,6,0))","v":"［サンギョウ］が栄える"},{"$f":"IF(J51=\"\",\"\",VLOOKUP(J51,漢字書き!$A$2:$N$506,6,0))","v":"［キノウ］の出来事"},{"$f":"IF(K51=\"\",\"\",VLOOKUP(K51,漢字読み!$A$2:$O$506,6,0))","v":"［最］も高い山"},{"$f":"IF(L51=\"\",\"\",VLOOKUP(L51,漢字読み!$A$2:$O$506,6,0))","v":"［野菜］を育てる"},{"$f":"IF(M51=\"\",\"\",VLOOKUP(M51,漢字読み!$A$2:$O$506,6,0))","v":"[笑]い話を聞く"},{"$f":"IF(N51=\"\",\"\",VLOOKUP(N51,漢字読み!$A$2:$O$506,6,0))","v":"［残］りの絵を仕上げる"},{"$f":"IF(O51=\"\",\"\",VLOOKUP(O51,漢字読み!$A$2:$O$506,6,0))","v":"［反省］する"},{"$f":"IF(P51=\"\",\"\",VLOOKUP(P51,漢字読み!$A$2:$O$506,6,0))","v":"川の［清流］"},{"$f":"IF(Q51=\"\",\"\",VLOOKUP(Q51,漢字読み!$A$2:$O$506,6,0))","v":"［的当］てをして遊ぶ"},{"$f":"IF(R51=\"\",\"\",VLOOKUP(R51,漢字読み!$A$2:$O$506,6,0))","v":"じゅ業を［欠席］する"},{"$f":"IF(S51=\"\",\"\",VLOOKUP(S51,漢字読み!$A$2:$O$506,6,0))","v":"［低音］の声"},{"$f":"IF(T51=\"\",\"\",VLOOKUP(T51,漢字読み!$A$2:$O$506,6,0))","v":"体育［協会］に入る"},null,"級"]
[{"$f":"IF(A$11=\"\",\"\",VLOOKUP(A51,漢字書き!$A$2:$O$506,8,0))","v":"最高"},{"$f":"IF(B$11=\"\",\"\",VLOOKUP(B51,漢字書き!$A$2:$O$506,8,0))","v":"積"},{"$f":"IF(C$11=\"\",\"\",VLOOKUP(C51,漢字書き!$A$2:$O$506,8,0))","v":"食事"},{"$f":"IF(D$11=\"\",\"\",VLOOKUP(D51,漢字書き!$A$2:$O$506,8,0))","v":"省"},{"$f":"IF(E$11=\"\",\"\",VLOOKUP(E51,漢字書き!$A$2:$O$506,8,0))","v":"体験"},{"$f":"IF(F$11=\"\",\"\",VLOOKUP(F51,漢字書き!$A$2:$O$506,8,0))","v":"散歩"},{"$f":"IF(G$11=\"\",\"\",VLOOKUP(G51,漢字書き!$A$2:$O$506,8,0))","v":"参加"},{"$f":"IF(H$11=\"\",\"\",VLOOKUP(H51,漢字書き!$A$2:$O$506,8,0))","v":"最初"},{"$f":"IF(I$11=\"\",\"\",VLOOKUP(I51,漢字書き!$A$2:$O$506,8,0))","v":"産業"},{"$f":"IF(J$11=\"\",\"\",VLOOKUP(J51,漢字書き!$A$2:$O$506,8,0))","v":"昨日"},{"$f":"IF(K$11=\"\",\"\",VLOOKUP(K51,漢字読み!$A$2:$O$506,8,0))","v":"もっと"},{"$f":"IF(L$11=\"\",\"\",VLOOKUP(L51,漢字読み!$A$2:$O$506,8,0))","v":"やさい"},{"$f":"IF(M$11=\"\",\"\",VLOOKUP(M51,漢字読み!$A$2:$O$506,8,0))","v":"わら"},{"$f":"IF(N$11=\"\",\"\",VLOOKUP(N51,漢字読み!$A$2:$O$506,8,0))","v":"のこ"},{"$f":"IF(O$11=\"\",\"\",VLOOKUP(O51,漢字読み!$A$2:$O$506,8,0))","v":"はんせい"},{"$f":"IF(P$11=\"\",\"\",VLOOKUP(P51,漢字読み!$A$2:$O$506,8,0))","v":"せいりゅう"},{"$f":"IF(Q$11=\"\",\"\",VLOOKUP(Q51,漢字読み!$A$2:$O$506,8,0))","v":"まとあ"},{"$f":"IF(R$11=\"\",\"\",VLOOKUP(R51,漢字読み!$A$2:$O$506,8,0))","v":"けっせき"},{"$f":"IF(S$11=\"\",\"\",VLOOKUP(S51,漢字読み!$A$2:$O$506,8,0))","v":"ていおん"},{"$f":"IF(T$11=\"\",\"\",VLOOKUP(T51,漢字読み!$A$2:$O$506,8,0))","v":"きょうかい"},null,"名前"]
[{"$f":"IF(A51=\"\",\"\",IF(VLOOKUP(A51,漢字書き!$A$2:$N$502,7,0)=0,\"\",VLOOKUP(A51,漢字書き!$A$2:$N$502,7,0)))","v":"に"},{"$f":"IF(B51=\"\",\"\",IF(VLOOKUP(B51,漢字書き!$A$2:$N$502,7,0)=0,\"\",VLOOKUP(B51,漢字書き!$A$2:$N$502,7,0)))","v":"もる"},{"$f":"IF(C51=\"\",\"\",IF(VLOOKUP(C51,漢字書き!$A$2:$N$502,7,0)=0,\"\",VLOOKUP(C51,漢字書き!$A$2:$N$502,7,0)))","v":""},{"$f":"IF(D51=\"\",\"\",IF(VLOOKUP(D51,漢字書き!$A$2:$N$502,7,0)=0,\"\",VLOOKUP(D51,漢字書き!$A$2:$N$502,7,0)))","v":"く"},{"$f":"IF(E51=\"\",\"\",IF(VLOOKUP(E51,漢字書き!$A$2:$N$502,7,0)=0,\"\",VLOOKUP(E51,漢字書き!$A$2:$N$502,7,0)))","v":""},{"$f":"IF(F51=\"\",\"\",IF(VLOOKUP(F51,漢字書き!$A$2:$N$502,7,0)=0,\"\",VLOOKUP(F51,漢字書き!$A$2:$N$502,7,0)))","v":"する"},{"$f":"IF(G51=\"\",\"\",IF(VLOOKUP(G51,漢字書き!$A$2:$N$502,7,0)=0,\"\",VLOOKUP(G51,漢字書き!$A$2:$N$502,7,0)))","v":"する"},{"$f":"IF(H51=\"\",\"\",IF(VLOOKUP(H51,漢字書き!$A$2:$N$502,7,0)=0,\"\",VLOOKUP(H51,漢字書き!$A$2:$N$502,7,0)))","v":""},{"$f":"IF(I51=\"\",\"\",IF(VLOOKUP(I51,漢字書き!$A$2:$N$502,7,0)=0,\"\",VLOOKUP(I51,漢字書き!$A$2:$N$502,7,0)))","v":""},{"$f":"IF(J51=\"\",\"\",IF(VLOOKUP(J51,漢字書き!$A$2:$N$502,7,0)=0,\"\",VLOOKUP(J51,漢字書き!$A$2:$N$502,7,0)))","v":""},{"$f":"IF(K51=\"\",\"\",IF(VLOOKUP(K51,漢字読み!$A$2:$O$502,7,0)=0,\"\",VLOOKUP(K51,漢字読み!$A$2:$O$502,7,0)))","v":"も"},{"$f":"IF(L51=\"\",\"\",IF(VLOOKUP(L51,漢字読み!$A$2:$O$502,7,0)=0,\"\",VLOOKUP(L51,漢字読み!$A$2:$O$502,7,0)))","v":""},{"$f":"IF(M51=\"\",\"\",IF(VLOOKUP(M51,漢字読み!$A$2:$O$502,7,0)=0,\"\",VLOOKUP(M51,漢字読み!$A$2:$O$502,7,0)))","v":"い話"},{"$f":"IF(N51=\"\",\"\",IF(VLOOKUP(N51,漢字読み!$A$2:$O$502,7,0)=0,\"\",VLOOKUP(N51,漢字読み!$A$2:$O$502,7,0)))","v":"り"},{"$f":"IF(O51=\"\",\"\",IF(VLOOKUP(O51,漢字読み!$A$2:$O$502,7,0)=0,\"\",VLOOKUP(O51,漢字読み!$A$2:$O$502,7,0)))","v":"する"},{"$f":"IF(P51=\"\",\"\",IF(VLOOKUP(P51,漢字読み!$A$2:$O$502,7,0)=0,\"\",VLOOKUP(P51,漢字読み!$A$2:$O$502,7,0)))","v":""},{"$f":"IF(Q51=\"\",\"\",IF(VLOOKUP(Q51,漢字読み!$A$2:$O$502,7,0)=0,\"\",VLOOKUP(Q51,漢字読み!$A$2:$O$502,7,0)))","v":"て"},{"$f":"IF(R51=\"\",\"\",IF(VLOOKUP(R51,漢字読み!$A$2:$O$502,7,0)=0,\"\",VLOOKUP(R51,漢字読み!$A$2:$O$502,7,0)))","v":"する"},{"$f":"IF(S51=\"\",\"\",IF(VLOOKUP(S51,漢字読み!$A$2:$O$502,7,0)=0,\"\",VLOOKUP(S51,漢字読み!$A$2:$O$502,7,0)))","v":""},{"$f":"IF(T51=\"\",\"\",IF(VLOOKUP(T51,漢字読み!$A$2:$O$502,7,0)=0,\"\",VLOOKUP(T51,漢字読み!$A$2:$O$502,7,0)))","v":""},null,null,"和歌山県教育委員会"]
[{"$f":"A46","v":132},20,199,128,118,173,124,18,197,96,64,209,67,184,10,3,162,74,125,87]
["⑳","⑲","⑱","⑰","⑯","⑮","⑭","⑬","⑫","⑪","⑩","⑨","⑧","⑦","⑥","⑤","④","③","②","①","次の［　　　　］の部分の漢字には読みがなをひらがなで書き、カタカナは漢字に直しなさい。",10,"「漢字の博士検定試験」練習問題　"]
[{"$f":"IF(A56=\"\",\"\",VLOOKUP(A56,漢字書き!$A$2:$N$506,6,0))","v":"[カゴシマ]県の名物"},{"$f":"IF(B56=\"\",\"\",VLOOKUP(B56,漢字書き!$A$2:$N$506,6,0))","v":"［イチグン］の選手になる"},{"$f":"IF(C56=\"\",\"\",VLOOKUP(C56,漢字書き!$A$2:$N$506,6,0))","v":"[オキナワケン]から来る"},{"$f":"IF(D56=\"\",\"\",VLOOKUP(D56,漢字書き!$A$2:$N$506,6,0))","v":"［ショウメイ］をつける"},{"$f":"IF(E56=\"\",\"\",VLOOKUP(E56,漢字書き!$A$2:$N$506,6,0))","v":"[ショウチクバイ]"},{"$f":"IF(F56=\"\",\"\",VLOOKUP(F56,漢字書き!$A$2:$N$506,6,0))","v":"［センソウ］がおこる"},{"$f":"IF(G56=\"\",\"\",VLOOKUP(G56,漢字書き!$A$2:$N$506,6,0))","v":"[ヤ]きめしを食べる"},{"$f":"IF(H56=\"\",\"\",VLOOKUP(H56,漢字書き!$A$2:$N$506,6,0))","v":"［クンヨ］みの漢字"},{"$f":"IF(I56=\"\",\"\",VLOOKUP(I56,漢字書き!$A$2:$N$506,6,0))","v":"一[チョウ]円の予算"},{"$f":"IF(J56=\"\",\"\",VLOOKUP(J56,漢字書き!$A$2:$N$506,6,0))","v":"病気を［ナオ］す"},{"$f":"IF(K56=\"\",\"\",VLOOKUP(K56,漢字読み!$A$2:$O$506,6,0))","v":"［昨日］の天気"},{"$f":"IF(L56=\"\",\"\",VLOOKUP(L56,漢字読み!$A$2:$O$506,6,0))","v":"[一兆]円の予算"},{"$f":"IF(M56=\"\",\"\",VLOOKUP(M56,漢字読み!$A$2:$O$506,6,0))","v":"［名札］をつける"},{"$f":"IF(N56=\"\",\"\",VLOOKUP(N56,漢字読み!$A$2:$O$506,6,0))","v":"［右側］に立つ"},{"$f":"IF(O56=\"\",\"\",VLOOKUP(O56,漢字読み!$A$2:$O$506,6,0))","v":"［共］に歌おう"},{"$f":"IF(P56=\"\",\"\",VLOOKUP(P56,漢字読み!$A$2:$O$506,6,0))","v":"［選挙］を行う"},{"$f":"IF(Q56=\"\",\"\",VLOOKUP(Q56,漢字読み!$A$2:$O$506,6,0))","v":"子どもに［説教］する"},{"$f":"IF(R56=\"\",\"\",VLOOKUP(R56,漢字読み!$A$2:$O$506,6,0))","v":"けい［察官］になる"},{"$f":"IF(S56=\"\",\"\",VLOOKUP(S56,漢字読み!$A$2:$O$506,6,0))","v":"全員で［唱和］する"},{"$f":"IF(T56=\"\",\"\",VLOOKUP(T56,漢字読み!$A$2:$O$506,6,0))","v":"［氏名］を書く"},null,"級"]
[{"$f":"IF(A$16=\"\",\"\",VLOOKUP(A56,漢字書き!$A$2:$O$506,8,0))","v":"鹿児島"},{"$f":"IF(B$16=\"\",\"\",VLOOKUP(B56,漢字書き!$A$2:$O$506,8,0))","v":"一軍"},{"$f":"IF(C$16=\"\",\"\",VLOOKUP(C56,漢字書き!$A$2:$O$506,8,0))","v":"沖縄県"},{"$f":"IF(D$16=\"\",\"\",VLOOKUP(D56,漢字書き!$A$2:$O$506,8,0))","v":"照明"},{"$f":"IF(E$16=\"\",\"\",VLOOKUP(E56,漢字書き!$A$2:$O$506,8,0))","v":"松竹梅"},{"$f":"IF(F$16=\"\",\"\",VLOOKUP(F56,漢字書き!$A$2:$O$506,8,0))","v":"戦争"},{"$f":"IF(G$16=\"\",\"\",VLOOKUP(G56,漢字書き!$A$2:$O$506,8,0))","v":"焼"},{"$f":"IF(H$16=\"\",\"\",VLOOKUP(H56,漢字書き!$A$2:$O$506,8,0))","v":"訓読"},{"$f":"IF(I$16=\"\",\"\",VLOOKUP(I56,漢字書き!$A$2:$O$506,8,0))","v":"兆"},{"$f":"IF(J$16=\"\",\"\",VLOOKUP(J56,漢字書き!$A$2:$O$506,8,0))","v":"治"},{"$f":"IF(K$16=\"\",\"\",VLOOKUP(K56,漢字読み!$A$2:$O$506,8,0))","v":"さくじつ・きのう"},{"$f":"IF(L$16=\"\",\"\",VLOOKUP(L56,漢字読み!$A$2:$O$506,8,0))","v":"いっちょう"},{"$f":"IF(M$16=\"\",\"\",VLOOKUP(M56,漢字読み!$A$2:$O$506,8,0))","v":"なふだ"},{"$f":"IF(N$16=\"\",\"\",VLOOKUP(N56,漢字読み!$A$2:$O$506,8,0))","v":"みぎがわ"},{"$f":"IF(O$16=\"\",\"\",VLOOKUP(O56,漢字読み!$A$2:$O$506,8,0))","v":"とも"},{"$f":"IF(P$16=\"\",\"\",VLOOKUP(P56,漢字読み!$A$2:$O$506,8,0))","v":"せんきょ"},{"$f":"IF(Q$16=\"\",\"\",VLOOKUP(Q56,漢字読み!$A$2:$O$506,8,0))","v":"せっきょう"},{"$f":"IF(R$16=\"\",\"\",VLOOKUP(R56,漢字読み!$A$2:$O$506,8,0))","v":"さつかん"},{"$f":"IF(S$16=\"\",\"\",VLOOKUP(S56,漢字読み!$A$2:$O$506,8,0))","v":"しょうわ"},{"$f":"IF(T$16=\"\",\"\",VLOOKUP(T56,漢字読み!$A$2:$O$506,8,0))","v":"しめい"},null,"名前"]
[{"$f":"IF(A56=\"\",\"\",IF(VLOOKUP(A56,漢字書き!$A$2:$N$502,7,0)=0,\"\",VLOOKUP(A56,漢字書き!$A$2:$N$502,7,0)))","v":"県"},{"$f":"IF(B56=\"\",\"\",IF(VLOOKUP(B56,漢字書き!$A$2:$N$502,7,0)=0,\"\",VLOOKUP(B56,漢字書き!$A$2:$N$502,7,0)))","v":""},{"$f":"IF(C56=\"\",\"\",IF(VLOOKUP(C56,漢字書き!$A$2:$N$502,7,0)=0,\"\",VLOOKUP(C56,漢字書き!$A$2:$N$502,7,0)))","v":""},{"$f":"IF(D56=\"\",\"\",IF(VLOOKUP(D56,漢字書き!$A$2:$N$502,7,0)=0,\"\",VLOOKUP(D56,漢字書き!$A$2:$N$502,7,0)))","v":""},{"$f":"IF(E56=\"\",\"\",IF(VLOOKUP(E56,漢字書き!$A$2:$N$502,7,0)=0,\"\",VLOOKUP(E56,漢字書き!$A$2:$N$502,7,0)))","v":""},{"$f":"IF(F56=\"\",\"\",IF(VLOOKUP(F56,漢字書き!$A$2:$N$502,7,0)=0,\"\",VLOOKUP(F56,漢字書き!$A$2:$N$502,7,0)))","v":""},{"$f":"IF(G56=\"\",\"\",IF(VLOOKUP(G56,漢字書き!$A$2:$N$502,7,0)=0,\"\",VLOOKUP(G56,漢字書き!$A$2:$N$502,7,0)))","v":"きめし"},{"$f":"IF(H56=\"\",\"\",IF(VLOOKUP(H56,漢字書き!$A$2:$N$502,7,0)=0,\"\",VLOOKUP(H56,漢字書き!$A$2:$N$502,7,0)))","v":"み"},{"$f":"IF(I56=\"\",\"\",IF(VLOOKUP(I56,漢字書き!$A$2:$N$502,7,0)=0,\"\",VLOOKUP(I56,漢字書き!$A$2:$N$502,7,0)))","v":"円"},{"$f":"IF(J56=\"\",\"\",IF(VLOOKUP(J56,漢字書き!$A$2:$N$502,7,0)=0,\"\",VLOOKUP(J56,漢字書き!$A$2:$N$502,7,0)))","v":"す"},{"$f":"IF(K56=\"\",\"\",IF(VLOOKUP(K56,漢字読み!$A$2:$O$502,7,0)=0,\"\",VLOOKUP(K56,漢字読み!$A$2:$O$502,7,0)))","v":""},{"$f":"IF(L56=\"\",\"\",IF(VLOOKUP(L56,漢字読み!$A$2:$O$502,7,0)=0,\"\",VLOOKUP(L56,漢字読み!$A$2:$O$502,7,0)))","v":"円"},{"$f":"IF(M56=\"\",\"\",IF(VLOOKUP(M56,漢字読み!$A$2:$O$502,7,0)=0,\"\",VLOOKUP(M56,漢字読み!$A$2:$O$502,7,0)))","v":""},{"$f":"IF(N56=\"\",\"\",IF(VLOOKUP(N56,漢字読み!$A$2:$O$502,7,0)=0,\"\",VLOOKUP(N56,漢字読み!$A$2:$O$502,7,0)))","v":""},{"$f":"IF(O56=\"\",\"\",IF(VLOOKUP(O56,漢字読み!$A$2:$O$502,7,0)=0,\"\",VLOOKUP(O56,漢字読み!$A$2:$O$502,7,0)))","v":""},{"$f":"IF(P56=\"\",\"\",IF(VLOOKUP(P56,漢字読み!$A$2:$O$502,7,0)=0,\"\",VLOOKUP(P56,漢字読み!$A$2:$O$502,7,0)))","v":""},{"$f":"IF(Q56=\"\",\"\",IF(VLOOKUP(Q56,漢字読み!$A$2:$O$502,7,0)=0,\"\",VLOOKUP(Q56,漢字読み!$A$2:$O$502,7,0)))","v":"する"},{"$f":"IF(R56=\"\",\"\",IF(VLOOKUP(R56,漢字読み!$A$2:$O$502,7,0)=0,\"\",VLOOKUP(R56,漢字読み!$A$2:$O$502,7,0)))","v":""},{"$f":"IF(S56=\"\",\"\",IF(VLOOKUP(S56,漢字読み!$A$2:$O$502,7,0)=0,\"\",VLOOKUP(S56,漢字読み!$A$2:$O$502,7,0)))","v":"する"},{"$f":"IF(T56=\"\",\"\",IF(VLOOKUP(T56,漢字読み!$A$2:$O$502,7,0)=0,\"\",VLOOKUP(T56,漢字読み!$A$2:$O$502,7,0)))","v":""},null,null,"和歌山県教育委員会"]
[{"$f":"INDIRECT(\"'関数（書き）'!C\" & COLUMN(B$1)+SUM($AD$2:$AD62))","v":68},{"$f":"INDIRECT(\"'関数（書き）'!C\" & COLUMN(C$1)+SUM($AD$2:$AD62))","v":135},{"$f":"INDIRECT(\"'関数（書き）'!C\" & COLUMN(D$1)+SUM($AD$2:$AD62))","v":45},{"$f":"INDIRECT(\"'関数（書き）'!C\" & COLUMN(E$1)+SUM($AD$2:$AD62))","v":14},{"$f":"INDIRECT(\"'関数（書き）'!C\" & COLUMN(F$1)+SUM($AD$2:$AD62))","v":11},{"$f":"INDIRECT(\"'関数（書き）'!C\" & COLUMN(G$1)+SUM($AD$2:$AD62))","v":134},{"$f":"INDIRECT(\"'関数（書き）'!C\" & COLUMN(H$1)+SUM($AD$2:$AD62))","v":140},{"$f":"INDIRECT(\"'関数（書き）'!C\" & COLUMN(I$1)+SUM($AD$2:$AD62))","v":204},{"$f":"INDIRECT(\"'関数（書き）'!C\" & COLUMN(J$1)+SUM($AD$2:$AD62))","v":152},{"$f":"INDIRECT(\"'関数（書き）'!C\" & COLUMN(K$1)+SUM($AD$2:$AD62))","v":167},{"$f":"INDIRECT(\"'関数（読み）'!C\" & COLUMN(B$1)+SUM($AD$2:$AD62))","v":78},{"$f":"INDIRECT(\"'関数（読み）'!C\" & COLUMN(C$1)+SUM($AD$2:$AD62))","v":154},{"$f":"INDIRECT(\"'関数（読み）'!C\" & COLUMN(D$1)+SUM($AD$2:$AD62))","v":156},{"$f":"INDIRECT(\"'関数（読み）'!C\" & COLUMN(E$1)+SUM($AD$2:$AD62))","v":55},{"$f":"INDIRECT(\"'関数（読み）'!C\" & COLUMN(F$1)+SUM($AD$2:$AD62))","v":122},{"$f":"INDIRECT(\"'関数（読み）'!C\" & COLUMN(G$1)+SUM($AD$2:$AD62))","v":7},{"$f":"INDIRECT(\"'関数（読み）'!C\" & COLUMN(H$1)+SUM($AD$2:$AD62))","v":200},{"$f":"INDIRECT(\"'関数（読み）'!C\" & COLUMN(I$1)+SUM($AD$2:$AD62))","v":139},{"$f":"INDIRECT(\"'関数（読み）'!C\" & COLUMN(J$1)+SUM($AD$2:$AD62))","v":119},{"$f":"INDIRECT(\"'関数（読み）'!C\" & COLUMN(K$1)+SUM($AD$2:$AD62))","v":100}]
["⑳","⑲","⑱","⑰","⑯","⑮","⑭","⑬","⑫","⑪","⑩","⑨","⑧","⑦","⑥","⑤","④","③","②","①","次の［　　　　］の部分の漢字には読みがなをひらがなで書き、カタカナは漢字に直しなさい。",10,"「漢字の博士検定試験」練習問題　",null,null,null,null,null,"←",10,"問",{"$f":"AH47+1","v":61},"～",{"$f":"SUM($AD$2:$AD62)+10","v":70},"問まで",{"$f":"COUNTIF($A$1:$T$200,T63)","v":2}]
[{"$f":"IF(A61=\"\",\"\",VLOOKUP(A61,漢字書き!$A$2:$N$506,6,0))","v":"［カガワケン］のうどん"},{"$f":"IF(B61=\"\",\"\",VLOOKUP(B61,漢字書き!$A$2:$N$506,6,0))","v":"［ジシン］をもってやる"},{"$f":"IF(C61=\"\",\"\",VLOOKUP(C61,漢字書き!$A$2:$N$506,6,0))","v":"［セイコウ］をおさめる"},{"$f":"IF(D61=\"\",\"\",VLOOKUP(D61,漢字書き!$A$2:$N$506,6,0))","v":"わざを［キソ］う"},{"$f":"IF(E61=\"\",\"\",VLOOKUP(E61,漢字書き!$A$2:$N$506,6,0))","v":"［カガミ］をみがく"},{"$f":"IF(F61=\"\",\"\",VLOOKUP(F61,漢字書き!$A$2:$N$506,6,0))","v":"人を［シン］じる"},{"$f":"IF(G61=\"\",\"\",VLOOKUP(G61,漢字書き!$A$2:$N$506,6,0))","v":"以下、［ショウ］りゃく"},{"$f":"IF(H61=\"\",\"\",VLOOKUP(H61,漢字書き!$A$2:$N$506,6,0))","v":"[グンマケン]の名物"},{"$f":"IF(I61=\"\",\"\",VLOOKUP(I61,漢字書き!$A$2:$N$506,6,0))","v":"図形の［メンセキ］"},{"$f":"IF(J61=\"\",\"\",VLOOKUP(J61,漢字書き!$A$2:$N$506,6,0))","v":"てきと［タタカ］う"},{"$f":"IF(K61=\"\",\"\",VLOOKUP(K61,漢字読み!$A$2:$O$506,6,0))","v":"さかんな地場[産業]"},{"$f":"IF(L61=\"\",\"\",VLOOKUP(L61,漢字読み!$A$2:$O$506,6,0))","v":"はこを［積］む"},{"$f":"IF(M61=\"\",\"\",VLOOKUP(M61,漢字読み!$A$2:$O$506,6,0))","v":"木を［折］る"},{"$f":"IF(N61=\"\",\"\",VLOOKUP(N61,漢字読み!$A$2:$O$506,6,0))","v":"［宮崎県］のマンゴー"},{"$f":"IF(O61=\"\",\"\",VLOOKUP(O61,漢字読み!$A$2:$O$506,6,0))","v":"子どもの［笑］い声"},{"$f":"IF(P61=\"\",\"\",VLOOKUP(P61,漢字読み!$A$2:$O$506,6,0))","v":"今日は［大漁］だ"},{"$f":"IF(Q61=\"\",\"\",VLOOKUP(Q61,漢字読み!$A$2:$O$506,6,0))","v":"［単］じゅんな考え"},{"$f":"IF(R61=\"\",\"\",VLOOKUP(R61,漢字読み!$A$2:$O$506,6,0))","v":"［自信］がつく"},{"$f":"IF(S61=\"\",\"\",VLOOKUP(S61,漢字読み!$A$2:$O$506,6,0))","v":"夏の[初]め"},{"$f":"IF(T61=\"\",\"\",VLOOKUP(T61,漢字読み!$A$2:$O$506,6,0))","v":"きずが［治］る"},null,"級"]
[null,null,null,null,null,null,null,null,null,null,null,null,null,null,null,null,null,null,null,null,null,"名前"]
[{"$f":"IF(A61=\"\",\"\",IF(VLOOKUP(A61,漢字書き!$A$2:$N$502,7,0)=0,\"\",VLOOKUP(A61,漢字書き!$A$2:$N$502,7,0)))","v":""},{"$f":"IF(B61=\"\",\"\",IF(VLOOKUP(B61,漢字書き!$A$2:$N$502,7,0)=0,\"\",VLOOKUP(B61,漢字書き!$A$2:$N$502,7,0)))","v":""},{"$f":"IF(C61=\"\",\"\",IF(VLOOKUP(C61,漢字書き!$A$2:$N$502,7,0)=0,\"\",VLOOKUP(C61,漢字書き!$A$2:$N$502,7,0)))","v":""},{"$f":"IF(D61=\"\",\"\",IF(VLOOKUP(D61,漢字書き!$A$2:$N$502,7,0)=0,\"\",VLOOKUP(D61,漢字書き!$A$2:$N$502,7,0)))","v":"う"},{"$f":"IF(E61=\"\",\"\",IF(VLOOKUP(E61,漢字書き!$A$2:$N$502,7,0)=0,\"\",VLOOKUP(E61,漢字書き!$A$2:$N$502,7,0)))","v":""},{"$f":"IF(F61=\"\",\"\",IF(VLOOKUP(F61,漢字書き!$A$2:$N$502,7,0)=0,\"\",VLOOKUP(F61,漢字書き!$A$2:$N$502,7,0)))","v":"じる"},{"$f":"IF(G61=\"\",\"\",IF(VLOOKUP(G61,漢字書き!$A$2:$N$502,7,0)=0,\"\",VLOOKUP(G61,漢字書き!$A$2:$N$502,7,0)))","v":"りゃく"},{"$f":"IF(H61=\"\",\"\",IF(VLOOKUP(H61,漢字書き!$A$2:$N$502,7,0)=0,\"\",VLOOKUP(H61,漢字書き!$A$2:$N$502,7,0)))","v":""},{"$f":"IF(I61=\"\",\"\",IF(VLOOKUP(I61,漢字書き!$A$2:$N$502,7,0)=0,\"\",VLOOKUP(I61,漢字書き!$A$2:$N$502,7,0)))","v":""},{"$f":"IF(J61=\"\",\"\",IF(VLOOKUP(J61,漢字書き!$A$2:$N$502,7,0)=0,\"\",VLOOKUP(J61,漢字書き!$A$2:$N$502,7,0)))","v":"う"},{"$f":"IF(K61=\"\",\"\",IF(VLOOKUP(K61,漢字読み!$A$2:$O$502,7,0)=0,\"\",VLOOKUP(K61,漢字読み!$A$2:$O$502,7,0)))","v":""},{"$f":"IF(L61=\"\",\"\",IF(VLOOKUP(L61,漢字読み!$A$2:$O$502,7,0)=0,\"\",VLOOKUP(L61,漢字読み!$A$2:$O$502,7,0)))","v":"む"},{"$f":"IF(M61=\"\",\"\",IF(VLOOKUP(M61,漢字読み!$A$2:$O$502,7,0)=0,\"\",VLOOKUP(M61,漢字読み!$A$2:$O$502,7,0)))","v":"る"},{"$f":"IF(N61=\"\",\"\",IF(VLOOKUP(N61,漢字読み!$A$2:$O$502,7,0)=0,\"\",VLOOKUP(N61,漢字読み!$A$2:$O$502,7,0)))","v":""},{"$f":"IF(O61=\"\",\"\",IF(VLOOKUP(O61,漢字読み!$A$2:$O$502,7,0)=0,\"\",VLOOKUP(O61,漢字読み!$A$2:$O$502,7,0)))","v":"い声"},{"$f":"IF(P61=\"\",\"\",IF(VLOOKUP(P61,漢字読み!$A$2:$O$502,7,0)=0,\"\",VLOOKUP(P61,漢字読み!$A$2:$O$502,7,0)))","v":""},{"$f":"IF(Q61=\"\",\"\",IF(VLOOKUP(Q61,漢字読み!$A$2:$O$502,7,0)=0,\"\",VLOOKUP(Q61,漢字読み!$A$2:$O$502,7,0)))","v":"じゅん"},{"$f":"IF(R61=\"\",\"\",IF(VLOOKUP(R61,漢字読み!$A$2:$O$502,7,0)=0,\"\",VLOOKUP(R61,漢字読み!$A$2:$O$502,7,0)))","v":""},{"$f":"IF(S61=\"\",\"\",IF(VLOOKUP(S61,漢字読み!$A$2:$O$502,7,0)=0,\"\",VLOOKUP(S61,漢字読み!$A$2:$O$502,7,0)))","v":"め"},{"$f":"IF(T61=\"\",\"\",IF(VLOOKUP(T61,漢字読み!$A$2:$O$502,7,0)=0,\"\",VLOOKUP(T61,漢字読み!$A$2:$O$502,7,0)))","v":"る"},null,null,"和歌山県教育委員会"]
[{"$f":"INDIRECT(\"'関数（書き）'!C\" & COLUMN(B$1)+SUM($AD$2:$AD67))","v":159},{"$f":"INDIRECT(\"'関数（書き）'!C\" & COLUMN(C$1)+SUM($AD$2:$AD67))","v":192},{"$f":"INDIRECT(\"'関数（書き）'!C\" & COLUMN(D$1)+SUM($AD$2:$AD67))","v":193},{"$f":"INDIRECT(\"'関数（書き）'!C\" & COLUMN(E$1)+SUM($AD$2:$AD67))","v":27},{"$f":"INDIRECT(\"'関数（書き）'!C\" & COLUMN(F$1)+SUM($AD$2:$AD67))","v":12},{"$f":"INDIRECT(\"'関数（書き）'!C\" & COLUMN(G$1)+SUM($AD$2:$AD67))","v":69},{"$f":"INDIRECT(\"'関数（書き）'!C\" & COLUMN(H$1)+SUM($AD$2:$AD67))","v":26},{"$f":"INDIRECT(\"'関数（書き）'!C\" & COLUMN(I$1)+SUM($AD$2:$AD67))","v":194},{"$f":"INDIRECT(\"'関数（書き）'!C\" & COLUMN(J$1)+SUM($AD$2:$AD67))","v":92},{"$f":"INDIRECT(\"'関数（書き）'!C\" & COLUMN(K$1)+SUM($AD$2:$AD67))","v":48},{"$f":"INDIRECT(\"'関数（読み）'!C\" & COLUMN(B$1)+SUM($AD$2:$AD67))","v":66},{"$f":"INDIRECT(\"'関数（読み）'!C\" & COLUMN(C$1)+SUM($AD$2:$AD67))","v":217},{"$f":"INDIRECT(\"'関数（読み）'!C\" & COLUMN(D$1)+SUM($AD$2:$AD67))","v":73},{"$f":"INDIRECT(\"'関数（読み）'!C\" & COLUMN(E$1)+SUM($AD$2:$AD67))","v":182},{"$f":"INDIRECT(\"'関数（読み）'!C\" & COLUMN(F$1)+SUM($AD$2:$AD67))","v":195},{"$f":"INDIRECT(\"'関数（読み）'!C\" & COLUMN(G$1)+SUM($AD$2:$AD67))","v":71},{"$f":"INDIRECT(\"'関数（読み）'!C\" & COLUMN(H$1)+SUM($AD$2:$AD67))","v":29},{"$f":"INDIRECT(\"'関数（読み）'!C\" & COLUMN(I$1)+SUM($AD$2:$AD67))","v":11},{"$f":"INDIRECT(\"'関数（読み）'!C\" & COLUMN(J$1)+SUM($AD$2:$AD67))","v":5},{"$f":"INDIRECT(\"'関数（読み）'!C\" & COLUMN(K$1)+SUM($AD$2:$AD67))","v":132}]
["⑳","⑲","⑱","⑰","⑯","⑮","⑭","⑬","⑫","⑪","⑩","⑨","⑧","⑦","⑥","⑤","④","③","②","①","次の［　　　　］の部分の漢字には読みがなをひらがなで書き、カタカナは漢字に直しなさい。",10,"「漢字の博士検定試験」練習問題　",null,null,null,null,null,"←",10,"問",{"$f":"AH62+1","v":71},"～",{"$f":"SUM($AD$2:$AD67)+10","v":80},"問まで",{"$f":"COUNTIF($A$1:$T$200,T68)","v":2}]
[{"$f":"IF(A66=\"\",\"\",VLOOKUP(A66,漢字書き!$A$2:$N$506,6,0))","v":"電気を［セツヤク］する"},{"$f":"IF(B66=\"\",\"\",VLOOKUP(B66,漢字書き!$A$2:$N$506,6,0))","v":"［イチ］を決める"},{"$f":"IF(C66=\"\",\"\",VLOOKUP(C66,漢字書き!$A$2:$N$506,6,0))","v":"ぬいぐるみを［オ］く"},{"$f":"IF(D66=\"\",\"\",VLOOKUP(D66,漢字書き!$A$2:$N$506,6,0))","v":"海の［ケシキ］"},{"$f":"IF(E66=\"\",\"\",VLOOKUP(E66,漢字書き!$A$2:$N$506,6,0))","v":"母の［テカガミ］"},{"$f":"IF(F66=\"\",\"\",VLOOKUP(F66,漢字書き!$A$2:$N$506,6,0))","v":"花が［カオ］る"},{"$f":"IF(G66=\"\",\"\",VLOOKUP(G66,漢字書き!$A$2:$N$506,6,0))","v":"［ケイヒン］をもらう"},{"$f":"IF(H66=\"\",\"\",VLOOKUP(H66,漢字書き!$A$2:$N$506,6,0))","v":"新しい［ナカマ］"},{"$f":"IF(I66=\"\",\"\",VLOOKUP(I66,漢字書き!$A$2:$N$506,6,0))","v":"地方［ジチ］体の仕事"},{"$f":"IF(J66=\"\",\"\",VLOOKUP(J66,漢字書き!$A$2:$N$506,6,0))","v":"［コノ］みの洋服"},{"$f":"IF(K66=\"\",\"\",VLOOKUP(K66,漢字読み!$A$2:$O$506,6,0))","v":"［表札］をかける"},{"$f":"IF(L66=\"\",\"\",VLOOKUP(L66,漢字読み!$A$2:$O$506,6,0))","v":"魚の［群］れ"},{"$f":"IF(M66=\"\",\"\",VLOOKUP(M66,漢字読み!$A$2:$O$506,6,0))","v":"ありを［観察］する"},{"$f":"IF(N66=\"\",\"\",VLOOKUP(N66,漢字読み!$A$2:$O$506,6,0))","v":"物事の［側面］"},{"$f":"IF(O66=\"\",\"\",VLOOKUP(O66,漢字読み!$A$2:$O$506,6,0))","v":"電気を［帯］びる"},{"$f":"IF(P66=\"\",\"\",VLOOKUP(P66,漢字読み!$A$2:$O$506,6,0))","v":"［香川県］の名物"},{"$f":"IF(Q66=\"\",\"\",VLOOKUP(Q66,漢字読み!$A$2:$O$506,6,0))","v":"［景色］をながめる"},{"$f":"IF(R66=\"\",\"\",VLOOKUP(R66,漢字読み!$A$2:$O$506,6,0))","v":"みんなで［協力］する"},{"$f":"IF(S66=\"\",\"\",VLOOKUP(S66,漢字読み!$A$2:$O$506,6,0))","v":"両手を［挙］げる"},{"$f":"IF(T66=\"\",\"\",VLOOKUP(T66,漢字読み!$A$2:$O$506,6,0))","v":"［照］り焼きハンバーグ"},null,"級"]
[null,null,null,null,null,null,null,null,null,null,null,null,null,null,null,null,null,null,null,null,null,"名前"]
[{"$f":"IF(A66=\"\",\"\",IF(VLOOKUP(A66,漢字書き!$A$2:$N$502,7,0)=0,\"\",VLOOKUP(A66,漢字書き!$A$2:$N$502,7,0)))","v":"する"},{"$f":"IF(B66=\"\",\"\",IF(VLOOKUP(B66,漢字書き!$A$2:$N$502,7,0)=0,\"\",VLOOKUP(B66,漢字書き!$A$2:$N$502,7,0)))","v":""},{"$f":"IF(C66=\"\",\"\",IF(VLOOKUP(C66,漢字書き!$A$2:$N$502,7,0)=0,\"\",VLOOKUP(C66,漢字書き!$A$2:$N$502,7,0)))","v":"く"},{"$f":"IF(D66=\"\",\"\",IF(VLOOKUP(D66,漢字書き!$A$2:$N$502,7,0)=0,\"\",VLOOKUP(D66,漢字書き!$A$2:$N$502,7,0)))","v":""},{"$f":"IF(E66=\"\",\"\",IF(VLOOKUP(E66,漢字書き!$A$2:$N$502,7,0)=0,\"\",VLOOKUP(E66,漢字書き!$A$2:$N$502,7,0)))","v":""},{"$f":"IF(F66=\"\",\"\",IF(VLOOKUP(F66,漢字書き!$A$2:$N$502,7,0)=0,\"\",VLOOKUP(F66,漢字書き!$A$2:$N$502,7,0)))","v":"る"},{"$f":"IF(G66=\"\",\"\",IF(VLOOKUP(G66,漢字書き!$A$2:$N$502,7,0)=0,\"\",VLOOKUP(G66,漢字書き!$A$2:$N$502,7,0)))","v":""},{"$f":"IF(H66=\"\",\"\",IF(VLOOKUP(H66,漢字書き!$A$2:$N$502,7,0)=0,\"\",VLOOKUP(H66,漢字書き!$A$2:$N$502,7,0)))","v":""},{"$f":"IF(I66=\"\",\"\",IF(VLOOKUP(I66,漢字書き!$A$2:$N$502,7,0)=0,\"\",VLOOKUP(I66,漢字書き!$A$2:$N$502,7,0)))","v":"体"},{"$f":"IF(J66=\"\",\"\",IF(VLOOKUP(J66,漢字書き!$A$2:$N$502,7,0)=0,\"\",VLOOKUP(J66,漢字書き!$A$2:$N$502,7,0)))","v":"み"},{"$f":"IF(K66=\"\",\"\",IF(VLOOKUP(K66,漢字読み!$A$2:$O$502,7,0)=0,\"\",VLOOKUP(K66,漢字読み!$A$2:$O$502,7,0)))","v":""},{"$f":"IF(L66=\"\",\"\",IF(VLOOKUP(L66,漢字読み!$A$2:$O$502,7,0)=0,\"\",VLOOKUP(L66,漢字読み!$A$2:$O$502,7,0)))","v":"れ"},{"$f":"IF(M66=\"\",\"\",IF(VLOOKUP(M66,漢字読み!$A$2:$O$502,7,0)=0,\"\",VLOOKUP(M66,漢字読み!$A$2:$O$502,7,0)))","v":"する"},{"$f":"IF(N66=\"\",\"\",IF(VLOOKUP(N66,漢字読み!$A$2:$O$502,7,0)=0,\"\",VLOOKUP(N66,漢字読み!$A$2:$O$502,7,0)))","v":""},{"$f":"IF(O66=\"\",\"\",IF(VLOOKUP(O66,漢字読み!$A$2:$O$502,7,0)=0,\"\",VLOOKUP(O66,漢字読み!$A$2:$O$502,7,0)))","v":"びる"},{"$f":"IF(P66=\"\",\"\",IF(VLOOKUP(P66,漢字読み!$A$2:$O$502,7,0)=0,\"\",VLOOKUP(P66,漢字読み!$A$2:$O$502,7,0)))","v":""},{"$f":"IF(Q66=\"\",\"\",IF(VLOOKUP(Q66,漢字読み!$A$2:$O$502,7,0)=0,\"\",VLOOKUP(Q66,漢字読み!$A$2:$O$502,7,0)))","v":""},{"$f":"IF(R66=\"\",\"\",IF(VLOOKUP(R66,漢字読み!$A$2:$O$502,7,0)=0,\"\",VLOOKUP(R66,漢字読み!$A$2:$O$502,7,0)))","v":"する"},{"$f":"IF(S66=\"\",\"\",IF(VLOOKUP(S66,漢字読み!$A$2:$O$502,7,0)=0,\"\",VLOOKUP(S66,漢字読み!$A$2:$O$502,7,0)))","v":"げる"},{"$f":"IF(T66=\"\",\"\",IF(VLOOKUP(T66,漢字読み!$A$2:$O$502,7,0)=0,\"\",VLOOKUP(T66,漢字読み!$A$2:$O$502,7,0)))","v":"り焼き"},null,null,"和歌山県教育委員会"]
[{"$f":"A61","v":68},135,45,14,11,134,140,204,152,167,78,154,156,55,122,7,200,139,119,100]
["⑳","⑲","⑱","⑰","⑯","⑮","⑭","⑬","⑫","⑪","⑩","⑨","⑧","⑦","⑥","⑤","④","③","②","①","次の［　　　　］の部分の漢字には読みがなをひらがなで書き、カタカナは漢字に直しなさい。",10,"「漢字の博士検定試験」練習問題　"]
[{"$f":"IF(A71=\"\",\"\",VLOOKUP(A71,漢字書き!$A$2:$N$506,6,0))","v":"［カガワケン］のうどん"},{"$f":"IF(B71=\"\",\"\",VLOOKUP(B71,漢字書き!$A$2:$N$506,6,0))","v":"［ジシン］をもってやる"},{"$f":"IF(C71=\"\",\"\",VLOOKUP(C71,漢字書き!$A$2:$N$506,6,0))","v":"［セイコウ］をおさめる"},{"$f":"IF(D71=\"\",\"\",VLOOKUP(D71,漢字書き!$A$2:$N$506,6,0))","v":"わざを［キソ］う"},{"$f":"IF(E71=\"\",\"\",VLOOKUP(E71,漢字書き!$A$2:$N$506,6,0))","v":"［カガミ］をみがく"},{"$f":"IF(F71=\"\",\"\",VLOOKUP(F71,漢字書き!$A$2:$N$506,6,0))","v":"人を［シン］じる"},{"$f":"IF(G71=\"\",\"\",VLOOKUP(G71,漢字書き!$A$2:$N$506,6,0))","v":"以下、［ショウ］りゃく"},{"$f":"IF(H71=\"\",\"\",VLOOKUP(H71,漢字書き!$A$2:$N$506,6,0))","v":"[グンマケン]の名物"},{"$f":"IF(I71=\"\",\"\",VLOOKUP(I71,漢字書き!$A$2:$N$506,6,0))","v":"図形の［メンセキ］"},{"$f":"IF(J71=\"\",\"\",VLOOKUP(J71,漢字書き!$A$2:$N$506,6,0))","v":"てきと［タタカ］う"},{"$f":"IF(K71=\"\",\"\",VLOOKUP(K71,漢字読み!$A$2:$O$506,6,0))","v":"さかんな地場[産業]"},{"$f":"IF(L71=\"\",\"\",VLOOKUP(L71,漢字読み!$A$2:$O$506,6,0))","v":"はこを［積］む"},{"$f":"IF(M71=\"\",\"\",VLOOKUP(M71,漢字読み!$A$2:$O$506,6,0))","v":"木を［折］る"},{"$f":"IF(N71=\"\",\"\",VLOOKUP(N71,漢字読み!$A$2:$O$506,6,0))","v":"［宮崎県］のマンゴー"},{"$f":"IF(O71=\"\",\"\",VLOOKUP(O71,漢字読み!$A$2:$O$506,6,0))","v":"子どもの［笑］い声"},{"$f":"IF(P71=\"\",\"\",VLOOKUP(P71,漢字読み!$A$2:$O$506,6,0))","v":"今日は［大漁］だ"},{"$f":"IF(Q71=\"\",\"\",VLOOKUP(Q71,漢字読み!$A$2:$O$506,6,0))","v":"［単］じゅんな考え"},{"$f":"IF(R71=\"\",\"\",VLOOKUP(R71,漢字読み!$A$2:$O$506,6,0))","v":"［自信］がつく"},{"$f":"IF(S71=\"\",\"\",VLOOKUP(S71,漢字読み!$A$2:$O$506,6,0))","v":"夏の[初]め"},{"$f":"IF(T71=\"\",\"\",VLOOKUP(T71,漢字読み!$A$2:$O$506,6,0))","v":"きずが［治］る"},null,"級"]
[{"$f":"IF(A$11=\"\",\"\",VLOOKUP(A71,漢字書き!$A$2:$O$506,8,0))","v":"香川県"},{"$f":"IF(B$11=\"\",\"\",VLOOKUP(B71,漢字書き!$A$2:$O$506,8,0))","v":"自信"},{"$f":"IF(C$11=\"\",\"\",VLOOKUP(C71,漢字書き!$A$2:$O$506,8,0))","v":"成功"},{"$f":"IF(D$11=\"\",\"\",VLOOKUP(D71,漢字書き!$A$2:$O$506,8,0))","v":"競"},{"$f":"IF(E$11=\"\",\"\",VLOOKUP(E71,漢字書き!$A$2:$O$506,8,0))","v":"鏡"},{"$f":"IF(F$11=\"\",\"\",VLOOKUP(F71,漢字書き!$A$2:$O$506,8,0))","v":"信"},{"$f":"IF(G$11=\"\",\"\",VLOOKUP(G71,漢字書き!$A$2:$O$506,8,0))","v":"省"},{"$f":"IF(H$11=\"\",\"\",VLOOKUP(H71,漢字書き!$A$2:$O$506,8,0))","v":"群馬県"},{"$f":"IF(I$11=\"\",\"\",VLOOKUP(I71,漢字書き!$A$2:$O$506,8,0))","v":"面積"},{"$f":"IF(J$11=\"\",\"\",VLOOKUP(J71,漢字書き!$A$2:$O$506,8,0))","v":"戦"},{"$f":"IF(K$11=\"\",\"\",VLOOKUP(K71,漢字読み!$A$2:$O$506,8,0))","v":"さんぎょう"},{"$f":"IF(L$11=\"\",\"\",VLOOKUP(L71,漢字読み!$A$2:$O$506,8,0))","v":"つ"},{"$f":"IF(M$11=\"\",\"\",VLOOKUP(M71,漢字読み!$A$2:$O$506,8,0))","v":"お"},{"$f":"IF(N$11=\"\",\"\",VLOOKUP(N71,漢字読み!$A$2:$O$506,8,0))","v":"みやざきけん"},{"$f":"IF(O$11=\"\",\"\",VLOOKUP(O71,漢字読み!$A$2:$O$506,8,0))","v":"わら"},{"$f":"IF(P$11=\"\",\"\",VLOOKUP(P71,漢字読み!$A$2:$O$506,8,0))","v":"たいりょう"},{"$f":"IF(Q$11=\"\",\"\",VLOOKUP(Q71,漢字読み!$A$2:$O$506,8,0))","v":"たん"},{"$f":"IF(R$11=\"\",\"\",VLOOKUP(R71,漢字読み!$A$2:$O$506,8,0))","v":"じしん"},{"$f":"IF(S$11=\"\",\"\",VLOOKUP(S71,漢字読み!$A$2:$O$506,8,0))","v":"はじ"},{"$f":"IF(T$11=\"\",\"\",VLOOKUP(T71,漢字読み!$A$2:$O$506,8,0))","v":"なお"},null,"名前"]
[{"$f":"IF(A71=\"\",\"\",IF(VLOOKUP(A71,漢字書き!$A$2:$N$502,7,0)=0,\"\",VLOOKUP(A71,漢字書き!$A$2:$N$502,7,0)))","v":""},{"$f":"IF(B71=\"\",\"\",IF(VLOOKUP(B71,漢字書き!$A$2:$N$502,7,0)=0,\"\",VLOOKUP(B71,漢字書き!$A$2:$N$502,7,0)))","v":""},{"$f":"IF(C71=\"\",\"\",IF(VLOOKUP(C71,漢字書き!$A$2:$N$502,7,0)=0,\"\",VLOOKUP(C71,漢字書き!$A$2:$N$502,7,0)))","v":""},{"$f":"IF(D71=\"\",\"\",IF(VLOOKUP(D71,漢字書き!$A$2:$N$502,7,0)=0,\"\",VLOOKUP(D71,漢字書き!$A$2:$N$502,7,0)))","v":"う"},{"$f":"IF(E71=\"\",\"\",IF(VLOOKUP(E71,漢字書き!$A$2:$N$502,7,0)=0,\"\",VLOOKUP(E71,漢字書き!$A$2:$N$502,7,0)))","v":""},{"$f":"IF(F71=\"\",\"\",IF(VLOOKUP(F71,漢字書き!$A$2:$N$502,7,0)=0,\"\",VLOOKUP(F71,漢字書き!$A$2:$N$502,7,0)))","v":"じる"},{"$f":"IF(G71=\"\",\"\",IF(VLOOKUP(G71,漢字書き!$A$2:$N$502,7,0)=0,\"\",VLOOKUP(G71,漢字書き!$A$2:$N$502,7,0)))","v":"りゃく"},{"$f":"IF(H71=\"\",\"\",IF(VLOOKUP(H71,漢字書き!$A$2:$N$502,7,0)=0,\"\",VLOOKUP(H71,漢字書き!$A$2:$N$502,7,0)))","v":""},{"$f":"IF(I71=\"\",\"\",IF(VLOOKUP(I71,漢字書き!$A$2:$N$502,7,0)=0,\"\",VLOOKUP(I71,漢字書き!$A$2:$N$502,7,0)))","v":""},{"$f":"IF(J71=\"\",\"\",IF(VLOOKUP(J71,漢字書き!$A$2:$N$502,7,0)=0,\"\",VLOOKUP(J71,漢字書き!$A$2:$N$502,7,0)))","v":"う"},{"$f":"IF(K71=\"\",\"\",IF(VLOOKUP(K71,漢字読み!$A$2:$O$502,7,0)=0,\"\",VLOOKUP(K71,漢字読み!$A$2:$O$502,7,0)))","v":""},{"$f":"IF(L71=\"\",\"\",IF(VLOOKUP(L71,漢字読み!$A$2:$O$502,7,0)=0,\"\",VLOOKUP(L71,漢字読み!$A$2:$O$502,7,0)))","v":"む"},{"$f":"IF(M71=\"\",\"\",IF(VLOOKUP(M71,漢字読み!$A$2:$O$502,7,0)=0,\"\",VLOOKUP(M71,漢字読み!$A$2:$O$502,7,0)))","v":"る"},{"$f":"IF(N71=\"\",\"\",IF(VLOOKUP(N71,漢字読み!$A$2:$O$502,7,0)=0,\"\",VLOOKUP(N71,漢字読み!$A$2:$O$502,7,0)))","v":""},{"$f":"IF(O71=\"\",\"\",IF(VLOOKUP(O71,漢字読み!$A$2:$O$502,7,0)=0,\"\",VLOOKUP(O71,漢字読み!$A$2:$O$502,7,0)))","v":"い声"},{"$f":"IF(P71=\"\",\"\",IF(VLOOKUP(P71,漢字読み!$A$2:$O$502,7,0)=0,\"\",VLOOKUP(P71,漢字読み!$A$2:$O$502,7,0)))","v":""},{"$f":"IF(Q71=\"\",\"\",IF(VLOOKUP(Q71,漢字読み!$A$2:$O$502,7,0)=0,\"\",VLOOKUP(Q71,漢字読み!$A$2:$O$502,7,0)))","v":"じゅん"},{"$f":"IF(R71=\"\",\"\",IF(VLOOKUP(R71,漢字読み!$A$2:$O$502,7,0)=0,\"\",VLOOKUP(R71,漢字読み!$A$2:$O$502,7,0)))","v":""},{"$f":"IF(S71=\"\",\"\",IF(VLOOKUP(S71,漢字読み!$A$2:$O$502,7,0)=0,\"\",VLOOKUP(S71,漢字読み!$A$2:$O$502,7,0)))","v":"め"},{"$f":"IF(T71=\"\",\"\",IF(VLOOKUP(T71,漢字読み!$A$2:$O$502,7,0)=0,\"\",VLOOKUP(T71,漢字読み!$A$2:$O$502,7,0)))","v":"る"},null,null,"和歌山県教育委員会"]
[{"$f":"A66","v":159},192,193,27,12,69,26,194,92,48,66,217,73,182,195,71,29,11,5,132]
["⑳","⑲","⑱","⑰","⑯","⑮","⑭","⑬","⑫","⑪","⑩","⑨","⑧","⑦","⑥","⑤","④","③","②","①","次の［　　　　］の部分の漢字には読みがなをひらがなで書き、カタカナは漢字に直しなさい。",10,"「漢字の博士検定試験」練習問題　"]
[{"$f":"IF(A76=\"\",\"\",VLOOKUP(A76,漢字書き!$A$2:$N$506,6,0))","v":"電気を［セツヤク］する"},{"$f":"IF(B76=\"\",\"\",VLOOKUP(B76,漢字書き!$A$2:$N$506,6,0))","v":"［イチ］を決める"},{"$f":"IF(C76=\"\",\"\",VLOOKUP(C76,漢字書き!$A$2:$N$506,6,0))","v":"ぬいぐるみを［オ］く"},{"$f":"IF(D76=\"\",\"\",VLOOKUP(D76,漢字書き!$A$2:$N$506,6,0))","v":"海の［ケシキ］"},{"$f":"IF(E76=\"\",\"\",VLOOKUP(E76,漢字書き!$A$2:$N$506,6,0))","v":"母の［テカガミ］"},{"$f":"IF(F76=\"\",\"\",VLOOKUP(F76,漢字書き!$A$2:$N$506,6,0))","v":"花が［カオ］る"},{"$f":"IF(G76=\"\",\"\",VLOOKUP(G76,漢字書き!$A$2:$N$506,6,0))","v":"［ケイヒン］をもらう"},{"$f":"IF(H76=\"\",\"\",VLOOKUP(H76,漢字書き!$A$2:$N$506,6,0))","v":"新しい［ナカマ］"},{"$f":"IF(I76=\"\",\"\",VLOOKUP(I76,漢字書き!$A$2:$N$506,6,0))","v":"地方［ジチ］体の仕事"},{"$f":"IF(J76=\"\",\"\",VLOOKUP(J76,漢字書き!$A$2:$N$506,6,0))","v":"［コノ］みの洋服"},{"$f":"IF(K76=\"\",\"\",VLOOKUP(K76,漢字読み!$A$2:$O$506,6,0))","v":"［表札］をかける"},{"$f":"IF(L76=\"\",\"\",VLOOKUP(L76,漢字読み!$A$2:$O$506,6,0))","v":"魚の［群］れ"},{"$f":"IF(M76=\"\",\"\",VLOOKUP(M76,漢字読み!$A$2:$O$506,6,0))","v":"ありを［観察］する"},{"$f":"IF(N76=\"\",\"\",VLOOKUP(N76,漢字読み!$A$2:$O$506,6,0))","v":"物事の［側面］"},{"$f":"IF(O76=\"\",\"\",VLOOKUP(O76,漢字読み!$A$2:$O$506,6,0))","v":"電気を［帯］びる"},{"$f":"IF(P76=\"\",\"\",VLOOKUP(P76,漢字読み!$A$2:$O$506,6,0))","v":"［香川県］の名物"},{"$f":"IF(Q76=\"\",\"\",VLOOKUP(Q76,漢字読み!$A$2:$O$506,6,0))","v":"［景色］をながめる"},{"$f":"IF(R76=\"\",\"\",VLOOKUP(R76,漢字読み!$A$2:$O$506,6,0))","v":"みんなで［協力］する"},{"$f":"IF(S76=\"\",\"\",VLOOKUP(S76,漢字読み!$A$2:$O$506,6,0))","v":"両手を［挙］げる"},{"$f":"IF(T76=\"\",\"\",VLOOKUP(T76,漢字読み!$A$2:$O$506,6,0))","v":"［照］り焼きハンバーグ"},null,"級"]
[{"$f":"IF(A$16=\"\",\"\",VLOOKUP(A76,漢字書き!$A$2:$O$506,8,0))","v":"節約"},{"$f":"IF(B$16=\"\",\"\",VLOOKUP(B76,漢字書き!$A$2:$O$506,8,0))","v":"位置"},{"$f":"IF(C$16=\"\",\"\",VLOOKUP(C76,漢字書き!$A$2:$O$506,8,0))","v":"置"},{"$f":"IF(D$16=\"\",\"\",VLOOKUP(D76,漢字書き!$A$2:$O$506,8,0))","v":"景色"},{"$f":"IF(E$16=\"\",\"\",VLOOKUP(E76,漢字書き!$A$2:$O$506,8,0))","v":"手鏡"},{"$f":"IF(F$16=\"\",\"\",VLOOKUP(F76,漢字書き!$A$2:$O$506,8,0))","v":"香"},{"$f":"IF(G$16=\"\",\"\",VLOOKUP(G76,漢字書き!$A$2:$O$506,8,0))","v":"景品"},{"$f":"IF(H$16=\"\",\"\",VLOOKUP(H76,漢字書き!$A$2:$O$506,8,0))","v":"仲間"},{"$f":"IF(I$16=\"\",\"\",VLOOKUP(I76,漢字書き!$A$2:$O$506,8,0))","v":"自治"},{"$f":"IF(J$16=\"\",\"\",VLOOKUP(J76,漢字書き!$A$2:$O$506,8,0))","v":"好"},{"$f":"IF(K$16=\"\",\"\",VLOOKUP(K76,漢字読み!$A$2:$O$506,8,0))","v":"ひょうさつ"},{"$f":"IF(L$16=\"\",\"\",VLOOKUP(L76,漢字読み!$A$2:$O$506,8,0))","v":"む"},{"$f":"IF(M$16=\"\",\"\",VLOOKUP(M76,漢字読み!$A$2:$O$506,8,0))","v":"かんさつ"},{"$f":"IF(N$16=\"\",\"\",VLOOKUP(N76,漢字読み!$A$2:$O$506,8,0))","v":"そくめん"},{"$f":"IF(O$16=\"\",\"\",VLOOKUP(O76,漢字読み!$A$2:$O$506,8,0))","v":"お"},{"$f":"IF(P$16=\"\",\"\",VLOOKUP(P76,漢字読み!$A$2:$O$506,8,0))","v":"かがわけん"},{"$f":"IF(Q$16=\"\",\"\",VLOOKUP(Q76,漢字読み!$A$2:$O$506,8,0))","v":"けしき"},{"$f":"IF(R$16=\"\",\"\",VLOOKUP(R76,漢字読み!$A$2:$O$506,8,0))","v":"きょうりょく"},{"$f":"IF(S$16=\"\",\"\",VLOOKUP(S76,漢字読み!$A$2:$O$506,8,0))","v":"あ"},{"$f":"IF(T$16=\"\",\"\",VLOOKUP(T76,漢字読み!$A$2:$O$506,8,0))","v":"て"},null,"名前"]
[{"$f":"IF(A76=\"\",\"\",IF(VLOOKUP(A76,漢字書き!$A$2:$N$502,7,0)=0,\"\",VLOOKUP(A76,漢字書き!$A$2:$N$502,7,0)))","v":"する"},{"$f":"IF(B76=\"\",\"\",IF(VLOOKUP(B76,漢字書き!$A$2:$N$502,7,0)=0,\"\",VLOOKUP(B76,漢字書き!$A$2:$N$502,7,0)))","v":""},{"$f":"IF(C76=\"\",\"\",IF(VLOOKUP(C76,漢字書き!$A$2:$N$502,7,0)=0,\"\",VLOOKUP(C76,漢字書き!$A$2:$N$502,7,0)))","v":"く"},{"$f":"IF(D76=\"\",\"\",IF(VLOOKUP(D76,漢字書き!$A$2:$N$502,7,0)=0,\"\",VLOOKUP(D76,漢字書き!$A$2:$N$502,7,0)))","v":""},{"$f":"IF(E76=\"\",\"\",IF(VLOOKUP(E76,漢字書き!$A$2:$N$502,7,0)=0,\"\",VLOOKUP(E76,漢字書き!$A$2:$N$502,7,0)))","v":""},{"$f":"IF(F76=\"\",\"\",IF(VLOOKUP(F76,漢字書き!$A$2:$N$502,7,0)=0,\"\",VLOOKUP(F76,漢字書き!$A$2:$N$502,7,0)))","v":"る"},{"$f":"IF(G76=\"\",\"\",IF(VLOOKUP(G76,漢字書き!$A$2:$N$502,7,0)=0,\"\",VLOOKUP(G76,漢字書き!$A$2:$N$502,7,0)))","v":""},{"$f":"IF(H76=\"\",\"\",IF(VLOOKUP(H76,漢字書き!$A$2:$N$502,7,0)=0,\"\",VLOOKUP(H76,漢字書き!$A$2:$N$502,7,0)))","v":""},{"$f":"IF(I76=\"\",\"\",IF(VLOOKUP(I76,漢字書き!$A$2:$N$502,7,0)=0,\"\",VLOOKUP(I76,漢字書き!$A$2:$N$502,7,0)))","v":"体"},{"$f":"IF(J76=\"\",\"\",IF(VLOOKUP(J76,漢字書き!$A$2:$N$502,7,0)=0,\"\",VLOOKUP(J76,漢字書き!$A$2:$N$502,7,0)))","v":"み"},{"$f":"IF(K76=\"\",\"\",IF(VLOOKUP(K76,漢字読み!$A$2:$O$502,7,0)=0,\"\",VLOOKUP(K76,漢字読み!$A$2:$O$502,7,0)))","v":""},{"$f":"IF(L76=\"\",\"\",IF(VLOOKUP(L76,漢字読み!$A$2:$O$502,7,0)=0,\"\",VLOOKUP(L76,漢字読み!$A$2:$O$502,7,0)))","v":"れ"},{"$f":"IF(M76=\"\",\"\",IF(VLOOKUP(M76,漢字読み!$A$2:$O$502,7,0)=0,\"\",VLOOKUP(M76,漢字読み!$A$2:$O$502,7,0)))","v":"する"},{"$f":"IF(N76=\"\",\"\",IF(VLOOKUP(N76,漢字読み!$A$2:$O$502,7,0)=0,\"\",VLOOKUP(N76,漢字読み!$A$2:$O$502,7,0)))","v":""},{"$f":"IF(O76=\"\",\"\",IF(VLOOKUP(O76,漢字読み!$A$2:$O$502,7,0)=0,\"\",VLOOKUP(O76,漢字読み!$A$2:$O$502,7,0)))","v":"びる"},{"$f":"IF(P76=\"\",\"\",IF(VLOOKUP(P76,漢字読み!$A$2:$O$502,7,0)=0,\"\",VLOOKUP(P76,漢字読み!$A$2:$O$502,7,0)))","v":""},{"$f":"IF(Q76=\"\",\"\",IF(VLOOKUP(Q76,漢字読み!$A$2:$O$502,7,0)=0,\"\",VLOOKUP(Q76,漢字読み!$A$2:$O$502,7,0)))","v":""},{"$f":"IF(R76=\"\",\"\",IF(VLOOKUP(R76,漢字読み!$A$2:$O$502,7,0)=0,\"\",VLOOKUP(R76,漢字読み!$A$2:$O$502,7,0)))","v":"する"},{"$f":"IF(S76=\"\",\"\",IF(VLOOKUP(S76,漢字読み!$A$2:$O$502,7,0)=0,\"\",VLOOKUP(S76,漢字読み!$A$2:$O$502,7,0)))","v":"げる"},{"$f":"IF(T76=\"\",\"\",IF(VLOOKUP(T76,漢字読み!$A$2:$O$502,7,0)=0,\"\",VLOOKUP(T76,漢字読み!$A$2:$O$502,7,0)))","v":"り焼き"},null,null,"和歌山県教育委員会"]
[{"$f":"INDIRECT(\"'関数（書き）'!C\" & COLUMN(B$1)+SUM($AD$2:$AD82))","v":104},{"$f":"INDIRECT(\"'関数（書き）'!C\" & COLUMN(C$1)+SUM($AD$2:$AD82))","v":32},{"$f":"INDIRECT(\"'関数（書き）'!C\" & COLUMN(D$1)+SUM($AD$2:$AD82))","v":195},{"$f":"INDIRECT(\"'関数（書き）'!C\" & COLUMN(E$1)+SUM($AD$2:$AD82))","v":72},{"$f":"INDIRECT(\"'関数（書き）'!C\" & COLUMN(F$1)+SUM($AD$2:$AD82))","v":130},{"$f":"INDIRECT(\"'関数（書き）'!C\" & COLUMN(G$1)+SUM($AD$2:$AD82))","v":177},{"$f":"INDIRECT(\"'関数（書き）'!C\" & COLUMN(H$1)+SUM($AD$2:$AD82))","v":47},{"$f":"INDIRECT(\"'関数（書き）'!C\" & COLUMN(I$1)+SUM($AD$2:$AD82))","v":36},{"$f":"INDIRECT(\"'関数（書き）'!C\" & COLUMN(J$1)+SUM($AD$2:$AD82))","v":31},{"$f":"INDIRECT(\"'関数（書き）'!C\" & COLUMN(K$1)+SUM($AD$2:$AD82))","v":60},{"$f":"INDIRECT(\"'関数（読み）'!C\" & COLUMN(B$1)+SUM($AD$2:$AD82))","v":116},{"$f":"INDIRECT(\"'関数（読み）'!C\" & COLUMN(C$1)+SUM($AD$2:$AD82))","v":123},{"$f":"INDIRECT(\"'関数（読み）'!C\" & COLUMN(D$1)+SUM($AD$2:$AD82))","v":106},{"$f":"INDIRECT(\"'関数（読み）'!C\" & COLUMN(E$1)+SUM($AD$2:$AD82))","v":94},{"$f":"INDIRECT(\"'関数（読み）'!C\" & COLUMN(F$1)+SUM($AD$2:$AD82))","v":6},{"$f":"INDIRECT(\"'関数（読み）'!C\" & COLUMN(G$1)+SUM($AD$2:$AD82))","v":16},{"$f":"INDIRECT(\"'関数（読み）'!C\" & COLUMN(H$1)+SUM($AD$2:$AD82))","v":72},{"$f":"INDIRECT(\"'関数（読み）'!C\" & COLUMN(I$1)+SUM($AD$2:$AD82))","v":9},{"$f":"INDIRECT(\"'関数（読み）'!C\" & COLUMN(J$1)+SUM($AD$2:$AD82))","v":159},{"$f":"INDIRECT(\"'関数（読み）'!C\" & COLUMN(K$1)+SUM($AD$2:$AD82))","v":19}]
["⑳","⑲","⑱","⑰","⑯","⑮","⑭","⑬","⑫","⑪","⑩","⑨","⑧","⑦","⑥","⑤","④","③","②","①","次の［　　　　］の部分の漢字には読みがなをひらがなで書き、カタカナは漢字に直しなさい。",10,"「漢字の博士検定試験」練習問題　",null,null,null,null,null,"←",10,"問",{"$f":"AH67+1","v":81},"～",{"$f":"SUM($AD$2:$AD82)+10","v":90},"問まで",{"$f":"COUNTIF($A$1:$T$200,T83)","v":2}]
[{"$f":"IF(A81=\"\",\"\",VLOOKUP(A81,漢字書き!$A$2:$N$506,6,0))","v":"ヒマワリの［シュシ］"},{"$f":"IF(B81=\"\",\"\",VLOOKUP(B81,漢字書き!$A$2:$N$506,6,0))","v":"テストの［ケッカ］"},{"$f":"IF(C81=\"\",\"\",VLOOKUP(C81,漢字書き!$A$2:$N$506,6,0))","v":"[サガケン]の地図"},{"$f":"IF(D81=\"\",\"\",VLOOKUP(D81,漢字書き!$A$2:$N$506,6,0))","v":"お宮に［マイ］る"},{"$f":"IF(E81=\"\",\"\",VLOOKUP(E81,漢字書き!$A$2:$N$506,6,0))","v":"日に［テ］らされる"},{"$f":"IF(F81=\"\",\"\",VLOOKUP(F81,漢字書き!$A$2:$N$506,6,0))","v":"ハチの［ス］を見つける"},{"$f":"IF(G81=\"\",\"\",VLOOKUP(G81,漢字書き!$A$2:$N$506,6,0))","v":"［ス］きな歌を聞く"},{"$f":"IF(H81=\"\",\"\",VLOOKUP(H81,漢字書き!$A$2:$N$506,6,0))","v":"家を［タ］てる"},{"$f":"IF(I81=\"\",\"\",VLOOKUP(I81,漢字書き!$A$2:$N$506,6,0))","v":"月のみち［カ］け"},{"$f":"IF(J81=\"\",\"\",VLOOKUP(J81,漢字書き!$A$2:$N$506,6,0))","v":"［モット］も高い山"},{"$f":"IF(K81=\"\",\"\",VLOOKUP(K81,漢字読み!$A$2:$O$506,6,0))","v":"［初］めて聞く話"},{"$f":"IF(L81=\"\",\"\",VLOOKUP(L81,漢字読み!$A$2:$O$506,6,0))","v":"にっこりと[笑]う"},{"$f":"IF(M81=\"\",\"\",VLOOKUP(M81,漢字読み!$A$2:$O$506,6,0))","v":"本を［借］りる"},{"$f":"IF(N81=\"\",\"\",VLOOKUP(N81,漢字読み!$A$2:$O$506,6,0))","v":"［育児］はたいへんだ"},{"$f":"IF(O81=\"\",\"\",VLOOKUP(O81,漢字読み!$A$2:$O$506,6,0))","v":"［漁業］の町"},{"$f":"IF(P81=\"\",\"\",VLOOKUP(P81,漢字読み!$A$2:$O$506,6,0))","v":"力を［競］う"},{"$f":"IF(Q81=\"\",\"\",VLOOKUP(Q81,漢字読み!$A$2:$O$506,6,0))","v":"みかんの花が［香］る"},{"$f":"IF(R81=\"\",\"\",VLOOKUP(R81,漢字読み!$A$2:$O$506,6,0))","v":"［共同］で取り組む"},{"$f":"IF(S81=\"\",\"\",VLOOKUP(S81,漢字読み!$A$2:$O$506,6,0))","v":"［節分］の日"},{"$f":"IF(T81=\"\",\"\",VLOOKUP(T81,漢字読み!$A$2:$O$506,6,0))","v":"ひなん［訓練］"},null,"級"]
[null,null,null,null,null,null,null,null,null,null,null,null,null,null,null,null,null,null,null,null,null,"名前"]
[{"$f":"IF(A81=\"\",\"\",IF(VLOOKUP(A81,漢字書き!$A$2:$N$502,7,0)=0,\"\",VLOOKUP(A81,漢字書き!$A$2:$N$502,7,0)))","v":""},{"$f":"IF(B81=\"\",\"\",IF(VLOOKUP(B81,漢字書き!$A$2:$N$502,7,0)=0,\"\",VLOOKUP(B81,漢字書き!$A$2:$N$502,7,0)))","v":""},{"$f":"IF(C81=\"\",\"\",IF(VLOOKUP(C81,漢字書き!$A$2:$N$502,7,0)=0,\"\",VLOOKUP(C81,漢字書き!$A$2:$N$502,7,0)))","v":""},{"$f":"IF(D81=\"\",\"\",IF(VLOOKUP(D81,漢字書き!$A$2:$N$502,7,0)=0,\"\",VLOOKUP(D81,漢字書き!$A$2:$N$502,7,0)))","v":"る"},{"$f":"IF(E81=\"\",\"\",IF(VLOOKUP(E81,漢字書き!$A$2:$N$502,7,0)=0,\"\",VLOOKUP(E81,漢字書き!$A$2:$N$502,7,0)))","v":"らされる"},{"$f":"IF(F81=\"\",\"\",IF(VLOOKUP(F81,漢字書き!$A$2:$N$502,7,0)=0,\"\",VLOOKUP(F81,漢字書き!$A$2:$N$502,7,0)))","v":""},{"$f":"IF(G81=\"\",\"\",IF(VLOOKUP(G81,漢字書き!$A$2:$N$502,7,0)=0,\"\",VLOOKUP(G81,漢字書き!$A$2:$N$502,7,0)))","v":"きな"},{"$f":"IF(H81=\"\",\"\",IF(VLOOKUP(H81,漢字書き!$A$2:$N$502,7,0)=0,\"\",VLOOKUP(H81,漢字書き!$A$2:$N$502,7,0)))","v":"てる"},{"$f":"IF(I81=\"\",\"\",IF(VLOOKUP(I81,漢字書き!$A$2:$N$502,7,0)=0,\"\",VLOOKUP(I81,漢字書き!$A$2:$N$502,7,0)))","v":"け"},{"$f":"IF(J81=\"\",\"\",IF(VLOOKUP(J81,漢字書き!$A$2:$N$502,7,0)=0,\"\",VLOOKUP(J81,漢字書き!$A$2:$N$502,7,0)))","v":"も"},{"$f":"IF(K81=\"\",\"\",IF(VLOOKUP(K81,漢字読み!$A$2:$O$502,7,0)=0,\"\",VLOOKUP(K81,漢字読み!$A$2:$O$502,7,0)))","v":"めて"},{"$f":"IF(L81=\"\",\"\",IF(VLOOKUP(L81,漢字読み!$A$2:$O$502,7,0)=0,\"\",VLOOKUP(L81,漢字読み!$A$2:$O$502,7,0)))","v":"う"},{"$f":"IF(M81=\"\",\"\",IF(VLOOKUP(M81,漢字読み!$A$2:$O$502,7,0)=0,\"\",VLOOKUP(M81,漢字読み!$A$2:$O$502,7,0)))","v":"りる"},{"$f":"IF(N81=\"\",\"\",IF(VLOOKUP(N81,漢字読み!$A$2:$O$502,7,0)=0,\"\",VLOOKUP(N81,漢字読み!$A$2:$O$502,7,0)))","v":""},{"$f":"IF(O81=\"\",\"\",IF(VLOOKUP(O81,漢字読み!$A$2:$O$502,7,0)=0,\"\",VLOOKUP(O81,漢字読み!$A$2:$O$502,7,0)))","v":""},{"$f":"IF(P81=\"\",\"\",IF(VLOOKUP(P81,漢字読み!$A$2:$O$502,7,0)=0,\"\",VLOOKUP(P81,漢字読み!$A$2:$O$502,7,0)))","v":"う"},{"$f":"IF(Q81=\"\",\"\",IF(VLOOKUP(Q81,漢字読み!$A$2:$O$502,7,0)=0,\"\",VLOOKUP(Q81,漢字読み!$A$2:$O$502,7,0)))","v":"る"},{"$f":"IF(R81=\"\",\"\",IF(VLOOKUP(R81,漢字読み!$A$2:$O$502,7,0)=0,\"\",VLOOKUP(R81,漢字読み!$A$2:$O$502,7,0)))","v":""},{"$f":"IF(S81=\"\",\"\",IF(VLOOKUP(S81,漢字読み!$A$2:$O$502,7,0)=0,\"\",VLOOKUP(S81,漢字読み!$A$2:$O$502,7,0)))","v":""},{"$f":"IF(T81=\"\",\"\",IF(VLOOKUP(T81,漢字読み!$A$2:$O$502,7,0)=0,\"\",VLOOKUP(T81,漢字読み!$A$2:$O$502,7,0)))","v":""},null,null,"和歌山県教育委員会"]
[{"$f":"INDIRECT(\"'関数（書き）'!C\" & COLUMN(B$1)+SUM($AD$2:$AD87))","v":161},{"$f":"INDIRECT(\"'関数（書き）'!C\" & COLUMN(C$1)+SUM($AD$2:$AD87))","v":139},{"$f":"INDIRECT(\"'関数（書き）'!C\" & COLUMN(D$1)+SUM($AD$2:$AD87))","v":64},{"$f":"INDIRECT(\"'関数（書き）'!C\" & COLUMN(E$1)+SUM($AD$2:$AD87))","v":35},{"$f":"INDIRECT(\"'関数（書き）'!C\" & COLUMN(F$1)+SUM($AD$2:$AD87))","v":120},{"$f":"INDIRECT(\"'関数（書き）'!C\" & COLUMN(G$1)+SUM($AD$2:$AD87))","v":94},{"$f":"INDIRECT(\"'関数（書き）'!C\" & COLUMN(H$1)+SUM($AD$2:$AD87))","v":143},{"$f":"INDIRECT(\"'関数（書き）'!C\" & COLUMN(I$1)+SUM($AD$2:$AD87))","v":51},{"$f":"INDIRECT(\"'関数（書き）'!C\" & COLUMN(J$1)+SUM($AD$2:$AD87))","v":206},{"$f":"INDIRECT(\"'関数（書き）'!C\" & COLUMN(K$1)+SUM($AD$2:$AD87))","v":89},{"$f":"INDIRECT(\"'関数（読み）'!C\" & COLUMN(B$1)+SUM($AD$2:$AD87))","v":127},{"$f":"INDIRECT(\"'関数（読み）'!C\" & COLUMN(C$1)+SUM($AD$2:$AD87))","v":98},{"$f":"INDIRECT(\"'関数（読み）'!C\" & COLUMN(D$1)+SUM($AD$2:$AD87))","v":193},{"$f":"INDIRECT(\"'関数（読み）'!C\" & COLUMN(E$1)+SUM($AD$2:$AD87))","v":148},{"$f":"INDIRECT(\"'関数（読み）'!C\" & COLUMN(F$1)+SUM($AD$2:$AD87))","v":40},{"$f":"INDIRECT(\"'関数（読み）'!C\" & COLUMN(G$1)+SUM($AD$2:$AD87))","v":4},{"$f":"INDIRECT(\"'関数（読み）'!C\" & COLUMN(H$1)+SUM($AD$2:$AD87))","v":216},{"$f":"INDIRECT(\"'関数（読み）'!C\" & COLUMN(I$1)+SUM($AD$2:$AD87))","v":15},{"$f":"INDIRECT(\"'関数（読み）'!C\" & COLUMN(J$1)+SUM($AD$2:$AD87))","v":20},{"$f":"INDIRECT(\"'関数（読み）'!C\" & COLUMN(K$1)+SUM($AD$2:$AD87))","v":202}]
["⑳","⑲","⑱","⑰","⑯","⑮","⑭","⑬","⑫","⑪","⑩","⑨","⑧","⑦","⑥","⑤","④","③","②","①","次の［　　　　］の部分の漢字には読みがなをひらがなで書き、カタカナは漢字に直しなさい。",10,"「漢字の博士検定試験」練習問題　",null,null,null,null,null,"←",10,"問",{"$f":"AH82+1","v":91},"～",{"$f":"SUM($AD$2:$AD87)+10","v":100},"問まで",{"$f":"COUNTIF($A$1:$T$200,T88)","v":2}]
[{"$f":"IF(A86=\"\",\"\",VLOOKUP(A86,漢字書き!$A$2:$N$506,6,0))","v":"くわしく［セツメイ］する"},{"$f":"IF(B86=\"\",\"\",VLOOKUP(B86,漢字書き!$A$2:$N$506,6,0))","v":"しっかり［ハンセイ］する"},{"$f":"IF(C86=\"\",\"\",VLOOKUP(C86,漢字書き!$A$2:$N$506,6,0))","v":"千円［サツ］を使う"},{"$f":"IF(D86=\"\",\"\",VLOOKUP(D86,漢字書き!$A$2:$N$506,6,0))","v":"［ケンコク］記ねんの日"},{"$f":"IF(E86=\"\",\"\",VLOOKUP(E86,漢字書き!$A$2:$N$506,6,0))","v":"子どもの［ワラ］い声"},{"$f":"IF(F86=\"\",\"\",VLOOKUP(F86,漢字書き!$A$2:$N$506,6,0))","v":"国を［オサ］める"},{"$f":"IF(G86=\"\",\"\",VLOOKUP(G86,漢字書き!$A$2:$N$506,6,0))","v":"字を［セイショ］する"},{"$f":"IF(H86=\"\",\"\",VLOOKUP(H86,漢字書き!$A$2:$N$506,6,0))","v":"［オキナワケン］のシーサー"},{"$f":"IF(I86=\"\",\"\",VLOOKUP(I86,漢字書き!$A$2:$N$506,6,0))","v":"［セッキョクテキ］に行動する"},{"$f":"IF(J86=\"\",\"\",VLOOKUP(J86,漢字書き!$A$2:$N$506,6,0))","v":"入学[シケン]を受ける"},{"$f":"IF(K86=\"\",\"\",VLOOKUP(K86,漢字読み!$A$2:$O$506,6,0))","v":"日に[焼]ける"},{"$f":"IF(L86=\"\",\"\",VLOOKUP(L86,漢字読み!$A$2:$O$506,6,0))","v":"国を［治］める"},{"$f":"IF(M86=\"\",\"\",VLOOKUP(M86,漢字読み!$A$2:$O$506,6,0))","v":"けい[帯]電話"},{"$f":"IF(N86=\"\",\"\",VLOOKUP(N86,漢字読み!$A$2:$O$506,6,0))","v":"［清］らかな水"},{"$f":"IF(O86=\"\",\"\",VLOOKUP(O86,漢字読み!$A$2:$O$506,6,0))","v":"[健全]な体"},{"$f":"IF(P86=\"\",\"\",VLOOKUP(P86,漢字読み!$A$2:$O$506,6,0))","v":"手が［挙］がる"},{"$f":"IF(Q86=\"\",\"\",VLOOKUP(Q86,漢字読み!$A$2:$O$506,6,0))","v":"えさに［群］がる"},{"$f":"IF(R86=\"\",\"\",VLOOKUP(R86,漢字読み!$A$2:$O$506,6,0))","v":"百メートル［競走］"},{"$f":"IF(S86=\"\",\"\",VLOOKUP(S86,漢字読み!$A$2:$O$506,6,0))","v":"［訓読］みの漢字"},{"$f":"IF(T86=\"\",\"\",VLOOKUP(T86,漢字読み!$A$2:$O$506,6,0))","v":"かばんを［置］く"},null,"級"]
[null,null,null,null,null,null,null,null,null,null,null,null,null,null,null,null,null,null,null,null,null,"名前"]
[{"$f":"IF(A86=\"\",\"\",IF(VLOOKUP(A86,漢字書き!$A$2:$N$502,7,0)=0,\"\",VLOOKUP(A86,漢字書き!$A$2:$N$502,7,0)))","v":"する"},{"$f":"IF(B86=\"\",\"\",IF(VLOOKUP(B86,漢字書き!$A$2:$N$502,7,0)=0,\"\",VLOOKUP(B86,漢字書き!$A$2:$N$502,7,0)))","v":"する"},{"$f":"IF(C86=\"\",\"\",IF(VLOOKUP(C86,漢字書き!$A$2:$N$502,7,0)=0,\"\",VLOOKUP(C86,漢字書き!$A$2:$N$502,7,0)))","v":""},{"$f":"IF(D86=\"\",\"\",IF(VLOOKUP(D86,漢字書き!$A$2:$N$502,7,0)=0,\"\",VLOOKUP(D86,漢字書き!$A$2:$N$502,7,0)))","v":""},{"$f":"IF(E86=\"\",\"\",IF(VLOOKUP(E86,漢字書き!$A$2:$N$502,7,0)=0,\"\",VLOOKUP(E86,漢字書き!$A$2:$N$502,7,0)))","v":"い声"},{"$f":"IF(F86=\"\",\"\",IF(VLOOKUP(F86,漢字書き!$A$2:$N$502,7,0)=0,\"\",VLOOKUP(F86,漢字書き!$A$2:$N$502,7,0)))","v":"める"},{"$f":"IF(G86=\"\",\"\",IF(VLOOKUP(G86,漢字書き!$A$2:$N$502,7,0)=0,\"\",VLOOKUP(G86,漢字書き!$A$2:$N$502,7,0)))","v":"する"},{"$f":"IF(H86=\"\",\"\",IF(VLOOKUP(H86,漢字書き!$A$2:$N$502,7,0)=0,\"\",VLOOKUP(H86,漢字書き!$A$2:$N$502,7,0)))","v":""},{"$f":"IF(I86=\"\",\"\",IF(VLOOKUP(I86,漢字書き!$A$2:$N$502,7,0)=0,\"\",VLOOKUP(I86,漢字書き!$A$2:$N$502,7,0)))","v":"に"},{"$f":"IF(J86=\"\",\"\",IF(VLOOKUP(J86,漢字書き!$A$2:$N$502,7,0)=0,\"\",VLOOKUP(J86,漢字書き!$A$2:$N$502,7,0)))","v":""},{"$f":"IF(K86=\"\",\"\",IF(VLOOKUP(K86,漢字読み!$A$2:$O$502,7,0)=0,\"\",VLOOKUP(K86,漢字読み!$A$2:$O$502,7,0)))","v":"ける"},{"$f":"IF(L86=\"\",\"\",IF(VLOOKUP(L86,漢字読み!$A$2:$O$502,7,0)=0,\"\",VLOOKUP(L86,漢字読み!$A$2:$O$502,7,0)))","v":"める"},{"$f":"IF(M86=\"\",\"\",IF(VLOOKUP(M86,漢字読み!$A$2:$O$502,7,0)=0,\"\",VLOOKUP(M86,漢字読み!$A$2:$O$502,7,0)))","v":""},{"$f":"IF(N86=\"\",\"\",IF(VLOOKUP(N86,漢字読み!$A$2:$O$502,7,0)=0,\"\",VLOOKUP(N86,漢字読み!$A$2:$O$502,7,0)))","v":"らかな"},{"$f":"IF(O86=\"\",\"\",IF(VLOOKUP(O86,漢字読み!$A$2:$O$502,7,0)=0,\"\",VLOOKUP(O86,漢字読み!$A$2:$O$502,7,0)))","v":"な"},{"$f":"IF(P86=\"\",\"\",IF(VLOOKUP(P86,漢字読み!$A$2:$O$502,7,0)=0,\"\",VLOOKUP(P86,漢字読み!$A$2:$O$502,7,0)))","v":"がる"},{"$f":"IF(Q86=\"\",\"\",IF(VLOOKUP(Q86,漢字読み!$A$2:$O$502,7,0)=0,\"\",VLOOKUP(Q86,漢字読み!$A$2:$O$502,7,0)))","v":"がる"},{"$f":"IF(R86=\"\",\"\",IF(VLOOKUP(R86,漢字読み!$A$2:$O$502,7,0)=0,\"\",VLOOKUP(R86,漢字読み!$A$2:$O$502,7,0)))","v":""},{"$f":"IF(S86=\"\",\"\",IF(VLOOKUP(S86,漢字読み!$A$2:$O$502,7,0)=0,\"\",VLOOKUP(S86,漢字読み!$A$2:$O$502,7,0)))","v":"み"},{"$f":"IF(T86=\"\",\"\",IF(VLOOKUP(T86,漢字読み!$A$2:$O$502,7,0)=0,\"\",VLOOKUP(T86,漢字読み!$A$2:$O$502,7,0)))","v":"く"},null,null,"和歌山県教育委員会"]
[{"$f":"A81","v":104},32,195,72,130,177,47,36,31,60,116,123,106,94,6,16,72,9,159,19]
["⑳","⑲","⑱","⑰","⑯","⑮","⑭","⑬","⑫","⑪","⑩","⑨","⑧","⑦","⑥","⑤","④","③","②","①","次の［　　　　］の部分の漢字には読みがなをひらがなで書き、カタカナは漢字に直しなさい。",10,"「漢字の博士検定試験」練習問題　"]
[{"$f":"IF(A91=\"\",\"\",VLOOKUP(A91,漢字書き!$A$2:$N$506,6,0))","v":"ヒマワリの［シュシ］"},{"$f":"IF(B91=\"\",\"\",VLOOKUP(B91,漢字書き!$A$2:$N$506,6,0))","v":"テストの［ケッカ］"},{"$f":"IF(C91=\"\",\"\",VLOOKUP(C91,漢字書き!$A$2:$N$506,6,0))","v":"[サガケン]の地図"},{"$f":"IF(D91=\"\",\"\",VLOOKUP(D91,漢字書き!$A$2:$N$506,6,0))","v":"お宮に［マイ］る"},{"$f":"IF(E91=\"\",\"\",VLOOKUP(E91,漢字書き!$A$2:$N$506,6,0))","v":"日に［テ］らされる"},{"$f":"IF(F91=\"\",\"\",VLOOKUP(F91,漢字書き!$A$2:$N$506,6,0))","v":"ハチの［ス］を見つける"},{"$f":"IF(G91=\"\",\"\",VLOOKUP(G91,漢字書き!$A$2:$N$506,6,0))","v":"［ス］きな歌を聞く"},{"$f":"IF(H91=\"\",\"\",VLOOKUP(H91,漢字書き!$A$2:$N$506,6,0))","v":"家を［タ］てる"},{"$f":"IF(I91=\"\",\"\",VLOOKUP(I91,漢字書き!$A$2:$N$506,6,0))","v":"月のみち［カ］け"},{"$f":"IF(J91=\"\",\"\",VLOOKUP(J91,漢字書き!$A$2:$N$506,6,0))","v":"［モット］も高い山"},{"$f":"IF(K91=\"\",\"\",VLOOKUP(K91,漢字読み!$A$2:$O$506,6,0))","v":"［初］めて聞く話"},{"$f":"IF(L91=\"\",\"\",VLOOKUP(L91,漢字読み!$A$2:$O$506,6,0))","v":"にっこりと[笑]う"},{"$f":"IF(M91=\"\",\"\",VLOOKUP(M91,漢字読み!$A$2:$O$506,6,0))","v":"本を［借］りる"},{"$f":"IF(N91=\"\",\"\",VLOOKUP(N91,漢字読み!$A$2:$O$506,6,0))","v":"［育児］はたいへんだ"},{"$f":"IF(O91=\"\",\"\",VLOOKUP(O91,漢字読み!$A$2:$O$506,6,0))","v":"［漁業］の町"},{"$f":"IF(P91=\"\",\"\",VLOOKUP(P91,漢字読み!$A$2:$O$506,6,0))","v":"力を［競］う"},{"$f":"IF(Q91=\"\",\"\",VLOOKUP(Q91,漢字読み!$A$2:$O$506,6,0))","v":"みかんの花が［香］る"},{"$f":"IF(R91=\"\",\"\",VLOOKUP(R91,漢字読み!$A$2:$O$506,6,0))","v":"［共同］で取り組む"},{"$f":"IF(S91=\"\",\"\",VLOOKUP(S91,漢字読み!$A$2:$O$506,6,0))","v":"［節分］の日"},{"$f":"IF(T91=\"\",\"\",VLOOKUP(T91,漢字読み!$A$2:$O$506,6,0))","v":"ひなん［訓練］"},null,"級"]
[{"$f":"IF(A$11=\"\",\"\",VLOOKUP(A91,漢字書き!$A$2:$O$506,8,0))","v":"旬"},{"$f":"IF(B$11=\"\",\"\",VLOOKUP(B91,漢字書き!$A$2:$O$506,8,0))","v":"結果"},{"$f":"IF(C$11=\"\",\"\",VLOOKUP(C91,漢字書き!$A$2:$O$506,8,0))","v":"佐賀県"},{"$f":"IF(D$11=\"\",\"\",VLOOKUP(D91,漢字書き!$A$2:$O$506,8,0))","v":"参"},{"$f":"IF(E$11=\"\",\"\",VLOOKUP(E91,漢字書き!$A$2:$O$506,8,0))","v":"照"},{"$f":"IF(F$11=\"\",\"\",VLOOKUP(F91,漢字書き!$A$2:$O$506,8,0))","v":"巣"},{"$f":"IF(G$11=\"\",\"\",VLOOKUP(G91,漢字書き!$A$2:$O$506,8,0))","v":"好"},{"$f":"IF(H$11=\"\",\"\",VLOOKUP(H91,漢字書き!$A$2:$O$506,8,0))","v":"建"},{"$f":"IF(I$11=\"\",\"\",VLOOKUP(I91,漢字書き!$A$2:$O$506,8,0))","v":"欠"},{"$f":"IF(J$11=\"\",\"\",VLOOKUP(J91,漢字書き!$A$2:$O$506,8,0))","v":"最"},{"$f":"IF(K$11=\"\",\"\",VLOOKUP(K91,漢字読み!$A$2:$O$506,8,0))","v":"はじ"},{"$f":"IF(L$11=\"\",\"\",VLOOKUP(L91,漢字読み!$A$2:$O$506,8,0))","v":"わら"},{"$f":"IF(M$11=\"\",\"\",VLOOKUP(M91,漢字読み!$A$2:$O$506,8,0))","v":"か"},{"$f":"IF(N$11=\"\",\"\",VLOOKUP(N91,漢字読み!$A$2:$O$506,8,0))","v":"いくじ"},{"$f":"IF(O$11=\"\",\"\",VLOOKUP(O91,漢字読み!$A$2:$O$506,8,0))","v":"ぎょぎょう"},{"$f":"IF(P$11=\"\",\"\",VLOOKUP(P91,漢字読み!$A$2:$O$506,8,0))","v":"きそ"},{"$f":"IF(Q$11=\"\",\"\",VLOOKUP(Q91,漢字読み!$A$2:$O$506,8,0))","v":"かお"},{"$f":"IF(R$11=\"\",\"\",VLOOKUP(R91,漢字読み!$A$2:$O$506,8,0))","v":"きょうどう"},{"$f":"IF(S$11=\"\",\"\",VLOOKUP(S91,漢字読み!$A$2:$O$506,8,0))","v":"せつぶん"},{"$f":"IF(T$11=\"\",\"\",VLOOKUP(T91,漢字読み!$A$2:$O$506,8,0))","v":"くんれん"},null,"名前"]
[{"$f":"IF(A91=\"\",\"\",IF(VLOOKUP(A91,漢字書き!$A$2:$N$502,7,0)=0,\"\",VLOOKUP(A91,漢字書き!$A$2:$N$502,7,0)))","v":""},{"$f":"IF(B91=\"\",\"\",IF(VLOOKUP(B91,漢字書き!$A$2:$N$502,7,0)=0,\"\",VLOOKUP(B91,漢字書き!$A$2:$N$502,7,0)))","v":""},{"$f":"IF(C91=\"\",\"\",IF(VLOOKUP(C91,漢字書き!$A$2:$N$502,7,0)=0,\"\",VLOOKUP(C91,漢字書き!$A$2:$N$502,7,0)))","v":""},{"$f":"IF(D91=\"\",\"\",IF(VLOOKUP(D91,漢字書き!$A$2:$N$502,7,0)=0,\"\",VLOOKUP(D91,漢字書き!$A$2:$N$502,7,0)))","v":"る"},{"$f":"IF(E91=\"\",\"\",IF(VLOOKUP(E91,漢字書き!$A$2:$N$502,7,0)=0,\"\",VLOOKUP(E91,漢字書き!$A$2:$N$502,7,0)))","v":"らされる"},{"$f":"IF(F91=\"\",\"\",IF(VLOOKUP(F91,漢字書き!$A$2:$N$502,7,0)=0,\"\",VLOOKUP(F91,漢字書き!$A$2:$N$502,7,0)))","v":""},{"$f":"IF(G91=\"\",\"\",IF(VLOOKUP(G91,漢字書き!$A$2:$N$502,7,0)=0,\"\",VLOOKUP(G91,漢字書き!$A$2:$N$502,7,0)))","v":"きな"},{"$f":"IF(H91=\"\",\"\",IF(VLOOKUP(H91,漢字書き!$A$2:$N$502,7,0)=0,\"\",VLOOKUP(H91,漢字書き!$A$2:$N$502,7,0)))","v":"てる"},{"$f":"IF(I91=\"\",\"\",IF(VLOOKUP(I91,漢字書き!$A$2:$N$502,7,0)=0,\"\",VLOOKUP(I91,漢字書き!$A$2:$N$502,7,0)))","v":"け"},{"$f":"IF(J91=\"\",\"\",IF(VLOOKUP(J91,漢字書き!$A$2:$N$502,7,0)=0,\"\",VLOOKUP(J91,漢字書き!$A$2:$N$502,7,0)))","v":"も"},{"$f":"IF(K91=\"\",\"\",IF(VLOOKUP(K91,漢字読み!$A$2:$O$502,7,0)=0,\"\",VLOOKUP(K91,漢字読み!$A$2:$O$502,7,0)))","v":"めて"},{"$f":"IF(L91=\"\",\"\",IF(VLOOKUP(L91,漢字読み!$A$2:$O$502,7,0)=0,\"\",VLOOKUP(L91,漢字読み!$A$2:$O$502,7,0)))","v":"う"},{"$f":"IF(M91=\"\",\"\",IF(VLOOKUP(M91,漢字読み!$A$2:$O$502,7,0)=0,\"\",VLOOKUP(M91,漢字読み!$A$2:$O$502,7,0)))","v":"りる"},{"$f":"IF(N91=\"\",\"\",IF(VLOOKUP(N91,漢字読み!$A$2:$O$502,7,0)=0,\"\",VLOOKUP(N91,漢字読み!$A$2:$O$502,7,0)))","v":""},{"$f":"IF(O91=\"\",\"\",IF(VLOOKUP(O91,漢字読み!$A$2:$O$502,7,0)=0,\"\",VLOOKUP(O91,漢字読み!$A$2:$O$502,7,0)))","v":""},{"$f":"IF(P91=\"\",\"\",IF(VLOOKUP(P91,漢字読み!$A$2:$O$502,7,0)=0,\"\",VLOOKUP(P91,漢字読み!$A$2:$O$502,7,0)))","v":"う"},{"$f":"IF(Q91=\"\",\"\",IF(VLOOKUP(Q91,漢字読み!$A$2:$O$502,7,0)=0,\"\",VLOOKUP(Q91,漢字読み!$A$2:$O$502,7,0)))","v":"る"},{"$f":"IF(R91=\"\",\"\",IF(VLOOKUP(R91,漢字読み!$A$2:$O$502,7,0)=0,\"\",VLOOKUP(R91,漢字読み!$A$2:$O$502,7,0)))","v":""},{"$f":"IF(S91=\"\",\"\",IF(VLOOKUP(S91,漢字読み!$A$2:$O$502,7,0)=0,\"\",VLOOKUP(S91,漢字読み!$A$2:$O$502,7,0)))","v":""},{"$f":"IF(T91=\"\",\"\",IF(VLOOKUP(T91,漢字読み!$A$2:$O$502,7,0)=0,\"\",VLOOKUP(T91,漢字読み!$A$2:$O$502,7,0)))","v":""},null,null,"和歌山県教育委員会"]
[{"$f":"A86","v":161},139,64,35,120,94,143,51,206,89,127,98,193,148,40,4,216,15,20,202]
["⑳","⑲","⑱","⑰","⑯","⑮","⑭","⑬","⑫","⑪","⑩","⑨","⑧","⑦","⑥","⑤","④","③","②","①","次の［　　　　］の部分の漢字には読みがなをひらがなで書き、カタカナは漢字に直しなさい。",10,"「漢字の博士検定試験」練習問題　"]
[{"$f":"IF(A96=\"\",\"\",VLOOKUP(A96,漢字書き!$A$2:$N$506,6,0))","v":"くわしく［セツメイ］する"},{"$f":"IF(B96=\"\",\"\",VLOOKUP(B96,漢字書き!$A$2:$N$506,6,0))","v":"しっかり［ハンセイ］する"},{"$f":"IF(C96=\"\",\"\",VLOOKUP(C96,漢字書き!$A$2:$N$506,6,0))","v":"千円［サツ］を使う"},{"$f":"IF(D96=\"\",\"\",VLOOKUP(D96,漢字書き!$A$2:$N$506,6,0))","v":"［ケンコク］記ねんの日"},{"$f":"IF(E96=\"\",\"\",VLOOKUP(E96,漢字書き!$A$2:$N$506,6,0))","v":"子どもの［ワラ］い声"},{"$f":"IF(F96=\"\",\"\",VLOOKUP(F96,漢字書き!$A$2:$N$506,6,0))","v":"国を［オサ］める"},{"$f":"IF(G96=\"\",\"\",VLOOKUP(G96,漢字書き!$A$2:$N$506,6,0))","v":"字を［セイショ］する"},{"$f":"IF(H96=\"\",\"\",VLOOKUP(H96,漢字書き!$A$2:$N$506,6,0))","v":"［オキナワケン］のシーサー"},{"$f":"IF(I96=\"\",\"\",VLOOKUP(I96,漢字書き!$A$2:$N$506,6,0))","v":"［セッキョクテキ］に行動する"},{"$f":"IF(J96=\"\",\"\",VLOOKUP(J96,漢字書き!$A$2:$N$506,6,0))","v":"入学[シケン]を受ける"},{"$f":"IF(K96=\"\",\"\",VLOOKUP(K96,漢字読み!$A$2:$O$506,6,0))","v":"日に[焼]ける"},{"$f":"IF(L96=\"\",\"\",VLOOKUP(L96,漢字読み!$A$2:$O$506,6,0))","v":"国を［治］める"},{"$f":"IF(M96=\"\",\"\",VLOOKUP(M96,漢字読み!$A$2:$O$506,6,0))","v":"けい[帯]電話"},{"$f":"IF(N96=\"\",\"\",VLOOKUP(N96,漢字読み!$A$2:$O$506,6,0))","v":"［清］らかな水"},{"$f":"IF(O96=\"\",\"\",VLOOKUP(O96,漢字読み!$A$2:$O$506,6,0))","v":"[健全]な体"},{"$f":"IF(P96=\"\",\"\",VLOOKUP(P96,漢字読み!$A$2:$O$506,6,0))","v":"手が［挙］がる"},{"$f":"IF(Q96=\"\",\"\",VLOOKUP(Q96,漢字読み!$A$2:$O$506,6,0))","v":"えさに［群］がる"},{"$f":"IF(R96=\"\",\"\",VLOOKUP(R96,漢字読み!$A$2:$O$506,6,0))","v":"百メートル［競走］"},{"$f":"IF(S96=\"\",\"\",VLOOKUP(S96,漢字読み!$A$2:$O$506,6,0))","v":"［訓読］みの漢字"},{"$f":"IF(T96=\"\",\"\",VLOOKUP(T96,漢字読み!$A$2:$O$506,6,0))","v":"かばんを［置］く"},null,"級"]
[{"$f":"IF(A$16=\"\",\"\",VLOOKUP(A96,漢字書き!$A$2:$O$506,8,0))","v":"説明"},{"$f":"IF(B$16=\"\",\"\",VLOOKUP(B96,漢字書き!$A$2:$O$506,8,0))","v":"反省"},{"$f":"IF(C$16=\"\",\"\",VLOOKUP(C96,漢字書き!$A$2:$O$506,8,0))","v":"札"},{"$f":"IF(D$16=\"\",\"\",VLOOKUP(D96,漢字書き!$A$2:$O$506,8,0))","v":"建国"},{"$f":"IF(E$16=\"\",\"\",VLOOKUP(E96,漢字書き!$A$2:$O$506,8,0))","v":"笑"},{"$f":"IF(F$16=\"\",\"\",VLOOKUP(F96,漢字書き!$A$2:$O$506,8,0))","v":"治"},{"$f":"IF(G$16=\"\",\"\",VLOOKUP(G96,漢字書き!$A$2:$O$506,8,0))","v":"清書"},{"$f":"IF(H$16=\"\",\"\",VLOOKUP(H96,漢字書き!$A$2:$O$506,8,0))","v":"沖縄県"},{"$f":"IF(I$16=\"\",\"\",VLOOKUP(I96,漢字書き!$A$2:$O$506,8,0))","v":"積極的"},{"$f":"IF(J$16=\"\",\"\",VLOOKUP(J96,漢字書き!$A$2:$O$506,8,0))","v":"試験"},{"$f":"IF(K$16=\"\",\"\",VLOOKUP(K96,漢字読み!$A$2:$O$506,8,0))","v":"や"},{"$f":"IF(L$16=\"\",\"\",VLOOKUP(L96,漢字読み!$A$2:$O$506,8,0))","v":"おさ"},{"$f":"IF(M$16=\"\",\"\",VLOOKUP(M96,漢字読み!$A$2:$O$506,8,0))","v":"たい"},{"$f":"IF(N$16=\"\",\"\",VLOOKUP(N96,漢字読み!$A$2:$O$506,8,0))","v":"きよ"},{"$f":"IF(O$16=\"\",\"\",VLOOKUP(O96,漢字読み!$A$2:$O$506,8,0))","v":"けんぜん"},{"$f":"IF(P$16=\"\",\"\",VLOOKUP(P96,漢字読み!$A$2:$O$506,8,0))","v":"あ"},{"$f":"IF(Q$16=\"\",\"\",VLOOKUP(Q96,漢字読み!$A$2:$O$506,8,0))","v":"むら"},{"$f":"IF(R$16=\"\",\"\",VLOOKUP(R96,漢字読み!$A$2:$O$506,8,0))","v":"きょうそう"},{"$f":"IF(S$16=\"\",\"\",VLOOKUP(S96,漢字読み!$A$2:$O$506,8,0))","v":"くんよ"},{"$f":"IF(T$16=\"\",\"\",VLOOKUP(T96,漢字読み!$A$2:$O$506,8,0))","v":"お"},null,"名前"]
[{"$f":"IF(A96=\"\",\"\",IF(VLOOKUP(A96,漢字書き!$A$2:$N$502,7,0)=0,\"\",VLOOKUP(A96,漢字書き!$A$2:$N$502,7,0)))","v":"する"},{"$f":"IF(B96=\"\",\"\",IF(VLOOKUP(B96,漢字書き!$A$2:$N$502,7,0)=0,\"\",VLOOKUP(B96,漢字書き!$A$2:$N$502,7,0)))","v":"する"},{"$f":"IF(C96=\"\",\"\",IF(VLOOKUP(C96,漢字書き!$A$2:$N$502,7,0)=0,\"\",VLOOKUP(C96,漢字書き!$A$2:$N$502,7,0)))","v":""},{"$f":"IF(D96=\"\",\"\",IF(VLOOKUP(D96,漢字書き!$A$2:$N$502,7,0)=0,\"\",VLOOKUP(D96,漢字書き!$A$2:$N$502,7,0)))","v":""},{"$f":"IF(E96=\"\",\"\",IF(VLOOKUP(E96,漢字書き!$A$2:$N$502,7,0)=0,\"\",VLOOKUP(E96,漢字書き!$A$2:$N$502,7,0)))","v":"い声"},{"$f":"IF(F96=\"\",\"\",IF(VLOOKUP(F96,漢字書き!$A$2:$N$502,7,0)=0,\"\",VLOOKUP(F96,漢字書き!$A$2:$N$502,7,0)))","v":"める"},{"$f":"IF(G96=\"\",\"\",IF(VLOOKUP(G96,漢字書き!$A$2:$N$502,7,0)=0,\"\",VLOOKUP(G96,漢字書き!$A$2:$N$502,7,0)))","v":"する"},{"$f":"IF(H96=\"\",\"\",IF(VLOOKUP(H96,漢字書き!$A$2:$N$502,7,0)=0,\"\",VLOOKUP(H96,漢字書き!$A$2:$N$502,7,0)))","v":""},{"$f":"IF(I96=\"\",\"\",IF(VLOOKUP(I96,漢字書き!$A$2:$N$502,7,0)=0,\"\",VLOOKUP(I96,漢字書き!$A$2:$N$502,7,0)))","v":"に"},{"$f":"IF(J96=\"\",\"\",IF(VLOOKUP(J96,漢字書き!$A$2:$N$502,7,0)=0,\"\",VLOOKUP(J96,漢字書き!$A$2:$N$502,7,0)))","v":""},{"$f":"IF(K96=\"\",\"\",IF(VLOOKUP(K96,漢字読み!$A$2:$O$502,7,0)=0,\"\",VLOOKUP(K96,漢字読み!$A$2:$O$502,7,0)))","v":"ける"},{"$f":"IF(L96=\"\",\"\",IF(VLOOKUP(L96,漢字読み!$A$2:$O$502,7,0)=0,\"\",VLOOKUP(L96,漢字読み!$A$2:$O$502,7,0)))","v":"める"},{"$f":"IF(M96=\"\",\"\",IF(VLOOKUP(M96,漢字読み!$A$2:$O$502,7,0)=0,\"\",VLOOKUP(M96,漢字読み!$A$2:$O$502,7,0)))","v":""},{"$f":"IF(N96=\"\",\"\",IF(VLOOKUP(N96,漢字読み!$A$2:$O$502,7,0)=0,\"\",VLOOKUP(N96,漢字読み!$A$2:$O$502,7,0)))","v":"らかな"},{"$f":"IF(O96=\"\",\"\",IF(VLOOKUP(O96,漢字読み!$A$2:$O$502,7,0)=0,\"\",VLOOKUP(O96,漢字読み!$A$2:$O$502,7,0)))","v":"な"},{"$f":"IF(P96=\"\",\"\",IF(VLOOKUP(P96,漢字読み!$A$2:$O$502,7,0)=0,\"\",VLOOKUP(P96,漢字読み!$A$2:$O$502,7,0)))","v":"がる"},{"$f":"IF(Q96=\"\",\"\",IF(VLOOKUP(Q96,漢字読み!$A$2:$O$502,7,0)=0,\"\",VLOOKUP(Q96,漢字読み!$A$2:$O$502,7,0)))","v":"がる"},{"$f":"IF(R96=\"\",\"\",IF(VLOOKUP(R96,漢字読み!$A$2:$O$502,7,0)=0,\"\",VLOOKUP(R96,漢字読み!$A$2:$O$502,7,0)))","v":""},{"$f":"IF(S96=\"\",\"\",IF(VLOOKUP(S96,漢字読み!$A$2:$O$502,7,0)=0,\"\",VLOOKUP(S96,漢字読み!$A$2:$O$502,7,0)))","v":"み"},{"$f":"IF(T96=\"\",\"\",IF(VLOOKUP(T96,漢字読み!$A$2:$O$502,7,0)=0,\"\",VLOOKUP(T96,漢字読み!$A$2:$O$502,7,0)))","v":"く"},null,null,"和歌山県教育委員会"]
[{"$f":"INDIRECT(\"'関数（書き）'!C\" & COLUMN(B$1)+SUM($AD$2:$AD102))","v":50},{"$f":"INDIRECT(\"'関数（書き）'!C\" & COLUMN(C$1)+SUM($AD$2:$AD102))","v":38},{"$f":"INDIRECT(\"'関数（書き）'!C\" & COLUMN(D$1)+SUM($AD$2:$AD102))","v":205},{"$f":"INDIRECT(\"'関数（書き）'!C\" & COLUMN(E$1)+SUM($AD$2:$AD102))","v":163},{"$f":"INDIRECT(\"'関数（書き）'!C\" & COLUMN(F$1)+SUM($AD$2:$AD102))","v":198},{"$f":"INDIRECT(\"'関数（書き）'!C\" & COLUMN(G$1)+SUM($AD$2:$AD102))","v":158},{"$f":"INDIRECT(\"'関数（書き）'!C\" & COLUMN(H$1)+SUM($AD$2:$AD102))","v":88},{"$f":"INDIRECT(\"'関数（書き）'!C\" & COLUMN(I$1)+SUM($AD$2:$AD102))","v":207},{"$f":"INDIRECT(\"'関数（書き）'!C\" & COLUMN(J$1)+SUM($AD$2:$AD102))","v":19},{"$f":"INDIRECT(\"'関数（書き）'!C\" & COLUMN(K$1)+SUM($AD$2:$AD102))","v":144},{"$f":"INDIRECT(\"'関数（読み）'!C\" & COLUMN(B$1)+SUM($AD$2:$AD102))","v":8},{"$f":"INDIRECT(\"'関数（読み）'!C\" & COLUMN(C$1)+SUM($AD$2:$AD102))","v":13},{"$f":"INDIRECT(\"'関数（読み）'!C\" & COLUMN(D$1)+SUM($AD$2:$AD102))","v":77},{"$f":"INDIRECT(\"'関数（読み）'!C\" & COLUMN(E$1)+SUM($AD$2:$AD102))","v":35},{"$f":"INDIRECT(\"'関数（読み）'!C\" & COLUMN(F$1)+SUM($AD$2:$AD102))","v":27},{"$f":"INDIRECT(\"'関数（読み）'!C\" & COLUMN(G$1)+SUM($AD$2:$AD102))","v":114},{"$f":"INDIRECT(\"'関数（読み）'!C\" & COLUMN(H$1)+SUM($AD$2:$AD102))","v":175},{"$f":"INDIRECT(\"'関数（読み）'!C\" & COLUMN(I$1)+SUM($AD$2:$AD102))","v":22},{"$f":"INDIRECT(\"'関数（読み）'!C\" & COLUMN(J$1)+SUM($AD$2:$AD102))","v":92},{"$f":"INDIRECT(\"'関数（読み）'!C\" & COLUMN(K$1)+SUM($AD$2:$AD102))","v":31}]
["⑳","⑲","⑱","⑰","⑯","⑮","⑭","⑬","⑫","⑪","⑩","⑨","⑧","⑦","⑥","⑤","④","③","②","①","次の［　　　　］の部分の漢字には読みがなをひらがなで書き、カタカナは漢字に直しなさい。",10,"「漢字の博士検定試験」練習問題　",null,null,null,null,null,"←",10,"問",{"$f":"AH87+1","v":101},"～",{"$f":"SUM($AD$2:$AD102)+10","v":110},"問まで",{"$f":"COUNTIF($A$1:$T$200,T103)","v":2}]
[{"$f":"IF(A101=\"\",\"\",VLOOKUP(A101,漢字書き!$A$2:$N$506,6,0))","v":"［テンコウ］が変わる"},{"$f":"IF(B101=\"\",\"\",VLOOKUP(B101,漢字書き!$A$2:$N$506,6,0))","v":"ほ［ケンシツ］の先生"},{"$f":"IF(C101=\"\",\"\",VLOOKUP(C101,漢字書き!$A$2:$N$506,6,0))","v":"アリの[タイグン]"},{"$f":"IF(D101=\"\",\"\",VLOOKUP(D101,漢字書き!$A$2:$N$506,6,0))","v":"［アサ］い川"},{"$f":"IF(E101=\"\",\"\",VLOOKUP(E101,漢字書き!$A$2:$N$506,6,0))","v":"[ナワ]とびをする"},{"$f":"IF(F101=\"\",\"\",VLOOKUP(F101,漢字書き!$A$2:$N$506,6,0))","v":"よい［キセツ］"},{"$f":"IF(G101=\"\",\"\",VLOOKUP(G101,漢字書き!$A$2:$N$506,6,0))","v":"実験を［ココロ］みる"},{"$f":"IF(H101=\"\",\"\",VLOOKUP(H101,漢字書き!$A$2:$N$506,6,0))","v":"［マト］に当てる"},{"$f":"IF(I101=\"\",\"\",VLOOKUP(I101,漢字書き!$A$2:$N$506,6,0))","v":"ひなん［クンレン］"},{"$f":"IF(J101=\"\",\"\",VLOOKUP(J101,漢字書き!$A$2:$N$506,6,0))","v":"［キヨ］らかな流れ"},{"$f":"IF(K101=\"\",\"\",VLOOKUP(K101,漢字読み!$A$2:$O$506,6,0))","v":"［漁］に出る"},{"$f":"IF(L101=\"\",\"\",VLOOKUP(L101,漢字読み!$A$2:$O$506,6,0))","v":"母の［鏡台］"},{"$f":"IF(M101=\"\",\"\",VLOOKUP(M101,漢字読み!$A$2:$O$506,6,0))","v":"工場で［生産］する"},{"$f":"IF(N101=\"\",\"\",VLOOKUP(N101,漢字読み!$A$2:$O$506,6,0))","v":"ひもを［結］ぶ"},{"$f":"IF(O101=\"\",\"\",VLOOKUP(O101,漢字読み!$A$2:$O$506,6,0))","v":"すばらしい［風景］"},{"$f":"IF(P101=\"\",\"\",VLOOKUP(P101,漢字読み!$A$2:$O$506,6,0))","v":"［順番］を待つ"},{"$f":"IF(Q101=\"\",\"\",VLOOKUP(Q101,漢字読み!$A$2:$O$506,6,0))","v":"［倉庫］に運ぶ"},{"$f":"IF(R101=\"\",\"\",VLOOKUP(R101,漢字読み!$A$2:$O$506,6,0))","v":"［郡］と町村"},{"$f":"IF(S101=\"\",\"\",VLOOKUP(S101,漢字読み!$A$2:$O$506,6,0))","v":"新しいやり方を［試］みる"},{"$f":"IF(T101=\"\",\"\",VLOOKUP(T101,漢字読み!$A$2:$O$506,6,0))","v":"［学芸会］でげきをする"},null,"級"]
[null,null,null,null,null,null,null,null,null,null,null,null,null,null,null,null,null,null,null,null,null,"名前"]
[{"$f":"IF(A101=\"\",\"\",IF(VLOOKUP(A101,漢字書き!$A$2:$N$502,7,0)=0,\"\",VLOOKUP(A101,漢字書き!$A$2:$N$502,7,0)))","v":""},{"$f":"IF(B101=\"\",\"\",IF(VLOOKUP(B101,漢字書き!$A$2:$N$502,7,0)=0,\"\",VLOOKUP(B101,漢字書き!$A$2:$N$502,7,0)))","v":""},{"$f":"IF(C101=\"\",\"\",IF(VLOOKUP(C101,漢字書き!$A$2:$N$502,7,0)=0,\"\",VLOOKUP(C101,漢字書き!$A$2:$N$502,7,0)))","v":""},{"$f":"IF(D101=\"\",\"\",IF(VLOOKUP(D101,漢字書き!$A$2:$N$502,7,0)=0,\"\",VLOOKUP(D101,漢字書き!$A$2:$N$502,7,0)))","v":"い"},{"$f":"IF(E101=\"\",\"\",IF(VLOOKUP(E101,漢字書き!$A$2:$N$502,7,0)=0,\"\",VLOOKUP(E101,漢字書き!$A$2:$N$502,7,0)))","v":"とび"},{"$f":"IF(F101=\"\",\"\",IF(VLOOKUP(F101,漢字書き!$A$2:$N$502,7,0)=0,\"\",VLOOKUP(F101,漢字書き!$A$2:$N$502,7,0)))","v":""},{"$f":"IF(G101=\"\",\"\",IF(VLOOKUP(G101,漢字書き!$A$2:$N$502,7,0)=0,\"\",VLOOKUP(G101,漢字書き!$A$2:$N$502,7,0)))","v":"みる"},{"$f":"IF(H101=\"\",\"\",IF(VLOOKUP(H101,漢字書き!$A$2:$N$502,7,0)=0,\"\",VLOOKUP(H101,漢字書き!$A$2:$N$502,7,0)))","v":""},{"$f":"IF(I101=\"\",\"\",IF(VLOOKUP(I101,漢字書き!$A$2:$N$502,7,0)=0,\"\",VLOOKUP(I101,漢字書き!$A$2:$N$502,7,0)))","v":""},{"$f":"IF(J101=\"\",\"\",IF(VLOOKUP(J101,漢字書き!$A$2:$N$502,7,0)=0,\"\",VLOOKUP(J101,漢字書き!$A$2:$N$502,7,0)))","v":"らかな"},{"$f":"IF(K101=\"\",\"\",IF(VLOOKUP(K101,漢字読み!$A$2:$O$502,7,0)=0,\"\",VLOOKUP(K101,漢字読み!$A$2:$O$502,7,0)))","v":""},{"$f":"IF(L101=\"\",\"\",IF(VLOOKUP(L101,漢字読み!$A$2:$O$502,7,0)=0,\"\",VLOOKUP(L101,漢字読み!$A$2:$O$502,7,0)))","v":""},{"$f":"IF(M101=\"\",\"\",IF(VLOOKUP(M101,漢字読み!$A$2:$O$502,7,0)=0,\"\",VLOOKUP(M101,漢字読み!$A$2:$O$502,7,0)))","v":"する"},{"$f":"IF(N101=\"\",\"\",IF(VLOOKUP(N101,漢字読み!$A$2:$O$502,7,0)=0,\"\",VLOOKUP(N101,漢字読み!$A$2:$O$502,7,0)))","v":"ぶ"},{"$f":"IF(O101=\"\",\"\",IF(VLOOKUP(O101,漢字読み!$A$2:$O$502,7,0)=0,\"\",VLOOKUP(O101,漢字読み!$A$2:$O$502,7,0)))","v":""},{"$f":"IF(P101=\"\",\"\",IF(VLOOKUP(P101,漢字読み!$A$2:$O$502,7,0)=0,\"\",VLOOKUP(P101,漢字読み!$A$2:$O$502,7,0)))","v":""},{"$f":"IF(Q101=\"\",\"\",IF(VLOOKUP(Q101,漢字読み!$A$2:$O$502,7,0)=0,\"\",VLOOKUP(Q101,漢字読み!$A$2:$O$502,7,0)))","v":""},{"$f":"IF(R101=\"\",\"\",IF(VLOOKUP(R101,漢字読み!$A$2:$O$502,7,0)=0,\"\",VLOOKUP(R101,漢字読み!$A$2:$O$502,7,0)))","v":""},{"$f":"IF(S101=\"\",\"\",IF(VLOOKUP(S101,漢字読み!$A$2:$O$502,7,0)=0,\"\",VLOOKUP(S101,漢字読み!$A$2:$O$502,7,0)))","v":"みる"},{"$f":"IF(T101=\"\",\"\",IF(VLOOKUP(T101,漢字読み!$A$2:$O$502,7,0)=0,\"\",VLOOKUP(T101,漢字読み!$A$2:$O$502,7,0)))","v":""},null,null,"和歌山県教育委員会"]
[{"$f":"INDIRECT(\"'関数（書き）'!C\" & COLUMN(B$1)+SUM($AD$2:$AD107))","v":129},{"$f":"INDIRECT(\"'関数（書き）'!C\" & COLUMN(C$1)+SUM($AD$2:$AD107))","v":200},{"$f":"INDIRECT(\"'関数（書き）'!C\" & COLUMN(D$1)+SUM($AD$2:$AD107))","v":137},{"$f":"INDIRECT(\"'関数（書き）'!C\" & COLUMN(E$1)+SUM($AD$2:$AD107))","v":148},{"$f":"INDIRECT(\"'関数（書き）'!C\" & COLUMN(F$1)+SUM($AD$2:$AD107))","v":170},{"$f":"INDIRECT(\"'関数（書き）'!C\" & COLUMN(G$1)+SUM($AD$2:$AD107))","v":175},{"$f":"INDIRECT(\"'関数（書き）'!C\" & COLUMN(H$1)+SUM($AD$2:$AD107))","v":147},{"$f":"INDIRECT(\"'関数（書き）'!C\" & COLUMN(I$1)+SUM($AD$2:$AD107))","v":33},{"$f":"INDIRECT(\"'関数（書き）'!C\" & COLUMN(J$1)+SUM($AD$2:$AD107))","v":119},{"$f":"INDIRECT(\"'関数（書き）'!C\" & COLUMN(K$1)+SUM($AD$2:$AD107))","v":98},{"$f":"INDIRECT(\"'関数（読み）'!C\" & COLUMN(B$1)+SUM($AD$2:$AD107))","v":61},{"$f":"INDIRECT(\"'関数（読み）'!C\" & COLUMN(C$1)+SUM($AD$2:$AD107))","v":144},{"$f":"INDIRECT(\"'関数（読み）'!C\" & COLUMN(D$1)+SUM($AD$2:$AD107))","v":199},{"$f":"INDIRECT(\"'関数（読み）'!C\" & COLUMN(E$1)+SUM($AD$2:$AD107))","v":129},{"$f":"INDIRECT(\"'関数（読み）'!C\" & COLUMN(F$1)+SUM($AD$2:$AD107))","v":222},{"$f":"INDIRECT(\"'関数（読み）'!C\" & COLUMN(G$1)+SUM($AD$2:$AD107))","v":118},{"$f":"INDIRECT(\"'関数（読み）'!C\" & COLUMN(H$1)+SUM($AD$2:$AD107))","v":134},{"$f":"INDIRECT(\"'関数（読み）'!C\" & COLUMN(I$1)+SUM($AD$2:$AD107))","v":25},{"$f":"INDIRECT(\"'関数（読み）'!C\" & COLUMN(J$1)+SUM($AD$2:$AD107))","v":53},{"$f":"INDIRECT(\"'関数（読み）'!C\" & COLUMN(K$1)+SUM($AD$2:$AD107))","v":83}]
["⑳","⑲","⑱","⑰","⑯","⑮","⑭","⑬","⑫","⑪","⑩","⑨","⑧","⑦","⑥","⑤","④","③","②","①","次の［　　　　］の部分の漢字には読みがなをひらがなで書き、カタカナは漢字に直しなさい。",10,"「漢字の博士検定試験」練習問題　",null,null,null,null,null,"←",10,"問",{"$f":"AH102+1","v":111},"～",{"$f":"SUM($AD$2:$AD107)+10","v":120},"問まで",{"$f":"COUNTIF($A$1:$T$200,T108)","v":2}]
[{"$f":"IF(A106=\"\",\"\",VLOOKUP(A106,漢字書き!$A$2:$N$506,6,0))","v":"ぶりの［テ］り焼き"},{"$f":"IF(B106=\"\",\"\",VLOOKUP(B106,漢字書き!$A$2:$N$506,6,0))","v":"［テイオン］の声"},{"$f":"IF(C106=\"\",\"\",VLOOKUP(C106,漢字書き!$A$2:$N$506,6,0))","v":"漢字の［ナ］り立ち"},{"$f":"IF(D106=\"\",\"\",VLOOKUP(D106,漢字書き!$A$2:$N$506,6,0))","v":"［シズ］かな教室"},{"$f":"IF(E106=\"\",\"\",VLOOKUP(E106,漢字書き!$A$2:$N$506,6,0))","v":"委員に［エラ］ばれる"},{"$f":"IF(F106=\"\",\"\",VLOOKUP(F106,漢字書き!$A$2:$N$506,6,0))","v":"［ソウコ］にかたづける"},{"$f":"IF(G106=\"\",\"\",VLOOKUP(G106,漢字書き!$A$2:$N$506,6,0))","v":"さわぎが［シズ］まる"},{"$f":"IF(H106=\"\",\"\",VLOOKUP(H106,漢字書き!$A$2:$N$506,6,0))","v":"ひもを［ムス］ぶ"},{"$f":"IF(I106=\"\",\"\",VLOOKUP(I106,漢字書き!$A$2:$N$506,6,0))","v":"［マツバヤシ］の中"},{"$f":"IF(J106=\"\",\"\",VLOOKUP(J106,漢字書き!$A$2:$N$506,6,0))","v":"［ジショ］を買う"},{"$f":"IF(K106=\"\",\"\",VLOOKUP(K106,漢字読み!$A$2:$O$506,6,0))","v":"［最高］の気分"},{"$f":"IF(L106=\"\",\"\",VLOOKUP(L106,漢字読み!$A$2:$O$506,6,0))","v":"［成］り上がり者だ"},{"$f":"IF(M106=\"\",\"\",VLOOKUP(M106,漢字読み!$A$2:$O$506,6,0))","v":"新聞を［配達］する"},{"$f":"IF(N106=\"\",\"\",VLOOKUP(N106,漢字読み!$A$2:$O$506,6,0))","v":"和歌山県のお［城］"},{"$f":"IF(O106=\"\",\"\",VLOOKUP(O106,漢字読み!$A$2:$O$506,6,0))","v":"［井］の中のかわず"},{"$f":"IF(P106=\"\",\"\",VLOOKUP(P106,漢字読み!$A$2:$O$506,6,0))","v":"[初雪]がふる"},{"$f":"IF(Q106=\"\",\"\",VLOOKUP(Q106,漢字読み!$A$2:$O$506,6,0))","v":"［日照］りが続く"},{"$f":"IF(R106=\"\",\"\",VLOOKUP(R106,漢字読み!$A$2:$O$506,6,0))","v":"声を上げて［泣］く"},{"$f":"IF(S106=\"\",\"\",VLOOKUP(S106,漢字読み!$A$2:$O$506,6,0))","v":"［健康］な体"},{"$f":"IF(T106=\"\",\"\",VLOOKUP(T106,漢字読み!$A$2:$O$506,6,0))","v":"部屋を［散］らかす"},null,"級"]
[null,null,null,null,null,null,null,null,null,null,null,null,null,null,null,null,null,null,null,null,null,"名前"]
[{"$f":"IF(A106=\"\",\"\",IF(VLOOKUP(A106,漢字書き!$A$2:$N$502,7,0)=0,\"\",VLOOKUP(A106,漢字書き!$A$2:$N$502,7,0)))","v":"り焼き"},{"$f":"IF(B106=\"\",\"\",IF(VLOOKUP(B106,漢字書き!$A$2:$N$502,7,0)=0,\"\",VLOOKUP(B106,漢字書き!$A$2:$N$502,7,0)))","v":""},{"$f":"IF(C106=\"\",\"\",IF(VLOOKUP(C106,漢字書き!$A$2:$N$502,7,0)=0,\"\",VLOOKUP(C106,漢字書き!$A$2:$N$502,7,0)))","v":"り立ち"},{"$f":"IF(D106=\"\",\"\",IF(VLOOKUP(D106,漢字書き!$A$2:$N$502,7,0)=0,\"\",VLOOKUP(D106,漢字書き!$A$2:$N$502,7,0)))","v":"かな"},{"$f":"IF(E106=\"\",\"\",IF(VLOOKUP(E106,漢字書き!$A$2:$N$502,7,0)=0,\"\",VLOOKUP(E106,漢字書き!$A$2:$N$502,7,0)))","v":"ばれる"},{"$f":"IF(F106=\"\",\"\",IF(VLOOKUP(F106,漢字書き!$A$2:$N$502,7,0)=0,\"\",VLOOKUP(F106,漢字書き!$A$2:$N$502,7,0)))","v":""},{"$f":"IF(G106=\"\",\"\",IF(VLOOKUP(G106,漢字書き!$A$2:$N$502,7,0)=0,\"\",VLOOKUP(G106,漢字書き!$A$2:$N$502,7,0)))","v":"まる"},{"$f":"IF(H106=\"\",\"\",IF(VLOOKUP(H106,漢字書き!$A$2:$N$502,7,0)=0,\"\",VLOOKUP(H106,漢字書き!$A$2:$N$502,7,0)))","v":"ぶ"},{"$f":"IF(I106=\"\",\"\",IF(VLOOKUP(I106,漢字書き!$A$2:$N$502,7,0)=0,\"\",VLOOKUP(I106,漢字書き!$A$2:$N$502,7,0)))","v":""},{"$f":"IF(J106=\"\",\"\",IF(VLOOKUP(J106,漢字書き!$A$2:$N$502,7,0)=0,\"\",VLOOKUP(J106,漢字書き!$A$2:$N$502,7,0)))","v":""},{"$f":"IF(K106=\"\",\"\",IF(VLOOKUP(K106,漢字読み!$A$2:$O$502,7,0)=0,\"\",VLOOKUP(K106,漢字読み!$A$2:$O$502,7,0)))","v":""},{"$f":"IF(L106=\"\",\"\",IF(VLOOKUP(L106,漢字読み!$A$2:$O$502,7,0)=0,\"\",VLOOKUP(L106,漢字読み!$A$2:$O$502,7,0)))","v":"り"},{"$f":"IF(M106=\"\",\"\",IF(VLOOKUP(M106,漢字読み!$A$2:$O$502,7,0)=0,\"\",VLOOKUP(M106,漢字読み!$A$2:$O$502,7,0)))","v":"する"},{"$f":"IF(N106=\"\",\"\",IF(VLOOKUP(N106,漢字読み!$A$2:$O$502,7,0)=0,\"\",VLOOKUP(N106,漢字読み!$A$2:$O$502,7,0)))","v":""},{"$f":"IF(O106=\"\",\"\",IF(VLOOKUP(O106,漢字読み!$A$2:$O$502,7,0)=0,\"\",VLOOKUP(O106,漢字読み!$A$2:$O$502,7,0)))","v":""},{"$f":"IF(P106=\"\",\"\",IF(VLOOKUP(P106,漢字読み!$A$2:$O$502,7,0)=0,\"\",VLOOKUP(P106,漢字読み!$A$2:$O$502,7,0)))","v":""},{"$f":"IF(Q106=\"\",\"\",IF(VLOOKUP(Q106,漢字読み!$A$2:$O$502,7,0)=0,\"\",VLOOKUP(Q106,漢字読み!$A$2:$O$502,7,0)))","v":"り"},{"$f":"IF(R106=\"\",\"\",IF(VLOOKUP(R106,漢字読み!$A$2:$O$502,7,0)=0,\"\",VLOOKUP(R106,漢字読み!$A$2:$O$502,7,0)))","v":"く"},{"$f":"IF(S106=\"\",\"\",IF(VLOOKUP(S106,漢字読み!$A$2:$O$502,7,0)=0,\"\",VLOOKUP(S106,漢字読み!$A$2:$O$502,7,0)))","v":"な"},{"$f":"IF(T106=\"\",\"\",IF(VLOOKUP(T106,漢字読み!$A$2:$O$502,7,0)=0,\"\",VLOOKUP(T106,漢字読み!$A$2:$O$502,7,0)))","v":"らかす"},null,null,"和歌山県教育委員会"]
[{"$f":"A101","v":50},38,205,163,198,158,88,207,19,144,8,13,77,35,27,114,175,22,92,31]
["⑳","⑲","⑱","⑰","⑯","⑮","⑭","⑬","⑫","⑪","⑩","⑨","⑧","⑦","⑥","⑤","④","③","②","①","次の［　　　　］の部分の漢字には読みがなをひらがなで書き、カタカナは漢字に直しなさい。",10,"「漢字の博士検定試験」練習問題　"]
[{"$f":"IF(A111=\"\",\"\",VLOOKUP(A111,漢字書き!$A$2:$N$506,6,0))","v":"［テンコウ］が変わる"},{"$f":"IF(B111=\"\",\"\",VLOOKUP(B111,漢字書き!$A$2:$N$506,6,0))","v":"ほ［ケンシツ］の先生"},{"$f":"IF(C111=\"\",\"\",VLOOKUP(C111,漢字書き!$A$2:$N$506,6,0))","v":"アリの[タイグン]"},{"$f":"IF(D111=\"\",\"\",VLOOKUP(D111,漢字書き!$A$2:$N$506,6,0))","v":"［アサ］い川"},{"$f":"IF(E111=\"\",\"\",VLOOKUP(E111,漢字書き!$A$2:$N$506,6,0))","v":"[ナワ]とびをする"},{"$f":"IF(F111=\"\",\"\",VLOOKUP(F111,漢字書き!$A$2:$N$506,6,0))","v":"よい［キセツ］"},{"$f":"IF(G111=\"\",\"\",VLOOKUP(G111,漢字書き!$A$2:$N$506,6,0))","v":"実験を［ココロ］みる"},{"$f":"IF(H111=\"\",\"\",VLOOKUP(H111,漢字書き!$A$2:$N$506,6,0))","v":"［マト］に当てる"},{"$f":"IF(I111=\"\",\"\",VLOOKUP(I111,漢字書き!$A$2:$N$506,6,0))","v":"ひなん［クンレン］"},{"$f":"IF(J111=\"\",\"\",VLOOKUP(J111,漢字書き!$A$2:$N$506,6,0))","v":"［キヨ］らかな流れ"},{"$f":"IF(K111=\"\",\"\",VLOOKUP(K111,漢字読み!$A$2:$O$506,6,0))","v":"［漁］に出る"},{"$f":"IF(L111=\"\",\"\",VLOOKUP(L111,漢字読み!$A$2:$O$506,6,0))","v":"母の［鏡台］"},{"$f":"IF(M111=\"\",\"\",VLOOKUP(M111,漢字読み!$A$2:$O$506,6,0))","v":"工場で［生産］する"},{"$f":"IF(N111=\"\",\"\",VLOOKUP(N111,漢字読み!$A$2:$O$506,6,0))","v":"ひもを［結］ぶ"},{"$f":"IF(O111=\"\",\"\",VLOOKUP(O111,漢字読み!$A$2:$O$506,6,0))","v":"すばらしい［風景］"},{"$f":"IF(P111=\"\",\"\",VLOOKUP(P111,漢字読み!$A$2:$O$506,6,0))","v":"［順番］を待つ"},{"$f":"IF(Q111=\"\",\"\",VLOOKUP(Q111,漢字読み!$A$2:$O$506,6,0))","v":"［倉庫］に運ぶ"},{"$f":"IF(R111=\"\",\"\",VLOOKUP(R111,漢字読み!$A$2:$O$506,6,0))","v":"［郡］と町村"},{"$f":"IF(S111=\"\",\"\",VLOOKUP(S111,漢字読み!$A$2:$O$506,6,0))","v":"新しいやり方を［試］みる"},{"$f":"IF(T111=\"\",\"\",VLOOKUP(T111,漢字読み!$A$2:$O$506,6,0))","v":"［学芸会］でげきをする"},null,"級"]
[{"$f":"IF(A$11=\"\",\"\",VLOOKUP(A111,漢字書き!$A$2:$O$506,8,0))","v":"天候"},{"$f":"IF(B$11=\"\",\"\",VLOOKUP(B111,漢字書き!$A$2:$O$506,8,0))","v":"健室"},{"$f":"IF(C$11=\"\",\"\",VLOOKUP(C111,漢字書き!$A$2:$O$506,8,0))","v":"大群"},{"$f":"IF(D$11=\"\",\"\",VLOOKUP(D111,漢字書き!$A$2:$O$506,8,0))","v":"浅"},{"$f":"IF(E$11=\"\",\"\",VLOOKUP(E111,漢字書き!$A$2:$O$506,8,0))","v":"縄"},{"$f":"IF(F$11=\"\",\"\",VLOOKUP(F111,漢字書き!$A$2:$O$506,8,0))","v":"季節"},{"$f":"IF(G$11=\"\",\"\",VLOOKUP(G111,漢字書き!$A$2:$O$506,8,0))","v":"試"},{"$f":"IF(H$11=\"\",\"\",VLOOKUP(H111,漢字書き!$A$2:$O$506,8,0))","v":"的"},{"$f":"IF(I$11=\"\",\"\",VLOOKUP(I111,漢字書き!$A$2:$O$506,8,0))","v":"訓練"},{"$f":"IF(J$11=\"\",\"\",VLOOKUP(J111,漢字書き!$A$2:$O$506,8,0))","v":"清"},{"$f":"IF(K$11=\"\",\"\",VLOOKUP(K111,漢字読み!$A$2:$O$506,8,0))","v":"りょう"},{"$f":"IF(L$11=\"\",\"\",VLOOKUP(L111,漢字読み!$A$2:$O$506,8,0))","v":"きょうだい"},{"$f":"IF(M$11=\"\",\"\",VLOOKUP(M111,漢字読み!$A$2:$O$506,8,0))","v":"せいさん"},{"$f":"IF(N$11=\"\",\"\",VLOOKUP(N111,漢字読み!$A$2:$O$506,8,0))","v":"むす"},{"$f":"IF(O$11=\"\",\"\",VLOOKUP(O111,漢字読み!$A$2:$O$506,8,0))","v":"ふうけい"},{"$f":"IF(P$11=\"\",\"\",VLOOKUP(P111,漢字読み!$A$2:$O$506,8,0))","v":"じゅんばん"},{"$f":"IF(Q$11=\"\",\"\",VLOOKUP(Q111,漢字読み!$A$2:$O$506,8,0))","v":"そうこ"},{"$f":"IF(R$11=\"\",\"\",VLOOKUP(R111,漢字読み!$A$2:$O$506,8,0))","v":"ぐん"},{"$f":"IF(S$11=\"\",\"\",VLOOKUP(S111,漢字読み!$A$2:$O$506,8,0))","v":"こころ"},{"$f":"IF(T$11=\"\",\"\",VLOOKUP(T111,漢字読み!$A$2:$O$506,8,0))","v":"がくげいかい"},null,"名前"]
[{"$f":"IF(A111=\"\",\"\",IF(VLOOKUP(A111,漢字書き!$A$2:$N$502,7,0)=0,\"\",VLOOKUP(A111,漢字書き!$A$2:$N$502,7,0)))","v":""},{"$f":"IF(B111=\"\",\"\",IF(VLOOKUP(B111,漢字書き!$A$2:$N$502,7,0)=0,\"\",VLOOKUP(B111,漢字書き!$A$2:$N$502,7,0)))","v":""},{"$f":"IF(C111=\"\",\"\",IF(VLOOKUP(C111,漢字書き!$A$2:$N$502,7,0)=0,\"\",VLOOKUP(C111,漢字書き!$A$2:$N$502,7,0)))","v":""},{"$f":"IF(D111=\"\",\"\",IF(VLOOKUP(D111,漢字書き!$A$2:$N$502,7,0)=0,\"\",VLOOKUP(D111,漢字書き!$A$2:$N$502,7,0)))","v":"い"},{"$f":"IF(E111=\"\",\"\",IF(VLOOKUP(E111,漢字書き!$A$2:$N$502,7,0)=0,\"\",VLOOKUP(E111,漢字書き!$A$2:$N$502,7,0)))","v":"とび"},{"$f":"IF(F111=\"\",\"\",IF(VLOOKUP(F111,漢字書き!$A$2:$N$502,7,0)=0,\"\",VLOOKUP(F111,漢字書き!$A$2:$N$502,7,0)))","v":""},{"$f":"IF(G111=\"\",\"\",IF(VLOOKUP(G111,漢字書き!$A$2:$N$502,7,0)=0,\"\",VLOOKUP(G111,漢字書き!$A$2:$N$502,7,0)))","v":"みる"},{"$f":"IF(H111=\"\",\"\",IF(VLOOKUP(H111,漢字書き!$A$2:$N$502,7,0)=0,\"\",VLOOKUP(H111,漢字書き!$A$2:$N$502,7,0)))","v":""},{"$f":"IF(I111=\"\",\"\",IF(VLOOKUP(I111,漢字書き!$A$2:$N$502,7,0)=0,\"\",VLOOKUP(I111,漢字書き!$A$2:$N$502,7,0)))","v":""},{"$f":"IF(J111=\"\",\"\",IF(VLOOKUP(J111,漢字書き!$A$2:$N$502,7,0)=0,\"\",VLOOKUP(J111,漢字書き!$A$2:$N$502,7,0)))","v":"らかな"},{"$f":"IF(K111=\"\",\"\",IF(VLOOKUP(K111,漢字読み!$A$2:$O$502,7,0)=0,\"\",VLOOKUP(K111,漢字読み!$A$2:$O$502,7,0)))","v":""},{"$f":"IF(L111=\"\",\"\",IF(VLOOKUP(L111,漢字読み!$A$2:$O$502,7,0)=0,\"\",VLOOKUP(L111,漢字読み!$A$2:$O$502,7,0)))","v":""},{"$f":"IF(M111=\"\",\"\",IF(VLOOKUP(M111,漢字読み!$A$2:$O$502,7,0)=0,\"\",VLOOKUP(M111,漢字読み!$A$2:$O$502,7,0)))","v":"する"},{"$f":"IF(N111=\"\",\"\",IF(VLOOKUP(N111,漢字読み!$A$2:$O$502,7,0)=0,\"\",VLOOKUP(N111,漢字読み!$A$2:$O$502,7,0)))","v":"ぶ"},{"$f":"IF(O111=\"\",\"\",IF(VLOOKUP(O111,漢字読み!$A$2:$O$502,7,0)=0,\"\",VLOOKUP(O111,漢字読み!$A$2:$O$502,7,0)))","v":""},{"$f":"IF(P111=\"\",\"\",IF(VLOOKUP(P111,漢字読み!$A$2:$O$502,7,0)=0,\"\",VLOOKUP(P111,漢字読み!$A$2:$O$502,7,0)))","v":""},{"$f":"IF(Q111=\"\",\"\",IF(VLOOKUP(Q111,漢字読み!$A$2:$O$502,7,0)=0,\"\",VLOOKUP(Q111,漢字読み!$A$2:$O$502,7,0)))","v":""},{"$f":"IF(R111=\"\",\"\",IF(VLOOKUP(R111,漢字読み!$A$2:$O$502,7,0)=0,\"\",VLOOKUP(R111,漢字読み!$A$2:$O$502,7,0)))","v":""},{"$f":"IF(S111=\"\",\"\",IF(VLOOKUP(S111,漢字読み!$A$2:$O$502,7,0)=0,\"\",VLOOKUP(S111,漢字読み!$A$2:$O$502,7,0)))","v":"みる"},{"$f":"IF(T111=\"\",\"\",IF(VLOOKUP(T111,漢字読み!$A$2:$O$502,7,0)=0,\"\",VLOOKUP(T111,漢字読み!$A$2:$O$502,7,0)))","v":""},null,null,"和歌山県教育委員会"]
[{"$f":"A106","v":129},200,137,148,170,175,147,33,119,98,61,144,199,129,222,118,134,25,53,83]
["⑳","⑲","⑱","⑰","⑯","⑮","⑭","⑬","⑫","⑪","⑩","⑨","⑧","⑦","⑥","⑤","④","③","②","①","次の［　　　　］の部分の漢字には読みがなをひらがなで書き、カタカナは漢字に直しなさい。",10,"「漢字の博士検定試験」練習問題　"]
[{"$f":"IF(A116=\"\",\"\",VLOOKUP(A116,漢字書き!$A$2:$N$506,6,0))","v":"ぶりの［テ］り焼き"},{"$f":"IF(B116=\"\",\"\",VLOOKUP(B116,漢字書き!$A$2:$N$506,6,0))","v":"［テイオン］の声"},{"$f":"IF(C116=\"\",\"\",VLOOKUP(C116,漢字書き!$A$2:$N$506,6,0))","v":"漢字の［ナ］り立ち"},{"$f":"IF(D116=\"\",\"\",VLOOKUP(D116,漢字書き!$A$2:$N$506,6,0))","v":"［シズ］かな教室"},{"$f":"IF(E116=\"\",\"\",VLOOKUP(E116,漢字書き!$A$2:$N$506,6,0))","v":"委員に［エラ］ばれる"},{"$f":"IF(F116=\"\",\"\",VLOOKUP(F116,漢字書き!$A$2:$N$506,6,0))","v":"［ソウコ］にかたづける"},{"$f":"IF(G116=\"\",\"\",VLOOKUP(G116,漢字書き!$A$2:$N$506,6,0))","v":"さわぎが［シズ］まる"},{"$f":"IF(H116=\"\",\"\",VLOOKUP(H116,漢字書き!$A$2:$N$506,6,0))","v":"ひもを［ムス］ぶ"},{"$f":"IF(I116=\"\",\"\",VLOOKUP(I116,漢字書き!$A$2:$N$506,6,0))","v":"［マツバヤシ］の中"},{"$f":"IF(J116=\"\",\"\",VLOOKUP(J116,漢字書き!$A$2:$N$506,6,0))","v":"［ジショ］を買う"},{"$f":"IF(K116=\"\",\"\",VLOOKUP(K116,漢字読み!$A$2:$O$506,6,0))","v":"［最高］の気分"},{"$f":"IF(L116=\"\",\"\",VLOOKUP(L116,漢字読み!$A$2:$O$506,6,0))","v":"［成］り上がり者だ"},{"$f":"IF(M116=\"\",\"\",VLOOKUP(M116,漢字読み!$A$2:$O$506,6,0))","v":"新聞を［配達］する"},{"$f":"IF(N116=\"\",\"\",VLOOKUP(N116,漢字読み!$A$2:$O$506,6,0))","v":"和歌山県のお［城］"},{"$f":"IF(O116=\"\",\"\",VLOOKUP(O116,漢字読み!$A$2:$O$506,6,0))","v":"［井］の中のかわず"},{"$f":"IF(P116=\"\",\"\",VLOOKUP(P116,漢字読み!$A$2:$O$506,6,0))","v":"[初雪]がふる"},{"$f":"IF(Q116=\"\",\"\",VLOOKUP(Q116,漢字読み!$A$2:$O$506,6,0))","v":"［日照］りが続く"},{"$f":"IF(R116=\"\",\"\",VLOOKUP(R116,漢字読み!$A$2:$O$506,6,0))","v":"声を上げて［泣］く"},{"$f":"IF(S116=\"\",\"\",VLOOKUP(S116,漢字読み!$A$2:$O$506,6,0))","v":"［健康］な体"},{"$f":"IF(T116=\"\",\"\",VLOOKUP(T116,漢字読み!$A$2:$O$506,6,0))","v":"部屋を［散］らかす"},null,"級"]
[{"$f":"IF(A$16=\"\",\"\",VLOOKUP(A116,漢字書き!$A$2:$O$506,8,0))","v":"照"},{"$f":"IF(B$16=\"\",\"\",VLOOKUP(B116,漢字書き!$A$2:$O$506,8,0))","v":"低音"},{"$f":"IF(C$16=\"\",\"\",VLOOKUP(C116,漢字書き!$A$2:$O$506,8,0))","v":"成"},{"$f":"IF(D$16=\"\",\"\",VLOOKUP(D116,漢字書き!$A$2:$O$506,8,0))","v":"静"},{"$f":"IF(E$16=\"\",\"\",VLOOKUP(E116,漢字書き!$A$2:$O$506,8,0))","v":"選"},{"$f":"IF(F$16=\"\",\"\",VLOOKUP(F116,漢字書き!$A$2:$O$506,8,0))","v":"倉庫"},{"$f":"IF(G$16=\"\",\"\",VLOOKUP(G116,漢字書き!$A$2:$O$506,8,0))","v":"静"},{"$f":"IF(H$16=\"\",\"\",VLOOKUP(H116,漢字書き!$A$2:$O$506,8,0))","v":"結"},{"$f":"IF(I$16=\"\",\"\",VLOOKUP(I116,漢字書き!$A$2:$O$506,8,0))","v":"松林"},{"$f":"IF(J$16=\"\",\"\",VLOOKUP(J116,漢字書き!$A$2:$O$506,8,0))","v":"辞書"},{"$f":"IF(K$16=\"\",\"\",VLOOKUP(K116,漢字読み!$A$2:$O$506,8,0))","v":"さいこう"},{"$f":"IF(L$16=\"\",\"\",VLOOKUP(L116,漢字読み!$A$2:$O$506,8,0))","v":"な"},{"$f":"IF(M$16=\"\",\"\",VLOOKUP(M116,漢字読み!$A$2:$O$506,8,0))","v":"はいたつ"},{"$f":"IF(N$16=\"\",\"\",VLOOKUP(N116,漢字読み!$A$2:$O$506,8,0))","v":"しろ"},{"$f":"IF(O$16=\"\",\"\",VLOOKUP(O116,漢字読み!$A$2:$O$506,8,0))","v":"い"},{"$f":"IF(P$16=\"\",\"\",VLOOKUP(P116,漢字読み!$A$2:$O$506,8,0))","v":"はつゆき"},{"$f":"IF(Q$16=\"\",\"\",VLOOKUP(Q116,漢字読み!$A$2:$O$506,8,0))","v":"ひで"},{"$f":"IF(R$16=\"\",\"\",VLOOKUP(R116,漢字読み!$A$2:$O$506,8,0))","v":"な"},{"$f":"IF(S$16=\"\",\"\",VLOOKUP(S116,漢字読み!$A$2:$O$506,8,0))","v":"けんこう"},{"$f":"IF(T$16=\"\",\"\",VLOOKUP(T116,漢字読み!$A$2:$O$506,8,0))","v":"ち"},null,"名前"]
[{"$f":"IF(A116=\"\",\"\",IF(VLOOKUP(A116,漢字書き!$A$2:$N$502,7,0)=0,\"\",VLOOKUP(A116,漢字書き!$A$2:$N$502,7,0)))","v":"り焼き"},{"$f":"IF(B116=\"\",\"\",IF(VLOOKUP(B116,漢字書き!$A$2:$N$502,7,0)=0,\"\",VLOOKUP(B116,漢字書き!$A$2:$N$502,7,0)))","v":""},{"$f":"IF(C116=\"\",\"\",IF(VLOOKUP(C116,漢字書き!$A$2:$N$502,7,0)=0,\"\",VLOOKUP(C116,漢字書き!$A$2:$N$502,7,0)))","v":"り立ち"},{"$f":"IF(D116=\"\",\"\",IF(VLOOKUP(D116,漢字書き!$A$2:$N$502,7,0)=0,\"\",VLOOKUP(D116,漢字書き!$A$2:$N$502,7,0)))","v":"かな"},{"$f":"IF(E116=\"\",\"\",IF(VLOOKUP(E116,漢字書き!$A$2:$N$502,7,0)=0,\"\",VLOOKUP(E116,漢字書き!$A$2:$N$502,7,0)))","v":"ばれる"},{"$f":"IF(F116=\"\",\"\",IF(VLOOKUP(F116,漢字書き!$A$2:$N$502,7,0)=0,\"\",VLOOKUP(F116,漢字書き!$A$2:$N$502,7,0)))","v":""},{"$f":"IF(G116=\"\",\"\",IF(VLOOKUP(G116,漢字書き!$A$2:$N$502,7,0)=0,\"\",VLOOKUP(G116,漢字書き!$A$2:$N$502,7,0)))","v":"まる"},{"$f":"IF(H116=\"\",\"\",IF(VLOOKUP(H116,漢字書き!$A$2:$N$502,7,0)=0,\"\",VLOOKUP(H116,漢字書き!$A$2:$N$502,7,0)))","v":"ぶ"},{"$f":"IF(I116=\"\",\"\",IF(VLOOKUP(I116,漢字書き!$A$2:$N$502,7,0)=0,\"\",VLOOKUP(I116,漢字書き!$A$2:$N$502,7,0)))","v":""},{"$f":"IF(J116=\"\",\"\",IF(VLOOKUP(J116,漢字書き!$A$2:$N$502,7,0)=0,\"\",VLOOKUP(J116,漢字書き!$A$2:$N$502,7,0)))","v":""},{"$f":"IF(K116=\"\",\"\",IF(VLOOKUP(K116,漢字読み!$A$2:$O$502,7,0)=0,\"\",VLOOKUP(K116,漢字読み!$A$2:$O$502,7,0)))","v":""},{"$f":"IF(L116=\"\",\"\",IF(VLOOKUP(L116,漢字読み!$A$2:$O$502,7,0)=0,\"\",VLOOKUP(L116,漢字読み!$A$2:$O$502,7,0)))","v":"り"},{"$f":"IF(M116=\"\",\"\",IF(VLOOKUP(M116,漢字読み!$A$2:$O$502,7,0)=0,\"\",VLOOKUP(M116,漢字読み!$A$2:$O$502,7,0)))","v":"する"},{"$f":"IF(N116=\"\",\"\",IF(VLOOKUP(N116,漢字読み!$A$2:$O$502,7,0)=0,\"\",VLOOKUP(N116,漢字読み!$A$2:$O$502,7,0)))","v":""},{"$f":"IF(O116=\"\",\"\",IF(VLOOKUP(O116,漢字読み!$A$2:$O$502,7,0)=0,\"\",VLOOKUP(O116,漢字読み!$A$2:$O$502,7,0)))","v":""},{"$f":"IF(P116=\"\",\"\",IF(VLOOKUP(P116,漢字読み!$A$2:$O$502,7,0)=0,\"\",VLOOKUP(P116,漢字読み!$A$2:$O$502,7,0)))","v":""},{"$f":"IF(Q116=\"\",\"\",IF(VLOOKUP(Q116,漢字読み!$A$2:$O$502,7,0)=0,\"\",VLOOKUP(Q116,漢字読み!$A$2:$O$502,7,0)))","v":"り"},{"$f":"IF(R116=\"\",\"\",IF(VLOOKUP(R116,漢字読み!$A$2:$O$502,7,0)=0,\"\",VLOOKUP(R116,漢字読み!$A$2:$O$502,7,0)))","v":"く"},{"$f":"IF(S116=\"\",\"\",IF(VLOOKUP(S116,漢字読み!$A$2:$O$502,7,0)=0,\"\",VLOOKUP(S116,漢字読み!$A$2:$O$502,7,0)))","v":"な"},{"$f":"IF(T116=\"\",\"\",IF(VLOOKUP(T116,漢字読み!$A$2:$O$502,7,0)=0,\"\",VLOOKUP(T116,漢字読み!$A$2:$O$502,7,0)))","v":"らかす"},null,null,"和歌山県教育委員会"]
[{"$f":"INDIRECT(\"'関数（書き）'!C\" & COLUMN(B$1)+SUM($AD$2:$AD122))","v":4},{"$f":"INDIRECT(\"'関数（書き）'!C\" & COLUMN(C$1)+SUM($AD$2:$AD122))","v":6},{"$f":"INDIRECT(\"'関数（書き）'!C\" & COLUMN(D$1)+SUM($AD$2:$AD122))","v":13},{"$f":"INDIRECT(\"'関数（書き）'!C\" & COLUMN(E$1)+SUM($AD$2:$AD122))","v":82},{"$f":"INDIRECT(\"'関数（書き）'!C\" & COLUMN(F$1)+SUM($AD$2:$AD122))","v":190},{"$f":"INDIRECT(\"'関数（書き）'!C\" & COLUMN(G$1)+SUM($AD$2:$AD122))","v":115},{"$f":"INDIRECT(\"'関数（書き）'!C\" & COLUMN(H$1)+SUM($AD$2:$AD122))","v":95},{"$f":"INDIRECT(\"'関数（書き）'!C\" & COLUMN(I$1)+SUM($AD$2:$AD122))","v":196},{"$f":"INDIRECT(\"'関数（書き）'!C\" & COLUMN(J$1)+SUM($AD$2:$AD122))","v":133},{"$f":"INDIRECT(\"'関数（書き）'!C\" & COLUMN(K$1)+SUM($AD$2:$AD122))","v":9},{"$f":"INDIRECT(\"'関数（読み）'!C\" & COLUMN(B$1)+SUM($AD$2:$AD122))","v":120},{"$f":"INDIRECT(\"'関数（読み）'!C\" & COLUMN(C$1)+SUM($AD$2:$AD122))","v":56},{"$f":"INDIRECT(\"'関数（読み）'!C\" & COLUMN(D$1)+SUM($AD$2:$AD122))","v":82},{"$f":"INDIRECT(\"'関数（読み）'!C\" & COLUMN(E$1)+SUM($AD$2:$AD122))","v":171},{"$f":"INDIRECT(\"'関数（読み）'!C\" & COLUMN(F$1)+SUM($AD$2:$AD122))","v":45},{"$f":"INDIRECT(\"'関数（読み）'!C\" & COLUMN(G$1)+SUM($AD$2:$AD122))","v":142},{"$f":"INDIRECT(\"'関数（読み）'!C\" & COLUMN(H$1)+SUM($AD$2:$AD122))","v":137},{"$f":"INDIRECT(\"'関数（読み）'!C\" & COLUMN(I$1)+SUM($AD$2:$AD122))","v":151},{"$f":"INDIRECT(\"'関数（読み）'!C\" & COLUMN(J$1)+SUM($AD$2:$AD122))","v":84},{"$f":"INDIRECT(\"'関数（読み）'!C\" & COLUMN(K$1)+SUM($AD$2:$AD122))","v":153}]
["⑳","⑲","⑱","⑰","⑯","⑮","⑭","⑬","⑫","⑪","⑩","⑨","⑧","⑦","⑥","⑤","④","③","②","①","次の［　　　　］の部分の漢字には読みがなをひらがなで書き、カタカナは漢字に直しなさい。",10,"「漢字の博士検定試験」練習問題　",null,null,null,null,null,"←",10,"問",{"$f":"AH107+1","v":121},"～",{"$f":"SUM($AD$2:$AD122)+10","v":130},"問まで",{"$f":"COUNTIF($A$1:$T$200,T123)","v":2}]
[{"$f":"IF(A121=\"\",\"\",VLOOKUP(A121,漢字書き!$A$2:$N$506,6,0))","v":"［ギョセン］に乗る"},{"$f":"IF(B121=\"\",\"\",VLOOKUP(B121,漢字書き!$A$2:$N$506,6,0))","v":"［キョウドウ］で使用する"},{"$f":"IF(C121=\"\",\"\",VLOOKUP(C121,漢字書き!$A$2:$N$506,6,0))","v":"パン食い［キョウソウ］"},{"$f":"IF(D121=\"\",\"\",VLOOKUP(D121,漢字書き!$A$2:$N$506,6,0))","v":"［イバラキケン］に行く"},{"$f":"IF(E121=\"\",\"\",VLOOKUP(E121,漢字書き!$A$2:$N$506,6,0))","v":"目ひょうを［タッセイ］する"},{"$f":"IF(F121=\"\",\"\",VLOOKUP(F121,漢字書き!$A$2:$N$506,6,0))","v":"[ショシン]に返る"},{"$f":"IF(G121=\"\",\"\",VLOOKUP(G121,漢字書き!$A$2:$N$506,6,0))","v":"いたみが［オサ］まる"},{"$f":"IF(H121=\"\",\"\",VLOOKUP(H121,漢字書き!$A$2:$N$506,6,0))","v":"よい［チョウコウ］が見える"},{"$f":"IF(I121=\"\",\"\",VLOOKUP(I121,漢字書き!$A$2:$N$506,6,0))","v":"文部科学［ダイジン］"},{"$f":"IF(J121=\"\",\"\",VLOOKUP(J121,漢字書き!$A$2:$N$506,6,0))","v":"［キョウリョク］する"},{"$f":"IF(K121=\"\",\"\",VLOOKUP(K121,漢字読み!$A$2:$O$506,6,0))","v":"海岸の［松林］"},{"$f":"IF(L121=\"\",\"\",VLOOKUP(L121,漢字読み!$A$2:$O$506,6,0))","v":"ライバルに［差］をつける"},{"$f":"IF(M121=\"\",\"\",VLOOKUP(M121,漢字読み!$A$2:$O$506,6,0))","v":"サクラが［散］る"},{"$f":"IF(N121=\"\",\"\",VLOOKUP(N121,漢字読み!$A$2:$O$506,6,0))","v":"［自然］を守る"},{"$f":"IF(O121=\"\",\"\",VLOOKUP(O121,漢字読み!$A$2:$O$506,6,0))","v":"［成功］をおさめる"},{"$f":"IF(P121=\"\",\"\",VLOOKUP(P121,漢字読み!$A$2:$O$506,6,0))","v":"［成果］をおさめる"},{"$f":"IF(Q121=\"\",\"\",VLOOKUP(Q121,漢字読み!$A$2:$O$506,6,0))","v":"［大臣］になる"},{"$f":"IF(R121=\"\",\"\",VLOOKUP(R121,漢字読み!$A$2:$O$506,6,0))","v":"かぜで［欠席］する"},{"$f":"IF(S121=\"\",\"\",VLOOKUP(S121,漢字読み!$A$2:$O$506,6,0))","v":"［無残］なすがた"},{"$f":"IF(T121=\"\",\"\",VLOOKUP(T121,漢字読み!$A$2:$O$506,6,0))","v":"長方形の［面積］"},null,"級"]
[null,null,null,null,null,null,null,null,null,null,null,null,null,null,null,null,null,null,null,null,null,"名前"]
[{"$f":"IF(A121=\"\",\"\",IF(VLOOKUP(A121,漢字書き!$A$2:$N$502,7,0)=0,\"\",VLOOKUP(A121,漢字書き!$A$2:$N$502,7,0)))","v":""},{"$f":"IF(B121=\"\",\"\",IF(VLOOKUP(B121,漢字書き!$A$2:$N$502,7,0)=0,\"\",VLOOKUP(B121,漢字書き!$A$2:$N$502,7,0)))","v":""},{"$f":"IF(C121=\"\",\"\",IF(VLOOKUP(C121,漢字書き!$A$2:$N$502,7,0)=0,\"\",VLOOKUP(C121,漢字書き!$A$2:$N$502,7,0)))","v":""},{"$f":"IF(D121=\"\",\"\",IF(VLOOKUP(D121,漢字書き!$A$2:$N$502,7,0)=0,\"\",VLOOKUP(D121,漢字書き!$A$2:$N$502,7,0)))","v":""},{"$f":"IF(E121=\"\",\"\",IF(VLOOKUP(E121,漢字書き!$A$2:$N$502,7,0)=0,\"\",VLOOKUP(E121,漢字書き!$A$2:$N$502,7,0)))","v":"する"},{"$f":"IF(F121=\"\",\"\",IF(VLOOKUP(F121,漢字書き!$A$2:$N$502,7,0)=0,\"\",VLOOKUP(F121,漢字書き!$A$2:$N$502,7,0)))","v":""},{"$f":"IF(G121=\"\",\"\",IF(VLOOKUP(G121,漢字書き!$A$2:$N$502,7,0)=0,\"\",VLOOKUP(G121,漢字書き!$A$2:$N$502,7,0)))","v":"まる"},{"$f":"IF(H121=\"\",\"\",IF(VLOOKUP(H121,漢字書き!$A$2:$N$502,7,0)=0,\"\",VLOOKUP(H121,漢字書き!$A$2:$N$502,7,0)))","v":""},{"$f":"IF(I121=\"\",\"\",IF(VLOOKUP(I121,漢字書き!$A$2:$N$502,7,0)=0,\"\",VLOOKUP(I121,漢字書き!$A$2:$N$502,7,0)))","v":""},{"$f":"IF(J121=\"\",\"\",IF(VLOOKUP(J121,漢字書き!$A$2:$N$502,7,0)=0,\"\",VLOOKUP(J121,漢字書き!$A$2:$N$502,7,0)))","v":"する"},{"$f":"IF(K121=\"\",\"\",IF(VLOOKUP(K121,漢字読み!$A$2:$O$502,7,0)=0,\"\",VLOOKUP(K121,漢字読み!$A$2:$O$502,7,0)))","v":""},{"$f":"IF(L121=\"\",\"\",IF(VLOOKUP(L121,漢字読み!$A$2:$O$502,7,0)=0,\"\",VLOOKUP(L121,漢字読み!$A$2:$O$502,7,0)))","v":""},{"$f":"IF(M121=\"\",\"\",IF(VLOOKUP(M121,漢字読み!$A$2:$O$502,7,0)=0,\"\",VLOOKUP(M121,漢字読み!$A$2:$O$502,7,0)))","v":"る"},{"$f":"IF(N121=\"\",\"\",IF(VLOOKUP(N121,漢字読み!$A$2:$O$502,7,0)=0,\"\",VLOOKUP(N121,漢字読み!$A$2:$O$502,7,0)))","v":""},{"$f":"IF(O121=\"\",\"\",IF(VLOOKUP(O121,漢字読み!$A$2:$O$502,7,0)=0,\"\",VLOOKUP(O121,漢字読み!$A$2:$O$502,7,0)))","v":""},{"$f":"IF(P121=\"\",\"\",IF(VLOOKUP(P121,漢字読み!$A$2:$O$502,7,0)=0,\"\",VLOOKUP(P121,漢字読み!$A$2:$O$502,7,0)))","v":""},{"$f":"IF(Q121=\"\",\"\",IF(VLOOKUP(Q121,漢字読み!$A$2:$O$502,7,0)=0,\"\",VLOOKUP(Q121,漢字読み!$A$2:$O$502,7,0)))","v":""},{"$f":"IF(R121=\"\",\"\",IF(VLOOKUP(R121,漢字読み!$A$2:$O$502,7,0)=0,\"\",VLOOKUP(R121,漢字読み!$A$2:$O$502,7,0)))","v":"する"},{"$f":"IF(S121=\"\",\"\",IF(VLOOKUP(S121,漢字読み!$A$2:$O$502,7,0)=0,\"\",VLOOKUP(S121,漢字読み!$A$2:$O$502,7,0)))","v":"な"},{"$f":"IF(T121=\"\",\"\",IF(VLOOKUP(T121,漢字読み!$A$2:$O$502,7,0)=0,\"\",VLOOKUP(T121,漢字読み!$A$2:$O$502,7,0)))","v":""},null,null,"和歌山県教育委員会"]
[{"$f":"INDIRECT(\"'関数（書き）'!C\" & COLUMN(B$1)+SUM($AD$2:$AD127))","v":103},{"$f":"INDIRECT(\"'関数（書き）'!C\" & COLUMN(C$1)+SUM($AD$2:$AD127))","v":29},{"$f":"INDIRECT(\"'関数（書き）'!C\" & COLUMN(D$1)+SUM($AD$2:$AD127))","v":52},{"$f":"INDIRECT(\"'関数（書き）'!C\" & COLUMN(E$1)+SUM($AD$2:$AD127))","v":184},{"$f":"INDIRECT(\"'関数（書き）'!C\" & COLUMN(F$1)+SUM($AD$2:$AD127))","v":164},{"$f":"INDIRECT(\"'関数（書き）'!C\" & COLUMN(G$1)+SUM($AD$2:$AD127))","v":183},{"$f":"INDIRECT(\"'関数（書き）'!C\" & COLUMN(H$1)+SUM($AD$2:$AD127))","v":28},{"$f":"INDIRECT(\"'関数（書き）'!C\" & COLUMN(I$1)+SUM($AD$2:$AD127))","v":46},{"$f":"INDIRECT(\"'関数（書き）'!C\" & COLUMN(J$1)+SUM($AD$2:$AD127))","v":57},{"$f":"INDIRECT(\"'関数（書き）'!C\" & COLUMN(K$1)+SUM($AD$2:$AD127))","v":146},{"$f":"INDIRECT(\"'関数（読み）'!C\" & COLUMN(B$1)+SUM($AD$2:$AD127))","v":163},{"$f":"INDIRECT(\"'関数（読み）'!C\" & COLUMN(C$1)+SUM($AD$2:$AD127))","v":177},{"$f":"INDIRECT(\"'関数（読み）'!C\" & COLUMN(D$1)+SUM($AD$2:$AD127))","v":44},{"$f":"INDIRECT(\"'関数（読み）'!C\" & COLUMN(E$1)+SUM($AD$2:$AD127))","v":75},{"$f":"INDIRECT(\"'関数（読み）'!C\" & COLUMN(F$1)+SUM($AD$2:$AD127))","v":93},{"$f":"INDIRECT(\"'関数（読み）'!C\" & COLUMN(G$1)+SUM($AD$2:$AD127))","v":198},{"$f":"INDIRECT(\"'関数（読み）'!C\" & COLUMN(H$1)+SUM($AD$2:$AD127))","v":60},{"$f":"INDIRECT(\"'関数（読み）'!C\" & COLUMN(I$1)+SUM($AD$2:$AD127))","v":57},{"$f":"INDIRECT(\"'関数（読み）'!C\" & COLUMN(J$1)+SUM($AD$2:$AD127))","v":210},{"$f":"INDIRECT(\"'関数（読み）'!C\" & COLUMN(K$1)+SUM($AD$2:$AD127))","v":51}]
["⑳","⑲","⑱","⑰","⑯","⑮","⑭","⑬","⑫","⑪","⑩","⑨","⑧","⑦","⑥","⑤","④","③","②","①","次の［　　　　］の部分の漢字には読みがなをひらがなで書き、カタカナは漢字に直しなさい。",10,"「漢字の博士検定試験」練習問題　",null,null,null,null,null,"←",10,"問",{"$f":"AH122+1","v":131},"～",{"$f":"SUM($AD$2:$AD127)+10","v":140},"問まで",{"$f":"COUNTIF($A$1:$T$200,T128)","v":2}]
[{"$f":"IF(A126=\"\",\"\",VLOOKUP(A126,漢字書き!$A$2:$N$506,6,0))","v":"ノートを［カ］りる"},{"$f":"IF(B126=\"\",\"\",VLOOKUP(B126,漢字書き!$A$2:$N$506,6,0))","v":"かぜで［ケッセキ］する"},{"$f":"IF(C126=\"\",\"\",VLOOKUP(C126,漢字書き!$A$2:$N$506,6,0))","v":"［ケンコウ］にすごす"},{"$f":"IF(D126=\"\",\"\",VLOOKUP(D126,漢字書き!$A$2:$N$506,6,0))","v":"［シソン］を残す"},{"$f":"IF(E126=\"\",\"\",VLOOKUP(E126,漢字書き!$A$2:$N$506,6,0))","v":"日が［アサ］い"},{"$f":"IF(F126=\"\",\"\",VLOOKUP(F126,漢字書き!$A$2:$N$506,6,0))","v":"［ソツギョウシキ］に出る"},{"$f":"IF(G126=\"\",\"\",VLOOKUP(G126,漢字書き!$A$2:$N$506,6,0))","v":"［ゲイ］は身を助ける"},{"$f":"IF(H126=\"\",\"\",VLOOKUP(H126,漢字書き!$A$2:$N$506,6,0))","v":"大［コウブツ］のカレー"},{"$f":"IF(I126=\"\",\"\",VLOOKUP(I126,漢字書き!$A$2:$N$506,6,0))","v":"［ヤサイ］を作る"},{"$f":"IF(J126=\"\",\"\",VLOOKUP(J126,漢字書き!$A$2:$N$506,6,0))","v":"［セイデンキ］が起こる"},{"$f":"IF(K126=\"\",\"\",VLOOKUP(K126,漢字読み!$A$2:$O$506,6,0))","v":"［小説］を読む"},{"$f":"IF(L126=\"\",\"\",VLOOKUP(L126,漢字読み!$A$2:$O$506,6,0))","v":"[巣立]ちの時がくる"},{"$f":"IF(M126=\"\",\"\",VLOOKUP(M126,漢字読み!$A$2:$O$506,6,0))","v":"［固］い友情"},{"$f":"IF(N126=\"\",\"\",VLOOKUP(N126,漢字読み!$A$2:$O$506,6,0))","v":"大会に［参加］する"},{"$f":"IF(O126=\"\",\"\",VLOOKUP(O126,漢字読み!$A$2:$O$506,6,0))","v":"ケーキを[試作]する"},{"$f":"IF(P126=\"\",\"\",VLOOKUP(P126,漢字読み!$A$2:$O$506,6,0))","v":"字が［上達］する"},{"$f":"IF(Q126=\"\",\"\",VLOOKUP(Q126,漢字読み!$A$2:$O$506,6,0))","v":"［菜］の花畑で遊ぶ"},{"$f":"IF(R126=\"\",\"\",VLOOKUP(R126,漢字読み!$A$2:$O$506,6,0))","v":"［交差］点をわたる"},{"$f":"IF(S126=\"\",\"\",VLOOKUP(S126,漢字読み!$A$2:$O$506,6,0))","v":"［縄］とびをする"},{"$f":"IF(T126=\"\",\"\",VLOOKUP(T126,漢字読み!$A$2:$O$506,6,0))","v":"［沖縄県］産のフルーツ"},null,"級"]
[null,null,null,null,null,null,null,null,null,null,null,null,null,null,null,null,null,null,null,null,null,"名前"]
[{"$f":"IF(A126=\"\",\"\",IF(VLOOKUP(A126,漢字書き!$A$2:$N$502,7,0)=0,\"\",VLOOKUP(A126,漢字書き!$A$2:$N$502,7,0)))","v":"りる"},{"$f":"IF(B126=\"\",\"\",IF(VLOOKUP(B126,漢字書き!$A$2:$N$502,7,0)=0,\"\",VLOOKUP(B126,漢字書き!$A$2:$N$502,7,0)))","v":"する"},{"$f":"IF(C126=\"\",\"\",IF(VLOOKUP(C126,漢字書き!$A$2:$N$502,7,0)=0,\"\",VLOOKUP(C126,漢字書き!$A$2:$N$502,7,0)))","v":""},{"$f":"IF(D126=\"\",\"\",IF(VLOOKUP(D126,漢字書き!$A$2:$N$502,7,0)=0,\"\",VLOOKUP(D126,漢字書き!$A$2:$N$502,7,0)))","v":""},{"$f":"IF(E126=\"\",\"\",IF(VLOOKUP(E126,漢字書き!$A$2:$N$502,7,0)=0,\"\",VLOOKUP(E126,漢字書き!$A$2:$N$502,7,0)))","v":"い"},{"$f":"IF(F126=\"\",\"\",IF(VLOOKUP(F126,漢字書き!$A$2:$N$502,7,0)=0,\"\",VLOOKUP(F126,漢字書き!$A$2:$N$502,7,0)))","v":""},{"$f":"IF(G126=\"\",\"\",IF(VLOOKUP(G126,漢字書き!$A$2:$N$502,7,0)=0,\"\",VLOOKUP(G126,漢字書き!$A$2:$N$502,7,0)))","v":""},{"$f":"IF(H126=\"\",\"\",IF(VLOOKUP(H126,漢字書き!$A$2:$N$502,7,0)=0,\"\",VLOOKUP(H126,漢字書き!$A$2:$N$502,7,0)))","v":""},{"$f":"IF(I126=\"\",\"\",IF(VLOOKUP(I126,漢字書き!$A$2:$N$502,7,0)=0,\"\",VLOOKUP(I126,漢字書き!$A$2:$N$502,7,0)))","v":""},{"$f":"IF(J126=\"\",\"\",IF(VLOOKUP(J126,漢字書き!$A$2:$N$502,7,0)=0,\"\",VLOOKUP(J126,漢字書き!$A$2:$N$502,7,0)))","v":""},{"$f":"IF(K126=\"\",\"\",IF(VLOOKUP(K126,漢字読み!$A$2:$O$502,7,0)=0,\"\",VLOOKUP(K126,漢字読み!$A$2:$O$502,7,0)))","v":""},{"$f":"IF(L126=\"\",\"\",IF(VLOOKUP(L126,漢字読み!$A$2:$O$502,7,0)=0,\"\",VLOOKUP(L126,漢字読み!$A$2:$O$502,7,0)))","v":"ち"},{"$f":"IF(M126=\"\",\"\",IF(VLOOKUP(M126,漢字読み!$A$2:$O$502,7,0)=0,\"\",VLOOKUP(M126,漢字読み!$A$2:$O$502,7,0)))","v":"い"},{"$f":"IF(N126=\"\",\"\",IF(VLOOKUP(N126,漢字読み!$A$2:$O$502,7,0)=0,\"\",VLOOKUP(N126,漢字読み!$A$2:$O$502,7,0)))","v":"する"},{"$f":"IF(O126=\"\",\"\",IF(VLOOKUP(O126,漢字読み!$A$2:$O$502,7,0)=0,\"\",VLOOKUP(O126,漢字読み!$A$2:$O$502,7,0)))","v":"する"},{"$f":"IF(P126=\"\",\"\",IF(VLOOKUP(P126,漢字読み!$A$2:$O$502,7,0)=0,\"\",VLOOKUP(P126,漢字読み!$A$2:$O$502,7,0)))","v":"する"},{"$f":"IF(Q126=\"\",\"\",IF(VLOOKUP(Q126,漢字読み!$A$2:$O$502,7,0)=0,\"\",VLOOKUP(Q126,漢字読み!$A$2:$O$502,7,0)))","v":""},{"$f":"IF(R126=\"\",\"\",IF(VLOOKUP(R126,漢字読み!$A$2:$O$502,7,0)=0,\"\",VLOOKUP(R126,漢字読み!$A$2:$O$502,7,0)))","v":"点"},{"$f":"IF(S126=\"\",\"\",IF(VLOOKUP(S126,漢字読み!$A$2:$O$502,7,0)=0,\"\",VLOOKUP(S126,漢字読み!$A$2:$O$502,7,0)))","v":"とび"},{"$f":"IF(T126=\"\",\"\",IF(VLOOKUP(T126,漢字読み!$A$2:$O$502,7,0)=0,\"\",VLOOKUP(T126,漢字読み!$A$2:$O$502,7,0)))","v":""},null,null,"和歌山県教育委員会"]
[{"$f":"A121","v":4},6,13,82,190,115,95,196,133,9,120,56,82,171,45,142,137,151,84,153]
["⑳","⑲","⑱","⑰","⑯","⑮","⑭","⑬","⑫","⑪","⑩","⑨","⑧","⑦","⑥","⑤","④","③","②","①","次の［　　　　］の部分の漢字には読みがなをひらがなで書き、カタカナは漢字に直しなさい。",10,"「漢字の博士検定試験」練習問題　"]
[{"$f":"IF(A131=\"\",\"\",VLOOKUP(A131,漢字書き!$A$2:$N$506,6,0))","v":"［ギョセン］に乗る"},{"$f":"IF(B131=\"\",\"\",VLOOKUP(B131,漢字書き!$A$2:$N$506,6,0))","v":"［キョウドウ］で使用する"},{"$f":"IF(C131=\"\",\"\",VLOOKUP(C131,漢字書き!$A$2:$N$506,6,0))","v":"パン食い［キョウソウ］"},{"$f":"IF(D131=\"\",\"\",VLOOKUP(D131,漢字書き!$A$2:$N$506,6,0))","v":"［イバラキケン］に行く"},{"$f":"IF(E131=\"\",\"\",VLOOKUP(E131,漢字書き!$A$2:$N$506,6,0))","v":"目ひょうを［タッセイ］する"},{"$f":"IF(F131=\"\",\"\",VLOOKUP(F131,漢字書き!$A$2:$N$506,6,0))","v":"[ショシン]に返る"},{"$f":"IF(G131=\"\",\"\",VLOOKUP(G131,漢字書き!$A$2:$N$506,6,0))","v":"いたみが［オサ］まる"},{"$f":"IF(H131=\"\",\"\",VLOOKUP(H131,漢字書き!$A$2:$N$506,6,0))","v":"よい［チョウコウ］が見える"},{"$f":"IF(I131=\"\",\"\",VLOOKUP(I131,漢字書き!$A$2:$N$506,6,0))","v":"文部科学［ダイジン］"},{"$f":"IF(J131=\"\",\"\",VLOOKUP(J131,漢字書き!$A$2:$N$506,6,0))","v":"［キョウリョク］する"},{"$f":"IF(K131=\"\",\"\",VLOOKUP(K131,漢字読み!$A$2:$O$506,6,0))","v":"海岸の［松林］"},{"$f":"IF(L131=\"\",\"\",VLOOKUP(L131,漢字読み!$A$2:$O$506,6,0))","v":"ライバルに［差］をつける"},{"$f":"IF(M131=\"\",\"\",VLOOKUP(M131,漢字読み!$A$2:$O$506,6,0))","v":"サクラが［散］る"},{"$f":"IF(N131=\"\",\"\",VLOOKUP(N131,漢字読み!$A$2:$O$506,6,0))","v":"［自然］を守る"},{"$f":"IF(O131=\"\",\"\",VLOOKUP(O131,漢字読み!$A$2:$O$506,6,0))","v":"［成功］をおさめる"},{"$f":"IF(P131=\"\",\"\",VLOOKUP(P131,漢字読み!$A$2:$O$506,6,0))","v":"［成果］をおさめる"},{"$f":"IF(Q131=\"\",\"\",VLOOKUP(Q131,漢字読み!$A$2:$O$506,6,0))","v":"［大臣］になる"},{"$f":"IF(R131=\"\",\"\",VLOOKUP(R131,漢字読み!$A$2:$O$506,6,0))","v":"かぜで［欠席］する"},{"$f":"IF(S131=\"\",\"\",VLOOKUP(S131,漢字読み!$A$2:$O$506,6,0))","v":"［無残］なすがた"},{"$f":"IF(T131=\"\",\"\",VLOOKUP(T131,漢字読み!$A$2:$O$506,6,0))","v":"長方形の［面積］"},null,"級"]
[{"$f":"IF(A$11=\"\",\"\",VLOOKUP(A131,漢字書き!$A$2:$O$506,8,0))","v":"漁船"},{"$f":"IF(B$11=\"\",\"\",VLOOKUP(B131,漢字書き!$A$2:$O$506,8,0))","v":"共同"},{"$f":"IF(C$11=\"\",\"\",VLOOKUP(C131,漢字書き!$A$2:$O$506,8,0))","v":"競争"},{"$f":"IF(D$11=\"\",\"\",VLOOKUP(D131,漢字書き!$A$2:$O$506,8,0))","v":"茨城県"},{"$f":"IF(E$11=\"\",\"\",VLOOKUP(E131,漢字書き!$A$2:$O$506,8,0))","v":"達成"},{"$f":"IF(F$11=\"\",\"\",VLOOKUP(F131,漢字書き!$A$2:$O$506,8,0))","v":"初心"},{"$f":"IF(G$11=\"\",\"\",VLOOKUP(G131,漢字書き!$A$2:$O$506,8,0))","v":"治"},{"$f":"IF(H$11=\"\",\"\",VLOOKUP(H131,漢字書き!$A$2:$O$506,8,0))","v":"兆候"},{"$f":"IF(I$11=\"\",\"\",VLOOKUP(I131,漢字書き!$A$2:$O$506,8,0))","v":"大臣"},{"$f":"IF(J$11=\"\",\"\",VLOOKUP(J131,漢字書き!$A$2:$O$506,8,0))","v":"協力"},{"$f":"IF(K$11=\"\",\"\",VLOOKUP(K131,漢字読み!$A$2:$O$506,8,0))","v":"まつばやし"},{"$f":"IF(L$11=\"\",\"\",VLOOKUP(L131,漢字読み!$A$2:$O$506,8,0))","v":"さ"},{"$f":"IF(M$11=\"\",\"\",VLOOKUP(M131,漢字読み!$A$2:$O$506,8,0))","v":"ち"},{"$f":"IF(N$11=\"\",\"\",VLOOKUP(N131,漢字読み!$A$2:$O$506,8,0))","v":"しぜん"},{"$f":"IF(O$11=\"\",\"\",VLOOKUP(O131,漢字読み!$A$2:$O$506,8,0))","v":"せいこう"},{"$f":"IF(P$11=\"\",\"\",VLOOKUP(P131,漢字読み!$A$2:$O$506,8,0))","v":"せいか"},{"$f":"IF(Q$11=\"\",\"\",VLOOKUP(Q131,漢字読み!$A$2:$O$506,8,0))","v":"だいじん"},{"$f":"IF(R$11=\"\",\"\",VLOOKUP(R131,漢字読み!$A$2:$O$506,8,0))","v":"けっせき"},{"$f":"IF(S$11=\"\",\"\",VLOOKUP(S131,漢字読み!$A$2:$O$506,8,0))","v":"むざん"},{"$f":"IF(T$11=\"\",\"\",VLOOKUP(T131,漢字読み!$A$2:$O$506,8,0))","v":"めんせき"},null,"名前"]
[{"$f":"IF(A131=\"\",\"\",IF(VLOOKUP(A131,漢字書き!$A$2:$N$502,7,0)=0,\"\",VLOOKUP(A131,漢字書き!$A$2:$N$502,7,0)))","v":""},{"$f":"IF(B131=\"\",\"\",IF(VLOOKUP(B131,漢字書き!$A$2:$N$502,7,0)=0,\"\",VLOOKUP(B131,漢字書き!$A$2:$N$502,7,0)))","v":""},{"$f":"IF(C131=\"\",\"\",IF(VLOOKUP(C131,漢字書き!$A$2:$N$502,7,0)=0,\"\",VLOOKUP(C131,漢字書き!$A$2:$N$502,7,0)))","v":""},{"$f":"IF(D131=\"\",\"\",IF(VLOOKUP(D131,漢字書き!$A$2:$N$502,7,0)=0,\"\",VLOOKUP(D131,漢字書き!$A$2:$N$502,7,0)))","v":""},{"$f":"IF(E131=\"\",\"\",IF(VLOOKUP(E131,漢字書き!$A$2:$N$502,7,0)=0,\"\",VLOOKUP(E131,漢字書き!$A$2:$N$502,7,0)))","v":"する"},{"$f":"IF(F131=\"\",\"\",IF(VLOOKUP(F131,漢字書き!$A$2:$N$502,7,0)=0,\"\",VLOOKUP(F131,漢字書き!$A$2:$N$502,7,0)))","v":""},{"$f":"IF(G131=\"\",\"\",IF(VLOOKUP(G131,漢字書き!$A$2:$N$502,7,0)=0,\"\",VLOOKUP(G131,漢字書き!$A$2:$N$502,7,0)))","v":"まる"},{"$f":"IF(H131=\"\",\"\",IF(VLOOKUP(H131,漢字書き!$A$2:$N$502,7,0)=0,\"\",VLOOKUP(H131,漢字書き!$A$2:$N$502,7,0)))","v":""},{"$f":"IF(I131=\"\",\"\",IF(VLOOKUP(I131,漢字書き!$A$2:$N$502,7,0)=0,\"\",VLOOKUP(I131,漢字書き!$A$2:$N$502,7,0)))","v":""},{"$f":"IF(J131=\"\",\"\",IF(VLOOKUP(J131,漢字書き!$A$2:$N$502,7,0)=0,\"\",VLOOKUP(J131,漢字書き!$A$2:$N$502,7,0)))","v":"する"},{"$f":"IF(K131=\"\",\"\",IF(VLOOKUP(K131,漢字読み!$A$2:$O$502,7,0)=0,\"\",VLOOKUP(K131,漢字読み!$A$2:$O$502,7,0)))","v":""},{"$f":"IF(L131=\"\",\"\",IF(VLOOKUP(L131,漢字読み!$A$2:$O$502,7,0)=0,\"\",VLOOKUP(L131,漢字読み!$A$2:$O$502,7,0)))","v":""},{"$f":"IF(M131=\"\",\"\",IF(VLOOKUP(M131,漢字読み!$A$2:$O$502,7,0)=0,\"\",VLOOKUP(M131,漢字読み!$A$2:$O$502,7,0)))","v":"る"},{"$f":"IF(N131=\"\",\"\",IF(VLOOKUP(N131,漢字読み!$A$2:$O$502,7,0)=0,\"\",VLOOKUP(N131,漢字読み!$A$2:$O$502,7,0)))","v":""},{"$f":"IF(O131=\"\",\"\",IF(VLOOKUP(O131,漢字読み!$A$2:$O$502,7,0)=0,\"\",VLOOKUP(O131,漢字読み!$A$2:$O$502,7,0)))","v":""},{"$f":"IF(P131=\"\",\"\",IF(VLOOKUP(P131,漢字読み!$A$2:$O$502,7,0)=0,\"\",VLOOKUP(P131,漢字読み!$A$2:$O$502,7,0)))","v":""},{"$f":"IF(Q131=\"\",\"\",IF(VLOOKUP(Q131,漢字読み!$A$2:$O$502,7,0)=0,\"\",VLOOKUP(Q131,漢字読み!$A$2:$O$502,7,0)))","v":""},{"$f":"IF(R131=\"\",\"\",IF(VLOOKUP(R131,漢字読み!$A$2:$O$502,7,0)=0,\"\",VLOOKUP(R131,漢字読み!$A$2:$O$502,7,0)))","v":"する"},{"$f":"IF(S131=\"\",\"\",IF(VLOOKUP(S131,漢字読み!$A$2:$O$502,7,0)=0,\"\",VLOOKUP(S131,漢字読み!$A$2:$O$502,7,0)))","v":"な"},{"$f":"IF(T131=\"\",\"\",IF(VLOOKUP(T131,漢字読み!$A$2:$O$502,7,0)=0,\"\",VLOOKUP(T131,漢字読み!$A$2:$O$502,7,0)))","v":""},null,null,"和歌山県教育委員会"]
[{"$f":"A126","v":103},29,52,184,164,183,28,46,57,146,163,177,44,75,93,198,60,57,210,51]
["⑳","⑲","⑱","⑰","⑯","⑮","⑭","⑬","⑫","⑪","⑩","⑨","⑧","⑦","⑥","⑤","④","③","②","①","次の［　　　　］の部分の漢字には読みがなをひらがなで書き、カタカナは漢字に直しなさい。",10,"「漢字の博士検定試験」練習問題　"]
[{"$f":"IF(A136=\"\",\"\",VLOOKUP(A136,漢字書き!$A$2:$N$506,6,0))","v":"ノートを［カ］りる"},{"$f":"IF(B136=\"\",\"\",VLOOKUP(B136,漢字書き!$A$2:$N$506,6,0))","v":"かぜで［ケッセキ］する"},{"$f":"IF(C136=\"\",\"\",VLOOKUP(C136,漢字書き!$A$2:$N$506,6,0))","v":"［ケンコウ］にすごす"},{"$f":"IF(D136=\"\",\"\",VLOOKUP(D136,漢字書き!$A$2:$N$506,6,0))","v":"［シソン］を残す"},{"$f":"IF(E136=\"\",\"\",VLOOKUP(E136,漢字書き!$A$2:$N$506,6,0))","v":"日が［アサ］い"},{"$f":"IF(F136=\"\",\"\",VLOOKUP(F136,漢字書き!$A$2:$N$506,6,0))","v":"［ソツギョウシキ］に出る"},{"$f":"IF(G136=\"\",\"\",VLOOKUP(G136,漢字書き!$A$2:$N$506,6,0))","v":"［ゲイ］は身を助ける"},{"$f":"IF(H136=\"\",\"\",VLOOKUP(H136,漢字書き!$A$2:$N$506,6,0))","v":"大［コウブツ］のカレー"},{"$f":"IF(I136=\"\",\"\",VLOOKUP(I136,漢字書き!$A$2:$N$506,6,0))","v":"［ヤサイ］を作る"},{"$f":"IF(J136=\"\",\"\",VLOOKUP(J136,漢字書き!$A$2:$N$506,6,0))","v":"［セイデンキ］が起こる"},{"$f":"IF(K136=\"\",\"\",VLOOKUP(K136,漢字読み!$A$2:$O$506,6,0))","v":"［小説］を読む"},{"$f":"IF(L136=\"\",\"\",VLOOKUP(L136,漢字読み!$A$2:$O$506,6,0))","v":"[巣立]ちの時がくる"},{"$f":"IF(M136=\"\",\"\",VLOOKUP(M136,漢字読み!$A$2:$O$506,6,0))","v":"［固］い友情"},{"$f":"IF(N136=\"\",\"\",VLOOKUP(N136,漢字読み!$A$2:$O$506,6,0))","v":"大会に［参加］する"},{"$f":"IF(O136=\"\",\"\",VLOOKUP(O136,漢字読み!$A$2:$O$506,6,0))","v":"ケーキを[試作]する"},{"$f":"IF(P136=\"\",\"\",VLOOKUP(P136,漢字読み!$A$2:$O$506,6,0))","v":"字が［上達］する"},{"$f":"IF(Q136=\"\",\"\",VLOOKUP(Q136,漢字読み!$A$2:$O$506,6,0))","v":"［菜］の花畑で遊ぶ"},{"$f":"IF(R136=\"\",\"\",VLOOKUP(R136,漢字読み!$A$2:$O$506,6,0))","v":"［交差］点をわたる"},{"$f":"IF(S136=\"\",\"\",VLOOKUP(S136,漢字読み!$A$2:$O$506,6,0))","v":"［縄］とびをする"},{"$f":"IF(T136=\"\",\"\",VLOOKUP(T136,漢字読み!$A$2:$O$506,6,0))","v":"［沖縄県］産のフルーツ"},null,"級"]
[{"$f":"IF(A$16=\"\",\"\",VLOOKUP(A136,漢字書き!$A$2:$O$506,8,0))","v":"借"},{"$f":"IF(B$16=\"\",\"\",VLOOKUP(B136,漢字書き!$A$2:$O$506,8,0))","v":"欠席"},{"$f":"IF(C$16=\"\",\"\",VLOOKUP(C136,漢字書き!$A$2:$O$506,8,0))","v":"健康"},{"$f":"IF(D$16=\"\",\"\",VLOOKUP(D136,漢字書き!$A$2:$O$506,8,0))","v":"子孫"},{"$f":"IF(E$16=\"\",\"\",VLOOKUP(E136,漢字書き!$A$2:$O$506,8,0))","v":"浅"},{"$f":"IF(F$16=\"\",\"\",VLOOKUP(F136,漢字書き!$A$2:$O$506,8,0))","v":"卒業式"},{"$f":"IF(G$16=\"\",\"\",VLOOKUP(G136,漢字書き!$A$2:$O$506,8,0))","v":"芸"},{"$f":"IF(H$16=\"\",\"\",VLOOKUP(H136,漢字書き!$A$2:$O$506,8,0))","v":"好物"},{"$f":"IF(I$16=\"\",\"\",VLOOKUP(I136,漢字書き!$A$2:$O$506,8,0))","v":"野菜"},{"$f":"IF(J$16=\"\",\"\",VLOOKUP(J136,漢字書き!$A$2:$O$506,8,0))","v":"静電気"},{"$f":"IF(K$16=\"\",\"\",VLOOKUP(K136,漢字読み!$A$2:$O$506,8,0))","v":"しょうせつ"},{"$f":"IF(L$16=\"\",\"\",VLOOKUP(L136,漢字読み!$A$2:$O$506,8,0))","v":"すだ"},{"$f":"IF(M$16=\"\",\"\",VLOOKUP(M136,漢字読み!$A$2:$O$506,8,0))","v":"かた"},{"$f":"IF(N$16=\"\",\"\",VLOOKUP(N136,漢字読み!$A$2:$O$506,8,0))","v":"さんか"},{"$f":"IF(O$16=\"\",\"\",VLOOKUP(O136,漢字読み!$A$2:$O$506,8,0))","v":"しさく"},{"$f":"IF(P$16=\"\",\"\",VLOOKUP(P136,漢字読み!$A$2:$O$506,8,0))","v":"じょうたつ"},{"$f":"IF(Q$16=\"\",\"\",VLOOKUP(Q136,漢字読み!$A$2:$O$506,8,0))","v":"な"},{"$f":"IF(R$16=\"\",\"\",VLOOKUP(R136,漢字読み!$A$2:$O$506,8,0))","v":"こうさ"},{"$f":"IF(S$16=\"\",\"\",VLOOKUP(S136,漢字読み!$A$2:$O$506,8,0))","v":"なわ"},{"$f":"IF(T$16=\"\",\"\",VLOOKUP(T136,漢字読み!$A$2:$O$506,8,0))","v":"おきなわけん"},null,"名前"]
[{"$f":"IF(A136=\"\",\"\",IF(VLOOKUP(A136,漢字書き!$A$2:$N$502,7,0)=0,\"\",VLOOKUP(A136,漢字書き!$A$2:$N$502,7,0)))","v":"りる"},{"$f":"IF(B136=\"\",\"\",IF(VLOOKUP(B136,漢字書き!$A$2:$N$502,7,0)=0,\"\",VLOOKUP(B136,漢字書き!$A$2:$N$502,7,0)))","v":"する"},{"$f":"IF(C136=\"\",\"\",IF(VLOOKUP(C136,漢字書き!$A$2:$N$502,7,0)=0,\"\",VLOOKUP(C136,漢字書き!$A$2:$N$502,7,0)))","v":""},{"$f":"IF(D136=\"\",\"\",IF(VLOOKUP(D136,漢字書き!$A$2:$N$502,7,0)=0,\"\",VLOOKUP(D136,漢字書き!$A$2:$N$502,7,0)))","v":""},{"$f":"IF(E136=\"\",\"\",IF(VLOOKUP(E136,漢字書き!$A$2:$N$502,7,0)=0,\"\",VLOOKUP(E136,漢字書き!$A$2:$N$502,7,0)))","v":"い"},{"$f":"IF(F136=\"\",\"\",IF(VLOOKUP(F136,漢字書き!$A$2:$N$502,7,0)=0,\"\",VLOOKUP(F136,漢字書き!$A$2:$N$502,7,0)))","v":""},{"$f":"IF(G136=\"\",\"\",IF(VLOOKUP(G136,漢字書き!$A$2:$N$502,7,0)=0,\"\",VLOOKUP(G136,漢字書き!$A$2:$N$502,7,0)))","v":""},{"$f":"IF(H136=\"\",\"\",IF(VLOOKUP(H136,漢字書き!$A$2:$N$502,7,0)=0,\"\",VLOOKUP(H136,漢字書き!$A$2:$N$502,7,0)))","v":""},{"$f":"IF(I136=\"\",\"\",IF(VLOOKUP(I136,漢字書き!$A$2:$N$502,7,0)=0,\"\",VLOOKUP(I136,漢字書き!$A$2:$N$502,7,0)))","v":""},{"$f":"IF(J136=\"\",\"\",IF(VLOOKUP(J136,漢字書き!$A$2:$N$502,7,0)=0,\"\",VLOOKUP(J136,漢字書き!$A$2:$N$502,7,0)))","v":""},{"$f":"IF(K136=\"\",\"\",IF(VLOOKUP(K136,漢字読み!$A$2:$O$502,7,0)=0,\"\",VLOOKUP(K136,漢字読み!$A$2:$O$502,7,0)))","v":""},{"$f":"IF(L136=\"\",\"\",IF(VLOOKUP(L136,漢字読み!$A$2:$O$502,7,0)=0,\"\",VLOOKUP(L136,漢字読み!$A$2:$O$502,7,0)))","v":"ち"},{"$f":"IF(M136=\"\",\"\",IF(VLOOKUP(M136,漢字読み!$A$2:$O$502,7,0)=0,\"\",VLOOKUP(M136,漢字読み!$A$2:$O$502,7,0)))","v":"い"},{"$f":"IF(N136=\"\",\"\",IF(VLOOKUP(N136,漢字読み!$A$2:$O$502,7,0)=0,\"\",VLOOKUP(N136,漢字読み!$A$2:$O$502,7,0)))","v":"する"},{"$f":"IF(O136=\"\",\"\",IF(VLOOKUP(O136,漢字読み!$A$2:$O$502,7,0)=0,\"\",VLOOKUP(O136,漢字読み!$A$2:$O$502,7,0)))","v":"する"},{"$f":"IF(P136=\"\",\"\",IF(VLOOKUP(P136,漢字読み!$A$2:$O$502,7,0)=0,\"\",VLOOKUP(P136,漢字読み!$A$2:$O$502,7,0)))","v":"する"},{"$f":"IF(Q136=\"\",\"\",IF(VLOOKUP(Q136,漢字読み!$A$2:$O$502,7,0)=0,\"\",VLOOKUP(Q136,漢字読み!$A$2:$O$502,7,0)))","v":""},{"$f":"IF(R136=\"\",\"\",IF(VLOOKUP(R136,漢字読み!$A$2:$O$502,7,0)=0,\"\",VLOOKUP(R136,漢字読み!$A$2:$O$502,7,0)))","v":"点"},{"$f":"IF(S136=\"\",\"\",IF(VLOOKUP(S136,漢字読み!$A$2:$O$502,7,0)=0,\"\",VLOOKUP(S136,漢字読み!$A$2:$O$502,7,0)))","v":"とび"},{"$f":"IF(T136=\"\",\"\",IF(VLOOKUP(T136,漢字読み!$A$2:$O$502,7,0)=0,\"\",VLOOKUP(T136,漢字読み!$A$2:$O$502,7,0)))","v":""},null,null,"和歌山県教育委員会"]
[{"$f":"INDIRECT(\"'関数（書き）'!C\" & COLUMN(B$1)+SUM($AD$2:$AD142))","v":127},{"$f":"INDIRECT(\"'関数（書き）'!C\" & COLUMN(C$1)+SUM($AD$2:$AD142))","v":77},{"$f":"INDIRECT(\"'関数（書き）'!C\" & COLUMN(D$1)+SUM($AD$2:$AD142))","v":43},{"$f":"INDIRECT(\"'関数（書き）'!C\" & COLUMN(E$1)+SUM($AD$2:$AD142))","v":209},{"$f":"INDIRECT(\"'関数（書き）'!C\" & COLUMN(F$1)+SUM($AD$2:$AD142))","v":208},{"$f":"INDIRECT(\"'関数（書き）'!C\" & COLUMN(G$1)+SUM($AD$2:$AD142))","v":24},{"$f":"INDIRECT(\"'関数（書き）'!C\" & COLUMN(H$1)+SUM($AD$2:$AD142))","v":186},{"$f":"INDIRECT(\"'関数（書き）'!C\" & COLUMN(I$1)+SUM($AD$2:$AD142))","v":157},{"$f":"INDIRECT(\"'関数（書き）'!C\" & COLUMN(J$1)+SUM($AD$2:$AD142))","v":16},{"$f":"INDIRECT(\"'関数（書き）'!C\" & COLUMN(K$1)+SUM($AD$2:$AD142))","v":141},{"$f":"INDIRECT(\"'関数（読み）'!C\" & COLUMN(B$1)+SUM($AD$2:$AD142))","v":14},{"$f":"INDIRECT(\"'関数（読み）'!C\" & COLUMN(C$1)+SUM($AD$2:$AD142))","v":107},{"$f":"INDIRECT(\"'関数（読み）'!C\" & COLUMN(D$1)+SUM($AD$2:$AD142))","v":205},{"$f":"INDIRECT(\"'関数（読み）'!C\" & COLUMN(E$1)+SUM($AD$2:$AD142))","v":99},{"$f":"INDIRECT(\"'関数（読み）'!C\" & COLUMN(F$1)+SUM($AD$2:$AD142))","v":58},{"$f":"INDIRECT(\"'関数（読み）'!C\" & COLUMN(G$1)+SUM($AD$2:$AD142))","v":155},{"$f":"INDIRECT(\"'関数（読み）'!C\" & COLUMN(H$1)+SUM($AD$2:$AD142))","v":190},{"$f":"INDIRECT(\"'関数（読み）'!C\" & COLUMN(I$1)+SUM($AD$2:$AD142))","v":88},{"$f":"INDIRECT(\"'関数（読み）'!C\" & COLUMN(J$1)+SUM($AD$2:$AD142))","v":180},{"$f":"INDIRECT(\"'関数（読み）'!C\" & COLUMN(K$1)+SUM($AD$2:$AD142))","v":164}]
["⑳","⑲","⑱","⑰","⑯","⑮","⑭","⑬","⑫","⑪","⑩","⑨","⑧","⑦","⑥","⑤","④","③","②","①","次の［　　　　］の部分の漢字には読みがなをひらがなで書き、カタカナは漢字に直しなさい。",10,"「漢字の博士検定試験」練習問題　",null,null,null,null,null,"←",10,"問",{"$f":"AH127+1","v":141},"～",{"$f":"SUM($AD$2:$AD142)+10","v":150},"問まで",{"$f":"COUNTIF($A$1:$T$200,T143)","v":2}]
[{"$f":"IF(A141=\"\",\"\",VLOOKUP(A141,漢字書き!$A$2:$N$506,6,0))","v":"［ニッショウ］時間"},{"$f":"IF(B141=\"\",\"\",VLOOKUP(B141,漢字書き!$A$2:$N$506,6,0))","v":"和歌山[サン]の米"},{"$f":"IF(C141=\"\",\"\",VLOOKUP(C141,漢字書き!$A$2:$N$506,6,0))","v":"土を［カタ］める"},{"$f":"IF(D141=\"\",\"\",VLOOKUP(D141,漢字書き!$A$2:$N$506,6,0))","v":"[フクイケン]の名物"},{"$f":"IF(E141=\"\",\"\",VLOOKUP(E141,漢字書き!$A$2:$N$506,6,0))","v":"[サイタマケン]に行く"},{"$f":"IF(F141=\"\",\"\",VLOOKUP(F141,漢字書き!$A$2:$N$506,6,0))","v":"［ナ］き顔を見せない"},{"$f":"IF(G141=\"\",\"\",VLOOKUP(G141,漢字書き!$A$2:$N$506,6,0))","v":"ねっ［タイ］地方"},{"$f":"IF(H141=\"\",\"\",VLOOKUP(H141,漢字書き!$A$2:$N$506,6,0))","v":"［セツブン］に豆をまく"},{"$f":"IF(I141=\"\",\"\",VLOOKUP(I141,漢字書き!$A$2:$N$506,6,0))","v":"［キョク］たんな意見"},{"$f":"IF(J141=\"\",\"\",VLOOKUP(J141,漢字書き!$A$2:$N$506,6,0))","v":"[ショウ]エネルギー"},{"$f":"IF(K141=\"\",\"\",VLOOKUP(K141,漢字読み!$A$2:$O$506,6,0))","v":"［鏡］を見る"},{"$f":"IF(L141=\"\",\"\",VLOOKUP(L141,漢字読み!$A$2:$O$506,6,0))","v":"大会の［種目］"},{"$f":"IF(M141=\"\",\"\",VLOOKUP(M141,漢字読み!$A$2:$O$506,6,0))","v":"［佐賀県］の祭り"},{"$f":"IF(N141=\"\",\"\",VLOOKUP(N141,漢字読み!$A$2:$O$506,6,0))","v":"病気を［治］す"},{"$f":"IF(O141=\"\",\"\",VLOOKUP(O141,漢字読み!$A$2:$O$506,6,0))","v":"夕日が［差］す"},{"$f":"IF(P141=\"\",\"\",VLOOKUP(P141,漢字読み!$A$2:$O$506,6,0))","v":"［折角］だが留守だ"},{"$f":"IF(Q141=\"\",\"\",VLOOKUP(Q141,漢字読み!$A$2:$O$506,6,0))","v":"［子孫］を残す"},{"$f":"IF(R141=\"\",\"\",VLOOKUP(R141,漢字読み!$A$2:$O$506,6,0))","v":"[平氏]が栄える"},{"$f":"IF(S141=\"\",\"\",VLOOKUP(S141,漢字読み!$A$2:$O$506,6,0))","v":"［二束］三文のねだん"},{"$f":"IF(T141=\"\",\"\",VLOOKUP(T141,漢字読み!$A$2:$O$506,6,0))","v":"子どもに教えを［説］く"},null,"級"]
[null,null,null,null,null,null,null,null,null,null,null,null,null,null,null,null,null,null,null,null,null,"名前"]
[{"$f":"IF(A141=\"\",\"\",IF(VLOOKUP(A141,漢字書き!$A$2:$N$502,7,0)=0,\"\",VLOOKUP(A141,漢字書き!$A$2:$N$502,7,0)))","v":""},{"$f":"IF(B141=\"\",\"\",IF(VLOOKUP(B141,漢字書き!$A$2:$N$502,7,0)=0,\"\",VLOOKUP(B141,漢字書き!$A$2:$N$502,7,0)))","v":""},{"$f":"IF(C141=\"\",\"\",IF(VLOOKUP(C141,漢字書き!$A$2:$N$502,7,0)=0,\"\",VLOOKUP(C141,漢字書き!$A$2:$N$502,7,0)))","v":"める"},{"$f":"IF(D141=\"\",\"\",IF(VLOOKUP(D141,漢字書き!$A$2:$N$502,7,0)=0,\"\",VLOOKUP(D141,漢字書き!$A$2:$N$502,7,0)))","v":""},{"$f":"IF(E141=\"\",\"\",IF(VLOOKUP(E141,漢字書き!$A$2:$N$502,7,0)=0,\"\",VLOOKUP(E141,漢字書き!$A$2:$N$502,7,0)))","v":""},{"$f":"IF(F141=\"\",\"\",IF(VLOOKUP(F141,漢字書き!$A$2:$N$502,7,0)=0,\"\",VLOOKUP(F141,漢字書き!$A$2:$N$502,7,0)))","v":"き顔"},{"$f":"IF(G141=\"\",\"\",IF(VLOOKUP(G141,漢字書き!$A$2:$N$502,7,0)=0,\"\",VLOOKUP(G141,漢字書き!$A$2:$N$502,7,0)))","v":""},{"$f":"IF(H141=\"\",\"\",IF(VLOOKUP(H141,漢字書き!$A$2:$N$502,7,0)=0,\"\",VLOOKUP(H141,漢字書き!$A$2:$N$502,7,0)))","v":""},{"$f":"IF(I141=\"\",\"\",IF(VLOOKUP(I141,漢字書き!$A$2:$N$502,7,0)=0,\"\",VLOOKUP(I141,漢字書き!$A$2:$N$502,7,0)))","v":"たんな"},{"$f":"IF(J141=\"\",\"\",IF(VLOOKUP(J141,漢字書き!$A$2:$N$502,7,0)=0,\"\",VLOOKUP(J141,漢字書き!$A$2:$N$502,7,0)))","v":"エネルギー"},{"$f":"IF(K141=\"\",\"\",IF(VLOOKUP(K141,漢字読み!$A$2:$O$502,7,0)=0,\"\",VLOOKUP(K141,漢字読み!$A$2:$O$502,7,0)))","v":""},{"$f":"IF(L141=\"\",\"\",IF(VLOOKUP(L141,漢字読み!$A$2:$O$502,7,0)=0,\"\",VLOOKUP(L141,漢字読み!$A$2:$O$502,7,0)))","v":""},{"$f":"IF(M141=\"\",\"\",IF(VLOOKUP(M141,漢字読み!$A$2:$O$502,7,0)=0,\"\",VLOOKUP(M141,漢字読み!$A$2:$O$502,7,0)))","v":""},{"$f":"IF(N141=\"\",\"\",IF(VLOOKUP(N141,漢字読み!$A$2:$O$502,7,0)=0,\"\",VLOOKUP(N141,漢字読み!$A$2:$O$502,7,0)))","v":"す"},{"$f":"IF(O141=\"\",\"\",IF(VLOOKUP(O141,漢字読み!$A$2:$O$502,7,0)=0,\"\",VLOOKUP(O141,漢字読み!$A$2:$O$502,7,0)))","v":"す"},{"$f":"IF(P141=\"\",\"\",IF(VLOOKUP(P141,漢字読み!$A$2:$O$502,7,0)=0,\"\",VLOOKUP(P141,漢字読み!$A$2:$O$502,7,0)))","v":""},{"$f":"IF(Q141=\"\",\"\",IF(VLOOKUP(Q141,漢字読み!$A$2:$O$502,7,0)=0,\"\",VLOOKUP(Q141,漢字読み!$A$2:$O$502,7,0)))","v":""},{"$f":"IF(R141=\"\",\"\",IF(VLOOKUP(R141,漢字読み!$A$2:$O$502,7,0)=0,\"\",VLOOKUP(R141,漢字読み!$A$2:$O$502,7,0)))","v":""},{"$f":"IF(S141=\"\",\"\",IF(VLOOKUP(S141,漢字読み!$A$2:$O$502,7,0)=0,\"\",VLOOKUP(S141,漢字読み!$A$2:$O$502,7,0)))","v":""},{"$f":"IF(T141=\"\",\"\",IF(VLOOKUP(T141,漢字読み!$A$2:$O$502,7,0)=0,\"\",VLOOKUP(T141,漢字読み!$A$2:$O$502,7,0)))","v":"く"},null,null,"和歌山県教育委員会"]
[{"$f":"INDIRECT(\"'関数（書き）'!C\" & COLUMN(B$1)+SUM($AD$2:$AD147))","v":156},{"$f":"INDIRECT(\"'関数（書き）'!C\" & COLUMN(C$1)+SUM($AD$2:$AD147))","v":211},{"$f":"INDIRECT(\"'関数（書き）'!C\" & COLUMN(D$1)+SUM($AD$2:$AD147))","v":87},{"$f":"INDIRECT(\"'関数（書き）'!C\" & COLUMN(E$1)+SUM($AD$2:$AD147))","v":37},{"$f":"INDIRECT(\"'関数（書き）'!C\" & COLUMN(F$1)+SUM($AD$2:$AD147))","v":83},{"$f":"INDIRECT(\"'関数（書き）'!C\" & COLUMN(G$1)+SUM($AD$2:$AD147))","v":122},{"$f":"INDIRECT(\"'関数（書き）'!C\" & COLUMN(H$1)+SUM($AD$2:$AD147))","v":131},{"$f":"INDIRECT(\"'関数（書き）'!C\" & COLUMN(I$1)+SUM($AD$2:$AD147))","v":40},{"$f":"INDIRECT(\"'関数（書き）'!C\" & COLUMN(J$1)+SUM($AD$2:$AD147))","v":15},{"$f":"INDIRECT(\"'関数（書き）'!C\" & COLUMN(K$1)+SUM($AD$2:$AD147))","v":113},{"$f":"INDIRECT(\"'関数（読み）'!C\" & COLUMN(B$1)+SUM($AD$2:$AD147))","v":187},{"$f":"INDIRECT(\"'関数（読み）'!C\" & COLUMN(C$1)+SUM($AD$2:$AD147))","v":68},{"$f":"INDIRECT(\"'関数（読み）'!C\" & COLUMN(D$1)+SUM($AD$2:$AD147))","v":157},{"$f":"INDIRECT(\"'関数（読み）'!C\" & COLUMN(E$1)+SUM($AD$2:$AD147))","v":136},{"$f":"INDIRECT(\"'関数（読み）'!C\" & COLUMN(F$1)+SUM($AD$2:$AD147))","v":203},{"$f":"INDIRECT(\"'関数（読み）'!C\" & COLUMN(G$1)+SUM($AD$2:$AD147))","v":178},{"$f":"INDIRECT(\"'関数（読み）'!C\" & COLUMN(H$1)+SUM($AD$2:$AD147))","v":2},{"$f":"INDIRECT(\"'関数（読み）'!C\" & COLUMN(I$1)+SUM($AD$2:$AD147))","v":215},{"$f":"INDIRECT(\"'関数（読み）'!C\" & COLUMN(J$1)+SUM($AD$2:$AD147))","v":166},{"$f":"INDIRECT(\"'関数（読み）'!C\" & COLUMN(K$1)+SUM($AD$2:$AD147))","v":196}]
["⑳","⑲","⑱","⑰","⑯","⑮","⑭","⑬","⑫","⑪","⑩","⑨","⑧","⑦","⑥","⑤","④","③","②","①","次の［　　　　］の部分の漢字には読みがなをひらがなで書き、カタカナは漢字に直しなさい。",10,"「漢字の博士検定試験」練習問題　",null,null,null,null,null,"←",10,"問",{"$f":"AH142+1","v":151},"～",{"$f":"SUM($AD$2:$AD147)+10","v":160},"問まで",{"$f":"COUNTIF($A$1:$T$200,T148)","v":2}]
[{"$f":"IF(A146=\"\",\"\",VLOOKUP(A146,漢字書き!$A$2:$N$506,6,0))","v":"［オ］り目をつける"},{"$f":"IF(B146=\"\",\"\",VLOOKUP(B146,漢字書き!$A$2:$N$506,6,0))","v":"[イ]の中のかわず"},{"$f":"IF(C146=\"\",\"\",VLOOKUP(C146,漢字書き!$A$2:$N$506,6,0))","v":"野球の［シアイ］"},{"$f":"IF(D146=\"\",\"\",VLOOKUP(D146,漢字書き!$A$2:$N$506,6,0))","v":"［ケンゼン］な心"},{"$f":"IF(E146=\"\",\"\",VLOOKUP(E146,漢字書き!$A$2:$N$506,6,0))","v":"［シメイ］を記入する"},{"$f":"IF(F146=\"\",\"\",VLOOKUP(F146,漢字書き!$A$2:$N$506,6,0))","v":"こん声［ガッショウ］"},{"$f":"IF(G146=\"\",\"\",VLOOKUP(G146,漢字書き!$A$2:$N$506,6,0))","v":"ほめられると［テ］れる"},{"$f":"IF(H146=\"\",\"\",VLOOKUP(H146,漢字書き!$A$2:$N$506,6,0))","v":"理科の［ジッケン］"},{"$f":"IF(I146=\"\",\"\",VLOOKUP(I146,漢字書き!$A$2:$N$506,6,0))","v":"［ナンキョク］の氷"},{"$f":"IF(J146=\"\",\"\",VLOOKUP(J146,漢字書き!$A$2:$N$506,6,0))","v":"［ハジ］めてのけい験"},{"$f":"IF(K146=\"\",\"\",VLOOKUP(K146,漢字読み!$A$2:$O$506,6,0))","v":"道が［続］く"},{"$f":"IF(L146=\"\",\"\",VLOOKUP(L146,漢字読み!$A$2:$O$506,6,0))","v":"はがきの［印刷］"},{"$f":"IF(M146=\"\",\"\",VLOOKUP(M146,漢字読み!$A$2:$O$506,6,0))","v":"[折]をみて話す"},{"$f":"IF(N146=\"\",\"\",VLOOKUP(N146,漢字読み!$A$2:$O$506,6,0))","v":"［鹿児島県］産の肉"},{"$f":"IF(O146=\"\",\"\",VLOOKUP(O146,漢字読み!$A$2:$O$506,6,0))","v":"新しい［仲間］"},{"$f":"IF(P146=\"\",\"\",VLOOKUP(P146,漢字読み!$A$2:$O$506,6,0))","v":"つばめの［巣］"},{"$f":"IF(Q146=\"\",\"\",VLOOKUP(Q146,漢字読み!$A$2:$O$506,6,0))","v":"食べ物を［配給］する"},{"$f":"IF(R146=\"\",\"\",VLOOKUP(R146,漢字読み!$A$2:$O$506,6,0))","v":"関東の［群馬県］"},{"$f":"IF(S146=\"\",\"\",VLOOKUP(S146,漢字読み!$A$2:$O$506,6,0))","v":"［作戦］をたてる"},{"$f":"IF(T146=\"\",\"\",VLOOKUP(T146,漢字読み!$A$2:$O$506,6,0))","v":"［軍隊］に入る"},null,"級"]
[null,null,null,null,null,null,null,null,null,null,null,null,null,null,null,null,null,null,null,null,null,"名前"]
[{"$f":"IF(A146=\"\",\"\",IF(VLOOKUP(A146,漢字書き!$A$2:$N$502,7,0)=0,\"\",VLOOKUP(A146,漢字書き!$A$2:$N$502,7,0)))","v":"り目"},{"$f":"IF(B146=\"\",\"\",IF(VLOOKUP(B146,漢字書き!$A$2:$N$502,7,0)=0,\"\",VLOOKUP(B146,漢字書き!$A$2:$N$502,7,0)))","v":""},{"$f":"IF(C146=\"\",\"\",IF(VLOOKUP(C146,漢字書き!$A$2:$N$502,7,0)=0,\"\",VLOOKUP(C146,漢字書き!$A$2:$N$502,7,0)))","v":""},{"$f":"IF(D146=\"\",\"\",IF(VLOOKUP(D146,漢字書き!$A$2:$N$502,7,0)=0,\"\",VLOOKUP(D146,漢字書き!$A$2:$N$502,7,0)))","v":"な"},{"$f":"IF(E146=\"\",\"\",IF(VLOOKUP(E146,漢字書き!$A$2:$N$502,7,0)=0,\"\",VLOOKUP(E146,漢字書き!$A$2:$N$502,7,0)))","v":""},{"$f":"IF(F146=\"\",\"\",IF(VLOOKUP(F146,漢字書き!$A$2:$N$502,7,0)=0,\"\",VLOOKUP(F146,漢字書き!$A$2:$N$502,7,0)))","v":""},{"$f":"IF(G146=\"\",\"\",IF(VLOOKUP(G146,漢字書き!$A$2:$N$502,7,0)=0,\"\",VLOOKUP(G146,漢字書き!$A$2:$N$502,7,0)))","v":"れる"},{"$f":"IF(H146=\"\",\"\",IF(VLOOKUP(H146,漢字書き!$A$2:$N$502,7,0)=0,\"\",VLOOKUP(H146,漢字書き!$A$2:$N$502,7,0)))","v":""},{"$f":"IF(I146=\"\",\"\",IF(VLOOKUP(I146,漢字書き!$A$2:$N$502,7,0)=0,\"\",VLOOKUP(I146,漢字書き!$A$2:$N$502,7,0)))","v":""},{"$f":"IF(J146=\"\",\"\",IF(VLOOKUP(J146,漢字書き!$A$2:$N$502,7,0)=0,\"\",VLOOKUP(J146,漢字書き!$A$2:$N$502,7,0)))","v":"めて"},{"$f":"IF(K146=\"\",\"\",IF(VLOOKUP(K146,漢字読み!$A$2:$O$502,7,0)=0,\"\",VLOOKUP(K146,漢字読み!$A$2:$O$502,7,0)))","v":"く"},{"$f":"IF(L146=\"\",\"\",IF(VLOOKUP(L146,漢字読み!$A$2:$O$502,7,0)=0,\"\",VLOOKUP(L146,漢字読み!$A$2:$O$502,7,0)))","v":""},{"$f":"IF(M146=\"\",\"\",IF(VLOOKUP(M146,漢字読み!$A$2:$O$502,7,0)=0,\"\",VLOOKUP(M146,漢字読み!$A$2:$O$502,7,0)))","v":""},{"$f":"IF(N146=\"\",\"\",IF(VLOOKUP(N146,漢字読み!$A$2:$O$502,7,0)=0,\"\",VLOOKUP(N146,漢字読み!$A$2:$O$502,7,0)))","v":"産"},{"$f":"IF(O146=\"\",\"\",IF(VLOOKUP(O146,漢字読み!$A$2:$O$502,7,0)=0,\"\",VLOOKUP(O146,漢字読み!$A$2:$O$502,7,0)))","v":""},{"$f":"IF(P146=\"\",\"\",IF(VLOOKUP(P146,漢字読み!$A$2:$O$502,7,0)=0,\"\",VLOOKUP(P146,漢字読み!$A$2:$O$502,7,0)))","v":""},{"$f":"IF(Q146=\"\",\"\",IF(VLOOKUP(Q146,漢字読み!$A$2:$O$502,7,0)=0,\"\",VLOOKUP(Q146,漢字読み!$A$2:$O$502,7,0)))","v":"する"},{"$f":"IF(R146=\"\",\"\",IF(VLOOKUP(R146,漢字読み!$A$2:$O$502,7,0)=0,\"\",VLOOKUP(R146,漢字読み!$A$2:$O$502,7,0)))","v":""},{"$f":"IF(S146=\"\",\"\",IF(VLOOKUP(S146,漢字読み!$A$2:$O$502,7,0)=0,\"\",VLOOKUP(S146,漢字読み!$A$2:$O$502,7,0)))","v":""},{"$f":"IF(T146=\"\",\"\",IF(VLOOKUP(T146,漢字読み!$A$2:$O$502,7,0)=0,\"\",VLOOKUP(T146,漢字読み!$A$2:$O$502,7,0)))","v":""},null,null,"和歌山県教育委員会"]
[{"$f":"A141","v":127},77,43,209,208,24,186,157,16,141,14,107,205,99,58,155,190,88,180,164]
["⑳","⑲","⑱","⑰","⑯","⑮","⑭","⑬","⑫","⑪","⑩","⑨","⑧","⑦","⑥","⑤","④","③","②","①","次の［　　　　］の部分の漢字には読みがなをひらがなで書き、カタカナは漢字に直しなさい。",10,"「漢字の博士検定試験」練習問題　"]
[{"$f":"IF(A151=\"\",\"\",VLOOKUP(A151,漢字書き!$A$2:$N$506,6,0))","v":"［ニッショウ］時間"},{"$f":"IF(B151=\"\",\"\",VLOOKUP(B151,漢字書き!$A$2:$N$506,6,0))","v":"和歌山[サン]の米"},{"$f":"IF(C151=\"\",\"\",VLOOKUP(C151,漢字書き!$A$2:$N$506,6,0))","v":"土を［カタ］める"},{"$f":"IF(D151=\"\",\"\",VLOOKUP(D151,漢字書き!$A$2:$N$506,6,0))","v":"[フクイケン]の名物"},{"$f":"IF(E151=\"\",\"\",VLOOKUP(E151,漢字書き!$A$2:$N$506,6,0))","v":"[サイタマケン]に行く"},{"$f":"IF(F151=\"\",\"\",VLOOKUP(F151,漢字書き!$A$2:$N$506,6,0))","v":"［ナ］き顔を見せない"},{"$f":"IF(G151=\"\",\"\",VLOOKUP(G151,漢字書き!$A$2:$N$506,6,0))","v":"ねっ［タイ］地方"},{"$f":"IF(H151=\"\",\"\",VLOOKUP(H151,漢字書き!$A$2:$N$506,6,0))","v":"［セツブン］に豆をまく"},{"$f":"IF(I151=\"\",\"\",VLOOKUP(I151,漢字書き!$A$2:$N$506,6,0))","v":"［キョク］たんな意見"},{"$f":"IF(J151=\"\",\"\",VLOOKUP(J151,漢字書き!$A$2:$N$506,6,0))","v":"[ショウ]エネルギー"},{"$f":"IF(K151=\"\",\"\",VLOOKUP(K151,漢字読み!$A$2:$O$506,6,0))","v":"［鏡］を見る"},{"$f":"IF(L151=\"\",\"\",VLOOKUP(L151,漢字読み!$A$2:$O$506,6,0))","v":"大会の［種目］"},{"$f":"IF(M151=\"\",\"\",VLOOKUP(M151,漢字読み!$A$2:$O$506,6,0))","v":"［佐賀県］の祭り"},{"$f":"IF(N151=\"\",\"\",VLOOKUP(N151,漢字読み!$A$2:$O$506,6,0))","v":"病気を［治］す"},{"$f":"IF(O151=\"\",\"\",VLOOKUP(O151,漢字読み!$A$2:$O$506,6,0))","v":"夕日が［差］す"},{"$f":"IF(P151=\"\",\"\",VLOOKUP(P151,漢字読み!$A$2:$O$506,6,0))","v":"［折角］だが留守だ"},{"$f":"IF(Q151=\"\",\"\",VLOOKUP(Q151,漢字読み!$A$2:$O$506,6,0))","v":"［子孫］を残す"},{"$f":"IF(R151=\"\",\"\",VLOOKUP(R151,漢字読み!$A$2:$O$506,6,0))","v":"[平氏]が栄える"},{"$f":"IF(S151=\"\",\"\",VLOOKUP(S151,漢字読み!$A$2:$O$506,6,0))","v":"［二束］三文のねだん"},{"$f":"IF(T151=\"\",\"\",VLOOKUP(T151,漢字読み!$A$2:$O$506,6,0))","v":"子どもに教えを［説］く"},null,"級"]
[{"$f":"IF(A$11=\"\",\"\",VLOOKUP(A151,漢字書き!$A$2:$O$506,8,0))","v":"日照"},{"$f":"IF(B$11=\"\",\"\",VLOOKUP(B151,漢字書き!$A$2:$O$506,8,0))","v":"産"},{"$f":"IF(C$11=\"\",\"\",VLOOKUP(C151,漢字書き!$A$2:$O$506,8,0))","v":"固"},{"$f":"IF(D$11=\"\",\"\",VLOOKUP(D151,漢字書き!$A$2:$O$506,8,0))","v":"福井県"},{"$f":"IF(E$11=\"\",\"\",VLOOKUP(E151,漢字書き!$A$2:$O$506,8,0))","v":"埼玉県"},{"$f":"IF(F$11=\"\",\"\",VLOOKUP(F151,漢字書き!$A$2:$O$506,8,0))","v":"泣"},{"$f":"IF(G$11=\"\",\"\",VLOOKUP(G151,漢字書き!$A$2:$O$506,8,0))","v":"帯"},{"$f":"IF(H$11=\"\",\"\",VLOOKUP(H151,漢字書き!$A$2:$O$506,8,0))","v":"節分"},{"$f":"IF(I$11=\"\",\"\",VLOOKUP(I151,漢字書き!$A$2:$O$506,8,0))","v":"極"},{"$f":"IF(J$11=\"\",\"\",VLOOKUP(J151,漢字書き!$A$2:$O$506,8,0))","v":"省"},{"$f":"IF(K$11=\"\",\"\",VLOOKUP(K151,漢字読み!$A$2:$O$506,8,0))","v":"かがみ"},{"$f":"IF(L$11=\"\",\"\",VLOOKUP(L151,漢字読み!$A$2:$O$506,8,0))","v":"しゅもく"},{"$f":"IF(M$11=\"\",\"\",VLOOKUP(M151,漢字読み!$A$2:$O$506,8,0))","v":"さがけん"},{"$f":"IF(N$11=\"\",\"\",VLOOKUP(N151,漢字読み!$A$2:$O$506,8,0))","v":"なお"},{"$f":"IF(O$11=\"\",\"\",VLOOKUP(O151,漢字読み!$A$2:$O$506,8,0))","v":"さ"},{"$f":"IF(P$11=\"\",\"\",VLOOKUP(P151,漢字読み!$A$2:$O$506,8,0))","v":"せっかく"},{"$f":"IF(Q$11=\"\",\"\",VLOOKUP(Q151,漢字読み!$A$2:$O$506,8,0))","v":"しそん"},{"$f":"IF(R$11=\"\",\"\",VLOOKUP(R151,漢字読み!$A$2:$O$506,8,0))","v":"へいし"},{"$f":"IF(S$11=\"\",\"\",VLOOKUP(S151,漢字読み!$A$2:$O$506,8,0))","v":"にそく"},{"$f":"IF(T$11=\"\",\"\",VLOOKUP(T151,漢字読み!$A$2:$O$506,8,0))","v":"と"},null,"名前"]
[{"$f":"IF(A151=\"\",\"\",IF(VLOOKUP(A151,漢字書き!$A$2:$N$502,7,0)=0,\"\",VLOOKUP(A151,漢字書き!$A$2:$N$502,7,0)))","v":""},{"$f":"IF(B151=\"\",\"\",IF(VLOOKUP(B151,漢字書き!$A$2:$N$502,7,0)=0,\"\",VLOOKUP(B151,漢字書き!$A$2:$N$502,7,0)))","v":""},{"$f":"IF(C151=\"\",\"\",IF(VLOOKUP(C151,漢字書き!$A$2:$N$502,7,0)=0,\"\",VLOOKUP(C151,漢字書き!$A$2:$N$502,7,0)))","v":"める"},{"$f":"IF(D151=\"\",\"\",IF(VLOOKUP(D151,漢字書き!$A$2:$N$502,7,0)=0,\"\",VLOOKUP(D151,漢字書き!$A$2:$N$502,7,0)))","v":""},{"$f":"IF(E151=\"\",\"\",IF(VLOOKUP(E151,漢字書き!$A$2:$N$502,7,0)=0,\"\",VLOOKUP(E151,漢字書き!$A$2:$N$502,7,0)))","v":""},{"$f":"IF(F151=\"\",\"\",IF(VLOOKUP(F151,漢字書き!$A$2:$N$502,7,0)=0,\"\",VLOOKUP(F151,漢字書き!$A$2:$N$502,7,0)))","v":"き顔"},{"$f":"IF(G151=\"\",\"\",IF(VLOOKUP(G151,漢字書き!$A$2:$N$502,7,0)=0,\"\",VLOOKUP(G151,漢字書き!$A$2:$N$502,7,0)))","v":""},{"$f":"IF(H151=\"\",\"\",IF(VLOOKUP(H151,漢字書き!$A$2:$N$502,7,0)=0,\"\",VLOOKUP(H151,漢字書き!$A$2:$N$502,7,0)))","v":""},{"$f":"IF(I151=\"\",\"\",IF(VLOOKUP(I151,漢字書き!$A$2:$N$502,7,0)=0,\"\",VLOOKUP(I151,漢字書き!$A$2:$N$502,7,0)))","v":"たんな"},{"$f":"IF(J151=\"\",\"\",IF(VLOOKUP(J151,漢字書き!$A$2:$N$502,7,0)=0,\"\",VLOOKUP(J151,漢字書き!$A$2:$N$502,7,0)))","v":"エネルギー"},{"$f":"IF(K151=\"\",\"\",IF(VLOOKUP(K151,漢字読み!$A$2:$O$502,7,0)=0,\"\",VLOOKUP(K151,漢字読み!$A$2:$O$502,7,0)))","v":""},{"$f":"IF(L151=\"\",\"\",IF(VLOOKUP(L151,漢字読み!$A$2:$O$502,7,0)=0,\"\",VLOOKUP(L151,漢字読み!$A$2:$O$502,7,0)))","v":""},{"$f":"IF(M151=\"\",\"\",IF(VLOOKUP(M151,漢字読み!$A$2:$O$502,7,0)=0,\"\",VLOOKUP(M151,漢字読み!$A$2:$O$502,7,0)))","v":""},{"$f":"IF(N151=\"\",\"\",IF(VLOOKUP(N151,漢字読み!$A$2:$O$502,7,0)=0,\"\",VLOOKUP(N151,漢字読み!$A$2:$O$502,7,0)))","v":"す"},{"$f":"IF(O151=\"\",\"\",IF(VLOOKUP(O151,漢字読み!$A$2:$O$502,7,0)=0,\"\",VLOOKUP(O151,漢字読み!$A$2:$O$502,7,0)))","v":"す"},{"$f":"IF(P151=\"\",\"\",IF(VLOOKUP(P151,漢字読み!$A$2:$O$502,7,0)=0,\"\",VLOOKUP(P151,漢字読み!$A$2:$O$502,7,0)))","v":""},{"$f":"IF(Q151=\"\",\"\",IF(VLOOKUP(Q151,漢字読み!$A$2:$O$502,7,0)=0,\"\",VLOOKUP(Q151,漢字読み!$A$2:$O$502,7,0)))","v":""},{"$f":"IF(R151=\"\",\"\",IF(VLOOKUP(R151,漢字読み!$A$2:$O$502,7,0)=0,\"\",VLOOKUP(R151,漢字読み!$A$2:$O$502,7,0)))","v":""},{"$f":"IF(S151=\"\",\"\",IF(VLOOKUP(S151,漢字読み!$A$2:$O$502,7,0)=0,\"\",VLOOKUP(S151,漢字読み!$A$2:$O$502,7,0)))","v":""},{"$f":"IF(T151=\"\",\"\",IF(VLOOKUP(T151,漢字読み!$A$2:$O$502,7,0)=0,\"\",VLOOKUP(T151,漢字読み!$A$2:$O$502,7,0)))","v":"く"},null,null,"和歌山県教育委員会"]
[{"$f":"A146","v":156},211,87,37,83,122,131,40,15,113,187,68,157,136,203,178,2,215,166,196]
["⑳","⑲","⑱","⑰","⑯","⑮","⑭","⑬","⑫","⑪","⑩","⑨","⑧","⑦","⑥","⑤","④","③","②","①","次の［　　　　］の部分の漢字には読みがなをひらがなで書き、カタカナは漢字に直しなさい。",10,"「漢字の博士検定試験」練習問題　"]
[{"$f":"IF(A156=\"\",\"\",VLOOKUP(A156,漢字書き!$A$2:$N$506,6,0))","v":"［オ］り目をつける"},{"$f":"IF(B156=\"\",\"\",VLOOKUP(B156,漢字書き!$A$2:$N$506,6,0))","v":"[イ]の中のかわず"},{"$f":"IF(C156=\"\",\"\",VLOOKUP(C156,漢字書き!$A$2:$N$506,6,0))","v":"野球の［シアイ］"},{"$f":"IF(D156=\"\",\"\",VLOOKUP(D156,漢字書き!$A$2:$N$506,6,0))","v":"［ケンゼン］な心"},{"$f":"IF(E156=\"\",\"\",VLOOKUP(E156,漢字書き!$A$2:$N$506,6,0))","v":"［シメイ］を記入する"},{"$f":"IF(F156=\"\",\"\",VLOOKUP(F156,漢字書き!$A$2:$N$506,6,0))","v":"こん声［ガッショウ］"},{"$f":"IF(G156=\"\",\"\",VLOOKUP(G156,漢字書き!$A$2:$N$506,6,0))","v":"ほめられると［テ］れる"},{"$f":"IF(H156=\"\",\"\",VLOOKUP(H156,漢字書き!$A$2:$N$506,6,0))","v":"理科の［ジッケン］"},{"$f":"IF(I156=\"\",\"\",VLOOKUP(I156,漢字書き!$A$2:$N$506,6,0))","v":"［ナンキョク］の氷"},{"$f":"IF(J156=\"\",\"\",VLOOKUP(J156,漢字書き!$A$2:$N$506,6,0))","v":"［ハジ］めてのけい験"},{"$f":"IF(K156=\"\",\"\",VLOOKUP(K156,漢字読み!$A$2:$O$506,6,0))","v":"道が［続］く"},{"$f":"IF(L156=\"\",\"\",VLOOKUP(L156,漢字読み!$A$2:$O$506,6,0))","v":"はがきの［印刷］"},{"$f":"IF(M156=\"\",\"\",VLOOKUP(M156,漢字読み!$A$2:$O$506,6,0))","v":"[折]をみて話す"},{"$f":"IF(N156=\"\",\"\",VLOOKUP(N156,漢字読み!$A$2:$O$506,6,0))","v":"［鹿児島県］産の肉"},{"$f":"IF(O156=\"\",\"\",VLOOKUP(O156,漢字読み!$A$2:$O$506,6,0))","v":"新しい［仲間］"},{"$f":"IF(P156=\"\",\"\",VLOOKUP(P156,漢字読み!$A$2:$O$506,6,0))","v":"つばめの［巣］"},{"$f":"IF(Q156=\"\",\"\",VLOOKUP(Q156,漢字読み!$A$2:$O$506,6,0))","v":"食べ物を［配給］する"},{"$f":"IF(R156=\"\",\"\",VLOOKUP(R156,漢字読み!$A$2:$O$506,6,0))","v":"関東の［群馬県］"},{"$f":"IF(S156=\"\",\"\",VLOOKUP(S156,漢字読み!$A$2:$O$506,6,0))","v":"［作戦］をたてる"},{"$f":"IF(T156=\"\",\"\",VLOOKUP(T156,漢字読み!$A$2:$O$506,6,0))","v":"［軍隊］に入る"},null,"級"]
[{"$f":"IF(A$16=\"\",\"\",VLOOKUP(A156,漢字書き!$A$2:$O$506,8,0))","v":"折"},{"$f":"IF(B$16=\"\",\"\",VLOOKUP(B156,漢字書き!$A$2:$O$506,8,0))","v":"井"},{"$f":"IF(C$16=\"\",\"\",VLOOKUP(C156,漢字書き!$A$2:$O$506,8,0))","v":"試合"},{"$f":"IF(D$16=\"\",\"\",VLOOKUP(D156,漢字書き!$A$2:$O$506,8,0))","v":"健全"},{"$f":"IF(E$16=\"\",\"\",VLOOKUP(E156,漢字書き!$A$2:$O$506,8,0))","v":"氏名"},{"$f":"IF(F$16=\"\",\"\",VLOOKUP(F156,漢字書き!$A$2:$O$506,8,0))","v":"合唱"},{"$f":"IF(G$16=\"\",\"\",VLOOKUP(G156,漢字書き!$A$2:$O$506,8,0))","v":"照"},{"$f":"IF(H$16=\"\",\"\",VLOOKUP(H156,漢字書き!$A$2:$O$506,8,0))","v":"実験"},{"$f":"IF(I$16=\"\",\"\",VLOOKUP(I156,漢字書き!$A$2:$O$506,8,0))","v":"南極"},{"$f":"IF(J$16=\"\",\"\",VLOOKUP(J156,漢字書き!$A$2:$O$506,8,0))","v":"初"},{"$f":"IF(K$16=\"\",\"\",VLOOKUP(K156,漢字読み!$A$2:$O$506,8,0))","v":"つづ"},{"$f":"IF(L$16=\"\",\"\",VLOOKUP(L156,漢字読み!$A$2:$O$506,8,0))","v":"いんさつ"},{"$f":"IF(M$16=\"\",\"\",VLOOKUP(M156,漢字読み!$A$2:$O$506,8,0))","v":"おり"},{"$f":"IF(N$16=\"\",\"\",VLOOKUP(N156,漢字読み!$A$2:$O$506,8,0))","v":"かごしまけん"},{"$f":"IF(O$16=\"\",\"\",VLOOKUP(O156,漢字読み!$A$2:$O$506,8,0))","v":"なかま"},{"$f":"IF(P$16=\"\",\"\",VLOOKUP(P156,漢字読み!$A$2:$O$506,8,0))","v":"す"},{"$f":"IF(Q$16=\"\",\"\",VLOOKUP(Q156,漢字読み!$A$2:$O$506,8,0))","v":"はいきゅう"},{"$f":"IF(R$16=\"\",\"\",VLOOKUP(R156,漢字読み!$A$2:$O$506,8,0))","v":"ぐんまけん"},{"$f":"IF(S$16=\"\",\"\",VLOOKUP(S156,漢字読み!$A$2:$O$506,8,0))","v":"せくせん"},{"$f":"IF(T$16=\"\",\"\",VLOOKUP(T156,漢字読み!$A$2:$O$506,8,0))","v":"ぐんたい"},null,"名前"]
[{"$f":"IF(A156=\"\",\"\",IF(VLOOKUP(A156,漢字書き!$A$2:$N$502,7,0)=0,\"\",VLOOKUP(A156,漢字書き!$A$2:$N$502,7,0)))","v":"り目"},{"$f":"IF(B156=\"\",\"\",IF(VLOOKUP(B156,漢字書き!$A$2:$N$502,7,0)=0,\"\",VLOOKUP(B156,漢字書き!$A$2:$N$502,7,0)))","v":""},{"$f":"IF(C156=\"\",\"\",IF(VLOOKUP(C156,漢字書き!$A$2:$N$502,7,0)=0,\"\",VLOOKUP(C156,漢字書き!$A$2:$N$502,7,0)))","v":""},{"$f":"IF(D156=\"\",\"\",IF(VLOOKUP(D156,漢字書き!$A$2:$N$502,7,0)=0,\"\",VLOOKUP(D156,漢字書き!$A$2:$N$502,7,0)))","v":"な"},{"$f":"IF(E156=\"\",\"\",IF(VLOOKUP(E156,漢字書き!$A$2:$N$502,7,0)=0,\"\",VLOOKUP(E156,漢字書き!$A$2:$N$502,7,0)))","v":""},{"$f":"IF(F156=\"\",\"\",IF(VLOOKUP(F156,漢字書き!$A$2:$N$502,7,0)=0,\"\",VLOOKUP(F156,漢字書き!$A$2:$N$502,7,0)))","v":""},{"$f":"IF(G156=\"\",\"\",IF(VLOOKUP(G156,漢字書き!$A$2:$N$502,7,0)=0,\"\",VLOOKUP(G156,漢字書き!$A$2:$N$502,7,0)))","v":"れる"},{"$f":"IF(H156=\"\",\"\",IF(VLOOKUP(H156,漢字書き!$A$2:$N$502,7,0)=0,\"\",VLOOKUP(H156,漢字書き!$A$2:$N$502,7,0)))","v":""},{"$f":"IF(I156=\"\",\"\",IF(VLOOKUP(I156,漢字書き!$A$2:$N$502,7,0)=0,\"\",VLOOKUP(I156,漢字書き!$A$2:$N$502,7,0)))","v":""},{"$f":"IF(J156=\"\",\"\",IF(VLOOKUP(J156,漢字書き!$A$2:$N$502,7,0)=0,\"\",VLOOKUP(J156,漢字書き!$A$2:$N$502,7,0)))","v":"めて"},{"$f":"IF(K156=\"\",\"\",IF(VLOOKUP(K156,漢字読み!$A$2:$O$502,7,0)=0,\"\",VLOOKUP(K156,漢字読み!$A$2:$O$502,7,0)))","v":"く"},{"$f":"IF(L156=\"\",\"\",IF(VLOOKUP(L156,漢字読み!$A$2:$O$502,7,0)=0,\"\",VLOOKUP(L156,漢字読み!$A$2:$O$502,7,0)))","v":""},{"$f":"IF(M156=\"\",\"\",IF(VLOOKUP(M156,漢字読み!$A$2:$O$502,7,0)=0,\"\",VLOOKUP(M156,漢字読み!$A$2:$O$502,7,0)))","v":""},{"$f":"IF(N156=\"\",\"\",IF(VLOOKUP(N156,漢字読み!$A$2:$O$502,7,0)=0,\"\",VLOOKUP(N156,漢字読み!$A$2:$O$502,7,0)))","v":"産"},{"$f":"IF(O156=\"\",\"\",IF(VLOOKUP(O156,漢字読み!$A$2:$O$502,7,0)=0,\"\",VLOOKUP(O156,漢字読み!$A$2:$O$502,7,0)))","v":""},{"$f":"IF(P156=\"\",\"\",IF(VLOOKUP(P156,漢字読み!$A$2:$O$502,7,0)=0,\"\",VLOOKUP(P156,漢字読み!$A$2:$O$502,7,0)))","v":""},{"$f":"IF(Q156=\"\",\"\",IF(VLOOKUP(Q156,漢字読み!$A$2:$O$502,7,0)=0,\"\",VLOOKUP(Q156,漢字読み!$A$2:$O$502,7,0)))","v":"する"},{"$f":"IF(R156=\"\",\"\",IF(VLOOKUP(R156,漢字読み!$A$2:$O$502,7,0)=0,\"\",VLOOKUP(R156,漢字読み!$A$2:$O$502,7,0)))","v":""},{"$f":"IF(S156=\"\",\"\",IF(VLOOKUP(S156,漢字読み!$A$2:$O$502,7,0)=0,\"\",VLOOKUP(S156,漢字読み!$A$2:$O$502,7,0)))","v":""},{"$f":"IF(T156=\"\",\"\",IF(VLOOKUP(T156,漢字読み!$A$2:$O$502,7,0)=0,\"\",VLOOKUP(T156,漢字読み!$A$2:$O$502,7,0)))","v":""},null,null,"和歌山県教育委員会"]
[{"$f":"INDIRECT(\"'関数（書き）'!C\" & COLUMN(B$1)+SUM($AD$2:$AD162))","v":201},{"$f":"INDIRECT(\"'関数（書き）'!C\" & COLUMN(C$1)+SUM($AD$2:$AD162))","v":125},{"$f":"INDIRECT(\"'関数（書き）'!C\" & COLUMN(D$1)+SUM($AD$2:$AD162))","v":117},{"$f":"INDIRECT(\"'関数（書き）'!C\" & COLUMN(E$1)+SUM($AD$2:$AD162))","v":182},{"$f":"INDIRECT(\"'関数（書き）'!C\" & COLUMN(F$1)+SUM($AD$2:$AD162))","v":169},{"$f":"INDIRECT(\"'関数（書き）'!C\" & COLUMN(G$1)+SUM($AD$2:$AD162))","v":202},{"$f":"INDIRECT(\"'関数（書き）'!C\" & COLUMN(H$1)+SUM($AD$2:$AD162))","v":53},{"$f":"INDIRECT(\"'関数（書き）'!C\" & COLUMN(I$1)+SUM($AD$2:$AD162))","v":49},{"$f":"INDIRECT(\"'関数（書き）'!C\" & COLUMN(J$1)+SUM($AD$2:$AD162))","v":111},{"$f":"INDIRECT(\"'関数（書き）'!C\" & COLUMN(K$1)+SUM($AD$2:$AD162))","v":7},{"$f":"INDIRECT(\"'関数（読み）'!C\" & COLUMN(B$1)+SUM($AD$2:$AD162))","v":160},{"$f":"INDIRECT(\"'関数（読み）'!C\" & COLUMN(C$1)+SUM($AD$2:$AD162))","v":158},{"$f":"INDIRECT(\"'関数（読み）'!C\" & COLUMN(D$1)+SUM($AD$2:$AD162))","v":79},{"$f":"INDIRECT(\"'関数（読み）'!C\" & COLUMN(E$1)+SUM($AD$2:$AD162))","v":176},{"$f":"INDIRECT(\"'関数（読み）'!C\" & COLUMN(F$1)+SUM($AD$2:$AD162))","v":41},{"$f":"INDIRECT(\"'関数（読み）'!C\" & COLUMN(G$1)+SUM($AD$2:$AD162))","v":220},{"$f":"INDIRECT(\"'関数（読み）'!C\" & COLUMN(H$1)+SUM($AD$2:$AD162))","v":140},{"$f":"INDIRECT(\"'関数（読み）'!C\" & COLUMN(I$1)+SUM($AD$2:$AD162))","v":201},{"$f":"INDIRECT(\"'関数（読み）'!C\" & COLUMN(J$1)+SUM($AD$2:$AD162))","v":90},{"$f":"INDIRECT(\"'関数（読み）'!C\" & COLUMN(K$1)+SUM($AD$2:$AD162))","v":50}]
["⑳","⑲","⑱","⑰","⑯","⑮","⑭","⑬","⑫","⑪","⑩","⑨","⑧","⑦","⑥","⑤","④","③","②","①","次の［　　　　］の部分の漢字には読みがなをひらがなで書き、カタカナは漢字に直しなさい。",10,"「漢字の博士検定試験」練習問題　",null,null,null,null,null,"←",10,"問",{"$f":"AH147+1","v":161},"～",{"$f":"SUM($AD$2:$AD162)+10","v":170},"問まで",{"$f":"COUNTIF($A$1:$T$200,T163)","v":2}]
[{"$f":"IF(A161=\"\",\"\",VLOOKUP(A161,漢字書き!$A$2:$N$506,6,0))","v":"頭を［ヒク］くする"},{"$f":"IF(B161=\"\",\"\",VLOOKUP(B161,漢字書き!$A$2:$N$506,6,0))","v":"きれいな［ユウヤ］け"},{"$f":"IF(C161=\"\",\"\",VLOOKUP(C161,漢字書き!$A$2:$N$506,6,0))","v":"夏の［ハジ］め"},{"$f":"IF(D161=\"\",\"\",VLOOKUP(D161,漢字書き!$A$2:$N$506,6,0))","v":"けいこを[ツヅ]ける"},{"$f":"IF(E161=\"\",\"\",VLOOKUP(E161,漢字書き!$A$2:$N$506,6,0))","v":"プレゼントを［エラ］ぶ"},{"$f":"IF(F161=\"\",\"\",VLOOKUP(F161,漢字書き!$A$2:$N$506,6,0))","v":"［カイテイ］火山"},{"$f":"IF(G161=\"\",\"\",VLOOKUP(G161,漢字書き!$A$2:$N$506,6,0))","v":"［ミヤザキケン］に行く"},{"$f":"IF(H161=\"\",\"\",VLOOKUP(H161,漢字書き!$A$2:$N$506,6,0))","v":"［キコウ］がよい"},{"$f":"IF(I161=\"\",\"\",VLOOKUP(I161,漢字書き!$A$2:$N$506,6,0))","v":"計画が［ジュンチョウ］に進む"},{"$f":"IF(J161=\"\",\"\",VLOOKUP(J161,漢字書き!$A$2:$N$506,6,0))","v":"相手に［キョウカン］する"},{"$f":"IF(K161=\"\",\"\",VLOOKUP(K161,漢字読み!$A$2:$O$506,6,0))","v":"竹の［節］の部分"},{"$f":"IF(L161=\"\",\"\",VLOOKUP(L161,漢字読み!$A$2:$O$506,6,0))","v":"［季節］がかわる"},{"$f":"IF(M161=\"\",\"\",VLOOKUP(M161,漢字読み!$A$2:$O$506,6,0))","v":"子犬を［産］む"},{"$f":"IF(N161=\"\",\"\",VLOOKUP(N161,漢字読み!$A$2:$O$506,6,0))","v":"高ゆか式の［倉］"},{"$f":"IF(O161=\"\",\"\",VLOOKUP(O161,漢字読み!$A$2:$O$506,6,0))","v":"［体験］を語る"},{"$f":"IF(P161=\"\",\"\",VLOOKUP(P161,漢字読み!$A$2:$O$506,6,0))","v":"［埼玉県］から来る"},{"$f":"IF(Q161=\"\",\"\",VLOOKUP(Q161,漢字読み!$A$2:$O$506,6,0))","v":"自分を［信］じる"},{"$f":"IF(R161=\"\",\"\",VLOOKUP(R161,漢字読み!$A$2:$O$506,6,0))","v":"けいびを［配置］する"},{"$f":"IF(S161=\"\",\"\",VLOOKUP(S161,漢字読み!$A$2:$O$506,6,0))","v":"［司会］をする"},{"$f":"IF(T161=\"\",\"\",VLOOKUP(T161,漢字読み!$A$2:$O$506,6,0))","v":"書記に［立候］ほする"},null,"級"]
[null,null,null,null,null,null,null,null,null,null,null,null,null,null,null,null,null,null,null,null,null,"名前"]
[{"$f":"IF(A161=\"\",\"\",IF(VLOOKUP(A161,漢字書き!$A$2:$N$502,7,0)=0,\"\",VLOOKUP(A161,漢字書き!$A$2:$N$502,7,0)))","v":"く"},{"$f":"IF(B161=\"\",\"\",IF(VLOOKUP(B161,漢字書き!$A$2:$N$502,7,0)=0,\"\",VLOOKUP(B161,漢字書き!$A$2:$N$502,7,0)))","v":"け"},{"$f":"IF(C161=\"\",\"\",IF(VLOOKUP(C161,漢字書き!$A$2:$N$502,7,0)=0,\"\",VLOOKUP(C161,漢字書き!$A$2:$N$502,7,0)))","v":"め"},{"$f":"IF(D161=\"\",\"\",IF(VLOOKUP(D161,漢字書き!$A$2:$N$502,7,0)=0,\"\",VLOOKUP(D161,漢字書き!$A$2:$N$502,7,0)))","v":"ける"},{"$f":"IF(E161=\"\",\"\",IF(VLOOKUP(E161,漢字書き!$A$2:$N$502,7,0)=0,\"\",VLOOKUP(E161,漢字書き!$A$2:$N$502,7,0)))","v":"ぶ"},{"$f":"IF(F161=\"\",\"\",IF(VLOOKUP(F161,漢字書き!$A$2:$N$502,7,0)=0,\"\",VLOOKUP(F161,漢字書き!$A$2:$N$502,7,0)))","v":""},{"$f":"IF(G161=\"\",\"\",IF(VLOOKUP(G161,漢字書き!$A$2:$N$502,7,0)=0,\"\",VLOOKUP(G161,漢字書き!$A$2:$N$502,7,0)))","v":""},{"$f":"IF(H161=\"\",\"\",IF(VLOOKUP(H161,漢字書き!$A$2:$N$502,7,0)=0,\"\",VLOOKUP(H161,漢字書き!$A$2:$N$502,7,0)))","v":""},{"$f":"IF(I161=\"\",\"\",IF(VLOOKUP(I161,漢字書き!$A$2:$N$502,7,0)=0,\"\",VLOOKUP(I161,漢字書き!$A$2:$N$502,7,0)))","v":"に"},{"$f":"IF(J161=\"\",\"\",IF(VLOOKUP(J161,漢字書き!$A$2:$N$502,7,0)=0,\"\",VLOOKUP(J161,漢字書き!$A$2:$N$502,7,0)))","v":"する"},{"$f":"IF(K161=\"\",\"\",IF(VLOOKUP(K161,漢字読み!$A$2:$O$502,7,0)=0,\"\",VLOOKUP(K161,漢字読み!$A$2:$O$502,7,0)))","v":""},{"$f":"IF(L161=\"\",\"\",IF(VLOOKUP(L161,漢字読み!$A$2:$O$502,7,0)=0,\"\",VLOOKUP(L161,漢字読み!$A$2:$O$502,7,0)))","v":""},{"$f":"IF(M161=\"\",\"\",IF(VLOOKUP(M161,漢字読み!$A$2:$O$502,7,0)=0,\"\",VLOOKUP(M161,漢字読み!$A$2:$O$502,7,0)))","v":"む"},{"$f":"IF(N161=\"\",\"\",IF(VLOOKUP(N161,漢字読み!$A$2:$O$502,7,0)=0,\"\",VLOOKUP(N161,漢字読み!$A$2:$O$502,7,0)))","v":""},{"$f":"IF(O161=\"\",\"\",IF(VLOOKUP(O161,漢字読み!$A$2:$O$502,7,0)=0,\"\",VLOOKUP(O161,漢字読み!$A$2:$O$502,7,0)))","v":""},{"$f":"IF(P161=\"\",\"\",IF(VLOOKUP(P161,漢字読み!$A$2:$O$502,7,0)=0,\"\",VLOOKUP(P161,漢字読み!$A$2:$O$502,7,0)))","v":""},{"$f":"IF(Q161=\"\",\"\",IF(VLOOKUP(Q161,漢字読み!$A$2:$O$502,7,0)=0,\"\",VLOOKUP(Q161,漢字読み!$A$2:$O$502,7,0)))","v":"じる"},{"$f":"IF(R161=\"\",\"\",IF(VLOOKUP(R161,漢字読み!$A$2:$O$502,7,0)=0,\"\",VLOOKUP(R161,漢字読み!$A$2:$O$502,7,0)))","v":"する"},{"$f":"IF(S161=\"\",\"\",IF(VLOOKUP(S161,漢字読み!$A$2:$O$502,7,0)=0,\"\",VLOOKUP(S161,漢字読み!$A$2:$O$502,7,0)))","v":""},{"$f":"IF(T161=\"\",\"\",IF(VLOOKUP(T161,漢字読み!$A$2:$O$502,7,0)=0,\"\",VLOOKUP(T161,漢字読み!$A$2:$O$502,7,0)))","v":"ほ"},null,null,"和歌山県教育委員会"]
[{"$f":"INDIRECT(\"'関数（書き）'!C\" & COLUMN(B$1)+SUM($AD$2:$AD167))","v":81},{"$f":"INDIRECT(\"'関数（書き）'!C\" & COLUMN(C$1)+SUM($AD$2:$AD167))","v":178},{"$f":"INDIRECT(\"'関数（書き）'!C\" & COLUMN(D$1)+SUM($AD$2:$AD167))","v":65},{"$f":"INDIRECT(\"'関数（書き）'!C\" & COLUMN(E$1)+SUM($AD$2:$AD167))","v":22},{"$f":"INDIRECT(\"'関数（書き）'!C\" & COLUMN(F$1)+SUM($AD$2:$AD167))","v":203},{"$f":"INDIRECT(\"'関数（書き）'!C\" & COLUMN(G$1)+SUM($AD$2:$AD167))","v":176},{"$f":"INDIRECT(\"'関数（書き）'!C\" & COLUMN(H$1)+SUM($AD$2:$AD167))","v":17},{"$f":"INDIRECT(\"'関数（書き）'!C\" & COLUMN(I$1)+SUM($AD$2:$AD167))","v":3},{"$f":"INDIRECT(\"'関数（書き）'!C\" & COLUMN(J$1)+SUM($AD$2:$AD167))","v":10},{"$f":"INDIRECT(\"'関数（書き）'!C\" & COLUMN(K$1)+SUM($AD$2:$AD167))","v":41},{"$f":"INDIRECT(\"'関数（読み）'!C\" & COLUMN(B$1)+SUM($AD$2:$AD167))","v":49},{"$f":"INDIRECT(\"'関数（読み）'!C\" & COLUMN(C$1)+SUM($AD$2:$AD167))","v":112},{"$f":"INDIRECT(\"'関数（読み）'!C\" & COLUMN(D$1)+SUM($AD$2:$AD167))","v":135},{"$f":"INDIRECT(\"'関数（読み）'!C\" & COLUMN(E$1)+SUM($AD$2:$AD167))","v":115},{"$f":"INDIRECT(\"'関数（読み）'!C\" & COLUMN(F$1)+SUM($AD$2:$AD167))","v":130},{"$f":"INDIRECT(\"'関数（読み）'!C\" & COLUMN(G$1)+SUM($AD$2:$AD167))","v":188},{"$f":"INDIRECT(\"'関数（読み）'!C\" & COLUMN(H$1)+SUM($AD$2:$AD167))","v":102},{"$f":"INDIRECT(\"'関数（読み）'!C\" & COLUMN(I$1)+SUM($AD$2:$AD167))","v":81},{"$f":"INDIRECT(\"'関数（読み）'!C\" & COLUMN(J$1)+SUM($AD$2:$AD167))","v":111},{"$f":"INDIRECT(\"'関数（読み）'!C\" & COLUMN(K$1)+SUM($AD$2:$AD167))","v":192}]
["⑳","⑲","⑱","⑰","⑯","⑮","⑭","⑬","⑫","⑪","⑩","⑨","⑧","⑦","⑥","⑤","④","③","②","①","次の［　　　　］の部分の漢字には読みがなをひらがなで書き、カタカナは漢字に直しなさい。",10,"「漢字の博士検定試験」練習問題　",null,null,null,null,null,"←",10,"問",{"$f":"AH162+1","v":171},"～",{"$f":"SUM($AD$2:$AD167)+10","v":180},"問まで",{"$f":"COUNTIF($A$1:$T$200,T168)","v":2}]
[{"$f":"IF(A166=\"\",\"\",VLOOKUP(A166,漢字書き!$A$2:$N$506,6,0))","v":"足あとが［ノコ］る"},{"$f":"IF(B166=\"\",\"\",VLOOKUP(B166,漢字書き!$A$2:$N$506,6,0))","v":"やく［ソク］を果たす"},{"$f":"IF(C166=\"\",\"\",VLOOKUP(C166,漢字書き!$A$2:$N$506,6,0))","v":"お［フダ］をはる"},{"$f":"IF(D166=\"\",\"\",VLOOKUP(D166,漢字書き!$A$2:$N$506,6,0))","v":"和歌山県有田［グン］"},{"$f":"IF(E166=\"\",\"\",VLOOKUP(E166,漢字書き!$A$2:$N$506,6,0))","v":"海の［ソコ］"},{"$f":"IF(F166=\"\",\"\",VLOOKUP(F166,漢字書き!$A$2:$N$506,6,0))","v":"［クラ］にしまいこむ"},{"$f":"IF(G166=\"\",\"\",VLOOKUP(G166,漢字書き!$A$2:$N$506,6,0))","v":"プラス[キョク]"},{"$f":"IF(H166=\"\",\"\",VLOOKUP(H166,漢字書き!$A$2:$N$506,6,0))","v":"例を［ア］げて話す"},{"$f":"IF(I166=\"\",\"\",VLOOKUP(I166,漢字書き!$A$2:$N$506,6,0))","v":"［サンメンキョウ］で写す"},{"$f":"IF(J166=\"\",\"\",VLOOKUP(J166,漢字書き!$A$2:$N$506,6,0))","v":"［キョウコ］な思い"},{"$f":"IF(K166=\"\",\"\",VLOOKUP(K166,漢字読み!$A$2:$O$506,6,0))","v":"あたたかい［気候］"},{"$f":"IF(L166=\"\",\"\",VLOOKUP(L166,漢字読み!$A$2:$O$506,6,0))","v":"進学［祝］いをいただく"},{"$f":"IF(M166=\"\",\"\",VLOOKUP(M166,漢字読み!$A$2:$O$506,6,0))","v":"［鹿］の角"},{"$f":"IF(N166=\"\",\"\",VLOOKUP(N166,漢字読み!$A$2:$O$506,6,0))","v":"［最初］から見る"},{"$f":"IF(O166=\"\",\"\",VLOOKUP(O166,漢字読み!$A$2:$O$506,6,0))","v":"有名な［城下町］"},{"$f":"IF(P166=\"\",\"\",VLOOKUP(P166,漢字読み!$A$2:$O$506,6,0))","v":"小学校の［卒業］式"},{"$f":"IF(Q166=\"\",\"\",VLOOKUP(Q166,漢字読み!$A$2:$O$506,6,0))","v":"[祝辞]をのべる"},{"$f":"IF(R166=\"\",\"\",VLOOKUP(R166,漢字読み!$A$2:$O$506,6,0))","v":"朝の［散歩］"},{"$f":"IF(S166=\"\",\"\",VLOOKUP(S166,漢字読み!$A$2:$O$506,6,0))","v":"［祝福］を受ける"},{"$f":"IF(T166=\"\",\"\",VLOOKUP(T166,漢字読み!$A$2:$O$506,6,0))","v":"ほう［帯］をまく"},null,"級"]
[null,null,null,null,null,null,null,null,null,null,null,null,null,null,null,null,null,null,null,null,null,"名前"]
[{"$f":"IF(A166=\"\",\"\",IF(VLOOKUP(A166,漢字書き!$A$2:$N$502,7,0)=0,\"\",VLOOKUP(A166,漢字書き!$A$2:$N$502,7,0)))","v":"る"},{"$f":"IF(B166=\"\",\"\",IF(VLOOKUP(B166,漢字書き!$A$2:$N$502,7,0)=0,\"\",VLOOKUP(B166,漢字書き!$A$2:$N$502,7,0)))","v":""},{"$f":"IF(C166=\"\",\"\",IF(VLOOKUP(C166,漢字書き!$A$2:$N$502,7,0)=0,\"\",VLOOKUP(C166,漢字書き!$A$2:$N$502,7,0)))","v":""},{"$f":"IF(D166=\"\",\"\",IF(VLOOKUP(D166,漢字書き!$A$2:$N$502,7,0)=0,\"\",VLOOKUP(D166,漢字書き!$A$2:$N$502,7,0)))","v":""},{"$f":"IF(E166=\"\",\"\",IF(VLOOKUP(E166,漢字書き!$A$2:$N$502,7,0)=0,\"\",VLOOKUP(E166,漢字書き!$A$2:$N$502,7,0)))","v":""},{"$f":"IF(F166=\"\",\"\",IF(VLOOKUP(F166,漢字書き!$A$2:$N$502,7,0)=0,\"\",VLOOKUP(F166,漢字書き!$A$2:$N$502,7,0)))","v":""},{"$f":"IF(G166=\"\",\"\",IF(VLOOKUP(G166,漢字書き!$A$2:$N$502,7,0)=0,\"\",VLOOKUP(G166,漢字書き!$A$2:$N$502,7,0)))","v":""},{"$f":"IF(H166=\"\",\"\",IF(VLOOKUP(H166,漢字書き!$A$2:$N$502,7,0)=0,\"\",VLOOKUP(H166,漢字書き!$A$2:$N$502,7,0)))","v":"げて"},{"$f":"IF(I166=\"\",\"\",IF(VLOOKUP(I166,漢字書き!$A$2:$N$502,7,0)=0,\"\",VLOOKUP(I166,漢字書き!$A$2:$N$502,7,0)))","v":""},{"$f":"IF(J166=\"\",\"\",IF(VLOOKUP(J166,漢字書き!$A$2:$N$502,7,0)=0,\"\",VLOOKUP(J166,漢字書き!$A$2:$N$502,7,0)))","v":"な"},{"$f":"IF(K166=\"\",\"\",IF(VLOOKUP(K166,漢字読み!$A$2:$O$502,7,0)=0,\"\",VLOOKUP(K166,漢字読み!$A$2:$O$502,7,0)))","v":""},{"$f":"IF(L166=\"\",\"\",IF(VLOOKUP(L166,漢字読み!$A$2:$O$502,7,0)=0,\"\",VLOOKUP(L166,漢字読み!$A$2:$O$502,7,0)))","v":"い"},{"$f":"IF(M166=\"\",\"\",IF(VLOOKUP(M166,漢字読み!$A$2:$O$502,7,0)=0,\"\",VLOOKUP(M166,漢字読み!$A$2:$O$502,7,0)))","v":""},{"$f":"IF(N166=\"\",\"\",IF(VLOOKUP(N166,漢字読み!$A$2:$O$502,7,0)=0,\"\",VLOOKUP(N166,漢字読み!$A$2:$O$502,7,0)))","v":""},{"$f":"IF(O166=\"\",\"\",IF(VLOOKUP(O166,漢字読み!$A$2:$O$502,7,0)=0,\"\",VLOOKUP(O166,漢字読み!$A$2:$O$502,7,0)))","v":""},{"$f":"IF(P166=\"\",\"\",IF(VLOOKUP(P166,漢字読み!$A$2:$O$502,7,0)=0,\"\",VLOOKUP(P166,漢字読み!$A$2:$O$502,7,0)))","v":"式"},{"$f":"IF(Q166=\"\",\"\",IF(VLOOKUP(Q166,漢字読み!$A$2:$O$502,7,0)=0,\"\",VLOOKUP(Q166,漢字読み!$A$2:$O$502,7,0)))","v":""},{"$f":"IF(R166=\"\",\"\",IF(VLOOKUP(R166,漢字読み!$A$2:$O$502,7,0)=0,\"\",VLOOKUP(R166,漢字読み!$A$2:$O$502,7,0)))","v":""},{"$f":"IF(S166=\"\",\"\",IF(VLOOKUP(S166,漢字読み!$A$2:$O$502,7,0)=0,\"\",VLOOKUP(S166,漢字読み!$A$2:$O$502,7,0)))","v":""},{"$f":"IF(T166=\"\",\"\",IF(VLOOKUP(T166,漢字読み!$A$2:$O$502,7,0)=0,\"\",VLOOKUP(T166,漢字読み!$A$2:$O$502,7,0)))","v":""},null,null,"和歌山県教育委員会"]
[{"$f":"A161","v":201},125,117,182,169,202,53,49,111,7,160,158,79,176,41,220,140,201,90,50]
["⑳","⑲","⑱","⑰","⑯","⑮","⑭","⑬","⑫","⑪","⑩","⑨","⑧","⑦","⑥","⑤","④","③","②","①","次の［　　　　］の部分の漢字には読みがなをひらがなで書き、カタカナは漢字に直しなさい。",10,"「漢字の博士検定試験」練習問題　"]
[{"$f":"IF(A171=\"\",\"\",VLOOKUP(A171,漢字書き!$A$2:$N$506,6,0))","v":"頭を［ヒク］くする"},{"$f":"IF(B171=\"\",\"\",VLOOKUP(B171,漢字書き!$A$2:$N$506,6,0))","v":"きれいな［ユウヤ］け"},{"$f":"IF(C171=\"\",\"\",VLOOKUP(C171,漢字書き!$A$2:$N$506,6,0))","v":"夏の［ハジ］め"},{"$f":"IF(D171=\"\",\"\",VLOOKUP(D171,漢字書き!$A$2:$N$506,6,0))","v":"けいこを[ツヅ]ける"},{"$f":"IF(E171=\"\",\"\",VLOOKUP(E171,漢字書き!$A$2:$N$506,6,0))","v":"プレゼントを［エラ］ぶ"},{"$f":"IF(F171=\"\",\"\",VLOOKUP(F171,漢字書き!$A$2:$N$506,6,0))","v":"［カイテイ］火山"},{"$f":"IF(G171=\"\",\"\",VLOOKUP(G171,漢字書き!$A$2:$N$506,6,0))","v":"［ミヤザキケン］に行く"},{"$f":"IF(H171=\"\",\"\",VLOOKUP(H171,漢字書き!$A$2:$N$506,6,0))","v":"［キコウ］がよい"},{"$f":"IF(I171=\"\",\"\",VLOOKUP(I171,漢字書き!$A$2:$N$506,6,0))","v":"計画が［ジュンチョウ］に進む"},{"$f":"IF(J171=\"\",\"\",VLOOKUP(J171,漢字書き!$A$2:$N$506,6,0))","v":"相手に［キョウカン］する"},{"$f":"IF(K171=\"\",\"\",VLOOKUP(K171,漢字読み!$A$2:$O$506,6,0))","v":"竹の［節］の部分"},{"$f":"IF(L171=\"\",\"\",VLOOKUP(L171,漢字読み!$A$2:$O$506,6,0))","v":"［季節］がかわる"},{"$f":"IF(M171=\"\",\"\",VLOOKUP(M171,漢字読み!$A$2:$O$506,6,0))","v":"子犬を［産］む"},{"$f":"IF(N171=\"\",\"\",VLOOKUP(N171,漢字読み!$A$2:$O$506,6,0))","v":"高ゆか式の［倉］"},{"$f":"IF(O171=\"\",\"\",VLOOKUP(O171,漢字読み!$A$2:$O$506,6,0))","v":"［体験］を語る"},{"$f":"IF(P171=\"\",\"\",VLOOKUP(P171,漢字読み!$A$2:$O$506,6,0))","v":"［埼玉県］から来る"},{"$f":"IF(Q171=\"\",\"\",VLOOKUP(Q171,漢字読み!$A$2:$O$506,6,0))","v":"自分を［信］じる"},{"$f":"IF(R171=\"\",\"\",VLOOKUP(R171,漢字読み!$A$2:$O$506,6,0))","v":"けいびを［配置］する"},{"$f":"IF(S171=\"\",\"\",VLOOKUP(S171,漢字読み!$A$2:$O$506,6,0))","v":"［司会］をする"},{"$f":"IF(T171=\"\",\"\",VLOOKUP(T171,漢字読み!$A$2:$O$506,6,0))","v":"書記に［立候］ほする"},null,"級"]
[{"$f":"IF(A$11=\"\",\"\",VLOOKUP(A171,漢字書き!$A$2:$O$506,8,0))","v":"低"},{"$f":"IF(B$11=\"\",\"\",VLOOKUP(B171,漢字書き!$A$2:$O$506,8,0))","v":"夕焼"},{"$f":"IF(C$11=\"\",\"\",VLOOKUP(C171,漢字書き!$A$2:$O$506,8,0))","v":"初"},{"$f":"IF(D$11=\"\",\"\",VLOOKUP(D171,漢字書き!$A$2:$O$506,8,0))","v":"続"},{"$f":"IF(E$11=\"\",\"\",VLOOKUP(E171,漢字書き!$A$2:$O$506,8,0))","v":"選"},{"$f":"IF(F$11=\"\",\"\",VLOOKUP(F171,漢字書き!$A$2:$O$506,8,0))","v":"海底"},{"$f":"IF(G$11=\"\",\"\",VLOOKUP(G171,漢字書き!$A$2:$O$506,8,0))","v":"宮崎県"},{"$f":"IF(H$11=\"\",\"\",VLOOKUP(H171,漢字書き!$A$2:$O$506,8,0))","v":"気候"},{"$f":"IF(I$11=\"\",\"\",VLOOKUP(I171,漢字書き!$A$2:$O$506,8,0))","v":"順調"},{"$f":"IF(J$11=\"\",\"\",VLOOKUP(J171,漢字書き!$A$2:$O$506,8,0))","v":"共感"},{"$f":"IF(K$11=\"\",\"\",VLOOKUP(K171,漢字読み!$A$2:$O$506,8,0))","v":"ふし"},{"$f":"IF(L$11=\"\",\"\",VLOOKUP(L171,漢字読み!$A$2:$O$506,8,0))","v":"きせつ"},{"$f":"IF(M$11=\"\",\"\",VLOOKUP(M171,漢字読み!$A$2:$O$506,8,0))","v":"う"},{"$f":"IF(N$11=\"\",\"\",VLOOKUP(N171,漢字読み!$A$2:$O$506,8,0))","v":"くら"},{"$f":"IF(O$11=\"\",\"\",VLOOKUP(O171,漢字読み!$A$2:$O$506,8,0))","v":"たいけん"},{"$f":"IF(P$11=\"\",\"\",VLOOKUP(P171,漢字読み!$A$2:$O$506,8,0))","v":"さいたまけん"},{"$f":"IF(Q$11=\"\",\"\",VLOOKUP(Q171,漢字読み!$A$2:$O$506,8,0))","v":"しん"},{"$f":"IF(R$11=\"\",\"\",VLOOKUP(R171,漢字読み!$A$2:$O$506,8,0))","v":"はいち"},{"$f":"IF(S$11=\"\",\"\",VLOOKUP(S171,漢字読み!$A$2:$O$506,8,0))","v":"しかい"},{"$f":"IF(T$11=\"\",\"\",VLOOKUP(T171,漢字読み!$A$2:$O$506,8,0))","v":"りっこう"},null,"名前"]
[{"$f":"IF(A171=\"\",\"\",IF(VLOOKUP(A171,漢字書き!$A$2:$N$502,7,0)=0,\"\",VLOOKUP(A171,漢字書き!$A$2:$N$502,7,0)))","v":"く"},{"$f":"IF(B171=\"\",\"\",IF(VLOOKUP(B171,漢字書き!$A$2:$N$502,7,0)=0,\"\",VLOOKUP(B171,漢字書き!$A$2:$N$502,7,0)))","v":"け"},{"$f":"IF(C171=\"\",\"\",IF(VLOOKUP(C171,漢字書き!$A$2:$N$502,7,0)=0,\"\",VLOOKUP(C171,漢字書き!$A$2:$N$502,7,0)))","v":"め"},{"$f":"IF(D171=\"\",\"\",IF(VLOOKUP(D171,漢字書き!$A$2:$N$502,7,0)=0,\"\",VLOOKUP(D171,漢字書き!$A$2:$N$502,7,0)))","v":"ける"},{"$f":"IF(E171=\"\",\"\",IF(VLOOKUP(E171,漢字書き!$A$2:$N$502,7,0)=0,\"\",VLOOKUP(E171,漢字書き!$A$2:$N$502,7,0)))","v":"ぶ"},{"$f":"IF(F171=\"\",\"\",IF(VLOOKUP(F171,漢字書き!$A$2:$N$502,7,0)=0,\"\",VLOOKUP(F171,漢字書き!$A$2:$N$502,7,0)))","v":""},{"$f":"IF(G171=\"\",\"\",IF(VLOOKUP(G171,漢字書き!$A$2:$N$502,7,0)=0,\"\",VLOOKUP(G171,漢字書き!$A$2:$N$502,7,0)))","v":""},{"$f":"IF(H171=\"\",\"\",IF(VLOOKUP(H171,漢字書き!$A$2:$N$502,7,0)=0,\"\",VLOOKUP(H171,漢字書き!$A$2:$N$502,7,0)))","v":""},{"$f":"IF(I171=\"\",\"\",IF(VLOOKUP(I171,漢字書き!$A$2:$N$502,7,0)=0,\"\",VLOOKUP(I171,漢字書き!$A$2:$N$502,7,0)))","v":"に"},{"$f":"IF(J171=\"\",\"\",IF(VLOOKUP(J171,漢字書き!$A$2:$N$502,7,0)=0,\"\",VLOOKUP(J171,漢字書き!$A$2:$N$502,7,0)))","v":"する"},{"$f":"IF(K171=\"\",\"\",IF(VLOOKUP(K171,漢字読み!$A$2:$O$502,7,0)=0,\"\",VLOOKUP(K171,漢字読み!$A$2:$O$502,7,0)))","v":""},{"$f":"IF(L171=\"\",\"\",IF(VLOOKUP(L171,漢字読み!$A$2:$O$502,7,0)=0,\"\",VLOOKUP(L171,漢字読み!$A$2:$O$502,7,0)))","v":""},{"$f":"IF(M171=\"\",\"\",IF(VLOOKUP(M171,漢字読み!$A$2:$O$502,7,0)=0,\"\",VLOOKUP(M171,漢字読み!$A$2:$O$502,7,0)))","v":"む"},{"$f":"IF(N171=\"\",\"\",IF(VLOOKUP(N171,漢字読み!$A$2:$O$502,7,0)=0,\"\",VLOOKUP(N171,漢字読み!$A$2:$O$502,7,0)))","v":""},{"$f":"IF(O171=\"\",\"\",IF(VLOOKUP(O171,漢字読み!$A$2:$O$502,7,0)=0,\"\",VLOOKUP(O171,漢字読み!$A$2:$O$502,7,0)))","v":""},{"$f":"IF(P171=\"\",\"\",IF(VLOOKUP(P171,漢字読み!$A$2:$O$502,7,0)=0,\"\",VLOOKUP(P171,漢字読み!$A$2:$O$502,7,0)))","v":""},{"$f":"IF(Q171=\"\",\"\",IF(VLOOKUP(Q171,漢字読み!$A$2:$O$502,7,0)=0,\"\",VLOOKUP(Q171,漢字読み!$A$2:$O$502,7,0)))","v":"じる"},{"$f":"IF(R171=\"\",\"\",IF(VLOOKUP(R171,漢字読み!$A$2:$O$502,7,0)=0,\"\",VLOOKUP(R171,漢字読み!$A$2:$O$502,7,0)))","v":"する"},{"$f":"IF(S171=\"\",\"\",IF(VLOOKUP(S171,漢字読み!$A$2:$O$502,7,0)=0,\"\",VLOOKUP(S171,漢字読み!$A$2:$O$502,7,0)))","v":""},{"$f":"IF(T171=\"\",\"\",IF(VLOOKUP(T171,漢字読み!$A$2:$O$502,7,0)=0,\"\",VLOOKUP(T171,漢字読み!$A$2:$O$502,7,0)))","v":"ほ"},null,null,"和歌山県教育委員会"]
[{"$f":"A166","v":81},178,65,22,203,176,17,3,10,41,49,112,135,115,130,188,102,81,111,192]
["⑳","⑲","⑱","⑰","⑯","⑮","⑭","⑬","⑫","⑪","⑩","⑨","⑧","⑦","⑥","⑤","④","③","②","①","次の［　　　　］の部分の漢字には読みがなをひらがなで書き、カタカナは漢字に直しなさい。",10,"「漢字の博士検定試験」練習問題　"]
[{"$f":"IF(A176=\"\",\"\",VLOOKUP(A176,漢字書き!$A$2:$N$506,6,0))","v":"足あとが［ノコ］る"},{"$f":"IF(B176=\"\",\"\",VLOOKUP(B176,漢字書き!$A$2:$N$506,6,0))","v":"やく［ソク］を果たす"},{"$f":"IF(C176=\"\",\"\",VLOOKUP(C176,漢字書き!$A$2:$N$506,6,0))","v":"お［フダ］をはる"},{"$f":"IF(D176=\"\",\"\",VLOOKUP(D176,漢字書き!$A$2:$N$506,6,0))","v":"和歌山県有田［グン］"},{"$f":"IF(E176=\"\",\"\",VLOOKUP(E176,漢字書き!$A$2:$N$506,6,0))","v":"海の［ソコ］"},{"$f":"IF(F176=\"\",\"\",VLOOKUP(F176,漢字書き!$A$2:$N$506,6,0))","v":"［クラ］にしまいこむ"},{"$f":"IF(G176=\"\",\"\",VLOOKUP(G176,漢字書き!$A$2:$N$506,6,0))","v":"プラス[キョク]"},{"$f":"IF(H176=\"\",\"\",VLOOKUP(H176,漢字書き!$A$2:$N$506,6,0))","v":"例を［ア］げて話す"},{"$f":"IF(I176=\"\",\"\",VLOOKUP(I176,漢字書き!$A$2:$N$506,6,0))","v":"［サンメンキョウ］で写す"},{"$f":"IF(J176=\"\",\"\",VLOOKUP(J176,漢字書き!$A$2:$N$506,6,0))","v":"［キョウコ］な思い"},{"$f":"IF(K176=\"\",\"\",VLOOKUP(K176,漢字読み!$A$2:$O$506,6,0))","v":"あたたかい［気候］"},{"$f":"IF(L176=\"\",\"\",VLOOKUP(L176,漢字読み!$A$2:$O$506,6,0))","v":"進学［祝］いをいただく"},{"$f":"IF(M176=\"\",\"\",VLOOKUP(M176,漢字読み!$A$2:$O$506,6,0))","v":"［鹿］の角"},{"$f":"IF(N176=\"\",\"\",VLOOKUP(N176,漢字読み!$A$2:$O$506,6,0))","v":"［最初］から見る"},{"$f":"IF(O176=\"\",\"\",VLOOKUP(O176,漢字読み!$A$2:$O$506,6,0))","v":"有名な［城下町］"},{"$f":"IF(P176=\"\",\"\",VLOOKUP(P176,漢字読み!$A$2:$O$506,6,0))","v":"小学校の［卒業］式"},{"$f":"IF(Q176=\"\",\"\",VLOOKUP(Q176,漢字読み!$A$2:$O$506,6,0))","v":"[祝辞]をのべる"},{"$f":"IF(R176=\"\",\"\",VLOOKUP(R176,漢字読み!$A$2:$O$506,6,0))","v":"朝の［散歩］"},{"$f":"IF(S176=\"\",\"\",VLOOKUP(S176,漢字読み!$A$2:$O$506,6,0))","v":"［祝福］を受ける"},{"$f":"IF(T176=\"\",\"\",VLOOKUP(T176,漢字読み!$A$2:$O$506,6,0))","v":"ほう［帯］をまく"},null,"級"]
[{"$f":"IF(A$16=\"\",\"\",VLOOKUP(A176,漢字書き!$A$2:$O$506,8,0))","v":"残"},{"$f":"IF(B$16=\"\",\"\",VLOOKUP(B176,漢字書き!$A$2:$O$506,8,0))","v":"束"},{"$f":"IF(C$16=\"\",\"\",VLOOKUP(C176,漢字書き!$A$2:$O$506,8,0))","v":"札"},{"$f":"IF(D$16=\"\",\"\",VLOOKUP(D176,漢字書き!$A$2:$O$506,8,0))","v":"郡"},{"$f":"IF(E$16=\"\",\"\",VLOOKUP(E176,漢字書き!$A$2:$O$506,8,0))","v":"底"},{"$f":"IF(F$16=\"\",\"\",VLOOKUP(F176,漢字書き!$A$2:$O$506,8,0))","v":"倉"},{"$f":"IF(G$16=\"\",\"\",VLOOKUP(G176,漢字書き!$A$2:$O$506,8,0))","v":"極"},{"$f":"IF(H$16=\"\",\"\",VLOOKUP(H176,漢字書き!$A$2:$O$506,8,0))","v":"挙"},{"$f":"IF(I$16=\"\",\"\",VLOOKUP(I176,漢字書き!$A$2:$O$506,8,0))","v":"三面鏡"},{"$f":"IF(J$16=\"\",\"\",VLOOKUP(J176,漢字書き!$A$2:$O$506,8,0))","v":"強固"},{"$f":"IF(K$16=\"\",\"\",VLOOKUP(K176,漢字読み!$A$2:$O$506,8,0))","v":"きこう"},{"$f":"IF(L$16=\"\",\"\",VLOOKUP(L176,漢字読み!$A$2:$O$506,8,0))","v":"いわ"},{"$f":"IF(M$16=\"\",\"\",VLOOKUP(M176,漢字読み!$A$2:$O$506,8,0))","v":"しか"},{"$f":"IF(N$16=\"\",\"\",VLOOKUP(N176,漢字読み!$A$2:$O$506,8,0))","v":"さいしょ"},{"$f":"IF(O$16=\"\",\"\",VLOOKUP(O176,漢字読み!$A$2:$O$506,8,0))","v":"じょうかまち"},{"$f":"IF(P$16=\"\",\"\",VLOOKUP(P176,漢字読み!$A$2:$O$506,8,0))","v":"そつぎょう"},{"$f":"IF(Q$16=\"\",\"\",VLOOKUP(Q176,漢字読み!$A$2:$O$506,8,0))","v":"しゅくじ"},{"$f":"IF(R$16=\"\",\"\",VLOOKUP(R176,漢字読み!$A$2:$O$506,8,0))","v":"さんぽ"},{"$f":"IF(S$16=\"\",\"\",VLOOKUP(S176,漢字読み!$A$2:$O$506,8,0))","v":"しゅくふく"},{"$f":"IF(T$16=\"\",\"\",VLOOKUP(T176,漢字読み!$A$2:$O$506,8,0))","v":"たい"},null,"名前"]
[{"$f":"IF(A176=\"\",\"\",IF(VLOOKUP(A176,漢字書き!$A$2:$N$502,7,0)=0,\"\",VLOOKUP(A176,漢字書き!$A$2:$N$502,7,0)))","v":"る"},{"$f":"IF(B176=\"\",\"\",IF(VLOOKUP(B176,漢字書き!$A$2:$N$502,7,0)=0,\"\",VLOOKUP(B176,漢字書き!$A$2:$N$502,7,0)))","v":""},{"$f":"IF(C176=\"\",\"\",IF(VLOOKUP(C176,漢字書き!$A$2:$N$502,7,0)=0,\"\",VLOOKUP(C176,漢字書き!$A$2:$N$502,7,0)))","v":""},{"$f":"IF(D176=\"\",\"\",IF(VLOOKUP(D176,漢字書き!$A$2:$N$502,7,0)=0,\"\",VLOOKUP(D176,漢字書き!$A$2:$N$502,7,0)))","v":""},{"$f":"IF(E176=\"\",\"\",IF(VLOOKUP(E176,漢字書き!$A$2:$N$502,7,0)=0,\"\",VLOOKUP(E176,漢字書き!$A$2:$N$502,7,0)))","v":""},{"$f":"IF(F176=\"\",\"\",IF(VLOOKUP(F176,漢字書き!$A$2:$N$502,7,0)=0,\"\",VLOOKUP(F176,漢字書き!$A$2:$N$502,7,0)))","v":""},{"$f":"IF(G176=\"\",\"\",IF(VLOOKUP(G176,漢字書き!$A$2:$N$502,7,0)=0,\"\",VLOOKUP(G176,漢字書き!$A$2:$N$502,7,0)))","v":""},{"$f":"IF(H176=\"\",\"\",IF(VLOOKUP(H176,漢字書き!$A$2:$N$502,7,0)=0,\"\",VLOOKUP(H176,漢字書き!$A$2:$N$502,7,0)))","v":"げて"},{"$f":"IF(I176=\"\",\"\",IF(VLOOKUP(I176,漢字書き!$A$2:$N$502,7,0)=0,\"\",VLOOKUP(I176,漢字書き!$A$2:$N$502,7,0)))","v":""},{"$f":"IF(J176=\"\",\"\",IF(VLOOKUP(J176,漢字書き!$A$2:$N$502,7,0)=0,\"\",VLOOKUP(J176,漢字書き!$A$2:$N$502,7,0)))","v":"な"},{"$f":"IF(K176=\"\",\"\",IF(VLOOKUP(K176,漢字読み!$A$2:$O$502,7,0)=0,\"\",VLOOKUP(K176,漢字読み!$A$2:$O$502,7,0)))","v":""},{"$f":"IF(L176=\"\",\"\",IF(VLOOKUP(L176,漢字読み!$A$2:$O$502,7,0)=0,\"\",VLOOKUP(L176,漢字読み!$A$2:$O$502,7,0)))","v":"い"},{"$f":"IF(M176=\"\",\"\",IF(VLOOKUP(M176,漢字読み!$A$2:$O$502,7,0)=0,\"\",VLOOKUP(M176,漢字読み!$A$2:$O$502,7,0)))","v":""},{"$f":"IF(N176=\"\",\"\",IF(VLOOKUP(N176,漢字読み!$A$2:$O$502,7,0)=0,\"\",VLOOKUP(N176,漢字読み!$A$2:$O$502,7,0)))","v":""},{"$f":"IF(O176=\"\",\"\",IF(VLOOKUP(O176,漢字読み!$A$2:$O$502,7,0)=0,\"\",VLOOKUP(O176,漢字読み!$A$2:$O$502,7,0)))","v":""},{"$f":"IF(P176=\"\",\"\",IF(VLOOKUP(P176,漢字読み!$A$2:$O$502,7,0)=0,\"\",VLOOKUP(P176,漢字読み!$A$2:$O$502,7,0)))","v":"式"},{"$f":"IF(Q176=\"\",\"\",IF(VLOOKUP(Q176,漢字読み!$A$2:$O$502,7,0)=0,\"\",VLOOKUP(Q176,漢字読み!$A$2:$O$502,7,0)))","v":""},{"$f":"IF(R176=\"\",\"\",IF(VLOOKUP(R176,漢字読み!$A$2:$O$502,7,0)=0,\"\",VLOOKUP(R176,漢字読み!$A$2:$O$502,7,0)))","v":""},{"$f":"IF(S176=\"\",\"\",IF(VLOOKUP(S176,漢字読み!$A$2:$O$502,7,0)=0,\"\",VLOOKUP(S176,漢字読み!$A$2:$O$502,7,0)))","v":""},{"$f":"IF(T176=\"\",\"\",IF(VLOOKUP(T176,漢字読み!$A$2:$O$502,7,0)=0,\"\",VLOOKUP(T176,漢字読み!$A$2:$O$502,7,0)))","v":""},null,null,"和歌山県教育委員会"]
[{"$f":"INDIRECT(\"'関数（書き）'!C\" & COLUMN(B$1)+SUM($AD$2:$AD182))","v":63},{"$f":"INDIRECT(\"'関数（書き）'!C\" & COLUMN(C$1)+SUM($AD$2:$AD182))","v":114},{"$f":"INDIRECT(\"'関数（書き）'!C\" & COLUMN(D$1)+SUM($AD$2:$AD182))","v":162},{"$f":"INDIRECT(\"'関数（書き）'!C\" & COLUMN(E$1)+SUM($AD$2:$AD182))","v":55},{"$f":"INDIRECT(\"'関数（書き）'!C\" & COLUMN(F$1)+SUM($AD$2:$AD182))","v":21},{"$f":"INDIRECT(\"'関数（書き）'!C\" & COLUMN(G$1)+SUM($AD$2:$AD182))","v":54},{"$f":"INDIRECT(\"'関数（書き）'!C\" & COLUMN(H$1)+SUM($AD$2:$AD182))","v":108},{"$f":"INDIRECT(\"'関数（書き）'!C\" & COLUMN(I$1)+SUM($AD$2:$AD182))","v":210},{"$f":"INDIRECT(\"'関数（書き）'!C\" & COLUMN(J$1)+SUM($AD$2:$AD182))","v":23},{"$f":"INDIRECT(\"'関数（書き）'!C\" & COLUMN(K$1)+SUM($AD$2:$AD182))","v":126},{"$f":"INDIRECT(\"'関数（読み）'!C\" & COLUMN(B$1)+SUM($AD$2:$AD182))","v":52},{"$f":"INDIRECT(\"'関数（読み）'!C\" & COLUMN(C$1)+SUM($AD$2:$AD182))","v":167},{"$f":"INDIRECT(\"'関数（読み）'!C\" & COLUMN(D$1)+SUM($AD$2:$AD182))","v":133},{"$f":"INDIRECT(\"'関数（読み）'!C\" & COLUMN(E$1)+SUM($AD$2:$AD182))","v":174},{"$f":"INDIRECT(\"'関数（読み）'!C\" & COLUMN(F$1)+SUM($AD$2:$AD182))","v":138},{"$f":"INDIRECT(\"'関数（読み）'!C\" & COLUMN(G$1)+SUM($AD$2:$AD182))","v":218},{"$f":"INDIRECT(\"'関数（読み）'!C\" & COLUMN(H$1)+SUM($AD$2:$AD182))","v":39},{"$f":"INDIRECT(\"'関数（読み）'!C\" & COLUMN(I$1)+SUM($AD$2:$AD182))","v":212},{"$f":"INDIRECT(\"'関数（読み）'!C\" & COLUMN(J$1)+SUM($AD$2:$AD182))","v":207},{"$f":"INDIRECT(\"'関数（読み）'!C\" & COLUMN(K$1)+SUM($AD$2:$AD182))","v":42}]
["⑳","⑲","⑱","⑰","⑯","⑮","⑭","⑬","⑫","⑪","⑩","⑨","⑧","⑦","⑥","⑤","④","③","②","①","次の［　　　　］の部分の漢字には読みがなをひらがなで書き、カタカナは漢字に直しなさい。",10,"「漢字の博士検定試験」練習問題　",null,null,null,null,null,"←",10,"問",{"$f":"AH167+1","v":181},"～",{"$f":"SUM($AD$2:$AD182)+10","v":190},"問まで",{"$f":"COUNTIF($A$1:$T$200,T183)","v":2}]
[{"$f":"IF(A181=\"\",\"\",VLOOKUP(A181,漢字書き!$A$2:$N$506,6,0))","v":"［サクヤ］は雨だった"},{"$f":"IF(B181=\"\",\"\",VLOOKUP(B181,漢字書き!$A$2:$N$506,6,0))","v":"［ハツユキ］がふる"},{"$f":"IF(C181=\"\",\"\",VLOOKUP(C181,漢字書き!$A$2:$N$506,6,0))","v":"教えを皆に［ト］く"},{"$f":"IF(D181=\"\",\"\",VLOOKUP(D181,漢字書き!$A$2:$N$506,6,0))","v":"［コウサ］点をわたる"},{"$f":"IF(E181=\"\",\"\",VLOOKUP(E181,漢字書き!$A$2:$N$506,6,0))","v":"いさましい[グンカ]"},{"$f":"IF(F181=\"\",\"\",VLOOKUP(F181,漢字書き!$A$2:$N$506,6,0))","v":"［ナガサキケン］から来た人"},{"$f":"IF(G181=\"\",\"\",VLOOKUP(G181,漢字書き!$A$2:$N$506,6,0))","v":"［シュクショウ］会をする"},{"$f":"IF(H181=\"\",\"\",VLOOKUP(H181,漢字書き!$A$2:$N$506,6,0))","v":"[イド]をほる"},{"$f":"IF(I181=\"\",\"\",VLOOKUP(I181,漢字書き!$A$2:$N$506,6,0))","v":"円の［チョッケイ］"},{"$f":"IF(J181=\"\",\"\",VLOOKUP(J181,漢字書き!$A$2:$N$506,6,0))","v":"さつまいもを［ヤ］く"},{"$f":"IF(K181=\"\",\"\",VLOOKUP(K181,漢字読み!$A$2:$O$506,6,0))","v":"［沖合］漁業"},{"$f":"IF(L181=\"\",\"\",VLOOKUP(L181,漢字読み!$A$2:$O$506,6,0))","v":"[決勝戦]に出る"},{"$f":"IF(M181=\"\",\"\",VLOOKUP(M181,漢字読み!$A$2:$O$506,6,0))","v":"人前で［照］れる"},{"$f":"IF(N181=\"\",\"\",VLOOKUP(N181,漢字読み!$A$2:$O$506,6,0))","v":"［争］いをさける"},{"$f":"IF(O181=\"\",\"\",VLOOKUP(O181,漢字読み!$A$2:$O$506,6,0))","v":"［家臣］をしたがえる"},{"$f":"IF(P181=\"\",\"\",VLOOKUP(P181,漢字読み!$A$2:$O$506,6,0))","v":"［家庭的］なふん囲気"},{"$f":"IF(Q181=\"\",\"\",VLOOKUP(Q181,漢字読み!$A$2:$O$506,6,0))","v":"ほ［健室］の先生"},{"$f":"IF(R181=\"\",\"\",VLOOKUP(R181,漢字読み!$A$2:$O$506,6,0))","v":"［低］い木につかまる"},{"$f":"IF(S181=\"\",\"\",VLOOKUP(S181,漢字読み!$A$2:$O$506,6,0))","v":"ふん火の[前兆]"},{"$f":"IF(T181=\"\",\"\",VLOOKUP(T181,漢字読み!$A$2:$O$506,6,0))","v":"ロープで［固定］する"},null,"級"]
[null,null,null,null,null,null,null,null,null,null,null,null,null,null,null,null,null,null,null,null,null,"名前"]
[{"$f":"IF(A181=\"\",\"\",IF(VLOOKUP(A181,漢字書き!$A$2:$N$502,7,0)=0,\"\",VLOOKUP(A181,漢字書き!$A$2:$N$502,7,0)))","v":""},{"$f":"IF(B181=\"\",\"\",IF(VLOOKUP(B181,漢字書き!$A$2:$N$502,7,0)=0,\"\",VLOOKUP(B181,漢字書き!$A$2:$N$502,7,0)))","v":""},{"$f":"IF(C181=\"\",\"\",IF(VLOOKUP(C181,漢字書き!$A$2:$N$502,7,0)=0,\"\",VLOOKUP(C181,漢字書き!$A$2:$N$502,7,0)))","v":"く"},{"$f":"IF(D181=\"\",\"\",IF(VLOOKUP(D181,漢字書き!$A$2:$N$502,7,0)=0,\"\",VLOOKUP(D181,漢字書き!$A$2:$N$502,7,0)))","v":"点"},{"$f":"IF(E181=\"\",\"\",IF(VLOOKUP(E181,漢字書き!$A$2:$N$502,7,0)=0,\"\",VLOOKUP(E181,漢字書き!$A$2:$N$502,7,0)))","v":""},{"$f":"IF(F181=\"\",\"\",IF(VLOOKUP(F181,漢字書き!$A$2:$N$502,7,0)=0,\"\",VLOOKUP(F181,漢字書き!$A$2:$N$502,7,0)))","v":""},{"$f":"IF(G181=\"\",\"\",IF(VLOOKUP(G181,漢字書き!$A$2:$N$502,7,0)=0,\"\",VLOOKUP(G181,漢字書き!$A$2:$N$502,7,0)))","v":"会"},{"$f":"IF(H181=\"\",\"\",IF(VLOOKUP(H181,漢字書き!$A$2:$N$502,7,0)=0,\"\",VLOOKUP(H181,漢字書き!$A$2:$N$502,7,0)))","v":""},{"$f":"IF(I181=\"\",\"\",IF(VLOOKUP(I181,漢字書き!$A$2:$N$502,7,0)=0,\"\",VLOOKUP(I181,漢字書き!$A$2:$N$502,7,0)))","v":""},{"$f":"IF(J181=\"\",\"\",IF(VLOOKUP(J181,漢字書き!$A$2:$N$502,7,0)=0,\"\",VLOOKUP(J181,漢字書き!$A$2:$N$502,7,0)))","v":"く"},{"$f":"IF(K181=\"\",\"\",IF(VLOOKUP(K181,漢字読み!$A$2:$O$502,7,0)=0,\"\",VLOOKUP(K181,漢字読み!$A$2:$O$502,7,0)))","v":""},{"$f":"IF(L181=\"\",\"\",IF(VLOOKUP(L181,漢字読み!$A$2:$O$502,7,0)=0,\"\",VLOOKUP(L181,漢字読み!$A$2:$O$502,7,0)))","v":""},{"$f":"IF(M181=\"\",\"\",IF(VLOOKUP(M181,漢字読み!$A$2:$O$502,7,0)=0,\"\",VLOOKUP(M181,漢字読み!$A$2:$O$502,7,0)))","v":"れる"},{"$f":"IF(N181=\"\",\"\",IF(VLOOKUP(N181,漢字読み!$A$2:$O$502,7,0)=0,\"\",VLOOKUP(N181,漢字読み!$A$2:$O$502,7,0)))","v":"い"},{"$f":"IF(O181=\"\",\"\",IF(VLOOKUP(O181,漢字読み!$A$2:$O$502,7,0)=0,\"\",VLOOKUP(O181,漢字読み!$A$2:$O$502,7,0)))","v":""},{"$f":"IF(P181=\"\",\"\",IF(VLOOKUP(P181,漢字読み!$A$2:$O$502,7,0)=0,\"\",VLOOKUP(P181,漢字読み!$A$2:$O$502,7,0)))","v":"な"},{"$f":"IF(Q181=\"\",\"\",IF(VLOOKUP(Q181,漢字読み!$A$2:$O$502,7,0)=0,\"\",VLOOKUP(Q181,漢字読み!$A$2:$O$502,7,0)))","v":""},{"$f":"IF(R181=\"\",\"\",IF(VLOOKUP(R181,漢字読み!$A$2:$O$502,7,0)=0,\"\",VLOOKUP(R181,漢字読み!$A$2:$O$502,7,0)))","v":"い"},{"$f":"IF(S181=\"\",\"\",IF(VLOOKUP(S181,漢字読み!$A$2:$O$502,7,0)=0,\"\",VLOOKUP(S181,漢字読み!$A$2:$O$502,7,0)))","v":""},{"$f":"IF(T181=\"\",\"\",IF(VLOOKUP(T181,漢字読み!$A$2:$O$502,7,0)=0,\"\",VLOOKUP(T181,漢字読み!$A$2:$O$502,7,0)))","v":"する"},null,null,"和歌山県教育委員会"]
[{"$f":"INDIRECT(\"'関数（書き）'!C\" & COLUMN(B$1)+SUM($AD$2:$AD187))","v":106},{"$f":"INDIRECT(\"'関数（書き）'!C\" & COLUMN(C$1)+SUM($AD$2:$AD187))","v":84},{"$f":"INDIRECT(\"'関数（書き）'!C\" & COLUMN(D$1)+SUM($AD$2:$AD187))","v":67},{"$f":"INDIRECT(\"'関数（書き）'!C\" & COLUMN(E$1)+SUM($AD$2:$AD187))","v":189},{"$f":"INDIRECT(\"'関数（書き）'!C\" & COLUMN(F$1)+SUM($AD$2:$AD187))","v":160},{"$f":"INDIRECT(\"'関数（書き）'!C\" & COLUMN(G$1)+SUM($AD$2:$AD187))","v":116},{"$f":"INDIRECT(\"'関数（書き）'!C\" & COLUMN(H$1)+SUM($AD$2:$AD187))","v":174},{"$f":"INDIRECT(\"'関数（書き）'!C\" & COLUMN(I$1)+SUM($AD$2:$AD187))","v":110},{"$f":"INDIRECT(\"'関数（書き）'!C\" & COLUMN(J$1)+SUM($AD$2:$AD187))","v":102},{"$f":"INDIRECT(\"'関数（書き）'!C\" & COLUMN(K$1)+SUM($AD$2:$AD187))","v":181},{"$f":"INDIRECT(\"'関数（読み）'!C\" & COLUMN(B$1)+SUM($AD$2:$AD187))","v":54},{"$f":"INDIRECT(\"'関数（読み）'!C\" & COLUMN(C$1)+SUM($AD$2:$AD187))","v":70},{"$f":"INDIRECT(\"'関数（読み）'!C\" & COLUMN(D$1)+SUM($AD$2:$AD187))","v":1},{"$f":"INDIRECT(\"'関数（読み）'!C\" & COLUMN(E$1)+SUM($AD$2:$AD187))","v":43},{"$f":"INDIRECT(\"'関数（読み）'!C\" & COLUMN(F$1)+SUM($AD$2:$AD187))","v":18},{"$f":"INDIRECT(\"'関数（読み）'!C\" & COLUMN(G$1)+SUM($AD$2:$AD187))","v":161},{"$f":"INDIRECT(\"'関数（読み）'!C\" & COLUMN(H$1)+SUM($AD$2:$AD187))","v":34},{"$f":"INDIRECT(\"'関数（読み）'!C\" & COLUMN(I$1)+SUM($AD$2:$AD187))","v":24},{"$f":"INDIRECT(\"'関数（読み）'!C\" & COLUMN(J$1)+SUM($AD$2:$AD187))","v":197},{"$f":"INDIRECT(\"'関数（読み）'!C\" & COLUMN(K$1)+SUM($AD$2:$AD187))","v":69}]
["⑳","⑲","⑱","⑰","⑯","⑮","⑭","⑬","⑫","⑪","⑩","⑨","⑧","⑦","⑥","⑤","④","③","②","①","次の［　　　　］の部分の漢字には読みがなをひらがなで書き、カタカナは漢字に直しなさい。",10,"「漢字の博士検定試験」練習問題　",null,null,null,null,null,"←",10,"問",{"$f":"AH182+1","v":191},"～",{"$f":"SUM($AD$2:$AD187)+10","v":200},"問まで",{"$f":"COUNTIF($A$1:$T$200,T188)","v":2}]
[{"$f":"IF(A186=\"\",\"\",VLOOKUP(A186,漢字書き!$A$2:$N$506,6,0))","v":"［シュウイ］の長さ"},{"$f":"IF(B186=\"\",\"\",VLOOKUP(B186,漢字書き!$A$2:$N$506,6,0))","v":"［シガケン］の名物"},{"$f":"IF(C186=\"\",\"\",VLOOKUP(C186,漢字書き!$A$2:$N$506,6,0))","v":"はがきに絵を［ス］る"},{"$f":"IF(D186=\"\",\"\",VLOOKUP(D186,漢字書き!$A$2:$N$506,6,0))","v":"［トモダチ］とわかれる"},{"$f":"IF(E186=\"\",\"\",VLOOKUP(E186,漢字書き!$A$2:$N$506,6,0))","v":"人生の［フシメ］"},{"$f":"IF(F186=\"\",\"\",VLOOKUP(F186,漢字書き!$A$2:$N$506,6,0))","v":"[ハツ]もうでに行く"},{"$f":"IF(G186=\"\",\"\",VLOOKUP(G186,漢字書き!$A$2:$N$506,6,0))","v":"一位を［アラソ］う"},{"$f":"IF(H186=\"\",\"\",VLOOKUP(H186,漢字書き!$A$2:$N$506,6,0))","v":"［ジュンバン］を待つ"},{"$f":"IF(I186=\"\",\"\",VLOOKUP(I186,漢字書き!$A$2:$N$506,6,0))","v":"［シャッキン］をする"},{"$f":"IF(J186=\"\",\"\",VLOOKUP(J186,漢字書き!$A$2:$N$506,6,0))","v":"［ミギガワ］を通る"},{"$f":"IF(K186=\"\",\"\",VLOOKUP(K186,漢字読み!$A$2:$O$506,6,0))","v":"［長崎県］のカステラ"},{"$f":"IF(L186=\"\",\"\",VLOOKUP(L186,漢字読み!$A$2:$O$506,6,0))","v":"お茶の［香］り"},{"$f":"IF(M186=\"\",\"\",VLOOKUP(M186,漢字読み!$A$2:$O$506,6,0))","v":"［給食］のおかず"},{"$f":"IF(N186=\"\",\"\",VLOOKUP(N186,漢字読み!$A$2:$O$506,6,0))","v":"土を[固]める"},{"$f":"IF(O186=\"\",\"\",VLOOKUP(O186,漢字読み!$A$2:$O$506,6,0))","v":"マイナス[極]"},{"$f":"IF(P186=\"\",\"\",VLOOKUP(P186,漢字読み!$A$2:$O$506,6,0))","v":"作り方を［説明］する"},{"$f":"IF(Q186=\"\",\"\",VLOOKUP(Q186,漢字読み!$A$2:$O$506,6,0))","v":"テストの［結果］"},{"$f":"IF(R186=\"\",\"\",VLOOKUP(R186,漢字読み!$A$2:$O$506,6,0))","v":"［直径］五センチの円"},{"$f":"IF(S186=\"\",\"\",VLOOKUP(S186,漢字読み!$A$2:$O$506,6,0))","v":"［友達］と遊ぶ"},{"$f":"IF(T186=\"\",\"\",VLOOKUP(T186,漢字読み!$A$2:$O$506,6,0))","v":"紙にもようを［刷］る"},null,"級"]
[null,null,null,null,null,null,null,null,null,null,null,null,null,null,null,null,null,null,null,null,null,"名前"]
[{"$f":"IF(A186=\"\",\"\",IF(VLOOKUP(A186,漢字書き!$A$2:$N$502,7,0)=0,\"\",VLOOKUP(A186,漢字書き!$A$2:$N$502,7,0)))","v":""},{"$f":"IF(B186=\"\",\"\",IF(VLOOKUP(B186,漢字書き!$A$2:$N$502,7,0)=0,\"\",VLOOKUP(B186,漢字書き!$A$2:$N$502,7,0)))","v":""},{"$f":"IF(C186=\"\",\"\",IF(VLOOKUP(C186,漢字書き!$A$2:$N$502,7,0)=0,\"\",VLOOKUP(C186,漢字書き!$A$2:$N$502,7,0)))","v":"る"},{"$f":"IF(D186=\"\",\"\",IF(VLOOKUP(D186,漢字書き!$A$2:$N$502,7,0)=0,\"\",VLOOKUP(D186,漢字書き!$A$2:$N$502,7,0)))","v":""},{"$f":"IF(E186=\"\",\"\",IF(VLOOKUP(E186,漢字書き!$A$2:$N$502,7,0)=0,\"\",VLOOKUP(E186,漢字書き!$A$2:$N$502,7,0)))","v":""},{"$f":"IF(F186=\"\",\"\",IF(VLOOKUP(F186,漢字書き!$A$2:$N$502,7,0)=0,\"\",VLOOKUP(F186,漢字書き!$A$2:$N$502,7,0)))","v":"もうで"},{"$f":"IF(G186=\"\",\"\",IF(VLOOKUP(G186,漢字書き!$A$2:$N$502,7,0)=0,\"\",VLOOKUP(G186,漢字書き!$A$2:$N$502,7,0)))","v":"う"},{"$f":"IF(H186=\"\",\"\",IF(VLOOKUP(H186,漢字書き!$A$2:$N$502,7,0)=0,\"\",VLOOKUP(H186,漢字書き!$A$2:$N$502,7,0)))","v":""},{"$f":"IF(I186=\"\",\"\",IF(VLOOKUP(I186,漢字書き!$A$2:$N$502,7,0)=0,\"\",VLOOKUP(I186,漢字書き!$A$2:$N$502,7,0)))","v":""},{"$f":"IF(J186=\"\",\"\",IF(VLOOKUP(J186,漢字書き!$A$2:$N$502,7,0)=0,\"\",VLOOKUP(J186,漢字書き!$A$2:$N$502,7,0)))","v":""},{"$f":"IF(K186=\"\",\"\",IF(VLOOKUP(K186,漢字読み!$A$2:$O$502,7,0)=0,\"\",VLOOKUP(K186,漢字読み!$A$2:$O$502,7,0)))","v":""},{"$f":"IF(L186=\"\",\"\",IF(VLOOKUP(L186,漢字読み!$A$2:$O$502,7,0)=0,\"\",VLOOKUP(L186,漢字読み!$A$2:$O$502,7,0)))","v":"り"},{"$f":"IF(M186=\"\",\"\",IF(VLOOKUP(M186,漢字読み!$A$2:$O$502,7,0)=0,\"\",VLOOKUP(M186,漢字読み!$A$2:$O$502,7,0)))","v":""},{"$f":"IF(N186=\"\",\"\",IF(VLOOKUP(N186,漢字読み!$A$2:$O$502,7,0)=0,\"\",VLOOKUP(N186,漢字読み!$A$2:$O$502,7,0)))","v":"める"},{"$f":"IF(O186=\"\",\"\",IF(VLOOKUP(O186,漢字読み!$A$2:$O$502,7,0)=0,\"\",VLOOKUP(O186,漢字読み!$A$2:$O$502,7,0)))","v":""},{"$f":"IF(P186=\"\",\"\",IF(VLOOKUP(P186,漢字読み!$A$2:$O$502,7,0)=0,\"\",VLOOKUP(P186,漢字読み!$A$2:$O$502,7,0)))","v":"する"},{"$f":"IF(Q186=\"\",\"\",IF(VLOOKUP(Q186,漢字読み!$A$2:$O$502,7,0)=0,\"\",VLOOKUP(Q186,漢字読み!$A$2:$O$502,7,0)))","v":""},{"$f":"IF(R186=\"\",\"\",IF(VLOOKUP(R186,漢字読み!$A$2:$O$502,7,0)=0,\"\",VLOOKUP(R186,漢字読み!$A$2:$O$502,7,0)))","v":""},{"$f":"IF(S186=\"\",\"\",IF(VLOOKUP(S186,漢字読み!$A$2:$O$502,7,0)=0,\"\",VLOOKUP(S186,漢字読み!$A$2:$O$502,7,0)))","v":""},{"$f":"IF(T186=\"\",\"\",IF(VLOOKUP(T186,漢字読み!$A$2:$O$502,7,0)=0,\"\",VLOOKUP(T186,漢字読み!$A$2:$O$502,7,0)))","v":"る"},null,null,"和歌山県教育委員会"]
[{"$f":"A181","v":63},114,162,55,21,54,108,210,23,126,52,167,133,174,138,218,39,212,207,42]
["⑳","⑲","⑱","⑰","⑯","⑮","⑭","⑬","⑫","⑪","⑩","⑨","⑧","⑦","⑥","⑤","④","③","②","①","次の［　　　　］の部分の漢字には読みがなをひらがなで書き、カタカナは漢字に直しなさい。",10,"「漢字の博士検定試験」練習問題　"]
[{"$f":"IF(A191=\"\",\"\",VLOOKUP(A191,漢字書き!$A$2:$N$506,6,0))","v":"［サクヤ］は雨だった"},{"$f":"IF(B191=\"\",\"\",VLOOKUP(B191,漢字書き!$A$2:$N$506,6,0))","v":"［ハツユキ］がふる"},{"$f":"IF(C191=\"\",\"\",VLOOKUP(C191,漢字書き!$A$2:$N$506,6,0))","v":"教えを皆に［ト］く"},{"$f":"IF(D191=\"\",\"\",VLOOKUP(D191,漢字書き!$A$2:$N$506,6,0))","v":"［コウサ］点をわたる"},{"$f":"IF(E191=\"\",\"\",VLOOKUP(E191,漢字書き!$A$2:$N$506,6,0))","v":"いさましい[グンカ]"},{"$f":"IF(F191=\"\",\"\",VLOOKUP(F191,漢字書き!$A$2:$N$506,6,0))","v":"［ナガサキケン］から来た人"},{"$f":"IF(G191=\"\",\"\",VLOOKUP(G191,漢字書き!$A$2:$N$506,6,0))","v":"［シュクショウ］会をする"},{"$f":"IF(H191=\"\",\"\",VLOOKUP(H191,漢字書き!$A$2:$N$506,6,0))","v":"[イド]をほる"},{"$f":"IF(I191=\"\",\"\",VLOOKUP(I191,漢字書き!$A$2:$N$506,6,0))","v":"円の［チョッケイ］"},{"$f":"IF(J191=\"\",\"\",VLOOKUP(J191,漢字書き!$A$2:$N$506,6,0))","v":"さつまいもを［ヤ］く"},{"$f":"IF(K191=\"\",\"\",VLOOKUP(K191,漢字読み!$A$2:$O$506,6,0))","v":"［沖合］漁業"},{"$f":"IF(L191=\"\",\"\",VLOOKUP(L191,漢字読み!$A$2:$O$506,6,0))","v":"[決勝戦]に出る"},{"$f":"IF(M191=\"\",\"\",VLOOKUP(M191,漢字読み!$A$2:$O$506,6,0))","v":"人前で［照］れる"},{"$f":"IF(N191=\"\",\"\",VLOOKUP(N191,漢字読み!$A$2:$O$506,6,0))","v":"［争］いをさける"},{"$f":"IF(O191=\"\",\"\",VLOOKUP(O191,漢字読み!$A$2:$O$506,6,0))","v":"［家臣］をしたがえる"},{"$f":"IF(P191=\"\",\"\",VLOOKUP(P191,漢字読み!$A$2:$O$506,6,0))","v":"［家庭的］なふん囲気"},{"$f":"IF(Q191=\"\",\"\",VLOOKUP(Q191,漢字読み!$A$2:$O$506,6,0))","v":"ほ［健室］の先生"},{"$f":"IF(R191=\"\",\"\",VLOOKUP(R191,漢字読み!$A$2:$O$506,6,0))","v":"［低］い木につかまる"},{"$f":"IF(S191=\"\",\"\",VLOOKUP(S191,漢字読み!$A$2:$O$506,6,0))","v":"ふん火の[前兆]"},{"$f":"IF(T191=\"\",\"\",VLOOKUP(T191,漢字読み!$A$2:$O$506,6,0))","v":"ロープで［固定］する"},null,"級"]
[{"$f":"IF(A$11=\"\",\"\",VLOOKUP(A191,漢字書き!$A$2:$O$506,8,0))","v":"昨夜"},{"$f":"IF(B$11=\"\",\"\",VLOOKUP(B191,漢字書き!$A$2:$O$506,8,0))","v":"初雪"},{"$f":"IF(C$11=\"\",\"\",VLOOKUP(C191,漢字書き!$A$2:$O$506,8,0))","v":"説"},{"$f":"IF(D$11=\"\",\"\",VLOOKUP(D191,漢字書き!$A$2:$O$506,8,0))","v":"交差"},{"$f":"IF(E$11=\"\",\"\",VLOOKUP(E191,漢字書き!$A$2:$O$506,8,0))","v":"軍歌"},{"$f":"IF(F$11=\"\",\"\",VLOOKUP(F191,漢字書き!$A$2:$O$506,8,0))","v":"長崎県"},{"$f":"IF(G$11=\"\",\"\",VLOOKUP(G191,漢字書き!$A$2:$O$506,8,0))","v":"祝勝"},{"$f":"IF(H$11=\"\",\"\",VLOOKUP(H191,漢字書き!$A$2:$O$506,8,0))","v":"井戸"},{"$f":"IF(I$11=\"\",\"\",VLOOKUP(I191,漢字書き!$A$2:$O$506,8,0))","v":"直径"},{"$f":"IF(J$11=\"\",\"\",VLOOKUP(J191,漢字書き!$A$2:$O$506,8,0))","v":"焼"},{"$f":"IF(K$11=\"\",\"\",VLOOKUP(K191,漢字読み!$A$2:$O$506,8,0))","v":"おきあい"},{"$f":"IF(L$11=\"\",\"\",VLOOKUP(L191,漢字読み!$A$2:$O$506,8,0))","v":"けっしょうせん"},{"$f":"IF(M$11=\"\",\"\",VLOOKUP(M191,漢字読み!$A$2:$O$506,8,0))","v":"て"},{"$f":"IF(N$11=\"\",\"\",VLOOKUP(N191,漢字読み!$A$2:$O$506,8,0))","v":"あらそ"},{"$f":"IF(O$11=\"\",\"\",VLOOKUP(O191,漢字読み!$A$2:$O$506,8,0))","v":"かしん"},{"$f":"IF(P$11=\"\",\"\",VLOOKUP(P191,漢字読み!$A$2:$O$506,8,0))","v":"かていてき"},{"$f":"IF(Q$11=\"\",\"\",VLOOKUP(Q191,漢字読み!$A$2:$O$506,8,0))","v":"けんしつ"},{"$f":"IF(R$11=\"\",\"\",VLOOKUP(R191,漢字読み!$A$2:$O$506,8,0))","v":"ひく"},{"$f":"IF(S$11=\"\",\"\",VLOOKUP(S191,漢字読み!$A$2:$O$506,8,0))","v":"ぜんちょう"},{"$f":"IF(T$11=\"\",\"\",VLOOKUP(T191,漢字読み!$A$2:$O$506,8,0))","v":"こてい"},null,"名前"]
[{"$f":"IF(A191=\"\",\"\",IF(VLOOKUP(A191,漢字書き!$A$2:$N$502,7,0)=0,\"\",VLOOKUP(A191,漢字書き!$A$2:$N$502,7,0)))","v":""},{"$f":"IF(B191=\"\",\"\",IF(VLOOKUP(B191,漢字書き!$A$2:$N$502,7,0)=0,\"\",VLOOKUP(B191,漢字書き!$A$2:$N$502,7,0)))","v":""},{"$f":"IF(C191=\"\",\"\",IF(VLOOKUP(C191,漢字書き!$A$2:$N$502,7,0)=0,\"\",VLOOKUP(C191,漢字書き!$A$2:$N$502,7,0)))","v":"く"},{"$f":"IF(D191=\"\",\"\",IF(VLOOKUP(D191,漢字書き!$A$2:$N$502,7,0)=0,\"\",VLOOKUP(D191,漢字書き!$A$2:$N$502,7,0)))","v":"点"},{"$f":"IF(E191=\"\",\"\",IF(VLOOKUP(E191,漢字書き!$A$2:$N$502,7,0)=0,\"\",VLOOKUP(E191,漢字書き!$A$2:$N$502,7,0)))","v":""},{"$f":"IF(F191=\"\",\"\",IF(VLOOKUP(F191,漢字書き!$A$2:$N$502,7,0)=0,\"\",VLOOKUP(F191,漢字書き!$A$2:$N$502,7,0)))","v":""},{"$f":"IF(G191=\"\",\"\",IF(VLOOKUP(G191,漢字書き!$A$2:$N$502,7,0)=0,\"\",VLOOKUP(G191,漢字書き!$A$2:$N$502,7,0)))","v":"会"},{"$f":"IF(H191=\"\",\"\",IF(VLOOKUP(H191,漢字書き!$A$2:$N$502,7,0)=0,\"\",VLOOKUP(H191,漢字書き!$A$2:$N$502,7,0)))","v":""},{"$f":"IF(I191=\"\",\"\",IF(VLOOKUP(I191,漢字書き!$A$2:$N$502,7,0)=0,\"\",VLOOKUP(I191,漢字書き!$A$2:$N$502,7,0)))","v":""},{"$f":"IF(J191=\"\",\"\",IF(VLOOKUP(J191,漢字書き!$A$2:$N$502,7,0)=0,\"\",VLOOKUP(J191,漢字書き!$A$2:$N$502,7,0)))","v":"く"},{"$f":"IF(K191=\"\",\"\",IF(VLOOKUP(K191,漢字読み!$A$2:$O$502,7,0)=0,\"\",VLOOKUP(K191,漢字読み!$A$2:$O$502,7,0)))","v":""},{"$f":"IF(L191=\"\",\"\",IF(VLOOKUP(L191,漢字読み!$A$2:$O$502,7,0)=0,\"\",VLOOKUP(L191,漢字読み!$A$2:$O$502,7,0)))","v":""},{"$f":"IF(M191=\"\",\"\",IF(VLOOKUP(M191,漢字読み!$A$2:$O$502,7,0)=0,\"\",VLOOKUP(M191,漢字読み!$A$2:$O$502,7,0)))","v":"れる"},{"$f":"IF(N191=\"\",\"\",IF(VLOOKUP(N191,漢字読み!$A$2:$O$502,7,0)=0,\"\",VLOOKUP(N191,漢字読み!$A$2:$O$502,7,0)))","v":"い"},{"$f":"IF(O191=\"\",\"\",IF(VLOOKUP(O191,漢字読み!$A$2:$O$502,7,0)=0,\"\",VLOOKUP(O191,漢字読み!$A$2:$O$502,7,0)))","v":""},{"$f":"IF(P191=\"\",\"\",IF(VLOOKUP(P191,漢字読み!$A$2:$O$502,7,0)=0,\"\",VLOOKUP(P191,漢字読み!$A$2:$O$502,7,0)))","v":"な"},{"$f":"IF(Q191=\"\",\"\",IF(VLOOKUP(Q191,漢字読み!$A$2:$O$502,7,0)=0,\"\",VLOOKUP(Q191,漢字読み!$A$2:$O$502,7,0)))","v":""},{"$f":"IF(R191=\"\",\"\",IF(VLOOKUP(R191,漢字読み!$A$2:$O$502,7,0)=0,\"\",VLOOKUP(R191,漢字読み!$A$2:$O$502,7,0)))","v":"い"},{"$f":"IF(S191=\"\",\"\",IF(VLOOKUP(S191,漢字読み!$A$2:$O$502,7,0)=0,\"\",VLOOKUP(S191,漢字読み!$A$2:$O$502,7,0)))","v":""},{"$f":"IF(T191=\"\",\"\",IF(VLOOKUP(T191,漢字読み!$A$2:$O$502,7,0)=0,\"\",VLOOKUP(T191,漢字読み!$A$2:$O$502,7,0)))","v":"する"},null,null,"和歌山県教育委員会"]
[{"$f":"A186","v":106},84,67,189,160,116,174,110,102,181,54,70,1,43,18,161,34,24,197,69]
["⑳","⑲","⑱","⑰","⑯","⑮","⑭","⑬","⑫","⑪","⑩","⑨","⑧","⑦","⑥","⑤","④","③","②","①","次の［　　　　］の部分の漢字には読みがなをひらがなで書き、カタカナは漢字に直しなさい。",10,"「漢字の博士検定試験」練習問題　"]
[{"$f":"IF(A196=\"\",\"\",VLOOKUP(A196,漢字書き!$A$2:$N$506,6,0))","v":"［シュウイ］の長さ"},{"$f":"IF(B196=\"\",\"\",VLOOKUP(B196,漢字書き!$A$2:$N$506,6,0))","v":"［シガケン］の名物"},{"$f":"IF(C196=\"\",\"\",VLOOKUP(C196,漢字書き!$A$2:$N$506,6,0))","v":"はがきに絵を［ス］る"},{"$f":"IF(D196=\"\",\"\",VLOOKUP(D196,漢字書き!$A$2:$N$506,6,0))","v":"［トモダチ］とわかれる"},{"$f":"IF(E196=\"\",\"\",VLOOKUP(E196,漢字書き!$A$2:$N$506,6,0))","v":"人生の［フシメ］"},{"$f":"IF(F196=\"\",\"\",VLOOKUP(F196,漢字書き!$A$2:$N$506,6,0))","v":"[ハツ]もうでに行く"},{"$f":"IF(G196=\"\",\"\",VLOOKUP(G196,漢字書き!$A$2:$N$506,6,0))","v":"一位を［アラソ］う"},{"$f":"IF(H196=\"\",\"\",VLOOKUP(H196,漢字書き!$A$2:$N$506,6,0))","v":"［ジュンバン］を待つ"},{"$f":"IF(I196=\"\",\"\",VLOOKUP(I196,漢字書き!$A$2:$N$506,6,0))","v":"［シャッキン］をする"},{"$f":"IF(J196=\"\",\"\",VLOOKUP(J196,漢字書き!$A$2:$N$506,6,0))","v":"［ミギガワ］を通る"},{"$f":"IF(K196=\"\",\"\",VLOOKUP(K196,漢字読み!$A$2:$O$506,6,0))","v":"［長崎県］のカステラ"},{"$f":"IF(L196=\"\",\"\",VLOOKUP(L196,漢字読み!$A$2:$O$506,6,0))","v":"お茶の［香］り"},{"$f":"IF(M196=\"\",\"\",VLOOKUP(M196,漢字読み!$A$2:$O$506,6,0))","v":"［給食］のおかず"},{"$f":"IF(N196=\"\",\"\",VLOOKUP(N196,漢字読み!$A$2:$O$506,6,0))","v":"土を[固]める"},{"$f":"IF(O196=\"\",\"\",VLOOKUP(O196,漢字読み!$A$2:$O$506,6,0))","v":"マイナス[極]"},{"$f":"IF(P196=\"\",\"\",VLOOKUP(P196,漢字読み!$A$2:$O$506,6,0))","v":"作り方を［説明］する"},{"$f":"IF(Q196=\"\",\"\",VLOOKUP(Q196,漢字読み!$A$2:$O$506,6,0))","v":"テストの［結果］"},{"$f":"IF(R196=\"\",\"\",VLOOKUP(R196,漢字読み!$A$2:$O$506,6,0))","v":"［直径］五センチの円"},{"$f":"IF(S196=\"\",\"\",VLOOKUP(S196,漢字読み!$A$2:$O$506,6,0))","v":"［友達］と遊ぶ"},{"$f":"IF(T196=\"\",\"\",VLOOKUP(T196,漢字読み!$A$2:$O$506,6,0))","v":"紙にもようを［刷］る"},null,"級"]
[{"$f":"IF(A$16=\"\",\"\",VLOOKUP(A196,漢字書き!$A$2:$O$506,8,0))","v":"周囲"},{"$f":"IF(B$16=\"\",\"\",VLOOKUP(B196,漢字書き!$A$2:$O$506,8,0))","v":"滋賀県"},{"$f":"IF(C$16=\"\",\"\",VLOOKUP(C196,漢字書き!$A$2:$O$506,8,0))","v":"刷"},{"$f":"IF(D$16=\"\",\"\",VLOOKUP(D196,漢字書き!$A$2:$O$506,8,0))","v":"友達"},{"$f":"IF(E$16=\"\",\"\",VLOOKUP(E196,漢字書き!$A$2:$O$506,8,0))","v":"節目"},{"$f":"IF(F$16=\"\",\"\",VLOOKUP(F196,漢字書き!$A$2:$O$506,8,0))","v":"初"},{"$f":"IF(G$16=\"\",\"\",VLOOKUP(G196,漢字書き!$A$2:$O$506,8,0))","v":"争"},{"$f":"IF(H$16=\"\",\"\",VLOOKUP(H196,漢字書き!$A$2:$O$506,8,0))","v":"順番"},{"$f":"IF(I$16=\"\",\"\",VLOOKUP(I196,漢字書き!$A$2:$O$506,8,0))","v":"借金"},{"$f":"IF(J$16=\"\",\"\",VLOOKUP(J196,漢字書き!$A$2:$O$506,8,0))","v":"右側"},{"$f":"IF(K$16=\"\",\"\",VLOOKUP(K196,漢字読み!$A$2:$O$506,8,0))","v":"ながさきけん"},{"$f":"IF(L$16=\"\",\"\",VLOOKUP(L196,漢字読み!$A$2:$O$506,8,0))","v":"かお"},{"$f":"IF(M$16=\"\",\"\",VLOOKUP(M196,漢字読み!$A$2:$O$506,8,0))","v":"きゅうしょく"},{"$f":"IF(N$16=\"\",\"\",VLOOKUP(N196,漢字読み!$A$2:$O$506,8,0))","v":"かた"},{"$f":"IF(O$16=\"\",\"\",VLOOKUP(O196,漢字読み!$A$2:$O$506,8,0))","v":"きょく"},{"$f":"IF(P$16=\"\",\"\",VLOOKUP(P196,漢字読み!$A$2:$O$506,8,0))","v":"せつめい"},{"$f":"IF(Q$16=\"\",\"\",VLOOKUP(Q196,漢字読み!$A$2:$O$506,8,0))","v":"けっか"},{"$f":"IF(R$16=\"\",\"\",VLOOKUP(R196,漢字読み!$A$2:$O$506,8,0))","v":"ちょっけい"},{"$f":"IF(S$16=\"\",\"\",VLOOKUP(S196,漢字読み!$A$2:$O$506,8,0))","v":"ともだち"},{"$f":"IF(T$16=\"\",\"\",VLOOKUP(T196,漢字読み!$A$2:$O$506,8,0))","v":"す"},null,"名前"]
[{"$f":"IF(A196=\"\",\"\",IF(VLOOKUP(A196,漢字書き!$A$2:$N$502,7,0)=0,\"\",VLOOKUP(A196,漢字書き!$A$2:$N$502,7,0)))","v":""},{"$f":"IF(B196=\"\",\"\",IF(VLOOKUP(B196,漢字書き!$A$2:$N$502,7,0)=0,\"\",VLOOKUP(B196,漢字書き!$A$2:$N$502,7,0)))","v":""},{"$f":"IF(C196=\"\",\"\",IF(VLOOKUP(C196,漢字書き!$A$2:$N$502,7,0)=0,\"\",VLOOKUP(C196,漢字書き!$A$2:$N$502,7,0)))","v":"る"},{"$f":"IF(D196=\"\",\"\",IF(VLOOKUP(D196,漢字書き!$A$2:$N$502,7,0)=0,\"\",VLOOKUP(D196,漢字書き!$A$2:$N$502,7,0)))","v":""},{"$f":"IF(E196=\"\",\"\",IF(VLOOKUP(E196,漢字書き!$A$2:$N$502,7,0)=0,\"\",VLOOKUP(E196,漢字書き!$A$2:$N$502,7,0)))","v":""},{"$f":"IF(F196=\"\",\"\",IF(VLOOKUP(F196,漢字書き!$A$2:$N$502,7,0)=0,\"\",VLOOKUP(F196,漢字書き!$A$2:$N$502,7,0)))","v":"もうで"},{"$f":"IF(G196=\"\",\"\",IF(VLOOKUP(G196,漢字書き!$A$2:$N$502,7,0)=0,\"\",VLOOKUP(G196,漢字書き!$A$2:$N$502,7,0)))","v":"う"},{"$f":"IF(H196=\"\",\"\",IF(VLOOKUP(H196,漢字書き!$A$2:$N$502,7,0)=0,\"\",VLOOKUP(H196,漢字書き!$A$2:$N$502,7,0)))","v":""},{"$f":"IF(I196=\"\",\"\",IF(VLOOKUP(I196,漢字書き!$A$2:$N$502,7,0)=0,\"\",VLOOKUP(I196,漢字書き!$A$2:$N$502,7,0)))","v":""},{"$f":"IF(J196=\"\",\"\",IF(VLOOKUP(J196,漢字書き!$A$2:$N$502,7,0)=0,\"\",VLOOKUP(J196,漢字書き!$A$2:$N$502,7,0)))","v":""},{"$f":"IF(K196=\"\",\"\",IF(VLOOKUP(K196,漢字読み!$A$2:$O$502,7,0)=0,\"\",VLOOKUP(K196,漢字読み!$A$2:$O$502,7,0)))","v":""},{"$f":"IF(L196=\"\",\"\",IF(VLOOKUP(L196,漢字読み!$A$2:$O$502,7,0)=0,\"\",VLOOKUP(L196,漢字読み!$A$2:$O$502,7,0)))","v":"り"},{"$f":"IF(M196=\"\",\"\",IF(VLOOKUP(M196,漢字読み!$A$2:$O$502,7,0)=0,\"\",VLOOKUP(M196,漢字読み!$A$2:$O$502,7,0)))","v":""},{"$f":"IF(N196=\"\",\"\",IF(VLOOKUP(N196,漢字読み!$A$2:$O$502,7,0)=0,\"\",VLOOKUP(N196,漢字読み!$A$2:$O$502,7,0)))","v":"める"},{"$f":"IF(O196=\"\",\"\",IF(VLOOKUP(O196,漢字読み!$A$2:$O$502,7,0)=0,\"\",VLOOKUP(O196,漢字読み!$A$2:$O$502,7,0)))","v":""},{"$f":"IF(P196=\"\",\"\",IF(VLOOKUP(P196,漢字読み!$A$2:$O$502,7,0)=0,\"\",VLOOKUP(P196,漢字読み!$A$2:$O$502,7,0)))","v":"する"},{"$f":"IF(Q196=\"\",\"\",IF(VLOOKUP(Q196,漢字読み!$A$2:$O$502,7,0)=0,\"\",VLOOKUP(Q196,漢字読み!$A$2:$O$502,7,0)))","v":""},{"$f":"IF(R196=\"\",\"\",IF(VLOOKUP(R196,漢字読み!$A$2:$O$502,7,0)=0,\"\",VLOOKUP(R196,漢字読み!$A$2:$O$502,7,0)))","v":""},{"$f":"IF(S196=\"\",\"\",IF(VLOOKUP(S196,漢字読み!$A$2:$O$502,7,0)=0,\"\",VLOOKUP(S196,漢字読み!$A$2:$O$502,7,0)))","v":""},{"$f":"IF(T196=\"\",\"\",IF(VLOOKUP(T196,漢字読み!$A$2:$O$502,7,0)=0,\"\",VLOOKUP(T196,漢字読み!$A$2:$O$502,7,0)))","v":"る"},null,null,"和歌山県教育委員会"]
[{"$f":"INDIRECT(\"'関数（書き）'!C\" & COLUMN(B$1)+SUM($AD$2:$AD202))","v":66},{"$f":"INDIRECT(\"'関数（書き）'!C\" & COLUMN(C$1)+SUM($AD$2:$AD202))","v":61},{"$f":"INDIRECT(\"'関数（書き）'!C\" & COLUMN(D$1)+SUM($AD$2:$AD202))","v":149},{"$f":"INDIRECT(\"'関数（書き）'!C\" & COLUMN(E$1)+SUM($AD$2:$AD202))","v":145},{"$f":"INDIRECT(\"'関数（書き）'!C\" & COLUMN(F$1)+SUM($AD$2:$AD202))","v":86},{"$f":"INDIRECT(\"'関数（書き）'!C\" & COLUMN(G$1)+SUM($AD$2:$AD202))","v":8},{"$f":"INDIRECT(\"'関数（書き）'!C\" & COLUMN(H$1)+SUM($AD$2:$AD202))","v":5},{"$f":"INDIRECT(\"'関数（書き）'!C\" & COLUMN(I$1)+SUM($AD$2:$AD202))","v":155},{"$f":"INDIRECT(\"'関数（書き）'!C\" & COLUMN(J$1)+SUM($AD$2:$AD202))","v":187},{"$f":"INDIRECT(\"'関数（書き）'!C\" & COLUMN(K$1)+SUM($AD$2:$AD202))","v":168},{"$f":"INDIRECT(\"'関数（読み）'!C\" & COLUMN(B$1)+SUM($AD$2:$AD202))","v":124},{"$f":"INDIRECT(\"'関数（読み）'!C\" & COLUMN(C$1)+SUM($AD$2:$AD202))","v":194},{"$f":"INDIRECT(\"'関数（読み）'!C\" & COLUMN(D$1)+SUM($AD$2:$AD202))","v":23},{"$f":"INDIRECT(\"'関数（読み）'!C\" & COLUMN(E$1)+SUM($AD$2:$AD202))","v":108},{"$f":"INDIRECT(\"'関数（読み）'!C\" & COLUMN(F$1)+SUM($AD$2:$AD202))","v":30},{"$f":"INDIRECT(\"'関数（読み）'!C\" & COLUMN(G$1)+SUM($AD$2:$AD202))","v":214},{"$f":"INDIRECT(\"'関数（読み）'!C\" & COLUMN(H$1)+SUM($AD$2:$AD202))","v":28},{"$f":"INDIRECT(\"'関数（読み）'!C\" & COLUMN(I$1)+SUM($AD$2:$AD202))","v":117},{"$f":"INDIRECT(\"'関数（読み）'!C\" & COLUMN(J$1)+SUM($AD$2:$AD202))","v":101},{"$f":"INDIRECT(\"'関数（読み）'!C\" & COLUMN(K$1)+SUM($AD$2:$AD202))","v":165}]
["⑳","⑲","⑱","⑰","⑯","⑮","⑭","⑬","⑫","⑪","⑩","⑨","⑧","⑦","⑥","⑤","④","③","②","①","次の［　　　　］の部分の漢字には読みがなをひらがなで書き、カタカナは漢字に直しなさい。",10,"「漢字の博士検定試験」練習問題　",null,null,null,null,null,"←",10,"問",{"$f":"AH187+1","v":201},"～",{"$f":"SUM($AD$2:$AD202)+10","v":210},"問まで",{"$f":"COUNTIF($A$1:$T$200,T203)","v":0}]
[{"$f":"IF(A201=\"\",\"\",VLOOKUP(A201,漢字書き!$A$2:$N$506,6,0))","v":"紙に［インサツ］する"},{"$f":"IF(B201=\"\",\"\",VLOOKUP(B201,漢字書き!$A$2:$N$506,6,0))","v":"［モクザイ］を運ぶ"},{"$f":"IF(C201=\"\",\"\",VLOOKUP(C201,漢字書き!$A$2:$N$506,6,0))","v":"会ぎに[シュッセキ]する"},{"$f":"IF(D201=\"\",\"\",VLOOKUP(D201,漢字書き!$A$2:$N$506,6,0))","v":"心を［キヨ］める"},{"$f":"IF(E201=\"\",\"\",VLOOKUP(E201,漢字書き!$A$2:$N$506,6,0))","v":"学級会の［シカイ］をする"},{"$f":"IF(F201=\"\",\"\",VLOOKUP(F201,漢字書き!$A$2:$N$506,6,0))","v":"友人と［トモ］に行く"},{"$f":"IF(G201=\"\",\"\",VLOOKUP(G201,漢字書き!$A$2:$N$506,6,0))","v":"魚の［リョウ］に出る"},{"$f":"IF(H201=\"\",\"\",VLOOKUP(H201,漢字書き!$A$2:$N$506,6,0))","v":"［オ］り紙をおる"},{"$f":"IF(I201=\"\",\"\",VLOOKUP(I201,漢字書き!$A$2:$N$506,6,0))","v":"［オビ］を結ぶ"},{"$f":"IF(J201=\"\",\"\",VLOOKUP(J201,漢字書き!$A$2:$N$506,6,0))","v":"あこがれの［センシュ］"},{"$f":"IF(K201=\"\",\"\",VLOOKUP(K201,漢字読み!$A$2:$O$506,6,0))","v":"［合唱］コンクール"},{"$f":"IF(L201=\"\",\"\",VLOOKUP(L201,漢字読み!$A$2:$O$506,6,0))","v":"［帯］を結ぶ"},{"$f":"IF(M201=\"\",\"\",VLOOKUP(M201,漢字読み!$A$2:$O$506,6,0))","v":"円の［半径］"},{"$f":"IF(N201=\"\",\"\",VLOOKUP(N201,漢字読み!$A$2:$O$506,6,0))","v":"花の［種］をまく"},{"$f":"IF(O201=\"\",\"\",VLOOKUP(O201,漢字読み!$A$2:$O$506,6,0))","v":"［園芸］用品を買う"},{"$f":"IF(P201=\"\",\"\",VLOOKUP(P201,漢字読み!$A$2:$O$506,6,0))","v":"あなの［底］"},{"$f":"IF(Q201=\"\",\"\",VLOOKUP(Q201,漢字読み!$A$2:$O$506,6,0))","v":"［景品］をもらう"},{"$f":"IF(R201=\"\",\"\",VLOOKUP(R201,漢字読み!$A$2:$O$506,6,0))","v":"［初］もうでに行く"},{"$f":"IF(S201=\"\",\"\",VLOOKUP(S201,漢字読み!$A$2:$O$506,6,0))","v":"［辞書］をひく"},{"$f":"IF(T201=\"\",\"\",VLOOKUP(T201,漢字読み!$A$2:$O$506,6,0))","v":"［浅］い湖"},null,"級"]
[null,null,null,null,null,null,null,null,null,null,null,null,null,null,null,null,null,null,null,null,null,"名前"]
[{"$f":"IF(A201=\"\",\"\",IF(VLOOKUP(A201,漢字書き!$A$2:$N$502,7,0)=0,\"\",VLOOKUP(A201,漢字書き!$A$2:$N$502,7,0)))","v":"する"},{"$f":"IF(B201=\"\",\"\",IF(VLOOKUP(B201,漢字書き!$A$2:$N$502,7,0)=0,\"\",VLOOKUP(B201,漢字書き!$A$2:$N$502,7,0)))","v":""},{"$f":"IF(C201=\"\",\"\",IF(VLOOKUP(C201,漢字書き!$A$2:$N$502,7,0)=0,\"\",VLOOKUP(C201,漢字書き!$A$2:$N$502,7,0)))","v":"する"},{"$f":"IF(D201=\"\",\"\",IF(VLOOKUP(D201,漢字書き!$A$2:$N$502,7,0)=0,\"\",VLOOKUP(D201,漢字書き!$A$2:$N$502,7,0)))","v":"める"},{"$f":"IF(E201=\"\",\"\",IF(VLOOKUP(E201,漢字書き!$A$2:$N$502,7,0)=0,\"\",VLOOKUP(E201,漢字書き!$A$2:$N$502,7,0)))","v":""},{"$f":"IF(F201=\"\",\"\",IF(VLOOKUP(F201,漢字書き!$A$2:$N$502,7,0)=0,\"\",VLOOKUP(F201,漢字書き!$A$2:$N$502,7,0)))","v":"に"},{"$f":"IF(G201=\"\",\"\",IF(VLOOKUP(G201,漢字書き!$A$2:$N$502,7,0)=0,\"\",VLOOKUP(G201,漢字書き!$A$2:$N$502,7,0)))","v":""},{"$f":"IF(H201=\"\",\"\",IF(VLOOKUP(H201,漢字書き!$A$2:$N$502,7,0)=0,\"\",VLOOKUP(H201,漢字書き!$A$2:$N$502,7,0)))","v":""},{"$f":"IF(I201=\"\",\"\",IF(VLOOKUP(I201,漢字書き!$A$2:$N$502,7,0)=0,\"\",VLOOKUP(I201,漢字書き!$A$2:$N$502,7,0)))","v":""},{"$f":"IF(J201=\"\",\"\",IF(VLOOKUP(J201,漢字書き!$A$2:$N$502,7,0)=0,\"\",VLOOKUP(J201,漢字書き!$A$2:$N$502,7,0)))","v":""},{"$f":"IF(K201=\"\",\"\",IF(VLOOKUP(K201,漢字読み!$A$2:$O$502,7,0)=0,\"\",VLOOKUP(K201,漢字読み!$A$2:$O$502,7,0)))","v":""},{"$f":"IF(L201=\"\",\"\",IF(VLOOKUP(L201,漢字読み!$A$2:$O$502,7,0)=0,\"\",VLOOKUP(L201,漢字読み!$A$2:$O$502,7,0)))","v":""},{"$f":"IF(M201=\"\",\"\",IF(VLOOKUP(M201,漢字読み!$A$2:$O$502,7,0)=0,\"\",VLOOKUP(M201,漢字読み!$A$2:$O$502,7,0)))","v":""},{"$f":"IF(N201=\"\",\"\",IF(VLOOKUP(N201,漢字読み!$A$2:$O$502,7,0)=0,\"\",VLOOKUP(N201,漢字読み!$A$2:$O$502,7,0)))","v":""},{"$f":"IF(O201=\"\",\"\",IF(VLOOKUP(O201,漢字読み!$A$2:$O$502,7,0)=0,\"\",VLOOKUP(O201,漢字読み!$A$2:$O$502,7,0)))","v":""},{"$f":"IF(P201=\"\",\"\",IF(VLOOKUP(P201,漢字読み!$A$2:$O$502,7,0)=0,\"\",VLOOKUP(P201,漢字読み!$A$2:$O$502,7,0)))","v":""},{"$f":"IF(Q201=\"\",\"\",IF(VLOOKUP(Q201,漢字読み!$A$2:$O$502,7,0)=0,\"\",VLOOKUP(Q201,漢字読み!$A$2:$O$502,7,0)))","v":""},{"$f":"IF(R201=\"\",\"\",IF(VLOOKUP(R201,漢字読み!$A$2:$O$502,7,0)=0,\"\",VLOOKUP(R201,漢字読み!$A$2:$O$502,7,0)))","v":"もうで"},{"$f":"IF(S201=\"\",\"\",IF(VLOOKUP(S201,漢字読み!$A$2:$O$502,7,0)=0,\"\",VLOOKUP(S201,漢字読み!$A$2:$O$502,7,0)))","v":""},{"$f":"IF(T201=\"\",\"\",IF(VLOOKUP(T201,漢字読み!$A$2:$O$502,7,0)=0,\"\",VLOOKUP(T201,漢字読み!$A$2:$O$502,7,0)))","v":"い"},null,null,"和歌山県教育委員会"]
[{"$f":"INDIRECT(\"'関数（書き）'!C\" & COLUMN(B$1)+SUM($AD$2:$AD207))","v":90},{"$f":"INDIRECT(\"'関数（書き）'!C\" & COLUMN(C$1)+SUM($AD$2:$AD207))","v":0},{"$f":"INDIRECT(\"'関数（書き）'!C\" & COLUMN(D$1)+SUM($AD$2:$AD207))","v":0},{"$f":"INDIRECT(\"'関数（書き）'!C\" & COLUMN(E$1)+SUM($AD$2:$AD207))","v":0},{"$f":"INDIRECT(\"'関数（書き）'!C\" & COLUMN(F$1)+SUM($AD$2:$AD207))","v":0},{"$f":"INDIRECT(\"'関数（書き）'!C\" & COLUMN(G$1)+SUM($AD$2:$AD207))","v":0},{"$f":"INDIRECT(\"'関数（書き）'!C\" & COLUMN(H$1)+SUM($AD$2:$AD207))","v":0},{"$f":"INDIRECT(\"'関数（書き）'!C\" & COLUMN(I$1)+SUM($AD$2:$AD207))","v":0},{"$f":"INDIRECT(\"'関数（書き）'!C\" & COLUMN(J$1)+SUM($AD$2:$AD207))","v":0},{"$f":"INDIRECT(\"'関数（書き）'!C\" & COLUMN(K$1)+SUM($AD$2:$AD207))","v":0},{"$f":"INDIRECT(\"'関数（読み）'!C\" & COLUMN(B$1)+SUM($AD$2:$AD207))","v":103},{"$f":"INDIRECT(\"'関数（読み）'!C\" & COLUMN(C$1)+SUM($AD$2:$AD207))","v":46},{"$f":"INDIRECT(\"'関数（読み）'!C\" & COLUMN(D$1)+SUM($AD$2:$AD207))","v":21},{"$f":"INDIRECT(\"'関数（読み）'!C\" & COLUMN(E$1)+SUM($AD$2:$AD207))","v":168},{"$f":"INDIRECT(\"'関数（読み）'!C\" & COLUMN(F$1)+SUM($AD$2:$AD207))","v":208},{"$f":"INDIRECT(\"'関数（読み）'!C\" & COLUMN(G$1)+SUM($AD$2:$AD207))","v":221},{"$f":"INDIRECT(\"'関数（読み）'!C\" & COLUMN(H$1)+SUM($AD$2:$AD207))","v":63},{"$f":"INDIRECT(\"'関数（読み）'!C\" & COLUMN(I$1)+SUM($AD$2:$AD207))","v":126},{"$f":"INDIRECT(\"'関数（読み）'!C\" & COLUMN(J$1)+SUM($AD$2:$AD207))","v":189},{"$f":"INDIRECT(\"'関数（読み）'!C\" & COLUMN(K$1)+SUM($AD$2:$AD207))","v":86}]
["⑳","⑲","⑱","⑰","⑯","⑮","⑭","⑬","⑫","⑪","⑩","⑨","⑧","⑦","⑥","⑤","④","③","②","①","次の［　　　　］の部分の漢字には読みがなをひらがなで書き、カタカナは漢字に直しなさい。",10,"「漢字の博士検定試験」練習問題　",null,null,null,null,null,"←",10,"問",{"$f":"AH202+1","v":211},"～",{"$f":"SUM($AD$2:$AD207)+10","v":220},"問まで",{"$f":"COUNTIF($A$1:$T$200,T208)","v":0}]
[{"$f":"IF(A206=\"\",\"\",VLOOKUP(A206,漢字書き!$A$2:$N$506,6,0))","v":"小学校の［ジドウ］"},{"$f":"IF(B206=\"\",\"\",VLOOKUP(B206,漢字書き!$A$2:$N$506,6,0))","v":{"$error":"#N/A"}},{"$f":"IF(C206=\"\",\"\",VLOOKUP(C206,漢字書き!$A$2:$N$506,6,0))","v":{"$error":"#N/A"}},{"$f":"IF(D206=\"\",\"\",VLOOKUP(D206,漢字書き!$A$2:$N$506,6,0))","v":{"$error":"#N/A"}},{"$f":"IF(E206=\"\",\"\",VLOOKUP(E206,漢字書き!$A$2:$N$506,6,0))","v":{"$error":"#N/A"}},{"$f":"IF(F206=\"\",\"\",VLOOKUP(F206,漢字書き!$A$2:$N$506,6,0))","v":{"$error":"#N/A"}},{"$f":"IF(G206=\"\",\"\",VLOOKUP(G206,漢字書き!$A$2:$N$506,6,0))","v":{"$error":"#N/A"}},{"$f":"IF(H206=\"\",\"\",VLOOKUP(H206,漢字書き!$A$2:$N$506,6,0))","v":{"$error":"#N/A"}},{"$f":"IF(I206=\"\",\"\",VLOOKUP(I206,漢字書き!$A$2:$N$506,6,0))","v":{"$error":"#N/A"}},{"$f":"IF(J206=\"\",\"\",VLOOKUP(J206,漢字書き!$A$2:$N$506,6,0))","v":{"$error":"#N/A"}},{"$f":"IF(K206=\"\",\"\",VLOOKUP(K206,漢字読み!$A$2:$O$506,6,0))","v":"[失意]のどん底"},{"$f":"IF(L206=\"\",\"\",VLOOKUP(L206,漢字読み!$A$2:$O$506,6,0))","v":"［好物］のケーキ"},{"$f":"IF(M206=\"\",\"\",VLOOKUP(M206,漢字読み!$A$2:$O$506,6,0))","v":"［一軍］の選手になる"},{"$f":"IF(N206=\"\",\"\",VLOOKUP(N206,漢字読み!$A$2:$O$506,6,0))","v":"最後まで［戦］う"},{"$f":"IF(O206=\"\",\"\",VLOOKUP(O206,漢字読み!$A$2:$O$506,6,0))","v":"［兆候］が見える"},{"$f":"IF(P206=\"\",\"\",VLOOKUP(P206,漢字読み!$A$2:$O$506,6,0))","v":"［福井県］に行く"},{"$f":"IF(Q206=\"\",\"\",VLOOKUP(Q206,漢字読み!$A$2:$O$506,6,0))","v":"［木材］を運ぶ"},{"$f":"IF(R206=\"\",\"\",VLOOKUP(R206,漢字読み!$A$2:$O$506,6,0))","v":"ねんぶつを［唱］える"},{"$f":"IF(S206=\"\",\"\",VLOOKUP(S206,漢字読み!$A$2:$O$506,6,0))","v":"［卒園］する"},{"$f":"IF(T206=\"\",\"\",VLOOKUP(T206,漢字読み!$A$2:$O$506,6,0))","v":"［茨城県］から来た人"},null,"級"]
[null,null,null,null,null,null,null,null,null,null,null,null,null,null,null,null,null,null,null,null,null,"名前"]
[{"$f":"IF(A206=\"\",\"\",IF(VLOOKUP(A206,漢字書き!$A$2:$N$502,7,0)=0,\"\",VLOOKUP(A206,漢字書き!$A$2:$N$502,7,0)))","v":""},{"$f":"IF(B206=\"\",\"\",IF(VLOOKUP(B206,漢字書き!$A$2:$N$502,7,0)=0,\"\",VLOOKUP(B206,漢字書き!$A$2:$N$502,7,0)))","v":{"$error":"#N/A"}},{"$f":"IF(C206=\"\",\"\",IF(VLOOKUP(C206,漢字書き!$A$2:$N$502,7,0)=0,\"\",VLOOKUP(C206,漢字書き!$A$2:$N$502,7,0)))","v":{"$error":"#N/A"}},{"$f":"IF(D206=\"\",\"\",IF(VLOOKUP(D206,漢字書き!$A$2:$N$502,7,0)=0,\"\",VLOOKUP(D206,漢字書き!$A$2:$N$502,7,0)))","v":{"$error":"#N/A"}},{"$f":"IF(E206=\"\",\"\",IF(VLOOKUP(E206,漢字書き!$A$2:$N$502,7,0)=0,\"\",VLOOKUP(E206,漢字書き!$A$2:$N$502,7,0)))","v":{"$error":"#N/A"}},{"$f":"IF(F206=\"\",\"\",IF(VLOOKUP(F206,漢字書き!$A$2:$N$502,7,0)=0,\"\",VLOOKUP(F206,漢字書き!$A$2:$N$502,7,0)))","v":{"$error":"#N/A"}},{"$f":"IF(G206=\"\",\"\",IF(VLOOKUP(G206,漢字書き!$A$2:$N$502,7,0)=0,\"\",VLOOKUP(G206,漢字書き!$A$2:$N$502,7,0)))","v":{"$error":"#N/A"}},{"$f":"IF(H206=\"\",\"\",IF(VLOOKUP(H206,漢字書き!$A$2:$N$502,7,0)=0,\"\",VLOOKUP(H206,漢字書き!$A$2:$N$502,7,0)))","v":{"$error":"#N/A"}},{"$f":"IF(I206=\"\",\"\",IF(VLOOKUP(I206,漢字書き!$A$2:$N$502,7,0)=0,\"\",VLOOKUP(I206,漢字書き!$A$2:$N$502,7,0)))","v":{"$error":"#N/A"}},{"$f":"IF(J206=\"\",\"\",IF(VLOOKUP(J206,漢字書き!$A$2:$N$502,7,0)=0,\"\",VLOOKUP(J206,漢字書き!$A$2:$N$502,7,0)))","v":{"$error":"#N/A"}},{"$f":"IF(K206=\"\",\"\",IF(VLOOKUP(K206,漢字読み!$A$2:$O$502,7,0)=0,\"\",VLOOKUP(K206,漢字読み!$A$2:$O$502,7,0)))","v":""},{"$f":"IF(L206=\"\",\"\",IF(VLOOKUP(L206,漢字読み!$A$2:$O$502,7,0)=0,\"\",VLOOKUP(L206,漢字読み!$A$2:$O$502,7,0)))","v":""},{"$f":"IF(M206=\"\",\"\",IF(VLOOKUP(M206,漢字読み!$A$2:$O$502,7,0)=0,\"\",VLOOKUP(M206,漢字読み!$A$2:$O$502,7,0)))","v":""},{"$f":"IF(N206=\"\",\"\",IF(VLOOKUP(N206,漢字読み!$A$2:$O$502,7,0)=0,\"\",VLOOKUP(N206,漢字読み!$A$2:$O$502,7,0)))","v":"う"},{"$f":"IF(O206=\"\",\"\",IF(VLOOKUP(O206,漢字読み!$A$2:$O$502,7,0)=0,\"\",VLOOKUP(O206,漢字読み!$A$2:$O$502,7,0)))","v":""},{"$f":"IF(P206=\"\",\"\",IF(VLOOKUP(P206,漢字読み!$A$2:$O$502,7,0)=0,\"\",VLOOKUP(P206,漢字読み!$A$2:$O$502,7,0)))","v":""},{"$f":"IF(Q206=\"\",\"\",IF(VLOOKUP(Q206,漢字読み!$A$2:$O$502,7,0)=0,\"\",VLOOKUP(Q206,漢字読み!$A$2:$O$502,7,0)))","v":""},{"$f":"IF(R206=\"\",\"\",IF(VLOOKUP(R206,漢字読み!$A$2:$O$502,7,0)=0,\"\",VLOOKUP(R206,漢字読み!$A$2:$O$502,7,0)))","v":"える"},{"$f":"IF(S206=\"\",\"\",IF(VLOOKUP(S206,漢字読み!$A$2:$O$502,7,0)=0,\"\",VLOOKUP(S206,漢字読み!$A$2:$O$502,7,0)))","v":"する"},{"$f":"IF(T206=\"\",\"\",IF(VLOOKUP(T206,漢字読み!$A$2:$O$502,7,0)=0,\"\",VLOOKUP(T206,漢字読み!$A$2:$O$502,7,0)))","v":""},null,null,"和歌山県教育委員会"]
[{"$f":"A201","v":66},61,149,145,86,8,5,155,187,168,124,194,23,108,30,214,28,117,101,165]
["⑳","⑲","⑱","⑰","⑯","⑮","⑭","⑬","⑫","⑪","⑩","⑨","⑧","⑦","⑥","⑤","④","③","②","①","次の［　　　　］の部分の漢字には読みがなをひらがなで書き、カタカナは漢字に直しなさい。",10,"「漢字の博士検定試験」練習問題　"]
[{"$f":"IF(A211=\"\",\"\",VLOOKUP(A211,漢字書き!$A$2:$N$506,6,0))","v":"紙に［インサツ］する"},{"$f":"IF(B211=\"\",\"\",VLOOKUP(B211,漢字書き!$A$2:$N$506,6,0))","v":"［モクザイ］を運ぶ"},{"$f":"IF(C211=\"\",\"\",VLOOKUP(C211,漢字書き!$A$2:$N$506,6,0))","v":"会ぎに[シュッセキ]する"},{"$f":"IF(D211=\"\",\"\",VLOOKUP(D211,漢字書き!$A$2:$N$506,6,0))","v":"心を［キヨ］める"},{"$f":"IF(E211=\"\",\"\",VLOOKUP(E211,漢字書き!$A$2:$N$506,6,0))","v":"学級会の［シカイ］をする"},{"$f":"IF(F211=\"\",\"\",VLOOKUP(F211,漢字書き!$A$2:$N$506,6,0))","v":"友人と［トモ］に行く"},{"$f":"IF(G211=\"\",\"\",VLOOKUP(G211,漢字書き!$A$2:$N$506,6,0))","v":"魚の［リョウ］に出る"},{"$f":"IF(H211=\"\",\"\",VLOOKUP(H211,漢字書き!$A$2:$N$506,6,0))","v":"［オ］り紙をおる"},{"$f":"IF(I211=\"\",\"\",VLOOKUP(I211,漢字書き!$A$2:$N$506,6,0))","v":"［オビ］を結ぶ"},{"$f":"IF(J211=\"\",\"\",VLOOKUP(J211,漢字書き!$A$2:$N$506,6,0))","v":"あこがれの［センシュ］"},{"$f":"IF(K211=\"\",\"\",VLOOKUP(K211,漢字読み!$A$2:$O$506,6,0))","v":"［合唱］コンクール"},{"$f":"IF(L211=\"\",\"\",VLOOKUP(L211,漢字読み!$A$2:$O$506,6,0))","v":"［帯］を結ぶ"},{"$f":"IF(M211=\"\",\"\",VLOOKUP(M211,漢字読み!$A$2:$O$506,6,0))","v":"円の［半径］"},{"$f":"IF(N211=\"\",\"\",VLOOKUP(N211,漢字読み!$A$2:$O$506,6,0))","v":"花の［種］をまく"},{"$f":"IF(O211=\"\",\"\",VLOOKUP(O211,漢字読み!$A$2:$O$506,6,0))","v":"［園芸］用品を買う"},{"$f":"IF(P211=\"\",\"\",VLOOKUP(P211,漢字読み!$A$2:$O$506,6,0))","v":"あなの［底］"},{"$f":"IF(Q211=\"\",\"\",VLOOKUP(Q211,漢字読み!$A$2:$O$506,6,0))","v":"［景品］をもらう"},{"$f":"IF(R211=\"\",\"\",VLOOKUP(R211,漢字読み!$A$2:$O$506,6,0))","v":"［初］もうでに行く"},{"$f":"IF(S211=\"\",\"\",VLOOKUP(S211,漢字読み!$A$2:$O$506,6,0))","v":"［辞書］をひく"},{"$f":"IF(T211=\"\",\"\",VLOOKUP(T211,漢字読み!$A$2:$O$506,6,0))","v":"［浅］い湖"},null,"級"]
[{"$f":"IF(A$11=\"\",\"\",VLOOKUP(A211,漢字書き!$A$2:$O$506,8,0))","v":"印刷"},{"$f":"IF(B$11=\"\",\"\",VLOOKUP(B211,漢字書き!$A$2:$O$506,8,0))","v":"木材"},{"$f":"IF(C$11=\"\",\"\",VLOOKUP(C211,漢字書き!$A$2:$O$506,8,0))","v":"出席"},{"$f":"IF(D$11=\"\",\"\",VLOOKUP(D211,漢字書き!$A$2:$O$506,8,0))","v":"清"},{"$f":"IF(E$11=\"\",\"\",VLOOKUP(E211,漢字書き!$A$2:$O$506,8,0))","v":"司会"},{"$f":"IF(F$11=\"\",\"\",VLOOKUP(F211,漢字書き!$A$2:$O$506,8,0))","v":"共"},{"$f":"IF(G$11=\"\",\"\",VLOOKUP(G211,漢字書き!$A$2:$O$506,8,0))","v":"漁"},{"$f":"IF(H$11=\"\",\"\",VLOOKUP(H211,漢字書き!$A$2:$O$506,8,0))","v":"折"},{"$f":"IF(I$11=\"\",\"\",VLOOKUP(I211,漢字書き!$A$2:$O$506,8,0))","v":"帯"},{"$f":"IF(J$11=\"\",\"\",VLOOKUP(J211,漢字書き!$A$2:$O$506,8,0))","v":"選手"},{"$f":"IF(K$11=\"\",\"\",VLOOKUP(K211,漢字読み!$A$2:$O$506,8,0))","v":"がっしょう"},{"$f":"IF(L$11=\"\",\"\",VLOOKUP(L211,漢字読み!$A$2:$O$506,8,0))","v":"おび"},{"$f":"IF(M$11=\"\",\"\",VLOOKUP(M211,漢字読み!$A$2:$O$506,8,0))","v":"はんけい"},{"$f":"IF(N$11=\"\",\"\",VLOOKUP(N211,漢字読み!$A$2:$O$506,8,0))","v":"たね"},{"$f":"IF(O$11=\"\",\"\",VLOOKUP(O211,漢字読み!$A$2:$O$506,8,0))","v":"えんげい"},{"$f":"IF(P$11=\"\",\"\",VLOOKUP(P211,漢字読み!$A$2:$O$506,8,0))","v":"そこ"},{"$f":"IF(Q$11=\"\",\"\",VLOOKUP(Q211,漢字読み!$A$2:$O$506,8,0))","v":"けいひん"},{"$f":"IF(R$11=\"\",\"\",VLOOKUP(R211,漢字読み!$A$2:$O$506,8,0))","v":"はつ"},{"$f":"IF(S$11=\"\",\"\",VLOOKUP(S211,漢字読み!$A$2:$O$506,8,0))","v":"じしょ"},{"$f":"IF(T$11=\"\",\"\",VLOOKUP(T211,漢字読み!$A$2:$O$506,8,0))","v":"あさ"},null,"名前"]
[{"$f":"IF(A211=\"\",\"\",IF(VLOOKUP(A211,漢字書き!$A$2:$N$502,7,0)=0,\"\",VLOOKUP(A211,漢字書き!$A$2:$N$502,7,0)))","v":"する"},{"$f":"IF(B211=\"\",\"\",IF(VLOOKUP(B211,漢字書き!$A$2:$N$502,7,0)=0,\"\",VLOOKUP(B211,漢字書き!$A$2:$N$502,7,0)))","v":""},{"$f":"IF(C211=\"\",\"\",IF(VLOOKUP(C211,漢字書き!$A$2:$N$502,7,0)=0,\"\",VLOOKUP(C211,漢字書き!$A$2:$N$502,7,0)))","v":"する"},{"$f":"IF(D211=\"\",\"\",IF(VLOOKUP(D211,漢字書き!$A$2:$N$502,7,0)=0,\"\",VLOOKUP(D211,漢字書き!$A$2:$N$502,7,0)))","v":"める"},{"$f":"IF(E211=\"\",\"\",IF(VLOOKUP(E211,漢字書き!$A$2:$N$502,7,0)=0,\"\",VLOOKUP(E211,漢字書き!$A$2:$N$502,7,0)))","v":""},{"$f":"IF(F211=\"\",\"\",IF(VLOOKUP(F211,漢字書き!$A$2:$N$502,7,0)=0,\"\",VLOOKUP(F211,漢字書き!$A$2:$N$502,7,0)))","v":"に"},{"$f":"IF(G211=\"\",\"\",IF(VLOOKUP(G211,漢字書き!$A$2:$N$502,7,0)=0,\"\",VLOOKUP(G211,漢字書き!$A$2:$N$502,7,0)))","v":""},{"$f":"IF(H211=\"\",\"\",IF(VLOOKUP(H211,漢字書き!$A$2:$N$502,7,0)=0,\"\",VLOOKUP(H211,漢字書き!$A$2:$N$502,7,0)))","v":""},{"$f":"IF(I211=\"\",\"\",IF(VLOOKUP(I211,漢字書き!$A$2:$N$502,7,0)=0,\"\",VLOOKUP(I211,漢字書き!$A$2:$N$502,7,0)))","v":""},{"$f":"IF(J211=\"\",\"\",IF(VLOOKUP(J211,漢字書き!$A$2:$N$502,7,0)=0,\"\",VLOOKUP(J211,漢字書き!$A$2:$N$502,7,0)))","v":""},{"$f":"IF(K211=\"\",\"\",IF(VLOOKUP(K211,漢字読み!$A$2:$O$502,7,0)=0,\"\",VLOOKUP(K211,漢字読み!$A$2:$O$502,7,0)))","v":""},{"$f":"IF(L211=\"\",\"\",IF(VLOOKUP(L211,漢字読み!$A$2:$O$502,7,0)=0,\"\",VLOOKUP(L211,漢字読み!$A$2:$O$502,7,0)))","v":""},{"$f":"IF(M211=\"\",\"\",IF(VLOOKUP(M211,漢字読み!$A$2:$O$502,7,0)=0,\"\",VLOOKUP(M211,漢字読み!$A$2:$O$502,7,0)))","v":""},{"$f":"IF(N211=\"\",\"\",IF(VLOOKUP(N211,漢字読み!$A$2:$O$502,7,0)=0,\"\",VLOOKUP(N211,漢字読み!$A$2:$O$502,7,0)))","v":""},{"$f":"IF(O211=\"\",\"\",IF(VLOOKUP(O211,漢字読み!$A$2:$O$502,7,0)=0,\"\",VLOOKUP(O211,漢字読み!$A$2:$O$502,7,0)))","v":""},{"$f":"IF(P211=\"\",\"\",IF(VLOOKUP(P211,漢字読み!$A$2:$O$502,7,0)=0,\"\",VLOOKUP(P211,漢字読み!$A$2:$O$502,7,0)))","v":""},{"$f":"IF(Q211=\"\",\"\",IF(VLOOKUP(Q211,漢字読み!$A$2:$O$502,7,0)=0,\"\",VLOOKUP(Q211,漢字読み!$A$2:$O$502,7,0)))","v":""},{"$f":"IF(R211=\"\",\"\",IF(VLOOKUP(R211,漢字読み!$A$2:$O$502,7,0)=0,\"\",VLOOKUP(R211,漢字読み!$A$2:$O$502,7,0)))","v":"もうで"},{"$f":"IF(S211=\"\",\"\",IF(VLOOKUP(S211,漢字読み!$A$2:$O$502,7,0)=0,\"\",VLOOKUP(S211,漢字読み!$A$2:$O$502,7,0)))","v":""},{"$f":"IF(T211=\"\",\"\",IF(VLOOKUP(T211,漢字読み!$A$2:$O$502,7,0)=0,\"\",VLOOKUP(T211,漢字読み!$A$2:$O$502,7,0)))","v":"い"},null,null,"和歌山県教育委員会"]
[{"$f":"A206","v":90},0,0,0,0,0,0,0,0,0,103,46,21,168,208,221,63,126,189,86]
["⑳","⑲","⑱","⑰","⑯","⑮","⑭","⑬","⑫","⑪","⑩","⑨","⑧","⑦","⑥","⑤","④","③","②","①","次の［　　　　］の部分の漢字には読みがなをひらがなで書き、カタカナは漢字に直しなさい。",10,"「漢字の博士検定試験」練習問題　"]
[{"$f":"IF(A216=\"\",\"\",VLOOKUP(A216,漢字書き!$A$2:$N$506,6,0))","v":"小学校の［ジドウ］"},{"$f":"IF(B216=\"\",\"\",VLOOKUP(B216,漢字書き!$A$2:$N$506,6,0))","v":{"$error":"#N/A"}},{"$f":"IF(C216=\"\",\"\",VLOOKUP(C216,漢字書き!$A$2:$N$506,6,0))","v":{"$error":"#N/A"}},{"$f":"IF(D216=\"\",\"\",VLOOKUP(D216,漢字書き!$A$2:$N$506,6,0))","v":{"$error":"#N/A"}},{"$f":"IF(E216=\"\",\"\",VLOOKUP(E216,漢字書き!$A$2:$N$506,6,0))","v":{"$error":"#N/A"}},{"$f":"IF(F216=\"\",\"\",VLOOKUP(F216,漢字書き!$A$2:$N$506,6,0))","v":{"$error":"#N/A"}},{"$f":"IF(G216=\"\",\"\",VLOOKUP(G216,漢字書き!$A$2:$N$506,6,0))","v":{"$error":"#N/A"}},{"$f":"IF(H216=\"\",\"\",VLOOKUP(H216,漢字書き!$A$2:$N$506,6,0))","v":{"$error":"#N/A"}},{"$f":"IF(I216=\"\",\"\",VLOOKUP(I216,漢字書き!$A$2:$N$506,6,0))","v":{"$error":"#N/A"}},{"$f":"IF(J216=\"\",\"\",VLOOKUP(J216,漢字書き!$A$2:$N$506,6,0))","v":{"$error":"#N/A"}},{"$f":"IF(K216=\"\",\"\",VLOOKUP(K216,漢字読み!$A$2:$O$506,6,0))","v":"[失意]のどん底"},{"$f":"IF(L216=\"\",\"\",VLOOKUP(L216,漢字読み!$A$2:$O$506,6,0))","v":"［好物］のケーキ"},{"$f":"IF(M216=\"\",\"\",VLOOKUP(M216,漢字読み!$A$2:$O$506,6,0))","v":"［一軍］の選手になる"},{"$f":"IF(N216=\"\",\"\",VLOOKUP(N216,漢字読み!$A$2:$O$506,6,0))","v":"最後まで［戦］う"},{"$f":"IF(O216=\"\",\"\",VLOOKUP(O216,漢字読み!$A$2:$O$506,6,0))","v":"［兆候］が見える"},{"$f":"IF(P216=\"\",\"\",VLOOKUP(P216,漢字読み!$A$2:$O$506,6,0))","v":"［福井県］に行く"},{"$f":"IF(Q216=\"\",\"\",VLOOKUP(Q216,漢字読み!$A$2:$O$506,6,0))","v":"［木材］を運ぶ"},{"$f":"IF(R216=\"\",\"\",VLOOKUP(R216,漢字読み!$A$2:$O$506,6,0))","v":"ねんぶつを［唱］える"},{"$f":"IF(S216=\"\",\"\",VLOOKUP(S216,漢字読み!$A$2:$O$506,6,0))","v":"［卒園］する"},{"$f":"IF(T216=\"\",\"\",VLOOKUP(T216,漢字読み!$A$2:$O$506,6,0))","v":"［茨城県］から来た人"},null,"級"]
[{"$f":"IF(A$16=\"\",\"\",VLOOKUP(A216,漢字書き!$A$2:$O$506,8,0))","v":"児童"},{"$f":"IF(B$16=\"\",\"\",VLOOKUP(B216,漢字書き!$A$2:$O$506,8,0))","v":{"$error":"#N/A"}},{"$f":"IF(C$16=\"\",\"\",VLOOKUP(C216,漢字書き!$A$2:$O$506,8,0))","v":{"$error":"#N/A"}},{"$f":"IF(D$16=\"\",\"\",VLOOKUP(D216,漢字書き!$A$2:$O$506,8,0))","v":{"$error":"#N/A"}},{"$f":"IF(E$16=\"\",\"\",VLOOKUP(E216,漢字書き!$A$2:$O$506,8,0))","v":{"$error":"#N/A"}},{"$f":"IF(F$16=\"\",\"\",VLOOKUP(F216,漢字書き!$A$2:$O$506,8,0))","v":{"$error":"#N/A"}},{"$f":"IF(G$16=\"\",\"\",VLOOKUP(G216,漢字書き!$A$2:$O$506,8,0))","v":{"$error":"#N/A"}},{"$f":"IF(H$16=\"\",\"\",VLOOKUP(H216,漢字書き!$A$2:$O$506,8,0))","v":{"$error":"#N/A"}},{"$f":"IF(I$16=\"\",\"\",VLOOKUP(I216,漢字書き!$A$2:$O$506,8,0))","v":{"$error":"#N/A"}},{"$f":"IF(J$16=\"\",\"\",VLOOKUP(J216,漢字書き!$A$2:$O$506,8,0))","v":{"$error":"#N/A"}},{"$f":"IF(K$16=\"\",\"\",VLOOKUP(K216,漢字読み!$A$2:$O$506,8,0))","v":"しつい"},{"$f":"IF(L$16=\"\",\"\",VLOOKUP(L216,漢字読み!$A$2:$O$506,8,0))","v":"こうぶつ"},{"$f":"IF(M$16=\"\",\"\",VLOOKUP(M216,漢字読み!$A$2:$O$506,8,0))","v":"いちぐん"},{"$f":"IF(N$16=\"\",\"\",VLOOKUP(N216,漢字読み!$A$2:$O$506,8,0))","v":"たたか"},{"$f":"IF(O$16=\"\",\"\",VLOOKUP(O216,漢字読み!$A$2:$O$506,8,0))","v":"ちょうこう"},{"$f":"IF(P$16=\"\",\"\",VLOOKUP(P216,漢字読み!$A$2:$O$506,8,0))","v":"ふくいけん"},{"$f":"IF(Q$16=\"\",\"\",VLOOKUP(Q216,漢字読み!$A$2:$O$506,8,0))","v":"もくざい"},{"$f":"IF(R$16=\"\",\"\",VLOOKUP(R216,漢字読み!$A$2:$O$506,8,0))","v":"とな"},{"$f":"IF(S$16=\"\",\"\",VLOOKUP(S216,漢字読み!$A$2:$O$506,8,0))","v":"そつえん"},{"$f":"IF(T$16=\"\",\"\",VLOOKUP(T216,漢字読み!$A$2:$O$506,8,0))","v":"いばらきけん"},null,"名前"]
[{"$f":"IF(A216=\"\",\"\",IF(VLOOKUP(A216,漢字書き!$A$2:$N$502,7,0)=0,\"\",VLOOKUP(A216,漢字書き!$A$2:$N$502,7,0)))","v":""},{"$f":"IF(B216=\"\",\"\",IF(VLOOKUP(B216,漢字書き!$A$2:$N$502,7,0)=0,\"\",VLOOKUP(B216,漢字書き!$A$2:$N$502,7,0)))","v":{"$error":"#N/A"}},{"$f":"IF(C216=\"\",\"\",IF(VLOOKUP(C216,漢字書き!$A$2:$N$502,7,0)=0,\"\",VLOOKUP(C216,漢字書き!$A$2:$N$502,7,0)))","v":{"$error":"#N/A"}},{"$f":"IF(D216=\"\",\"\",IF(VLOOKUP(D216,漢字書き!$A$2:$N$502,7,0)=0,\"\",VLOOKUP(D216,漢字書き!$A$2:$N$502,7,0)))","v":{"$error":"#N/A"}},{"$f":"IF(E216=\"\",\"\",IF(VLOOKUP(E216,漢字書き!$A$2:$N$502,7,0)=0,\"\",VLOOKUP(E216,漢字書き!$A$2:$N$502,7,0)))","v":{"$error":"#N/A"}},{"$f":"IF(F216=\"\",\"\",IF(VLOOKUP(F216,漢字書き!$A$2:$N$502,7,0)=0,\"\",VLOOKUP(F216,漢字書き!$A$2:$N$502,7,0)))","v":{"$error":"#N/A"}},{"$f":"IF(G216=\"\",\"\",IF(VLOOKUP(G216,漢字書き!$A$2:$N$502,7,0)=0,\"\",VLOOKUP(G216,漢字書き!$A$2:$N$502,7,0)))","v":{"$error":"#N/A"}},{"$f":"IF(H216=\"\",\"\",IF(VLOOKUP(H216,漢字書き!$A$2:$N$502,7,0)=0,\"\",VLOOKUP(H216,漢字書き!$A$2:$N$502,7,0)))","v":{"$error":"#N/A"}},{"$f":"IF(I216=\"\",\"\",IF(VLOOKUP(I216,漢字書き!$A$2:$N$502,7,0)=0,\"\",VLOOKUP(I216,漢字書き!$A$2:$N$502,7,0)))","v":{"$error":"#N/A"}},{"$f":"IF(J216=\"\",\"\",IF(VLOOKUP(J216,漢字書き!$A$2:$N$502,7,0)=0,\"\",VLOOKUP(J216,漢字書き!$A$2:$N$502,7,0)))","v":{"$error":"#N/A"}},{"$f":"IF(K216=\"\",\"\",IF(VLOOKUP(K216,漢字読み!$A$2:$O$502,7,0)=0,\"\",VLOOKUP(K216,漢字読み!$A$2:$O$502,7,0)))","v":""},{"$f":"IF(L216=\"\",\"\",IF(VLOOKUP(L216,漢字読み!$A$2:$O$502,7,0)=0,\"\",VLOOKUP(L216,漢字読み!$A$2:$O$502,7,0)))","v":""},{"$f":"IF(M216=\"\",\"\",IF(VLOOKUP(M216,漢字読み!$A$2:$O$502,7,0)=0,\"\",VLOOKUP(M216,漢字読み!$A$2:$O$502,7,0)))","v":""},{"$f":"IF(N216=\"\",\"\",IF(VLOOKUP(N216,漢字読み!$A$2:$O$502,7,0)=0,\"\",VLOOKUP(N216,漢字読み!$A$2:$O$502,7,0)))","v":"う"},{"$f":"IF(O216=\"\",\"\",IF(VLOOKUP(O216,漢字読み!$A$2:$O$502,7,0)=0,\"\",VLOOKUP(O216,漢字読み!$A$2:$O$502,7,0)))","v":""},{"$f":"IF(P216=\"\",\"\",IF(VLOOKUP(P216,漢字読み!$A$2:$O$502,7,0)=0,\"\",VLOOKUP(P216,漢字読み!$A$2:$O$502,7,0)))","v":""},{"$f":"IF(Q216=\"\",\"\",IF(VLOOKUP(Q216,漢字読み!$A$2:$O$502,7,0)=0,\"\",VLOOKUP(Q216,漢字読み!$A$2:$O$502,7,0)))","v":""},{"$f":"IF(R216=\"\",\"\",IF(VLOOKUP(R216,漢字読み!$A$2:$O$502,7,0)=0,\"\",VLOOKUP(R216,漢字読み!$A$2:$O$502,7,0)))","v":"える"},{"$f":"IF(S216=\"\",\"\",IF(VLOOKUP(S216,漢字読み!$A$2:$O$502,7,0)=0,\"\",VLOOKUP(S216,漢字読み!$A$2:$O$502,7,0)))","v":"する"},{"$f":"IF(T216=\"\",\"\",IF(VLOOKUP(T216,漢字読み!$A$2:$O$502,7,0)=0,\"\",VLOOKUP(T216,漢字読み!$A$2:$O$502,7,0)))","v":""},null,null,"和歌山県教育委員会"]
[{"$f":"INDIRECT(\"'関数（書き）'!C\" & COLUMN(B$1)+SUM($AD$2:$AD222))","v":0},{"$f":"INDIRECT(\"'関数（書き）'!C\" & COLUMN(C$1)+SUM($AD$2:$AD222))","v":0},{"$f":"INDIRECT(\"'関数（書き）'!C\" & COLUMN(D$1)+SUM($AD$2:$AD222))","v":0},{"$f":"INDIRECT(\"'関数（書き）'!C\" & COLUMN(E$1)+SUM($AD$2:$AD222))","v":0},{"$f":"INDIRECT(\"'関数（書き）'!C\" & COLUMN(F$1)+SUM($AD$2:$AD222))","v":0},{"$f":"INDIRECT(\"'関数（書き）'!C\" & COLUMN(G$1)+SUM($AD$2:$AD222))","v":0},{"$f":"INDIRECT(\"'関数（書き）'!C\" & COLUMN(H$1)+SUM($AD$2:$AD222))","v":0},{"$f":"INDIRECT(\"'関数（書き）'!C\" & COLUMN(I$1)+SUM($AD$2:$AD222))","v":0},{"$f":"INDIRECT(\"'関数（書き）'!C\" & COLUMN(J$1)+SUM($AD$2:$AD222))","v":0},{"$f":"INDIRECT(\"'関数（書き）'!C\" & COLUMN(K$1)+SUM($AD$2:$AD222))","v":0},{"$f":"INDIRECT(\"'関数（読み）'!C\" & COLUMN(B$1)+SUM($AD$2:$AD222))","v":213},{"$f":"INDIRECT(\"'関数（読み）'!C\" & COLUMN(C$1)+SUM($AD$2:$AD222))","v":48},{"$f":"INDIRECT(\"'関数（読み）'!C\" & COLUMN(D$1)+SUM($AD$2:$AD222))","v":0},{"$f":"INDIRECT(\"'関数（読み）'!C\" & COLUMN(E$1)+SUM($AD$2:$AD222))","v":0},{"$f":"INDIRECT(\"'関数（読み）'!C\" & COLUMN(F$1)+SUM($AD$2:$AD222))","v":0},{"$f":"INDIRECT(\"'関数（読み）'!C\" & COLUMN(G$1)+SUM($AD$2:$AD222))","v":0},{"$f":"INDIRECT(\"'関数（読み）'!C\" & COLUMN(H$1)+SUM($AD$2:$AD222))","v":0},{"$f":"INDIRECT(\"'関数（読み）'!C\" & COLUMN(I$1)+SUM($AD$2:$AD222))","v":0},{"$f":"INDIRECT(\"'関数（読み）'!C\" & COLUMN(J$1)+SUM($AD$2:$AD222))","v":0},{"$f":"INDIRECT(\"'関数（読み）'!C\" & COLUMN(K$1)+SUM($AD$2:$AD222))","v":0}]
["⑳","⑲","⑱","⑰","⑯","⑮","⑭","⑬","⑫","⑪","⑩","⑨","⑧","⑦","⑥","⑤","④","③","②","①","次の［　　　　］の部分の漢字には読みがなをひらがなで書き、カタカナは漢字に直しなさい。",10,"「漢字の博士検定試験」練習問題　",null,null,null,null,null,"←",10,"問",{"$f":"AH207+1","v":221},"～",{"$f":"SUM($AD$2:$AD222)+10","v":230},"問まで",{"$f":"COUNTIF($A$1:$T$200,T223)","v":0}]
[{"$f":"IF(A221=\"\",\"\",VLOOKUP(A221,漢字書き!$A$2:$N$506,6,0))","v":{"$error":"#N/A"}},{"$f":"IF(B221=\"\",\"\",VLOOKUP(B221,漢字書き!$A$2:$N$506,6,0))","v":{"$error":"#N/A"}},{"$f":"IF(C221=\"\",\"\",VLOOKUP(C221,漢字書き!$A$2:$N$506,6,0))","v":{"$error":"#N/A"}},{"$f":"IF(D221=\"\",\"\",VLOOKUP(D221,漢字書き!$A$2:$N$506,6,0))","v":{"$error":"#N/A"}},{"$f":"IF(E221=\"\",\"\",VLOOKUP(E221,漢字書き!$A$2:$N$506,6,0))","v":{"$error":"#N/A"}},{"$f":"IF(F221=\"\",\"\",VLOOKUP(F221,漢字書き!$A$2:$N$506,6,0))","v":{"$error":"#N/A"}},{"$f":"IF(G221=\"\",\"\",VLOOKUP(G221,漢字書き!$A$2:$N$506,6,0))","v":{"$error":"#N/A"}},{"$f":"IF(H221=\"\",\"\",VLOOKUP(H221,漢字書き!$A$2:$N$506,6,0))","v":{"$error":"#N/A"}},{"$f":"IF(I221=\"\",\"\",VLOOKUP(I221,漢字書き!$A$2:$N$506,6,0))","v":{"$error":"#N/A"}},{"$f":"IF(J221=\"\",\"\",VLOOKUP(J221,漢字書き!$A$2:$N$506,6,0))","v":{"$error":"#N/A"}},{"$f":"IF(K221=\"\",\"\",VLOOKUP(K221,漢字読み!$A$2:$O$506,6,0))","v":"［海底］トンネル"},{"$f":"IF(L221=\"\",\"\",VLOOKUP(L221,漢字読み!$A$2:$O$506,6,0))","v":"人に［好］まれる"},{"$f":"IF(M221=\"\",\"\",VLOOKUP(M221,漢字読み!$A$2:$O$506,6,0))","v":{"$error":"#N/A"}},{"$f":"IF(N221=\"\",\"\",VLOOKUP(N221,漢字読み!$A$2:$O$506,6,0))","v":{"$error":"#N/A"}},{"$f":"IF(O221=\"\",\"\",VLOOKUP(O221,漢字読み!$A$2:$O$506,6,0))","v":{"$error":"#N/A"}},{"$f":"IF(P221=\"\",\"\",VLOOKUP(P221,漢字読み!$A$2:$O$506,6,0))","v":{"$error":"#N/A"}},{"$f":"IF(Q221=\"\",\"\",VLOOKUP(Q221,漢字読み!$A$2:$O$506,6,0))","v":{"$error":"#N/A"}},{"$f":"IF(R221=\"\",\"\",VLOOKUP(R221,漢字読み!$A$2:$O$506,6,0))","v":{"$error":"#N/A"}},{"$f":"IF(S221=\"\",\"\",VLOOKUP(S221,漢字読み!$A$2:$O$506,6,0))","v":{"$error":"#N/A"}},{"$f":"IF(T221=\"\",\"\",VLOOKUP(T221,漢字読み!$A$2:$O$506,6,0))","v":{"$error":"#N/A"}},null,"級"]
[null,null,null,null,null,null,null,null,null,null,null,null,null,null,null,null,null,null,null,null,null,"名前"]
[{"$f":"IF(A221=\"\",\"\",IF(VLOOKUP(A221,漢字書き!$A$2:$N$502,7,0)=0,\"\",VLOOKUP(A221,漢字書き!$A$2:$N$502,7,0)))","v":{"$error":"#N/A"}},{"$f":"IF(B221=\"\",\"\",IF(VLOOKUP(B221,漢字書き!$A$2:$N$502,7,0)=0,\"\",VLOOKUP(B221,漢字書き!$A$2:$N$502,7,0)))","v":{"$error":"#N/A"}},{"$f":"IF(C221=\"\",\"\",IF(VLOOKUP(C221,漢字書き!$A$2:$N$502,7,0)=0,\"\",VLOOKUP(C221,漢字書き!$A$2:$N$502,7,0)))","v":{"$error":"#N/A"}},{"$f":"IF(D221=\"\",\"\",IF(VLOOKUP(D221,漢字書き!$A$2:$N$502,7,0)=0,\"\",VLOOKUP(D221,漢字書き!$A$2:$N$502,7,0)))","v":{"$error":"#N/A"}},{"$f":"IF(E221=\"\",\"\",IF(VLOOKUP(E221,漢字書き!$A$2:$N$502,7,0)=0,\"\",VLOOKUP(E221,漢字書き!$A$2:$N$502,7,0)))","v":{"$error":"#N/A"}},{"$f":"IF(F221=\"\",\"\",IF(VLOOKUP(F221,漢字書き!$A$2:$N$502,7,0)=0,\"\",VLOOKUP(F221,漢字書き!$A$2:$N$502,7,0)))","v":{"$error":"#N/A"}},{"$f":"IF(G221=\"\",\"\",IF(VLOOKUP(G221,漢字書き!$A$2:$N$502,7,0)=0,\"\",VLOOKUP(G221,漢字書き!$A$2:$N$502,7,0)))","v":{"$error":"#N/A"}},{"$f":"IF(H221=\"\",\"\",IF(VLOOKUP(H221,漢字書き!$A$2:$N$502,7,0)=0,\"\",VLOOKUP(H221,漢字書き!$A$2:$N$502,7,0)))","v":{"$error":"#N/A"}},{"$f":"IF(I221=\"\",\"\",IF(VLOOKUP(I221,漢字書き!$A$2:$N$502,7,0)=0,\"\",VLOOKUP(I221,漢字書き!$A$2:$N$502,7,0)))","v":{"$error":"#N/A"}},{"$f":"IF(J221=\"\",\"\",IF(VLOOKUP(J221,漢字書き!$A$2:$N$502,7,0)=0,\"\",VLOOKUP(J221,漢字書き!$A$2:$N$502,7,0)))","v":{"$error":"#N/A"}},{"$f":"IF(K221=\"\",\"\",IF(VLOOKUP(K221,漢字読み!$A$2:$O$502,7,0)=0,\"\",VLOOKUP(K221,漢字読み!$A$2:$O$502,7,0)))","v":""},{"$f":"IF(L221=\"\",\"\",IF(VLOOKUP(L221,漢字読み!$A$2:$O$502,7,0)=0,\"\",VLOOKUP(L221,漢字読み!$A$2:$O$502,7,0)))","v":"まれる"},{"$f":"IF(M221=\"\",\"\",IF(VLOOKUP(M221,漢字読み!$A$2:$O$502,7,0)=0,\"\",VLOOKUP(M221,漢字読み!$A$2:$O$502,7,0)))","v":{"$error":"#N/A"}},{"$f":"IF(N221=\"\",\"\",IF(VLOOKUP(N221,漢字読み!$A$2:$O$502,7,0)=0,\"\",VLOOKUP(N221,漢字読み!$A$2:$O$502,7,0)))","v":{"$error":"#N/A"}},{"$f":"IF(O221=\"\",\"\",IF(VLOOKUP(O221,漢字読み!$A$2:$O$502,7,0)=0,\"\",VLOOKUP(O221,漢字読み!$A$2:$O$502,7,0)))","v":{"$error":"#N/A"}},{"$f":"IF(P221=\"\",\"\",IF(VLOOKUP(P221,漢字読み!$A$2:$O$502,7,0)=0,\"\",VLOOKUP(P221,漢字読み!$A$2:$O$502,7,0)))","v":{"$error":"#N/A"}},{"$f":"IF(Q221=\"\",\"\",IF(VLOOKUP(Q221,漢字読み!$A$2:$O$502,7,0)=0,\"\",VLOOKUP(Q221,漢字読み!$A$2:$O$502,7,0)))","v":{"$error":"#N/A"}},{"$f":"IF(R221=\"\",\"\",IF(VLOOKUP(R221,漢字読み!$A$2:$O$502,7,0)=0,\"\",VLOOKUP(R221,漢字読み!$A$2:$O$502,7,0)))","v":{"$error":"#N/A"}},{"$f":"IF(S221=\"\",\"\",IF(VLOOKUP(S221,漢字読み!$A$2:$O$502,7,0)=0,\"\",VLOOKUP(S221,漢字読み!$A$2:$O$502,7,0)))","v":{"$error":"#N/A"}},{"$f":"IF(T221=\"\",\"\",IF(VLOOKUP(T221,漢字読み!$A$2:$O$502,7,0)=0,\"\",VLOOKUP(T221,漢字読み!$A$2:$O$502,7,0)))","v":{"$error":"#N/A"}},null,null,"和歌山県教育委員会"]
[{"$f":"INDIRECT(\"'関数（書き）'!C\" & COLUMN(B$1)+SUM($AD$2:$AD227))","v":0},{"$f":"INDIRECT(\"'関数（書き）'!C\" & COLUMN(C$1)+SUM($AD$2:$AD227))","v":0},{"$f":"INDIRECT(\"'関数（書き）'!C\" & COLUMN(D$1)+SUM($AD$2:$AD227))","v":0},{"$f":"INDIRECT(\"'関数（書き）'!C\" & COLUMN(E$1)+SUM($AD$2:$AD227))","v":0},{"$f":"INDIRECT(\"'関数（書き）'!C\" & COLUMN(F$1)+SUM($AD$2:$AD227))","v":0},{"$f":"INDIRECT(\"'関数（書き）'!C\" & COLUMN(G$1)+SUM($AD$2:$AD227))","v":0},{"$f":"INDIRECT(\"'関数（書き）'!C\" & COLUMN(H$1)+SUM($AD$2:$AD227))","v":0},{"$f":"INDIRECT(\"'関数（書き）'!C\" & COLUMN(I$1)+SUM($AD$2:$AD227))","v":0},{"$f":"INDIRECT(\"'関数（書き）'!C\" & COLUMN(J$1)+SUM($AD$2:$AD227))","v":0},{"$f":"INDIRECT(\"'関数（書き）'!C\" & COLUMN(K$1)+SUM($AD$2:$AD227))","v":0},{"$f":"INDIRECT(\"'関数（読み）'!C\" & COLUMN(B$1)+SUM($AD$2:$AD227))","v":0},{"$f":"INDIRECT(\"'関数（読み）'!C\" & COLUMN(C$1)+SUM($AD$2:$AD227))","v":0},{"$f":"INDIRECT(\"'関数（読み）'!C\" & COLUMN(D$1)+SUM($AD$2:$AD227))","v":0},{"$f":"INDIRECT(\"'関数（読み）'!C\" & COLUMN(E$1)+SUM($AD$2:$AD227))","v":0},{"$f":"INDIRECT(\"'関数（読み）'!C\" & COLUMN(F$1)+SUM($AD$2:$AD227))","v":0},{"$f":"INDIRECT(\"'関数（読み）'!C\" & COLUMN(G$1)+SUM($AD$2:$AD227))","v":0},{"$f":"INDIRECT(\"'関数（読み）'!C\" & COLUMN(H$1)+SUM($AD$2:$AD227))","v":0},{"$f":"INDIRECT(\"'関数（読み）'!C\" & COLUMN(I$1)+SUM($AD$2:$AD227))","v":0},{"$f":"INDIRECT(\"'関数（読み）'!C\" & COLUMN(J$1)+SUM($AD$2:$AD227))","v":0},{"$f":"INDIRECT(\"'関数（読み）'!C\" & COLUMN(K$1)+SUM($AD$2:$AD227))","v":0}]
["⑳","⑲","⑱","⑰","⑯","⑮","⑭","⑬","⑫","⑪","⑩","⑨","⑧","⑦","⑥","⑤","④","③","②","①","次の［　　　　］の部分の漢字には読みがなをひらがなで書き、カタカナは漢字に直しなさい。",10,"「漢字の博士検定試験」練習問題　",null,null,null,null,null,"←",10,"問",{"$f":"AH222+1","v":231},"～",{"$f":"SUM($AD$2:$AD227)+10","v":240},"問まで",{"$f":"COUNTIF($A$1:$T$200,T228)","v":0}]
[{"$f":"IF(A226=\"\",\"\",VLOOKUP(A226,漢字書き!$A$2:$N$506,6,0))","v":{"$error":"#N/A"}},{"$f":"IF(B226=\"\",\"\",VLOOKUP(B226,漢字書き!$A$2:$N$506,6,0))","v":{"$error":"#N/A"}},{"$f":"IF(C226=\"\",\"\",VLOOKUP(C226,漢字書き!$A$2:$N$506,6,0))","v":{"$error":"#N/A"}},{"$f":"IF(D226=\"\",\"\",VLOOKUP(D226,漢字書き!$A$2:$N$506,6,0))","v":{"$error":"#N/A"}},{"$f":"IF(E226=\"\",\"\",VLOOKUP(E226,漢字書き!$A$2:$N$506,6,0))","v":{"$error":"#N/A"}},{"$f":"IF(F226=\"\",\"\",VLOOKUP(F226,漢字書き!$A$2:$N$506,6,0))","v":{"$error":"#N/A"}},{"$f":"IF(G226=\"\",\"\",VLOOKUP(G226,漢字書き!$A$2:$N$506,6,0))","v":{"$error":"#N/A"}},{"$f":"IF(H226=\"\",\"\",VLOOKUP(H226,漢字書き!$A$2:$N$506,6,0))","v":{"$error":"#N/A"}},{"$f":"IF(I226=\"\",\"\",VLOOKUP(I226,漢字書き!$A$2:$N$506,6,0))","v":{"$error":"#N/A"}},{"$f":"IF(J226=\"\",\"\",VLOOKUP(J226,漢字書き!$A$2:$N$506,6,0))","v":{"$error":"#N/A"}},{"$f":"IF(K226=\"\",\"\",VLOOKUP(K226,漢字読み!$A$2:$O$506,6,0))","v":{"$error":"#N/A"}},{"$f":"IF(L226=\"\",\"\",VLOOKUP(L226,漢字読み!$A$2:$O$506,6,0))","v":{"$error":"#N/A"}},{"$f":"IF(M226=\"\",\"\",VLOOKUP(M226,漢字読み!$A$2:$O$506,6,0))","v":{"$error":"#N/A"}},{"$f":"IF(N226=\"\",\"\",VLOOKUP(N226,漢字読み!$A$2:$O$506,6,0))","v":{"$error":"#N/A"}},{"$f":"IF(O226=\"\",\"\",VLOOKUP(O226,漢字読み!$A$2:$O$506,6,0))","v":{"$error":"#N/A"}},{"$f":"IF(P226=\"\",\"\",VLOOKUP(P226,漢字読み!$A$2:$O$506,6,0))","v":{"$error":"#N/A"}},{"$f":"IF(Q226=\"\",\"\",VLOOKUP(Q226,漢字読み!$A$2:$O$506,6,0))","v":{"$error":"#N/A"}},{"$f":"IF(R226=\"\",\"\",VLOOKUP(R226,漢字読み!$A$2:$O$506,6,0))","v":{"$error":"#N/A"}},{"$f":"IF(S226=\"\",\"\",VLOOKUP(S226,漢字読み!$A$2:$O$506,6,0))","v":{"$error":"#N/A"}},{"$f":"IF(T226=\"\",\"\",VLOOKUP(T226,漢字読み!$A$2:$O$506,6,0))","v":{"$error":"#N/A"}},null,"級"]
[null,null,null,null,null,null,null,null,null,null,null,null,null,null,null,null,null,null,null,null,null,"名前"]
[{"$f":"IF(A226=\"\",\"\",IF(VLOOKUP(A226,漢字書き!$A$2:$N$502,7,0)=0,\"\",VLOOKUP(A226,漢字書き!$A$2:$N$502,7,0)))","v":{"$error":"#N/A"}},{"$f":"IF(B226=\"\",\"\",IF(VLOOKUP(B226,漢字書き!$A$2:$N$502,7,0)=0,\"\",VLOOKUP(B226,漢字書き!$A$2:$N$502,7,0)))","v":{"$error":"#N/A"}},{"$f":"IF(C226=\"\",\"\",IF(VLOOKUP(C226,漢字書き!$A$2:$N$502,7,0)=0,\"\",VLOOKUP(C226,漢字書き!$A$2:$N$502,7,0)))","v":{"$error":"#N/A"}},{"$f":"IF(D226=\"\",\"\",IF(VLOOKUP(D226,漢字書き!$A$2:$N$502,7,0)=0,\"\",VLOOKUP(D226,漢字書き!$A$2:$N$502,7,0)))","v":{"$error":"#N/A"}},{"$f":"IF(E226=\"\",\"\",IF(VLOOKUP(E226,漢字書き!$A$2:$N$502,7,0)=0,\"\",VLOOKUP(E226,漢字書き!$A$2:$N$502,7,0)))","v":{"$error":"#N/A"}},{"$f":"IF(F226=\"\",\"\",IF(VLOOKUP(F226,漢字書き!$A$2:$N$502,7,0)=0,\"\",VLOOKUP(F226,漢字書き!$A$2:$N$502,7,0)))","v":{"$error":"#N/A"}},{"$f":"IF(G226=\"\",\"\",IF(VLOOKUP(G226,漢字書き!$A$2:$N$502,7,0)=0,\"\",VLOOKUP(G226,漢字書き!$A$2:$N$502,7,0)))","v":{"$error":"#N/A"}},{"$f":"IF(H226=\"\",\"\",IF(VLOOKUP(H226,漢字書き!$A$2:$N$502,7,0)=0,\"\",VLOOKUP(H226,漢字書き!$A$2:$N$502,7,0)))","v":{"$error":"#N/A"}},{"$f":"IF(I226=\"\",\"\",IF(VLOOKUP(I226,漢字書き!$A$2:$N$502,7,0)=0,\"\",VLOOKUP(I226,漢字書き!$A$2:$N$502,7,0)))","v":{"$error":"#N/A"}},{"$f":"IF(J226=\"\",\"\",IF(VLOOKUP(J226,漢字書き!$A$2:$N$502,7,0)=0,\"\",VLOOKUP(J226,漢字書き!$A$2:$N$502,7,0)))","v":{"$error":"#N/A"}},{"$f":"IF(K226=\"\",\"\",IF(VLOOKUP(K226,漢字読み!$A$2:$O$502,7,0)=0,\"\",VLOOKUP(K226,漢字読み!$A$2:$O$502,7,0)))","v":{"$error":"#N/A"}},{"$f":"IF(L226=\"\",\"\",IF(VLOOKUP(L226,漢字読み!$A$2:$O$502,7,0)=0,\"\",VLOOKUP(L226,漢字読み!$A$2:$O$502,7,0)))","v":{"$error":"#N/A"}},{"$f":"IF(M226=\"\",\"\",IF(VLOOKUP(M226,漢字読み!$A$2:$O$502,7,0)=0,\"\",VLOOKUP(M226,漢字読み!$A$2:$O$502,7,0)))","v":{"$error":"#N/A"}},{"$f":"IF(N226=\"\",\"\",IF(VLOOKUP(N226,漢字読み!$A$2:$O$502,7,0)=0,\"\",VLOOKUP(N226,漢字読み!$A$2:$O$502,7,0)))","v":{"$error":"#N/A"}},{"$f":"IF(O226=\"\",\"\",IF(VLOOKUP(O226,漢字読み!$A$2:$O$502,7,0)=0,\"\",VLOOKUP(O226,漢字読み!$A$2:$O$502,7,0)))","v":{"$error":"#N/A"}},{"$f":"IF(P226=\"\",\"\",IF(VLOOKUP(P226,漢字読み!$A$2:$O$502,7,0)=0,\"\",VLOOKUP(P226,漢字読み!$A$2:$O$502,7,0)))","v":{"$error":"#N/A"}},{"$f":"IF(Q226=\"\",\"\",IF(VLOOKUP(Q226,漢字読み!$A$2:$O$502,7,0)=0,\"\",VLOOKUP(Q226,漢字読み!$A$2:$O$502,7,0)))","v":{"$error":"#N/A"}},{"$f":"IF(R226=\"\",\"\",IF(VLOOKUP(R226,漢字読み!$A$2:$O$502,7,0)=0,\"\",VLOOKUP(R226,漢字読み!$A$2:$O$502,7,0)))","v":{"$error":"#N/A"}},{"$f":"IF(S226=\"\",\"\",IF(VLOOKUP(S226,漢字読み!$A$2:$O$502,7,0)=0,\"\",VLOOKUP(S226,漢字読み!$A$2:$O$502,7,0)))","v":{"$error":"#N/A"}},{"$f":"IF(T226=\"\",\"\",IF(VLOOKUP(T226,漢字読み!$A$2:$O$502,7,0)=0,\"\",VLOOKUP(T226,漢字読み!$A$2:$O$502,7,0)))","v":{"$error":"#N/A"}},null,null,"和歌山県教育委員会"]
[{"$f":"A221","v":0},0,0,0,0,0,0,0,0,0,213,48,0,0,0,0,0,0,0,0]
["⑳","⑲","⑱","⑰","⑯","⑮","⑭","⑬","⑫","⑪","⑩","⑨","⑧","⑦","⑥","⑤","④","③","②","①","次の［　　　　］の部分の漢字には読みがなをひらがなで書き、カタカナは漢字に直しなさい。",10,"「漢字の博士検定試験」練習問題　"]
[{"$f":"IF(A231=\"\",\"\",VLOOKUP(A231,漢字書き!$A$2:$N$506,6,0))","v":{"$error":"#N/A"}},{"$f":"IF(B231=\"\",\"\",VLOOKUP(B231,漢字書き!$A$2:$N$506,6,0))","v":{"$error":"#N/A"}},{"$f":"IF(C231=\"\",\"\",VLOOKUP(C231,漢字書き!$A$2:$N$506,6,0))","v":{"$error":"#N/A"}},{"$f":"IF(D231=\"\",\"\",VLOOKUP(D231,漢字書き!$A$2:$N$506,6,0))","v":{"$error":"#N/A"}},{"$f":"IF(E231=\"\",\"\",VLOOKUP(E231,漢字書き!$A$2:$N$506,6,0))","v":{"$error":"#N/A"}},{"$f":"IF(F231=\"\",\"\",VLOOKUP(F231,漢字書き!$A$2:$N$506,6,0))","v":{"$error":"#N/A"}},{"$f":"IF(G231=\"\",\"\",VLOOKUP(G231,漢字書き!$A$2:$N$506,6,0))","v":{"$error":"#N/A"}},{"$f":"IF(H231=\"\",\"\",VLOOKUP(H231,漢字書き!$A$2:$N$506,6,0))","v":{"$error":"#N/A"}},{"$f":"IF(I231=\"\",\"\",VLOOKUP(I231,漢字書き!$A$2:$N$506,6,0))","v":{"$error":"#N/A"}},{"$f":"IF(J231=\"\",\"\",VLOOKUP(J231,漢字書き!$A$2:$N$506,6,0))","v":{"$error":"#N/A"}},{"$f":"IF(K231=\"\",\"\",VLOOKUP(K231,漢字読み!$A$2:$O$506,6,0))","v":"［海底］トンネル"},{"$f":"IF(L231=\"\",\"\",VLOOKUP(L231,漢字読み!$A$2:$O$506,6,0))","v":"人に［好］まれる"},{"$f":"IF(M231=\"\",\"\",VLOOKUP(M231,漢字読み!$A$2:$O$506,6,0))","v":{"$error":"#N/A"}},{"$f":"IF(N231=\"\",\"\",VLOOKUP(N231,漢字読み!$A$2:$O$506,6,0))","v":{"$error":"#N/A"}},{"$f":"IF(O231=\"\",\"\",VLOOKUP(O231,漢字読み!$A$2:$O$506,6,0))","v":{"$error":"#N/A"}},{"$f":"IF(P231=\"\",\"\",VLOOKUP(P231,漢字読み!$A$2:$O$506,6,0))","v":{"$error":"#N/A"}},{"$f":"IF(Q231=\"\",\"\",VLOOKUP(Q231,漢字読み!$A$2:$O$506,6,0))","v":{"$error":"#N/A"}},{"$f":"IF(R231=\"\",\"\",VLOOKUP(R231,漢字読み!$A$2:$O$506,6,0))","v":{"$error":"#N/A"}},{"$f":"IF(S231=\"\",\"\",VLOOKUP(S231,漢字読み!$A$2:$O$506,6,0))","v":{"$error":"#N/A"}},{"$f":"IF(T231=\"\",\"\",VLOOKUP(T231,漢字読み!$A$2:$O$506,6,0))","v":{"$error":"#N/A"}},null,"級"]
[{"$f":"IF(A$11=\"\",\"\",VLOOKUP(A231,漢字書き!$A$2:$O$506,8,0))","v":{"$error":"#N/A"}},{"$f":"IF(B$11=\"\",\"\",VLOOKUP(B231,漢字書き!$A$2:$O$506,8,0))","v":{"$error":"#N/A"}},{"$f":"IF(C$11=\"\",\"\",VLOOKUP(C231,漢字書き!$A$2:$O$506,8,0))","v":{"$error":"#N/A"}},{"$f":"IF(D$11=\"\",\"\",VLOOKUP(D231,漢字書き!$A$2:$O$506,8,0))","v":{"$error":"#N/A"}},{"$f":"IF(E$11=\"\",\"\",VLOOKUP(E231,漢字書き!$A$2:$O$506,8,0))","v":{"$error":"#N/A"}},{"$f":"IF(F$11=\"\",\"\",VLOOKUP(F231,漢字書き!$A$2:$O$506,8,0))","v":{"$error":"#N/A"}},{"$f":"IF(G$11=\"\",\"\",VLOOKUP(G231,漢字書き!$A$2:$O$506,8,0))","v":{"$error":"#N/A"}},{"$f":"IF(H$11=\"\",\"\",VLOOKUP(H231,漢字書き!$A$2:$O$506,8,0))","v":{"$error":"#N/A"}},{"$f":"IF(I$11=\"\",\"\",VLOOKUP(I231,漢字書き!$A$2:$O$506,8,0))","v":{"$error":"#N/A"}},{"$f":"IF(J$11=\"\",\"\",VLOOKUP(J231,漢字書き!$A$2:$O$506,8,0))","v":{"$error":"#N/A"}},{"$f":"IF(K$11=\"\",\"\",VLOOKUP(K231,漢字読み!$A$2:$O$506,8,0))","v":"かいてい"},{"$f":"IF(L$11=\"\",\"\",VLOOKUP(L231,漢字読み!$A$2:$O$506,8,0))","v":"この"},{"$f":"IF(M$11=\"\",\"\",VLOOKUP(M231,漢字読み!$A$2:$O$506,8,0))","v":{"$error":"#N/A"}},{"$f":"IF(N$11=\"\",\"\",VLOOKUP(N231,漢字読み!$A$2:$O$506,8,0))","v":{"$error":"#N/A"}},{"$f":"IF(O$11=\"\",\"\",VLOOKUP(O231,漢字読み!$A$2:$O$506,8,0))","v":{"$error":"#N/A"}},{"$f":"IF(P$11=\"\",\"\",VLOOKUP(P231,漢字読み!$A$2:$O$506,8,0))","v":{"$error":"#N/A"}},{"$f":"IF(Q$11=\"\",\"\",VLOOKUP(Q231,漢字読み!$A$2:$O$506,8,0))","v":{"$error":"#N/A"}},{"$f":"IF(R$11=\"\",\"\",VLOOKUP(R231,漢字読み!$A$2:$O$506,8,0))","v":{"$error":"#N/A"}},{"$f":"IF(S$11=\"\",\"\",VLOOKUP(S231,漢字読み!$A$2:$O$506,8,0))","v":{"$error":"#N/A"}},{"$f":"IF(T$11=\"\",\"\",VLOOKUP(T231,漢字読み!$A$2:$O$506,8,0))","v":{"$error":"#N/A"}},null,"名前"]
[{"$f":"IF(A231=\"\",\"\",IF(VLOOKUP(A231,漢字書き!$A$2:$N$502,7,0)=0,\"\",VLOOKUP(A231,漢字書き!$A$2:$N$502,7,0)))","v":{"$error":"#N/A"}},{"$f":"IF(B231=\"\",\"\",IF(VLOOKUP(B231,漢字書き!$A$2:$N$502,7,0)=0,\"\",VLOOKUP(B231,漢字書き!$A$2:$N$502,7,0)))","v":{"$error":"#N/A"}},{"$f":"IF(C231=\"\",\"\",IF(VLOOKUP(C231,漢字書き!$A$2:$N$502,7,0)=0,\"\",VLOOKUP(C231,漢字書き!$A$2:$N$502,7,0)))","v":{"$error":"#N/A"}},{"$f":"IF(D231=\"\",\"\",IF(VLOOKUP(D231,漢字書き!$A$2:$N$502,7,0)=0,\"\",VLOOKUP(D231,漢字書き!$A$2:$N$502,7,0)))","v":{"$error":"#N/A"}},{"$f":"IF(E231=\"\",\"\",IF(VLOOKUP(E231,漢字書き!$A$2:$N$502,7,0)=0,\"\",VLOOKUP(E231,漢字書き!$A$2:$N$502,7,0)))","v":{"$error":"#N/A"}},{"$f":"IF(F231=\"\",\"\",IF(VLOOKUP(F231,漢字書き!$A$2:$N$502,7,0)=0,\"\",VLOOKUP(F231,漢字書き!$A$2:$N$502,7,0)))","v":{"$error":"#N/A"}},{"$f":"IF(G231=\"\",\"\",IF(VLOOKUP(G231,漢字書き!$A$2:$N$502,7,0)=0,\"\",VLOOKUP(G231,漢字書き!$A$2:$N$502,7,0)))","v":{"$error":"#N/A"}},{"$f":"IF(H231=\"\",\"\",IF(VLOOKUP(H231,漢字書き!$A$2:$N$502,7,0)=0,\"\",VLOOKUP(H231,漢字書き!$A$2:$N$502,7,0)))","v":{"$error":"#N/A"}},{"$f":"IF(I231=\"\",\"\",IF(VLOOKUP(I231,漢字書き!$A$2:$N$502,7,0)=0,\"\",VLOOKUP(I231,漢字書き!$A$2:$N$502,7,0)))","v":{"$error":"#N/A"}},{"$f":"IF(J231=\"\",\"\",IF(VLOOKUP(J231,漢字書き!$A$2:$N$502,7,0)=0,\"\",VLOOKUP(J231,漢字書き!$A$2:$N$502,7,0)))","v":{"$error":"#N/A"}},{"$f":"IF(K231=\"\",\"\",IF(VLOOKUP(K231,漢字読み!$A$2:$O$502,7,0)=0,\"\",VLOOKUP(K231,漢字読み!$A$2:$O$502,7,0)))","v":""},{"$f":"IF(L231=\"\",\"\",IF(VLOOKUP(L231,漢字読み!$A$2:$O$502,7,0)=0,\"\",VLOOKUP(L231,漢字読み!$A$2:$O$502,7,0)))","v":"まれる"},{"$f":"IF(M231=\"\",\"\",IF(VLOOKUP(M231,漢字読み!$A$2:$O$502,7,0)=0,\"\",VLOOKUP(M231,漢字読み!$A$2:$O$502,7,0)))","v":{"$error":"#N/A"}},{"$f":"IF(N231=\"\",\"\",IF(VLOOKUP(N231,漢字読み!$A$2:$O$502,7,0)=0,\"\",VLOOKUP(N231,漢字読み!$A$2:$O$502,7,0)))","v":{"$error":"#N/A"}},{"$f":"IF(O231=\"\",\"\",IF(VLOOKUP(O231,漢字読み!$A$2:$O$502,7,0)=0,\"\",VLOOKUP(O231,漢字読み!$A$2:$O$502,7,0)))","v":{"$error":"#N/A"}},{"$f":"IF(P231=\"\",\"\",IF(VLOOKUP(P231,漢字読み!$A$2:$O$502,7,0)=0,\"\",VLOOKUP(P231,漢字読み!$A$2:$O$502,7,0)))","v":{"$error":"#N/A"}},{"$f":"IF(Q231=\"\",\"\",IF(VLOOKUP(Q231,漢字読み!$A$2:$O$502,7,0)=0,\"\",VLOOKUP(Q231,漢字読み!$A$2:$O$502,7,0)))","v":{"$error":"#N/A"}},{"$f":"IF(R231=\"\",\"\",IF(VLOOKUP(R231,漢字読み!$A$2:$O$502,7,0)=0,\"\",VLOOKUP(R231,漢字読み!$A$2:$O$502,7,0)))","v":{"$error":"#N/A"}},{"$f":"IF(S231=\"\",\"\",IF(VLOOKUP(S231,漢字読み!$A$2:$O$502,7,0)=0,\"\",VLOOKUP(S231,漢字読み!$A$2:$O$502,7,0)))","v":{"$error":"#N/A"}},{"$f":"IF(T231=\"\",\"\",IF(VLOOKUP(T231,漢字読み!$A$2:$O$502,7,0)=0,\"\",VLOOKUP(T231,漢字読み!$A$2:$O$502,7,0)))","v":{"$error":"#N/A"}},null,null,"和歌山県教育委員会"]
[{"$f":"A226","v":0},0,0,0,0,0,0,0,0,0,0,0,0,0,0,0,0,0,0,0]
["⑳","⑲","⑱","⑰","⑯","⑮","⑭","⑬","⑫","⑪","⑩","⑨","⑧","⑦","⑥","⑤","④","③","②","①","次の［　　　　］の部分の漢字には読みがなをひらがなで書き、カタカナは漢字に直しなさい。",10,"「漢字の博士検定試験」練習問題　"]
[{"$f":"IF(A236=\"\",\"\",VLOOKUP(A236,漢字書き!$A$2:$N$506,6,0))","v":{"$error":"#N/A"}},{"$f":"IF(B236=\"\",\"\",VLOOKUP(B236,漢字書き!$A$2:$N$506,6,0))","v":{"$error":"#N/A"}},{"$f":"IF(C236=\"\",\"\",VLOOKUP(C236,漢字書き!$A$2:$N$506,6,0))","v":{"$error":"#N/A"}},{"$f":"IF(D236=\"\",\"\",VLOOKUP(D236,漢字書き!$A$2:$N$506,6,0))","v":{"$error":"#N/A"}},{"$f":"IF(E236=\"\",\"\",VLOOKUP(E236,漢字書き!$A$2:$N$506,6,0))","v":{"$error":"#N/A"}},{"$f":"IF(F236=\"\",\"\",VLOOKUP(F236,漢字書き!$A$2:$N$506,6,0))","v":{"$error":"#N/A"}},{"$f":"IF(G236=\"\",\"\",VLOOKUP(G236,漢字書き!$A$2:$N$506,6,0))","v":{"$error":"#N/A"}},{"$f":"IF(H236=\"\",\"\",VLOOKUP(H236,漢字書き!$A$2:$N$506,6,0))","v":{"$error":"#N/A"}},{"$f":"IF(I236=\"\",\"\",VLOOKUP(I236,漢字書き!$A$2:$N$506,6,0))","v":{"$error":"#N/A"}},{"$f":"IF(J236=\"\",\"\",VLOOKUP(J236,漢字書き!$A$2:$N$506,6,0))","v":{"$error":"#N/A"}},{"$f":"IF(K236=\"\",\"\",VLOOKUP(K236,漢字読み!$A$2:$O$506,6,0))","v":{"$error":"#N/A"}},{"$f":"IF(L236=\"\",\"\",VLOOKUP(L236,漢字読み!$A$2:$O$506,6,0))","v":{"$error":"#N/A"}},{"$f":"IF(M236=\"\",\"\",VLOOKUP(M236,漢字読み!$A$2:$O$506,6,0))","v":{"$error":"#N/A"}},{"$f":"IF(N236=\"\",\"\",VLOOKUP(N236,漢字読み!$A$2:$O$506,6,0))","v":{"$error":"#N/A"}},{"$f":"IF(O236=\"\",\"\",VLOOKUP(O236,漢字読み!$A$2:$O$506,6,0))","v":{"$error":"#N/A"}},{"$f":"IF(P236=\"\",\"\",VLOOKUP(P236,漢字読み!$A$2:$O$506,6,0))","v":{"$error":"#N/A"}},{"$f":"IF(Q236=\"\",\"\",VLOOKUP(Q236,漢字読み!$A$2:$O$506,6,0))","v":{"$error":"#N/A"}},{"$f":"IF(R236=\"\",\"\",VLOOKUP(R236,漢字読み!$A$2:$O$506,6,0))","v":{"$error":"#N/A"}},{"$f":"IF(S236=\"\",\"\",VLOOKUP(S236,漢字読み!$A$2:$O$506,6,0))","v":{"$error":"#N/A"}},{"$f":"IF(T236=\"\",\"\",VLOOKUP(T236,漢字読み!$A$2:$O$506,6,0))","v":{"$error":"#N/A"}},null,"級"]
[{"$f":"IF(A$16=\"\",\"\",VLOOKUP(A236,漢字書き!$A$2:$O$506,8,0))","v":{"$error":"#N/A"}},{"$f":"IF(B$16=\"\",\"\",VLOOKUP(B236,漢字書き!$A$2:$O$506,8,0))","v":{"$error":"#N/A"}},{"$f":"IF(C$16=\"\",\"\",VLOOKUP(C236,漢字書き!$A$2:$O$506,8,0))","v":{"$error":"#N/A"}},{"$f":"IF(D$16=\"\",\"\",VLOOKUP(D236,漢字書き!$A$2:$O$506,8,0))","v":{"$error":"#N/A"}},{"$f":"IF(E$16=\"\",\"\",VLOOKUP(E236,漢字書き!$A$2:$O$506,8,0))","v":{"$error":"#N/A"}},{"$f":"IF(F$16=\"\",\"\",VLOOKUP(F236,漢字書き!$A$2:$O$506,8,0))","v":{"$error":"#N/A"}},{"$f":"IF(G$16=\"\",\"\",VLOOKUP(G236,漢字書き!$A$2:$O$506,8,0))","v":{"$error":"#N/A"}},{"$f":"IF(H$16=\"\",\"\",VLOOKUP(H236,漢字書き!$A$2:$O$506,8,0))","v":{"$error":"#N/A"}},{"$f":"IF(I$16=\"\",\"\",VLOOKUP(I236,漢字書き!$A$2:$O$506,8,0))","v":{"$error":"#N/A"}},{"$f":"IF(J$16=\"\",\"\",VLOOKUP(J236,漢字書き!$A$2:$O$506,8,0))","v":{"$error":"#N/A"}},{"$f":"IF(K$16=\"\",\"\",VLOOKUP(K236,漢字読み!$A$2:$O$506,8,0))","v":{"$error":"#N/A"}},{"$f":"IF(L$16=\"\",\"\",VLOOKUP(L236,漢字読み!$A$2:$O$506,8,0))","v":{"$error":"#N/A"}},{"$f":"IF(M$16=\"\",\"\",VLOOKUP(M236,漢字読み!$A$2:$O$506,8,0))","v":{"$error":"#N/A"}},{"$f":"IF(N$16=\"\",\"\",VLOOKUP(N236,漢字読み!$A$2:$O$506,8,0))","v":{"$error":"#N/A"}},{"$f":"IF(O$16=\"\",\"\",VLOOKUP(O236,漢字読み!$A$2:$O$506,8,0))","v":{"$error":"#N/A"}},{"$f":"IF(P$16=\"\",\"\",VLOOKUP(P236,漢字読み!$A$2:$O$506,8,0))","v":{"$error":"#N/A"}},{"$f":"IF(Q$16=\"\",\"\",VLOOKUP(Q236,漢字読み!$A$2:$O$506,8,0))","v":{"$error":"#N/A"}},{"$f":"IF(R$16=\"\",\"\",VLOOKUP(R236,漢字読み!$A$2:$O$506,8,0))","v":{"$error":"#N/A"}},{"$f":"IF(S$16=\"\",\"\",VLOOKUP(S236,漢字読み!$A$2:$O$506,8,0))","v":{"$error":"#N/A"}},{"$f":"IF(T$16=\"\",\"\",VLOOKUP(T236,漢字読み!$A$2:$O$506,8,0))","v":{"$error":"#N/A"}},null,"名前"]
[{"$f":"IF(A236=\"\",\"\",IF(VLOOKUP(A236,漢字書き!$A$2:$N$502,7,0)=0,\"\",VLOOKUP(A236,漢字書き!$A$2:$N$502,7,0)))","v":{"$error":"#N/A"}},{"$f":"IF(B236=\"\",\"\",IF(VLOOKUP(B236,漢字書き!$A$2:$N$502,7,0)=0,\"\",VLOOKUP(B236,漢字書き!$A$2:$N$502,7,0)))","v":{"$error":"#N/A"}},{"$f":"IF(C236=\"\",\"\",IF(VLOOKUP(C236,漢字書き!$A$2:$N$502,7,0)=0,\"\",VLOOKUP(C236,漢字書き!$A$2:$N$502,7,0)))","v":{"$error":"#N/A"}},{"$f":"IF(D236=\"\",\"\",IF(VLOOKUP(D236,漢字書き!$A$2:$N$502,7,0)=0,\"\",VLOOKUP(D236,漢字書き!$A$2:$N$502,7,0)))","v":{"$error":"#N/A"}},{"$f":"IF(E236=\"\",\"\",IF(VLOOKUP(E236,漢字書き!$A$2:$N$502,7,0)=0,\"\",VLOOKUP(E236,漢字書き!$A$2:$N$502,7,0)))","v":{"$error":"#N/A"}},{"$f":"IF(F236=\"\",\"\",IF(VLOOKUP(F236,漢字書き!$A$2:$N$502,7,0)=0,\"\",VLOOKUP(F236,漢字書き!$A$2:$N$502,7,0)))","v":{"$error":"#N/A"}},{"$f":"IF(G236=\"\",\"\",IF(VLOOKUP(G236,漢字書き!$A$2:$N$502,7,0)=0,\"\",VLOOKUP(G236,漢字書き!$A$2:$N$502,7,0)))","v":{"$error":"#N/A"}},{"$f":"IF(H236=\"\",\"\",IF(VLOOKUP(H236,漢字書き!$A$2:$N$502,7,0)=0,\"\",VLOOKUP(H236,漢字書き!$A$2:$N$502,7,0)))","v":{"$error":"#N/A"}},{"$f":"IF(I236=\"\",\"\",IF(VLOOKUP(I236,漢字書き!$A$2:$N$502,7,0)=0,\"\",VLOOKUP(I236,漢字書き!$A$2:$N$502,7,0)))","v":{"$error":"#N/A"}},{"$f":"IF(J236=\"\",\"\",IF(VLOOKUP(J236,漢字書き!$A$2:$N$502,7,0)=0,\"\",VLOOKUP(J236,漢字書き!$A$2:$N$502,7,0)))","v":{"$error":"#N/A"}},{"$f":"IF(K236=\"\",\"\",IF(VLOOKUP(K236,漢字読み!$A$2:$O$502,7,0)=0,\"\",VLOOKUP(K236,漢字読み!$A$2:$O$502,7,0)))","v":{"$error":"#N/A"}},{"$f":"IF(L236=\"\",\"\",IF(VLOOKUP(L236,漢字読み!$A$2:$O$502,7,0)=0,\"\",VLOOKUP(L236,漢字読み!$A$2:$O$502,7,0)))","v":{"$error":"#N/A"}},{"$f":"IF(M236=\"\",\"\",IF(VLOOKUP(M236,漢字読み!$A$2:$O$502,7,0)=0,\"\",VLOOKUP(M236,漢字読み!$A$2:$O$502,7,0)))","v":{"$error":"#N/A"}},{"$f":"IF(N236=\"\",\"\",IF(VLOOKUP(N236,漢字読み!$A$2:$O$502,7,0)=0,\"\",VLOOKUP(N236,漢字読み!$A$2:$O$502,7,0)))","v":{"$error":"#N/A"}},{"$f":"IF(O236=\"\",\"\",IF(VLOOKUP(O236,漢字読み!$A$2:$O$502,7,0)=0,\"\",VLOOKUP(O236,漢字読み!$A$2:$O$502,7,0)))","v":{"$error":"#N/A"}},{"$f":"IF(P236=\"\",\"\",IF(VLOOKUP(P236,漢字読み!$A$2:$O$502,7,0)=0,\"\",VLOOKUP(P236,漢字読み!$A$2:$O$502,7,0)))","v":{"$error":"#N/A"}},{"$f":"IF(Q236=\"\",\"\",IF(VLOOKUP(Q236,漢字読み!$A$2:$O$502,7,0)=0,\"\",VLOOKUP(Q236,漢字読み!$A$2:$O$502,7,0)))","v":{"$error":"#N/A"}},{"$f":"IF(R236=\"\",\"\",IF(VLOOKUP(R236,漢字読み!$A$2:$O$502,7,0)=0,\"\",VLOOKUP(R236,漢字読み!$A$2:$O$502,7,0)))","v":{"$error":"#N/A"}},{"$f":"IF(S236=\"\",\"\",IF(VLOOKUP(S236,漢字読み!$A$2:$O$502,7,0)=0,\"\",VLOOKUP(S236,漢字読み!$A$2:$O$502,7,0)))","v":{"$error":"#N/A"}},{"$f":"IF(T236=\"\",\"\",IF(VLOOKUP(T236,漢字読み!$A$2:$O$502,7,0)=0,\"\",VLOOKUP(T236,漢字読み!$A$2:$O$502,7,0)))","v":{"$error":"#N/A"}},null,null,"和歌山県教育委員会"]
[{"$f":"INDIRECT(\"'関数（書き）'!C\" & COLUMN(B$1)+SUM($AD$2:$AD242))","v":0},{"$f":"INDIRECT(\"'関数（書き）'!C\" & COLUMN(C$1)+SUM($AD$2:$AD242))","v":0},{"$f":"INDIRECT(\"'関数（書き）'!C\" & COLUMN(D$1)+SUM($AD$2:$AD242))","v":0},{"$f":"INDIRECT(\"'関数（書き）'!C\" & COLUMN(E$1)+SUM($AD$2:$AD242))","v":0},{"$f":"INDIRECT(\"'関数（書き）'!C\" & COLUMN(F$1)+SUM($AD$2:$AD242))","v":0},{"$f":"INDIRECT(\"'関数（書き）'!C\" & COLUMN(G$1)+SUM($AD$2:$AD242))","v":0},{"$f":"INDIRECT(\"'関数（書き）'!C\" & COLUMN(H$1)+SUM($AD$2:$AD242))","v":0},{"$f":"INDIRECT(\"'関数（書き）'!C\" & COLUMN(I$1)+SUM($AD$2:$AD242))","v":0},{"$f":"INDIRECT(\"'関数（書き）'!C\" & COLUMN(J$1)+SUM($AD$2:$AD242))","v":0},{"$f":"INDIRECT(\"'関数（書き）'!C\" & COLUMN(K$1)+SUM($AD$2:$AD242))","v":0},{"$f":"INDIRECT(\"'関数（読み）'!C\" & COLUMN(B$1)+SUM($AD$2:$AD242))","v":0},{"$f":"INDIRECT(\"'関数（読み）'!C\" & COLUMN(C$1)+SUM($AD$2:$AD242))","v":0},{"$f":"INDIRECT(\"'関数（読み）'!C\" & COLUMN(D$1)+SUM($AD$2:$AD242))","v":0},{"$f":"INDIRECT(\"'関数（読み）'!C\" & COLUMN(E$1)+SUM($AD$2:$AD242))","v":0},{"$f":"INDIRECT(\"'関数（読み）'!C\" & COLUMN(F$1)+SUM($AD$2:$AD242))","v":0},{"$f":"INDIRECT(\"'関数（読み）'!C\" & COLUMN(G$1)+SUM($AD$2:$AD242))","v":0},{"$f":"INDIRECT(\"'関数（読み）'!C\" & COLUMN(H$1)+SUM($AD$2:$AD242))","v":0},{"$f":"INDIRECT(\"'関数（読み）'!C\" & COLUMN(I$1)+SUM($AD$2:$AD242))","v":0},{"$f":"INDIRECT(\"'関数（読み）'!C\" & COLUMN(J$1)+SUM($AD$2:$AD242))","v":0},{"$f":"INDIRECT(\"'関数（読み）'!C\" & COLUMN(K$1)+SUM($AD$2:$AD242))","v":0}]
["⑳","⑲","⑱","⑰","⑯","⑮","⑭","⑬","⑫","⑪","⑩","⑨","⑧","⑦","⑥","⑤","④","③","②","①","次の［　　　　］の部分の漢字には読みがなをひらがなで書き、カタカナは漢字に直しなさい。",10,"「漢字の博士検定試験」練習問題　",null,null,null,null,null,"←",10,"問",{"$f":"AH227+1","v":241},"～",{"$f":"SUM($AD$2:$AD242)+10","v":250},"問まで",{"$f":"COUNTIF($A$1:$T$200,T243)","v":0}]
[{"$f":"IF(A241=\"\",\"\",VLOOKUP(A241,漢字書き!$A$2:$N$506,6,0))","v":{"$error":"#N/A"}},{"$f":"IF(B241=\"\",\"\",VLOOKUP(B241,漢字書き!$A$2:$N$506,6,0))","v":{"$error":"#N/A"}},{"$f":"IF(C241=\"\",\"\",VLOOKUP(C241,漢字書き!$A$2:$N$506,6,0))","v":{"$error":"#N/A"}},{"$f":"IF(D241=\"\",\"\",VLOOKUP(D241,漢字書き!$A$2:$N$506,6,0))","v":{"$error":"#N/A"}},{"$f":"IF(E241=\"\",\"\",VLOOKUP(E241,漢字書き!$A$2:$N$506,6,0))","v":{"$error":"#N/A"}},{"$f":"IF(F241=\"\",\"\",VLOOKUP(F241,漢字書き!$A$2:$N$506,6,0))","v":{"$error":"#N/A"}},{"$f":"IF(G241=\"\",\"\",VLOOKUP(G241,漢字書き!$A$2:$N$506,6,0))","v":{"$error":"#N/A"}},{"$f":"IF(H241=\"\",\"\",VLOOKUP(H241,漢字書き!$A$2:$N$506,6,0))","v":{"$error":"#N/A"}},{"$f":"IF(I241=\"\",\"\",VLOOKUP(I241,漢字書き!$A$2:$N$506,6,0))","v":{"$error":"#N/A"}},{"$f":"IF(J241=\"\",\"\",VLOOKUP(J241,漢字書き!$A$2:$N$506,6,0))","v":{"$error":"#N/A"}},{"$f":"IF(K241=\"\",\"\",VLOOKUP(K241,漢字読み!$A$2:$O$506,6,0))","v":{"$error":"#N/A"}},{"$f":"IF(L241=\"\",\"\",VLOOKUP(L241,漢字読み!$A$2:$O$506,6,0))","v":{"$error":"#N/A"}},{"$f":"IF(M241=\"\",\"\",VLOOKUP(M241,漢字読み!$A$2:$O$506,6,0))","v":{"$error":"#N/A"}},{"$f":"IF(N241=\"\",\"\",VLOOKUP(N241,漢字読み!$A$2:$O$506,6,0))","v":{"$error":"#N/A"}},{"$f":"IF(O241=\"\",\"\",VLOOKUP(O241,漢字読み!$A$2:$O$506,6,0))","v":{"$error":"#N/A"}},{"$f":"IF(P241=\"\",\"\",VLOOKUP(P241,漢字読み!$A$2:$O$506,6,0))","v":{"$error":"#N/A"}},{"$f":"IF(Q241=\"\",\"\",VLOOKUP(Q241,漢字読み!$A$2:$O$506,6,0))","v":{"$error":"#N/A"}},{"$f":"IF(R241=\"\",\"\",VLOOKUP(R241,漢字読み!$A$2:$O$506,6,0))","v":{"$error":"#N/A"}},{"$f":"IF(S241=\"\",\"\",VLOOKUP(S241,漢字読み!$A$2:$O$506,6,0))","v":{"$error":"#N/A"}},{"$f":"IF(T241=\"\",\"\",VLOOKUP(T241,漢字読み!$A$2:$O$506,6,0))","v":{"$error":"#N/A"}},null,"級"]
[null,null,null,null,null,null,null,null,null,null,null,null,null,null,null,null,null,null,null,null,null,"名前"]
[{"$f":"IF(A241=\"\",\"\",IF(VLOOKUP(A241,漢字書き!$A$2:$N$502,7,0)=0,\"\",VLOOKUP(A241,漢字書き!$A$2:$N$502,7,0)))","v":{"$error":"#N/A"}},{"$f":"IF(B241=\"\",\"\",IF(VLOOKUP(B241,漢字書き!$A$2:$N$502,7,0)=0,\"\",VLOOKUP(B241,漢字書き!$A$2:$N$502,7,0)))","v":{"$error":"#N/A"}},{"$f":"IF(C241=\"\",\"\",IF(VLOOKUP(C241,漢字書き!$A$2:$N$502,7,0)=0,\"\",VLOOKUP(C241,漢字書き!$A$2:$N$502,7,0)))","v":{"$error":"#N/A"}},{"$f":"IF(D241=\"\",\"\",IF(VLOOKUP(D241,漢字書き!$A$2:$N$502,7,0)=0,\"\",VLOOKUP(D241,漢字書き!$A$2:$N$502,7,0)))","v":{"$error":"#N/A"}},{"$f":"IF(E241=\"\",\"\",IF(VLOOKUP(E241,漢字書き!$A$2:$N$502,7,0)=0,\"\",VLOOKUP(E241,漢字書き!$A$2:$N$502,7,0)))","v":{"$error":"#N/A"}},{"$f":"IF(F241=\"\",\"\",IF(VLOOKUP(F241,漢字書き!$A$2:$N$502,7,0)=0,\"\",VLOOKUP(F241,漢字書き!$A$2:$N$502,7,0)))","v":{"$error":"#N/A"}},{"$f":"IF(G241=\"\",\"\",IF(VLOOKUP(G241,漢字書き!$A$2:$N$502,7,0)=0,\"\",VLOOKUP(G241,漢字書き!$A$2:$N$502,7,0)))","v":{"$error":"#N/A"}},{"$f":"IF(H241=\"\",\"\",IF(VLOOKUP(H241,漢字書き!$A$2:$N$502,7,0)=0,\"\",VLOOKUP(H241,漢字書き!$A$2:$N$502,7,0)))","v":{"$error":"#N/A"}},{"$f":"IF(I241=\"\",\"\",IF(VLOOKUP(I241,漢字書き!$A$2:$N$502,7,0)=0,\"\",VLOOKUP(I241,漢字書き!$A$2:$N$502,7,0)))","v":{"$error":"#N/A"}},{"$f":"IF(J241=\"\",\"\",IF(VLOOKUP(J241,漢字書き!$A$2:$N$502,7,0)=0,\"\",VLOOKUP(J241,漢字書き!$A$2:$N$502,7,0)))","v":{"$error":"#N/A"}},{"$f":"IF(K241=\"\",\"\",IF(VLOOKUP(K241,漢字読み!$A$2:$O$502,7,0)=0,\"\",VLOOKUP(K241,漢字読み!$A$2:$O$502,7,0)))","v":{"$error":"#N/A"}},{"$f":"IF(L241=\"\",\"\",IF(VLOOKUP(L241,漢字読み!$A$2:$O$502,7,0)=0,\"\",VLOOKUP(L241,漢字読み!$A$2:$O$502,7,0)))","v":{"$error":"#N/A"}},{"$f":"IF(M241=\"\",\"\",IF(VLOOKUP(M241,漢字読み!$A$2:$O$502,7,0)=0,\"\",VLOOKUP(M241,漢字読み!$A$2:$O$502,7,0)))","v":{"$error":"#N/A"}},{"$f":"IF(N241=\"\",\"\",IF(VLOOKUP(N241,漢字読み!$A$2:$O$502,7,0)=0,\"\",VLOOKUP(N241,漢字読み!$A$2:$O$502,7,0)))","v":{"$error":"#N/A"}},{"$f":"IF(O241=\"\",\"\",IF(VLOOKUP(O241,漢字読み!$A$2:$O$502,7,0)=0,\"\",VLOOKUP(O241,漢字読み!$A$2:$O$502,7,0)))","v":{"$error":"#N/A"}},{"$f":"IF(P241=\"\",\"\",IF(VLOOKUP(P241,漢字読み!$A$2:$O$502,7,0)=0,\"\",VLOOKUP(P241,漢字読み!$A$2:$O$502,7,0)))","v":{"$error":"#N/A"}},{"$f":"IF(Q241=\"\",\"\",IF(VLOOKUP(Q241,漢字読み!$A$2:$O$502,7,0)=0,\"\",VLOOKUP(Q241,漢字読み!$A$2:$O$502,7,0)))","v":{"$error":"#N/A"}},{"$f":"IF(R241=\"\",\"\",IF(VLOOKUP(R241,漢字読み!$A$2:$O$502,7,0)=0,\"\",VLOOKUP(R241,漢字読み!$A$2:$O$502,7,0)))","v":{"$error":"#N/A"}},{"$f":"IF(S241=\"\",\"\",IF(VLOOKUP(S241,漢字読み!$A$2:$O$502,7,0)=0,\"\",VLOOKUP(S241,漢字読み!$A$2:$O$502,7,0)))","v":{"$error":"#N/A"}},{"$f":"IF(T241=\"\",\"\",IF(VLOOKUP(T241,漢字読み!$A$2:$O$502,7,0)=0,\"\",VLOOKUP(T241,漢字読み!$A$2:$O$502,7,0)))","v":{"$error":"#N/A"}},null,null,"和歌山県教育委員会"]
[{"$f":"INDIRECT(\"'関数（書き）'!C\" & COLUMN(B$1)+SUM($AD$2:$AD247))","v":0},{"$f":"INDIRECT(\"'関数（書き）'!C\" & COLUMN(C$1)+SUM($AD$2:$AD247))","v":0},{"$f":"INDIRECT(\"'関数（書き）'!C\" & COLUMN(D$1)+SUM($AD$2:$AD247))","v":0},{"$f":"INDIRECT(\"'関数（書き）'!C\" & COLUMN(E$1)+SUM($AD$2:$AD247))","v":0},{"$f":"INDIRECT(\"'関数（書き）'!C\" & COLUMN(F$1)+SUM($AD$2:$AD247))","v":0},{"$f":"INDIRECT(\"'関数（書き）'!C\" & COLUMN(G$1)+SUM($AD$2:$AD247))","v":0},{"$f":"INDIRECT(\"'関数（書き）'!C\" & COLUMN(H$1)+SUM($AD$2:$AD247))","v":0},{"$f":"INDIRECT(\"'関数（書き）'!C\" & COLUMN(I$1)+SUM($AD$2:$AD247))","v":0},{"$f":"INDIRECT(\"'関数（書き）'!C\" & COLUMN(J$1)+SUM($AD$2:$AD247))","v":0},{"$f":"INDIRECT(\"'関数（書き）'!C\" & COLUMN(K$1)+SUM($AD$2:$AD247))","v":0},{"$f":"INDIRECT(\"'関数（読み）'!C\" & COLUMN(B$1)+SUM($AD$2:$AD247))","v":0},{"$f":"INDIRECT(\"'関数（読み）'!C\" & COLUMN(C$1)+SUM($AD$2:$AD247))","v":0},{"$f":"INDIRECT(\"'関数（読み）'!C\" & COLUMN(D$1)+SUM($AD$2:$AD247))","v":0},{"$f":"INDIRECT(\"'関数（読み）'!C\" & COLUMN(E$1)+SUM($AD$2:$AD247))","v":0},{"$f":"INDIRECT(\"'関数（読み）'!C\" & COLUMN(F$1)+SUM($AD$2:$AD247))","v":0},{"$f":"INDIRECT(\"'関数（読み）'!C\" & COLUMN(G$1)+SUM($AD$2:$AD247))","v":0},{"$f":"INDIRECT(\"'関数（読み）'!C\" & COLUMN(H$1)+SUM($AD$2:$AD247))","v":0},{"$f":"INDIRECT(\"'関数（読み）'!C\" & COLUMN(I$1)+SUM($AD$2:$AD247))","v":0},{"$f":"INDIRECT(\"'関数（読み）'!C\" & COLUMN(J$1)+SUM($AD$2:$AD247))","v":0},{"$f":"INDIRECT(\"'関数（読み）'!C\" & COLUMN(K$1)+SUM($AD$2:$AD247))","v":0}]
["⑳","⑲","⑱","⑰","⑯","⑮","⑭","⑬","⑫","⑪","⑩","⑨","⑧","⑦","⑥","⑤","④","③","②","①","次の［　　　　］の部分の漢字には読みがなをひらがなで書き、カタカナは漢字に直しなさい。",10,"「漢字の博士検定試験」練習問題　",null,null,null,null,null,"←",10,"問",{"$f":"AH242+1","v":251},"～",{"$f":"SUM($AD$2:$AD247)+10","v":260},"問まで",{"$f":"COUNTIF($A$1:$T$200,T248)","v":0}]
[{"$f":"IF(A246=\"\",\"\",VLOOKUP(A246,漢字書き!$A$2:$N$506,6,0))","v":{"$error":"#N/A"}},{"$f":"IF(B246=\"\",\"\",VLOOKUP(B246,漢字書き!$A$2:$N$506,6,0))","v":{"$error":"#N/A"}},{"$f":"IF(C246=\"\",\"\",VLOOKUP(C246,漢字書き!$A$2:$N$506,6,0))","v":{"$error":"#N/A"}},{"$f":"IF(D246=\"\",\"\",VLOOKUP(D246,漢字書き!$A$2:$N$506,6,0))","v":{"$error":"#N/A"}},{"$f":"IF(E246=\"\",\"\",VLOOKUP(E246,漢字書き!$A$2:$N$506,6,0))","v":{"$error":"#N/A"}},{"$f":"IF(F246=\"\",\"\",VLOOKUP(F246,漢字書き!$A$2:$N$506,6,0))","v":{"$error":"#N/A"}},{"$f":"IF(G246=\"\",\"\",VLOOKUP(G246,漢字書き!$A$2:$N$506,6,0))","v":{"$error":"#N/A"}},{"$f":"IF(H246=\"\",\"\",VLOOKUP(H246,漢字書き!$A$2:$N$506,6,0))","v":{"$error":"#N/A"}},{"$f":"IF(I246=\"\",\"\",VLOOKUP(I246,漢字書き!$A$2:$N$506,6,0))","v":{"$error":"#N/A"}},{"$f":"IF(J246=\"\",\"\",VLOOKUP(J246,漢字書き!$A$2:$N$506,6,0))","v":{"$error":"#N/A"}},{"$f":"IF(K246=\"\",\"\",VLOOKUP(K246,漢字読み!$A$2:$O$506,6,0))","v":{"$error":"#N/A"}},{"$f":"IF(L246=\"\",\"\",VLOOKUP(L246,漢字読み!$A$2:$O$506,6,0))","v":{"$error":"#N/A"}},{"$f":"IF(M246=\"\",\"\",VLOOKUP(M246,漢字読み!$A$2:$O$506,6,0))","v":{"$error":"#N/A"}},{"$f":"IF(N246=\"\",\"\",VLOOKUP(N246,漢字読み!$A$2:$O$506,6,0))","v":{"$error":"#N/A"}},{"$f":"IF(O246=\"\",\"\",VLOOKUP(O246,漢字読み!$A$2:$O$506,6,0))","v":{"$error":"#N/A"}},{"$f":"IF(P246=\"\",\"\",VLOOKUP(P246,漢字読み!$A$2:$O$506,6,0))","v":{"$error":"#N/A"}},{"$f":"IF(Q246=\"\",\"\",VLOOKUP(Q246,漢字読み!$A$2:$O$506,6,0))","v":{"$error":"#N/A"}},{"$f":"IF(R246=\"\",\"\",VLOOKUP(R246,漢字読み!$A$2:$O$506,6,0))","v":{"$error":"#N/A"}},{"$f":"IF(S246=\"\",\"\",VLOOKUP(S246,漢字読み!$A$2:$O$506,6,0))","v":{"$error":"#N/A"}},{"$f":"IF(T246=\"\",\"\",VLOOKUP(T246,漢字読み!$A$2:$O$506,6,0))","v":{"$error":"#N/A"}},null,"級"]
[null,null,null,null,null,null,null,null,null,null,null,null,null,null,null,null,null,null,null,null,null,"名前"]
[{"$f":"IF(A246=\"\",\"\",IF(VLOOKUP(A246,漢字書き!$A$2:$N$502,7,0)=0,\"\",VLOOKUP(A246,漢字書き!$A$2:$N$502,7,0)))","v":{"$error":"#N/A"}},{"$f":"IF(B246=\"\",\"\",IF(VLOOKUP(B246,漢字書き!$A$2:$N$502,7,0)=0,\"\",VLOOKUP(B246,漢字書き!$A$2:$N$502,7,0)))","v":{"$error":"#N/A"}},{"$f":"IF(C246=\"\",\"\",IF(VLOOKUP(C246,漢字書き!$A$2:$N$502,7,0)=0,\"\",VLOOKUP(C246,漢字書き!$A$2:$N$502,7,0)))","v":{"$error":"#N/A"}},{"$f":"IF(D246=\"\",\"\",IF(VLOOKUP(D246,漢字書き!$A$2:$N$502,7,0)=0,\"\",VLOOKUP(D246,漢字書き!$A$2:$N$502,7,0)))","v":{"$error":"#N/A"}},{"$f":"IF(E246=\"\",\"\",IF(VLOOKUP(E246,漢字書き!$A$2:$N$502,7,0)=0,\"\",VLOOKUP(E246,漢字書き!$A$2:$N$502,7,0)))","v":{"$error":"#N/A"}},{"$f":"IF(F246=\"\",\"\",IF(VLOOKUP(F246,漢字書き!$A$2:$N$502,7,0)=0,\"\",VLOOKUP(F246,漢字書き!$A$2:$N$502,7,0)))","v":{"$error":"#N/A"}},{"$f":"IF(G246=\"\",\"\",IF(VLOOKUP(G246,漢字書き!$A$2:$N$502,7,0)=0,\"\",VLOOKUP(G246,漢字書き!$A$2:$N$502,7,0)))","v":{"$error":"#N/A"}},{"$f":"IF(H246=\"\",\"\",IF(VLOOKUP(H246,漢字書き!$A$2:$N$502,7,0)=0,\"\",VLOOKUP(H246,漢字書き!$A$2:$N$502,7,0)))","v":{"$error":"#N/A"}},{"$f":"IF(I246=\"\",\"\",IF(VLOOKUP(I246,漢字書き!$A$2:$N$502,7,0)=0,\"\",VLOOKUP(I246,漢字書き!$A$2:$N$502,7,0)))","v":{"$error":"#N/A"}},{"$f":"IF(J246=\"\",\"\",IF(VLOOKUP(J246,漢字書き!$A$2:$N$502,7,0)=0,\"\",VLOOKUP(J246,漢字書き!$A$2:$N$502,7,0)))","v":{"$error":"#N/A"}},{"$f":"IF(K246=\"\",\"\",IF(VLOOKUP(K246,漢字読み!$A$2:$O$502,7,0)=0,\"\",VLOOKUP(K246,漢字読み!$A$2:$O$502,7,0)))","v":{"$error":"#N/A"}},{"$f":"IF(L246=\"\",\"\",IF(VLOOKUP(L246,漢字読み!$A$2:$O$502,7,0)=0,\"\",VLOOKUP(L246,漢字読み!$A$2:$O$502,7,0)))","v":{"$error":"#N/A"}},{"$f":"IF(M246=\"\",\"\",IF(VLOOKUP(M246,漢字読み!$A$2:$O$502,7,0)=0,\"\",VLOOKUP(M246,漢字読み!$A$2:$O$502,7,0)))","v":{"$error":"#N/A"}},{"$f":"IF(N246=\"\",\"\",IF(VLOOKUP(N246,漢字読み!$A$2:$O$502,7,0)=0,\"\",VLOOKUP(N246,漢字読み!$A$2:$O$502,7,0)))","v":{"$error":"#N/A"}},{"$f":"IF(O246=\"\",\"\",IF(VLOOKUP(O246,漢字読み!$A$2:$O$502,7,0)=0,\"\",VLOOKUP(O246,漢字読み!$A$2:$O$502,7,0)))","v":{"$error":"#N/A"}},{"$f":"IF(P246=\"\",\"\",IF(VLOOKUP(P246,漢字読み!$A$2:$O$502,7,0)=0,\"\",VLOOKUP(P246,漢字読み!$A$2:$O$502,7,0)))","v":{"$error":"#N/A"}},{"$f":"IF(Q246=\"\",\"\",IF(VLOOKUP(Q246,漢字読み!$A$2:$O$502,7,0)=0,\"\",VLOOKUP(Q246,漢字読み!$A$2:$O$502,7,0)))","v":{"$error":"#N/A"}},{"$f":"IF(R246=\"\",\"\",IF(VLOOKUP(R246,漢字読み!$A$2:$O$502,7,0)=0,\"\",VLOOKUP(R246,漢字読み!$A$2:$O$502,7,0)))","v":{"$error":"#N/A"}},{"$f":"IF(S246=\"\",\"\",IF(VLOOKUP(S246,漢字読み!$A$2:$O$502,7,0)=0,\"\",VLOOKUP(S246,漢字読み!$A$2:$O$502,7,0)))","v":{"$error":"#N/A"}},{"$f":"IF(T246=\"\",\"\",IF(VLOOKUP(T246,漢字読み!$A$2:$O$502,7,0)=0,\"\",VLOOKUP(T246,漢字読み!$A$2:$O$502,7,0)))","v":{"$error":"#N/A"}},null,null,"和歌山県教育委員会"]
[{"$f":"A241","v":0},0,0,0,0,0,0,0,0,0,0,0,0,0,0,0,0,0,0,0]
["⑳","⑲","⑱","⑰","⑯","⑮","⑭","⑬","⑫","⑪","⑩","⑨","⑧","⑦","⑥","⑤","④","③","②","①","次の［　　　　］の部分の漢字には読みがなをひらがなで書き、カタカナは漢字に直しなさい。",10,"「漢字の博士検定試験」練習問題　"]
[{"$f":"IF(A251=\"\",\"\",VLOOKUP(A251,漢字書き!$A$2:$N$506,6,0))","v":{"$error":"#N/A"}},{"$f":"IF(B251=\"\",\"\",VLOOKUP(B251,漢字書き!$A$2:$N$506,6,0))","v":{"$error":"#N/A"}},{"$f":"IF(C251=\"\",\"\",VLOOKUP(C251,漢字書き!$A$2:$N$506,6,0))","v":{"$error":"#N/A"}},{"$f":"IF(D251=\"\",\"\",VLOOKUP(D251,漢字書き!$A$2:$N$506,6,0))","v":{"$error":"#N/A"}},{"$f":"IF(E251=\"\",\"\",VLOOKUP(E251,漢字書き!$A$2:$N$506,6,0))","v":{"$error":"#N/A"}},{"$f":"IF(F251=\"\",\"\",VLOOKUP(F251,漢字書き!$A$2:$N$506,6,0))","v":{"$error":"#N/A"}},{"$f":"IF(G251=\"\",\"\",VLOOKUP(G251,漢字書き!$A$2:$N$506,6,0))","v":{"$error":"#N/A"}},{"$f":"IF(H251=\"\",\"\",VLOOKUP(H251,漢字書き!$A$2:$N$506,6,0))","v":{"$error":"#N/A"}},{"$f":"IF(I251=\"\",\"\",VLOOKUP(I251,漢字書き!$A$2:$N$506,6,0))","v":{"$error":"#N/A"}},{"$f":"IF(J251=\"\",\"\",VLOOKUP(J251,漢字書き!$A$2:$N$506,6,0))","v":{"$error":"#N/A"}},{"$f":"IF(K251=\"\",\"\",VLOOKUP(K251,漢字読み!$A$2:$O$506,6,0))","v":{"$error":"#N/A"}},{"$f":"IF(L251=\"\",\"\",VLOOKUP(L251,漢字読み!$A$2:$O$506,6,0))","v":{"$error":"#N/A"}},{"$f":"IF(M251=\"\",\"\",VLOOKUP(M251,漢字読み!$A$2:$O$506,6,0))","v":{"$error":"#N/A"}},{"$f":"IF(N251=\"\",\"\",VLOOKUP(N251,漢字読み!$A$2:$O$506,6,0))","v":{"$error":"#N/A"}},{"$f":"IF(O251=\"\",\"\",VLOOKUP(O251,漢字読み!$A$2:$O$506,6,0))","v":{"$error":"#N/A"}},{"$f":"IF(P251=\"\",\"\",VLOOKUP(P251,漢字読み!$A$2:$O$506,6,0))","v":{"$error":"#N/A"}},{"$f":"IF(Q251=\"\",\"\",VLOOKUP(Q251,漢字読み!$A$2:$O$506,6,0))","v":{"$error":"#N/A"}},{"$f":"IF(R251=\"\",\"\",VLOOKUP(R251,漢字読み!$A$2:$O$506,6,0))","v":{"$error":"#N/A"}},{"$f":"IF(S251=\"\",\"\",VLOOKUP(S251,漢字読み!$A$2:$O$506,6,0))","v":{"$error":"#N/A"}},{"$f":"IF(T251=\"\",\"\",VLOOKUP(T251,漢字読み!$A$2:$O$506,6,0))","v":{"$error":"#N/A"}},null,"級"]
[{"$f":"IF(A$11=\"\",\"\",VLOOKUP(A251,漢字書き!$A$2:$O$506,8,0))","v":{"$error":"#N/A"}},{"$f":"IF(B$11=\"\",\"\",VLOOKUP(B251,漢字書き!$A$2:$O$506,8,0))","v":{"$error":"#N/A"}},{"$f":"IF(C$11=\"\",\"\",VLOOKUP(C251,漢字書き!$A$2:$O$506,8,0))","v":{"$error":"#N/A"}},{"$f":"IF(D$11=\"\",\"\",VLOOKUP(D251,漢字書き!$A$2:$O$506,8,0))","v":{"$error":"#N/A"}},{"$f":"IF(E$11=\"\",\"\",VLOOKUP(E251,漢字書き!$A$2:$O$506,8,0))","v":{"$error":"#N/A"}},{"$f":"IF(F$11=\"\",\"\",VLOOKUP(F251,漢字書き!$A$2:$O$506,8,0))","v":{"$error":"#N/A"}},{"$f":"IF(G$11=\"\",\"\",VLOOKUP(G251,漢字書き!$A$2:$O$506,8,0))","v":{"$error":"#N/A"}},{"$f":"IF(H$11=\"\",\"\",VLOOKUP(H251,漢字書き!$A$2:$O$506,8,0))","v":{"$error":"#N/A"}},{"$f":"IF(I$11=\"\",\"\",VLOOKUP(I251,漢字書き!$A$2:$O$506,8,0))","v":{"$error":"#N/A"}},{"$f":"IF(J$11=\"\",\"\",VLOOKUP(J251,漢字書き!$A$2:$O$506,8,0))","v":{"$error":"#N/A"}},{"$f":"IF(K$11=\"\",\"\",VLOOKUP(K251,漢字読み!$A$2:$O$506,8,0))","v":{"$error":"#N/A"}},{"$f":"IF(L$11=\"\",\"\",VLOOKUP(L251,漢字読み!$A$2:$O$506,8,0))","v":{"$error":"#N/A"}},{"$f":"IF(M$11=\"\",\"\",VLOOKUP(M251,漢字読み!$A$2:$O$506,8,0))","v":{"$error":"#N/A"}},{"$f":"IF(N$11=\"\",\"\",VLOOKUP(N251,漢字読み!$A$2:$O$506,8,0))","v":{"$error":"#N/A"}},{"$f":"IF(O$11=\"\",\"\",VLOOKUP(O251,漢字読み!$A$2:$O$506,8,0))","v":{"$error":"#N/A"}},{"$f":"IF(P$11=\"\",\"\",VLOOKUP(P251,漢字読み!$A$2:$O$506,8,0))","v":{"$error":"#N/A"}},{"$f":"IF(Q$11=\"\",\"\",VLOOKUP(Q251,漢字読み!$A$2:$O$506,8,0))","v":{"$error":"#N/A"}},{"$f":"IF(R$11=\"\",\"\",VLOOKUP(R251,漢字読み!$A$2:$O$506,8,0))","v":{"$error":"#N/A"}},{"$f":"IF(S$11=\"\",\"\",VLOOKUP(S251,漢字読み!$A$2:$O$506,8,0))","v":{"$error":"#N/A"}},{"$f":"IF(T$11=\"\",\"\",VLOOKUP(T251,漢字読み!$A$2:$O$506,8,0))","v":{"$error":"#N/A"}},null,"名前"]
[{"$f":"IF(A251=\"\",\"\",IF(VLOOKUP(A251,漢字書き!$A$2:$N$502,7,0)=0,\"\",VLOOKUP(A251,漢字書き!$A$2:$N$502,7,0)))","v":{"$error":"#N/A"}},{"$f":"IF(B251=\"\",\"\",IF(VLOOKUP(B251,漢字書き!$A$2:$N$502,7,0)=0,\"\",VLOOKUP(B251,漢字書き!$A$2:$N$502,7,0)))","v":{"$error":"#N/A"}},{"$f":"IF(C251=\"\",\"\",IF(VLOOKUP(C251,漢字書き!$A$2:$N$502,7,0)=0,\"\",VLOOKUP(C251,漢字書き!$A$2:$N$502,7,0)))","v":{"$error":"#N/A"}},{"$f":"IF(D251=\"\",\"\",IF(VLOOKUP(D251,漢字書き!$A$2:$N$502,7,0)=0,\"\",VLOOKUP(D251,漢字書き!$A$2:$N$502,7,0)))","v":{"$error":"#N/A"}},{"$f":"IF(E251=\"\",\"\",IF(VLOOKUP(E251,漢字書き!$A$2:$N$502,7,0)=0,\"\",VLOOKUP(E251,漢字書き!$A$2:$N$502,7,0)))","v":{"$error":"#N/A"}},{"$f":"IF(F251=\"\",\"\",IF(VLOOKUP(F251,漢字書き!$A$2:$N$502,7,0)=0,\"\",VLOOKUP(F251,漢字書き!$A$2:$N$502,7,0)))","v":{"$error":"#N/A"}},{"$f":"IF(G251=\"\",\"\",IF(VLOOKUP(G251,漢字書き!$A$2:$N$502,7,0)=0,\"\",VLOOKUP(G251,漢字書き!$A$2:$N$502,7,0)))","v":{"$error":"#N/A"}},{"$f":"IF(H251=\"\",\"\",IF(VLOOKUP(H251,漢字書き!$A$2:$N$502,7,0)=0,\"\",VLOOKUP(H251,漢字書き!$A$2:$N$502,7,0)))","v":{"$error":"#N/A"}},{"$f":"IF(I251=\"\",\"\",IF(VLOOKUP(I251,漢字書き!$A$2:$N$502,7,0)=0,\"\",VLOOKUP(I251,漢字書き!$A$2:$N$502,7,0)))","v":{"$error":"#N/A"}},{"$f":"IF(J251=\"\",\"\",IF(VLOOKUP(J251,漢字書き!$A$2:$N$502,7,0)=0,\"\",VLOOKUP(J251,漢字書き!$A$2:$N$502,7,0)))","v":{"$error":"#N/A"}},{"$f":"IF(K251=\"\",\"\",IF(VLOOKUP(K251,漢字読み!$A$2:$O$502,7,0)=0,\"\",VLOOKUP(K251,漢字読み!$A$2:$O$502,7,0)))","v":{"$error":"#N/A"}},{"$f":"IF(L251=\"\",\"\",IF(VLOOKUP(L251,漢字読み!$A$2:$O$502,7,0)=0,\"\",VLOOKUP(L251,漢字読み!$A$2:$O$502,7,0)))","v":{"$error":"#N/A"}},{"$f":"IF(M251=\"\",\"\",IF(VLOOKUP(M251,漢字読み!$A$2:$O$502,7,0)=0,\"\",VLOOKUP(M251,漢字読み!$A$2:$O$502,7,0)))","v":{"$error":"#N/A"}},{"$f":"IF(N251=\"\",\"\",IF(VLOOKUP(N251,漢字読み!$A$2:$O$502,7,0)=0,\"\",VLOOKUP(N251,漢字読み!$A$2:$O$502,7,0)))","v":{"$error":"#N/A"}},{"$f":"IF(O251=\"\",\"\",IF(VLOOKUP(O251,漢字読み!$A$2:$O$502,7,0)=0,\"\",VLOOKUP(O251,漢字読み!$A$2:$O$502,7,0)))","v":{"$error":"#N/A"}},{"$f":"IF(P251=\"\",\"\",IF(VLOOKUP(P251,漢字読み!$A$2:$O$502,7,0)=0,\"\",VLOOKUP(P251,漢字読み!$A$2:$O$502,7,0)))","v":{"$error":"#N/A"}},{"$f":"IF(Q251=\"\",\"\",IF(VLOOKUP(Q251,漢字読み!$A$2:$O$502,7,0)=0,\"\",VLOOKUP(Q251,漢字読み!$A$2:$O$502,7,0)))","v":{"$error":"#N/A"}},{"$f":"IF(R251=\"\",\"\",IF(VLOOKUP(R251,漢字読み!$A$2:$O$502,7,0)=0,\"\",VLOOKUP(R251,漢字読み!$A$2:$O$502,7,0)))","v":{"$error":"#N/A"}},{"$f":"IF(S251=\"\",\"\",IF(VLOOKUP(S251,漢字読み!$A$2:$O$502,7,0)=0,\"\",VLOOKUP(S251,漢字読み!$A$2:$O$502,7,0)))","v":{"$error":"#N/A"}},{"$f":"IF(T251=\"\",\"\",IF(VLOOKUP(T251,漢字読み!$A$2:$O$502,7,0)=0,\"\",VLOOKUP(T251,漢字読み!$A$2:$O$502,7,0)))","v":{"$error":"#N/A"}},null,null,"和歌山県教育委員会"]
[{"$f":"A246","v":0},0,0,0,0,0,0,0,0,0,0,0,0,0,0,0,0,0,0,0]
["⑳","⑲","⑱","⑰","⑯","⑮","⑭","⑬","⑫","⑪","⑩","⑨","⑧","⑦","⑥","⑤","④","③","②","①","次の［　　　　］の部分の漢字には読みがなをひらがなで書き、カタカナは漢字に直しなさい。",10,"「漢字の博士検定試験」練習問題　"]
[{"$f":"IF(A256=\"\",\"\",VLOOKUP(A256,漢字書き!$A$2:$N$506,6,0))","v":{"$error":"#N/A"}},{"$f":"IF(B256=\"\",\"\",VLOOKUP(B256,漢字書き!$A$2:$N$506,6,0))","v":{"$error":"#N/A"}},{"$f":"IF(C256=\"\",\"\",VLOOKUP(C256,漢字書き!$A$2:$N$506,6,0))","v":{"$error":"#N/A"}},{"$f":"IF(D256=\"\",\"\",VLOOKUP(D256,漢字書き!$A$2:$N$506,6,0))","v":{"$error":"#N/A"}},{"$f":"IF(E256=\"\",\"\",VLOOKUP(E256,漢字書き!$A$2:$N$506,6,0))","v":{"$error":"#N/A"}},{"$f":"IF(F256=\"\",\"\",VLOOKUP(F256,漢字書き!$A$2:$N$506,6,0))","v":{"$error":"#N/A"}},{"$f":"IF(G256=\"\",\"\",VLOOKUP(G256,漢字書き!$A$2:$N$506,6,0))","v":{"$error":"#N/A"}},{"$f":"IF(H256=\"\",\"\",VLOOKUP(H256,漢字書き!$A$2:$N$506,6,0))","v":{"$error":"#N/A"}},{"$f":"IF(I256=\"\",\"\",VLOOKUP(I256,漢字書き!$A$2:$N$506,6,0))","v":{"$error":"#N/A"}},{"$f":"IF(J256=\"\",\"\",VLOOKUP(J256,漢字書き!$A$2:$N$506,6,0))","v":{"$error":"#N/A"}},{"$f":"IF(K256=\"\",\"\",VLOOKUP(K256,漢字読み!$A$2:$O$506,6,0))","v":{"$error":"#N/A"}},{"$f":"IF(L256=\"\",\"\",VLOOKUP(L256,漢字読み!$A$2:$O$506,6,0))","v":{"$error":"#N/A"}},{"$f":"IF(M256=\"\",\"\",VLOOKUP(M256,漢字読み!$A$2:$O$506,6,0))","v":{"$error":"#N/A"}},{"$f":"IF(N256=\"\",\"\",VLOOKUP(N256,漢字読み!$A$2:$O$506,6,0))","v":{"$error":"#N/A"}},{"$f":"IF(O256=\"\",\"\",VLOOKUP(O256,漢字読み!$A$2:$O$506,6,0))","v":{"$error":"#N/A"}},{"$f":"IF(P256=\"\",\"\",VLOOKUP(P256,漢字読み!$A$2:$O$506,6,0))","v":{"$error":"#N/A"}},{"$f":"IF(Q256=\"\",\"\",VLOOKUP(Q256,漢字読み!$A$2:$O$506,6,0))","v":{"$error":"#N/A"}},{"$f":"IF(R256=\"\",\"\",VLOOKUP(R256,漢字読み!$A$2:$O$506,6,0))","v":{"$error":"#N/A"}},{"$f":"IF(S256=\"\",\"\",VLOOKUP(S256,漢字読み!$A$2:$O$506,6,0))","v":{"$error":"#N/A"}},{"$f":"IF(T256=\"\",\"\",VLOOKUP(T256,漢字読み!$A$2:$O$506,6,0))","v":{"$error":"#N/A"}},null,"級"]
[{"$f":"IF(A$16=\"\",\"\",VLOOKUP(A256,漢字書き!$A$2:$O$506,8,0))","v":{"$error":"#N/A"}},{"$f":"IF(B$16=\"\",\"\",VLOOKUP(B256,漢字書き!$A$2:$O$506,8,0))","v":{"$error":"#N/A"}},{"$f":"IF(C$16=\"\",\"\",VLOOKUP(C256,漢字書き!$A$2:$O$506,8,0))","v":{"$error":"#N/A"}},{"$f":"IF(D$16=\"\",\"\",VLOOKUP(D256,漢字書き!$A$2:$O$506,8,0))","v":{"$error":"#N/A"}},{"$f":"IF(E$16=\"\",\"\",VLOOKUP(E256,漢字書き!$A$2:$O$506,8,0))","v":{"$error":"#N/A"}},{"$f":"IF(F$16=\"\",\"\",VLOOKUP(F256,漢字書き!$A$2:$O$506,8,0))","v":{"$error":"#N/A"}},{"$f":"IF(G$16=\"\",\"\",VLOOKUP(G256,漢字書き!$A$2:$O$506,8,0))","v":{"$error":"#N/A"}},{"$f":"IF(H$16=\"\",\"\",VLOOKUP(H256,漢字書き!$A$2:$O$506,8,0))","v":{"$error":"#N/A"}},{"$f":"IF(I$16=\"\",\"\",VLOOKUP(I256,漢字書き!$A$2:$O$506,8,0))","v":{"$error":"#N/A"}},{"$f":"IF(J$16=\"\",\"\",VLOOKUP(J256,漢字書き!$A$2:$O$506,8,0))","v":{"$error":"#N/A"}},{"$f":"IF(K$16=\"\",\"\",VLOOKUP(K256,漢字読み!$A$2:$O$506,8,0))","v":{"$error":"#N/A"}},{"$f":"IF(L$16=\"\",\"\",VLOOKUP(L256,漢字読み!$A$2:$O$506,8,0))","v":{"$error":"#N/A"}},{"$f":"IF(M$16=\"\",\"\",VLOOKUP(M256,漢字読み!$A$2:$O$506,8,0))","v":{"$error":"#N/A"}},{"$f":"IF(N$16=\"\",\"\",VLOOKUP(N256,漢字読み!$A$2:$O$506,8,0))","v":{"$error":"#N/A"}},{"$f":"IF(O$16=\"\",\"\",VLOOKUP(O256,漢字読み!$A$2:$O$506,8,0))","v":{"$error":"#N/A"}},{"$f":"IF(P$16=\"\",\"\",VLOOKUP(P256,漢字読み!$A$2:$O$506,8,0))","v":{"$error":"#N/A"}},{"$f":"IF(Q$16=\"\",\"\",VLOOKUP(Q256,漢字読み!$A$2:$O$506,8,0))","v":{"$error":"#N/A"}},{"$f":"IF(R$16=\"\",\"\",VLOOKUP(R256,漢字読み!$A$2:$O$506,8,0))","v":{"$error":"#N/A"}},{"$f":"IF(S$16=\"\",\"\",VLOOKUP(S256,漢字読み!$A$2:$O$506,8,0))","v":{"$error":"#N/A"}},{"$f":"IF(T$16=\"\",\"\",VLOOKUP(T256,漢字読み!$A$2:$O$506,8,0))","v":{"$error":"#N/A"}},null,"名前"]
[{"$f":"IF(A256=\"\",\"\",IF(VLOOKUP(A256,漢字書き!$A$2:$N$502,7,0)=0,\"\",VLOOKUP(A256,漢字書き!$A$2:$N$502,7,0)))","v":{"$error":"#N/A"}},{"$f":"IF(B256=\"\",\"\",IF(VLOOKUP(B256,漢字書き!$A$2:$N$502,7,0)=0,\"\",VLOOKUP(B256,漢字書き!$A$2:$N$502,7,0)))","v":{"$error":"#N/A"}},{"$f":"IF(C256=\"\",\"\",IF(VLOOKUP(C256,漢字書き!$A$2:$N$502,7,0)=0,\"\",VLOOKUP(C256,漢字書き!$A$2:$N$502,7,0)))","v":{"$error":"#N/A"}},{"$f":"IF(D256=\"\",\"\",IF(VLOOKUP(D256,漢字書き!$A$2:$N$502,7,0)=0,\"\",VLOOKUP(D256,漢字書き!$A$2:$N$502,7,0)))","v":{"$error":"#N/A"}},{"$f":"IF(E256=\"\",\"\",IF(VLOOKUP(E256,漢字書き!$A$2:$N$502,7,0)=0,\"\",VLOOKUP(E256,漢字書き!$A$2:$N$502,7,0)))","v":{"$error":"#N/A"}},{"$f":"IF(F256=\"\",\"\",IF(VLOOKUP(F256,漢字書き!$A$2:$N$502,7,0)=0,\"\",VLOOKUP(F256,漢字書き!$A$2:$N$502,7,0)))","v":{"$error":"#N/A"}},{"$f":"IF(G256=\"\",\"\",IF(VLOOKUP(G256,漢字書き!$A$2:$N$502,7,0)=0,\"\",VLOOKUP(G256,漢字書き!$A$2:$N$502,7,0)))","v":{"$error":"#N/A"}},{"$f":"IF(H256=\"\",\"\",IF(VLOOKUP(H256,漢字書き!$A$2:$N$502,7,0)=0,\"\",VLOOKUP(H256,漢字書き!$A$2:$N$502,7,0)))","v":{"$error":"#N/A"}},{"$f":"IF(I256=\"\",\"\",IF(VLOOKUP(I256,漢字書き!$A$2:$N$502,7,0)=0,\"\",VLOOKUP(I256,漢字書き!$A$2:$N$502,7,0)))","v":{"$error":"#N/A"}},{"$f":"IF(J256=\"\",\"\",IF(VLOOKUP(J256,漢字書き!$A$2:$N$502,7,0)=0,\"\",VLOOKUP(J256,漢字書き!$A$2:$N$502,7,0)))","v":{"$error":"#N/A"}},{"$f":"IF(K256=\"\",\"\",IF(VLOOKUP(K256,漢字読み!$A$2:$O$502,7,0)=0,\"\",VLOOKUP(K256,漢字読み!$A$2:$O$502,7,0)))","v":{"$error":"#N/A"}},{"$f":"IF(L256=\"\",\"\",IF(VLOOKUP(L256,漢字読み!$A$2:$O$502,7,0)=0,\"\",VLOOKUP(L256,漢字読み!$A$2:$O$502,7,0)))","v":{"$error":"#N/A"}},{"$f":"IF(M256=\"\",\"\",IF(VLOOKUP(M256,漢字読み!$A$2:$O$502,7,0)=0,\"\",VLOOKUP(M256,漢字読み!$A$2:$O$502,7,0)))","v":{"$error":"#N/A"}},{"$f":"IF(N256=\"\",\"\",IF(VLOOKUP(N256,漢字読み!$A$2:$O$502,7,0)=0,\"\",VLOOKUP(N256,漢字読み!$A$2:$O$502,7,0)))","v":{"$error":"#N/A"}},{"$f":"IF(O256=\"\",\"\",IF(VLOOKUP(O256,漢字読み!$A$2:$O$502,7,0)=0,\"\",VLOOKUP(O256,漢字読み!$A$2:$O$502,7,0)))","v":{"$error":"#N/A"}},{"$f":"IF(P256=\"\",\"\",IF(VLOOKUP(P256,漢字読み!$A$2:$O$502,7,0)=0,\"\",VLOOKUP(P256,漢字読み!$A$2:$O$502,7,0)))","v":{"$error":"#N/A"}},{"$f":"IF(Q256=\"\",\"\",IF(VLOOKUP(Q256,漢字読み!$A$2:$O$502,7,0)=0,\"\",VLOOKUP(Q256,漢字読み!$A$2:$O$502,7,0)))","v":{"$error":"#N/A"}},{"$f":"IF(R256=\"\",\"\",IF(VLOOKUP(R256,漢字読み!$A$2:$O$502,7,0)=0,\"\",VLOOKUP(R256,漢字読み!$A$2:$O$502,7,0)))","v":{"$error":"#N/A"}},{"$f":"IF(S256=\"\",\"\",IF(VLOOKUP(S256,漢字読み!$A$2:$O$502,7,0)=0,\"\",VLOOKUP(S256,漢字読み!$A$2:$O$502,7,0)))","v":{"$error":"#N/A"}},{"$f":"IF(T256=\"\",\"\",IF(VLOOKUP(T256,漢字読み!$A$2:$O$502,7,0)=0,\"\",VLOOKUP(T256,漢字読み!$A$2:$O$502,7,0)))","v":{"$error":"#N/A"}},null,null,"和歌山県教育委員会"]
[{"$f":"INDIRECT(\"'関数（書き）'!C\" & COLUMN(B$1)+SUM($AD$2:$AD262))","v":0},{"$f":"INDIRECT(\"'関数（書き）'!C\" & COLUMN(C$1)+SUM($AD$2:$AD262))","v":0},{"$f":"INDIRECT(\"'関数（書き）'!C\" & COLUMN(D$1)+SUM($AD$2:$AD262))","v":0},{"$f":"INDIRECT(\"'関数（書き）'!C\" & COLUMN(E$1)+SUM($AD$2:$AD262))","v":0},{"$f":"INDIRECT(\"'関数（書き）'!C\" & COLUMN(F$1)+SUM($AD$2:$AD262))","v":0},{"$f":"INDIRECT(\"'関数（書き）'!C\" & COLUMN(G$1)+SUM($AD$2:$AD262))","v":0},{"$f":"INDIRECT(\"'関数（書き）'!C\" & COLUMN(H$1)+SUM($AD$2:$AD262))","v":0},{"$f":"INDIRECT(\"'関数（書き）'!C\" & COLUMN(I$1)+SUM($AD$2:$AD262))","v":0},{"$f":"INDIRECT(\"'関数（書き）'!C\" & COLUMN(J$1)+SUM($AD$2:$AD262))","v":0},{"$f":"INDIRECT(\"'関数（書き）'!C\" & COLUMN(K$1)+SUM($AD$2:$AD262))","v":0},{"$f":"INDIRECT(\"'関数（読み）'!C\" & COLUMN(B$1)+SUM($AD$2:$AD262))","v":0},{"$f":"INDIRECT(\"'関数（読み）'!C\" & COLUMN(C$1)+SUM($AD$2:$AD262))","v":0},{"$f":"INDIRECT(\"'関数（読み）'!C\" & COLUMN(D$1)+SUM($AD$2:$AD262))","v":0},{"$f":"INDIRECT(\"'関数（読み）'!C\" & COLUMN(E$1)+SUM($AD$2:$AD262))","v":0},{"$f":"INDIRECT(\"'関数（読み）'!C\" & COLUMN(F$1)+SUM($AD$2:$AD262))","v":0},{"$f":"INDIRECT(\"'関数（読み）'!C\" & COLUMN(G$1)+SUM($AD$2:$AD262))","v":0},{"$f":"INDIRECT(\"'関数（読み）'!C\" & COLUMN(H$1)+SUM($AD$2:$AD262))","v":0},{"$f":"INDIRECT(\"'関数（読み）'!C\" & COLUMN(I$1)+SUM($AD$2:$AD262))","v":0},{"$f":"INDIRECT(\"'関数（読み）'!C\" & COLUMN(J$1)+SUM($AD$2:$AD262))","v":0},{"$f":"INDIRECT(\"'関数（読み）'!C\" & COLUMN(K$1)+SUM($AD$2:$AD262))","v":0}]
["⑳","⑲","⑱","⑰","⑯","⑮","⑭","⑬","⑫","⑪","⑩","⑨","⑧","⑦","⑥","⑤","④","③","②","①","次の［　　　　］の部分の漢字には読みがなをひらがなで書き、カタカナは漢字に直しなさい。",10,"「漢字の博士検定試験」練習問題　",null,null,null,null,null,"←",10,"問",{"$f":"AH247+1","v":261},"～",{"$f":"SUM($AD$2:$AD262)+10","v":270},"問まで",{"$f":"COUNTIF($A$1:$T$200,T263)","v":0}]
[{"$f":"IF(A261=\"\",\"\",VLOOKUP(A261,漢字書き!$A$2:$N$506,6,0))","v":{"$error":"#N/A"}},{"$f":"IF(B261=\"\",\"\",VLOOKUP(B261,漢字書き!$A$2:$N$506,6,0))","v":{"$error":"#N/A"}},{"$f":"IF(C261=\"\",\"\",VLOOKUP(C261,漢字書き!$A$2:$N$506,6,0))","v":{"$error":"#N/A"}},{"$f":"IF(D261=\"\",\"\",VLOOKUP(D261,漢字書き!$A$2:$N$506,6,0))","v":{"$error":"#N/A"}},{"$f":"IF(E261=\"\",\"\",VLOOKUP(E261,漢字書き!$A$2:$N$506,6,0))","v":{"$error":"#N/A"}},{"$f":"IF(F261=\"\",\"\",VLOOKUP(F261,漢字書き!$A$2:$N$506,6,0))","v":{"$error":"#N/A"}},{"$f":"IF(G261=\"\",\"\",VLOOKUP(G261,漢字書き!$A$2:$N$506,6,0))","v":{"$error":"#N/A"}},{"$f":"IF(H261=\"\",\"\",VLOOKUP(H261,漢字書き!$A$2:$N$506,6,0))","v":{"$error":"#N/A"}},{"$f":"IF(I261=\"\",\"\",VLOOKUP(I261,漢字書き!$A$2:$N$506,6,0))","v":{"$error":"#N/A"}},{"$f":"IF(J261=\"\",\"\",VLOOKUP(J261,漢字書き!$A$2:$N$506,6,0))","v":{"$error":"#N/A"}},{"$f":"IF(K261=\"\",\"\",VLOOKUP(K261,漢字読み!$A$2:$O$506,6,0))","v":{"$error":"#N/A"}},{"$f":"IF(L261=\"\",\"\",VLOOKUP(L261,漢字読み!$A$2:$O$506,6,0))","v":{"$error":"#N/A"}},{"$f":"IF(M261=\"\",\"\",VLOOKUP(M261,漢字読み!$A$2:$O$506,6,0))","v":{"$error":"#N/A"}},{"$f":"IF(N261=\"\",\"\",VLOOKUP(N261,漢字読み!$A$2:$O$506,6,0))","v":{"$error":"#N/A"}},{"$f":"IF(O261=\"\",\"\",VLOOKUP(O261,漢字読み!$A$2:$O$506,6,0))","v":{"$error":"#N/A"}},{"$f":"IF(P261=\"\",\"\",VLOOKUP(P261,漢字読み!$A$2:$O$506,6,0))","v":{"$error":"#N/A"}},{"$f":"IF(Q261=\"\",\"\",VLOOKUP(Q261,漢字読み!$A$2:$O$506,6,0))","v":{"$error":"#N/A"}},{"$f":"IF(R261=\"\",\"\",VLOOKUP(R261,漢字読み!$A$2:$O$506,6,0))","v":{"$error":"#N/A"}},{"$f":"IF(S261=\"\",\"\",VLOOKUP(S261,漢字読み!$A$2:$O$506,6,0))","v":{"$error":"#N/A"}},{"$f":"IF(T261=\"\",\"\",VLOOKUP(T261,漢字読み!$A$2:$O$506,6,0))","v":{"$error":"#N/A"}},null,"級"]
[null,null,null,null,null,null,null,null,null,null,null,null,null,null,null,null,null,null,null,null,null,"名前"]
[{"$f":"IF(A261=\"\",\"\",IF(VLOOKUP(A261,漢字書き!$A$2:$N$502,7,0)=0,\"\",VLOOKUP(A261,漢字書き!$A$2:$N$502,7,0)))","v":{"$error":"#N/A"}},{"$f":"IF(B261=\"\",\"\",IF(VLOOKUP(B261,漢字書き!$A$2:$N$502,7,0)=0,\"\",VLOOKUP(B261,漢字書き!$A$2:$N$502,7,0)))","v":{"$error":"#N/A"}},{"$f":"IF(C261=\"\",\"\",IF(VLOOKUP(C261,漢字書き!$A$2:$N$502,7,0)=0,\"\",VLOOKUP(C261,漢字書き!$A$2:$N$502,7,0)))","v":{"$error":"#N/A"}},{"$f":"IF(D261=\"\",\"\",IF(VLOOKUP(D261,漢字書き!$A$2:$N$502,7,0)=0,\"\",VLOOKUP(D261,漢字書き!$A$2:$N$502,7,0)))","v":{"$error":"#N/A"}},{"$f":"IF(E261=\"\",\"\",IF(VLOOKUP(E261,漢字書き!$A$2:$N$502,7,0)=0,\"\",VLOOKUP(E261,漢字書き!$A$2:$N$502,7,0)))","v":{"$error":"#N/A"}},{"$f":"IF(F261=\"\",\"\",IF(VLOOKUP(F261,漢字書き!$A$2:$N$502,7,0)=0,\"\",VLOOKUP(F261,漢字書き!$A$2:$N$502,7,0)))","v":{"$error":"#N/A"}},{"$f":"IF(G261=\"\",\"\",IF(VLOOKUP(G261,漢字書き!$A$2:$N$502,7,0)=0,\"\",VLOOKUP(G261,漢字書き!$A$2:$N$502,7,0)))","v":{"$error":"#N/A"}},{"$f":"IF(H261=\"\",\"\",IF(VLOOKUP(H261,漢字書き!$A$2:$N$502,7,0)=0,\"\",VLOOKUP(H261,漢字書き!$A$2:$N$502,7,0)))","v":{"$error":"#N/A"}},{"$f":"IF(I261=\"\",\"\",IF(VLOOKUP(I261,漢字書き!$A$2:$N$502,7,0)=0,\"\",VLOOKUP(I261,漢字書き!$A$2:$N$502,7,0)))","v":{"$error":"#N/A"}},{"$f":"IF(J261=\"\",\"\",IF(VLOOKUP(J261,漢字書き!$A$2:$N$502,7,0)=0,\"\",VLOOKUP(J261,漢字書き!$A$2:$N$502,7,0)))","v":{"$error":"#N/A"}},{"$f":"IF(K261=\"\",\"\",IF(VLOOKUP(K261,漢字読み!$A$2:$O$502,7,0)=0,\"\",VLOOKUP(K261,漢字読み!$A$2:$O$502,7,0)))","v":{"$error":"#N/A"}},{"$f":"IF(L261=\"\",\"\",IF(VLOOKUP(L261,漢字読み!$A$2:$O$502,7,0)=0,\"\",VLOOKUP(L261,漢字読み!$A$2:$O$502,7,0)))","v":{"$error":"#N/A"}},{"$f":"IF(M261=\"\",\"\",IF(VLOOKUP(M261,漢字読み!$A$2:$O$502,7,0)=0,\"\",VLOOKUP(M261,漢字読み!$A$2:$O$502,7,0)))","v":{"$error":"#N/A"}},{"$f":"IF(N261=\"\",\"\",IF(VLOOKUP(N261,漢字読み!$A$2:$O$502,7,0)=0,\"\",VLOOKUP(N261,漢字読み!$A$2:$O$502,7,0)))","v":{"$error":"#N/A"}},{"$f":"IF(O261=\"\",\"\",IF(VLOOKUP(O261,漢字読み!$A$2:$O$502,7,0)=0,\"\",VLOOKUP(O261,漢字読み!$A$2:$O$502,7,0)))","v":{"$error":"#N/A"}},{"$f":"IF(P261=\"\",\"\",IF(VLOOKUP(P261,漢字読み!$A$2:$O$502,7,0)=0,\"\",VLOOKUP(P261,漢字読み!$A$2:$O$502,7,0)))","v":{"$error":"#N/A"}},{"$f":"IF(Q261=\"\",\"\",IF(VLOOKUP(Q261,漢字読み!$A$2:$O$502,7,0)=0,\"\",VLOOKUP(Q261,漢字読み!$A$2:$O$502,7,0)))","v":{"$error":"#N/A"}},{"$f":"IF(R261=\"\",\"\",IF(VLOOKUP(R261,漢字読み!$A$2:$O$502,7,0)=0,\"\",VLOOKUP(R261,漢字読み!$A$2:$O$502,7,0)))","v":{"$error":"#N/A"}},{"$f":"IF(S261=\"\",\"\",IF(VLOOKUP(S261,漢字読み!$A$2:$O$502,7,0)=0,\"\",VLOOKUP(S261,漢字読み!$A$2:$O$502,7,0)))","v":{"$error":"#N/A"}},{"$f":"IF(T261=\"\",\"\",IF(VLOOKUP(T261,漢字読み!$A$2:$O$502,7,0)=0,\"\",VLOOKUP(T261,漢字読み!$A$2:$O$502,7,0)))","v":{"$error":"#N/A"}},null,null,"和歌山県教育委員会"]
[{"$f":"INDIRECT(\"'関数（書き）'!C\" & COLUMN(B$1)+SUM($AD$2:$AD267))","v":0},{"$f":"INDIRECT(\"'関数（書き）'!C\" & COLUMN(C$1)+SUM($AD$2:$AD267))","v":0},{"$f":"INDIRECT(\"'関数（書き）'!C\" & COLUMN(D$1)+SUM($AD$2:$AD267))","v":0},{"$f":"INDIRECT(\"'関数（書き）'!C\" & COLUMN(E$1)+SUM($AD$2:$AD267))","v":0},{"$f":"INDIRECT(\"'関数（書き）'!C\" & COLUMN(F$1)+SUM($AD$2:$AD267))","v":0},{"$f":"INDIRECT(\"'関数（書き）'!C\" & COLUMN(G$1)+SUM($AD$2:$AD267))","v":0},{"$f":"INDIRECT(\"'関数（書き）'!C\" & COLUMN(H$1)+SUM($AD$2:$AD267))","v":0},{"$f":"INDIRECT(\"'関数（書き）'!C\" & COLUMN(I$1)+SUM($AD$2:$AD267))","v":0},{"$f":"INDIRECT(\"'関数（書き）'!C\" & COLUMN(J$1)+SUM($AD$2:$AD267))","v":0},{"$f":"INDIRECT(\"'関数（書き）'!C\" & COLUMN(K$1)+SUM($AD$2:$AD267))","v":0},{"$f":"INDIRECT(\"'関数（読み）'!C\" & COLUMN(B$1)+SUM($AD$2:$AD267))","v":0},{"$f":"INDIRECT(\"'関数（読み）'!C\" & COLUMN(C$1)+SUM($AD$2:$AD267))","v":0},{"$f":"INDIRECT(\"'関数（読み）'!C\" & COLUMN(D$1)+SUM($AD$2:$AD267))","v":0},{"$f":"INDIRECT(\"'関数（読み）'!C\" & COLUMN(E$1)+SUM($AD$2:$AD267))","v":0},{"$f":"INDIRECT(\"'関数（読み）'!C\" & COLUMN(F$1)+SUM($AD$2:$AD267))","v":0},{"$f":"INDIRECT(\"'関数（読み）'!C\" & COLUMN(G$1)+SUM($AD$2:$AD267))","v":0},{"$f":"INDIRECT(\"'関数（読み）'!C\" & COLUMN(H$1)+SUM($AD$2:$AD267))","v":0},{"$f":"INDIRECT(\"'関数（読み）'!C\" & COLUMN(I$1)+SUM($AD$2:$AD267))","v":0},{"$f":"INDIRECT(\"'関数（読み）'!C\" & COLUMN(J$1)+SUM($AD$2:$AD267))","v":0},{"$f":"INDIRECT(\"'関数（読み）'!C\" & COLUMN(K$1)+SUM($AD$2:$AD267))","v":0}]
["⑳","⑲","⑱","⑰","⑯","⑮","⑭","⑬","⑫","⑪","⑩","⑨","⑧","⑦","⑥","⑤","④","③","②","①","次の［　　　　］の部分の漢字には読みがなをひらがなで書き、カタカナは漢字に直しなさい。",10,"「漢字の博士検定試験」練習問題　",null,null,null,null,null,"←",10,"問",{"$f":"AH262+1","v":271},"～",{"$f":"SUM($AD$2:$AD267)+10","v":280},"問まで",{"$f":"COUNTIF($A$1:$T$200,T268)","v":0}]
[{"$f":"IF(A266=\"\",\"\",VLOOKUP(A266,漢字書き!$A$2:$N$506,6,0))","v":{"$error":"#N/A"}},{"$f":"IF(B266=\"\",\"\",VLOOKUP(B266,漢字書き!$A$2:$N$506,6,0))","v":{"$error":"#N/A"}},{"$f":"IF(C266=\"\",\"\",VLOOKUP(C266,漢字書き!$A$2:$N$506,6,0))","v":{"$error":"#N/A"}},{"$f":"IF(D266=\"\",\"\",VLOOKUP(D266,漢字書き!$A$2:$N$506,6,0))","v":{"$error":"#N/A"}},{"$f":"IF(E266=\"\",\"\",VLOOKUP(E266,漢字書き!$A$2:$N$506,6,0))","v":{"$error":"#N/A"}},{"$f":"IF(F266=\"\",\"\",VLOOKUP(F266,漢字書き!$A$2:$N$506,6,0))","v":{"$error":"#N/A"}},{"$f":"IF(G266=\"\",\"\",VLOOKUP(G266,漢字書き!$A$2:$N$506,6,0))","v":{"$error":"#N/A"}},{"$f":"IF(H266=\"\",\"\",VLOOKUP(H266,漢字書き!$A$2:$N$506,6,0))","v":{"$error":"#N/A"}},{"$f":"IF(I266=\"\",\"\",VLOOKUP(I266,漢字書き!$A$2:$N$506,6,0))","v":{"$error":"#N/A"}},{"$f":"IF(J266=\"\",\"\",VLOOKUP(J266,漢字書き!$A$2:$N$506,6,0))","v":{"$error":"#N/A"}},{"$f":"IF(K266=\"\",\"\",VLOOKUP(K266,漢字読み!$A$2:$O$506,6,0))","v":{"$error":"#N/A"}},{"$f":"IF(L266=\"\",\"\",VLOOKUP(L266,漢字読み!$A$2:$O$506,6,0))","v":{"$error":"#N/A"}},{"$f":"IF(M266=\"\",\"\",VLOOKUP(M266,漢字読み!$A$2:$O$506,6,0))","v":{"$error":"#N/A"}},{"$f":"IF(N266=\"\",\"\",VLOOKUP(N266,漢字読み!$A$2:$O$506,6,0))","v":{"$error":"#N/A"}},{"$f":"IF(O266=\"\",\"\",VLOOKUP(O266,漢字読み!$A$2:$O$506,6,0))","v":{"$error":"#N/A"}},{"$f":"IF(P266=\"\",\"\",VLOOKUP(P266,漢字読み!$A$2:$O$506,6,0))","v":{"$error":"#N/A"}},{"$f":"IF(Q266=\"\",\"\",VLOOKUP(Q266,漢字読み!$A$2:$O$506,6,0))","v":{"$error":"#N/A"}},{"$f":"IF(R266=\"\",\"\",VLOOKUP(R266,漢字読み!$A$2:$O$506,6,0))","v":{"$error":"#N/A"}},{"$f":"IF(S266=\"\",\"\",VLOOKUP(S266,漢字読み!$A$2:$O$506,6,0))","v":{"$error":"#N/A"}},{"$f":"IF(T266=\"\",\"\",VLOOKUP(T266,漢字読み!$A$2:$O$506,6,0))","v":{"$error":"#N/A"}},null,"級"]
[null,null,null,null,null,null,null,null,null,null,null,null,null,null,null,null,null,null,null,null,null,"名前"]
[{"$f":"IF(A266=\"\",\"\",IF(VLOOKUP(A266,漢字書き!$A$2:$N$502,7,0)=0,\"\",VLOOKUP(A266,漢字書き!$A$2:$N$502,7,0)))","v":{"$error":"#N/A"}},{"$f":"IF(B266=\"\",\"\",IF(VLOOKUP(B266,漢字書き!$A$2:$N$502,7,0)=0,\"\",VLOOKUP(B266,漢字書き!$A$2:$N$502,7,0)))","v":{"$error":"#N/A"}},{"$f":"IF(C266=\"\",\"\",IF(VLOOKUP(C266,漢字書き!$A$2:$N$502,7,0)=0,\"\",VLOOKUP(C266,漢字書き!$A$2:$N$502,7,0)))","v":{"$error":"#N/A"}},{"$f":"IF(D266=\"\",\"\",IF(VLOOKUP(D266,漢字書き!$A$2:$N$502,7,0)=0,\"\",VLOOKUP(D266,漢字書き!$A$2:$N$502,7,0)))","v":{"$error":"#N/A"}},{"$f":"IF(E266=\"\",\"\",IF(VLOOKUP(E266,漢字書き!$A$2:$N$502,7,0)=0,\"\",VLOOKUP(E266,漢字書き!$A$2:$N$502,7,0)))","v":{"$error":"#N/A"}},{"$f":"IF(F266=\"\",\"\",IF(VLOOKUP(F266,漢字書き!$A$2:$N$502,7,0)=0,\"\",VLOOKUP(F266,漢字書き!$A$2:$N$502,7,0)))","v":{"$error":"#N/A"}},{"$f":"IF(G266=\"\",\"\",IF(VLOOKUP(G266,漢字書き!$A$2:$N$502,7,0)=0,\"\",VLOOKUP(G266,漢字書き!$A$2:$N$502,7,0)))","v":{"$error":"#N/A"}},{"$f":"IF(H266=\"\",\"\",IF(VLOOKUP(H266,漢字書き!$A$2:$N$502,7,0)=0,\"\",VLOOKUP(H266,漢字書き!$A$2:$N$502,7,0)))","v":{"$error":"#N/A"}},{"$f":"IF(I266=\"\",\"\",IF(VLOOKUP(I266,漢字書き!$A$2:$N$502,7,0)=0,\"\",VLOOKUP(I266,漢字書き!$A$2:$N$502,7,0)))","v":{"$error":"#N/A"}},{"$f":"IF(J266=\"\",\"\",IF(VLOOKUP(J266,漢字書き!$A$2:$N$502,7,0)=0,\"\",VLOOKUP(J266,漢字書き!$A$2:$N$502,7,0)))","v":{"$error":"#N/A"}},{"$f":"IF(K266=\"\",\"\",IF(VLOOKUP(K266,漢字読み!$A$2:$O$502,7,0)=0,\"\",VLOOKUP(K266,漢字読み!$A$2:$O$502,7,0)))","v":{"$error":"#N/A"}},{"$f":"IF(L266=\"\",\"\",IF(VLOOKUP(L266,漢字読み!$A$2:$O$502,7,0)=0,\"\",VLOOKUP(L266,漢字読み!$A$2:$O$502,7,0)))","v":{"$error":"#N/A"}},{"$f":"IF(M266=\"\",\"\",IF(VLOOKUP(M266,漢字読み!$A$2:$O$502,7,0)=0,\"\",VLOOKUP(M266,漢字読み!$A$2:$O$502,7,0)))","v":{"$error":"#N/A"}},{"$f":"IF(N266=\"\",\"\",IF(VLOOKUP(N266,漢字読み!$A$2:$O$502,7,0)=0,\"\",VLOOKUP(N266,漢字読み!$A$2:$O$502,7,0)))","v":{"$error":"#N/A"}},{"$f":"IF(O266=\"\",\"\",IF(VLOOKUP(O266,漢字読み!$A$2:$O$502,7,0)=0,\"\",VLOOKUP(O266,漢字読み!$A$2:$O$502,7,0)))","v":{"$error":"#N/A"}},{"$f":"IF(P266=\"\",\"\",IF(VLOOKUP(P266,漢字読み!$A$2:$O$502,7,0)=0,\"\",VLOOKUP(P266,漢字読み!$A$2:$O$502,7,0)))","v":{"$error":"#N/A"}},{"$f":"IF(Q266=\"\",\"\",IF(VLOOKUP(Q266,漢字読み!$A$2:$O$502,7,0)=0,\"\",VLOOKUP(Q266,漢字読み!$A$2:$O$502,7,0)))","v":{"$error":"#N/A"}},{"$f":"IF(R266=\"\",\"\",IF(VLOOKUP(R266,漢字読み!$A$2:$O$502,7,0)=0,\"\",VLOOKUP(R266,漢字読み!$A$2:$O$502,7,0)))","v":{"$error":"#N/A"}},{"$f":"IF(S266=\"\",\"\",IF(VLOOKUP(S266,漢字読み!$A$2:$O$502,7,0)=0,\"\",VLOOKUP(S266,漢字読み!$A$2:$O$502,7,0)))","v":{"$error":"#N/A"}},{"$f":"IF(T266=\"\",\"\",IF(VLOOKUP(T266,漢字読み!$A$2:$O$502,7,0)=0,\"\",VLOOKUP(T266,漢字読み!$A$2:$O$502,7,0)))","v":{"$error":"#N/A"}},null,null,"和歌山県教育委員会"]
[{"$f":"A261","v":0},0,0,0,0,0,0,0,0,0,0,0,0,0,0,0,0,0,0,0]
["⑳","⑲","⑱","⑰","⑯","⑮","⑭","⑬","⑫","⑪","⑩","⑨","⑧","⑦","⑥","⑤","④","③","②","①","次の［　　　　］の部分の漢字には読みがなをひらがなで書き、カタカナは漢字に直しなさい。",10,"「漢字の博士検定試験」練習問題　"]
[{"$f":"IF(A271=\"\",\"\",VLOOKUP(A271,漢字書き!$A$2:$N$506,6,0))","v":{"$error":"#N/A"}},{"$f":"IF(B271=\"\",\"\",VLOOKUP(B271,漢字書き!$A$2:$N$506,6,0))","v":{"$error":"#N/A"}},{"$f":"IF(C271=\"\",\"\",VLOOKUP(C271,漢字書き!$A$2:$N$506,6,0))","v":{"$error":"#N/A"}},{"$f":"IF(D271=\"\",\"\",VLOOKUP(D271,漢字書き!$A$2:$N$506,6,0))","v":{"$error":"#N/A"}},{"$f":"IF(E271=\"\",\"\",VLOOKUP(E271,漢字書き!$A$2:$N$506,6,0))","v":{"$error":"#N/A"}},{"$f":"IF(F271=\"\",\"\",VLOOKUP(F271,漢字書き!$A$2:$N$506,6,0))","v":{"$error":"#N/A"}},{"$f":"IF(G271=\"\",\"\",VLOOKUP(G271,漢字書き!$A$2:$N$506,6,0))","v":{"$error":"#N/A"}},{"$f":"IF(H271=\"\",\"\",VLOOKUP(H271,漢字書き!$A$2:$N$506,6,0))","v":{"$error":"#N/A"}},{"$f":"IF(I271=\"\",\"\",VLOOKUP(I271,漢字書き!$A$2:$N$506,6,0))","v":{"$error":"#N/A"}},{"$f":"IF(J271=\"\",\"\",VLOOKUP(J271,漢字書き!$A$2:$N$506,6,0))","v":{"$error":"#N/A"}},{"$f":"IF(K271=\"\",\"\",VLOOKUP(K271,漢字読み!$A$2:$O$506,6,0))","v":{"$error":"#N/A"}},{"$f":"IF(L271=\"\",\"\",VLOOKUP(L271,漢字読み!$A$2:$O$506,6,0))","v":{"$error":"#N/A"}},{"$f":"IF(M271=\"\",\"\",VLOOKUP(M271,漢字読み!$A$2:$O$506,6,0))","v":{"$error":"#N/A"}},{"$f":"IF(N271=\"\",\"\",VLOOKUP(N271,漢字読み!$A$2:$O$506,6,0))","v":{"$error":"#N/A"}},{"$f":"IF(O271=\"\",\"\",VLOOKUP(O271,漢字読み!$A$2:$O$506,6,0))","v":{"$error":"#N/A"}},{"$f":"IF(P271=\"\",\"\",VLOOKUP(P271,漢字読み!$A$2:$O$506,6,0))","v":{"$error":"#N/A"}},{"$f":"IF(Q271=\"\",\"\",VLOOKUP(Q271,漢字読み!$A$2:$O$506,6,0))","v":{"$error":"#N/A"}},{"$f":"IF(R271=\"\",\"\",VLOOKUP(R271,漢字読み!$A$2:$O$506,6,0))","v":{"$error":"#N/A"}},{"$f":"IF(S271=\"\",\"\",VLOOKUP(S271,漢字読み!$A$2:$O$506,6,0))","v":{"$error":"#N/A"}},{"$f":"IF(T271=\"\",\"\",VLOOKUP(T271,漢字読み!$A$2:$O$506,6,0))","v":{"$error":"#N/A"}},null,"級"]
[{"$f":"IF(A$11=\"\",\"\",VLOOKUP(A271,漢字書き!$A$2:$O$506,8,0))","v":{"$error":"#N/A"}},{"$f":"IF(B$11=\"\",\"\",VLOOKUP(B271,漢字書き!$A$2:$O$506,8,0))","v":{"$error":"#N/A"}},{"$f":"IF(C$11=\"\",\"\",VLOOKUP(C271,漢字書き!$A$2:$O$506,8,0))","v":{"$error":"#N/A"}},{"$f":"IF(D$11=\"\",\"\",VLOOKUP(D271,漢字書き!$A$2:$O$506,8,0))","v":{"$error":"#N/A"}},{"$f":"IF(E$11=\"\",\"\",VLOOKUP(E271,漢字書き!$A$2:$O$506,8,0))","v":{"$error":"#N/A"}},{"$f":"IF(F$11=\"\",\"\",VLOOKUP(F271,漢字書き!$A$2:$O$506,8,0))","v":{"$error":"#N/A"}},{"$f":"IF(G$11=\"\",\"\",VLOOKUP(G271,漢字書き!$A$2:$O$506,8,0))","v":{"$error":"#N/A"}},{"$f":"IF(H$11=\"\",\"\",VLOOKUP(H271,漢字書き!$A$2:$O$506,8,0))","v":{"$error":"#N/A"}},{"$f":"IF(I$11=\"\",\"\",VLOOKUP(I271,漢字書き!$A$2:$O$506,8,0))","v":{"$error":"#N/A"}},{"$f":"IF(J$11=\"\",\"\",VLOOKUP(J271,漢字書き!$A$2:$O$506,8,0))","v":{"$error":"#N/A"}},{"$f":"IF(K$11=\"\",\"\",VLOOKUP(K271,漢字読み!$A$2:$O$506,8,0))","v":{"$error":"#N/A"}},{"$f":"IF(L$11=\"\",\"\",VLOOKUP(L271,漢字読み!$A$2:$O$506,8,0))","v":{"$error":"#N/A"}},{"$f":"IF(M$11=\"\",\"\",VLOOKUP(M271,漢字読み!$A$2:$O$506,8,0))","v":{"$error":"#N/A"}},{"$f":"IF(N$11=\"\",\"\",VLOOKUP(N271,漢字読み!$A$2:$O$506,8,0))","v":{"$error":"#N/A"}},{"$f":"IF(O$11=\"\",\"\",VLOOKUP(O271,漢字読み!$A$2:$O$506,8,0))","v":{"$error":"#N/A"}},{"$f":"IF(P$11=\"\",\"\",VLOOKUP(P271,漢字読み!$A$2:$O$506,8,0))","v":{"$error":"#N/A"}},{"$f":"IF(Q$11=\"\",\"\",VLOOKUP(Q271,漢字読み!$A$2:$O$506,8,0))","v":{"$error":"#N/A"}},{"$f":"IF(R$11=\"\",\"\",VLOOKUP(R271,漢字読み!$A$2:$O$506,8,0))","v":{"$error":"#N/A"}},{"$f":"IF(S$11=\"\",\"\",VLOOKUP(S271,漢字読み!$A$2:$O$506,8,0))","v":{"$error":"#N/A"}},{"$f":"IF(T$11=\"\",\"\",VLOOKUP(T271,漢字読み!$A$2:$O$506,8,0))","v":{"$error":"#N/A"}},null,"名前"]
[{"$f":"IF(A271=\"\",\"\",IF(VLOOKUP(A271,漢字書き!$A$2:$N$502,7,0)=0,\"\",VLOOKUP(A271,漢字書き!$A$2:$N$502,7,0)))","v":{"$error":"#N/A"}},{"$f":"IF(B271=\"\",\"\",IF(VLOOKUP(B271,漢字書き!$A$2:$N$502,7,0)=0,\"\",VLOOKUP(B271,漢字書き!$A$2:$N$502,7,0)))","v":{"$error":"#N/A"}},{"$f":"IF(C271=\"\",\"\",IF(VLOOKUP(C271,漢字書き!$A$2:$N$502,7,0)=0,\"\",VLOOKUP(C271,漢字書き!$A$2:$N$502,7,0)))","v":{"$error":"#N/A"}},{"$f":"IF(D271=\"\",\"\",IF(VLOOKUP(D271,漢字書き!$A$2:$N$502,7,0)=0,\"\",VLOOKUP(D271,漢字書き!$A$2:$N$502,7,0)))","v":{"$error":"#N/A"}},{"$f":"IF(E271=\"\",\"\",IF(VLOOKUP(E271,漢字書き!$A$2:$N$502,7,0)=0,\"\",VLOOKUP(E271,漢字書き!$A$2:$N$502,7,0)))","v":{"$error":"#N/A"}},{"$f":"IF(F271=\"\",\"\",IF(VLOOKUP(F271,漢字書き!$A$2:$N$502,7,0)=0,\"\",VLOOKUP(F271,漢字書き!$A$2:$N$502,7,0)))","v":{"$error":"#N/A"}},{"$f":"IF(G271=\"\",\"\",IF(VLOOKUP(G271,漢字書き!$A$2:$N$502,7,0)=0,\"\",VLOOKUP(G271,漢字書き!$A$2:$N$502,7,0)))","v":{"$error":"#N/A"}},{"$f":"IF(H271=\"\",\"\",IF(VLOOKUP(H271,漢字書き!$A$2:$N$502,7,0)=0,\"\",VLOOKUP(H271,漢字書き!$A$2:$N$502,7,0)))","v":{"$error":"#N/A"}},{"$f":"IF(I271=\"\",\"\",IF(VLOOKUP(I271,漢字書き!$A$2:$N$502,7,0)=0,\"\",VLOOKUP(I271,漢字書き!$A$2:$N$502,7,0)))","v":{"$error":"#N/A"}},{"$f":"IF(J271=\"\",\"\",IF(VLOOKUP(J271,漢字書き!$A$2:$N$502,7,0)=0,\"\",VLOOKUP(J271,漢字書き!$A$2:$N$502,7,0)))","v":{"$error":"#N/A"}},{"$f":"IF(K271=\"\",\"\",IF(VLOOKUP(K271,漢字読み!$A$2:$O$502,7,0)=0,\"\",VLOOKUP(K271,漢字読み!$A$2:$O$502,7,0)))","v":{"$error":"#N/A"}},{"$f":"IF(L271=\"\",\"\",IF(VLOOKUP(L271,漢字読み!$A$2:$O$502,7,0)=0,\"\",VLOOKUP(L271,漢字読み!$A$2:$O$502,7,0)))","v":{"$error":"#N/A"}},{"$f":"IF(M271=\"\",\"\",IF(VLOOKUP(M271,漢字読み!$A$2:$O$502,7,0)=0,\"\",VLOOKUP(M271,漢字読み!$A$2:$O$502,7,0)))","v":{"$error":"#N/A"}},{"$f":"IF(N271=\"\",\"\",IF(VLOOKUP(N271,漢字読み!$A$2:$O$502,7,0)=0,\"\",VLOOKUP(N271,漢字読み!$A$2:$O$502,7,0)))","v":{"$error":"#N/A"}},{"$f":"IF(O271=\"\",\"\",IF(VLOOKUP(O271,漢字読み!$A$2:$O$502,7,0)=0,\"\",VLOOKUP(O271,漢字読み!$A$2:$O$502,7,0)))","v":{"$error":"#N/A"}},{"$f":"IF(P271=\"\",\"\",IF(VLOOKUP(P271,漢字読み!$A$2:$O$502,7,0)=0,\"\",VLOOKUP(P271,漢字読み!$A$2:$O$502,7,0)))","v":{"$error":"#N/A"}},{"$f":"IF(Q271=\"\",\"\",IF(VLOOKUP(Q271,漢字読み!$A$2:$O$502,7,0)=0,\"\",VLOOKUP(Q271,漢字読み!$A$2:$O$502,7,0)))","v":{"$error":"#N/A"}},{"$f":"IF(R271=\"\",\"\",IF(VLOOKUP(R271,漢字読み!$A$2:$O$502,7,0)=0,\"\",VLOOKUP(R271,漢字読み!$A$2:$O$502,7,0)))","v":{"$error":"#N/A"}},{"$f":"IF(S271=\"\",\"\",IF(VLOOKUP(S271,漢字読み!$A$2:$O$502,7,0)=0,\"\",VLOOKUP(S271,漢字読み!$A$2:$O$502,7,0)))","v":{"$error":"#N/A"}},{"$f":"IF(T271=\"\",\"\",IF(VLOOKUP(T271,漢字読み!$A$2:$O$502,7,0)=0,\"\",VLOOKUP(T271,漢字読み!$A$2:$O$502,7,0)))","v":{"$error":"#N/A"}},null,null,"和歌山県教育委員会"]
[{"$f":"A266","v":0},0,0,0,0,0,0,0,0,0,0,0,0,0,0,0,0,0,0,0]
["⑳","⑲","⑱","⑰","⑯","⑮","⑭","⑬","⑫","⑪","⑩","⑨","⑧","⑦","⑥","⑤","④","③","②","①","次の［　　　　］の部分の漢字には読みがなをひらがなで書き、カタカナは漢字に直しなさい。",10,"「漢字の博士検定試験」練習問題　"]
[{"$f":"IF(A276=\"\",\"\",VLOOKUP(A276,漢字書き!$A$2:$N$506,6,0))","v":{"$error":"#N/A"}},{"$f":"IF(B276=\"\",\"\",VLOOKUP(B276,漢字書き!$A$2:$N$506,6,0))","v":{"$error":"#N/A"}},{"$f":"IF(C276=\"\",\"\",VLOOKUP(C276,漢字書き!$A$2:$N$506,6,0))","v":{"$error":"#N/A"}},{"$f":"IF(D276=\"\",\"\",VLOOKUP(D276,漢字書き!$A$2:$N$506,6,0))","v":{"$error":"#N/A"}},{"$f":"IF(E276=\"\",\"\",VLOOKUP(E276,漢字書き!$A$2:$N$506,6,0))","v":{"$error":"#N/A"}},{"$f":"IF(F276=\"\",\"\",VLOOKUP(F276,漢字書き!$A$2:$N$506,6,0))","v":{"$error":"#N/A"}},{"$f":"IF(G276=\"\",\"\",VLOOKUP(G276,漢字書き!$A$2:$N$506,6,0))","v":{"$error":"#N/A"}},{"$f":"IF(H276=\"\",\"\",VLOOKUP(H276,漢字書き!$A$2:$N$506,6,0))","v":{"$error":"#N/A"}},{"$f":"IF(I276=\"\",\"\",VLOOKUP(I276,漢字書き!$A$2:$N$506,6,0))","v":{"$error":"#N/A"}},{"$f":"IF(J276=\"\",\"\",VLOOKUP(J276,漢字書き!$A$2:$N$506,6,0))","v":{"$error":"#N/A"}},{"$f":"IF(K276=\"\",\"\",VLOOKUP(K276,漢字読み!$A$2:$O$506,6,0))","v":{"$error":"#N/A"}},{"$f":"IF(L276=\"\",\"\",VLOOKUP(L276,漢字読み!$A$2:$O$506,6,0))","v":{"$error":"#N/A"}},{"$f":"IF(M276=\"\",\"\",VLOOKUP(M276,漢字読み!$A$2:$O$506,6,0))","v":{"$error":"#N/A"}},{"$f":"IF(N276=\"\",\"\",VLOOKUP(N276,漢字読み!$A$2:$O$506,6,0))","v":{"$error":"#N/A"}},{"$f":"IF(O276=\"\",\"\",VLOOKUP(O276,漢字読み!$A$2:$O$506,6,0))","v":{"$error":"#N/A"}},{"$f":"IF(P276=\"\",\"\",VLOOKUP(P276,漢字読み!$A$2:$O$506,6,0))","v":{"$error":"#N/A"}},{"$f":"IF(Q276=\"\",\"\",VLOOKUP(Q276,漢字読み!$A$2:$O$506,6,0))","v":{"$error":"#N/A"}},{"$f":"IF(R276=\"\",\"\",VLOOKUP(R276,漢字読み!$A$2:$O$506,6,0))","v":{"$error":"#N/A"}},{"$f":"IF(S276=\"\",\"\",VLOOKUP(S276,漢字読み!$A$2:$O$506,6,0))","v":{"$error":"#N/A"}},{"$f":"IF(T276=\"\",\"\",VLOOKUP(T276,漢字読み!$A$2:$O$506,6,0))","v":{"$error":"#N/A"}},null,"級"]
[{"$f":"IF(A$16=\"\",\"\",VLOOKUP(A276,漢字書き!$A$2:$O$506,8,0))","v":{"$error":"#N/A"}},{"$f":"IF(B$16=\"\",\"\",VLOOKUP(B276,漢字書き!$A$2:$O$506,8,0))","v":{"$error":"#N/A"}},{"$f":"IF(C$16=\"\",\"\",VLOOKUP(C276,漢字書き!$A$2:$O$506,8,0))","v":{"$error":"#N/A"}},{"$f":"IF(D$16=\"\",\"\",VLOOKUP(D276,漢字書き!$A$2:$O$506,8,0))","v":{"$error":"#N/A"}},{"$f":"IF(E$16=\"\",\"\",VLOOKUP(E276,漢字書き!$A$2:$O$506,8,0))","v":{"$error":"#N/A"}},{"$f":"IF(F$16=\"\",\"\",VLOOKUP(F276,漢字書き!$A$2:$O$506,8,0))","v":{"$error":"#N/A"}},{"$f":"IF(G$16=\"\",\"\",VLOOKUP(G276,漢字書き!$A$2:$O$506,8,0))","v":{"$error":"#N/A"}},{"$f":"IF(H$16=\"\",\"\",VLOOKUP(H276,漢字書き!$A$2:$O$506,8,0))","v":{"$error":"#N/A"}},{"$f":"IF(I$16=\"\",\"\",VLOOKUP(I276,漢字書き!$A$2:$O$506,8,0))","v":{"$error":"#N/A"}},{"$f":"IF(J$16=\"\",\"\",VLOOKUP(J276,漢字書き!$A$2:$O$506,8,0))","v":{"$error":"#N/A"}},{"$f":"IF(K$16=\"\",\"\",VLOOKUP(K276,漢字読み!$A$2:$O$506,8,0))","v":{"$error":"#N/A"}},{"$f":"IF(L$16=\"\",\"\",VLOOKUP(L276,漢字読み!$A$2:$O$506,8,0))","v":{"$error":"#N/A"}},{"$f":"IF(M$16=\"\",\"\",VLOOKUP(M276,漢字読み!$A$2:$O$506,8,0))","v":{"$error":"#N/A"}},{"$f":"IF(N$16=\"\",\"\",VLOOKUP(N276,漢字読み!$A$2:$O$506,8,0))","v":{"$error":"#N/A"}},{"$f":"IF(O$16=\"\",\"\",VLOOKUP(O276,漢字読み!$A$2:$O$506,8,0))","v":{"$error":"#N/A"}},{"$f":"IF(P$16=\"\",\"\",VLOOKUP(P276,漢字読み!$A$2:$O$506,8,0))","v":{"$error":"#N/A"}},{"$f":"IF(Q$16=\"\",\"\",VLOOKUP(Q276,漢字読み!$A$2:$O$506,8,0))","v":{"$error":"#N/A"}},{"$f":"IF(R$16=\"\",\"\",VLOOKUP(R276,漢字読み!$A$2:$O$506,8,0))","v":{"$error":"#N/A"}},{"$f":"IF(S$16=\"\",\"\",VLOOKUP(S276,漢字読み!$A$2:$O$506,8,0))","v":{"$error":"#N/A"}},{"$f":"IF(T$16=\"\",\"\",VLOOKUP(T276,漢字読み!$A$2:$O$506,8,0))","v":{"$error":"#N/A"}},null,"名前"]
[{"$f":"IF(A276=\"\",\"\",IF(VLOOKUP(A276,漢字書き!$A$2:$N$502,7,0)=0,\"\",VLOOKUP(A276,漢字書き!$A$2:$N$502,7,0)))","v":{"$error":"#N/A"}},{"$f":"IF(B276=\"\",\"\",IF(VLOOKUP(B276,漢字書き!$A$2:$N$502,7,0)=0,\"\",VLOOKUP(B276,漢字書き!$A$2:$N$502,7,0)))","v":{"$error":"#N/A"}},{"$f":"IF(C276=\"\",\"\",IF(VLOOKUP(C276,漢字書き!$A$2:$N$502,7,0)=0,\"\",VLOOKUP(C276,漢字書き!$A$2:$N$502,7,0)))","v":{"$error":"#N/A"}},{"$f":"IF(D276=\"\",\"\",IF(VLOOKUP(D276,漢字書き!$A$2:$N$502,7,0)=0,\"\",VLOOKUP(D276,漢字書き!$A$2:$N$502,7,0)))","v":{"$error":"#N/A"}},{"$f":"IF(E276=\"\",\"\",IF(VLOOKUP(E276,漢字書き!$A$2:$N$502,7,0)=0,\"\",VLOOKUP(E276,漢字書き!$A$2:$N$502,7,0)))","v":{"$error":"#N/A"}},{"$f":"IF(F276=\"\",\"\",IF(VLOOKUP(F276,漢字書き!$A$2:$N$502,7,0)=0,\"\",VLOOKUP(F276,漢字書き!$A$2:$N$502,7,0)))","v":{"$error":"#N/A"}},{"$f":"IF(G276=\"\",\"\",IF(VLOOKUP(G276,漢字書き!$A$2:$N$502,7,0)=0,\"\",VLOOKUP(G276,漢字書き!$A$2:$N$502,7,0)))","v":{"$error":"#N/A"}},{"$f":"IF(H276=\"\",\"\",IF(VLOOKUP(H276,漢字書き!$A$2:$N$502,7,0)=0,\"\",VLOOKUP(H276,漢字書き!$A$2:$N$502,7,0)))","v":{"$error":"#N/A"}},{"$f":"IF(I276=\"\",\"\",IF(VLOOKUP(I276,漢字書き!$A$2:$N$502,7,0)=0,\"\",VLOOKUP(I276,漢字書き!$A$2:$N$502,7,0)))","v":{"$error":"#N/A"}},{"$f":"IF(J276=\"\",\"\",IF(VLOOKUP(J276,漢字書き!$A$2:$N$502,7,0)=0,\"\",VLOOKUP(J276,漢字書き!$A$2:$N$502,7,0)))","v":{"$error":"#N/A"}},{"$f":"IF(K276=\"\",\"\",IF(VLOOKUP(K276,漢字読み!$A$2:$O$502,7,0)=0,\"\",VLOOKUP(K276,漢字読み!$A$2:$O$502,7,0)))","v":{"$error":"#N/A"}},{"$f":"IF(L276=\"\",\"\",IF(VLOOKUP(L276,漢字読み!$A$2:$O$502,7,0)=0,\"\",VLOOKUP(L276,漢字読み!$A$2:$O$502,7,0)))","v":{"$error":"#N/A"}},{"$f":"IF(M276=\"\",\"\",IF(VLOOKUP(M276,漢字読み!$A$2:$O$502,7,0)=0,\"\",VLOOKUP(M276,漢字読み!$A$2:$O$502,7,0)))","v":{"$error":"#N/A"}},{"$f":"IF(N276=\"\",\"\",IF(VLOOKUP(N276,漢字読み!$A$2:$O$502,7,0)=0,\"\",VLOOKUP(N276,漢字読み!$A$2:$O$502,7,0)))","v":{"$error":"#N/A"}},{"$f":"IF(O276=\"\",\"\",IF(VLOOKUP(O276,漢字読み!$A$2:$O$502,7,0)=0,\"\",VLOOKUP(O276,漢字読み!$A$2:$O$502,7,0)))","v":{"$error":"#N/A"}},{"$f":"IF(P276=\"\",\"\",IF(VLOOKUP(P276,漢字読み!$A$2:$O$502,7,0)=0,\"\",VLOOKUP(P276,漢字読み!$A$2:$O$502,7,0)))","v":{"$error":"#N/A"}},{"$f":"IF(Q276=\"\",\"\",IF(VLOOKUP(Q276,漢字読み!$A$2:$O$502,7,0)=0,\"\",VLOOKUP(Q276,漢字読み!$A$2:$O$502,7,0)))","v":{"$error":"#N/A"}},{"$f":"IF(R276=\"\",\"\",IF(VLOOKUP(R276,漢字読み!$A$2:$O$502,7,0)=0,\"\",VLOOKUP(R276,漢字読み!$A$2:$O$502,7,0)))","v":{"$error":"#N/A"}},{"$f":"IF(S276=\"\",\"\",IF(VLOOKUP(S276,漢字読み!$A$2:$O$502,7,0)=0,\"\",VLOOKUP(S276,漢字読み!$A$2:$O$502,7,0)))","v":{"$error":"#N/A"}},{"$f":"IF(T276=\"\",\"\",IF(VLOOKUP(T276,漢字読み!$A$2:$O$502,7,0)=0,\"\",VLOOKUP(T276,漢字読み!$A$2:$O$502,7,0)))","v":{"$error":"#N/A"}},null,null,"和歌山県教育委員会"]
[{"$f":"INDIRECT(\"'関数（書き）'!C\" & COLUMN(B$1)+SUM($AD$2:$AD282))","v":0},{"$f":"INDIRECT(\"'関数（書き）'!C\" & COLUMN(C$1)+SUM($AD$2:$AD282))","v":0},{"$f":"INDIRECT(\"'関数（書き）'!C\" & COLUMN(D$1)+SUM($AD$2:$AD282))","v":0},{"$f":"INDIRECT(\"'関数（書き）'!C\" & COLUMN(E$1)+SUM($AD$2:$AD282))","v":0},{"$f":"INDIRECT(\"'関数（書き）'!C\" & COLUMN(F$1)+SUM($AD$2:$AD282))","v":0},{"$f":"INDIRECT(\"'関数（書き）'!C\" & COLUMN(G$1)+SUM($AD$2:$AD282))","v":0},{"$f":"INDIRECT(\"'関数（書き）'!C\" & COLUMN(H$1)+SUM($AD$2:$AD282))","v":0},{"$f":"INDIRECT(\"'関数（書き）'!C\" & COLUMN(I$1)+SUM($AD$2:$AD282))","v":0},{"$f":"INDIRECT(\"'関数（書き）'!C\" & COLUMN(J$1)+SUM($AD$2:$AD282))","v":0},{"$f":"INDIRECT(\"'関数（書き）'!C\" & COLUMN(K$1)+SUM($AD$2:$AD282))","v":0},{"$f":"INDIRECT(\"'関数（読み）'!C\" & COLUMN(B$1)+SUM($AD$2:$AD282))","v":0},{"$f":"INDIRECT(\"'関数（読み）'!C\" & COLUMN(C$1)+SUM($AD$2:$AD282))","v":0},{"$f":"INDIRECT(\"'関数（読み）'!C\" & COLUMN(D$1)+SUM($AD$2:$AD282))","v":0},{"$f":"INDIRECT(\"'関数（読み）'!C\" & COLUMN(E$1)+SUM($AD$2:$AD282))","v":0},{"$f":"INDIRECT(\"'関数（読み）'!C\" & COLUMN(F$1)+SUM($AD$2:$AD282))","v":0},{"$f":"INDIRECT(\"'関数（読み）'!C\" & COLUMN(G$1)+SUM($AD$2:$AD282))","v":0},{"$f":"INDIRECT(\"'関数（読み）'!C\" & COLUMN(H$1)+SUM($AD$2:$AD282))","v":0},{"$f":"INDIRECT(\"'関数（読み）'!C\" & COLUMN(I$1)+SUM($AD$2:$AD282))","v":0},{"$f":"INDIRECT(\"'関数（読み）'!C\" & COLUMN(J$1)+SUM($AD$2:$AD282))","v":0},{"$f":"INDIRECT(\"'関数（読み）'!C\" & COLUMN(K$1)+SUM($AD$2:$AD282))","v":0}]
["⑳","⑲","⑱","⑰","⑯","⑮","⑭","⑬","⑫","⑪","⑩","⑨","⑧","⑦","⑥","⑤","④","③","②","①","次の［　　　　］の部分の漢字には読みがなをひらがなで書き、カタカナは漢字に直しなさい。",10,"「漢字の博士検定試験」練習問題　",null,null,null,null,null,"←",10,"問",{"$f":"AH267+1","v":281},"～",{"$f":"SUM($AD$2:$AD282)+10","v":290},"問まで",{"$f":"COUNTIF($A$1:$T$200,T283)","v":0}]
[{"$f":"IF(A281=\"\",\"\",VLOOKUP(A281,漢字書き!$A$2:$N$506,6,0))","v":{"$error":"#N/A"}},{"$f":"IF(B281=\"\",\"\",VLOOKUP(B281,漢字書き!$A$2:$N$506,6,0))","v":{"$error":"#N/A"}},{"$f":"IF(C281=\"\",\"\",VLOOKUP(C281,漢字書き!$A$2:$N$506,6,0))","v":{"$error":"#N/A"}},{"$f":"IF(D281=\"\",\"\",VLOOKUP(D281,漢字書き!$A$2:$N$506,6,0))","v":{"$error":"#N/A"}},{"$f":"IF(E281=\"\",\"\",VLOOKUP(E281,漢字書き!$A$2:$N$506,6,0))","v":{"$error":"#N/A"}},{"$f":"IF(F281=\"\",\"\",VLOOKUP(F281,漢字書き!$A$2:$N$506,6,0))","v":{"$error":"#N/A"}},{"$f":"IF(G281=\"\",\"\",VLOOKUP(G281,漢字書き!$A$2:$N$506,6,0))","v":{"$error":"#N/A"}},{"$f":"IF(H281=\"\",\"\",VLOOKUP(H281,漢字書き!$A$2:$N$506,6,0))","v":{"$error":"#N/A"}},{"$f":"IF(I281=\"\",\"\",VLOOKUP(I281,漢字書き!$A$2:$N$506,6,0))","v":{"$error":"#N/A"}},{"$f":"IF(J281=\"\",\"\",VLOOKUP(J281,漢字書き!$A$2:$N$506,6,0))","v":{"$error":"#N/A"}},{"$f":"IF(K281=\"\",\"\",VLOOKUP(K281,漢字読み!$A$2:$O$506,6,0))","v":{"$error":"#N/A"}},{"$f":"IF(L281=\"\",\"\",VLOOKUP(L281,漢字読み!$A$2:$O$506,6,0))","v":{"$error":"#N/A"}},{"$f":"IF(M281=\"\",\"\",VLOOKUP(M281,漢字読み!$A$2:$O$506,6,0))","v":{"$error":"#N/A"}},{"$f":"IF(N281=\"\",\"\",VLOOKUP(N281,漢字読み!$A$2:$O$506,6,0))","v":{"$error":"#N/A"}},{"$f":"IF(O281=\"\",\"\",VLOOKUP(O281,漢字読み!$A$2:$O$506,6,0))","v":{"$error":"#N/A"}},{"$f":"IF(P281=\"\",\"\",VLOOKUP(P281,漢字読み!$A$2:$O$506,6,0))","v":{"$error":"#N/A"}},{"$f":"IF(Q281=\"\",\"\",VLOOKUP(Q281,漢字読み!$A$2:$O$506,6,0))","v":{"$error":"#N/A"}},{"$f":"IF(R281=\"\",\"\",VLOOKUP(R281,漢字読み!$A$2:$O$506,6,0))","v":{"$error":"#N/A"}},{"$f":"IF(S281=\"\",\"\",VLOOKUP(S281,漢字読み!$A$2:$O$506,6,0))","v":{"$error":"#N/A"}},{"$f":"IF(T281=\"\",\"\",VLOOKUP(T281,漢字読み!$A$2:$O$506,6,0))","v":{"$error":"#N/A"}},null,"級"]
[null,null,null,null,null,null,null,null,null,null,null,null,null,null,null,null,null,null,null,null,null,"名前"]
[{"$f":"IF(A281=\"\",\"\",IF(VLOOKUP(A281,漢字書き!$A$2:$N$502,7,0)=0,\"\",VLOOKUP(A281,漢字書き!$A$2:$N$502,7,0)))","v":{"$error":"#N/A"}},{"$f":"IF(B281=\"\",\"\",IF(VLOOKUP(B281,漢字書き!$A$2:$N$502,7,0)=0,\"\",VLOOKUP(B281,漢字書き!$A$2:$N$502,7,0)))","v":{"$error":"#N/A"}},{"$f":"IF(C281=\"\",\"\",IF(VLOOKUP(C281,漢字書き!$A$2:$N$502,7,0)=0,\"\",VLOOKUP(C281,漢字書き!$A$2:$N$502,7,0)))","v":{"$error":"#N/A"}},{"$f":"IF(D281=\"\",\"\",IF(VLOOKUP(D281,漢字書き!$A$2:$N$502,7,0)=0,\"\",VLOOKUP(D281,漢字書き!$A$2:$N$502,7,0)))","v":{"$error":"#N/A"}},{"$f":"IF(E281=\"\",\"\",IF(VLOOKUP(E281,漢字書き!$A$2:$N$502,7,0)=0,\"\",VLOOKUP(E281,漢字書き!$A$2:$N$502,7,0)))","v":{"$error":"#N/A"}},{"$f":"IF(F281=\"\",\"\",IF(VLOOKUP(F281,漢字書き!$A$2:$N$502,7,0)=0,\"\",VLOOKUP(F281,漢字書き!$A$2:$N$502,7,0)))","v":{"$error":"#N/A"}},{"$f":"IF(G281=\"\",\"\",IF(VLOOKUP(G281,漢字書き!$A$2:$N$502,7,0)=0,\"\",VLOOKUP(G281,漢字書き!$A$2:$N$502,7,0)))","v":{"$error":"#N/A"}},{"$f":"IF(H281=\"\",\"\",IF(VLOOKUP(H281,漢字書き!$A$2:$N$502,7,0)=0,\"\",VLOOKUP(H281,漢字書き!$A$2:$N$502,7,0)))","v":{"$error":"#N/A"}},{"$f":"IF(I281=\"\",\"\",IF(VLOOKUP(I281,漢字書き!$A$2:$N$502,7,0)=0,\"\",VLOOKUP(I281,漢字書き!$A$2:$N$502,7,0)))","v":{"$error":"#N/A"}},{"$f":"IF(J281=\"\",\"\",IF(VLOOKUP(J281,漢字書き!$A$2:$N$502,7,0)=0,\"\",VLOOKUP(J281,漢字書き!$A$2:$N$502,7,0)))","v":{"$error":"#N/A"}},{"$f":"IF(K281=\"\",\"\",IF(VLOOKUP(K281,漢字読み!$A$2:$O$502,7,0)=0,\"\",VLOOKUP(K281,漢字読み!$A$2:$O$502,7,0)))","v":{"$error":"#N/A"}},{"$f":"IF(L281=\"\",\"\",IF(VLOOKUP(L281,漢字読み!$A$2:$O$502,7,0)=0,\"\",VLOOKUP(L281,漢字読み!$A$2:$O$502,7,0)))","v":{"$error":"#N/A"}},{"$f":"IF(M281=\"\",\"\",IF(VLOOKUP(M281,漢字読み!$A$2:$O$502,7,0)=0,\"\",VLOOKUP(M281,漢字読み!$A$2:$O$502,7,0)))","v":{"$error":"#N/A"}},{"$f":"IF(N281=\"\",\"\",IF(VLOOKUP(N281,漢字読み!$A$2:$O$502,7,0)=0,\"\",VLOOKUP(N281,漢字読み!$A$2:$O$502,7,0)))","v":{"$error":"#N/A"}},{"$f":"IF(O281=\"\",\"\",IF(VLOOKUP(O281,漢字読み!$A$2:$O$502,7,0)=0,\"\",VLOOKUP(O281,漢字読み!$A$2:$O$502,7,0)))","v":{"$error":"#N/A"}},{"$f":"IF(P281=\"\",\"\",IF(VLOOKUP(P281,漢字読み!$A$2:$O$502,7,0)=0,\"\",VLOOKUP(P281,漢字読み!$A$2:$O$502,7,0)))","v":{"$error":"#N/A"}},{"$f":"IF(Q281=\"\",\"\",IF(VLOOKUP(Q281,漢字読み!$A$2:$O$502,7,0)=0,\"\",VLOOKUP(Q281,漢字読み!$A$2:$O$502,7,0)))","v":{"$error":"#N/A"}},{"$f":"IF(R281=\"\",\"\",IF(VLOOKUP(R281,漢字読み!$A$2:$O$502,7,0)=0,\"\",VLOOKUP(R281,漢字読み!$A$2:$O$502,7,0)))","v":{"$error":"#N/A"}},{"$f":"IF(S281=\"\",\"\",IF(VLOOKUP(S281,漢字読み!$A$2:$O$502,7,0)=0,\"\",VLOOKUP(S281,漢字読み!$A$2:$O$502,7,0)))","v":{"$error":"#N/A"}},{"$f":"IF(T281=\"\",\"\",IF(VLOOKUP(T281,漢字読み!$A$2:$O$502,7,0)=0,\"\",VLOOKUP(T281,漢字読み!$A$2:$O$502,7,0)))","v":{"$error":"#N/A"}},null,null,"和歌山県教育委員会"]
[{"$f":"INDIRECT(\"'関数（書き）'!C\" & COLUMN(B$1)+SUM($AD$2:$AD287))","v":0},{"$f":"INDIRECT(\"'関数（書き）'!C\" & COLUMN(C$1)+SUM($AD$2:$AD287))","v":0},{"$f":"INDIRECT(\"'関数（書き）'!C\" & COLUMN(D$1)+SUM($AD$2:$AD287))","v":0},{"$f":"INDIRECT(\"'関数（書き）'!C\" & COLUMN(E$1)+SUM($AD$2:$AD287))","v":0},{"$f":"INDIRECT(\"'関数（書き）'!C\" & COLUMN(F$1)+SUM($AD$2:$AD287))","v":0},{"$f":"INDIRECT(\"'関数（書き）'!C\" & COLUMN(G$1)+SUM($AD$2:$AD287))","v":0},{"$f":"INDIRECT(\"'関数（書き）'!C\" & COLUMN(H$1)+SUM($AD$2:$AD287))","v":0},{"$f":"INDIRECT(\"'関数（書き）'!C\" & COLUMN(I$1)+SUM($AD$2:$AD287))","v":0},{"$f":"INDIRECT(\"'関数（書き）'!C\" & COLUMN(J$1)+SUM($AD$2:$AD287))","v":0},{"$f":"INDIRECT(\"'関数（書き）'!C\" & COLUMN(K$1)+SUM($AD$2:$AD287))","v":0},{"$f":"INDIRECT(\"'関数（読み）'!C\" & COLUMN(B$1)+SUM($AD$2:$AD287))","v":0},{"$f":"INDIRECT(\"'関数（読み）'!C\" & COLUMN(C$1)+SUM($AD$2:$AD287))","v":0},{"$f":"INDIRECT(\"'関数（読み）'!C\" & COLUMN(D$1)+SUM($AD$2:$AD287))","v":0},{"$f":"INDIRECT(\"'関数（読み）'!C\" & COLUMN(E$1)+SUM($AD$2:$AD287))","v":0},{"$f":"INDIRECT(\"'関数（読み）'!C\" & COLUMN(F$1)+SUM($AD$2:$AD287))","v":0},{"$f":"INDIRECT(\"'関数（読み）'!C\" & COLUMN(G$1)+SUM($AD$2:$AD287))","v":0},{"$f":"INDIRECT(\"'関数（読み）'!C\" & COLUMN(H$1)+SUM($AD$2:$AD287))","v":0},{"$f":"INDIRECT(\"'関数（読み）'!C\" & COLUMN(I$1)+SUM($AD$2:$AD287))","v":0},{"$f":"INDIRECT(\"'関数（読み）'!C\" & COLUMN(J$1)+SUM($AD$2:$AD287))","v":0},{"$f":"INDIRECT(\"'関数（読み）'!C\" & COLUMN(K$1)+SUM($AD$2:$AD287))","v":0}]
["⑳","⑲","⑱","⑰","⑯","⑮","⑭","⑬","⑫","⑪","⑩","⑨","⑧","⑦","⑥","⑤","④","③","②","①","次の［　　　　］の部分の漢字には読みがなをひらがなで書き、カタカナは漢字に直しなさい。",10,"「漢字の博士検定試験」練習問題　",null,null,null,null,null,"←",10,"問",{"$f":"AH282+1","v":291},"～",{"$f":"SUM($AD$2:$AD287)+10","v":300},"問まで",{"$f":"COUNTIF($A$1:$T$200,T288)","v":0}]
[{"$f":"IF(A286=\"\",\"\",VLOOKUP(A286,漢字書き!$A$2:$N$506,6,0))","v":{"$error":"#N/A"}},{"$f":"IF(B286=\"\",\"\",VLOOKUP(B286,漢字書き!$A$2:$N$506,6,0))","v":{"$error":"#N/A"}},{"$f":"IF(C286=\"\",\"\",VLOOKUP(C286,漢字書き!$A$2:$N$506,6,0))","v":{"$error":"#N/A"}},{"$f":"IF(D286=\"\",\"\",VLOOKUP(D286,漢字書き!$A$2:$N$506,6,0))","v":{"$error":"#N/A"}},{"$f":"IF(E286=\"\",\"\",VLOOKUP(E286,漢字書き!$A$2:$N$506,6,0))","v":{"$error":"#N/A"}},{"$f":"IF(F286=\"\",\"\",VLOOKUP(F286,漢字書き!$A$2:$N$506,6,0))","v":{"$error":"#N/A"}},{"$f":"IF(G286=\"\",\"\",VLOOKUP(G286,漢字書き!$A$2:$N$506,6,0))","v":{"$error":"#N/A"}},{"$f":"IF(H286=\"\",\"\",VLOOKUP(H286,漢字書き!$A$2:$N$506,6,0))","v":{"$error":"#N/A"}},{"$f":"IF(I286=\"\",\"\",VLOOKUP(I286,漢字書き!$A$2:$N$506,6,0))","v":{"$error":"#N/A"}},{"$f":"IF(J286=\"\",\"\",VLOOKUP(J286,漢字書き!$A$2:$N$506,6,0))","v":{"$error":"#N/A"}},{"$f":"IF(K286=\"\",\"\",VLOOKUP(K286,漢字読み!$A$2:$O$506,6,0))","v":{"$error":"#N/A"}},{"$f":"IF(L286=\"\",\"\",VLOOKUP(L286,漢字読み!$A$2:$O$506,6,0))","v":{"$error":"#N/A"}},{"$f":"IF(M286=\"\",\"\",VLOOKUP(M286,漢字読み!$A$2:$O$506,6,0))","v":{"$error":"#N/A"}},{"$f":"IF(N286=\"\",\"\",VLOOKUP(N286,漢字読み!$A$2:$O$506,6,0))","v":{"$error":"#N/A"}},{"$f":"IF(O286=\"\",\"\",VLOOKUP(O286,漢字読み!$A$2:$O$506,6,0))","v":{"$error":"#N/A"}},{"$f":"IF(P286=\"\",\"\",VLOOKUP(P286,漢字読み!$A$2:$O$506,6,0))","v":{"$error":"#N/A"}},{"$f":"IF(Q286=\"\",\"\",VLOOKUP(Q286,漢字読み!$A$2:$O$506,6,0))","v":{"$error":"#N/A"}},{"$f":"IF(R286=\"\",\"\",VLOOKUP(R286,漢字読み!$A$2:$O$506,6,0))","v":{"$error":"#N/A"}},{"$f":"IF(S286=\"\",\"\",VLOOKUP(S286,漢字読み!$A$2:$O$506,6,0))","v":{"$error":"#N/A"}},{"$f":"IF(T286=\"\",\"\",VLOOKUP(T286,漢字読み!$A$2:$O$506,6,0))","v":{"$error":"#N/A"}},null,"級"]
[null,null,null,null,null,null,null,null,null,null,null,null,null,null,null,null,null,null,null,null,null,"名前"]
[{"$f":"IF(A286=\"\",\"\",IF(VLOOKUP(A286,漢字書き!$A$2:$N$502,7,0)=0,\"\",VLOOKUP(A286,漢字書き!$A$2:$N$502,7,0)))","v":{"$error":"#N/A"}},{"$f":"IF(B286=\"\",\"\",IF(VLOOKUP(B286,漢字書き!$A$2:$N$502,7,0)=0,\"\",VLOOKUP(B286,漢字書き!$A$2:$N$502,7,0)))","v":{"$error":"#N/A"}},{"$f":"IF(C286=\"\",\"\",IF(VLOOKUP(C286,漢字書き!$A$2:$N$502,7,0)=0,\"\",VLOOKUP(C286,漢字書き!$A$2:$N$502,7,0)))","v":{"$error":"#N/A"}},{"$f":"IF(D286=\"\",\"\",IF(VLOOKUP(D286,漢字書き!$A$2:$N$502,7,0)=0,\"\",VLOOKUP(D286,漢字書き!$A$2:$N$502,7,0)))","v":{"$error":"#N/A"}},{"$f":"IF(E286=\"\",\"\",IF(VLOOKUP(E286,漢字書き!$A$2:$N$502,7,0)=0,\"\",VLOOKUP(E286,漢字書き!$A$2:$N$502,7,0)))","v":{"$error":"#N/A"}},{"$f":"IF(F286=\"\",\"\",IF(VLOOKUP(F286,漢字書き!$A$2:$N$502,7,0)=0,\"\",VLOOKUP(F286,漢字書き!$A$2:$N$502,7,0)))","v":{"$error":"#N/A"}},{"$f":"IF(G286=\"\",\"\",IF(VLOOKUP(G286,漢字書き!$A$2:$N$502,7,0)=0,\"\",VLOOKUP(G286,漢字書き!$A$2:$N$502,7,0)))","v":{"$error":"#N/A"}},{"$f":"IF(H286=\"\",\"\",IF(VLOOKUP(H286,漢字書き!$A$2:$N$502,7,0)=0,\"\",VLOOKUP(H286,漢字書き!$A$2:$N$502,7,0)))","v":{"$error":"#N/A"}},{"$f":"IF(I286=\"\",\"\",IF(VLOOKUP(I286,漢字書き!$A$2:$N$502,7,0)=0,\"\",VLOOKUP(I286,漢字書き!$A$2:$N$502,7,0)))","v":{"$error":"#N/A"}},{"$f":"IF(J286=\"\",\"\",IF(VLOOKUP(J286,漢字書き!$A$2:$N$502,7,0)=0,\"\",VLOOKUP(J286,漢字書き!$A$2:$N$502,7,0)))","v":{"$error":"#N/A"}},{"$f":"IF(K286=\"\",\"\",IF(VLOOKUP(K286,漢字読み!$A$2:$O$502,7,0)=0,\"\",VLOOKUP(K286,漢字読み!$A$2:$O$502,7,0)))","v":{"$error":"#N/A"}},{"$f":"IF(L286=\"\",\"\",IF(VLOOKUP(L286,漢字読み!$A$2:$O$502,7,0)=0,\"\",VLOOKUP(L286,漢字読み!$A$2:$O$502,7,0)))","v":{"$error":"#N/A"}},{"$f":"IF(M286=\"\",\"\",IF(VLOOKUP(M286,漢字読み!$A$2:$O$502,7,0)=0,\"\",VLOOKUP(M286,漢字読み!$A$2:$O$502,7,0)))","v":{"$error":"#N/A"}},{"$f":"IF(N286=\"\",\"\",IF(VLOOKUP(N286,漢字読み!$A$2:$O$502,7,0)=0,\"\",VLOOKUP(N286,漢字読み!$A$2:$O$502,7,0)))","v":{"$error":"#N/A"}},{"$f":"IF(O286=\"\",\"\",IF(VLOOKUP(O286,漢字読み!$A$2:$O$502,7,0)=0,\"\",VLOOKUP(O286,漢字読み!$A$2:$O$502,7,0)))","v":{"$error":"#N/A"}},{"$f":"IF(P286=\"\",\"\",IF(VLOOKUP(P286,漢字読み!$A$2:$O$502,7,0)=0,\"\",VLOOKUP(P286,漢字読み!$A$2:$O$502,7,0)))","v":{"$error":"#N/A"}},{"$f":"IF(Q286=\"\",\"\",IF(VLOOKUP(Q286,漢字読み!$A$2:$O$502,7,0)=0,\"\",VLOOKUP(Q286,漢字読み!$A$2:$O$502,7,0)))","v":{"$error":"#N/A"}},{"$f":"IF(R286=\"\",\"\",IF(VLOOKUP(R286,漢字読み!$A$2:$O$502,7,0)=0,\"\",VLOOKUP(R286,漢字読み!$A$2:$O$502,7,0)))","v":{"$error":"#N/A"}},{"$f":"IF(S286=\"\",\"\",IF(VLOOKUP(S286,漢字読み!$A$2:$O$502,7,0)=0,\"\",VLOOKUP(S286,漢字読み!$A$2:$O$502,7,0)))","v":{"$error":"#N/A"}},{"$f":"IF(T286=\"\",\"\",IF(VLOOKUP(T286,漢字読み!$A$2:$O$502,7,0)=0,\"\",VLOOKUP(T286,漢字読み!$A$2:$O$502,7,0)))","v":{"$error":"#N/A"}},null,null,"和歌山県教育委員会"]
[{"$f":"A281","v":0},0,0,0,0,0,0,0,0,0,0,0,0,0,0,0,0,0,0,0]
["⑳","⑲","⑱","⑰","⑯","⑮","⑭","⑬","⑫","⑪","⑩","⑨","⑧","⑦","⑥","⑤","④","③","②","①","次の［　　　　］の部分の漢字には読みがなをひらがなで書き、カタカナは漢字に直しなさい。",10,"「漢字の博士検定試験」練習問題　"]
[{"$f":"IF(A291=\"\",\"\",VLOOKUP(A291,漢字書き!$A$2:$N$506,6,0))","v":{"$error":"#N/A"}},{"$f":"IF(B291=\"\",\"\",VLOOKUP(B291,漢字書き!$A$2:$N$506,6,0))","v":{"$error":"#N/A"}},{"$f":"IF(C291=\"\",\"\",VLOOKUP(C291,漢字書き!$A$2:$N$506,6,0))","v":{"$error":"#N/A"}},{"$f":"IF(D291=\"\",\"\",VLOOKUP(D291,漢字書き!$A$2:$N$506,6,0))","v":{"$error":"#N/A"}},{"$f":"IF(E291=\"\",\"\",VLOOKUP(E291,漢字書き!$A$2:$N$506,6,0))","v":{"$error":"#N/A"}},{"$f":"IF(F291=\"\",\"\",VLOOKUP(F291,漢字書き!$A$2:$N$506,6,0))","v":{"$error":"#N/A"}},{"$f":"IF(G291=\"\",\"\",VLOOKUP(G291,漢字書き!$A$2:$N$506,6,0))","v":{"$error":"#N/A"}},{"$f":"IF(H291=\"\",\"\",VLOOKUP(H291,漢字書き!$A$2:$N$506,6,0))","v":{"$error":"#N/A"}},{"$f":"IF(I291=\"\",\"\",VLOOKUP(I291,漢字書き!$A$2:$N$506,6,0))","v":{"$error":"#N/A"}},{"$f":"IF(J291=\"\",\"\",VLOOKUP(J291,漢字書き!$A$2:$N$506,6,0))","v":{"$error":"#N/A"}},{"$f":"IF(K291=\"\",\"\",VLOOKUP(K291,漢字読み!$A$2:$O$506,6,0))","v":{"$error":"#N/A"}},{"$f":"IF(L291=\"\",\"\",VLOOKUP(L291,漢字読み!$A$2:$O$506,6,0))","v":{"$error":"#N/A"}},{"$f":"IF(M291=\"\",\"\",VLOOKUP(M291,漢字読み!$A$2:$O$506,6,0))","v":{"$error":"#N/A"}},{"$f":"IF(N291=\"\",\"\",VLOOKUP(N291,漢字読み!$A$2:$O$506,6,0))","v":{"$error":"#N/A"}},{"$f":"IF(O291=\"\",\"\",VLOOKUP(O291,漢字読み!$A$2:$O$506,6,0))","v":{"$error":"#N/A"}},{"$f":"IF(P291=\"\",\"\",VLOOKUP(P291,漢字読み!$A$2:$O$506,6,0))","v":{"$error":"#N/A"}},{"$f":"IF(Q291=\"\",\"\",VLOOKUP(Q291,漢字読み!$A$2:$O$506,6,0))","v":{"$error":"#N/A"}},{"$f":"IF(R291=\"\",\"\",VLOOKUP(R291,漢字読み!$A$2:$O$506,6,0))","v":{"$error":"#N/A"}},{"$f":"IF(S291=\"\",\"\",VLOOKUP(S291,漢字読み!$A$2:$O$506,6,0))","v":{"$error":"#N/A"}},{"$f":"IF(T291=\"\",\"\",VLOOKUP(T291,漢字読み!$A$2:$O$506,6,0))","v":{"$error":"#N/A"}},null,"級"]
[{"$f":"IF(A$11=\"\",\"\",VLOOKUP(A291,漢字書き!$A$2:$O$506,8,0))","v":{"$error":"#N/A"}},{"$f":"IF(B$11=\"\",\"\",VLOOKUP(B291,漢字書き!$A$2:$O$506,8,0))","v":{"$error":"#N/A"}},{"$f":"IF(C$11=\"\",\"\",VLOOKUP(C291,漢字書き!$A$2:$O$506,8,0))","v":{"$error":"#N/A"}},{"$f":"IF(D$11=\"\",\"\",VLOOKUP(D291,漢字書き!$A$2:$O$506,8,0))","v":{"$error":"#N/A"}},{"$f":"IF(E$11=\"\",\"\",VLOOKUP(E291,漢字書き!$A$2:$O$506,8,0))","v":{"$error":"#N/A"}},{"$f":"IF(F$11=\"\",\"\",VLOOKUP(F291,漢字書き!$A$2:$O$506,8,0))","v":{"$error":"#N/A"}},{"$f":"IF(G$11=\"\",\"\",VLOOKUP(G291,漢字書き!$A$2:$O$506,8,0))","v":{"$error":"#N/A"}},{"$f":"IF(H$11=\"\",\"\",VLOOKUP(H291,漢字書き!$A$2:$O$506,8,0))","v":{"$error":"#N/A"}},{"$f":"IF(I$11=\"\",\"\",VLOOKUP(I291,漢字書き!$A$2:$O$506,8,0))","v":{"$error":"#N/A"}},{"$f":"IF(J$11=\"\",\"\",VLOOKUP(J291,漢字書き!$A$2:$O$506,8,0))","v":{"$error":"#N/A"}},{"$f":"IF(K$11=\"\",\"\",VLOOKUP(K291,漢字読み!$A$2:$O$506,8,0))","v":{"$error":"#N/A"}},{"$f":"IF(L$11=\"\",\"\",VLOOKUP(L291,漢字読み!$A$2:$O$506,8,0))","v":{"$error":"#N/A"}},{"$f":"IF(M$11=\"\",\"\",VLOOKUP(M291,漢字読み!$A$2:$O$506,8,0))","v":{"$error":"#N/A"}},{"$f":"IF(N$11=\"\",\"\",VLOOKUP(N291,漢字読み!$A$2:$O$506,8,0))","v":{"$error":"#N/A"}},{"$f":"IF(O$11=\"\",\"\",VLOOKUP(O291,漢字読み!$A$2:$O$506,8,0))","v":{"$error":"#N/A"}},{"$f":"IF(P$11=\"\",\"\",VLOOKUP(P291,漢字読み!$A$2:$O$506,8,0))","v":{"$error":"#N/A"}},{"$f":"IF(Q$11=\"\",\"\",VLOOKUP(Q291,漢字読み!$A$2:$O$506,8,0))","v":{"$error":"#N/A"}},{"$f":"IF(R$11=\"\",\"\",VLOOKUP(R291,漢字読み!$A$2:$O$506,8,0))","v":{"$error":"#N/A"}},{"$f":"IF(S$11=\"\",\"\",VLOOKUP(S291,漢字読み!$A$2:$O$506,8,0))","v":{"$error":"#N/A"}},{"$f":"IF(T$11=\"\",\"\",VLOOKUP(T291,漢字読み!$A$2:$O$506,8,0))","v":{"$error":"#N/A"}},null,"名前"]
[{"$f":"IF(A291=\"\",\"\",IF(VLOOKUP(A291,漢字書き!$A$2:$N$502,7,0)=0,\"\",VLOOKUP(A291,漢字書き!$A$2:$N$502,7,0)))","v":{"$error":"#N/A"}},{"$f":"IF(B291=\"\",\"\",IF(VLOOKUP(B291,漢字書き!$A$2:$N$502,7,0)=0,\"\",VLOOKUP(B291,漢字書き!$A$2:$N$502,7,0)))","v":{"$error":"#N/A"}},{"$f":"IF(C291=\"\",\"\",IF(VLOOKUP(C291,漢字書き!$A$2:$N$502,7,0)=0,\"\",VLOOKUP(C291,漢字書き!$A$2:$N$502,7,0)))","v":{"$error":"#N/A"}},{"$f":"IF(D291=\"\",\"\",IF(VLOOKUP(D291,漢字書き!$A$2:$N$502,7,0)=0,\"\",VLOOKUP(D291,漢字書き!$A$2:$N$502,7,0)))","v":{"$error":"#N/A"}},{"$f":"IF(E291=\"\",\"\",IF(VLOOKUP(E291,漢字書き!$A$2:$N$502,7,0)=0,\"\",VLOOKUP(E291,漢字書き!$A$2:$N$502,7,0)))","v":{"$error":"#N/A"}},{"$f":"IF(F291=\"\",\"\",IF(VLOOKUP(F291,漢字書き!$A$2:$N$502,7,0)=0,\"\",VLOOKUP(F291,漢字書き!$A$2:$N$502,7,0)))","v":{"$error":"#N/A"}},{"$f":"IF(G291=\"\",\"\",IF(VLOOKUP(G291,漢字書き!$A$2:$N$502,7,0)=0,\"\",VLOOKUP(G291,漢字書き!$A$2:$N$502,7,0)))","v":{"$error":"#N/A"}},{"$f":"IF(H291=\"\",\"\",IF(VLOOKUP(H291,漢字書き!$A$2:$N$502,7,0)=0,\"\",VLOOKUP(H291,漢字書き!$A$2:$N$502,7,0)))","v":{"$error":"#N/A"}},{"$f":"IF(I291=\"\",\"\",IF(VLOOKUP(I291,漢字書き!$A$2:$N$502,7,0)=0,\"\",VLOOKUP(I291,漢字書き!$A$2:$N$502,7,0)))","v":{"$error":"#N/A"}},{"$f":"IF(J291=\"\",\"\",IF(VLOOKUP(J291,漢字書き!$A$2:$N$502,7,0)=0,\"\",VLOOKUP(J291,漢字書き!$A$2:$N$502,7,0)))","v":{"$error":"#N/A"}},{"$f":"IF(K291=\"\",\"\",IF(VLOOKUP(K291,漢字読み!$A$2:$O$502,7,0)=0,\"\",VLOOKUP(K291,漢字読み!$A$2:$O$502,7,0)))","v":{"$error":"#N/A"}},{"$f":"IF(L291=\"\",\"\",IF(VLOOKUP(L291,漢字読み!$A$2:$O$502,7,0)=0,\"\",VLOOKUP(L291,漢字読み!$A$2:$O$502,7,0)))","v":{"$error":"#N/A"}},{"$f":"IF(M291=\"\",\"\",IF(VLOOKUP(M291,漢字読み!$A$2:$O$502,7,0)=0,\"\",VLOOKUP(M291,漢字読み!$A$2:$O$502,7,0)))","v":{"$error":"#N/A"}},{"$f":"IF(N291=\"\",\"\",IF(VLOOKUP(N291,漢字読み!$A$2:$O$502,7,0)=0,\"\",VLOOKUP(N291,漢字読み!$A$2:$O$502,7,0)))","v":{"$error":"#N/A"}},{"$f":"IF(O291=\"\",\"\",IF(VLOOKUP(O291,漢字読み!$A$2:$O$502,7,0)=0,\"\",VLOOKUP(O291,漢字読み!$A$2:$O$502,7,0)))","v":{"$error":"#N/A"}},{"$f":"IF(P291=\"\",\"\",IF(VLOOKUP(P291,漢字読み!$A$2:$O$502,7,0)=0,\"\",VLOOKUP(P291,漢字読み!$A$2:$O$502,7,0)))","v":{"$error":"#N/A"}},{"$f":"IF(Q291=\"\",\"\",IF(VLOOKUP(Q291,漢字読み!$A$2:$O$502,7,0)=0,\"\",VLOOKUP(Q291,漢字読み!$A$2:$O$502,7,0)))","v":{"$error":"#N/A"}},{"$f":"IF(R291=\"\",\"\",IF(VLOOKUP(R291,漢字読み!$A$2:$O$502,7,0)=0,\"\",VLOOKUP(R291,漢字読み!$A$2:$O$502,7,0)))","v":{"$error":"#N/A"}},{"$f":"IF(S291=\"\",\"\",IF(VLOOKUP(S291,漢字読み!$A$2:$O$502,7,0)=0,\"\",VLOOKUP(S291,漢字読み!$A$2:$O$502,7,0)))","v":{"$error":"#N/A"}},{"$f":"IF(T291=\"\",\"\",IF(VLOOKUP(T291,漢字読み!$A$2:$O$502,7,0)=0,\"\",VLOOKUP(T291,漢字読み!$A$2:$O$502,7,0)))","v":{"$error":"#N/A"}},null,null,"和歌山県教育委員会"]
[{"$f":"A286","v":0},0,0,0,0,0,0,0,0,0,0,0,0,0,0,0,0,0,0,0]
["⑳","⑲","⑱","⑰","⑯","⑮","⑭","⑬","⑫","⑪","⑩","⑨","⑧","⑦","⑥","⑤","④","③","②","①","次の［　　　　］の部分の漢字には読みがなをひらがなで書き、カタカナは漢字に直しなさい。",10,"「漢字の博士検定試験」練習問題　"]
[{"$f":"IF(A296=\"\",\"\",VLOOKUP(A296,漢字書き!$A$2:$N$506,6,0))","v":{"$error":"#N/A"}},{"$f":"IF(B296=\"\",\"\",VLOOKUP(B296,漢字書き!$A$2:$N$506,6,0))","v":{"$error":"#N/A"}},{"$f":"IF(C296=\"\",\"\",VLOOKUP(C296,漢字書き!$A$2:$N$506,6,0))","v":{"$error":"#N/A"}},{"$f":"IF(D296=\"\",\"\",VLOOKUP(D296,漢字書き!$A$2:$N$506,6,0))","v":{"$error":"#N/A"}},{"$f":"IF(E296=\"\",\"\",VLOOKUP(E296,漢字書き!$A$2:$N$506,6,0))","v":{"$error":"#N/A"}},{"$f":"IF(F296=\"\",\"\",VLOOKUP(F296,漢字書き!$A$2:$N$506,6,0))","v":{"$error":"#N/A"}},{"$f":"IF(G296=\"\",\"\",VLOOKUP(G296,漢字書き!$A$2:$N$506,6,0))","v":{"$error":"#N/A"}},{"$f":"IF(H296=\"\",\"\",VLOOKUP(H296,漢字書き!$A$2:$N$506,6,0))","v":{"$error":"#N/A"}},{"$f":"IF(I296=\"\",\"\",VLOOKUP(I296,漢字書き!$A$2:$N$506,6,0))","v":{"$error":"#N/A"}},{"$f":"IF(J296=\"\",\"\",VLOOKUP(J296,漢字書き!$A$2:$N$506,6,0))","v":{"$error":"#N/A"}},{"$f":"IF(K296=\"\",\"\",VLOOKUP(K296,漢字読み!$A$2:$O$506,6,0))","v":{"$error":"#N/A"}},{"$f":"IF(L296=\"\",\"\",VLOOKUP(L296,漢字読み!$A$2:$O$506,6,0))","v":{"$error":"#N/A"}},{"$f":"IF(M296=\"\",\"\",VLOOKUP(M296,漢字読み!$A$2:$O$506,6,0))","v":{"$error":"#N/A"}},{"$f":"IF(N296=\"\",\"\",VLOOKUP(N296,漢字読み!$A$2:$O$506,6,0))","v":{"$error":"#N/A"}},{"$f":"IF(O296=\"\",\"\",VLOOKUP(O296,漢字読み!$A$2:$O$506,6,0))","v":{"$error":"#N/A"}},{"$f":"IF(P296=\"\",\"\",VLOOKUP(P296,漢字読み!$A$2:$O$506,6,0))","v":{"$error":"#N/A"}},{"$f":"IF(Q296=\"\",\"\",VLOOKUP(Q296,漢字読み!$A$2:$O$506,6,0))","v":{"$error":"#N/A"}},{"$f":"IF(R296=\"\",\"\",VLOOKUP(R296,漢字読み!$A$2:$O$506,6,0))","v":{"$error":"#N/A"}},{"$f":"IF(S296=\"\",\"\",VLOOKUP(S296,漢字読み!$A$2:$O$506,6,0))","v":{"$error":"#N/A"}},{"$f":"IF(T296=\"\",\"\",VLOOKUP(T296,漢字読み!$A$2:$O$506,6,0))","v":{"$error":"#N/A"}},null,"級"]
[{"$f":"IF(A$16=\"\",\"\",VLOOKUP(A296,漢字書き!$A$2:$O$506,8,0))","v":{"$error":"#N/A"}},{"$f":"IF(B$16=\"\",\"\",VLOOKUP(B296,漢字書き!$A$2:$O$506,8,0))","v":{"$error":"#N/A"}},{"$f":"IF(C$16=\"\",\"\",VLOOKUP(C296,漢字書き!$A$2:$O$506,8,0))","v":{"$error":"#N/A"}},{"$f":"IF(D$16=\"\",\"\",VLOOKUP(D296,漢字書き!$A$2:$O$506,8,0))","v":{"$error":"#N/A"}},{"$f":"IF(E$16=\"\",\"\",VLOOKUP(E296,漢字書き!$A$2:$O$506,8,0))","v":{"$error":"#N/A"}},{"$f":"IF(F$16=\"\",\"\",VLOOKUP(F296,漢字書き!$A$2:$O$506,8,0))","v":{"$error":"#N/A"}},{"$f":"IF(G$16=\"\",\"\",VLOOKUP(G296,漢字書き!$A$2:$O$506,8,0))","v":{"$error":"#N/A"}},{"$f":"IF(H$16=\"\",\"\",VLOOKUP(H296,漢字書き!$A$2:$O$506,8,0))","v":{"$error":"#N/A"}},{"$f":"IF(I$16=\"\",\"\",VLOOKUP(I296,漢字書き!$A$2:$O$506,8,0))","v":{"$error":"#N/A"}},{"$f":"IF(J$16=\"\",\"\",VLOOKUP(J296,漢字書き!$A$2:$O$506,8,0))","v":{"$error":"#N/A"}},{"$f":"IF(K$16=\"\",\"\",VLOOKUP(K296,漢字読み!$A$2:$O$506,8,0))","v":{"$error":"#N/A"}},{"$f":"IF(L$16=\"\",\"\",VLOOKUP(L296,漢字読み!$A$2:$O$506,8,0))","v":{"$error":"#N/A"}},{"$f":"IF(M$16=\"\",\"\",VLOOKUP(M296,漢字読み!$A$2:$O$506,8,0))","v":{"$error":"#N/A"}},{"$f":"IF(N$16=\"\",\"\",VLOOKUP(N296,漢字読み!$A$2:$O$506,8,0))","v":{"$error":"#N/A"}},{"$f":"IF(O$16=\"\",\"\",VLOOKUP(O296,漢字読み!$A$2:$O$506,8,0))","v":{"$error":"#N/A"}},{"$f":"IF(P$16=\"\",\"\",VLOOKUP(P296,漢字読み!$A$2:$O$506,8,0))","v":{"$error":"#N/A"}},{"$f":"IF(Q$16=\"\",\"\",VLOOKUP(Q296,漢字読み!$A$2:$O$506,8,0))","v":{"$error":"#N/A"}},{"$f":"IF(R$16=\"\",\"\",VLOOKUP(R296,漢字読み!$A$2:$O$506,8,0))","v":{"$error":"#N/A"}},{"$f":"IF(S$16=\"\",\"\",VLOOKUP(S296,漢字読み!$A$2:$O$506,8,0))","v":{"$error":"#N/A"}},{"$f":"IF(T$16=\"\",\"\",VLOOKUP(T296,漢字読み!$A$2:$O$506,8,0))","v":{"$error":"#N/A"}},null,"名前"]
[{"$f":"IF(A296=\"\",\"\",IF(VLOOKUP(A296,漢字書き!$A$2:$N$502,7,0)=0,\"\",VLOOKUP(A296,漢字書き!$A$2:$N$502,7,0)))","v":{"$error":"#N/A"}},{"$f":"IF(B296=\"\",\"\",IF(VLOOKUP(B296,漢字書き!$A$2:$N$502,7,0)=0,\"\",VLOOKUP(B296,漢字書き!$A$2:$N$502,7,0)))","v":{"$error":"#N/A"}},{"$f":"IF(C296=\"\",\"\",IF(VLOOKUP(C296,漢字書き!$A$2:$N$502,7,0)=0,\"\",VLOOKUP(C296,漢字書き!$A$2:$N$502,7,0)))","v":{"$error":"#N/A"}},{"$f":"IF(D296=\"\",\"\",IF(VLOOKUP(D296,漢字書き!$A$2:$N$502,7,0)=0,\"\",VLOOKUP(D296,漢字書き!$A$2:$N$502,7,0)))","v":{"$error":"#N/A"}},{"$f":"IF(E296=\"\",\"\",IF(VLOOKUP(E296,漢字書き!$A$2:$N$502,7,0)=0,\"\",VLOOKUP(E296,漢字書き!$A$2:$N$502,7,0)))","v":{"$error":"#N/A"}},{"$f":"IF(F296=\"\",\"\",IF(VLOOKUP(F296,漢字書き!$A$2:$N$502,7,0)=0,\"\",VLOOKUP(F296,漢字書き!$A$2:$N$502,7,0)))","v":{"$error":"#N/A"}},{"$f":"IF(G296=\"\",\"\",IF(VLOOKUP(G296,漢字書き!$A$2:$N$502,7,0)=0,\"\",VLOOKUP(G296,漢字書き!$A$2:$N$502,7,0)))","v":{"$error":"#N/A"}},{"$f":"IF(H296=\"\",\"\",IF(VLOOKUP(H296,漢字書き!$A$2:$N$502,7,0)=0,\"\",VLOOKUP(H296,漢字書き!$A$2:$N$502,7,0)))","v":{"$error":"#N/A"}},{"$f":"IF(I296=\"\",\"\",IF(VLOOKUP(I296,漢字書き!$A$2:$N$502,7,0)=0,\"\",VLOOKUP(I296,漢字書き!$A$2:$N$502,7,0)))","v":{"$error":"#N/A"}},{"$f":"IF(J296=\"\",\"\",IF(VLOOKUP(J296,漢字書き!$A$2:$N$502,7,0)=0,\"\",VLOOKUP(J296,漢字書き!$A$2:$N$502,7,0)))","v":{"$error":"#N/A"}},{"$f":"IF(K296=\"\",\"\",IF(VLOOKUP(K296,漢字読み!$A$2:$O$502,7,0)=0,\"\",VLOOKUP(K296,漢字読み!$A$2:$O$502,7,0)))","v":{"$error":"#N/A"}},{"$f":"IF(L296=\"\",\"\",IF(VLOOKUP(L296,漢字読み!$A$2:$O$502,7,0)=0,\"\",VLOOKUP(L296,漢字読み!$A$2:$O$502,7,0)))","v":{"$error":"#N/A"}},{"$f":"IF(M296=\"\",\"\",IF(VLOOKUP(M296,漢字読み!$A$2:$O$502,7,0)=0,\"\",VLOOKUP(M296,漢字読み!$A$2:$O$502,7,0)))","v":{"$error":"#N/A"}},{"$f":"IF(N296=\"\",\"\",IF(VLOOKUP(N296,漢字読み!$A$2:$O$502,7,0)=0,\"\",VLOOKUP(N296,漢字読み!$A$2:$O$502,7,0)))","v":{"$error":"#N/A"}},{"$f":"IF(O296=\"\",\"\",IF(VLOOKUP(O296,漢字読み!$A$2:$O$502,7,0)=0,\"\",VLOOKUP(O296,漢字読み!$A$2:$O$502,7,0)))","v":{"$error":"#N/A"}},{"$f":"IF(P296=\"\",\"\",IF(VLOOKUP(P296,漢字読み!$A$2:$O$502,7,0)=0,\"\",VLOOKUP(P296,漢字読み!$A$2:$O$502,7,0)))","v":{"$error":"#N/A"}},{"$f":"IF(Q296=\"\",\"\",IF(VLOOKUP(Q296,漢字読み!$A$2:$O$502,7,0)=0,\"\",VLOOKUP(Q296,漢字読み!$A$2:$O$502,7,0)))","v":{"$error":"#N/A"}},{"$f":"IF(R296=\"\",\"\",IF(VLOOKUP(R296,漢字読み!$A$2:$O$502,7,0)=0,\"\",VLOOKUP(R296,漢字読み!$A$2:$O$502,7,0)))","v":{"$error":"#N/A"}},{"$f":"IF(S296=\"\",\"\",IF(VLOOKUP(S296,漢字読み!$A$2:$O$502,7,0)=0,\"\",VLOOKUP(S296,漢字読み!$A$2:$O$502,7,0)))","v":{"$error":"#N/A"}},{"$f":"IF(T296=\"\",\"\",IF(VLOOKUP(T296,漢字読み!$A$2:$O$502,7,0)=0,\"\",VLOOKUP(T296,漢字読み!$A$2:$O$502,7,0)))","v":{"$error":"#N/A"}},null,null,"和歌山県教育委員会"]
[{"$f":"INDIRECT(\"'関数（書き）'!C\" & COLUMN(B$1)+SUM($AD$2:$AD302))","v":0},{"$f":"INDIRECT(\"'関数（書き）'!C\" & COLUMN(C$1)+SUM($AD$2:$AD302))","v":0},{"$f":"INDIRECT(\"'関数（書き）'!C\" & COLUMN(D$1)+SUM($AD$2:$AD302))","v":0},{"$f":"INDIRECT(\"'関数（書き）'!C\" & COLUMN(E$1)+SUM($AD$2:$AD302))","v":0},{"$f":"INDIRECT(\"'関数（書き）'!C\" & COLUMN(F$1)+SUM($AD$2:$AD302))","v":0},{"$f":"INDIRECT(\"'関数（書き）'!C\" & COLUMN(G$1)+SUM($AD$2:$AD302))","v":0},{"$f":"INDIRECT(\"'関数（書き）'!C\" & COLUMN(H$1)+SUM($AD$2:$AD302))","v":0},{"$f":"INDIRECT(\"'関数（書き）'!C\" & COLUMN(I$1)+SUM($AD$2:$AD302))","v":0},{"$f":"INDIRECT(\"'関数（書き）'!C\" & COLUMN(J$1)+SUM($AD$2:$AD302))","v":0},{"$f":"INDIRECT(\"'関数（書き）'!C\" & COLUMN(K$1)+SUM($AD$2:$AD302))","v":0},{"$f":"INDIRECT(\"'関数（読み）'!C\" & COLUMN(B$1)+SUM($AD$2:$AD302))","v":0},{"$f":"INDIRECT(\"'関数（読み）'!C\" & COLUMN(C$1)+SUM($AD$2:$AD302))","v":0},{"$f":"INDIRECT(\"'関数（読み）'!C\" & COLUMN(D$1)+SUM($AD$2:$AD302))","v":0},{"$f":"INDIRECT(\"'関数（読み）'!C\" & COLUMN(E$1)+SUM($AD$2:$AD302))","v":0},{"$f":"INDIRECT(\"'関数（読み）'!C\" & COLUMN(F$1)+SUM($AD$2:$AD302))","v":0},{"$f":"INDIRECT(\"'関数（読み）'!C\" & COLUMN(G$1)+SUM($AD$2:$AD302))","v":0},{"$f":"INDIRECT(\"'関数（読み）'!C\" & COLUMN(H$1)+SUM($AD$2:$AD302))","v":0},{"$f":"INDIRECT(\"'関数（読み）'!C\" & COLUMN(I$1)+SUM($AD$2:$AD302))","v":0},{"$f":"INDIRECT(\"'関数（読み）'!C\" & COLUMN(J$1)+SUM($AD$2:$AD302))","v":0},{"$f":"INDIRECT(\"'関数（読み）'!C\" & COLUMN(K$1)+SUM($AD$2:$AD302))","v":0}]
["⑳","⑲","⑱","⑰","⑯","⑮","⑭","⑬","⑫","⑪","⑩","⑨","⑧","⑦","⑥","⑤","④","③","②","①","次の［　　　　］の部分の漢字には読みがなをひらがなで書き、カタカナは漢字に直しなさい。",10,"「漢字の博士検定試験」練習問題　",null,null,null,null,null,"←",10,"問",{"$f":"AH287+1","v":301},"～",{"$f":"SUM($AD$2:$AD302)+10","v":310},"問まで",{"$f":"COUNTIF($A$1:$T$200,T303)","v":0}]
[{"$f":"IF(A301=\"\",\"\",VLOOKUP(A301,漢字書き!$A$2:$N$506,6,0))","v":{"$error":"#N/A"}},{"$f":"IF(B301=\"\",\"\",VLOOKUP(B301,漢字書き!$A$2:$N$506,6,0))","v":{"$error":"#N/A"}},{"$f":"IF(C301=\"\",\"\",VLOOKUP(C301,漢字書き!$A$2:$N$506,6,0))","v":{"$error":"#N/A"}},{"$f":"IF(D301=\"\",\"\",VLOOKUP(D301,漢字書き!$A$2:$N$506,6,0))","v":{"$error":"#N/A"}},{"$f":"IF(E301=\"\",\"\",VLOOKUP(E301,漢字書き!$A$2:$N$506,6,0))","v":{"$error":"#N/A"}},{"$f":"IF(F301=\"\",\"\",VLOOKUP(F301,漢字書き!$A$2:$N$506,6,0))","v":{"$error":"#N/A"}},{"$f":"IF(G301=\"\",\"\",VLOOKUP(G301,漢字書き!$A$2:$N$506,6,0))","v":{"$error":"#N/A"}},{"$f":"IF(H301=\"\",\"\",VLOOKUP(H301,漢字書き!$A$2:$N$506,6,0))","v":{"$error":"#N/A"}},{"$f":"IF(I301=\"\",\"\",VLOOKUP(I301,漢字書き!$A$2:$N$506,6,0))","v":{"$error":"#N/A"}},{"$f":"IF(J301=\"\",\"\",VLOOKUP(J301,漢字書き!$A$2:$N$506,6,0))","v":{"$error":"#N/A"}},{"$f":"IF(K301=\"\",\"\",VLOOKUP(K301,漢字読み!$A$2:$O$506,6,0))","v":{"$error":"#N/A"}},{"$f":"IF(L301=\"\",\"\",VLOOKUP(L301,漢字読み!$A$2:$O$506,6,0))","v":{"$error":"#N/A"}},{"$f":"IF(M301=\"\",\"\",VLOOKUP(M301,漢字読み!$A$2:$O$506,6,0))","v":{"$error":"#N/A"}},{"$f":"IF(N301=\"\",\"\",VLOOKUP(N301,漢字読み!$A$2:$O$506,6,0))","v":{"$error":"#N/A"}},{"$f":"IF(O301=\"\",\"\",VLOOKUP(O301,漢字読み!$A$2:$O$506,6,0))","v":{"$error":"#N/A"}},{"$f":"IF(P301=\"\",\"\",VLOOKUP(P301,漢字読み!$A$2:$O$506,6,0))","v":{"$error":"#N/A"}},{"$f":"IF(Q301=\"\",\"\",VLOOKUP(Q301,漢字読み!$A$2:$O$506,6,0))","v":{"$error":"#N/A"}},{"$f":"IF(R301=\"\",\"\",VLOOKUP(R301,漢字読み!$A$2:$O$506,6,0))","v":{"$error":"#N/A"}},{"$f":"IF(S301=\"\",\"\",VLOOKUP(S301,漢字読み!$A$2:$O$506,6,0))","v":{"$error":"#N/A"}},{"$f":"IF(T301=\"\",\"\",VLOOKUP(T301,漢字読み!$A$2:$O$506,6,0))","v":{"$error":"#N/A"}},null,"級"]
[null,null,null,null,null,null,null,null,null,null,null,null,null,null,null,null,null,null,null,null,null,"名前"]
[{"$f":"IF(A301=\"\",\"\",IF(VLOOKUP(A301,漢字書き!$A$2:$N$502,7,0)=0,\"\",VLOOKUP(A301,漢字書き!$A$2:$N$502,7,0)))","v":{"$error":"#N/A"}},{"$f":"IF(B301=\"\",\"\",IF(VLOOKUP(B301,漢字書き!$A$2:$N$502,7,0)=0,\"\",VLOOKUP(B301,漢字書き!$A$2:$N$502,7,0)))","v":{"$error":"#N/A"}},{"$f":"IF(C301=\"\",\"\",IF(VLOOKUP(C301,漢字書き!$A$2:$N$502,7,0)=0,\"\",VLOOKUP(C301,漢字書き!$A$2:$N$502,7,0)))","v":{"$error":"#N/A"}},{"$f":"IF(D301=\"\",\"\",IF(VLOOKUP(D301,漢字書き!$A$2:$N$502,7,0)=0,\"\",VLOOKUP(D301,漢字書き!$A$2:$N$502,7,0)))","v":{"$error":"#N/A"}},{"$f":"IF(E301=\"\",\"\",IF(VLOOKUP(E301,漢字書き!$A$2:$N$502,7,0)=0,\"\",VLOOKUP(E301,漢字書き!$A$2:$N$502,7,0)))","v":{"$error":"#N/A"}},{"$f":"IF(F301=\"\",\"\",IF(VLOOKUP(F301,漢字書き!$A$2:$N$502,7,0)=0,\"\",VLOOKUP(F301,漢字書き!$A$2:$N$502,7,0)))","v":{"$error":"#N/A"}},{"$f":"IF(G301=\"\",\"\",IF(VLOOKUP(G301,漢字書き!$A$2:$N$502,7,0)=0,\"\",VLOOKUP(G301,漢字書き!$A$2:$N$502,7,0)))","v":{"$error":"#N/A"}},{"$f":"IF(H301=\"\",\"\",IF(VLOOKUP(H301,漢字書き!$A$2:$N$502,7,0)=0,\"\",VLOOKUP(H301,漢字書き!$A$2:$N$502,7,0)))","v":{"$error":"#N/A"}},{"$f":"IF(I301=\"\",\"\",IF(VLOOKUP(I301,漢字書き!$A$2:$N$502,7,0)=0,\"\",VLOOKUP(I301,漢字書き!$A$2:$N$502,7,0)))","v":{"$error":"#N/A"}},{"$f":"IF(J301=\"\",\"\",IF(VLOOKUP(J301,漢字書き!$A$2:$N$502,7,0)=0,\"\",VLOOKUP(J301,漢字書き!$A$2:$N$502,7,0)))","v":{"$error":"#N/A"}},{"$f":"IF(K301=\"\",\"\",IF(VLOOKUP(K301,漢字読み!$A$2:$O$502,7,0)=0,\"\",VLOOKUP(K301,漢字読み!$A$2:$O$502,7,0)))","v":{"$error":"#N/A"}},{"$f":"IF(L301=\"\",\"\",IF(VLOOKUP(L301,漢字読み!$A$2:$O$502,7,0)=0,\"\",VLOOKUP(L301,漢字読み!$A$2:$O$502,7,0)))","v":{"$error":"#N/A"}},{"$f":"IF(M301=\"\",\"\",IF(VLOOKUP(M301,漢字読み!$A$2:$O$502,7,0)=0,\"\",VLOOKUP(M301,漢字読み!$A$2:$O$502,7,0)))","v":{"$error":"#N/A"}},{"$f":"IF(N301=\"\",\"\",IF(VLOOKUP(N301,漢字読み!$A$2:$O$502,7,0)=0,\"\",VLOOKUP(N301,漢字読み!$A$2:$O$502,7,0)))","v":{"$error":"#N/A"}},{"$f":"IF(O301=\"\",\"\",IF(VLOOKUP(O301,漢字読み!$A$2:$O$502,7,0)=0,\"\",VLOOKUP(O301,漢字読み!$A$2:$O$502,7,0)))","v":{"$error":"#N/A"}},{"$f":"IF(P301=\"\",\"\",IF(VLOOKUP(P301,漢字読み!$A$2:$O$502,7,0)=0,\"\",VLOOKUP(P301,漢字読み!$A$2:$O$502,7,0)))","v":{"$error":"#N/A"}},{"$f":"IF(Q301=\"\",\"\",IF(VLOOKUP(Q301,漢字読み!$A$2:$O$502,7,0)=0,\"\",VLOOKUP(Q301,漢字読み!$A$2:$O$502,7,0)))","v":{"$error":"#N/A"}},{"$f":"IF(R301=\"\",\"\",IF(VLOOKUP(R301,漢字読み!$A$2:$O$502,7,0)=0,\"\",VLOOKUP(R301,漢字読み!$A$2:$O$502,7,0)))","v":{"$error":"#N/A"}},{"$f":"IF(S301=\"\",\"\",IF(VLOOKUP(S301,漢字読み!$A$2:$O$502,7,0)=0,\"\",VLOOKUP(S301,漢字読み!$A$2:$O$502,7,0)))","v":{"$error":"#N/A"}},{"$f":"IF(T301=\"\",\"\",IF(VLOOKUP(T301,漢字読み!$A$2:$O$502,7,0)=0,\"\",VLOOKUP(T301,漢字読み!$A$2:$O$502,7,0)))","v":{"$error":"#N/A"}},null,null,"和歌山県教育委員会"]
[{"$f":"INDIRECT(\"'関数（書き）'!C\" & COLUMN(B$1)+SUM($AD$2:$AD307))","v":0},{"$f":"INDIRECT(\"'関数（書き）'!C\" & COLUMN(C$1)+SUM($AD$2:$AD307))","v":0},{"$f":"INDIRECT(\"'関数（書き）'!C\" & COLUMN(D$1)+SUM($AD$2:$AD307))","v":0},{"$f":"INDIRECT(\"'関数（書き）'!C\" & COLUMN(E$1)+SUM($AD$2:$AD307))","v":0},{"$f":"INDIRECT(\"'関数（書き）'!C\" & COLUMN(F$1)+SUM($AD$2:$AD307))","v":0},{"$f":"INDIRECT(\"'関数（書き）'!C\" & COLUMN(G$1)+SUM($AD$2:$AD307))","v":0},{"$f":"INDIRECT(\"'関数（書き）'!C\" & COLUMN(H$1)+SUM($AD$2:$AD307))","v":0},{"$f":"INDIRECT(\"'関数（書き）'!C\" & COLUMN(I$1)+SUM($AD$2:$AD307))","v":0},{"$f":"INDIRECT(\"'関数（書き）'!C\" & COLUMN(J$1)+SUM($AD$2:$AD307))","v":0},{"$f":"INDIRECT(\"'関数（書き）'!C\" & COLUMN(K$1)+SUM($AD$2:$AD307))","v":0},{"$f":"INDIRECT(\"'関数（読み）'!C\" & COLUMN(B$1)+SUM($AD$2:$AD307))","v":0},{"$f":"INDIRECT(\"'関数（読み）'!C\" & COLUMN(C$1)+SUM($AD$2:$AD307))","v":0},{"$f":"INDIRECT(\"'関数（読み）'!C\" & COLUMN(D$1)+SUM($AD$2:$AD307))","v":0},{"$f":"INDIRECT(\"'関数（読み）'!C\" & COLUMN(E$1)+SUM($AD$2:$AD307))","v":0},{"$f":"INDIRECT(\"'関数（読み）'!C\" & COLUMN(F$1)+SUM($AD$2:$AD307))","v":0},{"$f":"INDIRECT(\"'関数（読み）'!C\" & COLUMN(G$1)+SUM($AD$2:$AD307))","v":0},{"$f":"INDIRECT(\"'関数（読み）'!C\" & COLUMN(H$1)+SUM($AD$2:$AD307))","v":0},{"$f":"INDIRECT(\"'関数（読み）'!C\" & COLUMN(I$1)+SUM($AD$2:$AD307))","v":0},{"$f":"INDIRECT(\"'関数（読み）'!C\" & COLUMN(J$1)+SUM($AD$2:$AD307))","v":0},{"$f":"INDIRECT(\"'関数（読み）'!C\" & COLUMN(K$1)+SUM($AD$2:$AD307))","v":0}]
["⑳","⑲","⑱","⑰","⑯","⑮","⑭","⑬","⑫","⑪","⑩","⑨","⑧","⑦","⑥","⑤","④","③","②","①","次の［　　　　］の部分の漢字には読みがなをひらがなで書き、カタカナは漢字に直しなさい。",10,"「漢字の博士検定試験」練習問題　",null,null,null,null,null,"←",10,"問",{"$f":"AH302+1","v":311},"～",{"$f":"SUM($AD$2:$AD307)+10","v":320},"問まで",{"$f":"COUNTIF($A$1:$T$200,T308)","v":0}]
[{"$f":"IF(A306=\"\",\"\",VLOOKUP(A306,漢字書き!$A$2:$N$506,6,0))","v":{"$error":"#N/A"}},{"$f":"IF(B306=\"\",\"\",VLOOKUP(B306,漢字書き!$A$2:$N$506,6,0))","v":{"$error":"#N/A"}},{"$f":"IF(C306=\"\",\"\",VLOOKUP(C306,漢字書き!$A$2:$N$506,6,0))","v":{"$error":"#N/A"}},{"$f":"IF(D306=\"\",\"\",VLOOKUP(D306,漢字書き!$A$2:$N$506,6,0))","v":{"$error":"#N/A"}},{"$f":"IF(E306=\"\",\"\",VLOOKUP(E306,漢字書き!$A$2:$N$506,6,0))","v":{"$error":"#N/A"}},{"$f":"IF(F306=\"\",\"\",VLOOKUP(F306,漢字書き!$A$2:$N$506,6,0))","v":{"$error":"#N/A"}},{"$f":"IF(G306=\"\",\"\",VLOOKUP(G306,漢字書き!$A$2:$N$506,6,0))","v":{"$error":"#N/A"}},{"$f":"IF(H306=\"\",\"\",VLOOKUP(H306,漢字書き!$A$2:$N$506,6,0))","v":{"$error":"#N/A"}},{"$f":"IF(I306=\"\",\"\",VLOOKUP(I306,漢字書き!$A$2:$N$506,6,0))","v":{"$error":"#N/A"}},{"$f":"IF(J306=\"\",\"\",VLOOKUP(J306,漢字書き!$A$2:$N$506,6,0))","v":{"$error":"#N/A"}},{"$f":"IF(K306=\"\",\"\",VLOOKUP(K306,漢字読み!$A$2:$O$506,6,0))","v":{"$error":"#N/A"}},{"$f":"IF(L306=\"\",\"\",VLOOKUP(L306,漢字読み!$A$2:$O$506,6,0))","v":{"$error":"#N/A"}},{"$f":"IF(M306=\"\",\"\",VLOOKUP(M306,漢字読み!$A$2:$O$506,6,0))","v":{"$error":"#N/A"}},{"$f":"IF(N306=\"\",\"\",VLOOKUP(N306,漢字読み!$A$2:$O$506,6,0))","v":{"$error":"#N/A"}},{"$f":"IF(O306=\"\",\"\",VLOOKUP(O306,漢字読み!$A$2:$O$506,6,0))","v":{"$error":"#N/A"}},{"$f":"IF(P306=\"\",\"\",VLOOKUP(P306,漢字読み!$A$2:$O$506,6,0))","v":{"$error":"#N/A"}},{"$f":"IF(Q306=\"\",\"\",VLOOKUP(Q306,漢字読み!$A$2:$O$506,6,0))","v":{"$error":"#N/A"}},{"$f":"IF(R306=\"\",\"\",VLOOKUP(R306,漢字読み!$A$2:$O$506,6,0))","v":{"$error":"#N/A"}},{"$f":"IF(S306=\"\",\"\",VLOOKUP(S306,漢字読み!$A$2:$O$506,6,0))","v":{"$error":"#N/A"}},{"$f":"IF(T306=\"\",\"\",VLOOKUP(T306,漢字読み!$A$2:$O$506,6,0))","v":{"$error":"#N/A"}},null,"級"]
[null,null,null,null,null,null,null,null,null,null,null,null,null,null,null,null,null,null,null,null,null,"名前"]
[{"$f":"IF(A306=\"\",\"\",IF(VLOOKUP(A306,漢字書き!$A$2:$N$502,7,0)=0,\"\",VLOOKUP(A306,漢字書き!$A$2:$N$502,7,0)))","v":{"$error":"#N/A"}},{"$f":"IF(B306=\"\",\"\",IF(VLOOKUP(B306,漢字書き!$A$2:$N$502,7,0)=0,\"\",VLOOKUP(B306,漢字書き!$A$2:$N$502,7,0)))","v":{"$error":"#N/A"}},{"$f":"IF(C306=\"\",\"\",IF(VLOOKUP(C306,漢字書き!$A$2:$N$502,7,0)=0,\"\",VLOOKUP(C306,漢字書き!$A$2:$N$502,7,0)))","v":{"$error":"#N/A"}},{"$f":"IF(D306=\"\",\"\",IF(VLOOKUP(D306,漢字書き!$A$2:$N$502,7,0)=0,\"\",VLOOKUP(D306,漢字書き!$A$2:$N$502,7,0)))","v":{"$error":"#N/A"}},{"$f":"IF(E306=\"\",\"\",IF(VLOOKUP(E306,漢字書き!$A$2:$N$502,7,0)=0,\"\",VLOOKUP(E306,漢字書き!$A$2:$N$502,7,0)))","v":{"$error":"#N/A"}},{"$f":"IF(F306=\"\",\"\",IF(VLOOKUP(F306,漢字書き!$A$2:$N$502,7,0)=0,\"\",VLOOKUP(F306,漢字書き!$A$2:$N$502,7,0)))","v":{"$error":"#N/A"}},{"$f":"IF(G306=\"\",\"\",IF(VLOOKUP(G306,漢字書き!$A$2:$N$502,7,0)=0,\"\",VLOOKUP(G306,漢字書き!$A$2:$N$502,7,0)))","v":{"$error":"#N/A"}},{"$f":"IF(H306=\"\",\"\",IF(VLOOKUP(H306,漢字書き!$A$2:$N$502,7,0)=0,\"\",VLOOKUP(H306,漢字書き!$A$2:$N$502,7,0)))","v":{"$error":"#N/A"}},{"$f":"IF(I306=\"\",\"\",IF(VLOOKUP(I306,漢字書き!$A$2:$N$502,7,0)=0,\"\",VLOOKUP(I306,漢字書き!$A$2:$N$502,7,0)))","v":{"$error":"#N/A"}},{"$f":"IF(J306=\"\",\"\",IF(VLOOKUP(J306,漢字書き!$A$2:$N$502,7,0)=0,\"\",VLOOKUP(J306,漢字書き!$A$2:$N$502,7,0)))","v":{"$error":"#N/A"}},{"$f":"IF(K306=\"\",\"\",IF(VLOOKUP(K306,漢字読み!$A$2:$O$502,7,0)=0,\"\",VLOOKUP(K306,漢字読み!$A$2:$O$502,7,0)))","v":{"$error":"#N/A"}},{"$f":"IF(L306=\"\",\"\",IF(VLOOKUP(L306,漢字読み!$A$2:$O$502,7,0)=0,\"\",VLOOKUP(L306,漢字読み!$A$2:$O$502,7,0)))","v":{"$error":"#N/A"}},{"$f":"IF(M306=\"\",\"\",IF(VLOOKUP(M306,漢字読み!$A$2:$O$502,7,0)=0,\"\",VLOOKUP(M306,漢字読み!$A$2:$O$502,7,0)))","v":{"$error":"#N/A"}},{"$f":"IF(N306=\"\",\"\",IF(VLOOKUP(N306,漢字読み!$A$2:$O$502,7,0)=0,\"\",VLOOKUP(N306,漢字読み!$A$2:$O$502,7,0)))","v":{"$error":"#N/A"}},{"$f":"IF(O306=\"\",\"\",IF(VLOOKUP(O306,漢字読み!$A$2:$O$502,7,0)=0,\"\",VLOOKUP(O306,漢字読み!$A$2:$O$502,7,0)))","v":{"$error":"#N/A"}},{"$f":"IF(P306=\"\",\"\",IF(VLOOKUP(P306,漢字読み!$A$2:$O$502,7,0)=0,\"\",VLOOKUP(P306,漢字読み!$A$2:$O$502,7,0)))","v":{"$error":"#N/A"}},{"$f":"IF(Q306=\"\",\"\",IF(VLOOKUP(Q306,漢字読み!$A$2:$O$502,7,0)=0,\"\",VLOOKUP(Q306,漢字読み!$A$2:$O$502,7,0)))","v":{"$error":"#N/A"}},{"$f":"IF(R306=\"\",\"\",IF(VLOOKUP(R306,漢字読み!$A$2:$O$502,7,0)=0,\"\",VLOOKUP(R306,漢字読み!$A$2:$O$502,7,0)))","v":{"$error":"#N/A"}},{"$f":"IF(S306=\"\",\"\",IF(VLOOKUP(S306,漢字読み!$A$2:$O$502,7,0)=0,\"\",VLOOKUP(S306,漢字読み!$A$2:$O$502,7,0)))","v":{"$error":"#N/A"}},{"$f":"IF(T306=\"\",\"\",IF(VLOOKUP(T306,漢字読み!$A$2:$O$502,7,0)=0,\"\",VLOOKUP(T306,漢字読み!$A$2:$O$502,7,0)))","v":{"$error":"#N/A"}},null,null,"和歌山県教育委員会"]
[{"$f":"A301","v":0},0,0,0,0,0,0,0,0,0,0,0,0,0,0,0,0,0,0,0]
["⑳","⑲","⑱","⑰","⑯","⑮","⑭","⑬","⑫","⑪","⑩","⑨","⑧","⑦","⑥","⑤","④","③","②","①","次の［　　　　］の部分の漢字には読みがなをひらがなで書き、カタカナは漢字に直しなさい。",10,"「漢字の博士検定試験」練習問題　"]
[{"$f":"IF(A311=\"\",\"\",VLOOKUP(A311,漢字書き!$A$2:$N$506,6,0))","v":{"$error":"#N/A"}},{"$f":"IF(B311=\"\",\"\",VLOOKUP(B311,漢字書き!$A$2:$N$506,6,0))","v":{"$error":"#N/A"}},{"$f":"IF(C311=\"\",\"\",VLOOKUP(C311,漢字書き!$A$2:$N$506,6,0))","v":{"$error":"#N/A"}},{"$f":"IF(D311=\"\",\"\",VLOOKUP(D311,漢字書き!$A$2:$N$506,6,0))","v":{"$error":"#N/A"}},{"$f":"IF(E311=\"\",\"\",VLOOKUP(E311,漢字書き!$A$2:$N$506,6,0))","v":{"$error":"#N/A"}},{"$f":"IF(F311=\"\",\"\",VLOOKUP(F311,漢字書き!$A$2:$N$506,6,0))","v":{"$error":"#N/A"}},{"$f":"IF(G311=\"\",\"\",VLOOKUP(G311,漢字書き!$A$2:$N$506,6,0))","v":{"$error":"#N/A"}},{"$f":"IF(H311=\"\",\"\",VLOOKUP(H311,漢字書き!$A$2:$N$506,6,0))","v":{"$error":"#N/A"}},{"$f":"IF(I311=\"\",\"\",VLOOKUP(I311,漢字書き!$A$2:$N$506,6,0))","v":{"$error":"#N/A"}},{"$f":"IF(J311=\"\",\"\",VLOOKUP(J311,漢字書き!$A$2:$N$506,6,0))","v":{"$error":"#N/A"}},{"$f":"IF(K311=\"\",\"\",VLOOKUP(K311,漢字読み!$A$2:$O$506,6,0))","v":{"$error":"#N/A"}},{"$f":"IF(L311=\"\",\"\",VLOOKUP(L311,漢字読み!$A$2:$O$506,6,0))","v":{"$error":"#N/A"}},{"$f":"IF(M311=\"\",\"\",VLOOKUP(M311,漢字読み!$A$2:$O$506,6,0))","v":{"$error":"#N/A"}},{"$f":"IF(N311=\"\",\"\",VLOOKUP(N311,漢字読み!$A$2:$O$506,6,0))","v":{"$error":"#N/A"}},{"$f":"IF(O311=\"\",\"\",VLOOKUP(O311,漢字読み!$A$2:$O$506,6,0))","v":{"$error":"#N/A"}},{"$f":"IF(P311=\"\",\"\",VLOOKUP(P311,漢字読み!$A$2:$O$506,6,0))","v":{"$error":"#N/A"}},{"$f":"IF(Q311=\"\",\"\",VLOOKUP(Q311,漢字読み!$A$2:$O$506,6,0))","v":{"$error":"#N/A"}},{"$f":"IF(R311=\"\",\"\",VLOOKUP(R311,漢字読み!$A$2:$O$506,6,0))","v":{"$error":"#N/A"}},{"$f":"IF(S311=\"\",\"\",VLOOKUP(S311,漢字読み!$A$2:$O$506,6,0))","v":{"$error":"#N/A"}},{"$f":"IF(T311=\"\",\"\",VLOOKUP(T311,漢字読み!$A$2:$O$506,6,0))","v":{"$error":"#N/A"}},null,"級"]
[{"$f":"IF(A$11=\"\",\"\",VLOOKUP(A311,漢字書き!$A$2:$O$506,8,0))","v":{"$error":"#N/A"}},{"$f":"IF(B$11=\"\",\"\",VLOOKUP(B311,漢字書き!$A$2:$O$506,8,0))","v":{"$error":"#N/A"}},{"$f":"IF(C$11=\"\",\"\",VLOOKUP(C311,漢字書き!$A$2:$O$506,8,0))","v":{"$error":"#N/A"}},{"$f":"IF(D$11=\"\",\"\",VLOOKUP(D311,漢字書き!$A$2:$O$506,8,0))","v":{"$error":"#N/A"}},{"$f":"IF(E$11=\"\",\"\",VLOOKUP(E311,漢字書き!$A$2:$O$506,8,0))","v":{"$error":"#N/A"}},{"$f":"IF(F$11=\"\",\"\",VLOOKUP(F311,漢字書き!$A$2:$O$506,8,0))","v":{"$error":"#N/A"}},{"$f":"IF(G$11=\"\",\"\",VLOOKUP(G311,漢字書き!$A$2:$O$506,8,0))","v":{"$error":"#N/A"}},{"$f":"IF(H$11=\"\",\"\",VLOOKUP(H311,漢字書き!$A$2:$O$506,8,0))","v":{"$error":"#N/A"}},{"$f":"IF(I$11=\"\",\"\",VLOOKUP(I311,漢字書き!$A$2:$O$506,8,0))","v":{"$error":"#N/A"}},{"$f":"IF(J$11=\"\",\"\",VLOOKUP(J311,漢字書き!$A$2:$O$506,8,0))","v":{"$error":"#N/A"}},{"$f":"IF(K$11=\"\",\"\",VLOOKUP(K311,漢字読み!$A$2:$O$506,8,0))","v":{"$error":"#N/A"}},{"$f":"IF(L$11=\"\",\"\",VLOOKUP(L311,漢字読み!$A$2:$O$506,8,0))","v":{"$error":"#N/A"}},{"$f":"IF(M$11=\"\",\"\",VLOOKUP(M311,漢字読み!$A$2:$O$506,8,0))","v":{"$error":"#N/A"}},{"$f":"IF(N$11=\"\",\"\",VLOOKUP(N311,漢字読み!$A$2:$O$506,8,0))","v":{"$error":"#N/A"}},{"$f":"IF(O$11=\"\",\"\",VLOOKUP(O311,漢字読み!$A$2:$O$506,8,0))","v":{"$error":"#N/A"}},{"$f":"IF(P$11=\"\",\"\",VLOOKUP(P311,漢字読み!$A$2:$O$506,8,0))","v":{"$error":"#N/A"}},{"$f":"IF(Q$11=\"\",\"\",VLOOKUP(Q311,漢字読み!$A$2:$O$506,8,0))","v":{"$error":"#N/A"}},{"$f":"IF(R$11=\"\",\"\",VLOOKUP(R311,漢字読み!$A$2:$O$506,8,0))","v":{"$error":"#N/A"}},{"$f":"IF(S$11=\"\",\"\",VLOOKUP(S311,漢字読み!$A$2:$O$506,8,0))","v":{"$error":"#N/A"}},{"$f":"IF(T$11=\"\",\"\",VLOOKUP(T311,漢字読み!$A$2:$O$506,8,0))","v":{"$error":"#N/A"}},null,"名前"]
[{"$f":"IF(A311=\"\",\"\",IF(VLOOKUP(A311,漢字書き!$A$2:$N$502,7,0)=0,\"\",VLOOKUP(A311,漢字書き!$A$2:$N$502,7,0)))","v":{"$error":"#N/A"}},{"$f":"IF(B311=\"\",\"\",IF(VLOOKUP(B311,漢字書き!$A$2:$N$502,7,0)=0,\"\",VLOOKUP(B311,漢字書き!$A$2:$N$502,7,0)))","v":{"$error":"#N/A"}},{"$f":"IF(C311=\"\",\"\",IF(VLOOKUP(C311,漢字書き!$A$2:$N$502,7,0)=0,\"\",VLOOKUP(C311,漢字書き!$A$2:$N$502,7,0)))","v":{"$error":"#N/A"}},{"$f":"IF(D311=\"\",\"\",IF(VLOOKUP(D311,漢字書き!$A$2:$N$502,7,0)=0,\"\",VLOOKUP(D311,漢字書き!$A$2:$N$502,7,0)))","v":{"$error":"#N/A"}},{"$f":"IF(E311=\"\",\"\",IF(VLOOKUP(E311,漢字書き!$A$2:$N$502,7,0)=0,\"\",VLOOKUP(E311,漢字書き!$A$2:$N$502,7,0)))","v":{"$error":"#N/A"}},{"$f":"IF(F311=\"\",\"\",IF(VLOOKUP(F311,漢字書き!$A$2:$N$502,7,0)=0,\"\",VLOOKUP(F311,漢字書き!$A$2:$N$502,7,0)))","v":{"$error":"#N/A"}},{"$f":"IF(G311=\"\",\"\",IF(VLOOKUP(G311,漢字書き!$A$2:$N$502,7,0)=0,\"\",VLOOKUP(G311,漢字書き!$A$2:$N$502,7,0)))","v":{"$error":"#N/A"}},{"$f":"IF(H311=\"\",\"\",IF(VLOOKUP(H311,漢字書き!$A$2:$N$502,7,0)=0,\"\",VLOOKUP(H311,漢字書き!$A$2:$N$502,7,0)))","v":{"$error":"#N/A"}},{"$f":"IF(I311=\"\",\"\",IF(VLOOKUP(I311,漢字書き!$A$2:$N$502,7,0)=0,\"\",VLOOKUP(I311,漢字書き!$A$2:$N$502,7,0)))","v":{"$error":"#N/A"}},{"$f":"IF(J311=\"\",\"\",IF(VLOOKUP(J311,漢字書き!$A$2:$N$502,7,0)=0,\"\",VLOOKUP(J311,漢字書き!$A$2:$N$502,7,0)))","v":{"$error":"#N/A"}},{"$f":"IF(K311=\"\",\"\",IF(VLOOKUP(K311,漢字読み!$A$2:$O$502,7,0)=0,\"\",VLOOKUP(K311,漢字読み!$A$2:$O$502,7,0)))","v":{"$error":"#N/A"}},{"$f":"IF(L311=\"\",\"\",IF(VLOOKUP(L311,漢字読み!$A$2:$O$502,7,0)=0,\"\",VLOOKUP(L311,漢字読み!$A$2:$O$502,7,0)))","v":{"$error":"#N/A"}},{"$f":"IF(M311=\"\",\"\",IF(VLOOKUP(M311,漢字読み!$A$2:$O$502,7,0)=0,\"\",VLOOKUP(M311,漢字読み!$A$2:$O$502,7,0)))","v":{"$error":"#N/A"}},{"$f":"IF(N311=\"\",\"\",IF(VLOOKUP(N311,漢字読み!$A$2:$O$502,7,0)=0,\"\",VLOOKUP(N311,漢字読み!$A$2:$O$502,7,0)))","v":{"$error":"#N/A"}},{"$f":"IF(O311=\"\",\"\",IF(VLOOKUP(O311,漢字読み!$A$2:$O$502,7,0)=0,\"\",VLOOKUP(O311,漢字読み!$A$2:$O$502,7,0)))","v":{"$error":"#N/A"}},{"$f":"IF(P311=\"\",\"\",IF(VLOOKUP(P311,漢字読み!$A$2:$O$502,7,0)=0,\"\",VLOOKUP(P311,漢字読み!$A$2:$O$502,7,0)))","v":{"$error":"#N/A"}},{"$f":"IF(Q311=\"\",\"\",IF(VLOOKUP(Q311,漢字読み!$A$2:$O$502,7,0)=0,\"\",VLOOKUP(Q311,漢字読み!$A$2:$O$502,7,0)))","v":{"$error":"#N/A"}},{"$f":"IF(R311=\"\",\"\",IF(VLOOKUP(R311,漢字読み!$A$2:$O$502,7,0)=0,\"\",VLOOKUP(R311,漢字読み!$A$2:$O$502,7,0)))","v":{"$error":"#N/A"}},{"$f":"IF(S311=\"\",\"\",IF(VLOOKUP(S311,漢字読み!$A$2:$O$502,7,0)=0,\"\",VLOOKUP(S311,漢字読み!$A$2:$O$502,7,0)))","v":{"$error":"#N/A"}},{"$f":"IF(T311=\"\",\"\",IF(VLOOKUP(T311,漢字読み!$A$2:$O$502,7,0)=0,\"\",VLOOKUP(T311,漢字読み!$A$2:$O$502,7,0)))","v":{"$error":"#N/A"}},null,null,"和歌山県教育委員会"]
[{"$f":"A306","v":0},0,0,0,0,0,0,0,0,0,0,0,0,0,0,0,0,0,0,0]
["⑳","⑲","⑱","⑰","⑯","⑮","⑭","⑬","⑫","⑪","⑩","⑨","⑧","⑦","⑥","⑤","④","③","②","①","次の［　　　　］の部分の漢字には読みがなをひらがなで書き、カタカナは漢字に直しなさい。",10,"「漢字の博士検定試験」練習問題　"]
[{"$f":"IF(A316=\"\",\"\",VLOOKUP(A316,漢字書き!$A$2:$N$506,6,0))","v":{"$error":"#N/A"}},{"$f":"IF(B316=\"\",\"\",VLOOKUP(B316,漢字書き!$A$2:$N$506,6,0))","v":{"$error":"#N/A"}},{"$f":"IF(C316=\"\",\"\",VLOOKUP(C316,漢字書き!$A$2:$N$506,6,0))","v":{"$error":"#N/A"}},{"$f":"IF(D316=\"\",\"\",VLOOKUP(D316,漢字書き!$A$2:$N$506,6,0))","v":{"$error":"#N/A"}},{"$f":"IF(E316=\"\",\"\",VLOOKUP(E316,漢字書き!$A$2:$N$506,6,0))","v":{"$error":"#N/A"}},{"$f":"IF(F316=\"\",\"\",VLOOKUP(F316,漢字書き!$A$2:$N$506,6,0))","v":{"$error":"#N/A"}},{"$f":"IF(G316=\"\",\"\",VLOOKUP(G316,漢字書き!$A$2:$N$506,6,0))","v":{"$error":"#N/A"}},{"$f":"IF(H316=\"\",\"\",VLOOKUP(H316,漢字書き!$A$2:$N$506,6,0))","v":{"$error":"#N/A"}},{"$f":"IF(I316=\"\",\"\",VLOOKUP(I316,漢字書き!$A$2:$N$506,6,0))","v":{"$error":"#N/A"}},{"$f":"IF(J316=\"\",\"\",VLOOKUP(J316,漢字書き!$A$2:$N$506,6,0))","v":{"$error":"#N/A"}},{"$f":"IF(K316=\"\",\"\",VLOOKUP(K316,漢字読み!$A$2:$O$506,6,0))","v":{"$error":"#N/A"}},{"$f":"IF(L316=\"\",\"\",VLOOKUP(L316,漢字読み!$A$2:$O$506,6,0))","v":{"$error":"#N/A"}},{"$f":"IF(M316=\"\",\"\",VLOOKUP(M316,漢字読み!$A$2:$O$506,6,0))","v":{"$error":"#N/A"}},{"$f":"IF(N316=\"\",\"\",VLOOKUP(N316,漢字読み!$A$2:$O$506,6,0))","v":{"$error":"#N/A"}},{"$f":"IF(O316=\"\",\"\",VLOOKUP(O316,漢字読み!$A$2:$O$506,6,0))","v":{"$error":"#N/A"}},{"$f":"IF(P316=\"\",\"\",VLOOKUP(P316,漢字読み!$A$2:$O$506,6,0))","v":{"$error":"#N/A"}},{"$f":"IF(Q316=\"\",\"\",VLOOKUP(Q316,漢字読み!$A$2:$O$506,6,0))","v":{"$error":"#N/A"}},{"$f":"IF(R316=\"\",\"\",VLOOKUP(R316,漢字読み!$A$2:$O$506,6,0))","v":{"$error":"#N/A"}},{"$f":"IF(S316=\"\",\"\",VLOOKUP(S316,漢字読み!$A$2:$O$506,6,0))","v":{"$error":"#N/A"}},{"$f":"IF(T316=\"\",\"\",VLOOKUP(T316,漢字読み!$A$2:$O$506,6,0))","v":{"$error":"#N/A"}},null,"級"]
[{"$f":"IF(A$16=\"\",\"\",VLOOKUP(A316,漢字書き!$A$2:$O$506,8,0))","v":{"$error":"#N/A"}},{"$f":"IF(B$16=\"\",\"\",VLOOKUP(B316,漢字書き!$A$2:$O$506,8,0))","v":{"$error":"#N/A"}},{"$f":"IF(C$16=\"\",\"\",VLOOKUP(C316,漢字書き!$A$2:$O$506,8,0))","v":{"$error":"#N/A"}},{"$f":"IF(D$16=\"\",\"\",VLOOKUP(D316,漢字書き!$A$2:$O$506,8,0))","v":{"$error":"#N/A"}},{"$f":"IF(E$16=\"\",\"\",VLOOKUP(E316,漢字書き!$A$2:$O$506,8,0))","v":{"$error":"#N/A"}},{"$f":"IF(F$16=\"\",\"\",VLOOKUP(F316,漢字書き!$A$2:$O$506,8,0))","v":{"$error":"#N/A"}},{"$f":"IF(G$16=\"\",\"\",VLOOKUP(G316,漢字書き!$A$2:$O$506,8,0))","v":{"$error":"#N/A"}},{"$f":"IF(H$16=\"\",\"\",VLOOKUP(H316,漢字書き!$A$2:$O$506,8,0))","v":{"$error":"#N/A"}},{"$f":"IF(I$16=\"\",\"\",VLOOKUP(I316,漢字書き!$A$2:$O$506,8,0))","v":{"$error":"#N/A"}},{"$f":"IF(J$16=\"\",\"\",VLOOKUP(J316,漢字書き!$A$2:$O$506,8,0))","v":{"$error":"#N/A"}},{"$f":"IF(K$16=\"\",\"\",VLOOKUP(K316,漢字読み!$A$2:$O$506,8,0))","v":{"$error":"#N/A"}},{"$f":"IF(L$16=\"\",\"\",VLOOKUP(L316,漢字読み!$A$2:$O$506,8,0))","v":{"$error":"#N/A"}},{"$f":"IF(M$16=\"\",\"\",VLOOKUP(M316,漢字読み!$A$2:$O$506,8,0))","v":{"$error":"#N/A"}},{"$f":"IF(N$16=\"\",\"\",VLOOKUP(N316,漢字読み!$A$2:$O$506,8,0))","v":{"$error":"#N/A"}},{"$f":"IF(O$16=\"\",\"\",VLOOKUP(O316,漢字読み!$A$2:$O$506,8,0))","v":{"$error":"#N/A"}},{"$f":"IF(P$16=\"\",\"\",VLOOKUP(P316,漢字読み!$A$2:$O$506,8,0))","v":{"$error":"#N/A"}},{"$f":"IF(Q$16=\"\",\"\",VLOOKUP(Q316,漢字読み!$A$2:$O$506,8,0))","v":{"$error":"#N/A"}},{"$f":"IF(R$16=\"\",\"\",VLOOKUP(R316,漢字読み!$A$2:$O$506,8,0))","v":{"$error":"#N/A"}},{"$f":"IF(S$16=\"\",\"\",VLOOKUP(S316,漢字読み!$A$2:$O$506,8,0))","v":{"$error":"#N/A"}},{"$f":"IF(T$16=\"\",\"\",VLOOKUP(T316,漢字読み!$A$2:$O$506,8,0))","v":{"$error":"#N/A"}},null,"名前"]
[{"$f":"IF(A316=\"\",\"\",IF(VLOOKUP(A316,漢字書き!$A$2:$N$502,7,0)=0,\"\",VLOOKUP(A316,漢字書き!$A$2:$N$502,7,0)))","v":{"$error":"#N/A"}},{"$f":"IF(B316=\"\",\"\",IF(VLOOKUP(B316,漢字書き!$A$2:$N$502,7,0)=0,\"\",VLOOKUP(B316,漢字書き!$A$2:$N$502,7,0)))","v":{"$error":"#N/A"}},{"$f":"IF(C316=\"\",\"\",IF(VLOOKUP(C316,漢字書き!$A$2:$N$502,7,0)=0,\"\",VLOOKUP(C316,漢字書き!$A$2:$N$502,7,0)))","v":{"$error":"#N/A"}},{"$f":"IF(D316=\"\",\"\",IF(VLOOKUP(D316,漢字書き!$A$2:$N$502,7,0)=0,\"\",VLOOKUP(D316,漢字書き!$A$2:$N$502,7,0)))","v":{"$error":"#N/A"}},{"$f":"IF(E316=\"\",\"\",IF(VLOOKUP(E316,漢字書き!$A$2:$N$502,7,0)=0,\"\",VLOOKUP(E316,漢字書き!$A$2:$N$502,7,0)))","v":{"$error":"#N/A"}},{"$f":"IF(F316=\"\",\"\",IF(VLOOKUP(F316,漢字書き!$A$2:$N$502,7,0)=0,\"\",VLOOKUP(F316,漢字書き!$A$2:$N$502,7,0)))","v":{"$error":"#N/A"}},{"$f":"IF(G316=\"\",\"\",IF(VLOOKUP(G316,漢字書き!$A$2:$N$502,7,0)=0,\"\",VLOOKUP(G316,漢字書き!$A$2:$N$502,7,0)))","v":{"$error":"#N/A"}},{"$f":"IF(H316=\"\",\"\",IF(VLOOKUP(H316,漢字書き!$A$2:$N$502,7,0)=0,\"\",VLOOKUP(H316,漢字書き!$A$2:$N$502,7,0)))","v":{"$error":"#N/A"}},{"$f":"IF(I316=\"\",\"\",IF(VLOOKUP(I316,漢字書き!$A$2:$N$502,7,0)=0,\"\",VLOOKUP(I316,漢字書き!$A$2:$N$502,7,0)))","v":{"$error":"#N/A"}},{"$f":"IF(J316=\"\",\"\",IF(VLOOKUP(J316,漢字書き!$A$2:$N$502,7,0)=0,\"\",VLOOKUP(J316,漢字書き!$A$2:$N$502,7,0)))","v":{"$error":"#N/A"}},{"$f":"IF(K316=\"\",\"\",IF(VLOOKUP(K316,漢字読み!$A$2:$O$502,7,0)=0,\"\",VLOOKUP(K316,漢字読み!$A$2:$O$502,7,0)))","v":{"$error":"#N/A"}},{"$f":"IF(L316=\"\",\"\",IF(VLOOKUP(L316,漢字読み!$A$2:$O$502,7,0)=0,\"\",VLOOKUP(L316,漢字読み!$A$2:$O$502,7,0)))","v":{"$error":"#N/A"}},{"$f":"IF(M316=\"\",\"\",IF(VLOOKUP(M316,漢字読み!$A$2:$O$502,7,0)=0,\"\",VLOOKUP(M316,漢字読み!$A$2:$O$502,7,0)))","v":{"$error":"#N/A"}},{"$f":"IF(N316=\"\",\"\",IF(VLOOKUP(N316,漢字読み!$A$2:$O$502,7,0)=0,\"\",VLOOKUP(N316,漢字読み!$A$2:$O$502,7,0)))","v":{"$error":"#N/A"}},{"$f":"IF(O316=\"\",\"\",IF(VLOOKUP(O316,漢字読み!$A$2:$O$502,7,0)=0,\"\",VLOOKUP(O316,漢字読み!$A$2:$O$502,7,0)))","v":{"$error":"#N/A"}},{"$f":"IF(P316=\"\",\"\",IF(VLOOKUP(P316,漢字読み!$A$2:$O$502,7,0)=0,\"\",VLOOKUP(P316,漢字読み!$A$2:$O$502,7,0)))","v":{"$error":"#N/A"}},{"$f":"IF(Q316=\"\",\"\",IF(VLOOKUP(Q316,漢字読み!$A$2:$O$502,7,0)=0,\"\",VLOOKUP(Q316,漢字読み!$A$2:$O$502,7,0)))","v":{"$error":"#N/A"}},{"$f":"IF(R316=\"\",\"\",IF(VLOOKUP(R316,漢字読み!$A$2:$O$502,7,0)=0,\"\",VLOOKUP(R316,漢字読み!$A$2:$O$502,7,0)))","v":{"$error":"#N/A"}},{"$f":"IF(S316=\"\",\"\",IF(VLOOKUP(S316,漢字読み!$A$2:$O$502,7,0)=0,\"\",VLOOKUP(S316,漢字読み!$A$2:$O$502,7,0)))","v":{"$error":"#N/A"}},{"$f":"IF(T316=\"\",\"\",IF(VLOOKUP(T316,漢字読み!$A$2:$O$502,7,0)=0,\"\",VLOOKUP(T316,漢字読み!$A$2:$O$502,7,0)))","v":{"$error":"#N/A"}},null,null,"和歌山県教育委員会"]
[{"$f":"INDIRECT(\"'関数（書き）'!C\" & COLUMN(B$1)+SUM($AD$2:$AD322))","v":0},{"$f":"INDIRECT(\"'関数（書き）'!C\" & COLUMN(C$1)+SUM($AD$2:$AD322))","v":0},{"$f":"INDIRECT(\"'関数（書き）'!C\" & COLUMN(D$1)+SUM($AD$2:$AD322))","v":0},{"$f":"INDIRECT(\"'関数（書き）'!C\" & COLUMN(E$1)+SUM($AD$2:$AD322))","v":0},{"$f":"INDIRECT(\"'関数（書き）'!C\" & COLUMN(F$1)+SUM($AD$2:$AD322))","v":0},{"$f":"INDIRECT(\"'関数（書き）'!C\" & COLUMN(G$1)+SUM($AD$2:$AD322))","v":0},{"$f":"INDIRECT(\"'関数（書き）'!C\" & COLUMN(H$1)+SUM($AD$2:$AD322))","v":0},{"$f":"INDIRECT(\"'関数（書き）'!C\" & COLUMN(I$1)+SUM($AD$2:$AD322))","v":0},{"$f":"INDIRECT(\"'関数（書き）'!C\" & COLUMN(J$1)+SUM($AD$2:$AD322))","v":0},{"$f":"INDIRECT(\"'関数（書き）'!C\" & COLUMN(K$1)+SUM($AD$2:$AD322))","v":0},{"$f":"INDIRECT(\"'関数（読み）'!C\" & COLUMN(B$1)+SUM($AD$2:$AD322))","v":0},{"$f":"INDIRECT(\"'関数（読み）'!C\" & COLUMN(C$1)+SUM($AD$2:$AD322))","v":0},{"$f":"INDIRECT(\"'関数（読み）'!C\" & COLUMN(D$1)+SUM($AD$2:$AD322))","v":0},{"$f":"INDIRECT(\"'関数（読み）'!C\" & COLUMN(E$1)+SUM($AD$2:$AD322))","v":0},{"$f":"INDIRECT(\"'関数（読み）'!C\" & COLUMN(F$1)+SUM($AD$2:$AD322))","v":0},{"$f":"INDIRECT(\"'関数（読み）'!C\" & COLUMN(G$1)+SUM($AD$2:$AD322))","v":0},{"$f":"INDIRECT(\"'関数（読み）'!C\" & COLUMN(H$1)+SUM($AD$2:$AD322))","v":0},{"$f":"INDIRECT(\"'関数（読み）'!C\" & COLUMN(I$1)+SUM($AD$2:$AD322))","v":0},{"$f":"INDIRECT(\"'関数（読み）'!C\" & COLUMN(J$1)+SUM($AD$2:$AD322))","v":0},{"$f":"INDIRECT(\"'関数（読み）'!C\" & COLUMN(K$1)+SUM($AD$2:$AD322))","v":0}]
["⑳","⑲","⑱","⑰","⑯","⑮","⑭","⑬","⑫","⑪","⑩","⑨","⑧","⑦","⑥","⑤","④","③","②","①","次の［　　　　］の部分の漢字には読みがなをひらがなで書き、カタカナは漢字に直しなさい。",10,"「漢字の博士検定試験」練習問題　",null,null,null,null,null,"←",10,"問",{"$f":"AH307+1","v":321},"～",{"$f":"SUM($AD$2:$AD322)+10","v":330},"問まで",{"$f":"COUNTIF($A$1:$T$200,T323)","v":0}]
[{"$f":"IF(A321=\"\",\"\",VLOOKUP(A321,漢字書き!$A$2:$N$506,6,0))","v":{"$error":"#N/A"}},{"$f":"IF(B321=\"\",\"\",VLOOKUP(B321,漢字書き!$A$2:$N$506,6,0))","v":{"$error":"#N/A"}},{"$f":"IF(C321=\"\",\"\",VLOOKUP(C321,漢字書き!$A$2:$N$506,6,0))","v":{"$error":"#N/A"}},{"$f":"IF(D321=\"\",\"\",VLOOKUP(D321,漢字書き!$A$2:$N$506,6,0))","v":{"$error":"#N/A"}},{"$f":"IF(E321=\"\",\"\",VLOOKUP(E321,漢字書き!$A$2:$N$506,6,0))","v":{"$error":"#N/A"}},{"$f":"IF(F321=\"\",\"\",VLOOKUP(F321,漢字書き!$A$2:$N$506,6,0))","v":{"$error":"#N/A"}},{"$f":"IF(G321=\"\",\"\",VLOOKUP(G321,漢字書き!$A$2:$N$506,6,0))","v":{"$error":"#N/A"}},{"$f":"IF(H321=\"\",\"\",VLOOKUP(H321,漢字書き!$A$2:$N$506,6,0))","v":{"$error":"#N/A"}},{"$f":"IF(I321=\"\",\"\",VLOOKUP(I321,漢字書き!$A$2:$N$506,6,0))","v":{"$error":"#N/A"}},{"$f":"IF(J321=\"\",\"\",VLOOKUP(J321,漢字書き!$A$2:$N$506,6,0))","v":{"$error":"#N/A"}},{"$f":"IF(K321=\"\",\"\",VLOOKUP(K321,漢字読み!$A$2:$O$506,6,0))","v":{"$error":"#N/A"}},{"$f":"IF(L321=\"\",\"\",VLOOKUP(L321,漢字読み!$A$2:$O$506,6,0))","v":{"$error":"#N/A"}},{"$f":"IF(M321=\"\",\"\",VLOOKUP(M321,漢字読み!$A$2:$O$506,6,0))","v":{"$error":"#N/A"}},{"$f":"IF(N321=\"\",\"\",VLOOKUP(N321,漢字読み!$A$2:$O$506,6,0))","v":{"$error":"#N/A"}},{"$f":"IF(O321=\"\",\"\",VLOOKUP(O321,漢字読み!$A$2:$O$506,6,0))","v":{"$error":"#N/A"}},{"$f":"IF(P321=\"\",\"\",VLOOKUP(P321,漢字読み!$A$2:$O$506,6,0))","v":{"$error":"#N/A"}},{"$f":"IF(Q321=\"\",\"\",VLOOKUP(Q321,漢字読み!$A$2:$O$506,6,0))","v":{"$error":"#N/A"}},{"$f":"IF(R321=\"\",\"\",VLOOKUP(R321,漢字読み!$A$2:$O$506,6,0))","v":{"$error":"#N/A"}},{"$f":"IF(S321=\"\",\"\",VLOOKUP(S321,漢字読み!$A$2:$O$506,6,0))","v":{"$error":"#N/A"}},{"$f":"IF(T321=\"\",\"\",VLOOKUP(T321,漢字読み!$A$2:$O$506,6,0))","v":{"$error":"#N/A"}},null,"級"]
[null,null,null,null,null,null,null,null,null,null,null,null,null,null,null,null,null,null,null,null,null,"名前"]
[{"$f":"IF(A321=\"\",\"\",IF(VLOOKUP(A321,漢字書き!$A$2:$N$502,7,0)=0,\"\",VLOOKUP(A321,漢字書き!$A$2:$N$502,7,0)))","v":{"$error":"#N/A"}},{"$f":"IF(B321=\"\",\"\",IF(VLOOKUP(B321,漢字書き!$A$2:$N$502,7,0)=0,\"\",VLOOKUP(B321,漢字書き!$A$2:$N$502,7,0)))","v":{"$error":"#N/A"}},{"$f":"IF(C321=\"\",\"\",IF(VLOOKUP(C321,漢字書き!$A$2:$N$502,7,0)=0,\"\",VLOOKUP(C321,漢字書き!$A$2:$N$502,7,0)))","v":{"$error":"#N/A"}},{"$f":"IF(D321=\"\",\"\",IF(VLOOKUP(D321,漢字書き!$A$2:$N$502,7,0)=0,\"\",VLOOKUP(D321,漢字書き!$A$2:$N$502,7,0)))","v":{"$error":"#N/A"}},{"$f":"IF(E321=\"\",\"\",IF(VLOOKUP(E321,漢字書き!$A$2:$N$502,7,0)=0,\"\",VLOOKUP(E321,漢字書き!$A$2:$N$502,7,0)))","v":{"$error":"#N/A"}},{"$f":"IF(F321=\"\",\"\",IF(VLOOKUP(F321,漢字書き!$A$2:$N$502,7,0)=0,\"\",VLOOKUP(F321,漢字書き!$A$2:$N$502,7,0)))","v":{"$error":"#N/A"}},{"$f":"IF(G321=\"\",\"\",IF(VLOOKUP(G321,漢字書き!$A$2:$N$502,7,0)=0,\"\",VLOOKUP(G321,漢字書き!$A$2:$N$502,7,0)))","v":{"$error":"#N/A"}},{"$f":"IF(H321=\"\",\"\",IF(VLOOKUP(H321,漢字書き!$A$2:$N$502,7,0)=0,\"\",VLOOKUP(H321,漢字書き!$A$2:$N$502,7,0)))","v":{"$error":"#N/A"}},{"$f":"IF(I321=\"\",\"\",IF(VLOOKUP(I321,漢字書き!$A$2:$N$502,7,0)=0,\"\",VLOOKUP(I321,漢字書き!$A$2:$N$502,7,0)))","v":{"$error":"#N/A"}},{"$f":"IF(J321=\"\",\"\",IF(VLOOKUP(J321,漢字書き!$A$2:$N$502,7,0)=0,\"\",VLOOKUP(J321,漢字書き!$A$2:$N$502,7,0)))","v":{"$error":"#N/A"}},{"$f":"IF(K321=\"\",\"\",IF(VLOOKUP(K321,漢字読み!$A$2:$O$502,7,0)=0,\"\",VLOOKUP(K321,漢字読み!$A$2:$O$502,7,0)))","v":{"$error":"#N/A"}},{"$f":"IF(L321=\"\",\"\",IF(VLOOKUP(L321,漢字読み!$A$2:$O$502,7,0)=0,\"\",VLOOKUP(L321,漢字読み!$A$2:$O$502,7,0)))","v":{"$error":"#N/A"}},{"$f":"IF(M321=\"\",\"\",IF(VLOOKUP(M321,漢字読み!$A$2:$O$502,7,0)=0,\"\",VLOOKUP(M321,漢字読み!$A$2:$O$502,7,0)))","v":{"$error":"#N/A"}},{"$f":"IF(N321=\"\",\"\",IF(VLOOKUP(N321,漢字読み!$A$2:$O$502,7,0)=0,\"\",VLOOKUP(N321,漢字読み!$A$2:$O$502,7,0)))","v":{"$error":"#N/A"}},{"$f":"IF(O321=\"\",\"\",IF(VLOOKUP(O321,漢字読み!$A$2:$O$502,7,0)=0,\"\",VLOOKUP(O321,漢字読み!$A$2:$O$502,7,0)))","v":{"$error":"#N/A"}},{"$f":"IF(P321=\"\",\"\",IF(VLOOKUP(P321,漢字読み!$A$2:$O$502,7,0)=0,\"\",VLOOKUP(P321,漢字読み!$A$2:$O$502,7,0)))","v":{"$error":"#N/A"}},{"$f":"IF(Q321=\"\",\"\",IF(VLOOKUP(Q321,漢字読み!$A$2:$O$502,7,0)=0,\"\",VLOOKUP(Q321,漢字読み!$A$2:$O$502,7,0)))","v":{"$error":"#N/A"}},{"$f":"IF(R321=\"\",\"\",IF(VLOOKUP(R321,漢字読み!$A$2:$O$502,7,0)=0,\"\",VLOOKUP(R321,漢字読み!$A$2:$O$502,7,0)))","v":{"$error":"#N/A"}},{"$f":"IF(S321=\"\",\"\",IF(VLOOKUP(S321,漢字読み!$A$2:$O$502,7,0)=0,\"\",VLOOKUP(S321,漢字読み!$A$2:$O$502,7,0)))","v":{"$error":"#N/A"}},{"$f":"IF(T321=\"\",\"\",IF(VLOOKUP(T321,漢字読み!$A$2:$O$502,7,0)=0,\"\",VLOOKUP(T321,漢字読み!$A$2:$O$502,7,0)))","v":{"$error":"#N/A"}},null,null,"和歌山県教育委員会"]
[{"$f":"INDIRECT(\"'関数（書き）'!C\" & COLUMN(B$1)+SUM($AD$2:$AD327))","v":0},{"$f":"INDIRECT(\"'関数（書き）'!C\" & COLUMN(C$1)+SUM($AD$2:$AD327))","v":0},{"$f":"INDIRECT(\"'関数（書き）'!C\" & COLUMN(D$1)+SUM($AD$2:$AD327))","v":0},{"$f":"INDIRECT(\"'関数（書き）'!C\" & COLUMN(E$1)+SUM($AD$2:$AD327))","v":0},{"$f":"INDIRECT(\"'関数（書き）'!C\" & COLUMN(F$1)+SUM($AD$2:$AD327))","v":0},{"$f":"INDIRECT(\"'関数（書き）'!C\" & COLUMN(G$1)+SUM($AD$2:$AD327))","v":0},{"$f":"INDIRECT(\"'関数（書き）'!C\" & COLUMN(H$1)+SUM($AD$2:$AD327))","v":0},{"$f":"INDIRECT(\"'関数（書き）'!C\" & COLUMN(I$1)+SUM($AD$2:$AD327))","v":0},{"$f":"INDIRECT(\"'関数（書き）'!C\" & COLUMN(J$1)+SUM($AD$2:$AD327))","v":0},{"$f":"INDIRECT(\"'関数（書き）'!C\" & COLUMN(K$1)+SUM($AD$2:$AD327))","v":0},{"$f":"INDIRECT(\"'関数（読み）'!C\" & COLUMN(B$1)+SUM($AD$2:$AD327))","v":0},{"$f":"INDIRECT(\"'関数（読み）'!C\" & COLUMN(C$1)+SUM($AD$2:$AD327))","v":0},{"$f":"INDIRECT(\"'関数（読み）'!C\" & COLUMN(D$1)+SUM($AD$2:$AD327))","v":0},{"$f":"INDIRECT(\"'関数（読み）'!C\" & COLUMN(E$1)+SUM($AD$2:$AD327))","v":0},{"$f":"INDIRECT(\"'関数（読み）'!C\" & COLUMN(F$1)+SUM($AD$2:$AD327))","v":0},{"$f":"INDIRECT(\"'関数（読み）'!C\" & COLUMN(G$1)+SUM($AD$2:$AD327))","v":0},{"$f":"INDIRECT(\"'関数（読み）'!C\" & COLUMN(H$1)+SUM($AD$2:$AD327))","v":0},{"$f":"INDIRECT(\"'関数（読み）'!C\" & COLUMN(I$1)+SUM($AD$2:$AD327))","v":0},{"$f":"INDIRECT(\"'関数（読み）'!C\" & COLUMN(J$1)+SUM($AD$2:$AD327))","v":0},{"$f":"INDIRECT(\"'関数（読み）'!C\" & COLUMN(K$1)+SUM($AD$2:$AD327))","v":0}]
["⑳","⑲","⑱","⑰","⑯","⑮","⑭","⑬","⑫","⑪","⑩","⑨","⑧","⑦","⑥","⑤","④","③","②","①","次の［　　　　］の部分の漢字には読みがなをひらがなで書き、カタカナは漢字に直しなさい。",10,"「漢字の博士検定試験」練習問題　",null,null,null,null,null,"←",10,"問",{"$f":"AH322+1","v":331},"～",{"$f":"SUM($AD$2:$AD327)+10","v":340},"問まで",{"$f":"COUNTIF($A$1:$T$200,T328)","v":0}]
[{"$f":"IF(A326=\"\",\"\",VLOOKUP(A326,漢字書き!$A$2:$N$506,6,0))","v":{"$error":"#N/A"}},{"$f":"IF(B326=\"\",\"\",VLOOKUP(B326,漢字書き!$A$2:$N$506,6,0))","v":{"$error":"#N/A"}},{"$f":"IF(C326=\"\",\"\",VLOOKUP(C326,漢字書き!$A$2:$N$506,6,0))","v":{"$error":"#N/A"}},{"$f":"IF(D326=\"\",\"\",VLOOKUP(D326,漢字書き!$A$2:$N$506,6,0))","v":{"$error":"#N/A"}},{"$f":"IF(E326=\"\",\"\",VLOOKUP(E326,漢字書き!$A$2:$N$506,6,0))","v":{"$error":"#N/A"}},{"$f":"IF(F326=\"\",\"\",VLOOKUP(F326,漢字書き!$A$2:$N$506,6,0))","v":{"$error":"#N/A"}},{"$f":"IF(G326=\"\",\"\",VLOOKUP(G326,漢字書き!$A$2:$N$506,6,0))","v":{"$error":"#N/A"}},{"$f":"IF(H326=\"\",\"\",VLOOKUP(H326,漢字書き!$A$2:$N$506,6,0))","v":{"$error":"#N/A"}},{"$f":"IF(I326=\"\",\"\",VLOOKUP(I326,漢字書き!$A$2:$N$506,6,0))","v":{"$error":"#N/A"}},{"$f":"IF(J326=\"\",\"\",VLOOKUP(J326,漢字書き!$A$2:$N$506,6,0))","v":{"$error":"#N/A"}},{"$f":"IF(K326=\"\",\"\",VLOOKUP(K326,漢字読み!$A$2:$O$506,6,0))","v":{"$error":"#N/A"}},{"$f":"IF(L326=\"\",\"\",VLOOKUP(L326,漢字読み!$A$2:$O$506,6,0))","v":{"$error":"#N/A"}},{"$f":"IF(M326=\"\",\"\",VLOOKUP(M326,漢字読み!$A$2:$O$506,6,0))","v":{"$error":"#N/A"}},{"$f":"IF(N326=\"\",\"\",VLOOKUP(N326,漢字読み!$A$2:$O$506,6,0))","v":{"$error":"#N/A"}},{"$f":"IF(O326=\"\",\"\",VLOOKUP(O326,漢字読み!$A$2:$O$506,6,0))","v":{"$error":"#N/A"}},{"$f":"IF(P326=\"\",\"\",VLOOKUP(P326,漢字読み!$A$2:$O$506,6,0))","v":{"$error":"#N/A"}},{"$f":"IF(Q326=\"\",\"\",VLOOKUP(Q326,漢字読み!$A$2:$O$506,6,0))","v":{"$error":"#N/A"}},{"$f":"IF(R326=\"\",\"\",VLOOKUP(R326,漢字読み!$A$2:$O$506,6,0))","v":{"$error":"#N/A"}},{"$f":"IF(S326=\"\",\"\",VLOOKUP(S326,漢字読み!$A$2:$O$506,6,0))","v":{"$error":"#N/A"}},{"$f":"IF(T326=\"\",\"\",VLOOKUP(T326,漢字読み!$A$2:$O$506,6,0))","v":{"$error":"#N/A"}},null,"級"]
[null,null,null,null,null,null,null,null,null,null,null,null,null,null,null,null,null,null,null,null,null,"名前"]
[{"$f":"IF(A326=\"\",\"\",IF(VLOOKUP(A326,漢字書き!$A$2:$N$502,7,0)=0,\"\",VLOOKUP(A326,漢字書き!$A$2:$N$502,7,0)))","v":{"$error":"#N/A"}},{"$f":"IF(B326=\"\",\"\",IF(VLOOKUP(B326,漢字書き!$A$2:$N$502,7,0)=0,\"\",VLOOKUP(B326,漢字書き!$A$2:$N$502,7,0)))","v":{"$error":"#N/A"}},{"$f":"IF(C326=\"\",\"\",IF(VLOOKUP(C326,漢字書き!$A$2:$N$502,7,0)=0,\"\",VLOOKUP(C326,漢字書き!$A$2:$N$502,7,0)))","v":{"$error":"#N/A"}},{"$f":"IF(D326=\"\",\"\",IF(VLOOKUP(D326,漢字書き!$A$2:$N$502,7,0)=0,\"\",VLOOKUP(D326,漢字書き!$A$2:$N$502,7,0)))","v":{"$error":"#N/A"}},{"$f":"IF(E326=\"\",\"\",IF(VLOOKUP(E326,漢字書き!$A$2:$N$502,7,0)=0,\"\",VLOOKUP(E326,漢字書き!$A$2:$N$502,7,0)))","v":{"$error":"#N/A"}},{"$f":"IF(F326=\"\",\"\",IF(VLOOKUP(F326,漢字書き!$A$2:$N$502,7,0)=0,\"\",VLOOKUP(F326,漢字書き!$A$2:$N$502,7,0)))","v":{"$error":"#N/A"}},{"$f":"IF(G326=\"\",\"\",IF(VLOOKUP(G326,漢字書き!$A$2:$N$502,7,0)=0,\"\",VLOOKUP(G326,漢字書き!$A$2:$N$502,7,0)))","v":{"$error":"#N/A"}},{"$f":"IF(H326=\"\",\"\",IF(VLOOKUP(H326,漢字書き!$A$2:$N$502,7,0)=0,\"\",VLOOKUP(H326,漢字書き!$A$2:$N$502,7,0)))","v":{"$error":"#N/A"}},{"$f":"IF(I326=\"\",\"\",IF(VLOOKUP(I326,漢字書き!$A$2:$N$502,7,0)=0,\"\",VLOOKUP(I326,漢字書き!$A$2:$N$502,7,0)))","v":{"$error":"#N/A"}},{"$f":"IF(J326=\"\",\"\",IF(VLOOKUP(J326,漢字書き!$A$2:$N$502,7,0)=0,\"\",VLOOKUP(J326,漢字書き!$A$2:$N$502,7,0)))","v":{"$error":"#N/A"}},{"$f":"IF(K326=\"\",\"\",IF(VLOOKUP(K326,漢字読み!$A$2:$O$502,7,0)=0,\"\",VLOOKUP(K326,漢字読み!$A$2:$O$502,7,0)))","v":{"$error":"#N/A"}},{"$f":"IF(L326=\"\",\"\",IF(VLOOKUP(L326,漢字読み!$A$2:$O$502,7,0)=0,\"\",VLOOKUP(L326,漢字読み!$A$2:$O$502,7,0)))","v":{"$error":"#N/A"}},{"$f":"IF(M326=\"\",\"\",IF(VLOOKUP(M326,漢字読み!$A$2:$O$502,7,0)=0,\"\",VLOOKUP(M326,漢字読み!$A$2:$O$502,7,0)))","v":{"$error":"#N/A"}},{"$f":"IF(N326=\"\",\"\",IF(VLOOKUP(N326,漢字読み!$A$2:$O$502,7,0)=0,\"\",VLOOKUP(N326,漢字読み!$A$2:$O$502,7,0)))","v":{"$error":"#N/A"}},{"$f":"IF(O326=\"\",\"\",IF(VLOOKUP(O326,漢字読み!$A$2:$O$502,7,0)=0,\"\",VLOOKUP(O326,漢字読み!$A$2:$O$502,7,0)))","v":{"$error":"#N/A"}},{"$f":"IF(P326=\"\",\"\",IF(VLOOKUP(P326,漢字読み!$A$2:$O$502,7,0)=0,\"\",VLOOKUP(P326,漢字読み!$A$2:$O$502,7,0)))","v":{"$error":"#N/A"}},{"$f":"IF(Q326=\"\",\"\",IF(VLOOKUP(Q326,漢字読み!$A$2:$O$502,7,0)=0,\"\",VLOOKUP(Q326,漢字読み!$A$2:$O$502,7,0)))","v":{"$error":"#N/A"}},{"$f":"IF(R326=\"\",\"\",IF(VLOOKUP(R326,漢字読み!$A$2:$O$502,7,0)=0,\"\",VLOOKUP(R326,漢字読み!$A$2:$O$502,7,0)))","v":{"$error":"#N/A"}},{"$f":"IF(S326=\"\",\"\",IF(VLOOKUP(S326,漢字読み!$A$2:$O$502,7,0)=0,\"\",VLOOKUP(S326,漢字読み!$A$2:$O$502,7,0)))","v":{"$error":"#N/A"}},{"$f":"IF(T326=\"\",\"\",IF(VLOOKUP(T326,漢字読み!$A$2:$O$502,7,0)=0,\"\",VLOOKUP(T326,漢字読み!$A$2:$O$502,7,0)))","v":{"$error":"#N/A"}},null,null,"和歌山県教育委員会"]
[{"$f":"A321","v":0},0,0,0,0,0,0,0,0,0,0,0,0,0,0,0,0,0,0,0]
["⑳","⑲","⑱","⑰","⑯","⑮","⑭","⑬","⑫","⑪","⑩","⑨","⑧","⑦","⑥","⑤","④","③","②","①","次の［　　　　］の部分の漢字には読みがなをひらがなで書き、カタカナは漢字に直しなさい。",10,"「漢字の博士検定試験」練習問題　"]
[{"$f":"IF(A331=\"\",\"\",VLOOKUP(A331,漢字書き!$A$2:$N$506,6,0))","v":{"$error":"#N/A"}},{"$f":"IF(B331=\"\",\"\",VLOOKUP(B331,漢字書き!$A$2:$N$506,6,0))","v":{"$error":"#N/A"}},{"$f":"IF(C331=\"\",\"\",VLOOKUP(C331,漢字書き!$A$2:$N$506,6,0))","v":{"$error":"#N/A"}},{"$f":"IF(D331=\"\",\"\",VLOOKUP(D331,漢字書き!$A$2:$N$506,6,0))","v":{"$error":"#N/A"}},{"$f":"IF(E331=\"\",\"\",VLOOKUP(E331,漢字書き!$A$2:$N$506,6,0))","v":{"$error":"#N/A"}},{"$f":"IF(F331=\"\",\"\",VLOOKUP(F331,漢字書き!$A$2:$N$506,6,0))","v":{"$error":"#N/A"}},{"$f":"IF(G331=\"\",\"\",VLOOKUP(G331,漢字書き!$A$2:$N$506,6,0))","v":{"$error":"#N/A"}},{"$f":"IF(H331=\"\",\"\",VLOOKUP(H331,漢字書き!$A$2:$N$506,6,0))","v":{"$error":"#N/A"}},{"$f":"IF(I331=\"\",\"\",VLOOKUP(I331,漢字書き!$A$2:$N$506,6,0))","v":{"$error":"#N/A"}},{"$f":"IF(J331=\"\",\"\",VLOOKUP(J331,漢字書き!$A$2:$N$506,6,0))","v":{"$error":"#N/A"}},{"$f":"IF(K331=\"\",\"\",VLOOKUP(K331,漢字読み!$A$2:$O$506,6,0))","v":{"$error":"#N/A"}},{"$f":"IF(L331=\"\",\"\",VLOOKUP(L331,漢字読み!$A$2:$O$506,6,0))","v":{"$error":"#N/A"}},{"$f":"IF(M331=\"\",\"\",VLOOKUP(M331,漢字読み!$A$2:$O$506,6,0))","v":{"$error":"#N/A"}},{"$f":"IF(N331=\"\",\"\",VLOOKUP(N331,漢字読み!$A$2:$O$506,6,0))","v":{"$error":"#N/A"}},{"$f":"IF(O331=\"\",\"\",VLOOKUP(O331,漢字読み!$A$2:$O$506,6,0))","v":{"$error":"#N/A"}},{"$f":"IF(P331=\"\",\"\",VLOOKUP(P331,漢字読み!$A$2:$O$506,6,0))","v":{"$error":"#N/A"}},{"$f":"IF(Q331=\"\",\"\",VLOOKUP(Q331,漢字読み!$A$2:$O$506,6,0))","v":{"$error":"#N/A"}},{"$f":"IF(R331=\"\",\"\",VLOOKUP(R331,漢字読み!$A$2:$O$506,6,0))","v":{"$error":"#N/A"}},{"$f":"IF(S331=\"\",\"\",VLOOKUP(S331,漢字読み!$A$2:$O$506,6,0))","v":{"$error":"#N/A"}},{"$f":"IF(T331=\"\",\"\",VLOOKUP(T331,漢字読み!$A$2:$O$506,6,0))","v":{"$error":"#N/A"}},null,"級"]
[{"$f":"IF(A$11=\"\",\"\",VLOOKUP(A331,漢字書き!$A$2:$O$506,8,0))","v":{"$error":"#N/A"}},{"$f":"IF(B$11=\"\",\"\",VLOOKUP(B331,漢字書き!$A$2:$O$506,8,0))","v":{"$error":"#N/A"}},{"$f":"IF(C$11=\"\",\"\",VLOOKUP(C331,漢字書き!$A$2:$O$506,8,0))","v":{"$error":"#N/A"}},{"$f":"IF(D$11=\"\",\"\",VLOOKUP(D331,漢字書き!$A$2:$O$506,8,0))","v":{"$error":"#N/A"}},{"$f":"IF(E$11=\"\",\"\",VLOOKUP(E331,漢字書き!$A$2:$O$506,8,0))","v":{"$error":"#N/A"}},{"$f":"IF(F$11=\"\",\"\",VLOOKUP(F331,漢字書き!$A$2:$O$506,8,0))","v":{"$error":"#N/A"}},{"$f":"IF(G$11=\"\",\"\",VLOOKUP(G331,漢字書き!$A$2:$O$506,8,0))","v":{"$error":"#N/A"}},{"$f":"IF(H$11=\"\",\"\",VLOOKUP(H331,漢字書き!$A$2:$O$506,8,0))","v":{"$error":"#N/A"}},{"$f":"IF(I$11=\"\",\"\",VLOOKUP(I331,漢字書き!$A$2:$O$506,8,0))","v":{"$error":"#N/A"}},{"$f":"IF(J$11=\"\",\"\",VLOOKUP(J331,漢字書き!$A$2:$O$506,8,0))","v":{"$error":"#N/A"}},{"$f":"IF(K$11=\"\",\"\",VLOOKUP(K331,漢字読み!$A$2:$O$506,8,0))","v":{"$error":"#N/A"}},{"$f":"IF(L$11=\"\",\"\",VLOOKUP(L331,漢字読み!$A$2:$O$506,8,0))","v":{"$error":"#N/A"}},{"$f":"IF(M$11=\"\",\"\",VLOOKUP(M331,漢字読み!$A$2:$O$506,8,0))","v":{"$error":"#N/A"}},{"$f":"IF(N$11=\"\",\"\",VLOOKUP(N331,漢字読み!$A$2:$O$506,8,0))","v":{"$error":"#N/A"}},{"$f":"IF(O$11=\"\",\"\",VLOOKUP(O331,漢字読み!$A$2:$O$506,8,0))","v":{"$error":"#N/A"}},{"$f":"IF(P$11=\"\",\"\",VLOOKUP(P331,漢字読み!$A$2:$O$506,8,0))","v":{"$error":"#N/A"}},{"$f":"IF(Q$11=\"\",\"\",VLOOKUP(Q331,漢字読み!$A$2:$O$506,8,0))","v":{"$error":"#N/A"}},{"$f":"IF(R$11=\"\",\"\",VLOOKUP(R331,漢字読み!$A$2:$O$506,8,0))","v":{"$error":"#N/A"}},{"$f":"IF(S$11=\"\",\"\",VLOOKUP(S331,漢字読み!$A$2:$O$506,8,0))","v":{"$error":"#N/A"}},{"$f":"IF(T$11=\"\",\"\",VLOOKUP(T331,漢字読み!$A$2:$O$506,8,0))","v":{"$error":"#N/A"}},null,"名前"]
[{"$f":"IF(A331=\"\",\"\",IF(VLOOKUP(A331,漢字書き!$A$2:$N$502,7,0)=0,\"\",VLOOKUP(A331,漢字書き!$A$2:$N$502,7,0)))","v":{"$error":"#N/A"}},{"$f":"IF(B331=\"\",\"\",IF(VLOOKUP(B331,漢字書き!$A$2:$N$502,7,0)=0,\"\",VLOOKUP(B331,漢字書き!$A$2:$N$502,7,0)))","v":{"$error":"#N/A"}},{"$f":"IF(C331=\"\",\"\",IF(VLOOKUP(C331,漢字書き!$A$2:$N$502,7,0)=0,\"\",VLOOKUP(C331,漢字書き!$A$2:$N$502,7,0)))","v":{"$error":"#N/A"}},{"$f":"IF(D331=\"\",\"\",IF(VLOOKUP(D331,漢字書き!$A$2:$N$502,7,0)=0,\"\",VLOOKUP(D331,漢字書き!$A$2:$N$502,7,0)))","v":{"$error":"#N/A"}},{"$f":"IF(E331=\"\",\"\",IF(VLOOKUP(E331,漢字書き!$A$2:$N$502,7,0)=0,\"\",VLOOKUP(E331,漢字書き!$A$2:$N$502,7,0)))","v":{"$error":"#N/A"}},{"$f":"IF(F331=\"\",\"\",IF(VLOOKUP(F331,漢字書き!$A$2:$N$502,7,0)=0,\"\",VLOOKUP(F331,漢字書き!$A$2:$N$502,7,0)))","v":{"$error":"#N/A"}},{"$f":"IF(G331=\"\",\"\",IF(VLOOKUP(G331,漢字書き!$A$2:$N$502,7,0)=0,\"\",VLOOKUP(G331,漢字書き!$A$2:$N$502,7,0)))","v":{"$error":"#N/A"}},{"$f":"IF(H331=\"\",\"\",IF(VLOOKUP(H331,漢字書き!$A$2:$N$502,7,0)=0,\"\",VLOOKUP(H331,漢字書き!$A$2:$N$502,7,0)))","v":{"$error":"#N/A"}},{"$f":"IF(I331=\"\",\"\",IF(VLOOKUP(I331,漢字書き!$A$2:$N$502,7,0)=0,\"\",VLOOKUP(I331,漢字書き!$A$2:$N$502,7,0)))","v":{"$error":"#N/A"}},{"$f":"IF(J331=\"\",\"\",IF(VLOOKUP(J331,漢字書き!$A$2:$N$502,7,0)=0,\"\",VLOOKUP(J331,漢字書き!$A$2:$N$502,7,0)))","v":{"$error":"#N/A"}},{"$f":"IF(K331=\"\",\"\",IF(VLOOKUP(K331,漢字読み!$A$2:$O$502,7,0)=0,\"\",VLOOKUP(K331,漢字読み!$A$2:$O$502,7,0)))","v":{"$error":"#N/A"}},{"$f":"IF(L331=\"\",\"\",IF(VLOOKUP(L331,漢字読み!$A$2:$O$502,7,0)=0,\"\",VLOOKUP(L331,漢字読み!$A$2:$O$502,7,0)))","v":{"$error":"#N/A"}},{"$f":"IF(M331=\"\",\"\",IF(VLOOKUP(M331,漢字読み!$A$2:$O$502,7,0)=0,\"\",VLOOKUP(M331,漢字読み!$A$2:$O$502,7,0)))","v":{"$error":"#N/A"}},{"$f":"IF(N331=\"\",\"\",IF(VLOOKUP(N331,漢字読み!$A$2:$O$502,7,0)=0,\"\",VLOOKUP(N331,漢字読み!$A$2:$O$502,7,0)))","v":{"$error":"#N/A"}},{"$f":"IF(O331=\"\",\"\",IF(VLOOKUP(O331,漢字読み!$A$2:$O$502,7,0)=0,\"\",VLOOKUP(O331,漢字読み!$A$2:$O$502,7,0)))","v":{"$error":"#N/A"}},{"$f":"IF(P331=\"\",\"\",IF(VLOOKUP(P331,漢字読み!$A$2:$O$502,7,0)=0,\"\",VLOOKUP(P331,漢字読み!$A$2:$O$502,7,0)))","v":{"$error":"#N/A"}},{"$f":"IF(Q331=\"\",\"\",IF(VLOOKUP(Q331,漢字読み!$A$2:$O$502,7,0)=0,\"\",VLOOKUP(Q331,漢字読み!$A$2:$O$502,7,0)))","v":{"$error":"#N/A"}},{"$f":"IF(R331=\"\",\"\",IF(VLOOKUP(R331,漢字読み!$A$2:$O$502,7,0)=0,\"\",VLOOKUP(R331,漢字読み!$A$2:$O$502,7,0)))","v":{"$error":"#N/A"}},{"$f":"IF(S331=\"\",\"\",IF(VLOOKUP(S331,漢字読み!$A$2:$O$502,7,0)=0,\"\",VLOOKUP(S331,漢字読み!$A$2:$O$502,7,0)))","v":{"$error":"#N/A"}},{"$f":"IF(T331=\"\",\"\",IF(VLOOKUP(T331,漢字読み!$A$2:$O$502,7,0)=0,\"\",VLOOKUP(T331,漢字読み!$A$2:$O$502,7,0)))","v":{"$error":"#N/A"}},null,null,"和歌山県教育委員会"]
[{"$f":"A326","v":0},0,0,0,0,0,0,0,0,0,0,0,0,0,0,0,0,0,0,0]
["⑳","⑲","⑱","⑰","⑯","⑮","⑭","⑬","⑫","⑪","⑩","⑨","⑧","⑦","⑥","⑤","④","③","②","①","次の［　　　　］の部分の漢字には読みがなをひらがなで書き、カタカナは漢字に直しなさい。",10,"「漢字の博士検定試験」練習問題　"]
[{"$f":"IF(A336=\"\",\"\",VLOOKUP(A336,漢字書き!$A$2:$N$506,6,0))","v":{"$error":"#N/A"}},{"$f":"IF(B336=\"\",\"\",VLOOKUP(B336,漢字書き!$A$2:$N$506,6,0))","v":{"$error":"#N/A"}},{"$f":"IF(C336=\"\",\"\",VLOOKUP(C336,漢字書き!$A$2:$N$506,6,0))","v":{"$error":"#N/A"}},{"$f":"IF(D336=\"\",\"\",VLOOKUP(D336,漢字書き!$A$2:$N$506,6,0))","v":{"$error":"#N/A"}},{"$f":"IF(E336=\"\",\"\",VLOOKUP(E336,漢字書き!$A$2:$N$506,6,0))","v":{"$error":"#N/A"}},{"$f":"IF(F336=\"\",\"\",VLOOKUP(F336,漢字書き!$A$2:$N$506,6,0))","v":{"$error":"#N/A"}},{"$f":"IF(G336=\"\",\"\",VLOOKUP(G336,漢字書き!$A$2:$N$506,6,0))","v":{"$error":"#N/A"}},{"$f":"IF(H336=\"\",\"\",VLOOKUP(H336,漢字書き!$A$2:$N$506,6,0))","v":{"$error":"#N/A"}},{"$f":"IF(I336=\"\",\"\",VLOOKUP(I336,漢字書き!$A$2:$N$506,6,0))","v":{"$error":"#N/A"}},{"$f":"IF(J336=\"\",\"\",VLOOKUP(J336,漢字書き!$A$2:$N$506,6,0))","v":{"$error":"#N/A"}},{"$f":"IF(K336=\"\",\"\",VLOOKUP(K336,漢字読み!$A$2:$O$506,6,0))","v":{"$error":"#N/A"}},{"$f":"IF(L336=\"\",\"\",VLOOKUP(L336,漢字読み!$A$2:$O$506,6,0))","v":{"$error":"#N/A"}},{"$f":"IF(M336=\"\",\"\",VLOOKUP(M336,漢字読み!$A$2:$O$506,6,0))","v":{"$error":"#N/A"}},{"$f":"IF(N336=\"\",\"\",VLOOKUP(N336,漢字読み!$A$2:$O$506,6,0))","v":{"$error":"#N/A"}},{"$f":"IF(O336=\"\",\"\",VLOOKUP(O336,漢字読み!$A$2:$O$506,6,0))","v":{"$error":"#N/A"}},{"$f":"IF(P336=\"\",\"\",VLOOKUP(P336,漢字読み!$A$2:$O$506,6,0))","v":{"$error":"#N/A"}},{"$f":"IF(Q336=\"\",\"\",VLOOKUP(Q336,漢字読み!$A$2:$O$506,6,0))","v":{"$error":"#N/A"}},{"$f":"IF(R336=\"\",\"\",VLOOKUP(R336,漢字読み!$A$2:$O$506,6,0))","v":{"$error":"#N/A"}},{"$f":"IF(S336=\"\",\"\",VLOOKUP(S336,漢字読み!$A$2:$O$506,6,0))","v":{"$error":"#N/A"}},{"$f":"IF(T336=\"\",\"\",VLOOKUP(T336,漢字読み!$A$2:$O$506,6,0))","v":{"$error":"#N/A"}},null,"級"]
[{"$f":"IF(A$16=\"\",\"\",VLOOKUP(A336,漢字書き!$A$2:$O$506,8,0))","v":{"$error":"#N/A"}},{"$f":"IF(B$16=\"\",\"\",VLOOKUP(B336,漢字書き!$A$2:$O$506,8,0))","v":{"$error":"#N/A"}},{"$f":"IF(C$16=\"\",\"\",VLOOKUP(C336,漢字書き!$A$2:$O$506,8,0))","v":{"$error":"#N/A"}},{"$f":"IF(D$16=\"\",\"\",VLOOKUP(D336,漢字書き!$A$2:$O$506,8,0))","v":{"$error":"#N/A"}},{"$f":"IF(E$16=\"\",\"\",VLOOKUP(E336,漢字書き!$A$2:$O$506,8,0))","v":{"$error":"#N/A"}},{"$f":"IF(F$16=\"\",\"\",VLOOKUP(F336,漢字書き!$A$2:$O$506,8,0))","v":{"$error":"#N/A"}},{"$f":"IF(G$16=\"\",\"\",VLOOKUP(G336,漢字書き!$A$2:$O$506,8,0))","v":{"$error":"#N/A"}},{"$f":"IF(H$16=\"\",\"\",VLOOKUP(H336,漢字書き!$A$2:$O$506,8,0))","v":{"$error":"#N/A"}},{"$f":"IF(I$16=\"\",\"\",VLOOKUP(I336,漢字書き!$A$2:$O$506,8,0))","v":{"$error":"#N/A"}},{"$f":"IF(J$16=\"\",\"\",VLOOKUP(J336,漢字書き!$A$2:$O$506,8,0))","v":{"$error":"#N/A"}},{"$f":"IF(K$16=\"\",\"\",VLOOKUP(K336,漢字読み!$A$2:$O$506,8,0))","v":{"$error":"#N/A"}},{"$f":"IF(L$16=\"\",\"\",VLOOKUP(L336,漢字読み!$A$2:$O$506,8,0))","v":{"$error":"#N/A"}},{"$f":"IF(M$16=\"\",\"\",VLOOKUP(M336,漢字読み!$A$2:$O$506,8,0))","v":{"$error":"#N/A"}},{"$f":"IF(N$16=\"\",\"\",VLOOKUP(N336,漢字読み!$A$2:$O$506,8,0))","v":{"$error":"#N/A"}},{"$f":"IF(O$16=\"\",\"\",VLOOKUP(O336,漢字読み!$A$2:$O$506,8,0))","v":{"$error":"#N/A"}},{"$f":"IF(P$16=\"\",\"\",VLOOKUP(P336,漢字読み!$A$2:$O$506,8,0))","v":{"$error":"#N/A"}},{"$f":"IF(Q$16=\"\",\"\",VLOOKUP(Q336,漢字読み!$A$2:$O$506,8,0))","v":{"$error":"#N/A"}},{"$f":"IF(R$16=\"\",\"\",VLOOKUP(R336,漢字読み!$A$2:$O$506,8,0))","v":{"$error":"#N/A"}},{"$f":"IF(S$16=\"\",\"\",VLOOKUP(S336,漢字読み!$A$2:$O$506,8,0))","v":{"$error":"#N/A"}},{"$f":"IF(T$16=\"\",\"\",VLOOKUP(T336,漢字読み!$A$2:$O$506,8,0))","v":{"$error":"#N/A"}},null,"名前"]
[{"$f":"IF(A336=\"\",\"\",IF(VLOOKUP(A336,漢字書き!$A$2:$N$502,7,0)=0,\"\",VLOOKUP(A336,漢字書き!$A$2:$N$502,7,0)))","v":{"$error":"#N/A"}},{"$f":"IF(B336=\"\",\"\",IF(VLOOKUP(B336,漢字書き!$A$2:$N$502,7,0)=0,\"\",VLOOKUP(B336,漢字書き!$A$2:$N$502,7,0)))","v":{"$error":"#N/A"}},{"$f":"IF(C336=\"\",\"\",IF(VLOOKUP(C336,漢字書き!$A$2:$N$502,7,0)=0,\"\",VLOOKUP(C336,漢字書き!$A$2:$N$502,7,0)))","v":{"$error":"#N/A"}},{"$f":"IF(D336=\"\",\"\",IF(VLOOKUP(D336,漢字書き!$A$2:$N$502,7,0)=0,\"\",VLOOKUP(D336,漢字書き!$A$2:$N$502,7,0)))","v":{"$error":"#N/A"}},{"$f":"IF(E336=\"\",\"\",IF(VLOOKUP(E336,漢字書き!$A$2:$N$502,7,0)=0,\"\",VLOOKUP(E336,漢字書き!$A$2:$N$502,7,0)))","v":{"$error":"#N/A"}},{"$f":"IF(F336=\"\",\"\",IF(VLOOKUP(F336,漢字書き!$A$2:$N$502,7,0)=0,\"\",VLOOKUP(F336,漢字書き!$A$2:$N$502,7,0)))","v":{"$error":"#N/A"}},{"$f":"IF(G336=\"\",\"\",IF(VLOOKUP(G336,漢字書き!$A$2:$N$502,7,0)=0,\"\",VLOOKUP(G336,漢字書き!$A$2:$N$502,7,0)))","v":{"$error":"#N/A"}},{"$f":"IF(H336=\"\",\"\",IF(VLOOKUP(H336,漢字書き!$A$2:$N$502,7,0)=0,\"\",VLOOKUP(H336,漢字書き!$A$2:$N$502,7,0)))","v":{"$error":"#N/A"}},{"$f":"IF(I336=\"\",\"\",IF(VLOOKUP(I336,漢字書き!$A$2:$N$502,7,0)=0,\"\",VLOOKUP(I336,漢字書き!$A$2:$N$502,7,0)))","v":{"$error":"#N/A"}},{"$f":"IF(J336=\"\",\"\",IF(VLOOKUP(J336,漢字書き!$A$2:$N$502,7,0)=0,\"\",VLOOKUP(J336,漢字書き!$A$2:$N$502,7,0)))","v":{"$error":"#N/A"}},{"$f":"IF(K336=\"\",\"\",IF(VLOOKUP(K336,漢字読み!$A$2:$O$502,7,0)=0,\"\",VLOOKUP(K336,漢字読み!$A$2:$O$502,7,0)))","v":{"$error":"#N/A"}},{"$f":"IF(L336=\"\",\"\",IF(VLOOKUP(L336,漢字読み!$A$2:$O$502,7,0)=0,\"\",VLOOKUP(L336,漢字読み!$A$2:$O$502,7,0)))","v":{"$error":"#N/A"}},{"$f":"IF(M336=\"\",\"\",IF(VLOOKUP(M336,漢字読み!$A$2:$O$502,7,0)=0,\"\",VLOOKUP(M336,漢字読み!$A$2:$O$502,7,0)))","v":{"$error":"#N/A"}},{"$f":"IF(N336=\"\",\"\",IF(VLOOKUP(N336,漢字読み!$A$2:$O$502,7,0)=0,\"\",VLOOKUP(N336,漢字読み!$A$2:$O$502,7,0)))","v":{"$error":"#N/A"}},{"$f":"IF(O336=\"\",\"\",IF(VLOOKUP(O336,漢字読み!$A$2:$O$502,7,0)=0,\"\",VLOOKUP(O336,漢字読み!$A$2:$O$502,7,0)))","v":{"$error":"#N/A"}},{"$f":"IF(P336=\"\",\"\",IF(VLOOKUP(P336,漢字読み!$A$2:$O$502,7,0)=0,\"\",VLOOKUP(P336,漢字読み!$A$2:$O$502,7,0)))","v":{"$error":"#N/A"}},{"$f":"IF(Q336=\"\",\"\",IF(VLOOKUP(Q336,漢字読み!$A$2:$O$502,7,0)=0,\"\",VLOOKUP(Q336,漢字読み!$A$2:$O$502,7,0)))","v":{"$error":"#N/A"}},{"$f":"IF(R336=\"\",\"\",IF(VLOOKUP(R336,漢字読み!$A$2:$O$502,7,0)=0,\"\",VLOOKUP(R336,漢字読み!$A$2:$O$502,7,0)))","v":{"$error":"#N/A"}},{"$f":"IF(S336=\"\",\"\",IF(VLOOKUP(S336,漢字読み!$A$2:$O$502,7,0)=0,\"\",VLOOKUP(S336,漢字読み!$A$2:$O$502,7,0)))","v":{"$error":"#N/A"}},{"$f":"IF(T336=\"\",\"\",IF(VLOOKUP(T336,漢字読み!$A$2:$O$502,7,0)=0,\"\",VLOOKUP(T336,漢字読み!$A$2:$O$502,7,0)))","v":{"$error":"#N/A"}},null,null,"和歌山県教育委員会"]
[{"$f":"INDIRECT(\"'関数（書き）'!C\" & COLUMN(B$1)+SUM($AD$2:$AD342))","v":0},{"$f":"INDIRECT(\"'関数（書き）'!C\" & COLUMN(C$1)+SUM($AD$2:$AD342))","v":0},{"$f":"INDIRECT(\"'関数（書き）'!C\" & COLUMN(D$1)+SUM($AD$2:$AD342))","v":0},{"$f":"INDIRECT(\"'関数（書き）'!C\" & COLUMN(E$1)+SUM($AD$2:$AD342))","v":0},{"$f":"INDIRECT(\"'関数（書き）'!C\" & COLUMN(F$1)+SUM($AD$2:$AD342))","v":0},{"$f":"INDIRECT(\"'関数（書き）'!C\" & COLUMN(G$1)+SUM($AD$2:$AD342))","v":0},{"$f":"INDIRECT(\"'関数（書き）'!C\" & COLUMN(H$1)+SUM($AD$2:$AD342))","v":0},{"$f":"INDIRECT(\"'関数（書き）'!C\" & COLUMN(I$1)+SUM($AD$2:$AD342))","v":0},{"$f":"INDIRECT(\"'関数（書き）'!C\" & COLUMN(J$1)+SUM($AD$2:$AD342))","v":0},{"$f":"INDIRECT(\"'関数（書き）'!C\" & COLUMN(K$1)+SUM($AD$2:$AD342))","v":0},{"$f":"INDIRECT(\"'関数（読み）'!C\" & COLUMN(B$1)+SUM($AD$2:$AD342))","v":0},{"$f":"INDIRECT(\"'関数（読み）'!C\" & COLUMN(C$1)+SUM($AD$2:$AD342))","v":0},{"$f":"INDIRECT(\"'関数（読み）'!C\" & COLUMN(D$1)+SUM($AD$2:$AD342))","v":0},{"$f":"INDIRECT(\"'関数（読み）'!C\" & COLUMN(E$1)+SUM($AD$2:$AD342))","v":0},{"$f":"INDIRECT(\"'関数（読み）'!C\" & COLUMN(F$1)+SUM($AD$2:$AD342))","v":0},{"$f":"INDIRECT(\"'関数（読み）'!C\" & COLUMN(G$1)+SUM($AD$2:$AD342))","v":0},{"$f":"INDIRECT(\"'関数（読み）'!C\" & COLUMN(H$1)+SUM($AD$2:$AD342))","v":0},{"$f":"INDIRECT(\"'関数（読み）'!C\" & COLUMN(I$1)+SUM($AD$2:$AD342))","v":0},{"$f":"INDIRECT(\"'関数（読み）'!C\" & COLUMN(J$1)+SUM($AD$2:$AD342))","v":0},{"$f":"INDIRECT(\"'関数（読み）'!C\" & COLUMN(K$1)+SUM($AD$2:$AD342))","v":0}]
["⑳","⑲","⑱","⑰","⑯","⑮","⑭","⑬","⑫","⑪","⑩","⑨","⑧","⑦","⑥","⑤","④","③","②","①","次の［　　　　］の部分の漢字には読みがなをひらがなで書き、カタカナは漢字に直しなさい。",10,"「漢字の博士検定試験」練習問題　",null,null,null,null,null,"←",10,"問",{"$f":"AH327+1","v":341},"～",{"$f":"SUM($AD$2:$AD342)+10","v":350},"問まで",{"$f":"COUNTIF($A$1:$T$200,T343)","v":0}]
[{"$f":"IF(A341=\"\",\"\",VLOOKUP(A341,漢字書き!$A$2:$N$506,6,0))","v":{"$error":"#N/A"}},{"$f":"IF(B341=\"\",\"\",VLOOKUP(B341,漢字書き!$A$2:$N$506,6,0))","v":{"$error":"#N/A"}},{"$f":"IF(C341=\"\",\"\",VLOOKUP(C341,漢字書き!$A$2:$N$506,6,0))","v":{"$error":"#N/A"}},{"$f":"IF(D341=\"\",\"\",VLOOKUP(D341,漢字書き!$A$2:$N$506,6,0))","v":{"$error":"#N/A"}},{"$f":"IF(E341=\"\",\"\",VLOOKUP(E341,漢字書き!$A$2:$N$506,6,0))","v":{"$error":"#N/A"}},{"$f":"IF(F341=\"\",\"\",VLOOKUP(F341,漢字書き!$A$2:$N$506,6,0))","v":{"$error":"#N/A"}},{"$f":"IF(G341=\"\",\"\",VLOOKUP(G341,漢字書き!$A$2:$N$506,6,0))","v":{"$error":"#N/A"}},{"$f":"IF(H341=\"\",\"\",VLOOKUP(H341,漢字書き!$A$2:$N$506,6,0))","v":{"$error":"#N/A"}},{"$f":"IF(I341=\"\",\"\",VLOOKUP(I341,漢字書き!$A$2:$N$506,6,0))","v":{"$error":"#N/A"}},{"$f":"IF(J341=\"\",\"\",VLOOKUP(J341,漢字書き!$A$2:$N$506,6,0))","v":{"$error":"#N/A"}},{"$f":"IF(K341=\"\",\"\",VLOOKUP(K341,漢字読み!$A$2:$O$506,6,0))","v":{"$error":"#N/A"}},{"$f":"IF(L341=\"\",\"\",VLOOKUP(L341,漢字読み!$A$2:$O$506,6,0))","v":{"$error":"#N/A"}},{"$f":"IF(M341=\"\",\"\",VLOOKUP(M341,漢字読み!$A$2:$O$506,6,0))","v":{"$error":"#N/A"}},{"$f":"IF(N341=\"\",\"\",VLOOKUP(N341,漢字読み!$A$2:$O$506,6,0))","v":{"$error":"#N/A"}},{"$f":"IF(O341=\"\",\"\",VLOOKUP(O341,漢字読み!$A$2:$O$506,6,0))","v":{"$error":"#N/A"}},{"$f":"IF(P341=\"\",\"\",VLOOKUP(P341,漢字読み!$A$2:$O$506,6,0))","v":{"$error":"#N/A"}},{"$f":"IF(Q341=\"\",\"\",VLOOKUP(Q341,漢字読み!$A$2:$O$506,6,0))","v":{"$error":"#N/A"}},{"$f":"IF(R341=\"\",\"\",VLOOKUP(R341,漢字読み!$A$2:$O$506,6,0))","v":{"$error":"#N/A"}},{"$f":"IF(S341=\"\",\"\",VLOOKUP(S341,漢字読み!$A$2:$O$506,6,0))","v":{"$error":"#N/A"}},{"$f":"IF(T341=\"\",\"\",VLOOKUP(T341,漢字読み!$A$2:$O$506,6,0))","v":{"$error":"#N/A"}},null,"級"]
[null,null,null,null,null,null,null,null,null,null,null,null,null,null,null,null,null,null,null,null,null,"名前"]
[{"$f":"IF(A341=\"\",\"\",IF(VLOOKUP(A341,漢字書き!$A$2:$N$502,7,0)=0,\"\",VLOOKUP(A341,漢字書き!$A$2:$N$502,7,0)))","v":{"$error":"#N/A"}},{"$f":"IF(B341=\"\",\"\",IF(VLOOKUP(B341,漢字書き!$A$2:$N$502,7,0)=0,\"\",VLOOKUP(B341,漢字書き!$A$2:$N$502,7,0)))","v":{"$error":"#N/A"}},{"$f":"IF(C341=\"\",\"\",IF(VLOOKUP(C341,漢字書き!$A$2:$N$502,7,0)=0,\"\",VLOOKUP(C341,漢字書き!$A$2:$N$502,7,0)))","v":{"$error":"#N/A"}},{"$f":"IF(D341=\"\",\"\",IF(VLOOKUP(D341,漢字書き!$A$2:$N$502,7,0)=0,\"\",VLOOKUP(D341,漢字書き!$A$2:$N$502,7,0)))","v":{"$error":"#N/A"}},{"$f":"IF(E341=\"\",\"\",IF(VLOOKUP(E341,漢字書き!$A$2:$N$502,7,0)=0,\"\",VLOOKUP(E341,漢字書き!$A$2:$N$502,7,0)))","v":{"$error":"#N/A"}},{"$f":"IF(F341=\"\",\"\",IF(VLOOKUP(F341,漢字書き!$A$2:$N$502,7,0)=0,\"\",VLOOKUP(F341,漢字書き!$A$2:$N$502,7,0)))","v":{"$error":"#N/A"}},{"$f":"IF(G341=\"\",\"\",IF(VLOOKUP(G341,漢字書き!$A$2:$N$502,7,0)=0,\"\",VLOOKUP(G341,漢字書き!$A$2:$N$502,7,0)))","v":{"$error":"#N/A"}},{"$f":"IF(H341=\"\",\"\",IF(VLOOKUP(H341,漢字書き!$A$2:$N$502,7,0)=0,\"\",VLOOKUP(H341,漢字書き!$A$2:$N$502,7,0)))","v":{"$error":"#N/A"}},{"$f":"IF(I341=\"\",\"\",IF(VLOOKUP(I341,漢字書き!$A$2:$N$502,7,0)=0,\"\",VLOOKUP(I341,漢字書き!$A$2:$N$502,7,0)))","v":{"$error":"#N/A"}},{"$f":"IF(J341=\"\",\"\",IF(VLOOKUP(J341,漢字書き!$A$2:$N$502,7,0)=0,\"\",VLOOKUP(J341,漢字書き!$A$2:$N$502,7,0)))","v":{"$error":"#N/A"}},{"$f":"IF(K341=\"\",\"\",IF(VLOOKUP(K341,漢字読み!$A$2:$O$502,7,0)=0,\"\",VLOOKUP(K341,漢字読み!$A$2:$O$502,7,0)))","v":{"$error":"#N/A"}},{"$f":"IF(L341=\"\",\"\",IF(VLOOKUP(L341,漢字読み!$A$2:$O$502,7,0)=0,\"\",VLOOKUP(L341,漢字読み!$A$2:$O$502,7,0)))","v":{"$error":"#N/A"}},{"$f":"IF(M341=\"\",\"\",IF(VLOOKUP(M341,漢字読み!$A$2:$O$502,7,0)=0,\"\",VLOOKUP(M341,漢字読み!$A$2:$O$502,7,0)))","v":{"$error":"#N/A"}},{"$f":"IF(N341=\"\",\"\",IF(VLOOKUP(N341,漢字読み!$A$2:$O$502,7,0)=0,\"\",VLOOKUP(N341,漢字読み!$A$2:$O$502,7,0)))","v":{"$error":"#N/A"}},{"$f":"IF(O341=\"\",\"\",IF(VLOOKUP(O341,漢字読み!$A$2:$O$502,7,0)=0,\"\",VLOOKUP(O341,漢字読み!$A$2:$O$502,7,0)))","v":{"$error":"#N/A"}},{"$f":"IF(P341=\"\",\"\",IF(VLOOKUP(P341,漢字読み!$A$2:$O$502,7,0)=0,\"\",VLOOKUP(P341,漢字読み!$A$2:$O$502,7,0)))","v":{"$error":"#N/A"}},{"$f":"IF(Q341=\"\",\"\",IF(VLOOKUP(Q341,漢字読み!$A$2:$O$502,7,0)=0,\"\",VLOOKUP(Q341,漢字読み!$A$2:$O$502,7,0)))","v":{"$error":"#N/A"}},{"$f":"IF(R341=\"\",\"\",IF(VLOOKUP(R341,漢字読み!$A$2:$O$502,7,0)=0,\"\",VLOOKUP(R341,漢字読み!$A$2:$O$502,7,0)))","v":{"$error":"#N/A"}},{"$f":"IF(S341=\"\",\"\",IF(VLOOKUP(S341,漢字読み!$A$2:$O$502,7,0)=0,\"\",VLOOKUP(S341,漢字読み!$A$2:$O$502,7,0)))","v":{"$error":"#N/A"}},{"$f":"IF(T341=\"\",\"\",IF(VLOOKUP(T341,漢字読み!$A$2:$O$502,7,0)=0,\"\",VLOOKUP(T341,漢字読み!$A$2:$O$502,7,0)))","v":{"$error":"#N/A"}},null,null,"和歌山県教育委員会"]
[{"$f":"INDIRECT(\"'関数（書き）'!C\" & COLUMN(B$1)+SUM($AD$2:$AD347))","v":0},{"$f":"INDIRECT(\"'関数（書き）'!C\" & COLUMN(C$1)+SUM($AD$2:$AD347))","v":0},{"$f":"INDIRECT(\"'関数（書き）'!C\" & COLUMN(D$1)+SUM($AD$2:$AD347))","v":0},{"$f":"INDIRECT(\"'関数（書き）'!C\" & COLUMN(E$1)+SUM($AD$2:$AD347))","v":0},{"$f":"INDIRECT(\"'関数（書き）'!C\" & COLUMN(F$1)+SUM($AD$2:$AD347))","v":0},{"$f":"INDIRECT(\"'関数（書き）'!C\" & COLUMN(G$1)+SUM($AD$2:$AD347))","v":0},{"$f":"INDIRECT(\"'関数（書き）'!C\" & COLUMN(H$1)+SUM($AD$2:$AD347))","v":0},{"$f":"INDIRECT(\"'関数（書き）'!C\" & COLUMN(I$1)+SUM($AD$2:$AD347))","v":0},{"$f":"INDIRECT(\"'関数（書き）'!C\" & COLUMN(J$1)+SUM($AD$2:$AD347))","v":0},{"$f":"INDIRECT(\"'関数（書き）'!C\" & COLUMN(K$1)+SUM($AD$2:$AD347))","v":0},{"$f":"INDIRECT(\"'関数（読み）'!C\" & COLUMN(B$1)+SUM($AD$2:$AD347))","v":0},{"$f":"INDIRECT(\"'関数（読み）'!C\" & COLUMN(C$1)+SUM($AD$2:$AD347))","v":0},{"$f":"INDIRECT(\"'関数（読み）'!C\" & COLUMN(D$1)+SUM($AD$2:$AD347))","v":0},{"$f":"INDIRECT(\"'関数（読み）'!C\" & COLUMN(E$1)+SUM($AD$2:$AD347))","v":0},{"$f":"INDIRECT(\"'関数（読み）'!C\" & COLUMN(F$1)+SUM($AD$2:$AD347))","v":0},{"$f":"INDIRECT(\"'関数（読み）'!C\" & COLUMN(G$1)+SUM($AD$2:$AD347))","v":0},{"$f":"INDIRECT(\"'関数（読み）'!C\" & COLUMN(H$1)+SUM($AD$2:$AD347))","v":0},{"$f":"INDIRECT(\"'関数（読み）'!C\" & COLUMN(I$1)+SUM($AD$2:$AD347))","v":0},{"$f":"INDIRECT(\"'関数（読み）'!C\" & COLUMN(J$1)+SUM($AD$2:$AD347))","v":0},{"$f":"INDIRECT(\"'関数（読み）'!C\" & COLUMN(K$1)+SUM($AD$2:$AD347))","v":0}]
["⑳","⑲","⑱","⑰","⑯","⑮","⑭","⑬","⑫","⑪","⑩","⑨","⑧","⑦","⑥","⑤","④","③","②","①","次の［　　　　］の部分の漢字には読みがなをひらがなで書き、カタカナは漢字に直しなさい。",10,"「漢字の博士検定試験」練習問題　",null,null,null,null,null,"←",10,"問",{"$f":"AH342+1","v":351},"～",{"$f":"SUM($AD$2:$AD347)+10","v":360},"問まで",{"$f":"COUNTIF($A$1:$T$200,T348)","v":0}]
[{"$f":"IF(A346=\"\",\"\",VLOOKUP(A346,漢字書き!$A$2:$N$506,6,0))","v":{"$error":"#N/A"}},{"$f":"IF(B346=\"\",\"\",VLOOKUP(B346,漢字書き!$A$2:$N$506,6,0))","v":{"$error":"#N/A"}},{"$f":"IF(C346=\"\",\"\",VLOOKUP(C346,漢字書き!$A$2:$N$506,6,0))","v":{"$error":"#N/A"}},{"$f":"IF(D346=\"\",\"\",VLOOKUP(D346,漢字書き!$A$2:$N$506,6,0))","v":{"$error":"#N/A"}},{"$f":"IF(E346=\"\",\"\",VLOOKUP(E346,漢字書き!$A$2:$N$506,6,0))","v":{"$error":"#N/A"}},{"$f":"IF(F346=\"\",\"\",VLOOKUP(F346,漢字書き!$A$2:$N$506,6,0))","v":{"$error":"#N/A"}},{"$f":"IF(G346=\"\",\"\",VLOOKUP(G346,漢字書き!$A$2:$N$506,6,0))","v":{"$error":"#N/A"}},{"$f":"IF(H346=\"\",\"\",VLOOKUP(H346,漢字書き!$A$2:$N$506,6,0))","v":{"$error":"#N/A"}},{"$f":"IF(I346=\"\",\"\",VLOOKUP(I346,漢字書き!$A$2:$N$506,6,0))","v":{"$error":"#N/A"}},{"$f":"IF(J346=\"\",\"\",VLOOKUP(J346,漢字書き!$A$2:$N$506,6,0))","v":{"$error":"#N/A"}},{"$f":"IF(K346=\"\",\"\",VLOOKUP(K346,漢字読み!$A$2:$O$506,6,0))","v":{"$error":"#N/A"}},{"$f":"IF(L346=\"\",\"\",VLOOKUP(L346,漢字読み!$A$2:$O$506,6,0))","v":{"$error":"#N/A"}},{"$f":"IF(M346=\"\",\"\",VLOOKUP(M346,漢字読み!$A$2:$O$506,6,0))","v":{"$error":"#N/A"}},{"$f":"IF(N346=\"\",\"\",VLOOKUP(N346,漢字読み!$A$2:$O$506,6,0))","v":{"$error":"#N/A"}},{"$f":"IF(O346=\"\",\"\",VLOOKUP(O346,漢字読み!$A$2:$O$506,6,0))","v":{"$error":"#N/A"}},{"$f":"IF(P346=\"\",\"\",VLOOKUP(P346,漢字読み!$A$2:$O$506,6,0))","v":{"$error":"#N/A"}},{"$f":"IF(Q346=\"\",\"\",VLOOKUP(Q346,漢字読み!$A$2:$O$506,6,0))","v":{"$error":"#N/A"}},{"$f":"IF(R346=\"\",\"\",VLOOKUP(R346,漢字読み!$A$2:$O$506,6,0))","v":{"$error":"#N/A"}},{"$f":"IF(S346=\"\",\"\",VLOOKUP(S346,漢字読み!$A$2:$O$506,6,0))","v":{"$error":"#N/A"}},{"$f":"IF(T346=\"\",\"\",VLOOKUP(T346,漢字読み!$A$2:$O$506,6,0))","v":{"$error":"#N/A"}},null,"級"]
[null,null,null,null,null,null,null,null,null,null,null,null,null,null,null,null,null,null,null,null,null,"名前"]
[{"$f":"IF(A346=\"\",\"\",IF(VLOOKUP(A346,漢字書き!$A$2:$N$502,7,0)=0,\"\",VLOOKUP(A346,漢字書き!$A$2:$N$502,7,0)))","v":{"$error":"#N/A"}},{"$f":"IF(B346=\"\",\"\",IF(VLOOKUP(B346,漢字書き!$A$2:$N$502,7,0)=0,\"\",VLOOKUP(B346,漢字書き!$A$2:$N$502,7,0)))","v":{"$error":"#N/A"}},{"$f":"IF(C346=\"\",\"\",IF(VLOOKUP(C346,漢字書き!$A$2:$N$502,7,0)=0,\"\",VLOOKUP(C346,漢字書き!$A$2:$N$502,7,0)))","v":{"$error":"#N/A"}},{"$f":"IF(D346=\"\",\"\",IF(VLOOKUP(D346,漢字書き!$A$2:$N$502,7,0)=0,\"\",VLOOKUP(D346,漢字書き!$A$2:$N$502,7,0)))","v":{"$error":"#N/A"}},{"$f":"IF(E346=\"\",\"\",IF(VLOOKUP(E346,漢字書き!$A$2:$N$502,7,0)=0,\"\",VLOOKUP(E346,漢字書き!$A$2:$N$502,7,0)))","v":{"$error":"#N/A"}},{"$f":"IF(F346=\"\",\"\",IF(VLOOKUP(F346,漢字書き!$A$2:$N$502,7,0)=0,\"\",VLOOKUP(F346,漢字書き!$A$2:$N$502,7,0)))","v":{"$error":"#N/A"}},{"$f":"IF(G346=\"\",\"\",IF(VLOOKUP(G346,漢字書き!$A$2:$N$502,7,0)=0,\"\",VLOOKUP(G346,漢字書き!$A$2:$N$502,7,0)))","v":{"$error":"#N/A"}},{"$f":"IF(H346=\"\",\"\",IF(VLOOKUP(H346,漢字書き!$A$2:$N$502,7,0)=0,\"\",VLOOKUP(H346,漢字書き!$A$2:$N$502,7,0)))","v":{"$error":"#N/A"}},{"$f":"IF(I346=\"\",\"\",IF(VLOOKUP(I346,漢字書き!$A$2:$N$502,7,0)=0,\"\",VLOOKUP(I346,漢字書き!$A$2:$N$502,7,0)))","v":{"$error":"#N/A"}},{"$f":"IF(J346=\"\",\"\",IF(VLOOKUP(J346,漢字書き!$A$2:$N$502,7,0)=0,\"\",VLOOKUP(J346,漢字書き!$A$2:$N$502,7,0)))","v":{"$error":"#N/A"}},{"$f":"IF(K346=\"\",\"\",IF(VLOOKUP(K346,漢字読み!$A$2:$O$502,7,0)=0,\"\",VLOOKUP(K346,漢字読み!$A$2:$O$502,7,0)))","v":{"$error":"#N/A"}},{"$f":"IF(L346=\"\",\"\",IF(VLOOKUP(L346,漢字読み!$A$2:$O$502,7,0)=0,\"\",VLOOKUP(L346,漢字読み!$A$2:$O$502,7,0)))","v":{"$error":"#N/A"}},{"$f":"IF(M346=\"\",\"\",IF(VLOOKUP(M346,漢字読み!$A$2:$O$502,7,0)=0,\"\",VLOOKUP(M346,漢字読み!$A$2:$O$502,7,0)))","v":{"$error":"#N/A"}},{"$f":"IF(N346=\"\",\"\",IF(VLOOKUP(N346,漢字読み!$A$2:$O$502,7,0)=0,\"\",VLOOKUP(N346,漢字読み!$A$2:$O$502,7,0)))","v":{"$error":"#N/A"}},{"$f":"IF(O346=\"\",\"\",IF(VLOOKUP(O346,漢字読み!$A$2:$O$502,7,0)=0,\"\",VLOOKUP(O346,漢字読み!$A$2:$O$502,7,0)))","v":{"$error":"#N/A"}},{"$f":"IF(P346=\"\",\"\",IF(VLOOKUP(P346,漢字読み!$A$2:$O$502,7,0)=0,\"\",VLOOKUP(P346,漢字読み!$A$2:$O$502,7,0)))","v":{"$error":"#N/A"}},{"$f":"IF(Q346=\"\",\"\",IF(VLOOKUP(Q346,漢字読み!$A$2:$O$502,7,0)=0,\"\",VLOOKUP(Q346,漢字読み!$A$2:$O$502,7,0)))","v":{"$error":"#N/A"}},{"$f":"IF(R346=\"\",\"\",IF(VLOOKUP(R346,漢字読み!$A$2:$O$502,7,0)=0,\"\",VLOOKUP(R346,漢字読み!$A$2:$O$502,7,0)))","v":{"$error":"#N/A"}},{"$f":"IF(S346=\"\",\"\",IF(VLOOKUP(S346,漢字読み!$A$2:$O$502,7,0)=0,\"\",VLOOKUP(S346,漢字読み!$A$2:$O$502,7,0)))","v":{"$error":"#N/A"}},{"$f":"IF(T346=\"\",\"\",IF(VLOOKUP(T346,漢字読み!$A$2:$O$502,7,0)=0,\"\",VLOOKUP(T346,漢字読み!$A$2:$O$502,7,0)))","v":{"$error":"#N/A"}},null,null,"和歌山県教育委員会"]
[{"$f":"A341","v":0},0,0,0,0,0,0,0,0,0,0,0,0,0,0,0,0,0,0,0]
["⑳","⑲","⑱","⑰","⑯","⑮","⑭","⑬","⑫","⑪","⑩","⑨","⑧","⑦","⑥","⑤","④","③","②","①","次の［　　　　］の部分の漢字には読みがなをひらがなで書き、カタカナは漢字に直しなさい。",10,"「漢字の博士検定試験」練習問題　"]
[{"$f":"IF(A351=\"\",\"\",VLOOKUP(A351,漢字書き!$A$2:$N$506,6,0))","v":{"$error":"#N/A"}},{"$f":"IF(B351=\"\",\"\",VLOOKUP(B351,漢字書き!$A$2:$N$506,6,0))","v":{"$error":"#N/A"}},{"$f":"IF(C351=\"\",\"\",VLOOKUP(C351,漢字書き!$A$2:$N$506,6,0))","v":{"$error":"#N/A"}},{"$f":"IF(D351=\"\",\"\",VLOOKUP(D351,漢字書き!$A$2:$N$506,6,0))","v":{"$error":"#N/A"}},{"$f":"IF(E351=\"\",\"\",VLOOKUP(E351,漢字書き!$A$2:$N$506,6,0))","v":{"$error":"#N/A"}},{"$f":"IF(F351=\"\",\"\",VLOOKUP(F351,漢字書き!$A$2:$N$506,6,0))","v":{"$error":"#N/A"}},{"$f":"IF(G351=\"\",\"\",VLOOKUP(G351,漢字書き!$A$2:$N$506,6,0))","v":{"$error":"#N/A"}},{"$f":"IF(H351=\"\",\"\",VLOOKUP(H351,漢字書き!$A$2:$N$506,6,0))","v":{"$error":"#N/A"}},{"$f":"IF(I351=\"\",\"\",VLOOKUP(I351,漢字書き!$A$2:$N$506,6,0))","v":{"$error":"#N/A"}},{"$f":"IF(J351=\"\",\"\",VLOOKUP(J351,漢字書き!$A$2:$N$506,6,0))","v":{"$error":"#N/A"}},{"$f":"IF(K351=\"\",\"\",VLOOKUP(K351,漢字読み!$A$2:$O$506,6,0))","v":{"$error":"#N/A"}},{"$f":"IF(L351=\"\",\"\",VLOOKUP(L351,漢字読み!$A$2:$O$506,6,0))","v":{"$error":"#N/A"}},{"$f":"IF(M351=\"\",\"\",VLOOKUP(M351,漢字読み!$A$2:$O$506,6,0))","v":{"$error":"#N/A"}},{"$f":"IF(N351=\"\",\"\",VLOOKUP(N351,漢字読み!$A$2:$O$506,6,0))","v":{"$error":"#N/A"}},{"$f":"IF(O351=\"\",\"\",VLOOKUP(O351,漢字読み!$A$2:$O$506,6,0))","v":{"$error":"#N/A"}},{"$f":"IF(P351=\"\",\"\",VLOOKUP(P351,漢字読み!$A$2:$O$506,6,0))","v":{"$error":"#N/A"}},{"$f":"IF(Q351=\"\",\"\",VLOOKUP(Q351,漢字読み!$A$2:$O$506,6,0))","v":{"$error":"#N/A"}},{"$f":"IF(R351=\"\",\"\",VLOOKUP(R351,漢字読み!$A$2:$O$506,6,0))","v":{"$error":"#N/A"}},{"$f":"IF(S351=\"\",\"\",VLOOKUP(S351,漢字読み!$A$2:$O$506,6,0))","v":{"$error":"#N/A"}},{"$f":"IF(T351=\"\",\"\",VLOOKUP(T351,漢字読み!$A$2:$O$506,6,0))","v":{"$error":"#N/A"}},null,"級"]
[{"$f":"IF(A$11=\"\",\"\",VLOOKUP(A351,漢字書き!$A$2:$O$506,8,0))","v":{"$error":"#N/A"}},{"$f":"IF(B$11=\"\",\"\",VLOOKUP(B351,漢字書き!$A$2:$O$506,8,0))","v":{"$error":"#N/A"}},{"$f":"IF(C$11=\"\",\"\",VLOOKUP(C351,漢字書き!$A$2:$O$506,8,0))","v":{"$error":"#N/A"}},{"$f":"IF(D$11=\"\",\"\",VLOOKUP(D351,漢字書き!$A$2:$O$506,8,0))","v":{"$error":"#N/A"}},{"$f":"IF(E$11=\"\",\"\",VLOOKUP(E351,漢字書き!$A$2:$O$506,8,0))","v":{"$error":"#N/A"}},{"$f":"IF(F$11=\"\",\"\",VLOOKUP(F351,漢字書き!$A$2:$O$506,8,0))","v":{"$error":"#N/A"}},{"$f":"IF(G$11=\"\",\"\",VLOOKUP(G351,漢字書き!$A$2:$O$506,8,0))","v":{"$error":"#N/A"}},{"$f":"IF(H$11=\"\",\"\",VLOOKUP(H351,漢字書き!$A$2:$O$506,8,0))","v":{"$error":"#N/A"}},{"$f":"IF(I$11=\"\",\"\",VLOOKUP(I351,漢字書き!$A$2:$O$506,8,0))","v":{"$error":"#N/A"}},{"$f":"IF(J$11=\"\",\"\",VLOOKUP(J351,漢字書き!$A$2:$O$506,8,0))","v":{"$error":"#N/A"}},{"$f":"IF(K$11=\"\",\"\",VLOOKUP(K351,漢字読み!$A$2:$O$506,8,0))","v":{"$error":"#N/A"}},{"$f":"IF(L$11=\"\",\"\",VLOOKUP(L351,漢字読み!$A$2:$O$506,8,0))","v":{"$error":"#N/A"}},{"$f":"IF(M$11=\"\",\"\",VLOOKUP(M351,漢字読み!$A$2:$O$506,8,0))","v":{"$error":"#N/A"}},{"$f":"IF(N$11=\"\",\"\",VLOOKUP(N351,漢字読み!$A$2:$O$506,8,0))","v":{"$error":"#N/A"}},{"$f":"IF(O$11=\"\",\"\",VLOOKUP(O351,漢字読み!$A$2:$O$506,8,0))","v":{"$error":"#N/A"}},{"$f":"IF(P$11=\"\",\"\",VLOOKUP(P351,漢字読み!$A$2:$O$506,8,0))","v":{"$error":"#N/A"}},{"$f":"IF(Q$11=\"\",\"\",VLOOKUP(Q351,漢字読み!$A$2:$O$506,8,0))","v":{"$error":"#N/A"}},{"$f":"IF(R$11=\"\",\"\",VLOOKUP(R351,漢字読み!$A$2:$O$506,8,0))","v":{"$error":"#N/A"}},{"$f":"IF(S$11=\"\",\"\",VLOOKUP(S351,漢字読み!$A$2:$O$506,8,0))","v":{"$error":"#N/A"}},{"$f":"IF(T$11=\"\",\"\",VLOOKUP(T351,漢字読み!$A$2:$O$506,8,0))","v":{"$error":"#N/A"}},null,"名前"]
[{"$f":"IF(A351=\"\",\"\",IF(VLOOKUP(A351,漢字書き!$A$2:$N$502,7,0)=0,\"\",VLOOKUP(A351,漢字書き!$A$2:$N$502,7,0)))","v":{"$error":"#N/A"}},{"$f":"IF(B351=\"\",\"\",IF(VLOOKUP(B351,漢字書き!$A$2:$N$502,7,0)=0,\"\",VLOOKUP(B351,漢字書き!$A$2:$N$502,7,0)))","v":{"$error":"#N/A"}},{"$f":"IF(C351=\"\",\"\",IF(VLOOKUP(C351,漢字書き!$A$2:$N$502,7,0)=0,\"\",VLOOKUP(C351,漢字書き!$A$2:$N$502,7,0)))","v":{"$error":"#N/A"}},{"$f":"IF(D351=\"\",\"\",IF(VLOOKUP(D351,漢字書き!$A$2:$N$502,7,0)=0,\"\",VLOOKUP(D351,漢字書き!$A$2:$N$502,7,0)))","v":{"$error":"#N/A"}},{"$f":"IF(E351=\"\",\"\",IF(VLOOKUP(E351,漢字書き!$A$2:$N$502,7,0)=0,\"\",VLOOKUP(E351,漢字書き!$A$2:$N$502,7,0)))","v":{"$error":"#N/A"}},{"$f":"IF(F351=\"\",\"\",IF(VLOOKUP(F351,漢字書き!$A$2:$N$502,7,0)=0,\"\",VLOOKUP(F351,漢字書き!$A$2:$N$502,7,0)))","v":{"$error":"#N/A"}},{"$f":"IF(G351=\"\",\"\",IF(VLOOKUP(G351,漢字書き!$A$2:$N$502,7,0)=0,\"\",VLOOKUP(G351,漢字書き!$A$2:$N$502,7,0)))","v":{"$error":"#N/A"}},{"$f":"IF(H351=\"\",\"\",IF(VLOOKUP(H351,漢字書き!$A$2:$N$502,7,0)=0,\"\",VLOOKUP(H351,漢字書き!$A$2:$N$502,7,0)))","v":{"$error":"#N/A"}},{"$f":"IF(I351=\"\",\"\",IF(VLOOKUP(I351,漢字書き!$A$2:$N$502,7,0)=0,\"\",VLOOKUP(I351,漢字書き!$A$2:$N$502,7,0)))","v":{"$error":"#N/A"}},{"$f":"IF(J351=\"\",\"\",IF(VLOOKUP(J351,漢字書き!$A$2:$N$502,7,0)=0,\"\",VLOOKUP(J351,漢字書き!$A$2:$N$502,7,0)))","v":{"$error":"#N/A"}},{"$f":"IF(K351=\"\",\"\",IF(VLOOKUP(K351,漢字読み!$A$2:$O$502,7,0)=0,\"\",VLOOKUP(K351,漢字読み!$A$2:$O$502,7,0)))","v":{"$error":"#N/A"}},{"$f":"IF(L351=\"\",\"\",IF(VLOOKUP(L351,漢字読み!$A$2:$O$502,7,0)=0,\"\",VLOOKUP(L351,漢字読み!$A$2:$O$502,7,0)))","v":{"$error":"#N/A"}},{"$f":"IF(M351=\"\",\"\",IF(VLOOKUP(M351,漢字読み!$A$2:$O$502,7,0)=0,\"\",VLOOKUP(M351,漢字読み!$A$2:$O$502,7,0)))","v":{"$error":"#N/A"}},{"$f":"IF(N351=\"\",\"\",IF(VLOOKUP(N351,漢字読み!$A$2:$O$502,7,0)=0,\"\",VLOOKUP(N351,漢字読み!$A$2:$O$502,7,0)))","v":{"$error":"#N/A"}},{"$f":"IF(O351=\"\",\"\",IF(VLOOKUP(O351,漢字読み!$A$2:$O$502,7,0)=0,\"\",VLOOKUP(O351,漢字読み!$A$2:$O$502,7,0)))","v":{"$error":"#N/A"}},{"$f":"IF(P351=\"\",\"\",IF(VLOOKUP(P351,漢字読み!$A$2:$O$502,7,0)=0,\"\",VLOOKUP(P351,漢字読み!$A$2:$O$502,7,0)))","v":{"$error":"#N/A"}},{"$f":"IF(Q351=\"\",\"\",IF(VLOOKUP(Q351,漢字読み!$A$2:$O$502,7,0)=0,\"\",VLOOKUP(Q351,漢字読み!$A$2:$O$502,7,0)))","v":{"$error":"#N/A"}},{"$f":"IF(R351=\"\",\"\",IF(VLOOKUP(R351,漢字読み!$A$2:$O$502,7,0)=0,\"\",VLOOKUP(R351,漢字読み!$A$2:$O$502,7,0)))","v":{"$error":"#N/A"}},{"$f":"IF(S351=\"\",\"\",IF(VLOOKUP(S351,漢字読み!$A$2:$O$502,7,0)=0,\"\",VLOOKUP(S351,漢字読み!$A$2:$O$502,7,0)))","v":{"$error":"#N/A"}},{"$f":"IF(T351=\"\",\"\",IF(VLOOKUP(T351,漢字読み!$A$2:$O$502,7,0)=0,\"\",VLOOKUP(T351,漢字読み!$A$2:$O$502,7,0)))","v":{"$error":"#N/A"}},null,null,"和歌山県教育委員会"]
[{"$f":"A346","v":0},0,0,0,0,0,0,0,0,0,0,0,0,0,0,0,0,0,0,0]
["⑳","⑲","⑱","⑰","⑯","⑮","⑭","⑬","⑫","⑪","⑩","⑨","⑧","⑦","⑥","⑤","④","③","②","①","次の［　　　　］の部分の漢字には読みがなをひらがなで書き、カタカナは漢字に直しなさい。",10,"「漢字の博士検定試験」練習問題　"]
[{"$f":"IF(A356=\"\",\"\",VLOOKUP(A356,漢字書き!$A$2:$N$506,6,0))","v":{"$error":"#N/A"}},{"$f":"IF(B356=\"\",\"\",VLOOKUP(B356,漢字書き!$A$2:$N$506,6,0))","v":{"$error":"#N/A"}},{"$f":"IF(C356=\"\",\"\",VLOOKUP(C356,漢字書き!$A$2:$N$506,6,0))","v":{"$error":"#N/A"}},{"$f":"IF(D356=\"\",\"\",VLOOKUP(D356,漢字書き!$A$2:$N$506,6,0))","v":{"$error":"#N/A"}},{"$f":"IF(E356=\"\",\"\",VLOOKUP(E356,漢字書き!$A$2:$N$506,6,0))","v":{"$error":"#N/A"}},{"$f":"IF(F356=\"\",\"\",VLOOKUP(F356,漢字書き!$A$2:$N$506,6,0))","v":{"$error":"#N/A"}},{"$f":"IF(G356=\"\",\"\",VLOOKUP(G356,漢字書き!$A$2:$N$506,6,0))","v":{"$error":"#N/A"}},{"$f":"IF(H356=\"\",\"\",VLOOKUP(H356,漢字書き!$A$2:$N$506,6,0))","v":{"$error":"#N/A"}},{"$f":"IF(I356=\"\",\"\",VLOOKUP(I356,漢字書き!$A$2:$N$506,6,0))","v":{"$error":"#N/A"}},{"$f":"IF(J356=\"\",\"\",VLOOKUP(J356,漢字書き!$A$2:$N$506,6,0))","v":{"$error":"#N/A"}},{"$f":"IF(K356=\"\",\"\",VLOOKUP(K356,漢字読み!$A$2:$O$506,6,0))","v":{"$error":"#N/A"}},{"$f":"IF(L356=\"\",\"\",VLOOKUP(L356,漢字読み!$A$2:$O$506,6,0))","v":{"$error":"#N/A"}},{"$f":"IF(M356=\"\",\"\",VLOOKUP(M356,漢字読み!$A$2:$O$506,6,0))","v":{"$error":"#N/A"}},{"$f":"IF(N356=\"\",\"\",VLOOKUP(N356,漢字読み!$A$2:$O$506,6,0))","v":{"$error":"#N/A"}},{"$f":"IF(O356=\"\",\"\",VLOOKUP(O356,漢字読み!$A$2:$O$506,6,0))","v":{"$error":"#N/A"}},{"$f":"IF(P356=\"\",\"\",VLOOKUP(P356,漢字読み!$A$2:$O$506,6,0))","v":{"$error":"#N/A"}},{"$f":"IF(Q356=\"\",\"\",VLOOKUP(Q356,漢字読み!$A$2:$O$506,6,0))","v":{"$error":"#N/A"}},{"$f":"IF(R356=\"\",\"\",VLOOKUP(R356,漢字読み!$A$2:$O$506,6,0))","v":{"$error":"#N/A"}},{"$f":"IF(S356=\"\",\"\",VLOOKUP(S356,漢字読み!$A$2:$O$506,6,0))","v":{"$error":"#N/A"}},{"$f":"IF(T356=\"\",\"\",VLOOKUP(T356,漢字読み!$A$2:$O$506,6,0))","v":{"$error":"#N/A"}},null,"級"]
[{"$f":"IF(A$16=\"\",\"\",VLOOKUP(A356,漢字書き!$A$2:$O$506,8,0))","v":{"$error":"#N/A"}},{"$f":"IF(B$16=\"\",\"\",VLOOKUP(B356,漢字書き!$A$2:$O$506,8,0))","v":{"$error":"#N/A"}},{"$f":"IF(C$16=\"\",\"\",VLOOKUP(C356,漢字書き!$A$2:$O$506,8,0))","v":{"$error":"#N/A"}},{"$f":"IF(D$16=\"\",\"\",VLOOKUP(D356,漢字書き!$A$2:$O$506,8,0))","v":{"$error":"#N/A"}},{"$f":"IF(E$16=\"\",\"\",VLOOKUP(E356,漢字書き!$A$2:$O$506,8,0))","v":{"$error":"#N/A"}},{"$f":"IF(F$16=\"\",\"\",VLOOKUP(F356,漢字書き!$A$2:$O$506,8,0))","v":{"$error":"#N/A"}},{"$f":"IF(G$16=\"\",\"\",VLOOKUP(G356,漢字書き!$A$2:$O$506,8,0))","v":{"$error":"#N/A"}},{"$f":"IF(H$16=\"\",\"\",VLOOKUP(H356,漢字書き!$A$2:$O$506,8,0))","v":{"$error":"#N/A"}},{"$f":"IF(I$16=\"\",\"\",VLOOKUP(I356,漢字書き!$A$2:$O$506,8,0))","v":{"$error":"#N/A"}},{"$f":"IF(J$16=\"\",\"\",VLOOKUP(J356,漢字書き!$A$2:$O$506,8,0))","v":{"$error":"#N/A"}},{"$f":"IF(K$16=\"\",\"\",VLOOKUP(K356,漢字読み!$A$2:$O$506,8,0))","v":{"$error":"#N/A"}},{"$f":"IF(L$16=\"\",\"\",VLOOKUP(L356,漢字読み!$A$2:$O$506,8,0))","v":{"$error":"#N/A"}},{"$f":"IF(M$16=\"\",\"\",VLOOKUP(M356,漢字読み!$A$2:$O$506,8,0))","v":{"$error":"#N/A"}},{"$f":"IF(N$16=\"\",\"\",VLOOKUP(N356,漢字読み!$A$2:$O$506,8,0))","v":{"$error":"#N/A"}},{"$f":"IF(O$16=\"\",\"\",VLOOKUP(O356,漢字読み!$A$2:$O$506,8,0))","v":{"$error":"#N/A"}},{"$f":"IF(P$16=\"\",\"\",VLOOKUP(P356,漢字読み!$A$2:$O$506,8,0))","v":{"$error":"#N/A"}},{"$f":"IF(Q$16=\"\",\"\",VLOOKUP(Q356,漢字読み!$A$2:$O$506,8,0))","v":{"$error":"#N/A"}},{"$f":"IF(R$16=\"\",\"\",VLOOKUP(R356,漢字読み!$A$2:$O$506,8,0))","v":{"$error":"#N/A"}},{"$f":"IF(S$16=\"\",\"\",VLOOKUP(S356,漢字読み!$A$2:$O$506,8,0))","v":{"$error":"#N/A"}},{"$f":"IF(T$16=\"\",\"\",VLOOKUP(T356,漢字読み!$A$2:$O$506,8,0))","v":{"$error":"#N/A"}},null,"名前"]
[{"$f":"IF(A356=\"\",\"\",IF(VLOOKUP(A356,漢字書き!$A$2:$N$502,7,0)=0,\"\",VLOOKUP(A356,漢字書き!$A$2:$N$502,7,0)))","v":{"$error":"#N/A"}},{"$f":"IF(B356=\"\",\"\",IF(VLOOKUP(B356,漢字書き!$A$2:$N$502,7,0)=0,\"\",VLOOKUP(B356,漢字書き!$A$2:$N$502,7,0)))","v":{"$error":"#N/A"}},{"$f":"IF(C356=\"\",\"\",IF(VLOOKUP(C356,漢字書き!$A$2:$N$502,7,0)=0,\"\",VLOOKUP(C356,漢字書き!$A$2:$N$502,7,0)))","v":{"$error":"#N/A"}},{"$f":"IF(D356=\"\",\"\",IF(VLOOKUP(D356,漢字書き!$A$2:$N$502,7,0)=0,\"\",VLOOKUP(D356,漢字書き!$A$2:$N$502,7,0)))","v":{"$error":"#N/A"}},{"$f":"IF(E356=\"\",\"\",IF(VLOOKUP(E356,漢字書き!$A$2:$N$502,7,0)=0,\"\",VLOOKUP(E356,漢字書き!$A$2:$N$502,7,0)))","v":{"$error":"#N/A"}},{"$f":"IF(F356=\"\",\"\",IF(VLOOKUP(F356,漢字書き!$A$2:$N$502,7,0)=0,\"\",VLOOKUP(F356,漢字書き!$A$2:$N$502,7,0)))","v":{"$error":"#N/A"}},{"$f":"IF(G356=\"\",\"\",IF(VLOOKUP(G356,漢字書き!$A$2:$N$502,7,0)=0,\"\",VLOOKUP(G356,漢字書き!$A$2:$N$502,7,0)))","v":{"$error":"#N/A"}},{"$f":"IF(H356=\"\",\"\",IF(VLOOKUP(H356,漢字書き!$A$2:$N$502,7,0)=0,\"\",VLOOKUP(H356,漢字書き!$A$2:$N$502,7,0)))","v":{"$error":"#N/A"}},{"$f":"IF(I356=\"\",\"\",IF(VLOOKUP(I356,漢字書き!$A$2:$N$502,7,0)=0,\"\",VLOOKUP(I356,漢字書き!$A$2:$N$502,7,0)))","v":{"$error":"#N/A"}},{"$f":"IF(J356=\"\",\"\",IF(VLOOKUP(J356,漢字書き!$A$2:$N$502,7,0)=0,\"\",VLOOKUP(J356,漢字書き!$A$2:$N$502,7,0)))","v":{"$error":"#N/A"}},{"$f":"IF(K356=\"\",\"\",IF(VLOOKUP(K356,漢字読み!$A$2:$O$502,7,0)=0,\"\",VLOOKUP(K356,漢字読み!$A$2:$O$502,7,0)))","v":{"$error":"#N/A"}},{"$f":"IF(L356=\"\",\"\",IF(VLOOKUP(L356,漢字読み!$A$2:$O$502,7,0)=0,\"\",VLOOKUP(L356,漢字読み!$A$2:$O$502,7,0)))","v":{"$error":"#N/A"}},{"$f":"IF(M356=\"\",\"\",IF(VLOOKUP(M356,漢字読み!$A$2:$O$502,7,0)=0,\"\",VLOOKUP(M356,漢字読み!$A$2:$O$502,7,0)))","v":{"$error":"#N/A"}},{"$f":"IF(N356=\"\",\"\",IF(VLOOKUP(N356,漢字読み!$A$2:$O$502,7,0)=0,\"\",VLOOKUP(N356,漢字読み!$A$2:$O$502,7,0)))","v":{"$error":"#N/A"}},{"$f":"IF(O356=\"\",\"\",IF(VLOOKUP(O356,漢字読み!$A$2:$O$502,7,0)=0,\"\",VLOOKUP(O356,漢字読み!$A$2:$O$502,7,0)))","v":{"$error":"#N/A"}},{"$f":"IF(P356=\"\",\"\",IF(VLOOKUP(P356,漢字読み!$A$2:$O$502,7,0)=0,\"\",VLOOKUP(P356,漢字読み!$A$2:$O$502,7,0)))","v":{"$error":"#N/A"}},{"$f":"IF(Q356=\"\",\"\",IF(VLOOKUP(Q356,漢字読み!$A$2:$O$502,7,0)=0,\"\",VLOOKUP(Q356,漢字読み!$A$2:$O$502,7,0)))","v":{"$error":"#N/A"}},{"$f":"IF(R356=\"\",\"\",IF(VLOOKUP(R356,漢字読み!$A$2:$O$502,7,0)=0,\"\",VLOOKUP(R356,漢字読み!$A$2:$O$502,7,0)))","v":{"$error":"#N/A"}},{"$f":"IF(S356=\"\",\"\",IF(VLOOKUP(S356,漢字読み!$A$2:$O$502,7,0)=0,\"\",VLOOKUP(S356,漢字読み!$A$2:$O$502,7,0)))","v":{"$error":"#N/A"}},{"$f":"IF(T356=\"\",\"\",IF(VLOOKUP(T356,漢字読み!$A$2:$O$502,7,0)=0,\"\",VLOOKUP(T356,漢字読み!$A$2:$O$502,7,0)))","v":{"$error":"#N/A"}},null,null,"和歌山県教育委員会"]
[{"$f":"INDIRECT(\"'関数（書き）'!C\" & COLUMN(B$1)+SUM($AD$2:$AD362))","v":0},{"$f":"INDIRECT(\"'関数（書き）'!C\" & COLUMN(C$1)+SUM($AD$2:$AD362))","v":0},{"$f":"INDIRECT(\"'関数（書き）'!C\" & COLUMN(D$1)+SUM($AD$2:$AD362))","v":0},{"$f":"INDIRECT(\"'関数（書き）'!C\" & COLUMN(E$1)+SUM($AD$2:$AD362))","v":0},{"$f":"INDIRECT(\"'関数（書き）'!C\" & COLUMN(F$1)+SUM($AD$2:$AD362))","v":0},{"$f":"INDIRECT(\"'関数（書き）'!C\" & COLUMN(G$1)+SUM($AD$2:$AD362))","v":0},{"$f":"INDIRECT(\"'関数（書き）'!C\" & COLUMN(H$1)+SUM($AD$2:$AD362))","v":0},{"$f":"INDIRECT(\"'関数（書き）'!C\" & COLUMN(I$1)+SUM($AD$2:$AD362))","v":0},{"$f":"INDIRECT(\"'関数（書き）'!C\" & COLUMN(J$1)+SUM($AD$2:$AD362))","v":0},{"$f":"INDIRECT(\"'関数（書き）'!C\" & COLUMN(K$1)+SUM($AD$2:$AD362))","v":0},{"$f":"INDIRECT(\"'関数（読み）'!C\" & COLUMN(B$1)+SUM($AD$2:$AD362))","v":0},{"$f":"INDIRECT(\"'関数（読み）'!C\" & COLUMN(C$1)+SUM($AD$2:$AD362))","v":0},{"$f":"INDIRECT(\"'関数（読み）'!C\" & COLUMN(D$1)+SUM($AD$2:$AD362))","v":0},{"$f":"INDIRECT(\"'関数（読み）'!C\" & COLUMN(E$1)+SUM($AD$2:$AD362))","v":0},{"$f":"INDIRECT(\"'関数（読み）'!C\" & COLUMN(F$1)+SUM($AD$2:$AD362))","v":0},{"$f":"INDIRECT(\"'関数（読み）'!C\" & COLUMN(G$1)+SUM($AD$2:$AD362))","v":0},{"$f":"INDIRECT(\"'関数（読み）'!C\" & COLUMN(H$1)+SUM($AD$2:$AD362))","v":0},{"$f":"INDIRECT(\"'関数（読み）'!C\" & COLUMN(I$1)+SUM($AD$2:$AD362))","v":0},{"$f":"INDIRECT(\"'関数（読み）'!C\" & COLUMN(J$1)+SUM($AD$2:$AD362))","v":0},{"$f":"INDIRECT(\"'関数（読み）'!C\" & COLUMN(K$1)+SUM($AD$2:$AD362))","v":0}]
["⑳","⑲","⑱","⑰","⑯","⑮","⑭","⑬","⑫","⑪","⑩","⑨","⑧","⑦","⑥","⑤","④","③","②","①","次の［　　　　］の部分の漢字には読みがなをひらがなで書き、カタカナは漢字に直しなさい。",10,"「漢字の博士検定試験」練習問題　",null,null,null,null,null,"←",10,"問",{"$f":"AH347+1","v":361},"～",{"$f":"SUM($AD$2:$AD362)+10","v":370},"問まで",{"$f":"COUNTIF($A$1:$T$200,T363)","v":0}]
[{"$f":"IF(A361=\"\",\"\",VLOOKUP(A361,漢字書き!$A$2:$N$506,6,0))","v":{"$error":"#N/A"}},{"$f":"IF(B361=\"\",\"\",VLOOKUP(B361,漢字書き!$A$2:$N$506,6,0))","v":{"$error":"#N/A"}},{"$f":"IF(C361=\"\",\"\",VLOOKUP(C361,漢字書き!$A$2:$N$506,6,0))","v":{"$error":"#N/A"}},{"$f":"IF(D361=\"\",\"\",VLOOKUP(D361,漢字書き!$A$2:$N$506,6,0))","v":{"$error":"#N/A"}},{"$f":"IF(E361=\"\",\"\",VLOOKUP(E361,漢字書き!$A$2:$N$506,6,0))","v":{"$error":"#N/A"}},{"$f":"IF(F361=\"\",\"\",VLOOKUP(F361,漢字書き!$A$2:$N$506,6,0))","v":{"$error":"#N/A"}},{"$f":"IF(G361=\"\",\"\",VLOOKUP(G361,漢字書き!$A$2:$N$506,6,0))","v":{"$error":"#N/A"}},{"$f":"IF(H361=\"\",\"\",VLOOKUP(H361,漢字書き!$A$2:$N$506,6,0))","v":{"$error":"#N/A"}},{"$f":"IF(I361=\"\",\"\",VLOOKUP(I361,漢字書き!$A$2:$N$506,6,0))","v":{"$error":"#N/A"}},{"$f":"IF(J361=\"\",\"\",VLOOKUP(J361,漢字書き!$A$2:$N$506,6,0))","v":{"$error":"#N/A"}},{"$f":"IF(K361=\"\",\"\",VLOOKUP(K361,漢字読み!$A$2:$O$506,6,0))","v":{"$error":"#N/A"}},{"$f":"IF(L361=\"\",\"\",VLOOKUP(L361,漢字読み!$A$2:$O$506,6,0))","v":{"$error":"#N/A"}},{"$f":"IF(M361=\"\",\"\",VLOOKUP(M361,漢字読み!$A$2:$O$506,6,0))","v":{"$error":"#N/A"}},{"$f":"IF(N361=\"\",\"\",VLOOKUP(N361,漢字読み!$A$2:$O$506,6,0))","v":{"$error":"#N/A"}},{"$f":"IF(O361=\"\",\"\",VLOOKUP(O361,漢字読み!$A$2:$O$506,6,0))","v":{"$error":"#N/A"}},{"$f":"IF(P361=\"\",\"\",VLOOKUP(P361,漢字読み!$A$2:$O$506,6,0))","v":{"$error":"#N/A"}},{"$f":"IF(Q361=\"\",\"\",VLOOKUP(Q361,漢字読み!$A$2:$O$506,6,0))","v":{"$error":"#N/A"}},{"$f":"IF(R361=\"\",\"\",VLOOKUP(R361,漢字読み!$A$2:$O$506,6,0))","v":{"$error":"#N/A"}},{"$f":"IF(S361=\"\",\"\",VLOOKUP(S361,漢字読み!$A$2:$O$506,6,0))","v":{"$error":"#N/A"}},{"$f":"IF(T361=\"\",\"\",VLOOKUP(T361,漢字読み!$A$2:$O$506,6,0))","v":{"$error":"#N/A"}},null,"級"]
[null,null,null,null,null,null,null,null,null,null,null,null,null,null,null,null,null,null,null,null,null,"名前"]
[{"$f":"IF(A361=\"\",\"\",IF(VLOOKUP(A361,漢字書き!$A$2:$N$502,7,0)=0,\"\",VLOOKUP(A361,漢字書き!$A$2:$N$502,7,0)))","v":{"$error":"#N/A"}},{"$f":"IF(B361=\"\",\"\",IF(VLOOKUP(B361,漢字書き!$A$2:$N$502,7,0)=0,\"\",VLOOKUP(B361,漢字書き!$A$2:$N$502,7,0)))","v":{"$error":"#N/A"}},{"$f":"IF(C361=\"\",\"\",IF(VLOOKUP(C361,漢字書き!$A$2:$N$502,7,0)=0,\"\",VLOOKUP(C361,漢字書き!$A$2:$N$502,7,0)))","v":{"$error":"#N/A"}},{"$f":"IF(D361=\"\",\"\",IF(VLOOKUP(D361,漢字書き!$A$2:$N$502,7,0)=0,\"\",VLOOKUP(D361,漢字書き!$A$2:$N$502,7,0)))","v":{"$error":"#N/A"}},{"$f":"IF(E361=\"\",\"\",IF(VLOOKUP(E361,漢字書き!$A$2:$N$502,7,0)=0,\"\",VLOOKUP(E361,漢字書き!$A$2:$N$502,7,0)))","v":{"$error":"#N/A"}},{"$f":"IF(F361=\"\",\"\",IF(VLOOKUP(F361,漢字書き!$A$2:$N$502,7,0)=0,\"\",VLOOKUP(F361,漢字書き!$A$2:$N$502,7,0)))","v":{"$error":"#N/A"}},{"$f":"IF(G361=\"\",\"\",IF(VLOOKUP(G361,漢字書き!$A$2:$N$502,7,0)=0,\"\",VLOOKUP(G361,漢字書き!$A$2:$N$502,7,0)))","v":{"$error":"#N/A"}},{"$f":"IF(H361=\"\",\"\",IF(VLOOKUP(H361,漢字書き!$A$2:$N$502,7,0)=0,\"\",VLOOKUP(H361,漢字書き!$A$2:$N$502,7,0)))","v":{"$error":"#N/A"}},{"$f":"IF(I361=\"\",\"\",IF(VLOOKUP(I361,漢字書き!$A$2:$N$502,7,0)=0,\"\",VLOOKUP(I361,漢字書き!$A$2:$N$502,7,0)))","v":{"$error":"#N/A"}},{"$f":"IF(J361=\"\",\"\",IF(VLOOKUP(J361,漢字書き!$A$2:$N$502,7,0)=0,\"\",VLOOKUP(J361,漢字書き!$A$2:$N$502,7,0)))","v":{"$error":"#N/A"}},{"$f":"IF(K361=\"\",\"\",IF(VLOOKUP(K361,漢字読み!$A$2:$O$502,7,0)=0,\"\",VLOOKUP(K361,漢字読み!$A$2:$O$502,7,0)))","v":{"$error":"#N/A"}},{"$f":"IF(L361=\"\",\"\",IF(VLOOKUP(L361,漢字読み!$A$2:$O$502,7,0)=0,\"\",VLOOKUP(L361,漢字読み!$A$2:$O$502,7,0)))","v":{"$error":"#N/A"}},{"$f":"IF(M361=\"\",\"\",IF(VLOOKUP(M361,漢字読み!$A$2:$O$502,7,0)=0,\"\",VLOOKUP(M361,漢字読み!$A$2:$O$502,7,0)))","v":{"$error":"#N/A"}},{"$f":"IF(N361=\"\",\"\",IF(VLOOKUP(N361,漢字読み!$A$2:$O$502,7,0)=0,\"\",VLOOKUP(N361,漢字読み!$A$2:$O$502,7,0)))","v":{"$error":"#N/A"}},{"$f":"IF(O361=\"\",\"\",IF(VLOOKUP(O361,漢字読み!$A$2:$O$502,7,0)=0,\"\",VLOOKUP(O361,漢字読み!$A$2:$O$502,7,0)))","v":{"$error":"#N/A"}},{"$f":"IF(P361=\"\",\"\",IF(VLOOKUP(P361,漢字読み!$A$2:$O$502,7,0)=0,\"\",VLOOKUP(P361,漢字読み!$A$2:$O$502,7,0)))","v":{"$error":"#N/A"}},{"$f":"IF(Q361=\"\",\"\",IF(VLOOKUP(Q361,漢字読み!$A$2:$O$502,7,0)=0,\"\",VLOOKUP(Q361,漢字読み!$A$2:$O$502,7,0)))","v":{"$error":"#N/A"}},{"$f":"IF(R361=\"\",\"\",IF(VLOOKUP(R361,漢字読み!$A$2:$O$502,7,0)=0,\"\",VLOOKUP(R361,漢字読み!$A$2:$O$502,7,0)))","v":{"$error":"#N/A"}},{"$f":"IF(S361=\"\",\"\",IF(VLOOKUP(S361,漢字読み!$A$2:$O$502,7,0)=0,\"\",VLOOKUP(S361,漢字読み!$A$2:$O$502,7,0)))","v":{"$error":"#N/A"}},{"$f":"IF(T361=\"\",\"\",IF(VLOOKUP(T361,漢字読み!$A$2:$O$502,7,0)=0,\"\",VLOOKUP(T361,漢字読み!$A$2:$O$502,7,0)))","v":{"$error":"#N/A"}},null,null,"和歌山県教育委員会"]
[{"$f":"INDIRECT(\"'関数（書き）'!C\" & COLUMN(B$1)+SUM($AD$2:$AD367))","v":0},{"$f":"INDIRECT(\"'関数（書き）'!C\" & COLUMN(C$1)+SUM($AD$2:$AD367))","v":0},{"$f":"INDIRECT(\"'関数（書き）'!C\" & COLUMN(D$1)+SUM($AD$2:$AD367))","v":0},{"$f":"INDIRECT(\"'関数（書き）'!C\" & COLUMN(E$1)+SUM($AD$2:$AD367))","v":0},{"$f":"INDIRECT(\"'関数（書き）'!C\" & COLUMN(F$1)+SUM($AD$2:$AD367))","v":0},{"$f":"INDIRECT(\"'関数（書き）'!C\" & COLUMN(G$1)+SUM($AD$2:$AD367))","v":0},{"$f":"INDIRECT(\"'関数（書き）'!C\" & COLUMN(H$1)+SUM($AD$2:$AD367))","v":0},{"$f":"INDIRECT(\"'関数（書き）'!C\" & COLUMN(I$1)+SUM($AD$2:$AD367))","v":0},{"$f":"INDIRECT(\"'関数（書き）'!C\" & COLUMN(J$1)+SUM($AD$2:$AD367))","v":0},{"$f":"INDIRECT(\"'関数（書き）'!C\" & COLUMN(K$1)+SUM($AD$2:$AD367))","v":0},{"$f":"INDIRECT(\"'関数（読み）'!C\" & COLUMN(B$1)+SUM($AD$2:$AD367))","v":0},{"$f":"INDIRECT(\"'関数（読み）'!C\" & COLUMN(C$1)+SUM($AD$2:$AD367))","v":0},{"$f":"INDIRECT(\"'関数（読み）'!C\" & COLUMN(D$1)+SUM($AD$2:$AD367))","v":0},{"$f":"INDIRECT(\"'関数（読み）'!C\" & COLUMN(E$1)+SUM($AD$2:$AD367))","v":0},{"$f":"INDIRECT(\"'関数（読み）'!C\" & COLUMN(F$1)+SUM($AD$2:$AD367))","v":0},{"$f":"INDIRECT(\"'関数（読み）'!C\" & COLUMN(G$1)+SUM($AD$2:$AD367))","v":0},{"$f":"INDIRECT(\"'関数（読み）'!C\" & COLUMN(H$1)+SUM($AD$2:$AD367))","v":0},{"$f":"INDIRECT(\"'関数（読み）'!C\" & COLUMN(I$1)+SUM($AD$2:$AD367))","v":0},{"$f":"INDIRECT(\"'関数（読み）'!C\" & COLUMN(J$1)+SUM($AD$2:$AD367))","v":0},{"$f":"INDIRECT(\"'関数（読み）'!C\" & COLUMN(K$1)+SUM($AD$2:$AD367))","v":0}]
["⑳","⑲","⑱","⑰","⑯","⑮","⑭","⑬","⑫","⑪","⑩","⑨","⑧","⑦","⑥","⑤","④","③","②","①","次の［　　　　］の部分の漢字には読みがなをひらがなで書き、カタカナは漢字に直しなさい。",10,"「漢字の博士検定試験」練習問題　",null,null,null,null,null,"←",10,"問",{"$f":"AH362+1","v":371},"～",{"$f":"SUM($AD$2:$AD367)+10","v":380},"問まで",{"$f":"COUNTIF($A$1:$T$200,T368)","v":0}]
[{"$f":"IF(A366=\"\",\"\",VLOOKUP(A366,漢字書き!$A$2:$N$506,6,0))","v":{"$error":"#N/A"}},{"$f":"IF(B366=\"\",\"\",VLOOKUP(B366,漢字書き!$A$2:$N$506,6,0))","v":{"$error":"#N/A"}},{"$f":"IF(C366=\"\",\"\",VLOOKUP(C366,漢字書き!$A$2:$N$506,6,0))","v":{"$error":"#N/A"}},{"$f":"IF(D366=\"\",\"\",VLOOKUP(D366,漢字書き!$A$2:$N$506,6,0))","v":{"$error":"#N/A"}},{"$f":"IF(E366=\"\",\"\",VLOOKUP(E366,漢字書き!$A$2:$N$506,6,0))","v":{"$error":"#N/A"}},{"$f":"IF(F366=\"\",\"\",VLOOKUP(F366,漢字書き!$A$2:$N$506,6,0))","v":{"$error":"#N/A"}},{"$f":"IF(G366=\"\",\"\",VLOOKUP(G366,漢字書き!$A$2:$N$506,6,0))","v":{"$error":"#N/A"}},{"$f":"IF(H366=\"\",\"\",VLOOKUP(H366,漢字書き!$A$2:$N$506,6,0))","v":{"$error":"#N/A"}},{"$f":"IF(I366=\"\",\"\",VLOOKUP(I366,漢字書き!$A$2:$N$506,6,0))","v":{"$error":"#N/A"}},{"$f":"IF(J366=\"\",\"\",VLOOKUP(J366,漢字書き!$A$2:$N$506,6,0))","v":{"$error":"#N/A"}},{"$f":"IF(K366=\"\",\"\",VLOOKUP(K366,漢字読み!$A$2:$O$506,6,0))","v":{"$error":"#N/A"}},{"$f":"IF(L366=\"\",\"\",VLOOKUP(L366,漢字読み!$A$2:$O$506,6,0))","v":{"$error":"#N/A"}},{"$f":"IF(M366=\"\",\"\",VLOOKUP(M366,漢字読み!$A$2:$O$506,6,0))","v":{"$error":"#N/A"}},{"$f":"IF(N366=\"\",\"\",VLOOKUP(N366,漢字読み!$A$2:$O$506,6,0))","v":{"$error":"#N/A"}},{"$f":"IF(O366=\"\",\"\",VLOOKUP(O366,漢字読み!$A$2:$O$506,6,0))","v":{"$error":"#N/A"}},{"$f":"IF(P366=\"\",\"\",VLOOKUP(P366,漢字読み!$A$2:$O$506,6,0))","v":{"$error":"#N/A"}},{"$f":"IF(Q366=\"\",\"\",VLOOKUP(Q366,漢字読み!$A$2:$O$506,6,0))","v":{"$error":"#N/A"}},{"$f":"IF(R366=\"\",\"\",VLOOKUP(R366,漢字読み!$A$2:$O$506,6,0))","v":{"$error":"#N/A"}},{"$f":"IF(S366=\"\",\"\",VLOOKUP(S366,漢字読み!$A$2:$O$506,6,0))","v":{"$error":"#N/A"}},{"$f":"IF(T366=\"\",\"\",VLOOKUP(T366,漢字読み!$A$2:$O$506,6,0))","v":{"$error":"#N/A"}},null,"級"]
[null,null,null,null,null,null,null,null,null,null,null,null,null,null,null,null,null,null,null,null,null,"名前"]
[{"$f":"IF(A366=\"\",\"\",IF(VLOOKUP(A366,漢字書き!$A$2:$N$502,7,0)=0,\"\",VLOOKUP(A366,漢字書き!$A$2:$N$502,7,0)))","v":{"$error":"#N/A"}},{"$f":"IF(B366=\"\",\"\",IF(VLOOKUP(B366,漢字書き!$A$2:$N$502,7,0)=0,\"\",VLOOKUP(B366,漢字書き!$A$2:$N$502,7,0)))","v":{"$error":"#N/A"}},{"$f":"IF(C366=\"\",\"\",IF(VLOOKUP(C366,漢字書き!$A$2:$N$502,7,0)=0,\"\",VLOOKUP(C366,漢字書き!$A$2:$N$502,7,0)))","v":{"$error":"#N/A"}},{"$f":"IF(D366=\"\",\"\",IF(VLOOKUP(D366,漢字書き!$A$2:$N$502,7,0)=0,\"\",VLOOKUP(D366,漢字書き!$A$2:$N$502,7,0)))","v":{"$error":"#N/A"}},{"$f":"IF(E366=\"\",\"\",IF(VLOOKUP(E366,漢字書き!$A$2:$N$502,7,0)=0,\"\",VLOOKUP(E366,漢字書き!$A$2:$N$502,7,0)))","v":{"$error":"#N/A"}},{"$f":"IF(F366=\"\",\"\",IF(VLOOKUP(F366,漢字書き!$A$2:$N$502,7,0)=0,\"\",VLOOKUP(F366,漢字書き!$A$2:$N$502,7,0)))","v":{"$error":"#N/A"}},{"$f":"IF(G366=\"\",\"\",IF(VLOOKUP(G366,漢字書き!$A$2:$N$502,7,0)=0,\"\",VLOOKUP(G366,漢字書き!$A$2:$N$502,7,0)))","v":{"$error":"#N/A"}},{"$f":"IF(H366=\"\",\"\",IF(VLOOKUP(H366,漢字書き!$A$2:$N$502,7,0)=0,\"\",VLOOKUP(H366,漢字書き!$A$2:$N$502,7,0)))","v":{"$error":"#N/A"}},{"$f":"IF(I366=\"\",\"\",IF(VLOOKUP(I366,漢字書き!$A$2:$N$502,7,0)=0,\"\",VLOOKUP(I366,漢字書き!$A$2:$N$502,7,0)))","v":{"$error":"#N/A"}},{"$f":"IF(J366=\"\",\"\",IF(VLOOKUP(J366,漢字書き!$A$2:$N$502,7,0)=0,\"\",VLOOKUP(J366,漢字書き!$A$2:$N$502,7,0)))","v":{"$error":"#N/A"}},{"$f":"IF(K366=\"\",\"\",IF(VLOOKUP(K366,漢字読み!$A$2:$O$502,7,0)=0,\"\",VLOOKUP(K366,漢字読み!$A$2:$O$502,7,0)))","v":{"$error":"#N/A"}},{"$f":"IF(L366=\"\",\"\",IF(VLOOKUP(L366,漢字読み!$A$2:$O$502,7,0)=0,\"\",VLOOKUP(L366,漢字読み!$A$2:$O$502,7,0)))","v":{"$error":"#N/A"}},{"$f":"IF(M366=\"\",\"\",IF(VLOOKUP(M366,漢字読み!$A$2:$O$502,7,0)=0,\"\",VLOOKUP(M366,漢字読み!$A$2:$O$502,7,0)))","v":{"$error":"#N/A"}},{"$f":"IF(N366=\"\",\"\",IF(VLOOKUP(N366,漢字読み!$A$2:$O$502,7,0)=0,\"\",VLOOKUP(N366,漢字読み!$A$2:$O$502,7,0)))","v":{"$error":"#N/A"}},{"$f":"IF(O366=\"\",\"\",IF(VLOOKUP(O366,漢字読み!$A$2:$O$502,7,0)=0,\"\",VLOOKUP(O366,漢字読み!$A$2:$O$502,7,0)))","v":{"$error":"#N/A"}},{"$f":"IF(P366=\"\",\"\",IF(VLOOKUP(P366,漢字読み!$A$2:$O$502,7,0)=0,\"\",VLOOKUP(P366,漢字読み!$A$2:$O$502,7,0)))","v":{"$error":"#N/A"}},{"$f":"IF(Q366=\"\",\"\",IF(VLOOKUP(Q366,漢字読み!$A$2:$O$502,7,0)=0,\"\",VLOOKUP(Q366,漢字読み!$A$2:$O$502,7,0)))","v":{"$error":"#N/A"}},{"$f":"IF(R366=\"\",\"\",IF(VLOOKUP(R366,漢字読み!$A$2:$O$502,7,0)=0,\"\",VLOOKUP(R366,漢字読み!$A$2:$O$502,7,0)))","v":{"$error":"#N/A"}},{"$f":"IF(S366=\"\",\"\",IF(VLOOKUP(S366,漢字読み!$A$2:$O$502,7,0)=0,\"\",VLOOKUP(S366,漢字読み!$A$2:$O$502,7,0)))","v":{"$error":"#N/A"}},{"$f":"IF(T366=\"\",\"\",IF(VLOOKUP(T366,漢字読み!$A$2:$O$502,7,0)=0,\"\",VLOOKUP(T366,漢字読み!$A$2:$O$502,7,0)))","v":{"$error":"#N/A"}},null,null,"和歌山県教育委員会"]
[{"$f":"A361","v":0},0,0,0,0,0,0,0,0,0,0,0,0,0,0,0,0,0,0,0]
["⑳","⑲","⑱","⑰","⑯","⑮","⑭","⑬","⑫","⑪","⑩","⑨","⑧","⑦","⑥","⑤","④","③","②","①","次の［　　　　］の部分の漢字には読みがなをひらがなで書き、カタカナは漢字に直しなさい。",10,"「漢字の博士検定試験」練習問題　"]
[{"$f":"IF(A371=\"\",\"\",VLOOKUP(A371,漢字書き!$A$2:$N$506,6,0))","v":{"$error":"#N/A"}},{"$f":"IF(B371=\"\",\"\",VLOOKUP(B371,漢字書き!$A$2:$N$506,6,0))","v":{"$error":"#N/A"}},{"$f":"IF(C371=\"\",\"\",VLOOKUP(C371,漢字書き!$A$2:$N$506,6,0))","v":{"$error":"#N/A"}},{"$f":"IF(D371=\"\",\"\",VLOOKUP(D371,漢字書き!$A$2:$N$506,6,0))","v":{"$error":"#N/A"}},{"$f":"IF(E371=\"\",\"\",VLOOKUP(E371,漢字書き!$A$2:$N$506,6,0))","v":{"$error":"#N/A"}},{"$f":"IF(F371=\"\",\"\",VLOOKUP(F371,漢字書き!$A$2:$N$506,6,0))","v":{"$error":"#N/A"}},{"$f":"IF(G371=\"\",\"\",VLOOKUP(G371,漢字書き!$A$2:$N$506,6,0))","v":{"$error":"#N/A"}},{"$f":"IF(H371=\"\",\"\",VLOOKUP(H371,漢字書き!$A$2:$N$506,6,0))","v":{"$error":"#N/A"}},{"$f":"IF(I371=\"\",\"\",VLOOKUP(I371,漢字書き!$A$2:$N$506,6,0))","v":{"$error":"#N/A"}},{"$f":"IF(J371=\"\",\"\",VLOOKUP(J371,漢字書き!$A$2:$N$506,6,0))","v":{"$error":"#N/A"}},{"$f":"IF(K371=\"\",\"\",VLOOKUP(K371,漢字読み!$A$2:$O$506,6,0))","v":{"$error":"#N/A"}},{"$f":"IF(L371=\"\",\"\",VLOOKUP(L371,漢字読み!$A$2:$O$506,6,0))","v":{"$error":"#N/A"}},{"$f":"IF(M371=\"\",\"\",VLOOKUP(M371,漢字読み!$A$2:$O$506,6,0))","v":{"$error":"#N/A"}},{"$f":"IF(N371=\"\",\"\",VLOOKUP(N371,漢字読み!$A$2:$O$506,6,0))","v":{"$error":"#N/A"}},{"$f":"IF(O371=\"\",\"\",VLOOKUP(O371,漢字読み!$A$2:$O$506,6,0))","v":{"$error":"#N/A"}},{"$f":"IF(P371=\"\",\"\",VLOOKUP(P371,漢字読み!$A$2:$O$506,6,0))","v":{"$error":"#N/A"}},{"$f":"IF(Q371=\"\",\"\",VLOOKUP(Q371,漢字読み!$A$2:$O$506,6,0))","v":{"$error":"#N/A"}},{"$f":"IF(R371=\"\",\"\",VLOOKUP(R371,漢字読み!$A$2:$O$506,6,0))","v":{"$error":"#N/A"}},{"$f":"IF(S371=\"\",\"\",VLOOKUP(S371,漢字読み!$A$2:$O$506,6,0))","v":{"$error":"#N/A"}},{"$f":"IF(T371=\"\",\"\",VLOOKUP(T371,漢字読み!$A$2:$O$506,6,0))","v":{"$error":"#N/A"}},null,"級"]
[{"$f":"IF(A$11=\"\",\"\",VLOOKUP(A371,漢字書き!$A$2:$O$506,8,0))","v":{"$error":"#N/A"}},{"$f":"IF(B$11=\"\",\"\",VLOOKUP(B371,漢字書き!$A$2:$O$506,8,0))","v":{"$error":"#N/A"}},{"$f":"IF(C$11=\"\",\"\",VLOOKUP(C371,漢字書き!$A$2:$O$506,8,0))","v":{"$error":"#N/A"}},{"$f":"IF(D$11=\"\",\"\",VLOOKUP(D371,漢字書き!$A$2:$O$506,8,0))","v":{"$error":"#N/A"}},{"$f":"IF(E$11=\"\",\"\",VLOOKUP(E371,漢字書き!$A$2:$O$506,8,0))","v":{"$error":"#N/A"}},{"$f":"IF(F$11=\"\",\"\",VLOOKUP(F371,漢字書き!$A$2:$O$506,8,0))","v":{"$error":"#N/A"}},{"$f":"IF(G$11=\"\",\"\",VLOOKUP(G371,漢字書き!$A$2:$O$506,8,0))","v":{"$error":"#N/A"}},{"$f":"IF(H$11=\"\",\"\",VLOOKUP(H371,漢字書き!$A$2:$O$506,8,0))","v":{"$error":"#N/A"}},{"$f":"IF(I$11=\"\",\"\",VLOOKUP(I371,漢字書き!$A$2:$O$506,8,0))","v":{"$error":"#N/A"}},{"$f":"IF(J$11=\"\",\"\",VLOOKUP(J371,漢字書き!$A$2:$O$506,8,0))","v":{"$error":"#N/A"}},{"$f":"IF(K$11=\"\",\"\",VLOOKUP(K371,漢字読み!$A$2:$O$506,8,0))","v":{"$error":"#N/A"}},{"$f":"IF(L$11=\"\",\"\",VLOOKUP(L371,漢字読み!$A$2:$O$506,8,0))","v":{"$error":"#N/A"}},{"$f":"IF(M$11=\"\",\"\",VLOOKUP(M371,漢字読み!$A$2:$O$506,8,0))","v":{"$error":"#N/A"}},{"$f":"IF(N$11=\"\",\"\",VLOOKUP(N371,漢字読み!$A$2:$O$506,8,0))","v":{"$error":"#N/A"}},{"$f":"IF(O$11=\"\",\"\",VLOOKUP(O371,漢字読み!$A$2:$O$506,8,0))","v":{"$error":"#N/A"}},{"$f":"IF(P$11=\"\",\"\",VLOOKUP(P371,漢字読み!$A$2:$O$506,8,0))","v":{"$error":"#N/A"}},{"$f":"IF(Q$11=\"\",\"\",VLOOKUP(Q371,漢字読み!$A$2:$O$506,8,0))","v":{"$error":"#N/A"}},{"$f":"IF(R$11=\"\",\"\",VLOOKUP(R371,漢字読み!$A$2:$O$506,8,0))","v":{"$error":"#N/A"}},{"$f":"IF(S$11=\"\",\"\",VLOOKUP(S371,漢字読み!$A$2:$O$506,8,0))","v":{"$error":"#N/A"}},{"$f":"IF(T$11=\"\",\"\",VLOOKUP(T371,漢字読み!$A$2:$O$506,8,0))","v":{"$error":"#N/A"}},null,"名前"]
[{"$f":"IF(A371=\"\",\"\",IF(VLOOKUP(A371,漢字書き!$A$2:$N$502,7,0)=0,\"\",VLOOKUP(A371,漢字書き!$A$2:$N$502,7,0)))","v":{"$error":"#N/A"}},{"$f":"IF(B371=\"\",\"\",IF(VLOOKUP(B371,漢字書き!$A$2:$N$502,7,0)=0,\"\",VLOOKUP(B371,漢字書き!$A$2:$N$502,7,0)))","v":{"$error":"#N/A"}},{"$f":"IF(C371=\"\",\"\",IF(VLOOKUP(C371,漢字書き!$A$2:$N$502,7,0)=0,\"\",VLOOKUP(C371,漢字書き!$A$2:$N$502,7,0)))","v":{"$error":"#N/A"}},{"$f":"IF(D371=\"\",\"\",IF(VLOOKUP(D371,漢字書き!$A$2:$N$502,7,0)=0,\"\",VLOOKUP(D371,漢字書き!$A$2:$N$502,7,0)))","v":{"$error":"#N/A"}},{"$f":"IF(E371=\"\",\"\",IF(VLOOKUP(E371,漢字書き!$A$2:$N$502,7,0)=0,\"\",VLOOKUP(E371,漢字書き!$A$2:$N$502,7,0)))","v":{"$error":"#N/A"}},{"$f":"IF(F371=\"\",\"\",IF(VLOOKUP(F371,漢字書き!$A$2:$N$502,7,0)=0,\"\",VLOOKUP(F371,漢字書き!$A$2:$N$502,7,0)))","v":{"$error":"#N/A"}},{"$f":"IF(G371=\"\",\"\",IF(VLOOKUP(G371,漢字書き!$A$2:$N$502,7,0)=0,\"\",VLOOKUP(G371,漢字書き!$A$2:$N$502,7,0)))","v":{"$error":"#N/A"}},{"$f":"IF(H371=\"\",\"\",IF(VLOOKUP(H371,漢字書き!$A$2:$N$502,7,0)=0,\"\",VLOOKUP(H371,漢字書き!$A$2:$N$502,7,0)))","v":{"$error":"#N/A"}},{"$f":"IF(I371=\"\",\"\",IF(VLOOKUP(I371,漢字書き!$A$2:$N$502,7,0)=0,\"\",VLOOKUP(I371,漢字書き!$A$2:$N$502,7,0)))","v":{"$error":"#N/A"}},{"$f":"IF(J371=\"\",\"\",IF(VLOOKUP(J371,漢字書き!$A$2:$N$502,7,0)=0,\"\",VLOOKUP(J371,漢字書き!$A$2:$N$502,7,0)))","v":{"$error":"#N/A"}},{"$f":"IF(K371=\"\",\"\",IF(VLOOKUP(K371,漢字読み!$A$2:$O$502,7,0)=0,\"\",VLOOKUP(K371,漢字読み!$A$2:$O$502,7,0)))","v":{"$error":"#N/A"}},{"$f":"IF(L371=\"\",\"\",IF(VLOOKUP(L371,漢字読み!$A$2:$O$502,7,0)=0,\"\",VLOOKUP(L371,漢字読み!$A$2:$O$502,7,0)))","v":{"$error":"#N/A"}},{"$f":"IF(M371=\"\",\"\",IF(VLOOKUP(M371,漢字読み!$A$2:$O$502,7,0)=0,\"\",VLOOKUP(M371,漢字読み!$A$2:$O$502,7,0)))","v":{"$error":"#N/A"}},{"$f":"IF(N371=\"\",\"\",IF(VLOOKUP(N371,漢字読み!$A$2:$O$502,7,0)=0,\"\",VLOOKUP(N371,漢字読み!$A$2:$O$502,7,0)))","v":{"$error":"#N/A"}},{"$f":"IF(O371=\"\",\"\",IF(VLOOKUP(O371,漢字読み!$A$2:$O$502,7,0)=0,\"\",VLOOKUP(O371,漢字読み!$A$2:$O$502,7,0)))","v":{"$error":"#N/A"}},{"$f":"IF(P371=\"\",\"\",IF(VLOOKUP(P371,漢字読み!$A$2:$O$502,7,0)=0,\"\",VLOOKUP(P371,漢字読み!$A$2:$O$502,7,0)))","v":{"$error":"#N/A"}},{"$f":"IF(Q371=\"\",\"\",IF(VLOOKUP(Q371,漢字読み!$A$2:$O$502,7,0)=0,\"\",VLOOKUP(Q371,漢字読み!$A$2:$O$502,7,0)))","v":{"$error":"#N/A"}},{"$f":"IF(R371=\"\",\"\",IF(VLOOKUP(R371,漢字読み!$A$2:$O$502,7,0)=0,\"\",VLOOKUP(R371,漢字読み!$A$2:$O$502,7,0)))","v":{"$error":"#N/A"}},{"$f":"IF(S371=\"\",\"\",IF(VLOOKUP(S371,漢字読み!$A$2:$O$502,7,0)=0,\"\",VLOOKUP(S371,漢字読み!$A$2:$O$502,7,0)))","v":{"$error":"#N/A"}},{"$f":"IF(T371=\"\",\"\",IF(VLOOKUP(T371,漢字読み!$A$2:$O$502,7,0)=0,\"\",VLOOKUP(T371,漢字読み!$A$2:$O$502,7,0)))","v":{"$error":"#N/A"}},null,null,"和歌山県教育委員会"]
[{"$f":"A366","v":0},0,0,0,0,0,0,0,0,0,0,0,0,0,0,0,0,0,0,0]
["⑳","⑲","⑱","⑰","⑯","⑮","⑭","⑬","⑫","⑪","⑩","⑨","⑧","⑦","⑥","⑤","④","③","②","①","次の［　　　　］の部分の漢字には読みがなをひらがなで書き、カタカナは漢字に直しなさい。",10,"「漢字の博士検定試験」練習問題　"]
[{"$f":"IF(A376=\"\",\"\",VLOOKUP(A376,漢字書き!$A$2:$N$506,6,0))","v":{"$error":"#N/A"}},{"$f":"IF(B376=\"\",\"\",VLOOKUP(B376,漢字書き!$A$2:$N$506,6,0))","v":{"$error":"#N/A"}},{"$f":"IF(C376=\"\",\"\",VLOOKUP(C376,漢字書き!$A$2:$N$506,6,0))","v":{"$error":"#N/A"}},{"$f":"IF(D376=\"\",\"\",VLOOKUP(D376,漢字書き!$A$2:$N$506,6,0))","v":{"$error":"#N/A"}},{"$f":"IF(E376=\"\",\"\",VLOOKUP(E376,漢字書き!$A$2:$N$506,6,0))","v":{"$error":"#N/A"}},{"$f":"IF(F376=\"\",\"\",VLOOKUP(F376,漢字書き!$A$2:$N$506,6,0))","v":{"$error":"#N/A"}},{"$f":"IF(G376=\"\",\"\",VLOOKUP(G376,漢字書き!$A$2:$N$506,6,0))","v":{"$error":"#N/A"}},{"$f":"IF(H376=\"\",\"\",VLOOKUP(H376,漢字書き!$A$2:$N$506,6,0))","v":{"$error":"#N/A"}},{"$f":"IF(I376=\"\",\"\",VLOOKUP(I376,漢字書き!$A$2:$N$506,6,0))","v":{"$error":"#N/A"}},{"$f":"IF(J376=\"\",\"\",VLOOKUP(J376,漢字書き!$A$2:$N$506,6,0))","v":{"$error":"#N/A"}},{"$f":"IF(K376=\"\",\"\",VLOOKUP(K376,漢字読み!$A$2:$O$506,6,0))","v":{"$error":"#N/A"}},{"$f":"IF(L376=\"\",\"\",VLOOKUP(L376,漢字読み!$A$2:$O$506,6,0))","v":{"$error":"#N/A"}},{"$f":"IF(M376=\"\",\"\",VLOOKUP(M376,漢字読み!$A$2:$O$506,6,0))","v":{"$error":"#N/A"}},{"$f":"IF(N376=\"\",\"\",VLOOKUP(N376,漢字読み!$A$2:$O$506,6,0))","v":{"$error":"#N/A"}},{"$f":"IF(O376=\"\",\"\",VLOOKUP(O376,漢字読み!$A$2:$O$506,6,0))","v":{"$error":"#N/A"}},{"$f":"IF(P376=\"\",\"\",VLOOKUP(P376,漢字読み!$A$2:$O$506,6,0))","v":{"$error":"#N/A"}},{"$f":"IF(Q376=\"\",\"\",VLOOKUP(Q376,漢字読み!$A$2:$O$506,6,0))","v":{"$error":"#N/A"}},{"$f":"IF(R376=\"\",\"\",VLOOKUP(R376,漢字読み!$A$2:$O$506,6,0))","v":{"$error":"#N/A"}},{"$f":"IF(S376=\"\",\"\",VLOOKUP(S376,漢字読み!$A$2:$O$506,6,0))","v":{"$error":"#N/A"}},{"$f":"IF(T376=\"\",\"\",VLOOKUP(T376,漢字読み!$A$2:$O$506,6,0))","v":{"$error":"#N/A"}},null,"級"]
[{"$f":"IF(A$16=\"\",\"\",VLOOKUP(A376,漢字書き!$A$2:$O$506,8,0))","v":{"$error":"#N/A"}},{"$f":"IF(B$16=\"\",\"\",VLOOKUP(B376,漢字書き!$A$2:$O$506,8,0))","v":{"$error":"#N/A"}},{"$f":"IF(C$16=\"\",\"\",VLOOKUP(C376,漢字書き!$A$2:$O$506,8,0))","v":{"$error":"#N/A"}},{"$f":"IF(D$16=\"\",\"\",VLOOKUP(D376,漢字書き!$A$2:$O$506,8,0))","v":{"$error":"#N/A"}},{"$f":"IF(E$16=\"\",\"\",VLOOKUP(E376,漢字書き!$A$2:$O$506,8,0))","v":{"$error":"#N/A"}},{"$f":"IF(F$16=\"\",\"\",VLOOKUP(F376,漢字書き!$A$2:$O$506,8,0))","v":{"$error":"#N/A"}},{"$f":"IF(G$16=\"\",\"\",VLOOKUP(G376,漢字書き!$A$2:$O$506,8,0))","v":{"$error":"#N/A"}},{"$f":"IF(H$16=\"\",\"\",VLOOKUP(H376,漢字書き!$A$2:$O$506,8,0))","v":{"$error":"#N/A"}},{"$f":"IF(I$16=\"\",\"\",VLOOKUP(I376,漢字書き!$A$2:$O$506,8,0))","v":{"$error":"#N/A"}},{"$f":"IF(J$16=\"\",\"\",VLOOKUP(J376,漢字書き!$A$2:$O$506,8,0))","v":{"$error":"#N/A"}},{"$f":"IF(K$16=\"\",\"\",VLOOKUP(K376,漢字読み!$A$2:$O$506,8,0))","v":{"$error":"#N/A"}},{"$f":"IF(L$16=\"\",\"\",VLOOKUP(L376,漢字読み!$A$2:$O$506,8,0))","v":{"$error":"#N/A"}},{"$f":"IF(M$16=\"\",\"\",VLOOKUP(M376,漢字読み!$A$2:$O$506,8,0))","v":{"$error":"#N/A"}},{"$f":"IF(N$16=\"\",\"\",VLOOKUP(N376,漢字読み!$A$2:$O$506,8,0))","v":{"$error":"#N/A"}},{"$f":"IF(O$16=\"\",\"\",VLOOKUP(O376,漢字読み!$A$2:$O$506,8,0))","v":{"$error":"#N/A"}},{"$f":"IF(P$16=\"\",\"\",VLOOKUP(P376,漢字読み!$A$2:$O$506,8,0))","v":{"$error":"#N/A"}},{"$f":"IF(Q$16=\"\",\"\",VLOOKUP(Q376,漢字読み!$A$2:$O$506,8,0))","v":{"$error":"#N/A"}},{"$f":"IF(R$16=\"\",\"\",VLOOKUP(R376,漢字読み!$A$2:$O$506,8,0))","v":{"$error":"#N/A"}},{"$f":"IF(S$16=\"\",\"\",VLOOKUP(S376,漢字読み!$A$2:$O$506,8,0))","v":{"$error":"#N/A"}},{"$f":"IF(T$16=\"\",\"\",VLOOKUP(T376,漢字読み!$A$2:$O$506,8,0))","v":{"$error":"#N/A"}},null,"名前"]
[{"$f":"IF(A376=\"\",\"\",IF(VLOOKUP(A376,漢字書き!$A$2:$N$502,7,0)=0,\"\",VLOOKUP(A376,漢字書き!$A$2:$N$502,7,0)))","v":{"$error":"#N/A"}},{"$f":"IF(B376=\"\",\"\",IF(VLOOKUP(B376,漢字書き!$A$2:$N$502,7,0)=0,\"\",VLOOKUP(B376,漢字書き!$A$2:$N$502,7,0)))","v":{"$error":"#N/A"}},{"$f":"IF(C376=\"\",\"\",IF(VLOOKUP(C376,漢字書き!$A$2:$N$502,7,0)=0,\"\",VLOOKUP(C376,漢字書き!$A$2:$N$502,7,0)))","v":{"$error":"#N/A"}},{"$f":"IF(D376=\"\",\"\",IF(VLOOKUP(D376,漢字書き!$A$2:$N$502,7,0)=0,\"\",VLOOKUP(D376,漢字書き!$A$2:$N$502,7,0)))","v":{"$error":"#N/A"}},{"$f":"IF(E376=\"\",\"\",IF(VLOOKUP(E376,漢字書き!$A$2:$N$502,7,0)=0,\"\",VLOOKUP(E376,漢字書き!$A$2:$N$502,7,0)))","v":{"$error":"#N/A"}},{"$f":"IF(F376=\"\",\"\",IF(VLOOKUP(F376,漢字書き!$A$2:$N$502,7,0)=0,\"\",VLOOKUP(F376,漢字書き!$A$2:$N$502,7,0)))","v":{"$error":"#N/A"}},{"$f":"IF(G376=\"\",\"\",IF(VLOOKUP(G376,漢字書き!$A$2:$N$502,7,0)=0,\"\",VLOOKUP(G376,漢字書き!$A$2:$N$502,7,0)))","v":{"$error":"#N/A"}},{"$f":"IF(H376=\"\",\"\",IF(VLOOKUP(H376,漢字書き!$A$2:$N$502,7,0)=0,\"\",VLOOKUP(H376,漢字書き!$A$2:$N$502,7,0)))","v":{"$error":"#N/A"}},{"$f":"IF(I376=\"\",\"\",IF(VLOOKUP(I376,漢字書き!$A$2:$N$502,7,0)=0,\"\",VLOOKUP(I376,漢字書き!$A$2:$N$502,7,0)))","v":{"$error":"#N/A"}},{"$f":"IF(J376=\"\",\"\",IF(VLOOKUP(J376,漢字書き!$A$2:$N$502,7,0)=0,\"\",VLOOKUP(J376,漢字書き!$A$2:$N$502,7,0)))","v":{"$error":"#N/A"}},{"$f":"IF(K376=\"\",\"\",IF(VLOOKUP(K376,漢字読み!$A$2:$O$502,7,0)=0,\"\",VLOOKUP(K376,漢字読み!$A$2:$O$502,7,0)))","v":{"$error":"#N/A"}},{"$f":"IF(L376=\"\",\"\",IF(VLOOKUP(L376,漢字読み!$A$2:$O$502,7,0)=0,\"\",VLOOKUP(L376,漢字読み!$A$2:$O$502,7,0)))","v":{"$error":"#N/A"}},{"$f":"IF(M376=\"\",\"\",IF(VLOOKUP(M376,漢字読み!$A$2:$O$502,7,0)=0,\"\",VLOOKUP(M376,漢字読み!$A$2:$O$502,7,0)))","v":{"$error":"#N/A"}},{"$f":"IF(N376=\"\",\"\",IF(VLOOKUP(N376,漢字読み!$A$2:$O$502,7,0)=0,\"\",VLOOKUP(N376,漢字読み!$A$2:$O$502,7,0)))","v":{"$error":"#N/A"}},{"$f":"IF(O376=\"\",\"\",IF(VLOOKUP(O376,漢字読み!$A$2:$O$502,7,0)=0,\"\",VLOOKUP(O376,漢字読み!$A$2:$O$502,7,0)))","v":{"$error":"#N/A"}},{"$f":"IF(P376=\"\",\"\",IF(VLOOKUP(P376,漢字読み!$A$2:$O$502,7,0)=0,\"\",VLOOKUP(P376,漢字読み!$A$2:$O$502,7,0)))","v":{"$error":"#N/A"}},{"$f":"IF(Q376=\"\",\"\",IF(VLOOKUP(Q376,漢字読み!$A$2:$O$502,7,0)=0,\"\",VLOOKUP(Q376,漢字読み!$A$2:$O$502,7,0)))","v":{"$error":"#N/A"}},{"$f":"IF(R376=\"\",\"\",IF(VLOOKUP(R376,漢字読み!$A$2:$O$502,7,0)=0,\"\",VLOOKUP(R376,漢字読み!$A$2:$O$502,7,0)))","v":{"$error":"#N/A"}},{"$f":"IF(S376=\"\",\"\",IF(VLOOKUP(S376,漢字読み!$A$2:$O$502,7,0)=0,\"\",VLOOKUP(S376,漢字読み!$A$2:$O$502,7,0)))","v":{"$error":"#N/A"}},{"$f":"IF(T376=\"\",\"\",IF(VLOOKUP(T376,漢字読み!$A$2:$O$502,7,0)=0,\"\",VLOOKUP(T376,漢字読み!$A$2:$O$502,7,0)))","v":{"$error":"#N/A"}},null,null,"和歌山県教育委員会"]
[{"$f":"INDIRECT(\"'関数（書き）'!C\" & COLUMN(B$1)+SUM($AD$2:$AD382))","v":0},{"$f":"INDIRECT(\"'関数（書き）'!C\" & COLUMN(C$1)+SUM($AD$2:$AD382))","v":0},{"$f":"INDIRECT(\"'関数（書き）'!C\" & COLUMN(D$1)+SUM($AD$2:$AD382))","v":0},{"$f":"INDIRECT(\"'関数（書き）'!C\" & COLUMN(E$1)+SUM($AD$2:$AD382))","v":0},{"$f":"INDIRECT(\"'関数（書き）'!C\" & COLUMN(F$1)+SUM($AD$2:$AD382))","v":0},{"$f":"INDIRECT(\"'関数（書き）'!C\" & COLUMN(G$1)+SUM($AD$2:$AD382))","v":0},{"$f":"INDIRECT(\"'関数（書き）'!C\" & COLUMN(H$1)+SUM($AD$2:$AD382))","v":0},{"$f":"INDIRECT(\"'関数（書き）'!C\" & COLUMN(I$1)+SUM($AD$2:$AD382))","v":0},{"$f":"INDIRECT(\"'関数（書き）'!C\" & COLUMN(J$1)+SUM($AD$2:$AD382))","v":0},{"$f":"INDIRECT(\"'関数（書き）'!C\" & COLUMN(K$1)+SUM($AD$2:$AD382))","v":0},{"$f":"INDIRECT(\"'関数（読み）'!C\" & COLUMN(B$1)+SUM($AD$2:$AD382))","v":0},{"$f":"INDIRECT(\"'関数（読み）'!C\" & COLUMN(C$1)+SUM($AD$2:$AD382))","v":0},{"$f":"INDIRECT(\"'関数（読み）'!C\" & COLUMN(D$1)+SUM($AD$2:$AD382))","v":0},{"$f":"INDIRECT(\"'関数（読み）'!C\" & COLUMN(E$1)+SUM($AD$2:$AD382))","v":0},{"$f":"INDIRECT(\"'関数（読み）'!C\" & COLUMN(F$1)+SUM($AD$2:$AD382))","v":0},{"$f":"INDIRECT(\"'関数（読み）'!C\" & COLUMN(G$1)+SUM($AD$2:$AD382))","v":0},{"$f":"INDIRECT(\"'関数（読み）'!C\" & COLUMN(H$1)+SUM($AD$2:$AD382))","v":0},{"$f":"INDIRECT(\"'関数（読み）'!C\" & COLUMN(I$1)+SUM($AD$2:$AD382))","v":0},{"$f":"INDIRECT(\"'関数（読み）'!C\" & COLUMN(J$1)+SUM($AD$2:$AD382))","v":0},{"$f":"INDIRECT(\"'関数（読み）'!C\" & COLUMN(K$1)+SUM($AD$2:$AD382))","v":0}]
["⑳","⑲","⑱","⑰","⑯","⑮","⑭","⑬","⑫","⑪","⑩","⑨","⑧","⑦","⑥","⑤","④","③","②","①","次の［　　　　］の部分の漢字には読みがなをひらがなで書き、カタカナは漢字に直しなさい。",10,"「漢字の博士検定試験」練習問題　",null,null,null,null,null,"←",10,"問",{"$f":"AH367+1","v":381},"～",{"$f":"SUM($AD$2:$AD382)+10","v":390},"問まで",{"$f":"COUNTIF($A$1:$T$200,T383)","v":0}]
[{"$f":"IF(A381=\"\",\"\",VLOOKUP(A381,漢字書き!$A$2:$N$506,6,0))","v":{"$error":"#N/A"}},{"$f":"IF(B381=\"\",\"\",VLOOKUP(B381,漢字書き!$A$2:$N$506,6,0))","v":{"$error":"#N/A"}},{"$f":"IF(C381=\"\",\"\",VLOOKUP(C381,漢字書き!$A$2:$N$506,6,0))","v":{"$error":"#N/A"}},{"$f":"IF(D381=\"\",\"\",VLOOKUP(D381,漢字書き!$A$2:$N$506,6,0))","v":{"$error":"#N/A"}},{"$f":"IF(E381=\"\",\"\",VLOOKUP(E381,漢字書き!$A$2:$N$506,6,0))","v":{"$error":"#N/A"}},{"$f":"IF(F381=\"\",\"\",VLOOKUP(F381,漢字書き!$A$2:$N$506,6,0))","v":{"$error":"#N/A"}},{"$f":"IF(G381=\"\",\"\",VLOOKUP(G381,漢字書き!$A$2:$N$506,6,0))","v":{"$error":"#N/A"}},{"$f":"IF(H381=\"\",\"\",VLOOKUP(H381,漢字書き!$A$2:$N$506,6,0))","v":{"$error":"#N/A"}},{"$f":"IF(I381=\"\",\"\",VLOOKUP(I381,漢字書き!$A$2:$N$506,6,0))","v":{"$error":"#N/A"}},{"$f":"IF(J381=\"\",\"\",VLOOKUP(J381,漢字書き!$A$2:$N$506,6,0))","v":{"$error":"#N/A"}},{"$f":"IF(K381=\"\",\"\",VLOOKUP(K381,漢字読み!$A$2:$O$506,6,0))","v":{"$error":"#N/A"}},{"$f":"IF(L381=\"\",\"\",VLOOKUP(L381,漢字読み!$A$2:$O$506,6,0))","v":{"$error":"#N/A"}},{"$f":"IF(M381=\"\",\"\",VLOOKUP(M381,漢字読み!$A$2:$O$506,6,0))","v":{"$error":"#N/A"}},{"$f":"IF(N381=\"\",\"\",VLOOKUP(N381,漢字読み!$A$2:$O$506,6,0))","v":{"$error":"#N/A"}},{"$f":"IF(O381=\"\",\"\",VLOOKUP(O381,漢字読み!$A$2:$O$506,6,0))","v":{"$error":"#N/A"}},{"$f":"IF(P381=\"\",\"\",VLOOKUP(P381,漢字読み!$A$2:$O$506,6,0))","v":{"$error":"#N/A"}},{"$f":"IF(Q381=\"\",\"\",VLOOKUP(Q381,漢字読み!$A$2:$O$506,6,0))","v":{"$error":"#N/A"}},{"$f":"IF(R381=\"\",\"\",VLOOKUP(R381,漢字読み!$A$2:$O$506,6,0))","v":{"$error":"#N/A"}},{"$f":"IF(S381=\"\",\"\",VLOOKUP(S381,漢字読み!$A$2:$O$506,6,0))","v":{"$error":"#N/A"}},{"$f":"IF(T381=\"\",\"\",VLOOKUP(T381,漢字読み!$A$2:$O$506,6,0))","v":{"$error":"#N/A"}},null,"級"]
[null,null,null,null,null,null,null,null,null,null,null,null,null,null,null,null,null,null,null,null,null,"名前"]
[{"$f":"IF(A381=\"\",\"\",IF(VLOOKUP(A381,漢字書き!$A$2:$N$502,7,0)=0,\"\",VLOOKUP(A381,漢字書き!$A$2:$N$502,7,0)))","v":{"$error":"#N/A"}},{"$f":"IF(B381=\"\",\"\",IF(VLOOKUP(B381,漢字書き!$A$2:$N$502,7,0)=0,\"\",VLOOKUP(B381,漢字書き!$A$2:$N$502,7,0)))","v":{"$error":"#N/A"}},{"$f":"IF(C381=\"\",\"\",IF(VLOOKUP(C381,漢字書き!$A$2:$N$502,7,0)=0,\"\",VLOOKUP(C381,漢字書き!$A$2:$N$502,7,0)))","v":{"$error":"#N/A"}},{"$f":"IF(D381=\"\",\"\",IF(VLOOKUP(D381,漢字書き!$A$2:$N$502,7,0)=0,\"\",VLOOKUP(D381,漢字書き!$A$2:$N$502,7,0)))","v":{"$error":"#N/A"}},{"$f":"IF(E381=\"\",\"\",IF(VLOOKUP(E381,漢字書き!$A$2:$N$502,7,0)=0,\"\",VLOOKUP(E381,漢字書き!$A$2:$N$502,7,0)))","v":{"$error":"#N/A"}},{"$f":"IF(F381=\"\",\"\",IF(VLOOKUP(F381,漢字書き!$A$2:$N$502,7,0)=0,\"\",VLOOKUP(F381,漢字書き!$A$2:$N$502,7,0)))","v":{"$error":"#N/A"}},{"$f":"IF(G381=\"\",\"\",IF(VLOOKUP(G381,漢字書き!$A$2:$N$502,7,0)=0,\"\",VLOOKUP(G381,漢字書き!$A$2:$N$502,7,0)))","v":{"$error":"#N/A"}},{"$f":"IF(H381=\"\",\"\",IF(VLOOKUP(H381,漢字書き!$A$2:$N$502,7,0)=0,\"\",VLOOKUP(H381,漢字書き!$A$2:$N$502,7,0)))","v":{"$error":"#N/A"}},{"$f":"IF(I381=\"\",\"\",IF(VLOOKUP(I381,漢字書き!$A$2:$N$502,7,0)=0,\"\",VLOOKUP(I381,漢字書き!$A$2:$N$502,7,0)))","v":{"$error":"#N/A"}},{"$f":"IF(J381=\"\",\"\",IF(VLOOKUP(J381,漢字書き!$A$2:$N$502,7,0)=0,\"\",VLOOKUP(J381,漢字書き!$A$2:$N$502,7,0)))","v":{"$error":"#N/A"}},{"$f":"IF(K381=\"\",\"\",IF(VLOOKUP(K381,漢字読み!$A$2:$O$502,7,0)=0,\"\",VLOOKUP(K381,漢字読み!$A$2:$O$502,7,0)))","v":{"$error":"#N/A"}},{"$f":"IF(L381=\"\",\"\",IF(VLOOKUP(L381,漢字読み!$A$2:$O$502,7,0)=0,\"\",VLOOKUP(L381,漢字読み!$A$2:$O$502,7,0)))","v":{"$error":"#N/A"}},{"$f":"IF(M381=\"\",\"\",IF(VLOOKUP(M381,漢字読み!$A$2:$O$502,7,0)=0,\"\",VLOOKUP(M381,漢字読み!$A$2:$O$502,7,0)))","v":{"$error":"#N/A"}},{"$f":"IF(N381=\"\",\"\",IF(VLOOKUP(N381,漢字読み!$A$2:$O$502,7,0)=0,\"\",VLOOKUP(N381,漢字読み!$A$2:$O$502,7,0)))","v":{"$error":"#N/A"}},{"$f":"IF(O381=\"\",\"\",IF(VLOOKUP(O381,漢字読み!$A$2:$O$502,7,0)=0,\"\",VLOOKUP(O381,漢字読み!$A$2:$O$502,7,0)))","v":{"$error":"#N/A"}},{"$f":"IF(P381=\"\",\"\",IF(VLOOKUP(P381,漢字読み!$A$2:$O$502,7,0)=0,\"\",VLOOKUP(P381,漢字読み!$A$2:$O$502,7,0)))","v":{"$error":"#N/A"}},{"$f":"IF(Q381=\"\",\"\",IF(VLOOKUP(Q381,漢字読み!$A$2:$O$502,7,0)=0,\"\",VLOOKUP(Q381,漢字読み!$A$2:$O$502,7,0)))","v":{"$error":"#N/A"}},{"$f":"IF(R381=\"\",\"\",IF(VLOOKUP(R381,漢字読み!$A$2:$O$502,7,0)=0,\"\",VLOOKUP(R381,漢字読み!$A$2:$O$502,7,0)))","v":{"$error":"#N/A"}},{"$f":"IF(S381=\"\",\"\",IF(VLOOKUP(S381,漢字読み!$A$2:$O$502,7,0)=0,\"\",VLOOKUP(S381,漢字読み!$A$2:$O$502,7,0)))","v":{"$error":"#N/A"}},{"$f":"IF(T381=\"\",\"\",IF(VLOOKUP(T381,漢字読み!$A$2:$O$502,7,0)=0,\"\",VLOOKUP(T381,漢字読み!$A$2:$O$502,7,0)))","v":{"$error":"#N/A"}},null,null,"和歌山県教育委員会"]
[{"$f":"INDIRECT(\"'関数（書き）'!C\" & COLUMN(B$1)+SUM($AD$2:$AD387))","v":0},{"$f":"INDIRECT(\"'関数（書き）'!C\" & COLUMN(C$1)+SUM($AD$2:$AD387))","v":0},{"$f":"INDIRECT(\"'関数（書き）'!C\" & COLUMN(D$1)+SUM($AD$2:$AD387))","v":0},{"$f":"INDIRECT(\"'関数（書き）'!C\" & COLUMN(E$1)+SUM($AD$2:$AD387))","v":0},{"$f":"INDIRECT(\"'関数（書き）'!C\" & COLUMN(F$1)+SUM($AD$2:$AD387))","v":0},{"$f":"INDIRECT(\"'関数（書き）'!C\" & COLUMN(G$1)+SUM($AD$2:$AD387))","v":0},{"$f":"INDIRECT(\"'関数（書き）'!C\" & COLUMN(H$1)+SUM($AD$2:$AD387))","v":0},{"$f":"INDIRECT(\"'関数（書き）'!C\" & COLUMN(I$1)+SUM($AD$2:$AD387))","v":0},{"$f":"INDIRECT(\"'関数（書き）'!C\" & COLUMN(J$1)+SUM($AD$2:$AD387))","v":0},{"$f":"INDIRECT(\"'関数（書き）'!C\" & COLUMN(K$1)+SUM($AD$2:$AD387))","v":0},{"$f":"INDIRECT(\"'関数（読み）'!C\" & COLUMN(B$1)+SUM($AD$2:$AD387))","v":0},{"$f":"INDIRECT(\"'関数（読み）'!C\" & COLUMN(C$1)+SUM($AD$2:$AD387))","v":0},{"$f":"INDIRECT(\"'関数（読み）'!C\" & COLUMN(D$1)+SUM($AD$2:$AD387))","v":0},{"$f":"INDIRECT(\"'関数（読み）'!C\" & COLUMN(E$1)+SUM($AD$2:$AD387))","v":0},{"$f":"INDIRECT(\"'関数（読み）'!C\" & COLUMN(F$1)+SUM($AD$2:$AD387))","v":0},{"$f":"INDIRECT(\"'関数（読み）'!C\" & COLUMN(G$1)+SUM($AD$2:$AD387))","v":0},{"$f":"INDIRECT(\"'関数（読み）'!C\" & COLUMN(H$1)+SUM($AD$2:$AD387))","v":0},{"$f":"INDIRECT(\"'関数（読み）'!C\" & COLUMN(I$1)+SUM($AD$2:$AD387))","v":0},{"$f":"INDIRECT(\"'関数（読み）'!C\" & COLUMN(J$1)+SUM($AD$2:$AD387))","v":0},{"$f":"INDIRECT(\"'関数（読み）'!C\" & COLUMN(K$1)+SUM($AD$2:$AD387))","v":0}]
["⑳","⑲","⑱","⑰","⑯","⑮","⑭","⑬","⑫","⑪","⑩","⑨","⑧","⑦","⑥","⑤","④","③","②","①","次の［　　　　］の部分の漢字には読みがなをひらがなで書き、カタカナは漢字に直しなさい。",10,"「漢字の博士検定試験」練習問題　",null,null,null,null,null,"←",10,"問",{"$f":"AH382+1","v":391},"～",{"$f":"SUM($AD$2:$AD387)+10","v":400},"問まで",{"$f":"COUNTIF($A$1:$T$200,T388)","v":0}]
[{"$f":"IF(A386=\"\",\"\",VLOOKUP(A386,漢字書き!$A$2:$N$506,6,0))","v":{"$error":"#N/A"}},{"$f":"IF(B386=\"\",\"\",VLOOKUP(B386,漢字書き!$A$2:$N$506,6,0))","v":{"$error":"#N/A"}},{"$f":"IF(C386=\"\",\"\",VLOOKUP(C386,漢字書き!$A$2:$N$506,6,0))","v":{"$error":"#N/A"}},{"$f":"IF(D386=\"\",\"\",VLOOKUP(D386,漢字書き!$A$2:$N$506,6,0))","v":{"$error":"#N/A"}},{"$f":"IF(E386=\"\",\"\",VLOOKUP(E386,漢字書き!$A$2:$N$506,6,0))","v":{"$error":"#N/A"}},{"$f":"IF(F386=\"\",\"\",VLOOKUP(F386,漢字書き!$A$2:$N$506,6,0))","v":{"$error":"#N/A"}},{"$f":"IF(G386=\"\",\"\",VLOOKUP(G386,漢字書き!$A$2:$N$506,6,0))","v":{"$error":"#N/A"}},{"$f":"IF(H386=\"\",\"\",VLOOKUP(H386,漢字書き!$A$2:$N$506,6,0))","v":{"$error":"#N/A"}},{"$f":"IF(I386=\"\",\"\",VLOOKUP(I386,漢字書き!$A$2:$N$506,6,0))","v":{"$error":"#N/A"}},{"$f":"IF(J386=\"\",\"\",VLOOKUP(J386,漢字書き!$A$2:$N$506,6,0))","v":{"$error":"#N/A"}},{"$f":"IF(K386=\"\",\"\",VLOOKUP(K386,漢字読み!$A$2:$O$506,6,0))","v":{"$error":"#N/A"}},{"$f":"IF(L386=\"\",\"\",VLOOKUP(L386,漢字読み!$A$2:$O$506,6,0))","v":{"$error":"#N/A"}},{"$f":"IF(M386=\"\",\"\",VLOOKUP(M386,漢字読み!$A$2:$O$506,6,0))","v":{"$error":"#N/A"}},{"$f":"IF(N386=\"\",\"\",VLOOKUP(N386,漢字読み!$A$2:$O$506,6,0))","v":{"$error":"#N/A"}},{"$f":"IF(O386=\"\",\"\",VLOOKUP(O386,漢字読み!$A$2:$O$506,6,0))","v":{"$error":"#N/A"}},{"$f":"IF(P386=\"\",\"\",VLOOKUP(P386,漢字読み!$A$2:$O$506,6,0))","v":{"$error":"#N/A"}},{"$f":"IF(Q386=\"\",\"\",VLOOKUP(Q386,漢字読み!$A$2:$O$506,6,0))","v":{"$error":"#N/A"}},{"$f":"IF(R386=\"\",\"\",VLOOKUP(R386,漢字読み!$A$2:$O$506,6,0))","v":{"$error":"#N/A"}},{"$f":"IF(S386=\"\",\"\",VLOOKUP(S386,漢字読み!$A$2:$O$506,6,0))","v":{"$error":"#N/A"}},{"$f":"IF(T386=\"\",\"\",VLOOKUP(T386,漢字読み!$A$2:$O$506,6,0))","v":{"$error":"#N/A"}},null,"級"]
[null,null,null,null,null,null,null,null,null,null,null,null,null,null,null,null,null,null,null,null,null,"名前"]
[{"$f":"IF(A386=\"\",\"\",IF(VLOOKUP(A386,漢字書き!$A$2:$N$502,7,0)=0,\"\",VLOOKUP(A386,漢字書き!$A$2:$N$502,7,0)))","v":{"$error":"#N/A"}},{"$f":"IF(B386=\"\",\"\",IF(VLOOKUP(B386,漢字書き!$A$2:$N$502,7,0)=0,\"\",VLOOKUP(B386,漢字書き!$A$2:$N$502,7,0)))","v":{"$error":"#N/A"}},{"$f":"IF(C386=\"\",\"\",IF(VLOOKUP(C386,漢字書き!$A$2:$N$502,7,0)=0,\"\",VLOOKUP(C386,漢字書き!$A$2:$N$502,7,0)))","v":{"$error":"#N/A"}},{"$f":"IF(D386=\"\",\"\",IF(VLOOKUP(D386,漢字書き!$A$2:$N$502,7,0)=0,\"\",VLOOKUP(D386,漢字書き!$A$2:$N$502,7,0)))","v":{"$error":"#N/A"}},{"$f":"IF(E386=\"\",\"\",IF(VLOOKUP(E386,漢字書き!$A$2:$N$502,7,0)=0,\"\",VLOOKUP(E386,漢字書き!$A$2:$N$502,7,0)))","v":{"$error":"#N/A"}},{"$f":"IF(F386=\"\",\"\",IF(VLOOKUP(F386,漢字書き!$A$2:$N$502,7,0)=0,\"\",VLOOKUP(F386,漢字書き!$A$2:$N$502,7,0)))","v":{"$error":"#N/A"}},{"$f":"IF(G386=\"\",\"\",IF(VLOOKUP(G386,漢字書き!$A$2:$N$502,7,0)=0,\"\",VLOOKUP(G386,漢字書き!$A$2:$N$502,7,0)))","v":{"$error":"#N/A"}},{"$f":"IF(H386=\"\",\"\",IF(VLOOKUP(H386,漢字書き!$A$2:$N$502,7,0)=0,\"\",VLOOKUP(H386,漢字書き!$A$2:$N$502,7,0)))","v":{"$error":"#N/A"}},{"$f":"IF(I386=\"\",\"\",IF(VLOOKUP(I386,漢字書き!$A$2:$N$502,7,0)=0,\"\",VLOOKUP(I386,漢字書き!$A$2:$N$502,7,0)))","v":{"$error":"#N/A"}},{"$f":"IF(J386=\"\",\"\",IF(VLOOKUP(J386,漢字書き!$A$2:$N$502,7,0)=0,\"\",VLOOKUP(J386,漢字書き!$A$2:$N$502,7,0)))","v":{"$error":"#N/A"}},{"$f":"IF(K386=\"\",\"\",IF(VLOOKUP(K386,漢字読み!$A$2:$O$502,7,0)=0,\"\",VLOOKUP(K386,漢字読み!$A$2:$O$502,7,0)))","v":{"$error":"#N/A"}},{"$f":"IF(L386=\"\",\"\",IF(VLOOKUP(L386,漢字読み!$A$2:$O$502,7,0)=0,\"\",VLOOKUP(L386,漢字読み!$A$2:$O$502,7,0)))","v":{"$error":"#N/A"}},{"$f":"IF(M386=\"\",\"\",IF(VLOOKUP(M386,漢字読み!$A$2:$O$502,7,0)=0,\"\",VLOOKUP(M386,漢字読み!$A$2:$O$502,7,0)))","v":{"$error":"#N/A"}},{"$f":"IF(N386=\"\",\"\",IF(VLOOKUP(N386,漢字読み!$A$2:$O$502,7,0)=0,\"\",VLOOKUP(N386,漢字読み!$A$2:$O$502,7,0)))","v":{"$error":"#N/A"}},{"$f":"IF(O386=\"\",\"\",IF(VLOOKUP(O386,漢字読み!$A$2:$O$502,7,0)=0,\"\",VLOOKUP(O386,漢字読み!$A$2:$O$502,7,0)))","v":{"$error":"#N/A"}},{"$f":"IF(P386=\"\",\"\",IF(VLOOKUP(P386,漢字読み!$A$2:$O$502,7,0)=0,\"\",VLOOKUP(P386,漢字読み!$A$2:$O$502,7,0)))","v":{"$error":"#N/A"}},{"$f":"IF(Q386=\"\",\"\",IF(VLOOKUP(Q386,漢字読み!$A$2:$O$502,7,0)=0,\"\",VLOOKUP(Q386,漢字読み!$A$2:$O$502,7,0)))","v":{"$error":"#N/A"}},{"$f":"IF(R386=\"\",\"\",IF(VLOOKUP(R386,漢字読み!$A$2:$O$502,7,0)=0,\"\",VLOOKUP(R386,漢字読み!$A$2:$O$502,7,0)))","v":{"$error":"#N/A"}},{"$f":"IF(S386=\"\",\"\",IF(VLOOKUP(S386,漢字読み!$A$2:$O$502,7,0)=0,\"\",VLOOKUP(S386,漢字読み!$A$2:$O$502,7,0)))","v":{"$error":"#N/A"}},{"$f":"IF(T386=\"\",\"\",IF(VLOOKUP(T386,漢字読み!$A$2:$O$502,7,0)=0,\"\",VLOOKUP(T386,漢字読み!$A$2:$O$502,7,0)))","v":{"$error":"#N/A"}},null,null,"和歌山県教育委員会"]
[{"$f":"A381","v":0},0,0,0,0,0,0,0,0,0,0,0,0,0,0,0,0,0,0,0]
["⑳","⑲","⑱","⑰","⑯","⑮","⑭","⑬","⑫","⑪","⑩","⑨","⑧","⑦","⑥","⑤","④","③","②","①","次の［　　　　］の部分の漢字には読みがなをひらがなで書き、カタカナは漢字に直しなさい。",10,"「漢字の博士検定試験」練習問題　"]
[{"$f":"IF(A391=\"\",\"\",VLOOKUP(A391,漢字書き!$A$2:$N$506,6,0))","v":{"$error":"#N/A"}},{"$f":"IF(B391=\"\",\"\",VLOOKUP(B391,漢字書き!$A$2:$N$506,6,0))","v":{"$error":"#N/A"}},{"$f":"IF(C391=\"\",\"\",VLOOKUP(C391,漢字書き!$A$2:$N$506,6,0))","v":{"$error":"#N/A"}},{"$f":"IF(D391=\"\",\"\",VLOOKUP(D391,漢字書き!$A$2:$N$506,6,0))","v":{"$error":"#N/A"}},{"$f":"IF(E391=\"\",\"\",VLOOKUP(E391,漢字書き!$A$2:$N$506,6,0))","v":{"$error":"#N/A"}},{"$f":"IF(F391=\"\",\"\",VLOOKUP(F391,漢字書き!$A$2:$N$506,6,0))","v":{"$error":"#N/A"}},{"$f":"IF(G391=\"\",\"\",VLOOKUP(G391,漢字書き!$A$2:$N$506,6,0))","v":{"$error":"#N/A"}},{"$f":"IF(H391=\"\",\"\",VLOOKUP(H391,漢字書き!$A$2:$N$506,6,0))","v":{"$error":"#N/A"}},{"$f":"IF(I391=\"\",\"\",VLOOKUP(I391,漢字書き!$A$2:$N$506,6,0))","v":{"$error":"#N/A"}},{"$f":"IF(J391=\"\",\"\",VLOOKUP(J391,漢字書き!$A$2:$N$506,6,0))","v":{"$error":"#N/A"}},{"$f":"IF(K391=\"\",\"\",VLOOKUP(K391,漢字読み!$A$2:$O$506,6,0))","v":{"$error":"#N/A"}},{"$f":"IF(L391=\"\",\"\",VLOOKUP(L391,漢字読み!$A$2:$O$506,6,0))","v":{"$error":"#N/A"}},{"$f":"IF(M391=\"\",\"\",VLOOKUP(M391,漢字読み!$A$2:$O$506,6,0))","v":{"$error":"#N/A"}},{"$f":"IF(N391=\"\",\"\",VLOOKUP(N391,漢字読み!$A$2:$O$506,6,0))","v":{"$error":"#N/A"}},{"$f":"IF(O391=\"\",\"\",VLOOKUP(O391,漢字読み!$A$2:$O$506,6,0))","v":{"$error":"#N/A"}},{"$f":"IF(P391=\"\",\"\",VLOOKUP(P391,漢字読み!$A$2:$O$506,6,0))","v":{"$error":"#N/A"}},{"$f":"IF(Q391=\"\",\"\",VLOOKUP(Q391,漢字読み!$A$2:$O$506,6,0))","v":{"$error":"#N/A"}},{"$f":"IF(R391=\"\",\"\",VLOOKUP(R391,漢字読み!$A$2:$O$506,6,0))","v":{"$error":"#N/A"}},{"$f":"IF(S391=\"\",\"\",VLOOKUP(S391,漢字読み!$A$2:$O$506,6,0))","v":{"$error":"#N/A"}},{"$f":"IF(T391=\"\",\"\",VLOOKUP(T391,漢字読み!$A$2:$O$506,6,0))","v":{"$error":"#N/A"}},null,"級"]
[{"$f":"IF(A$11=\"\",\"\",VLOOKUP(A391,漢字書き!$A$2:$O$506,8,0))","v":{"$error":"#N/A"}},{"$f":"IF(B$11=\"\",\"\",VLOOKUP(B391,漢字書き!$A$2:$O$506,8,0))","v":{"$error":"#N/A"}},{"$f":"IF(C$11=\"\",\"\",VLOOKUP(C391,漢字書き!$A$2:$O$506,8,0))","v":{"$error":"#N/A"}},{"$f":"IF(D$11=\"\",\"\",VLOOKUP(D391,漢字書き!$A$2:$O$506,8,0))","v":{"$error":"#N/A"}},{"$f":"IF(E$11=\"\",\"\",VLOOKUP(E391,漢字書き!$A$2:$O$506,8,0))","v":{"$error":"#N/A"}},{"$f":"IF(F$11=\"\",\"\",VLOOKUP(F391,漢字書き!$A$2:$O$506,8,0))","v":{"$error":"#N/A"}},{"$f":"IF(G$11=\"\",\"\",VLOOKUP(G391,漢字書き!$A$2:$O$506,8,0))","v":{"$error":"#N/A"}},{"$f":"IF(H$11=\"\",\"\",VLOOKUP(H391,漢字書き!$A$2:$O$506,8,0))","v":{"$error":"#N/A"}},{"$f":"IF(I$11=\"\",\"\",VLOOKUP(I391,漢字書き!$A$2:$O$506,8,0))","v":{"$error":"#N/A"}},{"$f":"IF(J$11=\"\",\"\",VLOOKUP(J391,漢字書き!$A$2:$O$506,8,0))","v":{"$error":"#N/A"}},{"$f":"IF(K$11=\"\",\"\",VLOOKUP(K391,漢字読み!$A$2:$O$506,8,0))","v":{"$error":"#N/A"}},{"$f":"IF(L$11=\"\",\"\",VLOOKUP(L391,漢字読み!$A$2:$O$506,8,0))","v":{"$error":"#N/A"}},{"$f":"IF(M$11=\"\",\"\",VLOOKUP(M391,漢字読み!$A$2:$O$506,8,0))","v":{"$error":"#N/A"}},{"$f":"IF(N$11=\"\",\"\",VLOOKUP(N391,漢字読み!$A$2:$O$506,8,0))","v":{"$error":"#N/A"}},{"$f":"IF(O$11=\"\",\"\",VLOOKUP(O391,漢字読み!$A$2:$O$506,8,0))","v":{"$error":"#N/A"}},{"$f":"IF(P$11=\"\",\"\",VLOOKUP(P391,漢字読み!$A$2:$O$506,8,0))","v":{"$error":"#N/A"}},{"$f":"IF(Q$11=\"\",\"\",VLOOKUP(Q391,漢字読み!$A$2:$O$506,8,0))","v":{"$error":"#N/A"}},{"$f":"IF(R$11=\"\",\"\",VLOOKUP(R391,漢字読み!$A$2:$O$506,8,0))","v":{"$error":"#N/A"}},{"$f":"IF(S$11=\"\",\"\",VLOOKUP(S391,漢字読み!$A$2:$O$506,8,0))","v":{"$error":"#N/A"}},{"$f":"IF(T$11=\"\",\"\",VLOOKUP(T391,漢字読み!$A$2:$O$506,8,0))","v":{"$error":"#N/A"}},null,"名前"]
[{"$f":"IF(A391=\"\",\"\",IF(VLOOKUP(A391,漢字書き!$A$2:$N$502,7,0)=0,\"\",VLOOKUP(A391,漢字書き!$A$2:$N$502,7,0)))","v":{"$error":"#N/A"}},{"$f":"IF(B391=\"\",\"\",IF(VLOOKUP(B391,漢字書き!$A$2:$N$502,7,0)=0,\"\",VLOOKUP(B391,漢字書き!$A$2:$N$502,7,0)))","v":{"$error":"#N/A"}},{"$f":"IF(C391=\"\",\"\",IF(VLOOKUP(C391,漢字書き!$A$2:$N$502,7,0)=0,\"\",VLOOKUP(C391,漢字書き!$A$2:$N$502,7,0)))","v":{"$error":"#N/A"}},{"$f":"IF(D391=\"\",\"\",IF(VLOOKUP(D391,漢字書き!$A$2:$N$502,7,0)=0,\"\",VLOOKUP(D391,漢字書き!$A$2:$N$502,7,0)))","v":{"$error":"#N/A"}},{"$f":"IF(E391=\"\",\"\",IF(VLOOKUP(E391,漢字書き!$A$2:$N$502,7,0)=0,\"\",VLOOKUP(E391,漢字書き!$A$2:$N$502,7,0)))","v":{"$error":"#N/A"}},{"$f":"IF(F391=\"\",\"\",IF(VLOOKUP(F391,漢字書き!$A$2:$N$502,7,0)=0,\"\",VLOOKUP(F391,漢字書き!$A$2:$N$502,7,0)))","v":{"$error":"#N/A"}},{"$f":"IF(G391=\"\",\"\",IF(VLOOKUP(G391,漢字書き!$A$2:$N$502,7,0)=0,\"\",VLOOKUP(G391,漢字書き!$A$2:$N$502,7,0)))","v":{"$error":"#N/A"}},{"$f":"IF(H391=\"\",\"\",IF(VLOOKUP(H391,漢字書き!$A$2:$N$502,7,0)=0,\"\",VLOOKUP(H391,漢字書き!$A$2:$N$502,7,0)))","v":{"$error":"#N/A"}},{"$f":"IF(I391=\"\",\"\",IF(VLOOKUP(I391,漢字書き!$A$2:$N$502,7,0)=0,\"\",VLOOKUP(I391,漢字書き!$A$2:$N$502,7,0)))","v":{"$error":"#N/A"}},{"$f":"IF(J391=\"\",\"\",IF(VLOOKUP(J391,漢字書き!$A$2:$N$502,7,0)=0,\"\",VLOOKUP(J391,漢字書き!$A$2:$N$502,7,0)))","v":{"$error":"#N/A"}},{"$f":"IF(K391=\"\",\"\",IF(VLOOKUP(K391,漢字読み!$A$2:$O$502,7,0)=0,\"\",VLOOKUP(K391,漢字読み!$A$2:$O$502,7,0)))","v":{"$error":"#N/A"}},{"$f":"IF(L391=\"\",\"\",IF(VLOOKUP(L391,漢字読み!$A$2:$O$502,7,0)=0,\"\",VLOOKUP(L391,漢字読み!$A$2:$O$502,7,0)))","v":{"$error":"#N/A"}},{"$f":"IF(M391=\"\",\"\",IF(VLOOKUP(M391,漢字読み!$A$2:$O$502,7,0)=0,\"\",VLOOKUP(M391,漢字読み!$A$2:$O$502,7,0)))","v":{"$error":"#N/A"}},{"$f":"IF(N391=\"\",\"\",IF(VLOOKUP(N391,漢字読み!$A$2:$O$502,7,0)=0,\"\",VLOOKUP(N391,漢字読み!$A$2:$O$502,7,0)))","v":{"$error":"#N/A"}},{"$f":"IF(O391=\"\",\"\",IF(VLOOKUP(O391,漢字読み!$A$2:$O$502,7,0)=0,\"\",VLOOKUP(O391,漢字読み!$A$2:$O$502,7,0)))","v":{"$error":"#N/A"}},{"$f":"IF(P391=\"\",\"\",IF(VLOOKUP(P391,漢字読み!$A$2:$O$502,7,0)=0,\"\",VLOOKUP(P391,漢字読み!$A$2:$O$502,7,0)))","v":{"$error":"#N/A"}},{"$f":"IF(Q391=\"\",\"\",IF(VLOOKUP(Q391,漢字読み!$A$2:$O$502,7,0)=0,\"\",VLOOKUP(Q391,漢字読み!$A$2:$O$502,7,0)))","v":{"$error":"#N/A"}},{"$f":"IF(R391=\"\",\"\",IF(VLOOKUP(R391,漢字読み!$A$2:$O$502,7,0)=0,\"\",VLOOKUP(R391,漢字読み!$A$2:$O$502,7,0)))","v":{"$error":"#N/A"}},{"$f":"IF(S391=\"\",\"\",IF(VLOOKUP(S391,漢字読み!$A$2:$O$502,7,0)=0,\"\",VLOOKUP(S391,漢字読み!$A$2:$O$502,7,0)))","v":{"$error":"#N/A"}},{"$f":"IF(T391=\"\",\"\",IF(VLOOKUP(T391,漢字読み!$A$2:$O$502,7,0)=0,\"\",VLOOKUP(T391,漢字読み!$A$2:$O$502,7,0)))","v":{"$error":"#N/A"}},null,null,"和歌山県教育委員会"]
[{"$f":"A386","v":0},0,0,0,0,0,0,0,0,0,0,0,0,0,0,0,0,0,0,0]
["⑳","⑲","⑱","⑰","⑯","⑮","⑭","⑬","⑫","⑪","⑩","⑨","⑧","⑦","⑥","⑤","④","③","②","①","次の［　　　　］の部分の漢字には読みがなをひらがなで書き、カタカナは漢字に直しなさい。",10,"「漢字の博士検定試験」練習問題　"]
[{"$f":"IF(A396=\"\",\"\",VLOOKUP(A396,漢字書き!$A$2:$N$506,6,0))","v":{"$error":"#N/A"}},{"$f":"IF(B396=\"\",\"\",VLOOKUP(B396,漢字書き!$A$2:$N$506,6,0))","v":{"$error":"#N/A"}},{"$f":"IF(C396=\"\",\"\",VLOOKUP(C396,漢字書き!$A$2:$N$506,6,0))","v":{"$error":"#N/A"}},{"$f":"IF(D396=\"\",\"\",VLOOKUP(D396,漢字書き!$A$2:$N$506,6,0))","v":{"$error":"#N/A"}},{"$f":"IF(E396=\"\",\"\",VLOOKUP(E396,漢字書き!$A$2:$N$506,6,0))","v":{"$error":"#N/A"}},{"$f":"IF(F396=\"\",\"\",VLOOKUP(F396,漢字書き!$A$2:$N$506,6,0))","v":{"$error":"#N/A"}},{"$f":"IF(G396=\"\",\"\",VLOOKUP(G396,漢字書き!$A$2:$N$506,6,0))","v":{"$error":"#N/A"}},{"$f":"IF(H396=\"\",\"\",VLOOKUP(H396,漢字書き!$A$2:$N$506,6,0))","v":{"$error":"#N/A"}},{"$f":"IF(I396=\"\",\"\",VLOOKUP(I396,漢字書き!$A$2:$N$506,6,0))","v":{"$error":"#N/A"}},{"$f":"IF(J396=\"\",\"\",VLOOKUP(J396,漢字書き!$A$2:$N$506,6,0))","v":{"$error":"#N/A"}},{"$f":"IF(K396=\"\",\"\",VLOOKUP(K396,漢字読み!$A$2:$O$506,6,0))","v":{"$error":"#N/A"}},{"$f":"IF(L396=\"\",\"\",VLOOKUP(L396,漢字読み!$A$2:$O$506,6,0))","v":{"$error":"#N/A"}},{"$f":"IF(M396=\"\",\"\",VLOOKUP(M396,漢字読み!$A$2:$O$506,6,0))","v":{"$error":"#N/A"}},{"$f":"IF(N396=\"\",\"\",VLOOKUP(N396,漢字読み!$A$2:$O$506,6,0))","v":{"$error":"#N/A"}},{"$f":"IF(O396=\"\",\"\",VLOOKUP(O396,漢字読み!$A$2:$O$506,6,0))","v":{"$error":"#N/A"}},{"$f":"IF(P396=\"\",\"\",VLOOKUP(P396,漢字読み!$A$2:$O$506,6,0))","v":{"$error":"#N/A"}},{"$f":"IF(Q396=\"\",\"\",VLOOKUP(Q396,漢字読み!$A$2:$O$506,6,0))","v":{"$error":"#N/A"}},{"$f":"IF(R396=\"\",\"\",VLOOKUP(R396,漢字読み!$A$2:$O$506,6,0))","v":{"$error":"#N/A"}},{"$f":"IF(S396=\"\",\"\",VLOOKUP(S396,漢字読み!$A$2:$O$506,6,0))","v":{"$error":"#N/A"}},{"$f":"IF(T396=\"\",\"\",VLOOKUP(T396,漢字読み!$A$2:$O$506,6,0))","v":{"$error":"#N/A"}},null,"級"]
[{"$f":"IF(A$16=\"\",\"\",VLOOKUP(A396,漢字書き!$A$2:$O$506,8,0))","v":{"$error":"#N/A"}},{"$f":"IF(B$16=\"\",\"\",VLOOKUP(B396,漢字書き!$A$2:$O$506,8,0))","v":{"$error":"#N/A"}},{"$f":"IF(C$16=\"\",\"\",VLOOKUP(C396,漢字書き!$A$2:$O$506,8,0))","v":{"$error":"#N/A"}},{"$f":"IF(D$16=\"\",\"\",VLOOKUP(D396,漢字書き!$A$2:$O$506,8,0))","v":{"$error":"#N/A"}},{"$f":"IF(E$16=\"\",\"\",VLOOKUP(E396,漢字書き!$A$2:$O$506,8,0))","v":{"$error":"#N/A"}},{"$f":"IF(F$16=\"\",\"\",VLOOKUP(F396,漢字書き!$A$2:$O$506,8,0))","v":{"$error":"#N/A"}},{"$f":"IF(G$16=\"\",\"\",VLOOKUP(G396,漢字書き!$A$2:$O$506,8,0))","v":{"$error":"#N/A"}},{"$f":"IF(H$16=\"\",\"\",VLOOKUP(H396,漢字書き!$A$2:$O$506,8,0))","v":{"$error":"#N/A"}},{"$f":"IF(I$16=\"\",\"\",VLOOKUP(I396,漢字書き!$A$2:$O$506,8,0))","v":{"$error":"#N/A"}},{"$f":"IF(J$16=\"\",\"\",VLOOKUP(J396,漢字書き!$A$2:$O$506,8,0))","v":{"$error":"#N/A"}},{"$f":"IF(K$16=\"\",\"\",VLOOKUP(K396,漢字読み!$A$2:$O$506,8,0))","v":{"$error":"#N/A"}},{"$f":"IF(L$16=\"\",\"\",VLOOKUP(L396,漢字読み!$A$2:$O$506,8,0))","v":{"$error":"#N/A"}},{"$f":"IF(M$16=\"\",\"\",VLOOKUP(M396,漢字読み!$A$2:$O$506,8,0))","v":{"$error":"#N/A"}},{"$f":"IF(N$16=\"\",\"\",VLOOKUP(N396,漢字読み!$A$2:$O$506,8,0))","v":{"$error":"#N/A"}},{"$f":"IF(O$16=\"\",\"\",VLOOKUP(O396,漢字読み!$A$2:$O$506,8,0))","v":{"$error":"#N/A"}},{"$f":"IF(P$16=\"\",\"\",VLOOKUP(P396,漢字読み!$A$2:$O$506,8,0))","v":{"$error":"#N/A"}},{"$f":"IF(Q$16=\"\",\"\",VLOOKUP(Q396,漢字読み!$A$2:$O$506,8,0))","v":{"$error":"#N/A"}},{"$f":"IF(R$16=\"\",\"\",VLOOKUP(R396,漢字読み!$A$2:$O$506,8,0))","v":{"$error":"#N/A"}},{"$f":"IF(S$16=\"\",\"\",VLOOKUP(S396,漢字読み!$A$2:$O$506,8,0))","v":{"$error":"#N/A"}},{"$f":"IF(T$16=\"\",\"\",VLOOKUP(T396,漢字読み!$A$2:$O$506,8,0))","v":{"$error":"#N/A"}},null,"名前"]
[{"$f":"IF(A396=\"\",\"\",IF(VLOOKUP(A396,漢字書き!$A$2:$N$502,7,0)=0,\"\",VLOOKUP(A396,漢字書き!$A$2:$N$502,7,0)))","v":{"$error":"#N/A"}},{"$f":"IF(B396=\"\",\"\",IF(VLOOKUP(B396,漢字書き!$A$2:$N$502,7,0)=0,\"\",VLOOKUP(B396,漢字書き!$A$2:$N$502,7,0)))","v":{"$error":"#N/A"}},{"$f":"IF(C396=\"\",\"\",IF(VLOOKUP(C396,漢字書き!$A$2:$N$502,7,0)=0,\"\",VLOOKUP(C396,漢字書き!$A$2:$N$502,7,0)))","v":{"$error":"#N/A"}},{"$f":"IF(D396=\"\",\"\",IF(VLOOKUP(D396,漢字書き!$A$2:$N$502,7,0)=0,\"\",VLOOKUP(D396,漢字書き!$A$2:$N$502,7,0)))","v":{"$error":"#N/A"}},{"$f":"IF(E396=\"\",\"\",IF(VLOOKUP(E396,漢字書き!$A$2:$N$502,7,0)=0,\"\",VLOOKUP(E396,漢字書き!$A$2:$N$502,7,0)))","v":{"$error":"#N/A"}},{"$f":"IF(F396=\"\",\"\",IF(VLOOKUP(F396,漢字書き!$A$2:$N$502,7,0)=0,\"\",VLOOKUP(F396,漢字書き!$A$2:$N$502,7,0)))","v":{"$error":"#N/A"}},{"$f":"IF(G396=\"\",\"\",IF(VLOOKUP(G396,漢字書き!$A$2:$N$502,7,0)=0,\"\",VLOOKUP(G396,漢字書き!$A$2:$N$502,7,0)))","v":{"$error":"#N/A"}},{"$f":"IF(H396=\"\",\"\",IF(VLOOKUP(H396,漢字書き!$A$2:$N$502,7,0)=0,\"\",VLOOKUP(H396,漢字書き!$A$2:$N$502,7,0)))","v":{"$error":"#N/A"}},{"$f":"IF(I396=\"\",\"\",IF(VLOOKUP(I396,漢字書き!$A$2:$N$502,7,0)=0,\"\",VLOOKUP(I396,漢字書き!$A$2:$N$502,7,0)))","v":{"$error":"#N/A"}},{"$f":"IF(J396=\"\",\"\",IF(VLOOKUP(J396,漢字書き!$A$2:$N$502,7,0)=0,\"\",VLOOKUP(J396,漢字書き!$A$2:$N$502,7,0)))","v":{"$error":"#N/A"}},{"$f":"IF(K396=\"\",\"\",IF(VLOOKUP(K396,漢字読み!$A$2:$O$502,7,0)=0,\"\",VLOOKUP(K396,漢字読み!$A$2:$O$502,7,0)))","v":{"$error":"#N/A"}},{"$f":"IF(L396=\"\",\"\",IF(VLOOKUP(L396,漢字読み!$A$2:$O$502,7,0)=0,\"\",VLOOKUP(L396,漢字読み!$A$2:$O$502,7,0)))","v":{"$error":"#N/A"}},{"$f":"IF(M396=\"\",\"\",IF(VLOOKUP(M396,漢字読み!$A$2:$O$502,7,0)=0,\"\",VLOOKUP(M396,漢字読み!$A$2:$O$502,7,0)))","v":{"$error":"#N/A"}},{"$f":"IF(N396=\"\",\"\",IF(VLOOKUP(N396,漢字読み!$A$2:$O$502,7,0)=0,\"\",VLOOKUP(N396,漢字読み!$A$2:$O$502,7,0)))","v":{"$error":"#N/A"}},{"$f":"IF(O396=\"\",\"\",IF(VLOOKUP(O396,漢字読み!$A$2:$O$502,7,0)=0,\"\",VLOOKUP(O396,漢字読み!$A$2:$O$502,7,0)))","v":{"$error":"#N/A"}},{"$f":"IF(P396=\"\",\"\",IF(VLOOKUP(P396,漢字読み!$A$2:$O$502,7,0)=0,\"\",VLOOKUP(P396,漢字読み!$A$2:$O$502,7,0)))","v":{"$error":"#N/A"}},{"$f":"IF(Q396=\"\",\"\",IF(VLOOKUP(Q396,漢字読み!$A$2:$O$502,7,0)=0,\"\",VLOOKUP(Q396,漢字読み!$A$2:$O$502,7,0)))","v":{"$error":"#N/A"}},{"$f":"IF(R396=\"\",\"\",IF(VLOOKUP(R396,漢字読み!$A$2:$O$502,7,0)=0,\"\",VLOOKUP(R396,漢字読み!$A$2:$O$502,7,0)))","v":{"$error":"#N/A"}},{"$f":"IF(S396=\"\",\"\",IF(VLOOKUP(S396,漢字読み!$A$2:$O$502,7,0)=0,\"\",VLOOKUP(S396,漢字読み!$A$2:$O$502,7,0)))","v":{"$error":"#N/A"}},{"$f":"IF(T396=\"\",\"\",IF(VLOOKUP(T396,漢字読み!$A$2:$O$502,7,0)=0,\"\",VLOOKUP(T396,漢字読み!$A$2:$O$502,7,0)))","v":{"$error":"#N/A"}},null,null,"和歌山県教育委員会"]
[{"$f":"INDIRECT(\"'関数（書き）'!C\" & COLUMN(B$1)+SUM($AD$2:$AD402))","v":0},{"$f":"INDIRECT(\"'関数（書き）'!C\" & COLUMN(C$1)+SUM($AD$2:$AD402))","v":0},{"$f":"INDIRECT(\"'関数（書き）'!C\" & COLUMN(D$1)+SUM($AD$2:$AD402))","v":0},{"$f":"INDIRECT(\"'関数（書き）'!C\" & COLUMN(E$1)+SUM($AD$2:$AD402))","v":0},{"$f":"INDIRECT(\"'関数（書き）'!C\" & COLUMN(F$1)+SUM($AD$2:$AD402))","v":0},{"$f":"INDIRECT(\"'関数（書き）'!C\" & COLUMN(G$1)+SUM($AD$2:$AD402))","v":0},{"$f":"INDIRECT(\"'関数（書き）'!C\" & COLUMN(H$1)+SUM($AD$2:$AD402))","v":0},{"$f":"INDIRECT(\"'関数（書き）'!C\" & COLUMN(I$1)+SUM($AD$2:$AD402))","v":0},{"$f":"INDIRECT(\"'関数（書き）'!C\" & COLUMN(J$1)+SUM($AD$2:$AD402))","v":0},{"$f":"INDIRECT(\"'関数（書き）'!C\" & COLUMN(K$1)+SUM($AD$2:$AD402))","v":0},{"$f":"INDIRECT(\"'関数（読み）'!C\" & COLUMN(B$1)+SUM($AD$2:$AD402))","v":0},{"$f":"INDIRECT(\"'関数（読み）'!C\" & COLUMN(C$1)+SUM($AD$2:$AD402))","v":0},{"$f":"INDIRECT(\"'関数（読み）'!C\" & COLUMN(D$1)+SUM($AD$2:$AD402))","v":0},{"$f":"INDIRECT(\"'関数（読み）'!C\" & COLUMN(E$1)+SUM($AD$2:$AD402))","v":0},{"$f":"INDIRECT(\"'関数（読み）'!C\" & COLUMN(F$1)+SUM($AD$2:$AD402))","v":0},{"$f":"INDIRECT(\"'関数（読み）'!C\" & COLUMN(G$1)+SUM($AD$2:$AD402))","v":0},{"$f":"INDIRECT(\"'関数（読み）'!C\" & COLUMN(H$1)+SUM($AD$2:$AD402))","v":0},{"$f":"INDIRECT(\"'関数（読み）'!C\" & COLUMN(I$1)+SUM($AD$2:$AD402))","v":0},{"$f":"INDIRECT(\"'関数（読み）'!C\" & COLUMN(J$1)+SUM($AD$2:$AD402))","v":0},{"$f":"INDIRECT(\"'関数（読み）'!C\" & COLUMN(K$1)+SUM($AD$2:$AD402))","v":0}]
["⑳","⑲","⑱","⑰","⑯","⑮","⑭","⑬","⑫","⑪","⑩","⑨","⑧","⑦","⑥","⑤","④","③","②","①","次の［　　　　］の部分の漢字には読みがなをひらがなで書き、カタカナは漢字に直しなさい。",10,"「漢字の博士検定試験」練習問題　",null,null,null,null,null,"←",10,"問",{"$f":"AH387+1","v":401},"～",{"$f":"SUM($AD$2:$AD402)+10","v":410},"問まで",{"$f":"COUNTIF($A$1:$T$200,T403)","v":0}]
[{"$f":"IF(A401=\"\",\"\",VLOOKUP(A401,漢字書き!$A$2:$N$506,6,0))","v":{"$error":"#N/A"}},{"$f":"IF(B401=\"\",\"\",VLOOKUP(B401,漢字書き!$A$2:$N$506,6,0))","v":{"$error":"#N/A"}},{"$f":"IF(C401=\"\",\"\",VLOOKUP(C401,漢字書き!$A$2:$N$506,6,0))","v":{"$error":"#N/A"}},{"$f":"IF(D401=\"\",\"\",VLOOKUP(D401,漢字書き!$A$2:$N$506,6,0))","v":{"$error":"#N/A"}},{"$f":"IF(E401=\"\",\"\",VLOOKUP(E401,漢字書き!$A$2:$N$506,6,0))","v":{"$error":"#N/A"}},{"$f":"IF(F401=\"\",\"\",VLOOKUP(F401,漢字書き!$A$2:$N$506,6,0))","v":{"$error":"#N/A"}},{"$f":"IF(G401=\"\",\"\",VLOOKUP(G401,漢字書き!$A$2:$N$506,6,0))","v":{"$error":"#N/A"}},{"$f":"IF(H401=\"\",\"\",VLOOKUP(H401,漢字書き!$A$2:$N$506,6,0))","v":{"$error":"#N/A"}},{"$f":"IF(I401=\"\",\"\",VLOOKUP(I401,漢字書き!$A$2:$N$506,6,0))","v":{"$error":"#N/A"}},{"$f":"IF(J401=\"\",\"\",VLOOKUP(J401,漢字書き!$A$2:$N$506,6,0))","v":{"$error":"#N/A"}},{"$f":"IF(K401=\"\",\"\",VLOOKUP(K401,漢字読み!$A$2:$O$506,6,0))","v":{"$error":"#N/A"}},{"$f":"IF(L401=\"\",\"\",VLOOKUP(L401,漢字読み!$A$2:$O$506,6,0))","v":{"$error":"#N/A"}},{"$f":"IF(M401=\"\",\"\",VLOOKUP(M401,漢字読み!$A$2:$O$506,6,0))","v":{"$error":"#N/A"}},{"$f":"IF(N401=\"\",\"\",VLOOKUP(N401,漢字読み!$A$2:$O$506,6,0))","v":{"$error":"#N/A"}},{"$f":"IF(O401=\"\",\"\",VLOOKUP(O401,漢字読み!$A$2:$O$506,6,0))","v":{"$error":"#N/A"}},{"$f":"IF(P401=\"\",\"\",VLOOKUP(P401,漢字読み!$A$2:$O$506,6,0))","v":{"$error":"#N/A"}},{"$f":"IF(Q401=\"\",\"\",VLOOKUP(Q401,漢字読み!$A$2:$O$506,6,0))","v":{"$error":"#N/A"}},{"$f":"IF(R401=\"\",\"\",VLOOKUP(R401,漢字読み!$A$2:$O$506,6,0))","v":{"$error":"#N/A"}},{"$f":"IF(S401=\"\",\"\",VLOOKUP(S401,漢字読み!$A$2:$O$506,6,0))","v":{"$error":"#N/A"}},{"$f":"IF(T401=\"\",\"\",VLOOKUP(T401,漢字読み!$A$2:$O$506,6,0))","v":{"$error":"#N/A"}},null,"級"]
[null,null,null,null,null,null,null,null,null,null,null,null,null,null,null,null,null,null,null,null,null,"名前"]
[{"$f":"IF(A401=\"\",\"\",IF(VLOOKUP(A401,漢字書き!$A$2:$N$502,7,0)=0,\"\",VLOOKUP(A401,漢字書き!$A$2:$N$502,7,0)))","v":{"$error":"#N/A"}},{"$f":"IF(B401=\"\",\"\",IF(VLOOKUP(B401,漢字書き!$A$2:$N$502,7,0)=0,\"\",VLOOKUP(B401,漢字書き!$A$2:$N$502,7,0)))","v":{"$error":"#N/A"}},{"$f":"IF(C401=\"\",\"\",IF(VLOOKUP(C401,漢字書き!$A$2:$N$502,7,0)=0,\"\",VLOOKUP(C401,漢字書き!$A$2:$N$502,7,0)))","v":{"$error":"#N/A"}},{"$f":"IF(D401=\"\",\"\",IF(VLOOKUP(D401,漢字書き!$A$2:$N$502,7,0)=0,\"\",VLOOKUP(D401,漢字書き!$A$2:$N$502,7,0)))","v":{"$error":"#N/A"}},{"$f":"IF(E401=\"\",\"\",IF(VLOOKUP(E401,漢字書き!$A$2:$N$502,7,0)=0,\"\",VLOOKUP(E401,漢字書き!$A$2:$N$502,7,0)))","v":{"$error":"#N/A"}},{"$f":"IF(F401=\"\",\"\",IF(VLOOKUP(F401,漢字書き!$A$2:$N$502,7,0)=0,\"\",VLOOKUP(F401,漢字書き!$A$2:$N$502,7,0)))","v":{"$error":"#N/A"}},{"$f":"IF(G401=\"\",\"\",IF(VLOOKUP(G401,漢字書き!$A$2:$N$502,7,0)=0,\"\",VLOOKUP(G401,漢字書き!$A$2:$N$502,7,0)))","v":{"$error":"#N/A"}},{"$f":"IF(H401=\"\",\"\",IF(VLOOKUP(H401,漢字書き!$A$2:$N$502,7,0)=0,\"\",VLOOKUP(H401,漢字書き!$A$2:$N$502,7,0)))","v":{"$error":"#N/A"}},{"$f":"IF(I401=\"\",\"\",IF(VLOOKUP(I401,漢字書き!$A$2:$N$502,7,0)=0,\"\",VLOOKUP(I401,漢字書き!$A$2:$N$502,7,0)))","v":{"$error":"#N/A"}},{"$f":"IF(J401=\"\",\"\",IF(VLOOKUP(J401,漢字書き!$A$2:$N$502,7,0)=0,\"\",VLOOKUP(J401,漢字書き!$A$2:$N$502,7,0)))","v":{"$error":"#N/A"}},{"$f":"IF(K401=\"\",\"\",IF(VLOOKUP(K401,漢字読み!$A$2:$O$502,7,0)=0,\"\",VLOOKUP(K401,漢字読み!$A$2:$O$502,7,0)))","v":{"$error":"#N/A"}},{"$f":"IF(L401=\"\",\"\",IF(VLOOKUP(L401,漢字読み!$A$2:$O$502,7,0)=0,\"\",VLOOKUP(L401,漢字読み!$A$2:$O$502,7,0)))","v":{"$error":"#N/A"}},{"$f":"IF(M401=\"\",\"\",IF(VLOOKUP(M401,漢字読み!$A$2:$O$502,7,0)=0,\"\",VLOOKUP(M401,漢字読み!$A$2:$O$502,7,0)))","v":{"$error":"#N/A"}},{"$f":"IF(N401=\"\",\"\",IF(VLOOKUP(N401,漢字読み!$A$2:$O$502,7,0)=0,\"\",VLOOKUP(N401,漢字読み!$A$2:$O$502,7,0)))","v":{"$error":"#N/A"}},{"$f":"IF(O401=\"\",\"\",IF(VLOOKUP(O401,漢字読み!$A$2:$O$502,7,0)=0,\"\",VLOOKUP(O401,漢字読み!$A$2:$O$502,7,0)))","v":{"$error":"#N/A"}},{"$f":"IF(P401=\"\",\"\",IF(VLOOKUP(P401,漢字読み!$A$2:$O$502,7,0)=0,\"\",VLOOKUP(P401,漢字読み!$A$2:$O$502,7,0)))","v":{"$error":"#N/A"}},{"$f":"IF(Q401=\"\",\"\",IF(VLOOKUP(Q401,漢字読み!$A$2:$O$502,7,0)=0,\"\",VLOOKUP(Q401,漢字読み!$A$2:$O$502,7,0)))","v":{"$error":"#N/A"}},{"$f":"IF(R401=\"\",\"\",IF(VLOOKUP(R401,漢字読み!$A$2:$O$502,7,0)=0,\"\",VLOOKUP(R401,漢字読み!$A$2:$O$502,7,0)))","v":{"$error":"#N/A"}},{"$f":"IF(S401=\"\",\"\",IF(VLOOKUP(S401,漢字読み!$A$2:$O$502,7,0)=0,\"\",VLOOKUP(S401,漢字読み!$A$2:$O$502,7,0)))","v":{"$error":"#N/A"}},{"$f":"IF(T401=\"\",\"\",IF(VLOOKUP(T401,漢字読み!$A$2:$O$502,7,0)=0,\"\",VLOOKUP(T401,漢字読み!$A$2:$O$502,7,0)))","v":{"$error":"#N/A"}},null,null,"和歌山県教育委員会"]
[{"$f":"INDIRECT(\"'関数（書き）'!C\" & COLUMN(B$1)+SUM($AD$2:$AD407))","v":0},{"$f":"INDIRECT(\"'関数（書き）'!C\" & COLUMN(C$1)+SUM($AD$2:$AD407))","v":0},{"$f":"INDIRECT(\"'関数（書き）'!C\" & COLUMN(D$1)+SUM($AD$2:$AD407))","v":0},{"$f":"INDIRECT(\"'関数（書き）'!C\" & COLUMN(E$1)+SUM($AD$2:$AD407))","v":0},{"$f":"INDIRECT(\"'関数（書き）'!C\" & COLUMN(F$1)+SUM($AD$2:$AD407))","v":0},{"$f":"INDIRECT(\"'関数（書き）'!C\" & COLUMN(G$1)+SUM($AD$2:$AD407))","v":0},{"$f":"INDIRECT(\"'関数（書き）'!C\" & COLUMN(H$1)+SUM($AD$2:$AD407))","v":0},{"$f":"INDIRECT(\"'関数（書き）'!C\" & COLUMN(I$1)+SUM($AD$2:$AD407))","v":0},{"$f":"INDIRECT(\"'関数（書き）'!C\" & COLUMN(J$1)+SUM($AD$2:$AD407))","v":0},{"$f":"INDIRECT(\"'関数（書き）'!C\" & COLUMN(K$1)+SUM($AD$2:$AD407))","v":0},{"$f":"INDIRECT(\"'関数（読み）'!C\" & COLUMN(B$1)+SUM($AD$2:$AD407))","v":0},{"$f":"INDIRECT(\"'関数（読み）'!C\" & COLUMN(C$1)+SUM($AD$2:$AD407))","v":0},{"$f":"INDIRECT(\"'関数（読み）'!C\" & COLUMN(D$1)+SUM($AD$2:$AD407))","v":0},{"$f":"INDIRECT(\"'関数（読み）'!C\" & COLUMN(E$1)+SUM($AD$2:$AD407))","v":0},{"$f":"INDIRECT(\"'関数（読み）'!C\" & COLUMN(F$1)+SUM($AD$2:$AD407))","v":0},{"$f":"INDIRECT(\"'関数（読み）'!C\" & COLUMN(G$1)+SUM($AD$2:$AD407))","v":0},{"$f":"INDIRECT(\"'関数（読み）'!C\" & COLUMN(H$1)+SUM($AD$2:$AD407))","v":0},{"$f":"INDIRECT(\"'関数（読み）'!C\" & COLUMN(I$1)+SUM($AD$2:$AD407))","v":0},{"$f":"INDIRECT(\"'関数（読み）'!C\" & COLUMN(J$1)+SUM($AD$2:$AD407))","v":0},{"$f":"INDIRECT(\"'関数（読み）'!C\" & COLUMN(K$1)+SUM($AD$2:$AD407))","v":0}]
["⑳","⑲","⑱","⑰","⑯","⑮","⑭","⑬","⑫","⑪","⑩","⑨","⑧","⑦","⑥","⑤","④","③","②","①","次の［　　　　］の部分の漢字には読みがなをひらがなで書き、カタカナは漢字に直しなさい。",10,"「漢字の博士検定試験」練習問題　",null,null,null,null,null,"←",10,"問",{"$f":"AH402+1","v":411},"～",{"$f":"SUM($AD$2:$AD407)+10","v":420},"問まで",{"$f":"COUNTIF($A$1:$T$200,T408)","v":0}]
[{"$f":"IF(A406=\"\",\"\",VLOOKUP(A406,漢字書き!$A$2:$N$506,6,0))","v":{"$error":"#N/A"}},{"$f":"IF(B406=\"\",\"\",VLOOKUP(B406,漢字書き!$A$2:$N$506,6,0))","v":{"$error":"#N/A"}},{"$f":"IF(C406=\"\",\"\",VLOOKUP(C406,漢字書き!$A$2:$N$506,6,0))","v":{"$error":"#N/A"}},{"$f":"IF(D406=\"\",\"\",VLOOKUP(D406,漢字書き!$A$2:$N$506,6,0))","v":{"$error":"#N/A"}},{"$f":"IF(E406=\"\",\"\",VLOOKUP(E406,漢字書き!$A$2:$N$506,6,0))","v":{"$error":"#N/A"}},{"$f":"IF(F406=\"\",\"\",VLOOKUP(F406,漢字書き!$A$2:$N$506,6,0))","v":{"$error":"#N/A"}},{"$f":"IF(G406=\"\",\"\",VLOOKUP(G406,漢字書き!$A$2:$N$506,6,0))","v":{"$error":"#N/A"}},{"$f":"IF(H406=\"\",\"\",VLOOKUP(H406,漢字書き!$A$2:$N$506,6,0))","v":{"$error":"#N/A"}},{"$f":"IF(I406=\"\",\"\",VLOOKUP(I406,漢字書き!$A$2:$N$506,6,0))","v":{"$error":"#N/A"}},{"$f":"IF(J406=\"\",\"\",VLOOKUP(J406,漢字書き!$A$2:$N$506,6,0))","v":{"$error":"#N/A"}},{"$f":"IF(K406=\"\",\"\",VLOOKUP(K406,漢字読み!$A$2:$O$506,6,0))","v":{"$error":"#N/A"}},{"$f":"IF(L406=\"\",\"\",VLOOKUP(L406,漢字読み!$A$2:$O$506,6,0))","v":{"$error":"#N/A"}},{"$f":"IF(M406=\"\",\"\",VLOOKUP(M406,漢字読み!$A$2:$O$506,6,0))","v":{"$error":"#N/A"}},{"$f":"IF(N406=\"\",\"\",VLOOKUP(N406,漢字読み!$A$2:$O$506,6,0))","v":{"$error":"#N/A"}},{"$f":"IF(O406=\"\",\"\",VLOOKUP(O406,漢字読み!$A$2:$O$506,6,0))","v":{"$error":"#N/A"}},{"$f":"IF(P406=\"\",\"\",VLOOKUP(P406,漢字読み!$A$2:$O$506,6,0))","v":{"$error":"#N/A"}},{"$f":"IF(Q406=\"\",\"\",VLOOKUP(Q406,漢字読み!$A$2:$O$506,6,0))","v":{"$error":"#N/A"}},{"$f":"IF(R406=\"\",\"\",VLOOKUP(R406,漢字読み!$A$2:$O$506,6,0))","v":{"$error":"#N/A"}},{"$f":"IF(S406=\"\",\"\",VLOOKUP(S406,漢字読み!$A$2:$O$506,6,0))","v":{"$error":"#N/A"}},{"$f":"IF(T406=\"\",\"\",VLOOKUP(T406,漢字読み!$A$2:$O$506,6,0))","v":{"$error":"#N/A"}},null,"級"]
[null,null,null,null,null,null,null,null,null,null,null,null,null,null,null,null,null,null,null,null,null,"名前"]
[{"$f":"IF(A406=\"\",\"\",IF(VLOOKUP(A406,漢字書き!$A$2:$N$502,7,0)=0,\"\",VLOOKUP(A406,漢字書き!$A$2:$N$502,7,0)))","v":{"$error":"#N/A"}},{"$f":"IF(B406=\"\",\"\",IF(VLOOKUP(B406,漢字書き!$A$2:$N$502,7,0)=0,\"\",VLOOKUP(B406,漢字書き!$A$2:$N$502,7,0)))","v":{"$error":"#N/A"}},{"$f":"IF(C406=\"\",\"\",IF(VLOOKUP(C406,漢字書き!$A$2:$N$502,7,0)=0,\"\",VLOOKUP(C406,漢字書き!$A$2:$N$502,7,0)))","v":{"$error":"#N/A"}},{"$f":"IF(D406=\"\",\"\",IF(VLOOKUP(D406,漢字書き!$A$2:$N$502,7,0)=0,\"\",VLOOKUP(D406,漢字書き!$A$2:$N$502,7,0)))","v":{"$error":"#N/A"}},{"$f":"IF(E406=\"\",\"\",IF(VLOOKUP(E406,漢字書き!$A$2:$N$502,7,0)=0,\"\",VLOOKUP(E406,漢字書き!$A$2:$N$502,7,0)))","v":{"$error":"#N/A"}},{"$f":"IF(F406=\"\",\"\",IF(VLOOKUP(F406,漢字書き!$A$2:$N$502,7,0)=0,\"\",VLOOKUP(F406,漢字書き!$A$2:$N$502,7,0)))","v":{"$error":"#N/A"}},{"$f":"IF(G406=\"\",\"\",IF(VLOOKUP(G406,漢字書き!$A$2:$N$502,7,0)=0,\"\",VLOOKUP(G406,漢字書き!$A$2:$N$502,7,0)))","v":{"$error":"#N/A"}},{"$f":"IF(H406=\"\",\"\",IF(VLOOKUP(H406,漢字書き!$A$2:$N$502,7,0)=0,\"\",VLOOKUP(H406,漢字書き!$A$2:$N$502,7,0)))","v":{"$error":"#N/A"}},{"$f":"IF(I406=\"\",\"\",IF(VLOOKUP(I406,漢字書き!$A$2:$N$502,7,0)=0,\"\",VLOOKUP(I406,漢字書き!$A$2:$N$502,7,0)))","v":{"$error":"#N/A"}},{"$f":"IF(J406=\"\",\"\",IF(VLOOKUP(J406,漢字書き!$A$2:$N$502,7,0)=0,\"\",VLOOKUP(J406,漢字書き!$A$2:$N$502,7,0)))","v":{"$error":"#N/A"}},{"$f":"IF(K406=\"\",\"\",IF(VLOOKUP(K406,漢字読み!$A$2:$O$502,7,0)=0,\"\",VLOOKUP(K406,漢字読み!$A$2:$O$502,7,0)))","v":{"$error":"#N/A"}},{"$f":"IF(L406=\"\",\"\",IF(VLOOKUP(L406,漢字読み!$A$2:$O$502,7,0)=0,\"\",VLOOKUP(L406,漢字読み!$A$2:$O$502,7,0)))","v":{"$error":"#N/A"}},{"$f":"IF(M406=\"\",\"\",IF(VLOOKUP(M406,漢字読み!$A$2:$O$502,7,0)=0,\"\",VLOOKUP(M406,漢字読み!$A$2:$O$502,7,0)))","v":{"$error":"#N/A"}},{"$f":"IF(N406=\"\",\"\",IF(VLOOKUP(N406,漢字読み!$A$2:$O$502,7,0)=0,\"\",VLOOKUP(N406,漢字読み!$A$2:$O$502,7,0)))","v":{"$error":"#N/A"}},{"$f":"IF(O406=\"\",\"\",IF(VLOOKUP(O406,漢字読み!$A$2:$O$502,7,0)=0,\"\",VLOOKUP(O406,漢字読み!$A$2:$O$502,7,0)))","v":{"$error":"#N/A"}},{"$f":"IF(P406=\"\",\"\",IF(VLOOKUP(P406,漢字読み!$A$2:$O$502,7,0)=0,\"\",VLOOKUP(P406,漢字読み!$A$2:$O$502,7,0)))","v":{"$error":"#N/A"}},{"$f":"IF(Q406=\"\",\"\",IF(VLOOKUP(Q406,漢字読み!$A$2:$O$502,7,0)=0,\"\",VLOOKUP(Q406,漢字読み!$A$2:$O$502,7,0)))","v":{"$error":"#N/A"}},{"$f":"IF(R406=\"\",\"\",IF(VLOOKUP(R406,漢字読み!$A$2:$O$502,7,0)=0,\"\",VLOOKUP(R406,漢字読み!$A$2:$O$502,7,0)))","v":{"$error":"#N/A"}},{"$f":"IF(S406=\"\",\"\",IF(VLOOKUP(S406,漢字読み!$A$2:$O$502,7,0)=0,\"\",VLOOKUP(S406,漢字読み!$A$2:$O$502,7,0)))","v":{"$error":"#N/A"}},{"$f":"IF(T406=\"\",\"\",IF(VLOOKUP(T406,漢字読み!$A$2:$O$502,7,0)=0,\"\",VLOOKUP(T406,漢字読み!$A$2:$O$502,7,0)))","v":{"$error":"#N/A"}},null,null,"和歌山県教育委員会"]
[{"$f":"A401","v":0},0,0,0,0,0,0,0,0,0,0,0,0,0,0,0,0,0,0,0]
["⑳","⑲","⑱","⑰","⑯","⑮","⑭","⑬","⑫","⑪","⑩","⑨","⑧","⑦","⑥","⑤","④","③","②","①","次の［　　　　］の部分の漢字には読みがなをひらがなで書き、カタカナは漢字に直しなさい。",10,"「漢字の博士検定試験」練習問題　"]
[{"$f":"IF(A411=\"\",\"\",VLOOKUP(A411,漢字書き!$A$2:$N$506,6,0))","v":{"$error":"#N/A"}},{"$f":"IF(B411=\"\",\"\",VLOOKUP(B411,漢字書き!$A$2:$N$506,6,0))","v":{"$error":"#N/A"}},{"$f":"IF(C411=\"\",\"\",VLOOKUP(C411,漢字書き!$A$2:$N$506,6,0))","v":{"$error":"#N/A"}},{"$f":"IF(D411=\"\",\"\",VLOOKUP(D411,漢字書き!$A$2:$N$506,6,0))","v":{"$error":"#N/A"}},{"$f":"IF(E411=\"\",\"\",VLOOKUP(E411,漢字書き!$A$2:$N$506,6,0))","v":{"$error":"#N/A"}},{"$f":"IF(F411=\"\",\"\",VLOOKUP(F411,漢字書き!$A$2:$N$506,6,0))","v":{"$error":"#N/A"}},{"$f":"IF(G411=\"\",\"\",VLOOKUP(G411,漢字書き!$A$2:$N$506,6,0))","v":{"$error":"#N/A"}},{"$f":"IF(H411=\"\",\"\",VLOOKUP(H411,漢字書き!$A$2:$N$506,6,0))","v":{"$error":"#N/A"}},{"$f":"IF(I411=\"\",\"\",VLOOKUP(I411,漢字書き!$A$2:$N$506,6,0))","v":{"$error":"#N/A"}},{"$f":"IF(J411=\"\",\"\",VLOOKUP(J411,漢字書き!$A$2:$N$506,6,0))","v":{"$error":"#N/A"}},{"$f":"IF(K411=\"\",\"\",VLOOKUP(K411,漢字読み!$A$2:$O$506,6,0))","v":{"$error":"#N/A"}},{"$f":"IF(L411=\"\",\"\",VLOOKUP(L411,漢字読み!$A$2:$O$506,6,0))","v":{"$error":"#N/A"}},{"$f":"IF(M411=\"\",\"\",VLOOKUP(M411,漢字読み!$A$2:$O$506,6,0))","v":{"$error":"#N/A"}},{"$f":"IF(N411=\"\",\"\",VLOOKUP(N411,漢字読み!$A$2:$O$506,6,0))","v":{"$error":"#N/A"}},{"$f":"IF(O411=\"\",\"\",VLOOKUP(O411,漢字読み!$A$2:$O$506,6,0))","v":{"$error":"#N/A"}},{"$f":"IF(P411=\"\",\"\",VLOOKUP(P411,漢字読み!$A$2:$O$506,6,0))","v":{"$error":"#N/A"}},{"$f":"IF(Q411=\"\",\"\",VLOOKUP(Q411,漢字読み!$A$2:$O$506,6,0))","v":{"$error":"#N/A"}},{"$f":"IF(R411=\"\",\"\",VLOOKUP(R411,漢字読み!$A$2:$O$506,6,0))","v":{"$error":"#N/A"}},{"$f":"IF(S411=\"\",\"\",VLOOKUP(S411,漢字読み!$A$2:$O$506,6,0))","v":{"$error":"#N/A"}},{"$f":"IF(T411=\"\",\"\",VLOOKUP(T411,漢字読み!$A$2:$O$506,6,0))","v":{"$error":"#N/A"}},null,"級"]
[{"$f":"IF(A$11=\"\",\"\",VLOOKUP(A411,漢字書き!$A$2:$O$506,8,0))","v":{"$error":"#N/A"}},{"$f":"IF(B$11=\"\",\"\",VLOOKUP(B411,漢字書き!$A$2:$O$506,8,0))","v":{"$error":"#N/A"}},{"$f":"IF(C$11=\"\",\"\",VLOOKUP(C411,漢字書き!$A$2:$O$506,8,0))","v":{"$error":"#N/A"}},{"$f":"IF(D$11=\"\",\"\",VLOOKUP(D411,漢字書き!$A$2:$O$506,8,0))","v":{"$error":"#N/A"}},{"$f":"IF(E$11=\"\",\"\",VLOOKUP(E411,漢字書き!$A$2:$O$506,8,0))","v":{"$error":"#N/A"}},{"$f":"IF(F$11=\"\",\"\",VLOOKUP(F411,漢字書き!$A$2:$O$506,8,0))","v":{"$error":"#N/A"}},{"$f":"IF(G$11=\"\",\"\",VLOOKUP(G411,漢字書き!$A$2:$O$506,8,0))","v":{"$error":"#N/A"}},{"$f":"IF(H$11=\"\",\"\",VLOOKUP(H411,漢字書き!$A$2:$O$506,8,0))","v":{"$error":"#N/A"}},{"$f":"IF(I$11=\"\",\"\",VLOOKUP(I411,漢字書き!$A$2:$O$506,8,0))","v":{"$error":"#N/A"}},{"$f":"IF(J$11=\"\",\"\",VLOOKUP(J411,漢字書き!$A$2:$O$506,8,0))","v":{"$error":"#N/A"}},{"$f":"IF(K$11=\"\",\"\",VLOOKUP(K411,漢字読み!$A$2:$O$506,8,0))","v":{"$error":"#N/A"}},{"$f":"IF(L$11=\"\",\"\",VLOOKUP(L411,漢字読み!$A$2:$O$506,8,0))","v":{"$error":"#N/A"}},{"$f":"IF(M$11=\"\",\"\",VLOOKUP(M411,漢字読み!$A$2:$O$506,8,0))","v":{"$error":"#N/A"}},{"$f":"IF(N$11=\"\",\"\",VLOOKUP(N411,漢字読み!$A$2:$O$506,8,0))","v":{"$error":"#N/A"}},{"$f":"IF(O$11=\"\",\"\",VLOOKUP(O411,漢字読み!$A$2:$O$506,8,0))","v":{"$error":"#N/A"}},{"$f":"IF(P$11=\"\",\"\",VLOOKUP(P411,漢字読み!$A$2:$O$506,8,0))","v":{"$error":"#N/A"}},{"$f":"IF(Q$11=\"\",\"\",VLOOKUP(Q411,漢字読み!$A$2:$O$506,8,0))","v":{"$error":"#N/A"}},{"$f":"IF(R$11=\"\",\"\",VLOOKUP(R411,漢字読み!$A$2:$O$506,8,0))","v":{"$error":"#N/A"}},{"$f":"IF(S$11=\"\",\"\",VLOOKUP(S411,漢字読み!$A$2:$O$506,8,0))","v":{"$error":"#N/A"}},{"$f":"IF(T$11=\"\",\"\",VLOOKUP(T411,漢字読み!$A$2:$O$506,8,0))","v":{"$error":"#N/A"}},null,"名前"]
[{"$f":"IF(A411=\"\",\"\",IF(VLOOKUP(A411,漢字書き!$A$2:$N$502,7,0)=0,\"\",VLOOKUP(A411,漢字書き!$A$2:$N$502,7,0)))","v":{"$error":"#N/A"}},{"$f":"IF(B411=\"\",\"\",IF(VLOOKUP(B411,漢字書き!$A$2:$N$502,7,0)=0,\"\",VLOOKUP(B411,漢字書き!$A$2:$N$502,7,0)))","v":{"$error":"#N/A"}},{"$f":"IF(C411=\"\",\"\",IF(VLOOKUP(C411,漢字書き!$A$2:$N$502,7,0)=0,\"\",VLOOKUP(C411,漢字書き!$A$2:$N$502,7,0)))","v":{"$error":"#N/A"}},{"$f":"IF(D411=\"\",\"\",IF(VLOOKUP(D411,漢字書き!$A$2:$N$502,7,0)=0,\"\",VLOOKUP(D411,漢字書き!$A$2:$N$502,7,0)))","v":{"$error":"#N/A"}},{"$f":"IF(E411=\"\",\"\",IF(VLOOKUP(E411,漢字書き!$A$2:$N$502,7,0)=0,\"\",VLOOKUP(E411,漢字書き!$A$2:$N$502,7,0)))","v":{"$error":"#N/A"}},{"$f":"IF(F411=\"\",\"\",IF(VLOOKUP(F411,漢字書き!$A$2:$N$502,7,0)=0,\"\",VLOOKUP(F411,漢字書き!$A$2:$N$502,7,0)))","v":{"$error":"#N/A"}},{"$f":"IF(G411=\"\",\"\",IF(VLOOKUP(G411,漢字書き!$A$2:$N$502,7,0)=0,\"\",VLOOKUP(G411,漢字書き!$A$2:$N$502,7,0)))","v":{"$error":"#N/A"}},{"$f":"IF(H411=\"\",\"\",IF(VLOOKUP(H411,漢字書き!$A$2:$N$502,7,0)=0,\"\",VLOOKUP(H411,漢字書き!$A$2:$N$502,7,0)))","v":{"$error":"#N/A"}},{"$f":"IF(I411=\"\",\"\",IF(VLOOKUP(I411,漢字書き!$A$2:$N$502,7,0)=0,\"\",VLOOKUP(I411,漢字書き!$A$2:$N$502,7,0)))","v":{"$error":"#N/A"}},{"$f":"IF(J411=\"\",\"\",IF(VLOOKUP(J411,漢字書き!$A$2:$N$502,7,0)=0,\"\",VLOOKUP(J411,漢字書き!$A$2:$N$502,7,0)))","v":{"$error":"#N/A"}},{"$f":"IF(K411=\"\",\"\",IF(VLOOKUP(K411,漢字読み!$A$2:$O$502,7,0)=0,\"\",VLOOKUP(K411,漢字読み!$A$2:$O$502,7,0)))","v":{"$error":"#N/A"}},{"$f":"IF(L411=\"\",\"\",IF(VLOOKUP(L411,漢字読み!$A$2:$O$502,7,0)=0,\"\",VLOOKUP(L411,漢字読み!$A$2:$O$502,7,0)))","v":{"$error":"#N/A"}},{"$f":"IF(M411=\"\",\"\",IF(VLOOKUP(M411,漢字読み!$A$2:$O$502,7,0)=0,\"\",VLOOKUP(M411,漢字読み!$A$2:$O$502,7,0)))","v":{"$error":"#N/A"}},{"$f":"IF(N411=\"\",\"\",IF(VLOOKUP(N411,漢字読み!$A$2:$O$502,7,0)=0,\"\",VLOOKUP(N411,漢字読み!$A$2:$O$502,7,0)))","v":{"$error":"#N/A"}},{"$f":"IF(O411=\"\",\"\",IF(VLOOKUP(O411,漢字読み!$A$2:$O$502,7,0)=0,\"\",VLOOKUP(O411,漢字読み!$A$2:$O$502,7,0)))","v":{"$error":"#N/A"}},{"$f":"IF(P411=\"\",\"\",IF(VLOOKUP(P411,漢字読み!$A$2:$O$502,7,0)=0,\"\",VLOOKUP(P411,漢字読み!$A$2:$O$502,7,0)))","v":{"$error":"#N/A"}},{"$f":"IF(Q411=\"\",\"\",IF(VLOOKUP(Q411,漢字読み!$A$2:$O$502,7,0)=0,\"\",VLOOKUP(Q411,漢字読み!$A$2:$O$502,7,0)))","v":{"$error":"#N/A"}},{"$f":"IF(R411=\"\",\"\",IF(VLOOKUP(R411,漢字読み!$A$2:$O$502,7,0)=0,\"\",VLOOKUP(R411,漢字読み!$A$2:$O$502,7,0)))","v":{"$error":"#N/A"}},{"$f":"IF(S411=\"\",\"\",IF(VLOOKUP(S411,漢字読み!$A$2:$O$502,7,0)=0,\"\",VLOOKUP(S411,漢字読み!$A$2:$O$502,7,0)))","v":{"$error":"#N/A"}},{"$f":"IF(T411=\"\",\"\",IF(VLOOKUP(T411,漢字読み!$A$2:$O$502,7,0)=0,\"\",VLOOKUP(T411,漢字読み!$A$2:$O$502,7,0)))","v":{"$error":"#N/A"}},null,null,"和歌山県教育委員会"]
[{"$f":"A406","v":0},0,0,0,0,0,0,0,0,0,0,0,0,0,0,0,0,0,0,0]
["⑳","⑲","⑱","⑰","⑯","⑮","⑭","⑬","⑫","⑪","⑩","⑨","⑧","⑦","⑥","⑤","④","③","②","①","次の［　　　　］の部分の漢字には読みがなをひらがなで書き、カタカナは漢字に直しなさい。",10,"「漢字の博士検定試験」練習問題　"]
[{"$f":"IF(A416=\"\",\"\",VLOOKUP(A416,漢字書き!$A$2:$N$506,6,0))","v":{"$error":"#N/A"}},{"$f":"IF(B416=\"\",\"\",VLOOKUP(B416,漢字書き!$A$2:$N$506,6,0))","v":{"$error":"#N/A"}},{"$f":"IF(C416=\"\",\"\",VLOOKUP(C416,漢字書き!$A$2:$N$506,6,0))","v":{"$error":"#N/A"}},{"$f":"IF(D416=\"\",\"\",VLOOKUP(D416,漢字書き!$A$2:$N$506,6,0))","v":{"$error":"#N/A"}},{"$f":"IF(E416=\"\",\"\",VLOOKUP(E416,漢字書き!$A$2:$N$506,6,0))","v":{"$error":"#N/A"}},{"$f":"IF(F416=\"\",\"\",VLOOKUP(F416,漢字書き!$A$2:$N$506,6,0))","v":{"$error":"#N/A"}},{"$f":"IF(G416=\"\",\"\",VLOOKUP(G416,漢字書き!$A$2:$N$506,6,0))","v":{"$error":"#N/A"}},{"$f":"IF(H416=\"\",\"\",VLOOKUP(H416,漢字書き!$A$2:$N$506,6,0))","v":{"$error":"#N/A"}},{"$f":"IF(I416=\"\",\"\",VLOOKUP(I416,漢字書き!$A$2:$N$506,6,0))","v":{"$error":"#N/A"}},{"$f":"IF(J416=\"\",\"\",VLOOKUP(J416,漢字書き!$A$2:$N$506,6,0))","v":{"$error":"#N/A"}},{"$f":"IF(K416=\"\",\"\",VLOOKUP(K416,漢字読み!$A$2:$O$506,6,0))","v":{"$error":"#N/A"}},{"$f":"IF(L416=\"\",\"\",VLOOKUP(L416,漢字読み!$A$2:$O$506,6,0))","v":{"$error":"#N/A"}},{"$f":"IF(M416=\"\",\"\",VLOOKUP(M416,漢字読み!$A$2:$O$506,6,0))","v":{"$error":"#N/A"}},{"$f":"IF(N416=\"\",\"\",VLOOKUP(N416,漢字読み!$A$2:$O$506,6,0))","v":{"$error":"#N/A"}},{"$f":"IF(O416=\"\",\"\",VLOOKUP(O416,漢字読み!$A$2:$O$506,6,0))","v":{"$error":"#N/A"}},{"$f":"IF(P416=\"\",\"\",VLOOKUP(P416,漢字読み!$A$2:$O$506,6,0))","v":{"$error":"#N/A"}},{"$f":"IF(Q416=\"\",\"\",VLOOKUP(Q416,漢字読み!$A$2:$O$506,6,0))","v":{"$error":"#N/A"}},{"$f":"IF(R416=\"\",\"\",VLOOKUP(R416,漢字読み!$A$2:$O$506,6,0))","v":{"$error":"#N/A"}},{"$f":"IF(S416=\"\",\"\",VLOOKUP(S416,漢字読み!$A$2:$O$506,6,0))","v":{"$error":"#N/A"}},{"$f":"IF(T416=\"\",\"\",VLOOKUP(T416,漢字読み!$A$2:$O$506,6,0))","v":{"$error":"#N/A"}},null,"級"]
[{"$f":"IF(A$16=\"\",\"\",VLOOKUP(A416,漢字書き!$A$2:$O$506,8,0))","v":{"$error":"#N/A"}},{"$f":"IF(B$16=\"\",\"\",VLOOKUP(B416,漢字書き!$A$2:$O$506,8,0))","v":{"$error":"#N/A"}},{"$f":"IF(C$16=\"\",\"\",VLOOKUP(C416,漢字書き!$A$2:$O$506,8,0))","v":{"$error":"#N/A"}},{"$f":"IF(D$16=\"\",\"\",VLOOKUP(D416,漢字書き!$A$2:$O$506,8,0))","v":{"$error":"#N/A"}},{"$f":"IF(E$16=\"\",\"\",VLOOKUP(E416,漢字書き!$A$2:$O$506,8,0))","v":{"$error":"#N/A"}},{"$f":"IF(F$16=\"\",\"\",VLOOKUP(F416,漢字書き!$A$2:$O$506,8,0))","v":{"$error":"#N/A"}},{"$f":"IF(G$16=\"\",\"\",VLOOKUP(G416,漢字書き!$A$2:$O$506,8,0))","v":{"$error":"#N/A"}},{"$f":"IF(H$16=\"\",\"\",VLOOKUP(H416,漢字書き!$A$2:$O$506,8,0))","v":{"$error":"#N/A"}},{"$f":"IF(I$16=\"\",\"\",VLOOKUP(I416,漢字書き!$A$2:$O$506,8,0))","v":{"$error":"#N/A"}},{"$f":"IF(J$16=\"\",\"\",VLOOKUP(J416,漢字書き!$A$2:$O$506,8,0))","v":{"$error":"#N/A"}},{"$f":"IF(K$16=\"\",\"\",VLOOKUP(K416,漢字読み!$A$2:$O$506,8,0))","v":{"$error":"#N/A"}},{"$f":"IF(L$16=\"\",\"\",VLOOKUP(L416,漢字読み!$A$2:$O$506,8,0))","v":{"$error":"#N/A"}},{"$f":"IF(M$16=\"\",\"\",VLOOKUP(M416,漢字読み!$A$2:$O$506,8,0))","v":{"$error":"#N/A"}},{"$f":"IF(N$16=\"\",\"\",VLOOKUP(N416,漢字読み!$A$2:$O$506,8,0))","v":{"$error":"#N/A"}},{"$f":"IF(O$16=\"\",\"\",VLOOKUP(O416,漢字読み!$A$2:$O$506,8,0))","v":{"$error":"#N/A"}},{"$f":"IF(P$16=\"\",\"\",VLOOKUP(P416,漢字読み!$A$2:$O$506,8,0))","v":{"$error":"#N/A"}},{"$f":"IF(Q$16=\"\",\"\",VLOOKUP(Q416,漢字読み!$A$2:$O$506,8,0))","v":{"$error":"#N/A"}},{"$f":"IF(R$16=\"\",\"\",VLOOKUP(R416,漢字読み!$A$2:$O$506,8,0))","v":{"$error":"#N/A"}},{"$f":"IF(S$16=\"\",\"\",VLOOKUP(S416,漢字読み!$A$2:$O$506,8,0))","v":{"$error":"#N/A"}},{"$f":"IF(T$16=\"\",\"\",VLOOKUP(T416,漢字読み!$A$2:$O$506,8,0))","v":{"$error":"#N/A"}},null,"名前"]
[{"$f":"IF(A416=\"\",\"\",IF(VLOOKUP(A416,漢字書き!$A$2:$N$502,7,0)=0,\"\",VLOOKUP(A416,漢字書き!$A$2:$N$502,7,0)))","v":{"$error":"#N/A"}},{"$f":"IF(B416=\"\",\"\",IF(VLOOKUP(B416,漢字書き!$A$2:$N$502,7,0)=0,\"\",VLOOKUP(B416,漢字書き!$A$2:$N$502,7,0)))","v":{"$error":"#N/A"}},{"$f":"IF(C416=\"\",\"\",IF(VLOOKUP(C416,漢字書き!$A$2:$N$502,7,0)=0,\"\",VLOOKUP(C416,漢字書き!$A$2:$N$502,7,0)))","v":{"$error":"#N/A"}},{"$f":"IF(D416=\"\",\"\",IF(VLOOKUP(D416,漢字書き!$A$2:$N$502,7,0)=0,\"\",VLOOKUP(D416,漢字書き!$A$2:$N$502,7,0)))","v":{"$error":"#N/A"}},{"$f":"IF(E416=\"\",\"\",IF(VLOOKUP(E416,漢字書き!$A$2:$N$502,7,0)=0,\"\",VLOOKUP(E416,漢字書き!$A$2:$N$502,7,0)))","v":{"$error":"#N/A"}},{"$f":"IF(F416=\"\",\"\",IF(VLOOKUP(F416,漢字書き!$A$2:$N$502,7,0)=0,\"\",VLOOKUP(F416,漢字書き!$A$2:$N$502,7,0)))","v":{"$error":"#N/A"}},{"$f":"IF(G416=\"\",\"\",IF(VLOOKUP(G416,漢字書き!$A$2:$N$502,7,0)=0,\"\",VLOOKUP(G416,漢字書き!$A$2:$N$502,7,0)))","v":{"$error":"#N/A"}},{"$f":"IF(H416=\"\",\"\",IF(VLOOKUP(H416,漢字書き!$A$2:$N$502,7,0)=0,\"\",VLOOKUP(H416,漢字書き!$A$2:$N$502,7,0)))","v":{"$error":"#N/A"}},{"$f":"IF(I416=\"\",\"\",IF(VLOOKUP(I416,漢字書き!$A$2:$N$502,7,0)=0,\"\",VLOOKUP(I416,漢字書き!$A$2:$N$502,7,0)))","v":{"$error":"#N/A"}},{"$f":"IF(J416=\"\",\"\",IF(VLOOKUP(J416,漢字書き!$A$2:$N$502,7,0)=0,\"\",VLOOKUP(J416,漢字書き!$A$2:$N$502,7,0)))","v":{"$error":"#N/A"}},{"$f":"IF(K416=\"\",\"\",IF(VLOOKUP(K416,漢字読み!$A$2:$O$502,7,0)=0,\"\",VLOOKUP(K416,漢字読み!$A$2:$O$502,7,0)))","v":{"$error":"#N/A"}},{"$f":"IF(L416=\"\",\"\",IF(VLOOKUP(L416,漢字読み!$A$2:$O$502,7,0)=0,\"\",VLOOKUP(L416,漢字読み!$A$2:$O$502,7,0)))","v":{"$error":"#N/A"}},{"$f":"IF(M416=\"\",\"\",IF(VLOOKUP(M416,漢字読み!$A$2:$O$502,7,0)=0,\"\",VLOOKUP(M416,漢字読み!$A$2:$O$502,7,0)))","v":{"$error":"#N/A"}},{"$f":"IF(N416=\"\",\"\",IF(VLOOKUP(N416,漢字読み!$A$2:$O$502,7,0)=0,\"\",VLOOKUP(N416,漢字読み!$A$2:$O$502,7,0)))","v":{"$error":"#N/A"}},{"$f":"IF(O416=\"\",\"\",IF(VLOOKUP(O416,漢字読み!$A$2:$O$502,7,0)=0,\"\",VLOOKUP(O416,漢字読み!$A$2:$O$502,7,0)))","v":{"$error":"#N/A"}},{"$f":"IF(P416=\"\",\"\",IF(VLOOKUP(P416,漢字読み!$A$2:$O$502,7,0)=0,\"\",VLOOKUP(P416,漢字読み!$A$2:$O$502,7,0)))","v":{"$error":"#N/A"}},{"$f":"IF(Q416=\"\",\"\",IF(VLOOKUP(Q416,漢字読み!$A$2:$O$502,7,0)=0,\"\",VLOOKUP(Q416,漢字読み!$A$2:$O$502,7,0)))","v":{"$error":"#N/A"}},{"$f":"IF(R416=\"\",\"\",IF(VLOOKUP(R416,漢字読み!$A$2:$O$502,7,0)=0,\"\",VLOOKUP(R416,漢字読み!$A$2:$O$502,7,0)))","v":{"$error":"#N/A"}},{"$f":"IF(S416=\"\",\"\",IF(VLOOKUP(S416,漢字読み!$A$2:$O$502,7,0)=0,\"\",VLOOKUP(S416,漢字読み!$A$2:$O$502,7,0)))","v":{"$error":"#N/A"}},{"$f":"IF(T416=\"\",\"\",IF(VLOOKUP(T416,漢字読み!$A$2:$O$502,7,0)=0,\"\",VLOOKUP(T416,漢字読み!$A$2:$O$502,7,0)))","v":{"$error":"#N/A"}},null,null,"和歌山県教育委員会"]

{"sheet":"漢字読み","index":2,"n_rows":224,"n_cols":8,"rows_kept":224,"cut":false,"hidden":false,"merged":[]}
["通し番号","問題番号","漢字","読み","音訓","問題","送り仮名","読み方"]
[1,1,"給","キュウ",1,"［給食］のおかず",null,"きゅうしょく"]
[2,1,"給","キュウ",1,"食べ物を［配給］する","する","はいきゅう"]
[3,2,"挙","キョ",1,"［選挙］を行う",null,"せんきょ"]
[4,2,"挙","キョ",2,"手が［挙］がる","がる","あ"]
[5,2,"挙","キョ",2,"両手を［挙］げる","げる","あ"]
[6,3,"漁","ギョ",1,"［漁業］の町",null,"ぎょぎょう"]
[7,3,"漁","ギョ",1,"今日は［大漁］だ",null,"たいりょう"]
[8,3,"漁","ギョ",1,"［漁］に出る",null,"りょう"]
[9,4,"共","キョウ",1,"［共同］で取り組む",null,"きょうどう"]
[10,4,"共","キョウ",2,"［共］に歌おう",null,"とも"]
[11,5,"協","キョウ",1,"みんなで［協力］する","する","きょうりょく"]
[12,5,"協","キョウ",1,"体育［協会］に入る",null,"きょうかい"]
[13,6,"鏡","キョウ",1,"母の［鏡台］",null,"きょうだい"]
[14,6,"鏡","キョウ",2,"［鏡］を見る",null,"かがみ"]
[15,7,"競","キョウ",1,"百メートル［競走］",null,"きょうそう"]
[16,7,"競","キョウ",2,"力を［競］う","う","きそ"]
[17,8,"極","キョク",1,"［北極］の白クマ",null,"ほっきょく"]
[18,8,"極","キョク",1,"マイナス[極]",null,"きょく"]
[19,9,"訓","クン",1,"ひなん［訓練］",null,"くんれん"]
[20,9,"訓","クン",1,"［訓読］みの漢字","み","くんよ"]
[21,10,"軍","グン",1,"［一軍］の選手になる",null,"いちぐん"]
[22,11,"郡","グン",1,"［郡］と町村",null,"ぐん"]
[23,12,"径","ケイ",1,"円の［半径］",null,"はんけい"]
[24,12,"径","ケイ",1,"［直径］五センチの円",null,"ちょっけい"]
[25,13,"泣","キュウ",2,"声を上げて［泣］く","く","な"]
[26,13,"泣","キュウ",2,"［泣］きっ面にハチ","きっ面","な"]
[27,14,"景","ケイ",1,"すばらしい［風景］",null,"ふうけい"]
[28,14,"景","ケイ",1,"［景品］をもらう",null,"けいひん"]
[29,14,"景","ケイ",2,"［景色］をながめる",null,"けしき"]
[30,15,"芸","ゲイ",1,"［園芸］用品を買う",null,"えんげい"]
[31,15,"芸","ゲイ",1,"［学芸会］でげきをする",null,"がくげいかい"]
[32,16,"欠","ケツ",1,"じゅ業を［欠席］する","する","けっせき"]
[33,16,"欠","ケツ",2,"月が［欠］ける","ける","か"]
[34,17,"結","ケツ",1,"テストの［結果］",null,"けっか"]
[35,17,"結","ケツ",2,"ひもを［結］ぶ","ぶ","むす"]
[36,17,"結","ケツ",1,"列車をれん[結]する","する","けつ"]
[37,18,"建","ケン",1,"ビルの［建］ちく","ちく","けん"]
[38,18,"建","ケン",2,"家を［建］てる","てる","た"]
[39,19,"健","ケン",1,"ほ［健室］の先生",null,"けんしつ"]
[40,19,"健","ケン",1,"[健全]な体","な","けんぜん"]
[41,20,"験","ケン",1,"［体験］を語る",null,"たいけん"]
[42,21,"固","コ",1,"ロープで［固定］する","する","こてい"]
[43,21,"固","コ",2,"土を[固]める","める","かた"]
[44,21,"固","コ",2,"［固］い友情","い","かた"]
[45,22,"功","コウ",1,"［成功］をおさめる",null,"せいこう"]
[46,23,"好","コウ",1,"［好物］のケーキ",null,"こうぶつ"]
[47,23,"好","コウ",2,"犬が［好］き","き","す"]
[48,23,"好","コウ",2,"人に［好］まれる","まれる","この"]
[49,24,"候","コウ",1,"あたたかい［気候］",null,"きこう"]
[50,24,"候","コウ",1,"書記に［立候］ほする","ほ","りっこう"]
[51,25,"沖","チュウ",2,"［沖縄県］産のフルーツ",null,"おきなわけん"]
[52,25,"沖","チュウ",2,"［沖合］漁業",null,"おきあい"]
[53,26,"康","コウ",1,"［健康］な体","な","けんこう"]
[54,27,"崎","サキ",2,"［長崎県］のカステラ",null,"ながさきけん"]
[55,27,"崎","サキ",2,"［宮崎県］のマンゴー",null,"みやざきけん"]
[56,28,"差","サ",1,"ライバルに［差］をつける",null,"さ"]
[57,28,"差","サ",1,"［交差］点をわたる","点","こうさ"]
[58,28,"差","サ",2,"夕日が［差］す","す","さ"]
[59,29,"菜","サイ",1,"［野菜］を育てる",null,"やさい"]
[60,29,"菜","サイ",2,"［菜］の花畑で遊ぶ",null,"な"]
[61,30,"最","サイ",1,"［最高］の気分",null,"さいこう"]
[62,30,"最","サイ",2,"［最］も高い山","も","もっと"]
[63,31,"材","ザイ",1,"［木材］を運ぶ",null,"もくざい"]
[64,32,"昨","サク",1,"［昨日］の天気",null,"さくじつ・きのう"]
[65,32,"昨","サク",1,"［昨年］の夏",null,"さくねん"]
[66,33,"札","サツ",1,"［表札］をかける",null,"ひょうさつ"]
[67,33,"札","サツ",2,"［名札］をつける",null,"なふだ"]
[68,34,"刷","サツ",1,"はがきの［印刷］",null,"いんさつ"]
[69,34,"刷","サツ",2,"紙にもようを［刷］る","る","す"]
[70,35,"香","コウ",2,"お茶の［香］り","り","かお"]
[71,35,"香","コウ",2,"［香川県］の名物",null,"かがわけん"]
[72,35,"香","コウ",2,"みかんの花が［香］る","る","かお"]
[73,36,"察","サツ",1,"ありを［観察］する","する","かんさつ"]
[74,36,"察","サツ",1,"けい［察官］になる",null,"さつかん"]
[75,37,"参","サン",1,"大会に［参加］する","する","さんか"]
[76,37,"参","サン",2,"お宮［参］り","り","まい"]
[77,38,"産","サン",1,"工場で［生産］する","する","せいさん"]
[78,38,"産","サン",1,"さかんな地場[産業]",null,"さんぎょう"]
[79,38,"産","サン",2,"子犬を［産］む","む","う"]
[80,38,"産","サン",2,"卵が［産］まれる","まれる","う"]
[81,39,"散","サン",1,"朝の［散歩］",null,"さんぽ"]
[82,39,"散","サン",2,"サクラが［散］る","る","ち"]
[83,39,"散","サン",2,"部屋を［散］らかす","らかす","ち"]
[84,40,"残","ザン",1,"［無残］なすがた","な","むざん"]
[85,40,"残","ザン",2,"［残］りの絵を仕上げる","り","のこ"]
[86,41,"茨","イバラ",1,"［茨城県］から来た人",null,"いばらきけん"]
[87,42,"氏","シ",1,"［氏名］を書く",null,"しめい"]
[88,42,"氏","シ",1,"[平氏]が栄える",null,"へいし"]
[89,43,"滋","シ",1,"［滋賀県］にある湖",null,"しがけん"]
[90,44,"司","シ",1,"［司会］をする",null,"しかい"]
[91,45,"試","シ",1,"［試合］の結果",null,"しあい"]
[92,45,"試","シ",2,"新しいやり方を［試］みる","みる","こころ"]
[93,45,"試","シ",1,"ケーキを[試作]する","する","しさく"]
[94,46,"児","ジ",1,"［育児］はたいへんだ",null,"いくじ"]
[95,46,"児","ジ",1,"[園児]を見送る",null,"えんじ"]
[96,46,"児","ジ",1,"［児童］画を観る","画","じどう"]
[97,47,"治","チ",1,"かぜが［完治］する","する","かんち"]
[98,47,"治","チ",2,"国を［治］める","める","おさ"]
[99,47,"治","チ",2,"病気を［治］す","す","なお"]
[100,47,"治","チ",2,"きずが［治］る","る","なお"]
[101,48,"辞","ジ",1,"［辞書］をひく",null,"じしょ"]
[102,48,"辞","ジ",1,"[祝辞]をのべる",null,"しゅくじ"]
[103,49,"失","シツ",1,"[失意]のどん底",null,"しつい"]
[104,49,"失","シツ",2,"気を［失］う","う","うしな"]
[105,50,"借","シャク",1,"［借金］をする",null,"しゃっきん"]
[106,50,"借","シャク",2,"本を［借］りる","りる","か"]
[107,51,"種","シュ",1,"大会の［種目］",null,"しゅもく"]
[108,51,"種","シュ",2,"花の［種］をまく",null,"たね"]
[109,52,"周","シュウ",1,"池の［周囲］",null,"しゅうい"]
[110,52,"周","シュウ",2,"家の［周］り","り","まわ"]
[111,53,"祝","シュク",1,"［祝福］を受ける",null,"しゅくふく"]
[112,53,"祝","シュク",2,"進学［祝］いをいただく","い","いわ"]
[113,54,"順","ジュン",1,"［順調］に進む","に","じゅんちょう"]
[114,54,"順","ジュン",1,"［順番］を待つ",null,"じゅんばん"]
[115,55,"初","ショ",1,"［最初］から見る",null,"さいしょ"]
[116,55,"初","ショ",2,"［初］めて聞く話","めて","はじ"]
[117,55,"初","ショ",2,"［初］もうでに行く","もうで","はつ"]
[118,55,"初","ショ",2,"[初雪]がふる",null,"はつゆき"]
[119,55,"初","ショ",2,"夏の[初]め","め","はじ"]
[120,56,"松","ショウ",2,"海岸の［松林］",null,"まつばやし"]
[121,57,"笑","ショウ",2,"[笑]い話を聞く","い話","わら"]
[122,57,"笑","ショウ",2,"子どもの［笑］い声","い声","わら"]
[123,57,"笑","ショウ",2,"にっこりと[笑]う","う","わら"]
[124,58,"唱","ショウ",1,"［合唱］コンクール",null,"がっしょう"]
[125,58,"唱","ショウ",1,"全員で［唱和］する","する","しょうわ"]
[126,58,"唱","ショウ",2,"ねんぶつを［唱］える","える","とな"]
[127,59,"焼","ショウ",2,"日に[焼]ける","ける","や"]
[128,59,"焼","ショウ",2,"［石焼］きいも","き","いしや"]
[129,60,"城","ジョウ",2,"和歌山県のお［城］",null,"しろ"]
[130,60,"城","ジョウ",1,"有名な［城下町］",null,"じょうかまち"]
[131,61,"照","ショウ",1,"部屋の［照明］",null,"しょうめい"]
[132,61,"照","ショウ",2,"［照］り焼きハンバーグ","り焼き","て"]
[133,61,"照","ショウ",2,"人前で［照］れる","れる","て"]
[134,61,"照","ショウ",2,"［日照］りが続く","り","ひで"]
[135,62,"鹿","シカ",2,"［鹿］の角",null,"しか"]
[136,62,"鹿","シカ",1,"［鹿児島県］産の肉","産","かごしまけん"]
[137,63,"臣","ジン",1,"［大臣］になる",null,"だいじん"]
[138,63,"臣","ジン",1,"［家臣］をしたがえる",null,"かしん"]
[139,64,"信","シン",1,"［自信］がつく",null,"じしん"]
[140,64,"信","シン",1,"自分を［信］じる","じる","しん"]
[141,65,"成","セイ",1,"絵が［完成］する","する","かんせい"]
[142,65,"成","セイ",1,"［成果］をおさめる",null,"せいか"]
[143,65,"成","セイ",2,"おそれを［成］す","す","な"]
[144,65,"成","セイ",2,"［成］り上がり者だ","り","な"]
[145,66,"省","セイ",1,"［反省］する","する","はんせい"]
[146,66,"省","ショウ",2,"説明を［省］く","く","はぶ"]
[147,67,"清","セイ",1,"川の［清流］",null,"せいりゅう"]
[148,67,"清","セイ",2,"［清］らかな水","らかな","きよ"]
[149,68,"静","セイ",1,"［静物］画をかく","画","せいぶつ"]
[150,68,"静","セイ",2,"［静］かな音楽","かな","しず"]
[151,69,"席","セキ",1,"かぜで［欠席］する","する","けっせき"]
[152,69,"席","セキ",1,"すぐに［着席］する","する","ちゃくせき"]
[153,70,"積","セキ",1,"長方形の［面積］",null,"めんせき"]
[154,70,"積","セキ",2,"はこを［積］む","む","つ"]
[155,71,"折","セツ",1,"［折角］だが留守だ",null,"せっかく"]
[156,71,"折","セツ",2,"木を［折］る","る","お"]
[157,71,"折","セツ",2,"[折]をみて話す",null,"おり"]
[158,72,"節","セツ",1,"［季節］がかわる",null,"きせつ"]
[159,72,"節","セツ",1,"［節分］の日",null,"せつぶん"]
[160,72,"節","セツ",2,"竹の［節］の部分",null,"ふし"]
[161,73,"説","セツ",1,"作り方を［説明］する","する","せつめい"]
[162,73,"説","セツ",1,"子どもに［説教］する","する","せっきょう"]
[163,73,"説","セツ",1,"［小説］を読む",null,"しょうせつ"]
[164,73,"説","セツ",2,"子どもに教えを［説］く","く","と"]
[165,74,"浅","セン",2,"［浅］い湖","い","あさ"]
[166,75,"戦","セン",1,"［作戦］をたてる",null,"せくせん"]
[167,75,"戦","セン",1,"[決勝戦]に出る",null,"けっしょうせん"]
[168,75,"戦","セン",2,"最後まで［戦］う","う","たたか"]
[169,76,"選","セン",1,"マラソン［選手］",null,"せんしゅ"]
[170,76,"選","セン",1,"委員を［選］ぶ","ぶ","えら"]
[171,77,"然","ゼン",1,"［自然］を守る",null,"しぜん"]
[172,77,"然","ゼン",1,"［天然］のうなぎ",null,"てんねん"]
[173,78,"争","ソウ",1,"［戦争］が起こる",null,"せんそう"]
[174,78,"争","ソウ",2,"［争］いをさける","い","あらそ"]
[175,79,"倉","ソウ",1,"［倉庫］に運ぶ",null,"そうこ"]
[176,79,"倉","ソウ",2,"高ゆか式の［倉］",null,"くら"]
[177,80,"巣","ソウ",2,"[巣立]ちの時がくる","ち","すだ"]
[178,80,"巣","ソウ",2,"つばめの［巣］",null,"す"]
[179,80,"巣","ソウ",2,"［巣箱］を作る",null,"すばこ"]
[180,81,"束","ソク",1,"［二束］三文のねだん",null,"にそく"]
[181,81,"束","ソク",2,"大きな［花束］",null,"はなたば"]
[182,82,"側","ソク",1,"物事の［側面］",null,"そくめん"]
[183,82,"側","ソク",1,"［側道］を走る",null,"そくどう"]
[184,82,"側","ソク",2,"［右側］に立つ",null,"みぎがわ"]
[185,83,"続","ゾク",1,"物語の［続］へん","へん","ぞく"]
[186,83,"続","ゾク",2,"けいこを［続］ける","ける","つづ"]
[187,83,"続","ゾク",2,"道が［続］く","く","つづ"]
[188,84,"卒","ソツ",1,"小学校の［卒業］式","式","そつぎょう"]
[189,84,"卒","ソツ",1,"［卒園］する","する","そつえん"]
[190,85,"孫","ソン",1,"［子孫］を残す",null,"しそん"]
[191,85,"孫","ソン",2,"［孫］と遊ぶ",null,"まご"]
[192,86,"帯","タイ",1,"ほう［帯］をまく",null,"たい"]
[193,86,"帯","タイ",1,"けい[帯]電話",null,"たい"]
[194,86,"帯","タイ",2,"［帯］を結ぶ",null,"おび"]
[195,86,"帯","タイ",2,"電気を［帯］びる","びる","お"]
[196,87,"隊","タイ",1,"［軍隊］に入る",null,"ぐんたい"]
[197,88,"達","タツ",1,"［友達］と遊ぶ",null,"ともだち"]
[198,88,"達","タツ",1,"字が［上達］する","する","じょうたつ"]
[199,88,"達","タツ",1,"新聞を［配達］する","する","はいたつ"]
[200,89,"単","タン",1,"［単］じゅんな考え","じゅん","たん"]
[201,90,"置","チ",1,"けいびを［配置］する","する","はいち"]
[202,90,"置","チ",2,"かばんを［置］く","く","お"]
[203,91,"仲","チュウ",2,"新しい［仲間］",null,"なかま"]
[204,91,"仲","チュウ",2,"［仲］を取り持つ",null,"なか"]
[205,92,"佐","サ",1,"［佐賀県］の祭り",null,"さがけん"]
[206,92,"佐","サ",1,"リーダーのほ［佐］",null,"さ"]
[207,93,"兆","チョウ",1,"ふん火の[前兆]",null,"ぜんちょう"]
[208,93,"兆","チョウ",1,"［兆候］が見える",null,"ちょうこう"]
[209,93,"兆","チョウ",1,"[一兆]円の予算","円","いっちょう"]
[210,94,"縄","ジョウ",2,"［縄］とびをする","とび","なわ"]
[211,95,"低","テイ",1,"［低音］の声",null,"ていおん"]
[212,95,"低","テイ",2,"［低］い木につかまる","い","ひく"]
[213,96,"底","テイ",1,"［海底］トンネル",null,"かいてい"]
[214,96,"底","テイ",2,"あなの［底］",null,"そこ"]
[215,97,"群","グン",1,"関東の［群馬県］",null,"ぐんまけん"]
[216,97,"群","グン",2,"えさに［群］がる","がる","むら"]
[217,97,"群","グン",2,"魚の［群］れ","れ","む"]
[218,98,"的","テキ",1,"［家庭的］なふん囲気","な","かていてき"]
[219,98,"的","テキ",2,"［的当］てをして遊ぶ","て","まとあ"]
[220,99,"埼","サキ",2,"［埼玉県］から来る",null,"さいたまけん"]
[221,100,"井","セイ",2,"［福井県］に行く",null,"ふくいけん"]
[222,100,"井","セイ",2,"［井］の中のかわず",null,"い"]
[223,100,"井","セイ",2,"［井戸］の水",null,"いど"]

{"sheet":"漢字書き","index":3,"n_rows":437,"n_cols":8,"rows_kept":437,"cut":false,"hidden":false,"merged":[]}
["通し番号","問題番号","漢字","読み","音訓","問題","送り仮名","漢字"]
[1,1,"給","キュウ",1,"おいしい［キュウショク］",null,"給食"]
[2,2,"挙","キョ",1,"［イッキョ］にふえる","に","一挙"]
[3,2,"挙","キョ",2,"例を［ア］げて話す","げて","挙"]
[4,3,"漁","ギョ",1,"［ギョセン］に乗る",null,"漁船"]
[5,3,"漁","ギョ",1,"魚の［リョウ］に出る",null,"漁"]
[6,4,"共","キョウ",1,"［キョウドウ］で使用する",null,"共同"]
[7,4,"共","キョウ",1,"相手に［キョウカン］する","する","共感"]
[8,4,"共","キョウ",2,"友人と［トモ］に行く","に","共"]
[9,5,"協","キョウ",1,"［キョウリョク］する","する","協力"]
[10,6,"鏡","キョウ",1,"［サンメンキョウ］で写す",null,"三面鏡"]
[11,6,"鏡","キョウ",2,"［カガミ］をみがく",null,"鏡"]
[12,6,"鏡","キョウ",2,"母の［テカガミ］",null,"手鏡"]
[13,7,"競","キョウ",1,"パン食い［キョウソウ］",null,"競争"]
[14,7,"競","キョウ",2,"わざを［キソ］う","う","競"]
[15,8,"極","キョク",1,"［ナンキョク］の氷",null,"南極"]
[16,8,"極","キョク",1,"［キョク］たんな意見","たんな","極"]
[17,8,"極","キョク",1,"プラス[キョク]",null,"極"]
[18,9,"訓","クン",1,"［クンヨ］みの漢字","み","訓読"]
[19,9,"訓","クン",1,"ひなん［クンレン］",null,"訓練"]
[20,10,"軍","グン",1,"［イチグン］の選手になる",null,"一軍"]
[21,10,"軍","グン",1,"いさましい[グンカ]",null,"軍歌"]
[22,11,"郡","グン",1,"和歌山県有田［グン］",null,"郡"]
[23,12,"径","ケイ",1,"円の［チョッケイ］",null,"直径"]
[24,13,"泣","キュウ",2,"［ナ］き顔を見せない","き顔","泣"]
[25,13,"泣","キュウ",2,"赤ちゃんが［ナ］き止む","き止む","泣"]
[26,14,"景","ケイ",1,"［ケイヒン］をもらう",null,"景品"]
[27,14,"景","ケイ",1,"海の［ケシキ］",null,"景色"]
[28,15,"芸","ゲイ",1,"［ゲイ］は身を助ける",null,"芸"]
[29,16,"欠","ケツ",1,"かぜで［ケッセキ］する","する","欠席"]
[30,16,"欠","ケツ",2,"生活に［カ］くことができない","く","欠"]
[31,16,"欠","ケツ",2,"月のみち［カ］け","け","欠"]
[32,17,"結","ケツ",1,"テストの［ケッカ］",null,"結果"]
[33,17,"結","ケツ",2,"ひもを［ムス］ぶ","ぶ","結"]
[34,17,"結","ケツ",1,"[ケツ]ろんをのべる","ろん","結"]
[35,18,"建","ケン",1,"［ケンコク］記ねんの日",null,"建国"]
[36,18,"建","ケン",2,"家を［タ］てる","てる","建"]
[37,19,"健","ケン",1,"［ケンゼン］な心","な","健全"]
[38,19,"健","ケン",1,"ほ［ケンシツ］の先生",null,"健室"]
[39,20,"験","ケン",1,"おそろしい[タイケン]",null,"体験"]
[40,20,"験","ケン",1,"理科の［ジッケン］",null,"実験"]
[41,21,"固","コ",1,"［キョウコ］な思い","な","強固"]
[42,21,"固","コ",1,"ねじで［コテイ］する","する","固定"]
[43,21,"固","コ",1,"土を［カタ］める","める","固"]
[44,21,"固","コ",2,"［カタ］くしばる","く","固"]
[45,22,"功","コウ",1,"［セイコウ］をおさめる",null,"成功"]
[46,23,"好","コウ",1,"大［コウブツ］のカレー",null,"好物"]
[47,23,"好","コウ",2,"［ス］きな歌を聞く","きな","好"]
[48,23,"好","コウ",2,"［コノ］みの洋服","み","好"]
[49,24,"候","コウ",1,"［キコウ］がよい",null,"気候"]
[50,24,"候","コウ",1,"［テンコウ］が変わる",null,"天候"]
[51,25,"沖","チュウ",1,"［オキナワケン］のシーサー",null,"沖縄県"]
[52,26,"康","コウ",1,"［ケンコウ］にすごす",null,"健康"]
[53,27,"崎","サキ",2,"［ミヤザキケン］に行く",null,"宮崎県"]
[54,27,"崎","サキ",2,"［ナガサキケン］から来た人",null,"長崎県"]
[55,28,"差","サ",1,"［コウサ］点をわたる","点","交差"]
[56,28,"差","サ",2,"日が［サ］してきた","して","差"]
[57,29,"菜","サイ",1,"［ヤサイ］を作る",null,"野菜"]
[58,29,"菜","サイ",2,"［ナ］の花",null,"菜"]
[59,30,"最","サイ",1,"［サイコウ］にうれしい","に","最高"]
[60,30,"最","サイ",2,"［モット］も高い山","も","最"]
[61,31,"材","ザイ",1,"［モクザイ］を運ぶ",null,"木材"]
[62,32,"昨","サク",1,"［キノウ］の出来事",null,"昨日"]
[63,32,"昨","サク",1,"［サクヤ］は雨だった",null,"昨夜"]
[64,33,"札","サツ",1,"千円［サツ］を使う",null,"札"]
[65,33,"札","サツ",1,"お［フダ］をはる",null,"札"]
[66,34,"刷","サツ",1,"紙に［インサツ］する","する","印刷"]
[67,34,"刷","サツ",2,"はがきに絵を［ス］る","る","刷"]
[68,35,"香","コウ",2,"［カガワケン］のうどん",null,"香川県"]
[69,35,"香","コウ",2,"花が［カオ］る","る","香"]
[70,35,"香","コウ",2,"［カオ］りのよい部屋","り","香"]
[71,36,"察","サツ",1,"星の［カンサツ］",null,"観察"]
[72,37,"参","サン",1,"お宮に［マイ］る","る","参"]
[73,37,"参","サン",1,"イベントに［サンカ］する","する","参加"]
[74,38,"産","サン",1,"［サンギョウ］が栄える",null,"産業"]
[75,38,"産","サン",1,"野菜の［サンチ］",null,"産地"]
[76,38,"産","サン",1,"ウミガメの［サン］らん",null,"産"]
[77,38,"産","サン",1,"和歌山[サン]の米",null,"産"]
[78,39,"散","サン",1,"公園を［サンポ］する","する","散歩"]
[79,39,"散","サン",2,"花が［チ］る","る","散"]
[80,40,"残","ザン",2,"［ザンショ］お見まいを送る",null,"残暑"]
[81,40,"残","ザン",2,"足あとが［ノコ］る","る","残"]
[82,41,"茨","イバラ",1,"［イバラキケン］に行く",null,"茨城県"]
[83,42,"氏","シ",1,"［シメイ］を記入する",null,"氏名"]
[84,43,"滋","ジ",1,"［シガケン］の名物",null,"滋賀県"]
[85,43,"司","シ",1,"図書館の[シショ]",null,"司書"]
[86,44,"司","シ",1,"学級会の［シカイ］をする",null,"司会"]
[87,45,"試","シ",1,"野球の［シアイ］",null,"試合"]
[88,45,"試","シ",2,"実験を［ココロ］みる","みる","試"]
[89,45,"試","シ",1,"入学[シケン]を受ける",null,"試験"]
[90,46,"児","ジ",1,"小学校の［ジドウ］",null,"児童"]
[91,46,"児","ジ",1,"[イクジ]休かをとる","休か","育児"]
[92,47,"治","ジ",1,"地方［ジチ］体の仕事","体","自治"]
[93,47,"治","ジ",1,"けがが［カンチ］する","する","完治"]
[94,47,"治","ジ",2,"国を［オサ］める","める","治"]
[95,47,"治","ジ",2,"いたみが［オサ］まる","まる","治"]
[96,47,"治","ジ",2,"病気を［ナオ］す","す","治"]
[97,47,"治","ジ",2,"病気が［ナオ］る","る","治"]
[98,48,"辞","ジ",1,"［ジショ］を買う",null,"辞書"]
[99,48,"辞","ジ",1,"[シュクジ]をのべる",null,"食事"]
[100,49,"失","シツ",1,"［シツレイ］します",null,"失礼"]
[101,49,"失","シツ",2,"［ウシナ］われた自然","われた","失"]
[102,50,"借","シャク",1,"［シャッキン］をする",null,"借金"]
[103,50,"借","シャク",2,"ノートを［カ］りる","りる","借"]
[104,51,"種","シュ",1,"ヒマワリの［シュシ］",null,"旬"]
[105,51,"種","シュ",2,"［タネ］をまく",null,"種"]
[106,52,"周","シュウ",1,"［シュウイ］の長さ",null,"周囲"]
[107,52,"周","シュウ",2,"［マワ］りの人","り","周"]
[108,53,"祝","シュク",1,"［シュクショウ］会をする","会","祝勝"]
[109,53,"祝","シュク",2,"たん生日を［イワ］う","う","祝"]
[110,54,"順","ジュン",1,"［ジュンバン］を待つ",null,"順番"]
[111,54,"順","ジュン",1,"計画が［ジュンチョウ］に進む","に","順調"]
[112,55,"初","ショ",1,"［サイショ］が大切だ",null,"最初"]
[113,55,"初","ショ",2,"［ハジ］めてのけい験","めて","初"]
[114,55,"初","ショ",2,"［ハツユキ］がふる",null,"初雪"]
[115,55,"初","ショ",1,"[ショシン]に返る",null,"初心"]
[116,55,"初","ショ",2,"[ハツ]もうでに行く","もうで","初"]
[117,55,"初","ショ",2,"夏の［ハジ］め","め","初"]
[118,56,"松","ショウ",1,"[ショウチクバイ]",null,"松竹梅"]
[119,56,"松","ショウ",2,"［マツバヤシ］の中",null,"松林"]
[120,57,"笑","ショウ",2,"子どもの［ワラ］い声","い声","笑"]
[121,57,"笑","ショウ",2,"にっこりと[ワラ]う","う","笑"]
[122,58,"唱","ショウ",1,"こん声［ガッショウ］",null,"合唱"]
[123,58,"唱","ショウ",2,"平和を［トナ］える","える","唱"]
[124,59,"焼","ショウ",2,"[ヤ]きめしを食べる","きめし","焼"]
[125,59,"焼","ショウ",2,"きれいな［ユウヤ］け","け","夕焼"]
[126,59,"焼","ショウ",2,"さつまいもを［ヤ］く","く","焼"]
[127,61,"照","ショウ",1,"［ニッショウ］時間",null,"日照"]
[128,61,"照","ショウ",1,"［ショウメイ］をつける",null,"照明"]
[129,61,"照","ショウ",2,"ぶりの［テ］り焼き","り焼き","照"]
[130,61,"照","ショウ",2,"日に［テ］らされる","らされる","照"]
[131,61,"照","ショウ",2,"ほめられると［テ］れる","れる","照"]
[132,62,"鹿","シカ",1,"[カゴシマ]県の名物","県","鹿児島"]
[133,63,"臣","シン",1,"文部科学［ダイジン］",null,"大臣"]
[134,64,"信","シン",1,"人を［シン］じる","じる","信"]
[135,64,"信","シン",1,"［ジシン］をもってやる",null,"自信"]
[136,65,"成","セイ",1,"ビルが［カンセイ］する","する","完成"]
[137,65,"成","セイ",2,"漢字の［ナ］り立ち","り立ち","成"]
[138,65,"成","セイ",2,"最後まで［ナ］しとげる","し","成"]
[139,66,"省","セイ",1,"しっかり［ハンセイ］する","する","反省"]
[140,66,"省","セイ",1,"以下、［ショウ］りゃく","りゃく","省"]
[141,66,"省","セイ",1,"[ショウ]エネルギー","エネルギー","省"]
[142,66,"省","セイ",2,"いらない部分を［ハブ］く","く","省"]
[143,67,"清","セイ",1,"字を［セイショ］する","する","清書"]
[144,67,"清","セイ",2,"［キヨ］らかな流れ","らかな","清"]
[145,67,"清","セイ",2,"心を［キヨ］める","める","清"]
[146,68,"静","セイ",1,"［セイデンキ］が起こる",null,"静電気"]
[147,68,"静","セイ",1,"さわぎが［シズ］まる","まる","静"]
[148,68,"静","セイ",2,"［シズ］かな教室","かな","静"]
[149,69,"席","セキ",1,"会ぎに[シュッセキ]する","する","出席"]
[150,69,"席","セキ",1,"［セキ］にすわる",null,"席"]
[151,70,"積","セキ",1,"［タイセキ］を計る",null,"体積"]
[152,70,"積","セキ",1,"図形の［メンセキ］",null,"面積"]
[153,70,"積","セキ",2,"雪が［ツ］もる","もる","積"]
[154,71,"折","セツ",1,"指をこっ［セツ］する","する","折"]
[155,71,"折","セツ",2,"［オ］り紙をおる",null,"折"]
[156,71,"折","セツ",2,"［オ］り目をつける","り目","折"]
[157,72,"節","セツ",1,"［セツブン］に豆をまく",null,"節分"]
[158,72,"節","セツ",1,"よい［キセツ］",null,"季節"]
[159,72,"節","セツ",1,"電気を［セツヤク］する","する","節約"]
[160,72,"節","セツ",2,"人生の［フシメ］",null,"節目"]
[161,73,"説","セツ",1,"くわしく［セツメイ］する","する","説明"]
[162,73,"説","セツ",2,"教えを皆に［ト］く","く","説"]
[163,74,"浅","セン",2,"［アサ］い川","い","浅"]
[164,74,"浅","セン",2,"日が［アサ］い","い","浅"]
[165,75,"戦","セン",1,"［サクセン］を立てる",null,"作戦"]
[166,75,"戦","セン",1,"決勝[セン]に出る",null,"戦"]
[167,75,"戦","セン",2,"てきと［タタカ］う","う","戦"]
[168,76,"選","セン",1,"あこがれの［センシュ］",null,"選手"]
[169,76,"選","セン",2,"プレゼントを［エラ］ぶ","ぶ","選"]
[170,76,"選","セン",2,"委員に［エラ］ばれる","ばれる","選"]
[171,77,"然","ゼン",1,"［シゼン］を大切にする",null,"自然"]
[172,77,"然","ゼン",1,"［テンネン］記ねん物",null,"天然"]
[173,78,"争","ソウ",1,"［センソウ］がおこる",null,"戦争"]
[174,78,"争","ソウ",2,"一位を［アラソ］う","う","争"]
[175,79,"倉","ソウ",1,"［ソウコ］にかたづける",null,"倉庫"]
[176,79,"倉","ソウ",2,"［クラ］にしまいこむ",null,"倉"]
[177,80,"巣","ソウ",2,"ハチの［ス］を見つける",null,"巣"]
[178,81,"束","ソク",1,"やく［ソク］を果たす",null,"束"]
[179,81,"束","ソク",2,"花を［タバ］ねる","ねる","束"]
[180,82,"側","ソク",1,"円柱の［ソクメン］",null,"側面"]
[181,82,"側","ソク",2,"［ミギガワ］を通る",null,"右側"]
[182,83,"続","ゾク",2,"けいこを[ツヅ]ける","ける","続"]
[183,84,"卒","ソツ",1,"［ソツギョウシキ］に出る",null,"卒業式"]
[184,85,"孫","ソン",1,"［シソン］を残す",null,"子孫"]
[185,85,"孫","ソン",2,"かわいい［マゴ］",null,"孫"]
[186,86,"帯","タイ",1,"ねっ［タイ］地方",null,"帯"]
[187,86,"帯","タイ",2,"［オビ］を結ぶ",null,"帯"]
[188,87,"隊","タイ",1,"［オンガクタイ］が来る",null,"音楽隊"]
[189,88,"達","タツ",1,"［トモダチ］とわかれる",null,"友達"]
[190,88,"達","タツ",1,"目ひょうを［タッセイ］する","する","達成"]
[191,89,"単","タン",1,"［タンゴ］を覚える",null,"単語"]
[192,90,"置","チ",1,"［イチ］を決める",null,"位置"]
[193,90,"置","チ",2,"ぬいぐるみを［オ］く","く","置"]
[194,91,"仲","チュウ",2,"新しい［ナカマ］",null,"仲間"]
[195,92,"佐","サ",1,"[サガケン]の地図",null,"佐賀県"]
[196,93,"兆","チョウ",1,"よい［チョウコウ］が見える",null,"兆候"]
[197,93,"兆","チョウ",1,"一[チョウ]円の予算","円","兆"]
[198,94,"縄","ジョウ",2,"[ナワ]とびをする","とび","縄"]
[199,94,"縄","ジョウ",2,"[オキナワケン]から来る",null,"沖縄県"]
[200,95,"低","テイ",1,"［テイオン］の声",null,"低音"]
[201,95,"低","テイ",2,"頭を［ヒク］くする","く","低"]
[202,96,"底","テイ",1,"［カイテイ］火山",null,"海底"]
[203,96,"底","テイ",2,"海の［ソコ］",null,"底"]
[204,97,"群","グン",1,"[グンマケン]の名物",null,"群馬県"]
[205,97,"群","グン",1,"アリの[タイグン]",null,"大群"]
[206,98,"的","テキ",1,"［セッキョクテキ］に行動する","に","積極的"]
[207,98,"的","テキ",2,"［マト］に当てる",null,"的"]
[208,99,"埼","サイ",2,"[サイタマケン]に行く",null,"埼玉県"]
[209,100,"井","セイ",2,"[フクイケン]の名物",null,"福井県"]
[210,100,"井","セイ",2,"[イド]をほる",null,"井戸"]
[211,100,"井","セイ",2,"[イ]の中のかわず",null,"井"]
[]
[null,null,null,null,null,null,"　"]
[null,null,null,null,null,null,"　"]
[null,null,null,null,null,null,"　"]
[null,null,null,null,null,null,"　"]
[null,null,null,null,null,null,"　"]
[null,null,null,null,null,null,"　"]
[null,null,null,null,null,null,"　"]
[null,null,null,null,null,null,"　"]
[null,null,null,null,null,null,"　"]
[null,null,null,null,null,null,"　"]
[null,null,null,null,null,null,"　"]
[null,null,null,null,null,null,"　"]
[null,null,null,null,null,null,"　"]
[null,null,null,null,null,null,"　"]
[null,null,null,null,null,null,"　"]
[null,null,null,null,null,null,"　"]
[null,null,null,null,null,null,"　"]
[null,null,null,null,null,null,"　"]
[null,null,null,null,null,null,"　"]
[null,null,null,null,null,null,"　"]
[null,null,null,null,null,null,"　"]
[null,null,null,null,null,null,"　"]
[null,null,null,null,null,null,"　"]
[null,null,null,null,null,null,"　"]
[null,null,null,null,null,null,"　"]
[null,null,null,null,null,null,"　"]
[null,null,null,null,null,null,"　"]
[null,null,null,null,null,null,"　"]
[null,null,null,null,null,null,"　"]
[null,null,null,null,null,null,"　"]
[null,null,null,null,null,null,"　"]
[null,null,null,null,null,null,"　"]
[null,null,null,null,null,null,"　"]
[null,null,null,null,null,null,"　"]
[null,null,null,null,null,null,"　"]
[null,null,null,null,null,null,"　"]
[null,null,null,null,null,null,"　"]
[null,null,null,null,null,null,"　"]
[null,null,null,null,null,null,"　"]
[null,null,null,null,null,null,"　"]
[null,null,null,null,null,null,"　"]
[null,null,null,null,null,null,"　"]
[null,null,null,null,null,null,"　"]
[null,null,null,null,null,null,"　"]
[null,null,null,null,null,null,"　"]
[null,null,null,null,null,null,"　"]
[null,null,null,null,null,null,"　"]
[null,null,null,null,null,null,"　"]
[null,null,null,null,null,null,"　"]
[null,null,null,null,null,null,"　"]
[null,null,null,null,null,null,"　"]
[null,null,null,null,null,null,"　"]
[null,null,null,null,null,null,"　"]
[null,null,null,null,null,null,"　"]
[null,null,null,null,null,null,"　"]
[null,null,null,null,null,null,"　"]
[null,null,null,null,null,null,"　"]
[null,null,null,null,null,null,"　"]
[null,null,null,null,null,null,"　"]
[null,null,null,null,null,null,"　"]
[null,null,null,null,null,null,"　"]
[null,null,null,null,null,null,"　"]
[null,null,null,null,null,null,"　"]
[null,null,null,null,null,null,"　"]
[null,null,null,null,null,null,"　"]
[null,null,null,null,null,null,"　"]
[null,null,null,null,null,null,"　"]
[null,null,null,null,null,null,"　"]
[null,null,null,null,null,null,"　"]
[null,null,null,null,null,null,"　"]
[null,null,null,null,null,null,"　"]
[null,null,null,null,null,null,"　"]
[null,null,null,null,null,null,"　"]
[null,null,null,null,null,null,"　"]
[null,null,null,null,null,null,"　"]
[null,null,null,null,null,null,"　"]
[null,null,null,null,null,null,"　"]
[null,null,null,null,null,null,"　"]
[null,null,null,null,null,null,"　"]
[null,null,null,null,null,null,"　"]
[null,null,null,null,null,null,"　"]
[null,null,null,null,null,null,"　"]
[null,null,null,null,null,null,"　"]
[null,null,null,null,null,null,"　"]
[null,null,null,null,null,null,"　"]
[null,null,null,null,null,null,"　"]
[null,null,null,null,null,null,"　"]
[null,null,null,null,null,null,"　"]
[null,null,null,null,null,null,"　"]
[null,null,null,null,null,null,"　"]
[null,null,null,null,null,null,"　"]
[null,null,null,null,null,null,"　"]
[null,null,null,null,null,null,"　"]
[null,null,null,null,null,null,"　"]
[null,null,null,null,null,null,"　"]
[null,null,null,null,null,null,"　"]
[null,null,null,null,null,null,"　"]
[null,null,null,null,null,null,"　"]
[null,null,null,null,null,null,"　"]
[null,null,null,null,null,null,"　"]
[null,null,null,null,null,null,"　"]
[null,null,null,null,null,null,"　"]
[null,null,null,null,null,null,"　"]
[null,null,null,null,null,null,"　"]
[null,null,null,null,null,null,"　"]
[null,null,null,null,null,null,"　"]
[null,null,null,null,null,null,"　"]
[null,null,null,null,null,null,"　"]
[null,null,null,null,null,null,"　"]
[null,null,null,null,null,null,"　"]
[null,null,null,null,null,null,"　"]
[null,null,null,null,null,null,"　"]
[null,null,null,null,null,null,"　"]
[null,null,null,null,null,null,"　"]
[null,null,null,null,null,null,"　"]
[null,null,null,null,null,null,"　"]
[null,null,null,null,null,null,"　"]
[null,null,null,null,null,null,"　"]
[null,null,null,null,null,null,"　"]
[null,null,null,null,null,null,"　"]
[null,null,null,null,null,null,"　"]
[null,null,null,null,null,null,"　"]
[null,null,null,null,null,null,"　"]
[null,null,null,null,null,null,"　"]
[null,null,null,null,null,null,"　"]
[null,null,null,null,null,null,"　"]
[null,null,null,null,null,null,"　"]
[null,null,null,null,null,null,"　"]
[null,null,null,null,null,null,"　"]
[null,null,null,null,null,null,"　"]
[null,null,null,null,null,null,"　"]
[null,null,null,null,null,null,"　"]
[null,null,null,null,null,null,"　"]
[null,null,null,null,null,null,"　"]
[null,null,null,null,null,null,"　"]
[null,null,null,null,null,null,"　"]
[null,null,null,null,null,null,"　"]
[null,null,null,null,null,null,"　"]
[null,null,null,null,null,null,"　"]
[null,null,null,null,null,null,"　"]
[null,null,null,null,null,null,"　"]
[null,null,null,null,null,null,"　"]
[null,null,null,null,null,null,"　"]
[null,null,null,null,null,null,"　"]
[null,null,null,null,null,null,"　"]
[null,null,null,null,null,null,"　"]
[null,null,null,null,null,null,"　"]
[null,null,null,null,null,null,"　"]
[null,null,null,null,null,null,"　"]
[null,null,null,null,null,null,"　"]
[null,null,null,null,null,null,"　"]
[null,null,null,null,null,null,"　"]
[null,null,null,null,null,null,"　"]
[null,null,null,null,null,null,"　"]
[null,null,null,null,null,null,"　"]
[null,null,null,null,null,null,"　"]
[null,null,null,null,null,null,"　"]
[null,null,null,null,null,null,"　"]
[null,null,null,null,null,null,"　"]
[null,null,null,null,null,null,"　"]
[null,null,null,null,null,null,"　"]
[null,null,null,null,null,null,"　"]
[null,null,null,null,null,null,"　"]
[null,null,null,null,null,null,"　"]
[null,null,null,null,null,null,"　"]
[null,null,null,null,null,null,"　"]
[null,null,null,null,null,null,"　"]
[null,null,null,null,null,null,"　"]
[null,null,null,null,null,null,"　"]
[null,null,null,null,null,null,"　"]
[null,null,null,null,null,null,"　"]
[null,null,null,null,null,null,"　"]
[null,null,null,null,null,null,"　"]
[null,null,null,null,null,null,"　"]
[null,null,null,null,null,null,"　"]
[null,null,null,null,null,null,"　"]
[null,null,null,null,null,null,"　"]
[null,null,null,null,null,null,"　"]
[null,null,null,null,null,null,"　"]
[null,null,null,null,null,null,"　"]
[null,null,null,null,null,null,"　"]
[null,null,null,null,null,null,"　"]
[null,null,null,null,null,null,"　"]
[null,null,null,null,null,null,"　"]
[null,null,null,null,null,null,"　"]
[null,null,null,null,null,null,"　"]
[null,null,null,null,null,null,"　"]
[null,null,null,null,null,null,"　"]
[null,null,null,null,null,null,"　"]
[null,null,null,null,null,null,"　"]
[null,null,null,null,null,null,"　"]
[null,null,null,null,null,null,"　"]
[null,null,null,null,null,null,"　"]
[null,null,null,null,null,null,"　"]
[null,null,null,null,null,null,"　"]
[null,null,null,null,null,null,"　"]
[null,null,null,null,null,null,"　"]
[null,null,null,null,null,null,"　"]
[null,null,null,null,null,null,"　"]
[null,null,null,null,null,null,"　"]
[null,null,null,null,null,null,"　"]
[null,null,null,null,null,null,"　"]
[null,null,null,null,null,null,"　"]
[null,null,null,null,null,null,"　"]
[null,null,null,null,null,null,"　"]
[null,null,null,null,null,null,"　"]
[null,null,null,null,null,null,"　"]
[null,null,null,null,null,null,"　"]
[null,null,null,null,null,null,"　"]
[null,null,null,null,null,null,"　"]
[null,null,null,null,null,null,"　"]
[null,null,null,null,null,null,"　"]
[null,null,null,null,null,null,"　"]
[null,null,null,null,null,null,"　"]
[null,null,null,null,null,null,"　"]
[null,null,null,null,null,null,"　"]
[null,null,null,null,null,null,"　"]
[null,null,null,null,null,null,"　"]
[null,null,null,null,null,null,"　"]
[null,null,null,null,null,null,"　"]
[null,null,null,null,null,null,"　"]
[null,null,null,null,null,null,"　"]
[null,null,null,null,null,null,"　"]
[null,null,null,null,null,null,"　"]

{"sheet":"関数（読み）","index":4,"n_rows":223,"n_cols":3,"rows_kept":223,"cut":false,"hidden":false,"merged":[]}
["番号","ランダム","順位"]
[1,{"$f":"RAND()","v":0.46645610805328896},{"$f":"RANK(B2,$B$2:$B$223)","v":128}]
[2,{"$f":"RAND()","v":0.84606490619566821},{"$f":"RANK(B3,$B$2:$B$223)","v":38}]
[3,0.86773390870318579,33]
[4,0.35842744411564176,141]
[5,0.13602790799143105,191]
[6,0.35264987443372864,146]
[7,0.70645577719015218,76]
[8,0.24191022917112104,173]
[9,0.90963000477852429,26]
[10,0.63086993477619546,91]
[11,0.33297361708521367,150]
[12,0.57237933984564915,104]
[13,0.56712786472127108,105]
[14,0.67791811598339213,80]
[15,0.80179746368383109,47]
[16,0.24218609185494111,172]
[17,0.52466125670683306,113]
[18,0.64430293492857804,89]
[19,0.33799380401971812,149]
[20,0.45995003339874407,131]
[21,0.35626354623646916,143]
[22,0.60978209527749139,95]
[23,0.16656895040704867,186]
[24,0.93811934261666152,17]
[25,0.2094985305509065,179]
[26,0.18927563439626516,183]
[27,0.59814588656469725,97]
[28,0.25833303097897276,170]
[29,0.32407026423262242,152]
[30,0.27149515955997738,169]
[31,0.53301882860223615,110]
[32,7.4463880457889542E-2,204]
[33,0.60126069669129822,96]
[34,0.85083062012117161,36]
[35,0.7582646990232037,65]
[36,0.5367723934599915,109]
[37,7.0195058365448038E-2,206]
[38,0.20096990629851486,181]
[39,0.8466767643138654,37]
[40,0.16669970065314088,185]
[41,0.76907200123699915,62]
[42,0.78125686261250005,59]
[43,0.48926787532335525,121]
[44,0.6543225769006803,85]
[45,0.3541787357096855,145]
[46,0.34865886621374387,147]
[47,1.6543198231475431E-2,219]
[48,0.86920320708156928,32]
[49,6.7767511756082199E-2,211]
[50,0.96317566370386698,12]
[51,0.75999566690328135,64]
[52,6.8400504796110262E-2,209]
[53,0.7556978409495746,67]
[54,0.1776020952256725,184]
[55,0.97290697298038642,10]
[56,0.98746689579967606,3]
[57,0.28580629037975824,162]
[58,0.71750958341886673,74]
[59,0.4795520173579717,125]
[60,0.64534091786495607,87]
[61,0.68952004061150818,78]
[62,0.31928238979487045,154]
[63,0.31522266135547072,156]
[64,0.79182382087660808,55]
[65,0.48735836841872027,122]
[66,{"$f":"RAND()","v":0.97852839642693135},{"$f":"RANK(B67,$B$2:$B$223)","v":7}]
[67,8.2602326131356985E-2,200]
[68,0.36909927468147652,139]
[69,0.50330725779806595,119]
[70,0.58631803719609532,100]
[71,0.75765921534943104,66]
[72,3.4714311746424698E-2,217]
[73,0.71941222561267881,73]
[74,0.19054901013421821,182]
[75,0.10604599725692176,195]
[76,0.74013325303681377,71]
[77,0.88315583341101522,29]
[78,0.96740705762890078,11]
[79,0.98159660683470829,5]
[80,0.43816685373869557,132]
[81,0.51428505000779956,116]
[82,0.48132238028558549,123]
[83,0.56657904074926613,106]
[84,0.61137863139462367,94]
[85,0.98150889641338412,6]
[86,0.94063008660031999,16]
[87,0.7225876386190444,72]
[88,0.97388604802997392,9]
[89,0.3045336903385254,159]
[90,0.93173343980792822,19]
[91,0.46704163083515571,127]
[92,0.59266774756847929,98]
[93,0.11538924897310621,193]
[94,0.34445269628947628,148]
[95,0.83433516407959574,40]
[96,0.98704628463748056,4]
[97,3.5534504075817264E-2,216]
[98,0.94660650674826929,15]
[99,0.93058007901888329,20]
[100,8.1717291955826998E-2,202]
[101,0.97682953657077454,8]
[102,0.95973896620450705,13]
[103,0.70370752130934788,77]
[104,0.85258018005240033,35]
[105,0.90586115368662767,27]
[106,0.51653263441231834,114]
[107,0.22917702524103367,175]
[108,0.92362487926891412,22]
[109,0.61953671740080873,92]
[110,0.87690092023729405,31]
[111,0.76940486878786396,61]
[112,0.35424064277453271,144]
[113,8.3661636088718794E-2,199]
[114,0.46462276616217035,129]
[115,2.5125396431666669E-3,222]
[116,0.50418667675680251,118]
[117,0.42695785589899471,134]
[118,0.91423265108002894,25]
[119,0.7958302741208092,53]
[120,0.65977072292720806,83]
[121,0.49859843879089527,120]
[122,0.78493432895584547,56]
[123,0.67020900904790082,82]
[124,0.25232897725594861,171]
[125,0.80823960128054229,45]
[126,0.35801590703014052,142]
[127,0.38876088152445265,137]
[128,0.33226747603731832,151]
[129,0.65880095380113879,84]
[130,{"$f":"RAND()","v":0.32265146949846435},{"$f":"RANK(B131,$B$2:$B$223)","v":153}]
[131,0.28553446340250155,163]
[132,0.22857235091530481,177]
[133,0.81069720938988221,44]
[134,0.71035291397759581,75]
[135,0.61436282544059229,93]
[136,9.2639977951066821E-2,198]
[137,0.77855584239454412,60]
[138,0.78471238053780268,57]
[139,6.8378851355830328E-2,210]
[140,0.79745703192687367,51]
[141,0.94903400491796319,14]
[142,0.55556614880535493,107]
[143,7.1283462181229718E-2,205]
[144,0.58683908240264104,99]
[145,0.78331307957026552,58]
[146,0.31767508369840658,155]
[147,0.13624681951078366,190]
[148,0.64477152549415173,88]
[149,0.20572900666263083,180]
[150,0.28452263371629816,164]
[151,0.16405869753797797,187]
[152,0.75453685084640443,68]
[153,0.31278341381320474,157]
[154,0.39446450907145747,136]
[155,7.7200184414150108E-2,203]
[156,0.22654218165643925,178]
[157,0.99204142347225832,2]
[158,4.399134310114583E-2,215]
[159,0.28099734671109722,166]
[160,0.10079697781232466,196]
[161,0.3011068965835495,160]
[162,0.30901091781596102,158]
[163,0.68665710544991609,79]
[164,0.22873157399444666,176]
[165,0.82220261349612311,41]
[166,1.620942036233286E-2,220]
[167,0.36427082165508329,140]
[168,8.1946744020529261E-2,201]
[169,0.63768117269856883,90]
[170,0.79808300161616197,50]
[171,0.79872045424112514,49]
[172,0.52831735784331924,112]
[173,0.40966477279452052,135]
[174,0.51447206506728849,115]
[175,0.46309534820581866,130]
[176,0.16077319478482388,188]
[177,0.58550103283378674,102]
[178,0.67189531855333062,81]
[179,0.53135132332807111,111]
[180,0.11770502269750693,192]
[181,0.79666614897638366,52]
[182,0.27830288559166605,167]
[183,0.42888127623003702,133]
[184,0.24185906307381988,174]
[185,0.37095289931417841,138]
[186,3.3698655022747048E-2,218]
[187,0.83898281054031565,39]
[188,5.6944584873244275E-2,212]
[189,6.970312304478643E-2,207]
[190,0.82053795458807566,42]
[191,0.79523866623853257,54]
[192,0.74804186382483029,70]
[193,0.99631194774095944,1]
[194,{"$f":"RAND()","v":0.81774180334626778},{"$f":"RANK(B195,$B$2:$B$223)","v":43}]
[195,0.93200058959337873,18]
[196,0.29514773257386673,161]
[197,0.85351573463850805,34]
[198,0.92213490585632862,24]
[199,9.510880099326946E-2,197]
[200,0.751699319382645,69]
[201,0.4805703770163019,124]
[202,0.11005865786144564,194]
[203,0.92325433787866473,23]
[204,0.54923472193598111,108]
[205,0.87701991810560964,30]
[206,5.0101525080633258E-2,214]
[207,0.89172770180139371,28]
[208,0.50780984514665239,117]
[209,0.58590435536370145,101]
[210,0.28277247515878812,165]
[211,0.57578550477230261,103]
[212,0.80772691428960253,46]
[213,0.92811777566902209,21]
[214,0.27336834919925945,168]
[215,6.8733812678631323E-2,208]
[216,6.8497218309653274E-3,221]
[217,0.76341712505861936,63]
[218,0.46916982994970624,126]
[219,0.15139347492046251,189]
[220,0.65109731604935561,86]
[221,5.5197270965241074E-2,213]
[222,0.79958002364990755,48]

{"sheet":"関数（書き）","index":5,"n_rows":212,"n_cols":3,"rows_kept":212,"cut":false,"hidden":false,"merged":[]}
["番号","ランダム","順位"]
[1,{"$f":"RAND()","v":0.62303025287438762},{"$f":"RANK(B2,$B$2:$B$212)","v":79}]
[2,{"$f":"RAND()","v":0.5168336180662515},{"$f":"RANK(B3,$B$2:$B$212)","v":101}]
[3,9.749831507182416E-2,188]
[4,0.41613450051271772,121]
[5,0.81240170306745152,34]
[6,0.50843459196139118,105]
[7,0.40769205838816014,123]
[8,0.17732339520158025,171]
[9,0.98188109850553607,1]
[10,0.18888341962322908,166]
[11,0.27910571157224684,150]
[12,0.58066281795188013,91]
[13,0.76755097011560725,44]
[14,0.86369091820172339,25]
[15,0.49040917362702874,109]
[16,0.13462778127072805,179]
[17,0.69286650672734751,58]
[18,0.1243696678873033,180]
[19,0.53329973300181144,100]
[20,0.65364124497831289,70]
[21,0.15132657584126208,172]
[22,0.70438888844513781,56]
[23,0.98002699492115908,2]
[24,0.19169590738959486,165]
[25,0.61582179811872018,80]
[26,9.9567038233110972E-2,185]
[27,0.54833528409848242,97]
[28,0.27347560149347716,151]
[29,0.65052665813393062,71]
[30,0.78098032984531329,42]
[31,0.82981196153465797,30]
[32,0.62648778892895851,76]
[33,0.33345496944578035,136]
[34,0.56011965993840351,93]
[35,0.25517691561333999,154]
[36,0.593174461891537,85]
[37,0.62813507752263309,75]
[38,0.32632301124845409,138]
[39,9.2712443080522622E-2,191]
[40,0.50346750034623822,107]
[41,0.687118641591561,59]
[42,0.26943420475840696,153]
[43,0.53478515437923346,99]
[44,0.30454591065743919,142]
[45,0.79223140562033656,39]
[46,0.62505326807330874,78]
[47,0.64632964721074526,73]
[48,0.47126713548407417,112]
[49,0.63490439387596687,74]
[50,0.68171488686304138,62]
[51,0.3600844338536624,132]
[52,0.89370067055648106,20]
[53,5.4299127887184828E-2,199]
[54,0.38100708412608775,128]
[55,0.44010169622063189,118]
[56,0.14968418585546006,173]
[57,0.40167887549571013,124]
[58,0.903743579939568,18]
[59,6.0015767110930818E-2,197]
[60,0.55213184234605861,96]
[61,0.66062892061740497,68]
[62,0.34465140659424975,135]
[63,0.76701897511838368,45]
[64,0.93418876358317116,14]
[65,0.94816755452440815,11]
[66,{"$f":"RAND()","v":0.34686490800677261},{"$f":"RANK(B67,$B$2:$B$212)","v":134}]
[67,0.32124884446393109,140]
[68,2.1482245128276456E-2,204]
[69,0.26963154777871934,152]
[70,0.18780700632186131,167]
[71,0.22702060126006351,159]
[72,8.9149441793476503E-2,192]
[73,8.4976912101182078E-2,193]
[74,0.85331122098683465,27]
[75,0.94488975786571083,12]
[76,0.65556277793731577,69]
[77,0.85551803331622878,26]
[78,7.8785832457540561E-2,194]
[79,0.57204289259482999,92]
[80,0.74295522361080724,48]
[81,0.51213900840222426,104]
[82,0.81967310397001869,32]
[83,6.5137486363558983E-2,195]
[84,0.64952598301236564,72]
[85,0.36862969749062646,130]
[86,0.14235849402834022,177]
[87,0.74892784464284523,47]
[88,0.8034743328304923,36]
[89,0.82471214153919359,31]
[90,0.68698600682677324,60]
[91,0.21971203476327916,161]
[92,0.32334578860089647,139]
[93,0.67789227540339492,64]
[94,0.8037668122713677,35]
[95,0.43167846517765096,120]
[96,0.55473955475725689,94]
[97,0.30245735839991217,143]
[98,0.72366053946126763,51]
[99,2.0723866970412841E-2,206]
[100,0.58539509270009193,89]
[101,0.72599611115938389,50]
[102,0.79869574133399446,38]
[103,2.1438006095856887E-2,205]
[104,0.2064190149460926,163]
[105,5.4823658070319858E-2,198]
[106,0.2380675224293789,158]
[107,0.58638270366298506,88]
[108,1.8443501071702117E-2,207]
[109,0.89651385826868202,19]
[110,0.2986319851780691,144]
[111,0.37147271895124545,129]
[112,4.8709737610090786E-2,200]
[113,0.33266662332968711,137]
[114,0.2915761077266501,148]
[115,0.17909974507324644,170]
[116,0.14447955418689007,175]
[117,0.29330519313525993,147]
[118,0.81485032207808739,33]
[119,0.43559041908726137,119]
[120,0.54609185273372118,98]
[121,0.96748515693031045,4]
[122,0.9607665003660939,6]
[123,0.93751246392923138,13]
[124,0.60214476332638944,82]
[125,9.5366803854234905E-2,190]
[126,0.45815740362063795,115]
[127,0.55260934310403187,95]
[128,6.5002167897271201E-2,196]
[129,0.34890096146106242,133]
[130,{"$f":"RAND()","v":0.95306640821330579},{"$f":"RANK(B131,$B$2:$B$212)","v":9}]
[131,0.513343070320324,103]
[132,0.84303586039507106,29]
[133,0.71278549897900845,52]
[134,0.10697864370397658,184]
[135,0.199227105209416,164]
[136,0.11027526052640824,183]
[137,0.84810404203973477,28]
[138,0.75117571009215689,46]
[139,0.6976340623443098,57]
[140,0.29598583528946654,146]
[141,0.38332616208684123,127]
[142,0.62644222964529306,77]
[143,0.77755489511827025,43]
[144,9.5064280350621866E-3,209]
[145,1.2132518294579397E-2,208]
[146,0.86677097261101443,24]
[147,9.9511054693111167E-2,186]
[148,0.24104760512694035,157]
[149,0.92000538782616437,16]
[150,0.30795896162700864,141]
[151,0.25252921058147604,156]
[152,3.5437999392046171E-3,211]
[153,0.58742474722725069,87]
[154,0.80092086037712884,37]
[155,0.59887517376267052,83]
[156,0.41124840705883037,122]
[157,0.36233956523349353,131]
[158,0.78613752321190744,40]
[159,0.9255036306302219,15]
[160,0.46855521521894583,113]
[161,2.999916481688758E-2,201]
[162,0.39521116468900874,125]
[163,0.44067473425902326,117]
[164,0.1161612102135231,182]
[165,0.17964140399829243,169]
[166,2.7754947609224256E-2,202]
[167,0.70625108203547238,53]
[168,0.74283564075058084,49]
[169,0.48009243263125645,111]
[170,0.95494240489622906,7]
[171,0.61017550901312112,81]
[172,0.13837379005067119,178]
[173,0.67615275013924714,65]
[174,0.8791363680449531,22]
[175,2.3180966312111195E-2,203]
[176,0.14278520292156582,176]
[177,0.91395855130973791,17]
[178,0.97439845567999694,3]
[179,0.95211722287618639,10]
[180,0.78266994053276717,41]
[181,0.6809709762459446,63]
[182,0.46053640300793219,114]
[183,0.21639236756077962,162]
[184,0.70505585283543704,55]
[185,0.88246585335289374,21]
[186,0.70515241729088596,54]
[187,0.498289629833508,108]
[188,4.6730626352339266E-3,210]
[189,0.86872031651404003,23]
[190,0.3856275116004948,126]
[191,0.5069915835977733,106]
[192,0.59464420016880093,84]
[193,0.66246870092811816,67]
[194,{"$f":"RAND()","v":9.568452535739902E-2},{"$f":"RANK(B195,$B$2:$B$212)","v":189}]
[195,0.22505906402262277,160]
[196,0.44986931644764361,116]
[197,0.14593695096487691,174]
[198,0.49010808811299011,110]
[199,0.51410354135631775,102]
[200,0.12037854237020706,181]
[201,0.66803663385493306,66]
[202,0.6840138532435478,61]
[203,0.28913598357574355,149]
[204,0.29634883957373181,145]
[205,0.58887014401375515,86]
[206,0.95388069191692326,8]
[207,0.96143517036563375,5]
[208,0.25401364913535585,155]
[209,9.8816005124092499E-2,187]
[210,0.1868001989697754,168]
[211,0.58127009699339627,90]