{"text_format":"1","workbook":"xlsx","n_sheets":6,"sheets":["試験問題（関数）","網羅問題（関数） ","漢字読み","漢字書き","関数（読み）","関数（書き）"],"not_rendered":{"charts":0,"images":0,"macros":1,"external_links":0,"defined_names":6,"comments":1,"pivot_tables":0},"unopened":[],"bounds":{"document_bytes":16777216,"sheet_cells":100000,"rows_first":2000,"rows_last":500,"rows_between":2000,"halvings":0,"cell_chars":16384,"cell_head_chars":4096},"cells_cut":0,"cells_raw":0,"read":"whole","date_system":"1900"}

{"sheet":"試験問題（関数）","index":0,"n_rows":20,"n_cols":23,"rows_kept":20,"cut":false,"hidden":false,"merged":[[8,21,9,21],[1,20,4,20],[3,21,4,21],[6,20,9,20],[1,22,3,22],[6,22,8,22],[11,20,14,20],[11,22,13,22],[13,21,14,21],[16,20,19,20],[16,22,18,22],[18,21,19,21]]}
[{"$f":"'関数（書き）'!$C$2","v":179},{"$f":"'関数（書き）'!$C$3","v":20},{"$f":"'関数（書き）'!$C$4","v":130},{"$f":"'関数（書き）'!$C$5","v":64},{"$f":"'関数（書き）'!$C$6","v":89},{"$f":"'関数（書き）'!$C$7","v":151},{"$f":"'関数（書き）'!$C$8","v":193},{"$f":"'関数（書き）'!$C$9","v":43},{"$f":"'関数（書き）'!$C$10","v":93},{"$f":"'関数（書き）'!$C$11","v":19},{"$f":"'関数（読み）'!$C$2","v":158},{"$f":"'関数（読み）'!$C$3","v":5},{"$f":"'関数（読み）'!$C$4","v":87},{"$f":"'関数（読み）'!$C$5","v":185},{"$f":"'関数（読み）'!$C$6","v":65},{"$f":"'関数（読み）'!$C$7","v":78},{"$f":"'関数（読み）'!$C$8","v":42},{"$f":"'関数（読み）'!$C$9","v":30},{"$f":"'関数（読み）'!$C$10","v":37},{"$f":"'関数（読み）'!$C$11","v":173}]
["⑳","⑲","⑱","⑰","⑯","⑮","⑭","⑬","⑫","⑪","⑩","⑨","⑧","⑦","⑥","⑤","④","③","②","①","次の［　　　　］の部分の漢字には読みがなをひらがなで書き、カタカナは漢字に直しなさい。",11,"「漢字の博士検定試験」練習問題　"]
[{"$f":"IF(A1=\"\",\"\",VLOOKUP(A1,漢字書き!$A$2:$N$506,6,0))","v":"［ハ］てしなくつづく"},{"$f":"IF(B1=\"\",\"\",VLOOKUP(B1,漢字書き!$A$2:$N$506,6,0))","v":"［シンパイ］をかける"},{"$f":"IF(C1=\"\",\"\",VLOOKUP(C1,漢字書き!$A$2:$N$506,6,0))","v":"よごれを［オ］とす"},{"$f":"IF(D1=\"\",\"\",VLOOKUP(D1,漢字書き!$A$2:$N$506,6,0))","v":"［ショウブ］がつかない"},{"$f":"IF(E1=\"\",\"\",VLOOKUP(E1,漢字書き!$A$2:$N$506,6,0))","v":"牛を［ハナ］す"},{"$f":"IF(F1=\"\",\"\",VLOOKUP(F1,漢字書き!$A$2:$N$506,6,0))","v":"[ワショク]をこのむ"},{"$f":"IF(G1=\"\",\"\",VLOOKUP(G1,漢字書き!$A$2:$N$506,6,0))","v":"［ガイロ］じゅの道"},{"$f":"IF(H1=\"\",\"\",VLOOKUP(H1,漢字書き!$A$2:$N$506,6,0))","v":"［ヒガン］のゆう勝"},{"$f":"IF(I1=\"\",\"\",VLOOKUP(I1,漢字書き!$A$2:$N$506,6,0))","v":"［アジ］のこい食べ物"},{"$f":"IF(J1=\"\",\"\",VLOOKUP(J1,漢字書き!$A$2:$N$506,6,0))","v":"新聞を［ハイタツ］する"},{"$f":"IF(K1=\"\",\"\",VLOOKUP(K1,漢字読み!$A$2:$O$506,6,0))","v":"［印］をつける"},{"$f":"IF(L1=\"\",\"\",VLOOKUP(L1,漢字読み!$A$2:$O$506,6,0))","v":"［登山］列車に乗る"},{"$f":"IF(M1=\"\",\"\",VLOOKUP(M1,漢字読み!$A$2:$O$506,6,0))","v":"［命］の重さ"},{"$f":"IF(N1=\"\",\"\",VLOOKUP(N1,漢字読み!$A$2:$O$506,6,0))","v":"かけ算を［覚］える"},{"$f":"IF(O1=\"\",\"\",VLOOKUP(O1,漢字読み!$A$2:$O$506,6,0))","v":"［七福神］をまつる"},{"$f":"IF(P1=\"\",\"\",VLOOKUP(P1,漢字読み!$A$2:$O$506,6,0))","v":"［勉強］がすきだ"},{"$f":"IF(Q1=\"\",\"\",VLOOKUP(Q1,漢字読み!$A$2:$O$506,6,0))","v":"［鼻］がつまる"},{"$f":"IF(R1=\"\",\"\",VLOOKUP(R1,漢字読み!$A$2:$O$506,6,0))","v":"むねを［反］らす"},{"$f":"IF(S1=\"\",\"\",VLOOKUP(S1,漢字読み!$A$2:$O$506,6,0))","v":"［悲鳴］がきこえる"},{"$f":"IF(T1=\"\",\"\",VLOOKUP(T1,漢字読み!$A$2:$O$506,6,0))","v":"［発芽］げん米を食べる"},null,"級"]
[null,null,null,null,null,null,null,null,null,null,null,null,null,null,null,null,null,null,null,null,null,"名前"]
[{"$f":"IF(A1=\"\",\"\",IF(VLOOKUP(A1,漢字書き!$A$2:$N$502,7,0)=0,\"\",VLOOKUP(A1,漢字書き!$A$2:$N$502,7,0)))","v":"て"},{"$f":"IF(B1=\"\",\"\",IF(VLOOKUP(B1,漢字書き!$A$2:$N$502,7,0)=0,\"\",VLOOKUP(B1,漢字書き!$A$2:$N$502,7,0)))","v":""},{"$f":"IF(C1=\"\",\"\",IF(VLOOKUP(C1,漢字書き!$A$2:$N$502,7,0)=0,\"\",VLOOKUP(C1,漢字書き!$A$2:$N$502,7,0)))","v":"とす"},{"$f":"IF(D1=\"\",\"\",IF(VLOOKUP(D1,漢字書き!$A$2:$N$502,7,0)=0,\"\",VLOOKUP(D1,漢字書き!$A$2:$N$502,7,0)))","v":""},{"$f":"IF(E1=\"\",\"\",IF(VLOOKUP(E1,漢字書き!$A$2:$N$502,7,0)=0,\"\",VLOOKUP(E1,漢字書き!$A$2:$N$502,7,0)))","v":"す"},{"$f":"IF(F1=\"\",\"\",IF(VLOOKUP(F1,漢字書き!$A$2:$N$502,7,0)=0,\"\",VLOOKUP(F1,漢字書き!$A$2:$N$502,7,0)))","v":""},{"$f":"IF(G1=\"\",\"\",IF(VLOOKUP(G1,漢字書き!$A$2:$N$502,7,0)=0,\"\",VLOOKUP(G1,漢字書き!$A$2:$N$502,7,0)))","v":"じゅ"},{"$f":"IF(H1=\"\",\"\",IF(VLOOKUP(H1,漢字書き!$A$2:$N$502,7,0)=0,\"\",VLOOKUP(H1,漢字書き!$A$2:$N$502,7,0)))","v":""},{"$f":"IF(I1=\"\",\"\",IF(VLOOKUP(I1,漢字書き!$A$2:$N$502,7,0)=0,\"\",VLOOKUP(I1,漢字書き!$A$2:$N$502,7,0)))","v":""},{"$f":"IF(J1=\"\",\"\",IF(VLOOKUP(J1,漢字書き!$A$2:$N$502,7,0)=0,\"\",VLOOKUP(J1,漢字書き!$A$2:$N$502,7,0)))","v":"する"},{"$f":"IF(K1=\"\",\"\",IF(VLOOKUP(K1,漢字読み!$A$2:$O$502,7,0)=0,\"\",VLOOKUP(K1,漢字読み!$A$2:$O$502,7,0)))","v":""},{"$f":"IF(L1=\"\",\"\",IF(VLOOKUP(L1,漢字読み!$A$2:$O$502,7,0)=0,\"\",VLOOKUP(L1,漢字読み!$A$2:$O$502,7,0)))","v":""},{"$f":"IF(M1=\"\",\"\",IF(VLOOKUP(M1,漢字読み!$A$2:$O$502,7,0)=0,\"\",VLOOKUP(M1,漢字読み!$A$2:$O$502,7,0)))","v":""},{"$f":"IF(N1=\"\",\"\",IF(VLOOKUP(N1,漢字読み!$A$2:$O$502,7,0)=0,\"\",VLOOKUP(N1,漢字読み!$A$2:$O$502,7,0)))","v":"える"},{"$f":"IF(O1=\"\",\"\",IF(VLOOKUP(O1,漢字読み!$A$2:$O$502,7,0)=0,\"\",VLOOKUP(O1,漢字読み!$A$2:$O$502,7,0)))","v":""},{"$f":"IF(P1=\"\",\"\",IF(VLOOKUP(P1,漢字読み!$A$2:$O$502,7,0)=0,\"\",VLOOKUP(P1,漢字読み!$A$2:$O$502,7,0)))","v":""},{"$f":"IF(Q1=\"\",\"\",IF(VLOOKUP(Q1,漢字読み!$A$2:$O$502,7,0)=0,\"\",VLOOKUP(Q1,漢字読み!$A$2:$O$502,7,0)))","v":""},{"$f":"IF(R1=\"\",\"\",IF(VLOOKUP(R1,漢字読み!$A$2:$O$502,7,0)=0,\"\",VLOOKUP(R1,漢字読み!$A$2:$O$502,7,0)))","v":"らす"},{"$f":"IF(S1=\"\",\"\",IF(VLOOKUP(S1,漢字読み!$A$2:$O$502,7,0)=0,\"\",VLOOKUP(S1,漢字読み!$A$2:$O$502,7,0)))","v":""},{"$f":"IF(T1=\"\",\"\",IF(VLOOKUP(T1,漢字読み!$A$2:$O$502,7,0)=0,\"\",VLOOKUP(T1,漢字読み!$A$2:$O$502,7,0)))","v":""},null,null,"和歌山県教育委員会"]
[{"$f":"'関数（書き）'!$C$12","v":164},{"$f":"'関数（書き）'!$C$13","v":26},{"$f":"'関数（書き）'!$C$14","v":140},{"$f":"'関数（書き）'!$C$15","v":213},{"$f":"'関数（書き）'!$C$16","v":14},{"$f":"'関数（書き）'!$C$17","v":32},{"$f":"'関数（書き）'!$C$18","v":212},{"$f":"'関数（書き）'!$C$19","v":156},{"$f":"'関数（書き）'!$C$20","v":116},{"$f":"'関数（書き）'!$C$21","v":12},{"$f":"'関数（読み）'!$C$12","v":27},{"$f":"'関数（読み）'!$C$13","v":165},{"$f":"'関数（読み）'!$C$14","v":149},{"$f":"'関数（読み）'!$C$15","v":199},{"$f":"'関数（読み）'!$C$16","v":22},{"$f":"'関数（読み）'!$C$17","v":10},{"$f":"'関数（読み）'!$C$18","v":193},{"$f":"'関数（読み）'!$C$19","v":106},{"$f":"'関数（読み）'!$C$20","v":61},{"$f":"'関数（読み）'!$C$21","v":49}]
["⑳","⑲","⑱","⑰","⑯","⑮","⑭","⑬","⑫","⑪","⑩","⑨","⑧","⑦","⑥","⑤","④","③","②","①","次の［　　　　］の部分の漢字には読みがなをひらがなで書き、カタカナは漢字に直しなさい。",11,"「漢字の博士検定試験」練習問題　"]
[{"$f":"IF(A6=\"\",\"\",VLOOKUP(A6,漢字書き!$A$2:$N$506,6,0))","v":"［フクオカケン］に住む"},{"$f":"IF(B6=\"\",\"\",VLOOKUP(B6,漢字書き!$A$2:$N$506,6,0))","v":"［タハタ］をたがやす"},{"$f":"IF(C6=\"\",\"\",VLOOKUP(C6,漢字書き!$A$2:$N$506,6,0))","v":"［ミドリ］があざやかだ"},{"$f":"IF(D6=\"\",\"\",VLOOKUP(D6,漢字書き!$A$2:$N$506,6,0))","v":"［ネンガ］はがきを書く"},{"$f":"IF(E6=\"\",\"\",VLOOKUP(E6,漢字書き!$A$2:$N$506,6,0))","v":"［ドウ］ようを歌う"},{"$f":"IF(F6=\"\",\"\",VLOOKUP(F6,漢字書き!$A$2:$N$506,6,0))","v":"体を［ソ］らす"},{"$f":"IF(G6=\"\",\"\",VLOOKUP(G6,漢字書き!$A$2:$N$506,6,0))","v":"日本には［シキ］がある"},{"$f":"IF(H6=\"\",\"\",VLOOKUP(H6,漢字書き!$A$2:$N$506,6,0))","v":"みんなで［アン］を出す"},{"$f":"IF(I6=\"\",\"\",VLOOKUP(I6,漢字書き!$A$2:$N$506,6,0))","v":"十年後を［ヨゲン］する"},{"$f":"IF(J6=\"\",\"\",VLOOKUP(J6,漢字書き!$A$2:$N$506,6,0))","v":"気持ちを［ウゴ］かす"},{"$f":"IF(K6=\"\",\"\",VLOOKUP(K6,漢字読み!$A$2:$O$506,6,0))","v":"元気に声を［発］する"},{"$f":"IF(L6=\"\",\"\",VLOOKUP(L6,漢字読み!$A$2:$O$506,6,0))","v":"スープに塩を［加］える"},{"$f":"IF(M6=\"\",\"\",VLOOKUP(M6,漢字読み!$A$2:$O$506,6,0))","v":"［案外］むずかしい"},{"$f":"IF(N6=\"\",\"\",VLOOKUP(N6,漢字読み!$A$2:$O$506,6,0))","v":"春夏秋冬の［季］せつ"},{"$f":"IF(O6=\"\",\"\",VLOOKUP(O6,漢字読み!$A$2:$O$506,6,0))","v":"［倍速］でさい生する"},{"$f":"IF(P6=\"\",\"\",VLOOKUP(P6,漢字読み!$A$2:$O$506,6,0))","v":"すばやい［動］き"},{"$f":"IF(Q6=\"\",\"\",VLOOKUP(Q6,漢字読み!$A$2:$O$506,6,0))","v":"［関］わりをさける"},{"$f":"IF(R6=\"\",\"\",VLOOKUP(R6,漢字読み!$A$2:$O$506,6,0))","v":"タバコは［有害］だ"},{"$f":"IF(S6=\"\",\"\",VLOOKUP(S6,漢字読み!$A$2:$O$506,6,0))","v":"［全部］食べる"},{"$f":"IF(T6=\"\",\"\",VLOOKUP(T6,漢字読み!$A$2:$O$506,6,0))","v":"うらと［表］をたしかめる"},null,"級"]
[null,null,null,null,null,null,null,null,null,null,null,null,null,null,null,null,null,null,null,null,null,"名前"]
[{"$f":"IF(A6=\"\",\"\",IF(VLOOKUP(A6,漢字書き!$A$2:$N$502,7,0)=0,\"\",(VLOOKUP(A6,漢字書き!$A$2:$N$502,7,0))))","v":""},{"$f":"IF(B6=\"\",\"\",IF(VLOOKUP(B6,漢字書き!$A$2:$N$502,7,0)=0,\"\",(VLOOKUP(B6,漢字書き!$A$2:$N$502,7,0))))","v":""},{"$f":"IF(C6=\"\",\"\",IF(VLOOKUP(C6,漢字書き!$A$2:$N$502,7,0)=0,\"\",(VLOOKUP(C6,漢字書き!$A$2:$N$502,7,0))))","v":""},{"$f":"IF(D6=\"\",\"\",IF(VLOOKUP(D6,漢字書き!$A$2:$N$502,7,0)=0,\"\",VLOOKUP(D6,漢字書き!$A$2:$N$502,7,0)))","v":"はがき"},{"$f":"IF(E6=\"\",\"\",IF(VLOOKUP(E6,漢字書き!$A$2:$N$502,7,0)=0,\"\",(VLOOKUP(E6,漢字書き!$A$2:$N$502,7,0))))","v":"よう"},{"$f":"IF(F6=\"\",\"\",IF(VLOOKUP(F6,漢字書き!$A$2:$N$502,7,0)=0,\"\",(VLOOKUP(F6,漢字書き!$A$2:$N$502,7,0))))","v":"らす"},{"$f":"IF(G6=\"\",\"\",IF(VLOOKUP(G6,漢字書き!$A$2:$N$502,7,0)=0,\"\",VLOOKUP(G6,漢字書き!$A$2:$N$502,7,0)))","v":""},{"$f":"IF(H6=\"\",\"\",IF(VLOOKUP(H6,漢字書き!$A$2:$N$502,7,0)=0,\"\",VLOOKUP(H6,漢字書き!$A$2:$N$502,7,0)))","v":""},{"$f":"IF(I6=\"\",\"\",IF(VLOOKUP(I6,漢字書き!$A$2:$N$502,7,0)=0,\"\",VLOOKUP(I6,漢字書き!$A$2:$N$502,7,0)))","v":"する"},{"$f":"IF(J6=\"\",\"\",IF(VLOOKUP(J6,漢字書き!$A$2:$N$502,7,0)=0,\"\",VLOOKUP(J6,漢字書き!$A$2:$N$502,7,0)))","v":"かす"},{"$f":"IF(K6=\"\",\"\",IF(VLOOKUP(K6,漢字読み!$A$2:$O$502,7,0)=0,\"\",VLOOKUP(K6,漢字読み!$A$2:$O$502,7,0)))","v":"する"},{"$f":"IF(L6=\"\",\"\",IF(VLOOKUP(L6,漢字読み!$A$2:$O$502,7,0)=0,\"\",VLOOKUP(L6,漢字読み!$A$2:$O$502,7,0)))","v":"える"},{"$f":"IF(M6=\"\",\"\",IF(VLOOKUP(M6,漢字読み!$A$2:$O$502,7,0)=0,\"\",VLOOKUP(M6,漢字読み!$A$2:$O$502,7,0)))","v":""},{"$f":"IF(N6=\"\",\"\",IF(VLOOKUP(N6,漢字読み!$A$2:$O$502,7,0)=0,\"\",VLOOKUP(N6,漢字読み!$A$2:$O$502,7,0)))","v":"せつ"},{"$f":"IF(O6=\"\",\"\",IF(VLOOKUP(O6,漢字読み!$A$2:$O$502,7,0)=0,\"\",VLOOKUP(O6,漢字読み!$A$2:$O$502,7,0)))","v":""},{"$f":"IF(P6=\"\",\"\",IF(VLOOKUP(P6,漢字読み!$A$2:$O$502,7,0)=0,\"\",VLOOKUP(P6,漢字読み!$A$2:$O$502,7,0)))","v":"き"},{"$f":"IF(Q6=\"\",\"\",IF(VLOOKUP(Q6,漢字読み!$A$2:$O$502,7,0)=0,\"\",VLOOKUP(Q6,漢字読み!$A$2:$O$502,7,0)))","v":"わり"},{"$f":"IF(R6=\"\",\"\",IF(VLOOKUP(R6,漢字読み!$A$2:$O$502,7,0)=0,\"\",VLOOKUP(R6,漢字読み!$A$2:$O$502,7,0)))","v":"だ"},{"$f":"IF(S6=\"\",\"\",IF(VLOOKUP(S6,漢字読み!$A$2:$O$502,7,0)=0,\"\",VLOOKUP(S6,漢字読み!$A$2:$O$502,7,0)))","v":""},{"$f":"IF(T6=\"\",\"\",IF(VLOOKUP(T6,漢字読み!$A$2:$O$502,7,0)=0,\"\",VLOOKUP(T6,漢字読み!$A$2:$O$502,7,0)))","v":""},null,null,"和歌山県教育委員会"]
[{"$f":"'関数（書き）'!$C$2","v":179},{"$f":"'関数（書き）'!$C$3","v":20},{"$f":"'関数（書き）'!$C$4","v":130},{"$f":"'関数（書き）'!$C$5","v":64},{"$f":"'関数（書き）'!$C$6","v":89},{"$f":"'関数（書き）'!$C$7","v":151},{"$f":"'関数（書き）'!$C$8","v":193},{"$f":"'関数（書き）'!$C$9","v":43},{"$f":"'関数（書き）'!$C$10","v":93},{"$f":"'関数（書き）'!$C$11","v":19},{"$f":"'関数（読み）'!$C$2","v":158},{"$f":"'関数（読み）'!$C$3","v":5},{"$f":"'関数（読み）'!$C$4","v":87},{"$f":"'関数（読み）'!$C$5","v":185},{"$f":"'関数（読み）'!$C$6","v":65},{"$f":"'関数（読み）'!$C$7","v":78},{"$f":"'関数（読み）'!$C$8","v":42},{"$f":"'関数（読み）'!$C$9","v":30},{"$f":"'関数（読み）'!$C$10","v":37},{"$f":"'関数（読み）'!$C$11","v":173}]
["⑳","⑲","⑱","⑰","⑯","⑮","⑭","⑬","⑫","⑪","⑩","⑨","⑧","⑦","⑥","⑤","④","③","②","①","次の［　　　　］の部分の漢字には読みがなをひらがなで書き、カタカナは漢字に直しなさい。",11,"「漢字の博士検定試験」練習問題　"]
[{"$f":"IF(A11=\"\",\"\",VLOOKUP(A11,漢字書き!$A$2:$N$506,6,0))","v":"［ハ］てしなくつづく"},{"$f":"IF(B11=\"\",\"\",VLOOKUP(B11,漢字書き!$A$2:$N$506,6,0))","v":"［シンパイ］をかける"},{"$f":"IF(C11=\"\",\"\",VLOOKUP(C11,漢字書き!$A$2:$N$506,6,0))","v":"よごれを［オ］とす"},{"$f":"IF(D11=\"\",\"\",VLOOKUP(D11,漢字書き!$A$2:$N$506,6,0))","v":"［ショウブ］がつかない"},{"$f":"IF(E11=\"\",\"\",VLOOKUP(E11,漢字書き!$A$2:$N$506,6,0))","v":"牛を［ハナ］す"},{"$f":"IF(F11=\"\",\"\",VLOOKUP(F11,漢字書き!$A$2:$N$506,6,0))","v":"[ワショク]をこのむ"},{"$f":"IF(G11=\"\",\"\",VLOOKUP(G11,漢字書き!$A$2:$N$506,6,0))","v":"［ガイロ］じゅの道"},{"$f":"IF(H11=\"\",\"\",VLOOKUP(H11,漢字書き!$A$2:$N$506,6,0))","v":"［ヒガン］のゆう勝"},{"$f":"IF(I11=\"\",\"\",VLOOKUP(I11,漢字書き!$A$2:$N$506,6,0))","v":"［アジ］のこい食べ物"},{"$f":"IF(J11=\"\",\"\",VLOOKUP(J11,漢字書き!$A$2:$N$506,6,0))","v":"新聞を［ハイタツ］する"},{"$f":"IF(K11=\"\",\"\",VLOOKUP(K11,漢字読み!$A$2:$O$506,6,0))","v":"［印］をつける"},{"$f":"IF(L11=\"\",\"\",VLOOKUP(L11,漢字読み!$A$2:$O$506,6,0))","v":"［登山］列車に乗る"},{"$f":"IF(M11=\"\",\"\",VLOOKUP(M11,漢字読み!$A$2:$O$506,6,0))","v":"［命］の重さ"},{"$f":"IF(N11=\"\",\"\",VLOOKUP(N11,漢字読み!$A$2:$O$506,6,0))","v":"かけ算を［覚］える"},{"$f":"IF(O11=\"\",\"\",VLOOKUP(O11,漢字読み!$A$2:$O$506,6,0))","v":"［七福神］をまつる"},{"$f":"IF(P11=\"\",\"\",VLOOKUP(P11,漢字読み!$A$2:$O$506,6,0))","v":"［勉強］がすきだ"},{"$f":"IF(Q11=\"\",\"\",VLOOKUP(Q11,漢字読み!$A$2:$O$506,6,0))","v":"［鼻］がつまる"},{"$f":"IF(R11=\"\",\"\",VLOOKUP(R11,漢字読み!$A$2:$O$506,6,0))","v":"むねを［反］らす"},{"$f":"IF(S11=\"\",\"\",VLOOKUP(S11,漢字読み!$A$2:$O$506,6,0))","v":"［悲鳴］がきこえる"},{"$f":"IF(T11=\"\",\"\",VLOOKUP(T11,漢字読み!$A$2:$O$506,6,0))","v":"［発芽］げん米を食べる"},null,"級"]
[{"$f":"IF(A$11=\"\",\"\",VLOOKUP(A$11,漢字書き!$A$2:$O$506,8,0))","v":"果"},{"$f":"IF(B$11=\"\",\"\",VLOOKUP(B$11,漢字書き!$A$2:$O$506,8,0))","v":"心配"},{"$f":"IF(C$11=\"\",\"\",VLOOKUP(C$11,漢字書き!$A$2:$O$506,8,0))","v":"落"},{"$f":"IF(D$11=\"\",\"\",VLOOKUP(D$11,漢字書き!$A$2:$O$506,8,0))","v":"勝負"},{"$f":"IF(E$11=\"\",\"\",VLOOKUP(E$11,漢字書き!$A$2:$O$506,8,0))","v":"放"},{"$f":"IF(F$11=\"\",\"\",VLOOKUP(F$11,漢字書き!$A$2:$O$506,8,0))","v":"和食"},{"$f":"IF(G$11=\"\",\"\",VLOOKUP(G$11,漢字書き!$A$2:$O$506,8,0))","v":"街路"},{"$f":"IF(H$11=\"\",\"\",VLOOKUP(H$11,漢字書き!$A$2:$O$506,8,0))","v":"悲願"},{"$f":"IF(I$11=\"\",\"\",VLOOKUP(I$11,漢字書き!$A$2:$O$506,8,0))","v":"味"},{"$f":"IF(J$11=\"\",\"\",VLOOKUP(J$11,漢字書き!$A$2:$O$506,8,0))","v":"配達"},{"$f":"IF(K$11=\"\",\"\",VLOOKUP(K$11,漢字読み!$A$2:$O$506,8,0))","v":"しるし"},{"$f":"IF(L$11=\"\",\"\",VLOOKUP(L$11,漢字読み!$A$2:$O$506,8,0))","v":"とざん"},{"$f":"IF(M$11=\"\",\"\",VLOOKUP(M$11,漢字読み!$A$2:$O$506,8,0))","v":"いのち"},{"$f":"IF(N$11=\"\",\"\",VLOOKUP(N$11,漢字読み!$A$2:$O$506,8,0))","v":"おぼ"},{"$f":"IF(O$11=\"\",\"\",VLOOKUP(O$11,漢字読み!$A$2:$O$506,8,0))","v":"しちふくじん"},{"$f":"IF(P$11=\"\",\"\",VLOOKUP(P$11,漢字読み!$A$2:$O$506,8,0))","v":"べんきょう"},{"$f":"IF(Q$11=\"\",\"\",VLOOKUP(Q$11,漢字読み!$A$2:$O$506,8,0))","v":"はな"},{"$f":"IF(R$11=\"\",\"\",VLOOKUP(R$11,漢字読み!$A$2:$O$506,8,0))","v":"そ"},{"$f":"IF(S$11=\"\",\"\",VLOOKUP(S$11,漢字読み!$A$2:$O$506,8,0))","v":"ひめい"},{"$f":"IF(T$11=\"\",\"\",VLOOKUP(T$11,漢字読み!$A$2:$O$506,8,0))","v":"はつが"},null,"名前"]
[{"$f":"IF(A11=\"\",\"\",IF(VLOOKUP(A11,漢字書き!$A$2:$N$502,7,0)=0,\"\",VLOOKUP(A11,漢字書き!$A$2:$N$502,7,0)))","v":"て"},{"$f":"IF(B11=\"\",\"\",IF(VLOOKUP(B11,漢字書き!$A$2:$N$502,7,0)=0,\"\",VLOOKUP(B11,漢字書き!$A$2:$N$502,7,0)))","v":""},{"$f":"IF(C11=\"\",\"\",IF(VLOOKUP(C11,漢字書き!$A$2:$N$502,7,0)=0,\"\",VLOOKUP(C11,漢字書き!$A$2:$N$502,7,0)))","v":"とす"},{"$f":"IF(D11=\"\",\"\",IF(VLOOKUP(D11,漢字書き!$A$2:$N$502,7,0)=0,\"\",VLOOKUP(D11,漢字書き!$A$2:$N$502,7,0)))","v":""},{"$f":"IF(E11=\"\",\"\",IF(VLOOKUP(E11,漢字書き!$A$2:$N$502,7,0)=0,\"\",VLOOKUP(E11,漢字書き!$A$2:$N$502,7,0)))","v":"す"},{"$f":"IF(F11=\"\",\"\",IF(VLOOKUP(F11,漢字書き!$A$2:$N$502,7,0)=0,\"\",VLOOKUP(F11,漢字書き!$A$2:$N$502,7,0)))","v":""},{"$f":"IF(G11=\"\",\"\",IF(VLOOKUP(G11,漢字書き!$A$2:$N$502,7,0)=0,\"\",VLOOKUP(G11,漢字書き!$A$2:$N$502,7,0)))","v":"じゅ"},{"$f":"IF(H11=\"\",\"\",IF(VLOOKUP(H11,漢字書き!$A$2:$N$502,7,0)=0,\"\",VLOOKUP(H11,漢字書き!$A$2:$N$502,7,0)))","v":""},{"$f":"IF(I11=\"\",\"\",IF(VLOOKUP(I11,漢字書き!$A$2:$N$502,7,0)=0,\"\",VLOOKUP(I11,漢字書き!$A$2:$N$502,7,0)))","v":""},{"$f":"IF(J11=\"\",\"\",IF(VLOOKUP(J11,漢字書き!$A$2:$N$502,7,0)=0,\"\",VLOOKUP(J11,漢字書き!$A$2:$N$502,7,0)))","v":"する"},{"$f":"IF(K11=\"\",\"\",IF(VLOOKUP(K11,漢字読み!$A$2:$O$502,7,0)=0,\"\",VLOOKUP(K11,漢字読み!$A$2:$O$502,7,0)))","v":""},{"$f":"IF(L11=\"\",\"\",IF(VLOOKUP(L11,漢字読み!$A$2:$O$502,7,0)=0,\"\",VLOOKUP(L11,漢字読み!$A$2:$O$502,7,0)))","v":""},{"$f":"IF(M11=\"\",\"\",IF(VLOOKUP(M11,漢字読み!$A$2:$O$502,7,0)=0,\"\",VLOOKUP(M11,漢字読み!$A$2:$O$502,7,0)))","v":""},{"$f":"IF(N11=\"\",\"\",IF(VLOOKUP(N11,漢字読み!$A$2:$O$502,7,0)=0,\"\",VLOOKUP(N11,漢字読み!$A$2:$O$502,7,0)))","v":"える"},{"$f":"IF(O11=\"\",\"\",IF(VLOOKUP(O11,漢字読み!$A$2:$O$502,7,0)=0,\"\",VLOOKUP(O11,漢字読み!$A$2:$O$502,7,0)))","v":""},{"$f":"IF(P11=\"\",\"\",IF(VLOOKUP(P11,漢字読み!$A$2:$O$502,7,0)=0,\"\",VLOOKUP(P11,漢字読み!$A$2:$O$502,7,0)))","v":""},{"$f":"IF(Q11=\"\",\"\",IF(VLOOKUP(Q11,漢字読み!$A$2:$O$502,7,0)=0,\"\",VLOOKUP(Q11,漢字読み!$A$2:$O$502,7,0)))","v":""},{"$f":"IF(R11=\"\",\"\",IF(VLOOKUP(R11,漢字読み!$A$2:$O$502,7,0)=0,\"\",VLOOKUP(R11,漢字読み!$A$2:$O$502,7,0)))","v":"らす"},{"$f":"IF(S11=\"\",\"\",IF(VLOOKUP(S11,漢字読み!$A$2:$O$502,7,0)=0,\"\",VLOOKUP(S11,漢字読み!$A$2:$O$502,7,0)))","v":""},{"$f":"IF(T11=\"\",\"\",IF(VLOOKUP(T11,漢字読み!$A$2:$O$502,7,0)=0,\"\",VLOOKUP(T11,漢字読み!$A$2:$O$502,7,0)))","v":""},null,null,"和歌山県教育委員会"]
[{"$f":"'関数（書き）'!$C$12","v":164},{"$f":"'関数（書き）'!$C$13","v":26},{"$f":"'関数（書き）'!$C$14","v":140},{"$f":"'関数（書き）'!$C$15","v":213},{"$f":"'関数（書き）'!$C$16","v":14},{"$f":"'関数（書き）'!$C$17","v":32},{"$f":"'関数（書き）'!$C$18","v":212},{"$f":"'関数（書き）'!$C$19","v":156},{"$f":"'関数（書き）'!$C$20","v":116},{"$f":"'関数（書き）'!$C$21","v":12},{"$f":"'関数（読み）'!$C$12","v":27},{"$f":"'関数（読み）'!$C$13","v":165},{"$f":"'関数（読み）'!$C$14","v":149},{"$f":"'関数（読み）'!$C$15","v":199},{"$f":"'関数（読み）'!$C$16","v":22},{"$f":"'関数（読み）'!$C$17","v":10},{"$f":"'関数（読み）'!$C$18","v":193},{"$f":"'関数（読み）'!$C$19","v":106},{"$f":"'関数（読み）'!$C$20","v":61},{"$f":"'関数（読み）'!$C$21","v":49}]
["⑳","⑲","⑱","⑰","⑯","⑮","⑭","⑬","⑫","⑪","⑩","⑨","⑧","⑦","⑥","⑤","④","③","②","①","次の［　　　　］の部分の漢字には読みがなをひらがなで書き、カタカナは漢字に直しなさい。",11,"「漢字の博士検定試験」練習問題　"]
[{"$f":"IF(A16=\"\",\"\",VLOOKUP(A16,漢字書き!$A$2:$N$506,6,0))","v":"［フクオカケン］に住む"},{"$f":"IF(B16=\"\",\"\",VLOOKUP(B16,漢字書き!$A$2:$N$506,6,0))","v":"［タハタ］をたがやす"},{"$f":"IF(C16=\"\",\"\",VLOOKUP(C16,漢字書き!$A$2:$N$506,6,0))","v":"［ミドリ］があざやかだ"},{"$f":"IF(D16=\"\",\"\",VLOOKUP(D16,漢字書き!$A$2:$N$506,6,0))","v":"［ネンガ］はがきを書く"},{"$f":"IF(E16=\"\",\"\",VLOOKUP(E16,漢字書き!$A$2:$N$506,6,0))","v":"［ドウ］ようを歌う"},{"$f":"IF(F16=\"\",\"\",VLOOKUP(F16,漢字書き!$A$2:$N$506,6,0))","v":"体を［ソ］らす"},{"$f":"IF(G16=\"\",\"\",VLOOKUP(G16,漢字書き!$A$2:$N$506,6,0))","v":"日本には［シキ］がある"},{"$f":"IF(H16=\"\",\"\",VLOOKUP(H16,漢字書き!$A$2:$N$506,6,0))","v":"みんなで［アン］を出す"},{"$f":"IF(I16=\"\",\"\",VLOOKUP(I16,漢字書き!$A$2:$N$506,6,0))","v":"十年後を［ヨゲン］する"},{"$f":"IF(J16=\"\",\"\",VLOOKUP(J16,漢字書き!$A$2:$N$506,6,0))","v":"気持ちを［ウゴ］かす"},{"$f":"IF(K16=\"\",\"\",VLOOKUP(K16,漢字読み!$A$2:$O$506,6,0))","v":"元気に声を［発］する"},{"$f":"IF(L16=\"\",\"\",VLOOKUP(L16,漢字読み!$A$2:$O$506,6,0))","v":"スープに塩を［加］える"},{"$f":"IF(M16=\"\",\"\",VLOOKUP(M16,漢字読み!$A$2:$O$506,6,0))","v":"［案外］むずかしい"},{"$f":"IF(N16=\"\",\"\",VLOOKUP(N16,漢字読み!$A$2:$O$506,6,0))","v":"春夏秋冬の［季］せつ"},{"$f":"IF(O16=\"\",\"\",VLOOKUP(O16,漢字読み!$A$2:$O$506,6,0))","v":"［倍速］でさい生する"},{"$f":"IF(P16=\"\",\"\",VLOOKUP(P16,漢字読み!$A$2:$O$506,6,0))","v":"すばやい［動］き"},{"$f":"IF(Q16=\"\",\"\",VLOOKUP(Q16,漢字読み!$A$2:$O$506,6,0))","v":"［関］わりをさける"},{"$f":"IF(R16=\"\",\"\",VLOOKUP(R16,漢字読み!$A$2:$O$506,6,0))","v":"タバコは［有害］だ"},{"$f":"IF(S16=\"\",\"\",VLOOKUP(S16,漢字読み!$A$2:$O$506,6,0))","v":"［全部］食べる"},{"$f":"IF(T16=\"\",\"\",VLOOKUP(T16,漢字読み!$A$2:$O$506,6,0))","v":"うらと［表］をたしかめる"},null,"級"]
[{"$f":"IF(A$16=\"\",\"\",VLOOKUP(A$16,漢字書き!$A$2:$O$506,8,0))","v":"福岡県"},{"$f":"IF(B$16=\"\",\"\",VLOOKUP(B$16,漢字書き!$A$2:$O$506,8,0))","v":"田畑"},{"$f":"IF(C$16=\"\",\"\",VLOOKUP(C$16,漢字書き!$A$2:$O$506,8,0))","v":"緑"},{"$f":"IF(D$16=\"\",\"\",VLOOKUP(D$16,漢字書き!$A$2:$O$506,8,0))","v":"年賀"},{"$f":"IF(E$16=\"\",\"\",VLOOKUP(E$16,漢字書き!$A$2:$O$506,8,0))","v":"童"},{"$f":"IF(F$16=\"\",\"\",VLOOKUP(F$16,漢字書き!$A$2:$O$506,8,0))","v":"反"},{"$f":"IF(G$16=\"\",\"\",VLOOKUP(G$16,漢字書き!$A$2:$O$506,8,0))","v":"四季"},{"$f":"IF(H$16=\"\",\"\",VLOOKUP(H$16,漢字書き!$A$2:$O$506,8,0))","v":"案"},{"$f":"IF(I$16=\"\",\"\",VLOOKUP(I$16,漢字書き!$A$2:$O$506,8,0))","v":"予言"},{"$f":"IF(J$16=\"\",\"\",VLOOKUP(J$16,漢字書き!$A$2:$O$506,8,0))","v":"動"},{"$f":"IF(K$16=\"\",\"\",VLOOKUP(K$16,漢字読み!$A$2:$O$506,8,0))","v":"はっ"},{"$f":"IF(L$16=\"\",\"\",VLOOKUP(L$16,漢字読み!$A$2:$O$506,8,0))","v":"くわ"},{"$f":"IF(M$16=\"\",\"\",VLOOKUP(M$16,漢字読み!$A$2:$O$506,8,0))","v":"あんがい"},{"$f":"IF(N$16=\"\",\"\",VLOOKUP(N$16,漢字読み!$A$2:$O$506,8,0))","v":"き"},{"$f":"IF(O$16=\"\",\"\",VLOOKUP(O$16,漢字読み!$A$2:$O$506,8,0))","v":"ばいそく"},{"$f":"IF(P$16=\"\",\"\",VLOOKUP(P$16,漢字読み!$A$2:$O$506,8,0))","v":"うご"},{"$f":"IF(Q$16=\"\",\"\",VLOOKUP(Q$16,漢字読み!$A$2:$O$506,8,0))","v":"かか"},{"$f":"IF(R$16=\"\",\"\",VLOOKUP(R$16,漢字読み!$A$2:$O$506,8,0))","v":"ゆうがい"},{"$f":"IF(S$16=\"\",\"\",VLOOKUP(S$16,漢字読み!$A$2:$O$506,8,0))","v":"ぜんぶ"},{"$f":"IF(T$16=\"\",\"\",VLOOKUP(T$16,漢字読み!$A$2:$O$506,8,0))","v":"おもて"},null,"名前"]
[{"$f":"IF(A16=\"\",\"\",IF(VLOOKUP(A16,漢字書き!$A$2:$N$502,7,0)=0,\"\",(VLOOKUP(A16,漢字書き!$A$2:$N$502,7,0))))","v":""},{"$f":"IF(B16=\"\",\"\",IF(VLOOKUP(B16,漢字書き!$A$2:$N$502,7,0)=0,\"\",(VLOOKUP(B16,漢字書き!$A$2:$N$502,7,0))))","v":""},{"$f":"IF(C16=\"\",\"\",IF(VLOOKUP(C16,漢字書き!$A$2:$N$502,7,0)=0,\"\",(VLOOKUP(C16,漢字書き!$A$2:$N$502,7,0))))","v":""},{"$f":"IF(D16=\"\",\"\",IF(VLOOKUP(D16,漢字書き!$A$2:$N$502,7,0)=0,\"\",VLOOKUP(D16,漢字書き!$A$2:$N$502,7,0)))","v":"はがき"},{"$f":"IF(E16=\"\",\"\",IF(VLOOKUP(E16,漢字書き!$A$2:$N$502,7,0)=0,\"\",(VLOOKUP(E16,漢字書き!$A$2:$N$502,7,0))))","v":"よう"},{"$f":"IF(F16=\"\",\"\",IF(VLOOKUP(F16,漢字書き!$A$2:$N$502,7,0)=0,\"\",(VLOOKUP(F16,漢字書き!$A$2:$N$502,7,0))))","v":"らす"},{"$f":"IF(G16=\"\",\"\",IF(VLOOKUP(G16,漢字書き!$A$2:$N$502,7,0)=0,\"\",VLOOKUP(G16,漢字書き!$A$2:$N$502,7,0)))","v":""},{"$f":"IF(H16=\"\",\"\",IF(VLOOKUP(H16,漢字書き!$A$2:$N$502,7,0)=0,\"\",VLOOKUP(H16,漢字書き!$A$2:$N$502,7,0)))","v":""},{"$f":"IF(I16=\"\",\"\",IF(VLOOKUP(I16,漢字書き!$A$2:$N$502,7,0)=0,\"\",VLOOKUP(I16,漢字書き!$A$2:$N$502,7,0)))","v":"する"},{"$f":"IF(J16=\"\",\"\",IF(VLOOKUP(J16,漢字書き!$A$2:$N$502,7,0)=0,\"\",VLOOKUP(J16,漢字書き!$A$2:$N$502,7,0)))","v":"かす"},{"$f":"IF(K16=\"\",\"\",IF(VLOOKUP(K16,漢字読み!$A$2:$O$502,7,0)=0,\"\",VLOOKUP(K16,漢字読み!$A$2:$O$502,7,0)))","v":"する"},{"$f":"IF(L16=\"\",\"\",IF(VLOOKUP(L16,漢字読み!$A$2:$O$502,7,0)=0,\"\",VLOOKUP(L16,漢字読み!$A$2:$O$502,7,0)))","v":"える"},{"$f":"IF(M16=\"\",\"\",IF(VLOOKUP(M16,漢字読み!$A$2:$O$502,7,0)=0,\"\",VLOOKUP(M16,漢字読み!$A$2:$O$502,7,0)))","v":""},{"$f":"IF(N16=\"\",\"\",IF(VLOOKUP(N16,漢字読み!$A$2:$O$502,7,0)=0,\"\",VLOOKUP(N16,漢字読み!$A$2:$O$502,7,0)))","v":"せつ"},{"$f":"IF(O16=\"\",\"\",IF(VLOOKUP(O16,漢字読み!$A$2:$O$502,7,0)=0,\"\",VLOOKUP(O16,漢字読み!$A$2:$O$502,7,0)))","v":""},{"$f":"IF(P16=\"\",\"\",IF(VLOOKUP(P16,漢字読み!$A$2:$O$502,7,0)=0,\"\",VLOOKUP(P16,漢字読み!$A$2:$O$502,7,0)))","v":"き"},{"$f":"IF(Q16=\"\",\"\",IF(VLOOKUP(Q16,漢字読み!$A$2:$O$502,7,0)=0,\"\",VLOOKUP(Q16,漢字読み!$A$2:$O$502,7,0)))","v":"わり"},{"$f":"IF(R16=\"\",\"\",IF(VLOOKUP(R16,漢字読み!$A$2:$O$502,7,0)=0,\"\",VLOOKUP(R16,漢字読み!$A$2:$O$502,7,0)))","v":"だ"},{"$f":"IF(S16=\"\",\"\",IF(VLOOKUP(S16,漢字読み!$A$2:$O$502,7,0)=0,\"\",VLOOKUP(S16,漢字読み!$A$2:$O$502,7,0)))","v":""},{"$f":"IF(T16=\"\",\"\",IF(VLOOKUP(T16,漢字読み!$A$2:$O$502,7,0)=0,\"\",VLOOKUP(T16,漢字読み!$A$2:$O$502,7,0)))","v":""},null,null,"和歌山県教育委員会"]

{"sheet":"網羅問題（関数） ","index":1,"n_rows":420,"n_cols":36,"rows_kept":420,"cut":false,"hidden":false,"merged":[[411,20,414,20],[411,22,413,22],[413,21,414,21],[416,20,419,20],[416,22,418,22],[418,21,419,21],[401,20,404,20],[401,22,403,22],[403,21,404,21],[406,20,409,20],[406,22,408,22],[408,21,409,21],[391,20,394,20],[391,22,393,22],[393,21,394,21],[396,20,399,20],[396,22,398,22],[398,21,399,21],[381,20,384,20],[381,22,383,22],[383,21,384,21],[386,20,389,20],[386,22,388,22],[388,21,389,21],[371,20,374,20],[371,22,373,22],[373,21,374,21],[376,20,379,20],[376,22,378,22],[378,21,379,21],[361,20,364,20],[361,22,363,22],[363,21,364,21],[366,20,369,20],[366,22,368,22],[368,21,369,21],[351,20,354,20],[351,22,353,22],[353,21,354,21],[356,20,359,20],[356,22,358,22],[358,21,359,21],[341,20,344,20],[341,22,343,22],[343,21,344,21],[346,20,349,20],[346,22,348,22],[348,21,349,21],[331,20,334,20],[331,22,333,22],[333,21,334,21],[336,20,339,20],[336,22,338,22],[338,21,339,21],[321,20,324,20],[321,22,323,22],[323,21,324,21],[326,20,329,20],[326,22,328,22],[328,21,329,21],[311,20,314,20],[311,22,313,22],[313,21,314,21],[316,20,319,20],[316,22,318,22],[318,21,319,21],[301,20,304,20],[301,22,303,22],[303,21,304,21],[306,20,309,20],[306,22,308,22],[308,21,309,21],[291,20,294,20],[291,22,293,22],[293,21,294,21],[296,20,299,20],[296,22,298,22],[298,21,299,21],[281,20,284,20],[281,22,283,22],[283,21,284,21],[286,20,289,20],[286,22,288,22],[288,21,289,21],[271,20,274,20],[271,22,273,22],[273,21,274,21],[276,20,279,20],[276,22,278,22],[278,21,279,21],[261,20,264,20],[261,22,263,22],[263,21,264,21],[266,20,269,20],[266,22,268,22],[268,21,269,21],[251,20,254,20],[251,22,253,22],[253,21,254,21],[256,20,259,20],[256,22,258,22],[258,21,259,21],[241,20,244,20],[241,22,243,22],[243,21,244,21],[246,20,249,20],[246,22,248,22],[248,21,249,21],[231,20,234,20],[231,22,233,22],[233,21,234,21],[236,20,239,20],[236,22,238,22],[238,21,239,21],[221,20,224,20],[221,22,223,22],[223,21,224,21],[226,20,229,20],[226,22,228,22],[228,21,229,21],[211,20,214,20],[211,22,213,22],[213,21,214,21],[216,20,219,20],[216,22,218,22],[218,21,219,21],[201,20,204,20],[201,22,203,22],[203,21,204,21],[206,20,209,20],[206,22,208,22],[208,21,209,21],[191,20,194,20],[191,22,193,22],[193,21,194,21],[196,20,199,20],[196,22,198,22],[198,21,199,21],[181,20,184,20],[181,22,183,22],[183,21,184,21],[186,20,189,20],[186,22,188,22],[188,21,189,21],[171,20,174,20],[171,22,173,22],[173,21,174,21],[176,20,179,20],[176,22,178,22],[178,21,179,21],[161,20,164,20],[161,22,163,22],[163,21,164,21],[166,20,169,20],[166,22,168,22],[168,21,169,21],[151,20,154,20],[151,22,153,22],[153,21,154,21],[156,20,159,20],[156,22,158,22],[158,21,159,21],[141,20,144,20],[141,22,143,22],[143,21,144,21],[146,20,149,20],[146,22,148,22],[148,21,149,21],[131,20,134,20],[131,22,133,22],[133,21,134,21],[136,20,139,20],[136,22,138,22],[138,21,139,21],[121,20,124,20],[121,22,123,22],[123,21,124,21],[126,20,129,20],[126,22,128,22],[128,21,129,21],[111,20,114,20],[111,22,113,22],[113,21,114,21],[116,20,119,20],[116,22,118,22],[118,21,119,21],[101,20,104,20],[101,22,103,22],[103,21,104,21],[106,20,109,20],[106,22,108,22],[108,21,109,21],[91,20,94,20],[91,22,93,22],[93,21,94,21],[96,20,99,20],[96,22,98,22],[98,21,99,21],[81,20,84,20],[81,22,83,22],[83,21,84,21],[86,20,89,20],[86,22,88,22],[88,21,89,21],[71,20,74,20],[71,22,73,22],[73,21,74,21],[76,20,79,20],[76,22,78,22],[78,21,79,21],[61,20,64,20],[61,22,63,22],[63,21,64,21],[66,20,69,20],[66,22,68,22],[68,21,69,21],[51,20,54,20],[51,22,53,22],[53,21,54,21],[56,20,59,20],[56,22,58,22],[58,21,59,21],[41,20,44,20],[41,22,43,22],[43,21,44,21],[46,20,49,20],[46,22,48,22],[48,21,49,21],[31,20,34,20],[31,22,33,22],[33,21,34,21],[36,20,39,20],[36,22,38,22],[38,21,39,21],[21,20,24,20],[21,22,23,22],[23,21,24,21],[26,20,29,20],[26,22,28,22],[28,21,29,21],[11,20,14,20],[11,22,13,22],[13,21,14,21],[16,20,19,20],[16,22,18,22],[18,21,19,21],[1,20,4,20],[1,22,3,22],[3,21,4,21],[6,20,9,20],[6,22,8,22],[8,21,9,21]]}
[{"$f":"INDIRECT(\"'関数（書き）'!C\" & COLUMN(B$1)+SUM($AD$2:$AD2))","v":179},{"$f":"INDIRECT(\"'関数（書き）'!C\" & COLUMN(C$1)+SUM($AD$2:$AD2))","v":20},{"$f":"INDIRECT(\"'関数（書き）'!C\" & COLUMN(D$1)+SUM($AD$2:$AD2))","v":130},{"$f":"INDIRECT(\"'関数（書き）'!C\" & COLUMN(E$1)+SUM($AD$2:$AD2))","v":64},{"$f":"INDIRECT(\"'関数（書き）'!C\" & COLUMN(F$1)+SUM($AD$2:$AD2))","v":89},{"$f":"INDIRECT(\"'関数（書き）'!C\" & COLUMN(G$1)+SUM($AD$2:$AD2))","v":151},{"$f":"INDIRECT(\"'関数（書き）'!C\" & COLUMN(H$1)+SUM($AD$2:$AD2))","v":193},{"$f":"INDIRECT(\"'関数（書き）'!C\" & COLUMN(I$1)+SUM($AD$2:$AD2))","v":43},{"$f":"INDIRECT(\"'関数（書き）'!C\" & COLUMN(J$1)+SUM($AD$2:$AD2))","v":93},{"$f":"INDIRECT(\"'関数（書き）'!C\" & COLUMN(K$1)+SUM($AD$2:$AD2))","v":19},{"$f":"INDIRECT(\"'関数（読み）'!C\" & COLUMN(B$1)+SUM($AD$2:$AD2))","v":158},{"$f":"INDIRECT(\"'関数（読み）'!C\" & COLUMN(C$1)+SUM($AD$2:$AD2))","v":5},{"$f":"INDIRECT(\"'関数（読み）'!C\" & COLUMN(D$1)+SUM($AD$2:$AD2))","v":87},{"$f":"INDIRECT(\"'関数（読み）'!C\" & COLUMN(E$1)+SUM($AD$2:$AD2))","v":185},{"$f":"INDIRECT(\"'関数（読み）'!C\" & COLUMN(F$1)+SUM($AD$2:$AD2))","v":65},{"$f":"INDIRECT(\"'関数（読み）'!C\" & COLUMN(G$1)+SUM($AD$2:$AD2))","v":78},{"$f":"INDIRECT(\"'関数（読み）'!C\" & COLUMN(H$1)+SUM($AD$2:$AD2))","v":42},{"$f":"INDIRECT(\"'関数（読み）'!C\" & COLUMN(I$1)+SUM($AD$2:$AD2))","v":30},{"$f":"INDIRECT(\"'関数（読み）'!C\" & COLUMN(J$1)+SUM($AD$2:$AD2))","v":37},{"$f":"INDIRECT(\"'関数（読み）'!C\" & COLUMN(K$1)+SUM($AD$2:$AD2))","v":173}]
["⑳","⑲","⑱","⑰","⑯","⑮","⑭","⑬","⑫","⑪","⑩","⑨","⑧","⑦","⑥","⑤","④","③","②","①","次の［　　　　］の部分の漢字には読みがなをひらがなで書き、カタカナは漢字に直しなさい。",11,"「漢字の博士検定試験」練習問題　",null,null,null,null,null,null,0,"問",1,"～",{"$f":"SUM($AD$2:$AD2)+10","v":10},"問まで",{"$f":"COUNTIF($A$1:$T$200,T3)","v":2}]
[{"$f":"IF(A1=\"\",\"\",VLOOKUP(A1,漢字書き!$A$2:$N$506,6,0))","v":"［ハ］てしなくつづく"},{"$f":"IF(B1=\"\",\"\",VLOOKUP(B1,漢字書き!$A$2:$N$506,6,0))","v":"［シンパイ］をかける"},{"$f":"IF(C1=\"\",\"\",VLOOKUP(C1,漢字書き!$A$2:$N$506,6,0))","v":"よごれを［オ］とす"},{"$f":"IF(D1=\"\",\"\",VLOOKUP(D1,漢字書き!$A$2:$N$506,6,0))","v":"［ショウブ］がつかない"},{"$f":"IF(E1=\"\",\"\",VLOOKUP(E1,漢字書き!$A$2:$N$506,6,0))","v":"牛を［ハナ］す"},{"$f":"IF(F1=\"\",\"\",VLOOKUP(F1,漢字書き!$A$2:$N$506,6,0))","v":"[ワショク]をこのむ"},{"$f":"IF(G1=\"\",\"\",VLOOKUP(G1,漢字書き!$A$2:$N$506,6,0))","v":"［ガイロ］じゅの道"},{"$f":"IF(H1=\"\",\"\",VLOOKUP(H1,漢字書き!$A$2:$N$506,6,0))","v":"［ヒガン］のゆう勝"},{"$f":"IF(I1=\"\",\"\",VLOOKUP(I1,漢字書き!$A$2:$N$506,6,0))","v":"［アジ］のこい食べ物"},{"$f":"IF(J1=\"\",\"\",VLOOKUP(J1,漢字書き!$A$2:$N$506,6,0))","v":"新聞を［ハイタツ］する"},{"$f":"IF(K1=\"\",\"\",VLOOKUP(K1,漢字読み!$A$2:$O$506,6,0))","v":"［印］をつける"},{"$f":"IF(L1=\"\",\"\",VLOOKUP(L1,漢字読み!$A$2:$O$506,6,0))","v":"［登山］列車に乗る"},{"$f":"IF(M1=\"\",\"\",VLOOKUP(M1,漢字読み!$A$2:$O$506,6,0))","v":"［命］の重さ"},{"$f":"IF(N1=\"\",\"\",VLOOKUP(N1,漢字読み!$A$2:$O$506,6,0))","v":"かけ算を［覚］える"},{"$f":"IF(O1=\"\",\"\",VLOOKUP(O1,漢字読み!$A$2:$O$506,6,0))","v":"［七福神］をまつる"},{"$f":"IF(P1=\"\",\"\",VLOOKUP(P1,漢字読み!$A$2:$O$506,6,0))","v":"［勉強］がすきだ"},{"$f":"IF(Q1=\"\",\"\",VLOOKUP(Q1,漢字読み!$A$2:$O$506,6,0))","v":"［鼻］がつまる"},{"$f":"IF(R1=\"\",\"\",VLOOKUP(R1,漢字読み!$A$2:$O$506,6,0))","v":"むねを［反］らす"},{"$f":"IF(S1=\"\",\"\",VLOOKUP(S1,漢字読み!$A$2:$O$506,6,0))","v":"［悲鳴］がきこえる"},{"$f":"IF(T1=\"\",\"\",VLOOKUP(T1,漢字読み!$A$2:$O$506,6,0))","v":"［発芽］げん米を食べる"},null,"級"]
[null,null,null,null,null,null,null,null,null,null,null,null,null,null,null,null,null,null,null,null,null,"名前"]
[{"$f":"IF(A1=\"\",\"\",IF(VLOOKUP(A1,漢字書き!$A$2:$N$502,7,0)=0,\"\",VLOOKUP(A1,漢字書き!$A$2:$N$502,7,0)))","v":"て"},{"$f":"IF(B1=\"\",\"\",IF(VLOOKUP(B1,漢字書き!$A$2:$N$502,7,0)=0,\"\",VLOOKUP(B1,漢字書き!$A$2:$N$502,7,0)))","v":""},{"$f":"IF(C1=\"\",\"\",IF(VLOOKUP(C1,漢字書き!$A$2:$N$502,7,0)=0,\"\",VLOOKUP(C1,漢字書き!$A$2:$N$502,7,0)))","v":"とす"},{"$f":"IF(D1=\"\",\"\",IF(VLOOKUP(D1,漢字書き!$A$2:$N$502,7,0)=0,\"\",VLOOKUP(D1,漢字書き!$A$2:$N$502,7,0)))","v":""},{"$f":"IF(E1=\"\",\"\",IF(VLOOKUP(E1,漢字書き!$A$2:$N$502,7,0)=0,\"\",VLOOKUP(E1,漢字書き!$A$2:$N$502,7,0)))","v":"す"},{"$f":"IF(F1=\"\",\"\",IF(VLOOKUP(F1,漢字書き!$A$2:$N$502,7,0)=0,\"\",VLOOKUP(F1,漢字書き!$A$2:$N$502,7,0)))","v":""},{"$f":"IF(G1=\"\",\"\",IF(VLOOKUP(G1,漢字書き!$A$2:$N$502,7,0)=0,\"\",VLOOKUP(G1,漢字書き!$A$2:$N$502,7,0)))","v":"じゅ"},{"$f":"IF(H1=\"\",\"\",IF(VLOOKUP(H1,漢字書き!$A$2:$N$502,7,0)=0,\"\",VLOOKUP(H1,漢字書き!$A$2:$N$502,7,0)))","v":""},{"$f":"IF(I1=\"\",\"\",IF(VLOOKUP(I1,漢字書き!$A$2:$N$502,7,0)=0,\"\",VLOOKUP(I1,漢字書き!$A$2:$N$502,7,0)))","v":""},{"$f":"IF(J1=\"\",\"\",IF(VLOOKUP(J1,漢字書き!$A$2:$N$502,7,0)=0,\"\",VLOOKUP(J1,漢字書き!$A$2:$N$502,7,0)))","v":"する"},{"$f":"IF(K1=\"\",\"\",IF(VLOOKUP(K1,漢字読み!$A$2:$O$502,7,0)=0,\"\",VLOOKUP(K1,漢字読み!$A$2:$O$502,7,0)))","v":""},{"$f":"IF(L1=\"\",\"\",IF(VLOOKUP(L1,漢字読み!$A$2:$O$502,7,0)=0,\"\",VLOOKUP(L1,漢字読み!$A$2:$O$502,7,0)))","v":""},{"$f":"IF(M1=\"\",\"\",IF(VLOOKUP(M1,漢字読み!$A$2:$O$502,7,0)=0,\"\",VLOOKUP(M1,漢字読み!$A$2:$O$502,7,0)))","v":""},{"$f":"IF(N1=\"\",\"\",IF(VLOOKUP(N1,漢字読み!$A$2:$O$502,7,0)=0,\"\",VLOOKUP(N1,漢字読み!$A$2:$O$502,7,0)))","v":"える"},{"$f":"IF(O1=\"\",\"\",IF(VLOOKUP(O1,漢字読み!$A$2:$O$502,7,0)=0,\"\",VLOOKUP(O1,漢字読み!$A$2:$O$502,7,0)))","v":""},{"$f":"IF(P1=\"\",\"\",IF(VLOOKUP(P1,漢字読み!$A$2:$O$502,7,0)=0,\"\",VLOOKUP(P1,漢字読み!$A$2:$O$502,7,0)))","v":""},{"$f":"IF(Q1=\"\",\"\",IF(VLOOKUP(Q1,漢字読み!$A$2:$O$502,7,0)=0,\"\",VLOOKUP(Q1,漢字読み!$A$2:$O$502,7,0)))","v":""},{"$f":"IF(R1=\"\",\"\",IF(VLOOKUP(R1,漢字読み!$A$2:$O$502,7,0)=0,\"\",VLOOKUP(R1,漢字読み!$A$2:$O$502,7,0)))","v":"らす"},{"$f":"IF(S1=\"\",\"\",IF(VLOOKUP(S1,漢字読み!$A$2:$O$502,7,0)=0,\"\",VLOOKUP(S1,漢字読み!$A$2:$O$502,7,0)))","v":""},{"$f":"IF(T1=\"\",\"\",IF(VLOOKUP(T1,漢字読み!$A$2:$O$502,7,0)=0,\"\",VLOOKUP(T1,漢字読み!$A$2:$O$502,7,0)))","v":""},null,null,"和歌山県教育委員会"]
[{"$f":"INDIRECT(\"'関数（書き）'!C\" & COLUMN(B$1)+SUM($AD$2:$AD7))","v":164},{"$f":"INDIRECT(\"'関数（書き）'!C\" & COLUMN(C$1)+SUM($AD$2:$AD7))","v":26},{"$f":"INDIRECT(\"'関数（書き）'!C\" & COLUMN(D$1)+SUM($AD$2:$AD7))","v":140},{"$f":"INDIRECT(\"'関数（書き）'!C\" & COLUMN(E$1)+SUM($AD$2:$AD7))","v":213},{"$f":"INDIRECT(\"'関数（書き）'!C\" & COLUMN(F$1)+SUM($AD$2:$AD7))","v":14},{"$f":"INDIRECT(\"'関数（書き）'!C\" & COLUMN(G$1)+SUM($AD$2:$AD7))","v":32},{"$f":"INDIRECT(\"'関数（書き）'!C\" & COLUMN(H$1)+SUM($AD$2:$AD7))","v":212},{"$f":"INDIRECT(\"'関数（書き）'!C\" & COLUMN(I$1)+SUM($AD$2:$AD7))","v":156},{"$f":"INDIRECT(\"'関数（書き）'!C\" & COLUMN(J$1)+SUM($AD$2:$AD7))","v":116},{"$f":"INDIRECT(\"'関数（書き）'!C\" & COLUMN(K$1)+SUM($AD$2:$AD7))","v":12},{"$f":"INDIRECT(\"'関数（読み）'!C\" & COLUMN(B$1)+SUM($AD$2:$AD7))","v":27},{"$f":"INDIRECT(\"'関数（読み）'!C\" & COLUMN(C$1)+SUM($AD$2:$AD7))","v":165},{"$f":"INDIRECT(\"'関数（読み）'!C\" & COLUMN(D$1)+SUM($AD$2:$AD7))","v":149},{"$f":"INDIRECT(\"'関数（読み）'!C\" & COLUMN(E$1)+SUM($AD$2:$AD7))","v":199},{"$f":"INDIRECT(\"'関数（読み）'!C\" & COLUMN(F$1)+SUM($AD$2:$AD7))","v":22},{"$f":"INDIRECT(\"'関数（読み）'!C\" & COLUMN(G$1)+SUM($AD$2:$AD7))","v":10},{"$f":"INDIRECT(\"'関数（読み）'!C\" & COLUMN(H$1)+SUM($AD$2:$AD7))","v":193},{"$f":"INDIRECT(\"'関数（読み）'!C\" & COLUMN(I$1)+SUM($AD$2:$AD7))","v":106},{"$f":"INDIRECT(\"'関数（読み）'!C\" & COLUMN(J$1)+SUM($AD$2:$AD7))","v":61},{"$f":"INDIRECT(\"'関数（読み）'!C\" & COLUMN(K$1)+SUM($AD$2:$AD7))","v":49}]
["⑳","⑲","⑱","⑰","⑯","⑮","⑭","⑬","⑫","⑪","⑩","⑨","⑧","⑦","⑥","⑤","④","③","②","①","次の［　　　　］の部分の漢字には読みがなをひらがなで書き、カタカナは漢字に直しなさい。",11,"「漢字の博士検定試験」練習問題　",null,null,null,null,null,"←",10,"問",{"$f":"AH2+1","v":11},"～",{"$f":"SUM($AD$2:$AD7)+10","v":20},"問まで",{"$f":"COUNTIF($A$1:$T$200,T8)","v":2}]
[{"$f":"IF(A6=\"\",\"\",VLOOKUP(A6,漢字書き!$A$2:$N$506,6,0))","v":"［フクオカケン］に住む"},{"$f":"IF(B6=\"\",\"\",VLOOKUP(B6,漢字書き!$A$2:$N$506,6,0))","v":"［タハタ］をたがやす"},{"$f":"IF(C6=\"\",\"\",VLOOKUP(C6,漢字書き!$A$2:$N$506,6,0))","v":"［ミドリ］があざやかだ"},{"$f":"IF(D6=\"\",\"\",VLOOKUP(D6,漢字書き!$A$2:$N$506,6,0))","v":"［ネンガ］はがきを書く"},{"$f":"IF(E6=\"\",\"\",VLOOKUP(E6,漢字書き!$A$2:$N$506,6,0))","v":"［ドウ］ようを歌う"},{"$f":"IF(F6=\"\",\"\",VLOOKUP(F6,漢字書き!$A$2:$N$506,6,0))","v":"体を［ソ］らす"},{"$f":"IF(G6=\"\",\"\",VLOOKUP(G6,漢字書き!$A$2:$N$506,6,0))","v":"日本には［シキ］がある"},{"$f":"IF(H6=\"\",\"\",VLOOKUP(H6,漢字書き!$A$2:$N$506,6,0))","v":"みんなで［アン］を出す"},{"$f":"IF(I6=\"\",\"\",VLOOKUP(I6,漢字書き!$A$2:$N$506,6,0))","v":"十年後を［ヨゲン］する"},{"$f":"IF(J6=\"\",\"\",VLOOKUP(J6,漢字書き!$A$2:$N$506,6,0))","v":"気持ちを［ウゴ］かす"},{"$f":"IF(K6=\"\",\"\",VLOOKUP(K6,漢字読み!$A$2:$O$506,6,0))","v":"元気に声を［発］する"},{"$f":"IF(L6=\"\",\"\",VLOOKUP(L6,漢字読み!$A$2:$O$506,6,0))","v":"スープに塩を［加］える"},{"$f":"IF(M6=\"\",\"\",VLOOKUP(M6,漢字読み!$A$2:$O$506,6,0))","v":"［案外］むずかしい"},{"$f":"IF(N6=\"\",\"\",VLOOKUP(N6,漢字読み!$A$2:$O$506,6,0))","v":"春夏秋冬の［季］せつ"},{"$f":"IF(O6=\"\",\"\",VLOOKUP(O6,漢字読み!$A$2:$O$506,6,0))","v":"［倍速］でさい生する"},{"$f":"IF(P6=\"\",\"\",VLOOKUP(P6,漢字読み!$A$2:$O$506,6,0))","v":"すばやい［動］き"},{"$f":"IF(Q6=\"\",\"\",VLOOKUP(Q6,漢字読み!$A$2:$O$506,6,0))","v":"［関］わりをさける"},{"$f":"IF(R6=\"\",\"\",VLOOKUP(R6,漢字読み!$A$2:$O$506,6,0))","v":"タバコは［有害］だ"},{"$f":"IF(S6=\"\",\"\",VLOOKUP(S6,漢字読み!$A$2:$O$506,6,0))","v":"［全部］食べる"},{"$f":"IF(T6=\"\",\"\",VLOOKUP(T6,漢字読み!$A$2:$O$506,6,0))","v":"うらと［表］をたしかめる"},null,"級"]
[null,null,null,null,null,null,null,null,null,null,null,null,null,null,null,null,null,null,null,null,null,"名前"]
[{"$f":"IF(A6=\"\",\"\",IF(VLOOKUP(A6,漢字書き!$A$2:$N$502,7,0)=0,\"\",VLOOKUP(A6,漢字書き!$A$2:$N$502,7,0)))","v":""},{"$f":"IF(B6=\"\",\"\",IF(VLOOKUP(B6,漢字書き!$A$2:$N$502,7,0)=0,\"\",VLOOKUP(B6,漢字書き!$A$2:$N$502,7,0)))","v":""},{"$f":"IF(C6=\"\",\"\",IF(VLOOKUP(C6,漢字書き!$A$2:$N$502,7,0)=0,\"\",VLOOKUP(C6,漢字書き!$A$2:$N$502,7,0)))","v":""},{"$f":"IF(D6=\"\",\"\",IF(VLOOKUP(D6,漢字書き!$A$2:$N$502,7,0)=0,\"\",VLOOKUP(D6,漢字書き!$A$2:$N$502,7,0)))","v":"はがき"},{"$f":"IF(E6=\"\",\"\",IF(VLOOKUP(E6,漢字書き!$A$2:$N$502,7,0)=0,\"\",VLOOKUP(E6,漢字書き!$A$2:$N$502,7,0)))","v":"よう"},{"$f":"IF(F6=\"\",\"\",IF(VLOOKUP(F6,漢字書き!$A$2:$N$502,7,0)=0,\"\",VLOOKUP(F6,漢字書き!$A$2:$N$502,7,0)))","v":"らす"},{"$f":"IF(G6=\"\",\"\",IF(VLOOKUP(G6,漢字書き!$A$2:$N$502,7,0)=0,\"\",VLOOKUP(G6,漢字書き!$A$2:$N$502,7,0)))","v":""},{"$f":"IF(H6=\"\",\"\",IF(VLOOKUP(H6,漢字書き!$A$2:$N$502,7,0)=0,\"\",VLOOKUP(H6,漢字書き!$A$2:$N$502,7,0)))","v":""},{"$f":"IF(I6=\"\",\"\",IF(VLOOKUP(I6,漢字書き!$A$2:$N$502,7,0)=0,\"\",VLOOKUP(I6,漢字書き!$A$2:$N$502,7,0)))","v":"する"},{"$f":"IF(J6=\"\",\"\",IF(VLOOKUP(J6,漢字書き!$A$2:$N$502,7,0)=0,\"\",VLOOKUP(J6,漢字書き!$A$2:$N$502,7,0)))","v":"かす"},{"$f":"IF(K6=\"\",\"\",IF(VLOOKUP(K6,漢字読み!$A$2:$O$502,7,0)=0,\"\",VLOOKUP(K6,漢字読み!$A$2:$O$502,7,0)))","v":"する"},{"$f":"IF(L6=\"\",\"\",IF(VLOOKUP(L6,漢字読み!$A$2:$O$502,7,0)=0,\"\",VLOOKUP(L6,漢字読み!$A$2:$O$502,7,0)))","v":"える"},{"$f":"IF(M6=\"\",\"\",IF(VLOOKUP(M6,漢字読み!$A$2:$O$502,7,0)=0,\"\",VLOOKUP(M6,漢字読み!$A$2:$O$502,7,0)))","v":""},{"$f":"IF(N6=\"\",\"\",IF(VLOOKUP(N6,漢字読み!$A$2:$O$502,7,0)=0,\"\",VLOOKUP(N6,漢字読み!$A$2:$O$502,7,0)))","v":"せつ"},{"$f":"IF(O6=\"\",\"\",IF(VLOOKUP(O6,漢字読み!$A$2:$O$502,7,0)=0,\"\",VLOOKUP(O6,漢字読み!$A$2:$O$502,7,0)))","v":""},{"$f":"IF(P6=\"\",\"\",IF(VLOOKUP(P6,漢字読み!$A$2:$O$502,7,0)=0,\"\",VLOOKUP(P6,漢字読み!$A$2:$O$502,7,0)))","v":"き"},{"$f":"IF(Q6=\"\",\"\",IF(VLOOKUP(Q6,漢字読み!$A$2:$O$502,7,0)=0,\"\",VLOOKUP(Q6,漢字読み!$A$2:$O$502,7,0)))","v":"わり"},{"$f":"IF(R6=\"\",\"\",IF(VLOOKUP(R6,漢字読み!$A$2:$O$502,7,0)=0,\"\",VLOOKUP(R6,漢字読み!$A$2:$O$502,7,0)))","v":"だ"},{"$f":"IF(S6=\"\",\"\",IF(VLOOKUP(S6,漢字読み!$A$2:$O$502,7,0)=0,\"\",VLOOKUP(S6,漢字読み!$A$2:$O$502,7,0)))","v":""},{"$f":"IF(T6=\"\",\"\",IF(VLOOKUP(T6,漢字読み!$A$2:$O$502,7,0)=0,\"\",VLOOKUP(T6,漢字読み!$A$2:$O$502,7,0)))","v":""},null,null,"和歌山県教育委員会"]
[{"$f":"A1","v":179},{"$f":"B1","v":20},{"$f":"C1","v":130},{"$f":"D1","v":64},{"$f":"E1","v":89},{"$f":"F1","v":151},{"$f":"G1","v":193},{"$f":"H1","v":43},{"$f":"I1","v":93},{"$f":"J1","v":19},{"$f":"K1","v":158},{"$f":"L1","v":5},{"$f":"M1","v":87},{"$f":"N1","v":185},{"$f":"O1","v":65},{"$f":"P1","v":78},{"$f":"Q1","v":42},{"$f":"R1","v":30},{"$f":"S1","v":37},{"$f":"T1","v":173}]
["⑳","⑲","⑱","⑰","⑯","⑮","⑭","⑬","⑫","⑪","⑩","⑨","⑧","⑦","⑥","⑤","④","③","②","①","次の［　　　　］の部分の漢字には読みがなをひらがなで書き、カタカナは漢字に直しなさい。",11,"「漢字の博士検定試験」練習問題　"]
[{"$f":"IF(A11=\"\",\"\",VLOOKUP(A11,漢字書き!$A$2:$N$506,6,0))","v":"［ハ］てしなくつづく"},{"$f":"IF(B11=\"\",\"\",VLOOKUP(B11,漢字書き!$A$2:$N$506,6,0))","v":"［シンパイ］をかける"},{"$f":"IF(C11=\"\",\"\",VLOOKUP(C11,漢字書き!$A$2:$N$506,6,0))","v":"よごれを［オ］とす"},{"$f":"IF(D11=\"\",\"\",VLOOKUP(D11,漢字書き!$A$2:$N$506,6,0))","v":"［ショウブ］がつかない"},{"$f":"IF(E11=\"\",\"\",VLOOKUP(E11,漢字書き!$A$2:$N$506,6,0))","v":"牛を［ハナ］す"},{"$f":"IF(F11=\"\",\"\",VLOOKUP(F11,漢字書き!$A$2:$N$506,6,0))","v":"[ワショク]をこのむ"},{"$f":"IF(G11=\"\",\"\",VLOOKUP(G11,漢字書き!$A$2:$N$506,6,0))","v":"［ガイロ］じゅの道"},{"$f":"IF(H11=\"\",\"\",VLOOKUP(H11,漢字書き!$A$2:$N$506,6,0))","v":"［ヒガン］のゆう勝"},{"$f":"IF(I11=\"\",\"\",VLOOKUP(I11,漢字書き!$A$2:$N$506,6,0))","v":"［アジ］のこい食べ物"},{"$f":"IF(J11=\"\",\"\",VLOOKUP(J11,漢字書き!$A$2:$N$506,6,0))","v":"新聞を［ハイタツ］する"},{"$f":"IF(K11=\"\",\"\",VLOOKUP(K11,漢字読み!$A$2:$O$506,6,0))","v":"［印］をつける"},{"$f":"IF(L11=\"\",\"\",VLOOKUP(L11,漢字読み!$A$2:$O$506,6,0))","v":"［登山］列車に乗る"},{"$f":"IF(M11=\"\",\"\",VLOOKUP(M11,漢字読み!$A$2:$O$506,6,0))","v":"［命］の重さ"},{"$f":"IF(N11=\"\",\"\",VLOOKUP(N11,漢字読み!$A$2:$O$506,6,0))","v":"かけ算を［覚］える"},{"$f":"IF(O11=\"\",\"\",VLOOKUP(O11,漢字読み!$A$2:$O$506,6,0))","v":"［七福神］をまつる"},{"$f":"IF(P11=\"\",\"\",VLOOKUP(P11,漢字読み!$A$2:$O$506,6,0))","v":"［勉強］がすきだ"},{"$f":"IF(Q11=\"\",\"\",VLOOKUP(Q11,漢字読み!$A$2:$O$506,6,0))","v":"［鼻］がつまる"},{"$f":"IF(R11=\"\",\"\",VLOOKUP(R11,漢字読み!$A$2:$O$506,6,0))","v":"むねを［反］らす"},{"$f":"IF(S11=\"\",\"\",VLOOKUP(S11,漢字読み!$A$2:$O$506,6,0))","v":"［悲鳴］がきこえる"},{"$f":"IF(T11=\"\",\"\",VLOOKUP(T11,漢字読み!$A$2:$O$506,6,0))","v":"［発芽］げん米を食べる"},null,"級"]
[{"$f":"IF(A$11=\"\",\"\",VLOOKUP(A11,漢字書き!$A$2:$O$506,8,0))","v":"果"},{"$f":"IF(B$11=\"\",\"\",VLOOKUP(B11,漢字書き!$A$2:$O$506,8,0))","v":"心配"},{"$f":"IF(C$11=\"\",\"\",VLOOKUP(C11,漢字書き!$A$2:$O$506,8,0))","v":"落"},{"$f":"IF(D$11=\"\",\"\",VLOOKUP(D11,漢字書き!$A$2:$O$506,8,0))","v":"勝負"},{"$f":"IF(E$11=\"\",\"\",VLOOKUP(E11,漢字書き!$A$2:$O$506,8,0))","v":"放"},{"$f":"IF(F$11=\"\",\"\",VLOOKUP(F11,漢字書き!$A$2:$O$506,8,0))","v":"和食"},{"$f":"IF(G$11=\"\",\"\",VLOOKUP(G11,漢字書き!$A$2:$O$506,8,0))","v":"街路"},{"$f":"IF(H$11=\"\",\"\",VLOOKUP(H11,漢字書き!$A$2:$O$506,8,0))","v":"悲願"},{"$f":"IF(I$11=\"\",\"\",VLOOKUP(I11,漢字書き!$A$2:$O$506,8,0))","v":"味"},{"$f":"IF(J$11=\"\",\"\",VLOOKUP(J11,漢字書き!$A$2:$O$506,8,0))","v":"配達"},{"$f":"IF(K$11=\"\",\"\",VLOOKUP(K11,漢字読み!$A$2:$O$506,8,0))","v":"しるし"},{"$f":"IF(L$11=\"\",\"\",VLOOKUP(L11,漢字読み!$A$2:$O$506,8,0))","v":"とざん"},{"$f":"IF(M$11=\"\",\"\",VLOOKUP(M11,漢字読み!$A$2:$O$506,8,0))","v":"いのち"},{"$f":"IF(N$11=\"\",\"\",VLOOKUP(N11,漢字読み!$A$2:$O$506,8,0))","v":"おぼ"},{"$f":"IF(O$11=\"\",\"\",VLOOKUP(O11,漢字読み!$A$2:$O$506,8,0))","v":"しちふくじん"},{"$f":"IF(P$11=\"\",\"\",VLOOKUP(P11,漢字読み!$A$2:$O$506,8,0))","v":"べんきょう"},{"$f":"IF(Q$11=\"\",\"\",VLOOKUP(Q11,漢字読み!$A$2:$O$506,8,0))","v":"はな"},{"$f":"IF(R$11=\"\",\"\",VLOOKUP(R11,漢字読み!$A$2:$O$506,8,0))","v":"そ"},{"$f":"IF(S$11=\"\",\"\",VLOOKUP(S11,漢字読み!$A$2:$O$506,8,0))","v":"ひめい"},{"$f":"IF(T$11=\"\",\"\",VLOOKUP(T11,漢字読み!$A$2:$O$506,8,0))","v":"はつが"},null,"名前"]
[{"$f":"IF(A11=\"\",\"\",IF(VLOOKUP(A11,漢字書き!$A$2:$N$502,7,0)=0,\"\",VLOOKUP(A11,漢字書き!$A$2:$N$502,7,0)))","v":"て"},{"$f":"IF(B11=\"\",\"\",IF(VLOOKUP(B11,漢字書き!$A$2:$N$502,7,0)=0,\"\",VLOOKUP(B11,漢字書き!$A$2:$N$502,7,0)))","v":""},{"$f":"IF(C11=\"\",\"\",IF(VLOOKUP(C11,漢字書き!$A$2:$N$502,7,0)=0,\"\",VLOOKUP(C11,漢字書き!$A$2:$N$502,7,0)))","v":"とす"},{"$f":"IF(D11=\"\",\"\",IF(VLOOKUP(D11,漢字書き!$A$2:$N$502,7,0)=0,\"\",VLOOKUP(D11,漢字書き!$A$2:$N$502,7,0)))","v":""},{"$f":"IF(E11=\"\",\"\",IF(VLOOKUP(E11,漢字書き!$A$2:$N$502,7,0)=0,\"\",VLOOKUP(E11,漢字書き!$A$2:$N$502,7,0)))","v":"す"},{"$f":"IF(F11=\"\",\"\",IF(VLOOKUP(F11,漢字書き!$A$2:$N$502,7,0)=0,\"\",VLOOKUP(F11,漢字書き!$A$2:$N$502,7,0)))","v":""},{"$f":"IF(G11=\"\",\"\",IF(VLOOKUP(G11,漢字書き!$A$2:$N$502,7,0)=0,\"\",VLOOKUP(G11,漢字書き!$A$2:$N$502,7,0)))","v":"じゅ"},{"$f":"IF(H11=\"\",\"\",IF(VLOOKUP(H11,漢字書き!$A$2:$N$502,7,0)=0,\"\",VLOOKUP(H11,漢字書き!$A$2:$N$502,7,0)))","v":""},{"$f":"IF(I11=\"\",\"\",IF(VLOOKUP(I11,漢字書き!$A$2:$N$502,7,0)=0,\"\",VLOOKUP(I11,漢字書き!$A$2:$N$502,7,0)))","v":""},{"$f":"IF(J11=\"\",\"\",IF(VLOOKUP(J11,漢字書き!$A$2:$N$502,7,0)=0,\"\",VLOOKUP(J11,漢字書き!$A$2:$N$502,7,0)))","v":"する"},{"$f":"IF(K11=\"\",\"\",IF(VLOOKUP(K11,漢字読み!$A$2:$O$502,7,0)=0,\"\",VLOOKUP(K11,漢字読み!$A$2:$O$502,7,0)))","v":""},{"$f":"IF(L11=\"\",\"\",IF(VLOOKUP(L11,漢字読み!$A$2:$O$502,7,0)=0,\"\",VLOOKUP(L11,漢字読み!$A$2:$O$502,7,0)))","v":""},{"$f":"IF(M11=\"\",\"\",IF(VLOOKUP(M11,漢字読み!$A$2:$O$502,7,0)=0,\"\",VLOOKUP(M11,漢字読み!$A$2:$O$502,7,0)))","v":""},{"$f":"IF(N11=\"\",\"\",IF(VLOOKUP(N11,漢字読み!$A$2:$O$502,7,0)=0,\"\",VLOOKUP(N11,漢字読み!$A$2:$O$502,7,0)))","v":"える"},{"$f":"IF(O11=\"\",\"\",IF(VLOOKUP(O11,漢字読み!$A$2:$O$502,7,0)=0,\"\",VLOOKUP(O11,漢字読み!$A$2:$O$502,7,0)))","v":""},{"$f":"IF(P11=\"\",\"\",IF(VLOOKUP(P11,漢字読み!$A$2:$O$502,7,0)=0,\"\",VLOOKUP(P11,漢字読み!$A$2:$O$502,7,0)))","v":""},{"$f":"IF(Q11=\"\",\"\",IF(VLOOKUP(Q11,漢字読み!$A$2:$O$502,7,0)=0,\"\",VLOOKUP(Q11,漢字読み!$A$2:$O$502,7,0)))","v":""},{"$f":"IF(R11=\"\",\"\",IF(VLOOKUP(R11,漢字読み!$A$2:$O$502,7,0)=0,\"\",VLOOKUP(R11,漢字読み!$A$2:$O$502,7,0)))","v":"らす"},{"$f":"IF(S11=\"\",\"\",IF(VLOOKUP(S11,漢字読み!$A$2:$O$502,7,0)=0,\"\",VLOOKUP(S11,漢字読み!$A$2:$O$502,7,0)))","v":""},{"$f":"IF(T11=\"\",\"\",IF(VLOOKUP(T11,漢字読み!$A$2:$O$502,7,0)=0,\"\",VLOOKUP(T11,漢字読み!$A$2:$O$502,7,0)))","v":""},null,null,"和歌山県教育委員会"]
[{"$f":"A6","v":164},{"$f":"B6","v":26},{"$f":"C6","v":140},{"$f":"D6","v":213},{"$f":"E6","v":14},{"$f":"F6","v":32},{"$f":"G6","v":212},{"$f":"H6","v":156},{"$f":"I6","v":116},{"$f":"J6","v":12},{"$f":"K6","v":27},{"$f":"L6","v":165},{"$f":"M6","v":149},{"$f":"N6","v":199},{"$f":"O6","v":22},{"$f":"P6","v":10},{"$f":"Q6","v":193},{"$f":"R6","v":106},{"$f":"S6","v":61},{"$f":"T6","v":49}]
["⑳","⑲","⑱","⑰","⑯","⑮","⑭","⑬","⑫","⑪","⑩","⑨","⑧","⑦","⑥","⑤","④","③","②","①","次の［　　　　］の部分の漢字には読みがなをひらがなで書き、カタカナは漢字に直しなさい。",11,"「漢字の博士検定試験」練習問題　"]
[{"$f":"IF(A16=\"\",\"\",VLOOKUP(A16,漢字書き!$A$2:$N$506,6,0))","v":"［フクオカケン］に住む"},{"$f":"IF(B16=\"\",\"\",VLOOKUP(B16,漢字書き!$A$2:$N$506,6,0))","v":"［タハタ］をたがやす"},{"$f":"IF(C16=\"\",\"\",VLOOKUP(C16,漢字書き!$A$2:$N$506,6,0))","v":"［ミドリ］があざやかだ"},{"$f":"IF(D16=\"\",\"\",VLOOKUP(D16,漢字書き!$A$2:$N$506,6,0))","v":"［ネンガ］はがきを書く"},{"$f":"IF(E16=\"\",\"\",VLOOKUP(E16,漢字書き!$A$2:$N$506,6,0))","v":"［ドウ］ようを歌う"},{"$f":"IF(F16=\"\",\"\",VLOOKUP(F16,漢字書き!$A$2:$N$506,6,0))","v":"体を［ソ］らす"},{"$f":"IF(G16=\"\",\"\",VLOOKUP(G16,漢字書き!$A$2:$N$506,6,0))","v":"日本には［シキ］がある"},{"$f":"IF(H16=\"\",\"\",VLOOKUP(H16,漢字書き!$A$2:$N$506,6,0))","v":"みんなで［アン］を出す"},{"$f":"IF(I16=\"\",\"\",VLOOKUP(I16,漢字書き!$A$2:$N$506,6,0))","v":"十年後を［ヨゲン］する"},{"$f":"IF(J16=\"\",\"\",VLOOKUP(J16,漢字書き!$A$2:$N$506,6,0))","v":"気持ちを［ウゴ］かす"},{"$f":"IF(K16=\"\",\"\",VLOOKUP(K16,漢字読み!$A$2:$O$506,6,0))","v":"元気に声を［発］する"},{"$f":"IF(L16=\"\",\"\",VLOOKUP(L16,漢字読み!$A$2:$O$506,6,0))","v":"スープに塩を［加］える"},{"$f":"IF(M16=\"\",\"\",VLOOKUP(M16,漢字読み!$A$2:$O$506,6,0))","v":"［案外］むずかしい"},{"$f":"IF(N16=\"\",\"\",VLOOKUP(N16,漢字読み!$A$2:$O$506,6,0))","v":"春夏秋冬の［季］せつ"},{"$f":"IF(O16=\"\",\"\",VLOOKUP(O16,漢字読み!$A$2:$O$506,6,0))","v":"［倍速］でさい生する"},{"$f":"IF(P16=\"\",\"\",VLOOKUP(P16,漢字読み!$A$2:$O$506,6,0))","v":"すばやい［動］き"},{"$f":"IF(Q16=\"\",\"\",VLOOKUP(Q16,漢字読み!$A$2:$O$506,6,0))","v":"［関］わりをさける"},{"$f":"IF(R16=\"\",\"\",VLOOKUP(R16,漢字読み!$A$2:$O$506,6,0))","v":"タバコは［有害］だ"},{"$f":"IF(S16=\"\",\"\",VLOOKUP(S16,漢字読み!$A$2:$O$506,6,0))","v":"［全部］食べる"},{"$f":"IF(T16=\"\",\"\",VLOOKUP(T16,漢字読み!$A$2:$O$506,6,0))","v":"うらと［表］をたしかめる"},null,"級"]
[{"$f":"IF(A$16=\"\",\"\",VLOOKUP(A16,漢字書き!$A$2:$O$506,8,0))","v":"福岡県"},{"$f":"IF(B$16=\"\",\"\",VLOOKUP(B16,漢字書き!$A$2:$O$506,8,0))","v":"田畑"},{"$f":"IF(C$16=\"\",\"\",VLOOKUP(C16,漢字書き!$A$2:$O$506,8,0))","v":"緑"},{"$f":"IF(D$16=\"\",\"\",VLOOKUP(D16,漢字書き!$A$2:$O$506,8,0))","v":"年賀"},{"$f":"IF(E$16=\"\",\"\",VLOOKUP(E16,漢字書き!$A$2:$O$506,8,0))","v":"童"},{"$f":"IF(F$16=\"\",\"\",VLOOKUP(F16,漢字書き!$A$2:$O$506,8,0))","v":"反"},{"$f":"IF(G$16=\"\",\"\",VLOOKUP(G16,漢字書き!$A$2:$O$506,8,0))","v":"四季"},{"$f":"IF(H$16=\"\",\"\",VLOOKUP(H16,漢字書き!$A$2:$O$506,8,0))","v":"案"},{"$f":"IF(I$16=\"\",\"\",VLOOKUP(I16,漢字書き!$A$2:$O$506,8,0))","v":"予言"},{"$f":"IF(J$16=\"\",\"\",VLOOKUP(J16,漢字書き!$A$2:$O$506,8,0))","v":"動"},{"$f":"IF(K$16=\"\",\"\",VLOOKUP(K16,漢字読み!$A$2:$O$506,8,0))","v":"はっ"},{"$f":"IF(L$16=\"\",\"\",VLOOKUP(L16,漢字読み!$A$2:$O$506,8,0))","v":"くわ"},{"$f":"IF(M$16=\"\",\"\",VLOOKUP(M16,漢字読み!$A$2:$O$506,8,0))","v":"あんがい"},{"$f":"IF(N$16=\"\",\"\",VLOOKUP(N16,漢字読み!$A$2:$O$506,8,0))","v":"き"},{"$f":"IF(O$16=\"\",\"\",VLOOKUP(O16,漢字読み!$A$2:$O$506,8,0))","v":"ばいそく"},{"$f":"IF(P$16=\"\",\"\",VLOOKUP(P16,漢字読み!$A$2:$O$506,8,0))","v":"うご"},{"$f":"IF(Q$16=\"\",\"\",VLOOKUP(Q16,漢字読み!$A$2:$O$506,8,0))","v":"かか"},{"$f":"IF(R$16=\"\",\"\",VLOOKUP(R16,漢字読み!$A$2:$O$506,8,0))","v":"ゆうがい"},{"$f":"IF(S$16=\"\",\"\",VLOOKUP(S16,漢字読み!$A$2:$O$506,8,0))","v":"ぜんぶ"},{"$f":"IF(T$16=\"\",\"\",VLOOKUP(T16,漢字読み!$A$2:$O$506,8,0))","v":"おもて"},null,"名前"]
[{"$f":"IF(A16=\"\",\"\",IF(VLOOKUP(A16,漢字書き!$A$2:$N$502,7,0)=0,\"\",VLOOKUP(A16,漢字書き!$A$2:$N$502,7,0)))","v":""},{"$f":"IF(B16=\"\",\"\",IF(VLOOKUP(B16,漢字書き!$A$2:$N$502,7,0)=0,\"\",VLOOKUP(B16,漢字書き!$A$2:$N$502,7,0)))","v":""},{"$f":"IF(C16=\"\",\"\",IF(VLOOKUP(C16,漢字書き!$A$2:$N$502,7,0)=0,\"\",VLOOKUP(C16,漢字書き!$A$2:$N$502,7,0)))","v":""},{"$f":"IF(D16=\"\",\"\",IF(VLOOKUP(D16,漢字書き!$A$2:$N$502,7,0)=0,\"\",VLOOKUP(D16,漢字書き!$A$2:$N$502,7,0)))","v":"はがき"},{"$f":"IF(E16=\"\",\"\",IF(VLOOKUP(E16,漢字書き!$A$2:$N$502,7,0)=0,\"\",VLOOKUP(E16,漢字書き!$A$2:$N$502,7,0)))","v":"よう"},{"$f":"IF(F16=\"\",\"\",IF(VLOOKUP(F16,漢字書き!$A$2:$N$502,7,0)=0,\"\",VLOOKUP(F16,漢字書き!$A$2:$N$502,7,0)))","v":"らす"},{"$f":"IF(G16=\"\",\"\",IF(VLOOKUP(G16,漢字書き!$A$2:$N$502,7,0)=0,\"\",VLOOKUP(G16,漢字書き!$A$2:$N$502,7,0)))","v":""},{"$f":"IF(H16=\"\",\"\",IF(VLOOKUP(H16,漢字書き!$A$2:$N$502,7,0)=0,\"\",VLOOKUP(H16,漢字書き!$A$2:$N$502,7,0)))","v":""},{"$f":"IF(I16=\"\",\"\",IF(VLOOKUP(I16,漢字書き!$A$2:$N$502,7,0)=0,\"\",VLOOKUP(I16,漢字書き!$A$2:$N$502,7,0)))","v":"する"},{"$f":"IF(J16=\"\",\"\",IF(VLOOKUP(J16,漢字書き!$A$2:$N$502,7,0)=0,\"\",VLOOKUP(J16,漢字書き!$A$2:$N$502,7,0)))","v":"かす"},{"$f":"IF(K16=\"\",\"\",IF(VLOOKUP(K16,漢字読み!$A$2:$O$502,7,0)=0,\"\",VLOOKUP(K16,漢字読み!$A$2:$O$502,7,0)))","v":"する"},{"$f":"IF(L16=\"\",\"\",IF(VLOOKUP(L16,漢字読み!$A$2:$O$502,7,0)=0,\"\",VLOOKUP(L16,漢字読み!$A$2:$O$502,7,0)))","v":"える"},{"$f":"IF(M16=\"\",\"\",IF(VLOOKUP(M16,漢字読み!$A$2:$O$502,7,0)=0,\"\",VLOOKUP(M16,漢字読み!$A$2:$O$502,7,0)))","v":""},{"$f":"IF(N16=\"\",\"\",IF(VLOOKUP(N16,漢字読み!$A$2:$O$502,7,0)=0,\"\",VLOOKUP(N16,漢字読み!$A$2:$O$502,7,0)))","v":"せつ"},{"$f":"IF(O16=\"\",\"\",IF(VLOOKUP(O16,漢字読み!$A$2:$O$502,7,0)=0,\"\",VLOOKUP(O16,漢字読み!$A$2:$O$502,7,0)))","v":""},{"$f":"IF(P16=\"\",\"\",IF(VLOOKUP(P16,漢字読み!$A$2:$O$502,7,0)=0,\"\",VLOOKUP(P16,漢字読み!$A$2:$O$502,7,0)))","v":"き"},{"$f":"IF(Q16=\"\",\"\",IF(VLOOKUP(Q16,漢字読み!$A$2:$O$502,7,0)=0,\"\",VLOOKUP(Q16,漢字読み!$A$2:$O$502,7,0)))","v":"わり"},{"$f":"IF(R16=\"\",\"\",IF(VLOOKUP(R16,漢字読み!$A$2:$O$502,7,0)=0,\"\",VLOOKUP(R16,漢字読み!$A$2:$O$502,7,0)))","v":"だ"},{"$f":"IF(S16=\"\",\"\",IF(VLOOKUP(S16,漢字読み!$A$2:$O$502,7,0)=0,\"\",VLOOKUP(S16,漢字読み!$A$2:$O$502,7,0)))","v":""},{"$f":"IF(T16=\"\",\"\",IF(VLOOKUP(T16,漢字読み!$A$2:$O$502,7,0)=0,\"\",VLOOKUP(T16,漢字読み!$A$2:$O$502,7,0)))","v":""},null,null,"和歌山県教育委員会"]
[{"$f":"INDIRECT(\"'関数（書き）'!C\" & COLUMN(B$1)+SUM($AD$2:$AD22))","v":113},{"$f":"INDIRECT(\"'関数（書き）'!C\" & COLUMN(C$1)+SUM($AD$2:$AD22))","v":158},{"$f":"INDIRECT(\"'関数（書き）'!C\" & COLUMN(D$1)+SUM($AD$2:$AD22))","v":125},{"$f":"INDIRECT(\"'関数（書き）'!C\" & COLUMN(E$1)+SUM($AD$2:$AD22))","v":2},{"$f":"INDIRECT(\"'関数（書き）'!C\" & COLUMN(F$1)+SUM($AD$2:$AD22))","v":72},{"$f":"INDIRECT(\"'関数（書き）'!C\" & COLUMN(G$1)+SUM($AD$2:$AD22))","v":224},{"$f":"INDIRECT(\"'関数（書き）'!C\" & COLUMN(H$1)+SUM($AD$2:$AD22))","v":225},{"$f":"INDIRECT(\"'関数（書き）'!C\" & COLUMN(I$1)+SUM($AD$2:$AD22))","v":161},{"$f":"INDIRECT(\"'関数（書き）'!C\" & COLUMN(J$1)+SUM($AD$2:$AD22))","v":81},{"$f":"INDIRECT(\"'関数（書き）'!C\" & COLUMN(K$1)+SUM($AD$2:$AD22))","v":127},{"$f":"INDIRECT(\"'関数（読み）'!C\" & COLUMN(B$1)+SUM($AD$2:$AD22))","v":18},{"$f":"INDIRECT(\"'関数（読み）'!C\" & COLUMN(C$1)+SUM($AD$2:$AD22))","v":123},{"$f":"INDIRECT(\"'関数（読み）'!C\" & COLUMN(D$1)+SUM($AD$2:$AD22))","v":40},{"$f":"INDIRECT(\"'関数（読み）'!C\" & COLUMN(E$1)+SUM($AD$2:$AD22))","v":181},{"$f":"INDIRECT(\"'関数（読み）'!C\" & COLUMN(F$1)+SUM($AD$2:$AD22))","v":80},{"$f":"INDIRECT(\"'関数（読み）'!C\" & COLUMN(G$1)+SUM($AD$2:$AD22))","v":69},{"$f":"INDIRECT(\"'関数（読み）'!C\" & COLUMN(H$1)+SUM($AD$2:$AD22))","v":2},{"$f":"INDIRECT(\"'関数（読み）'!C\" & COLUMN(I$1)+SUM($AD$2:$AD22))","v":6},{"$f":"INDIRECT(\"'関数（読み）'!C\" & COLUMN(J$1)+SUM($AD$2:$AD22))","v":210},{"$f":"INDIRECT(\"'関数（読み）'!C\" & COLUMN(K$1)+SUM($AD$2:$AD22))","v":111}]
["⑳","⑲","⑱","⑰","⑯","⑮","⑭","⑬","⑫","⑪","⑩","⑨","⑧","⑦","⑥","⑤","④","③","②","①","次の［　　　　］の部分の漢字には読みがなをひらがなで書き、カタカナは漢字に直しなさい。",11,"「漢字の博士検定試験」練習問題　",null,null,null,null,null,"←",10,"問",{"$f":"AH7+1","v":21},"～",{"$f":"SUM($AD$2:$AD22)+10","v":30},"問まで",{"$f":"COUNTIF($A$1:$T$200,T23)","v":2}]
[{"$f":"IF(A21=\"\",\"\",VLOOKUP(A21,漢字書き!$A$2:$N$506,6,0))","v":"［ユウエンチ］に行く"},{"$f":"IF(B21=\"\",\"\",VLOOKUP(B21,漢字書き!$A$2:$N$506,6,0))","v":"［イフク］を整える"},{"$f":"IF(C21=\"\",\"\",VLOOKUP(C21,漢字書き!$A$2:$N$506,6,0))","v":"［ヨウキ］なせいかく"},{"$f":"IF(D21=\"\",\"\",VLOOKUP(D21,漢字書き!$A$2:$N$506,6,0))","v":"［ユ］をわかす"},{"$f":"IF(E21=\"\",\"\",VLOOKUP(E21,漢字書き!$A$2:$N$506,6,0))","v":"薬を［フクヨウ］する"},{"$f":"IF(F21=\"\",\"\",VLOOKUP(F21,漢字書き!$A$2:$N$506,6,0))","v":"答えを［モト］める"},{"$f":"IF(G21=\"\",\"\",VLOOKUP(G21,漢字書き!$A$2:$N$506,6,0))","v":"［クマ］を発見する"},{"$f":"IF(H21=\"\",\"\",VLOOKUP(H21,漢字書き!$A$2:$N$506,6,0))","v":"［クライ］をそろえる"},{"$f":"IF(I21=\"\",\"\",VLOOKUP(I21,漢字書き!$A$2:$N$506,6,0))","v":"［タイ］らな所におく"},{"$f":"IF(J21=\"\",\"\",VLOOKUP(J21,漢字書き!$A$2:$N$506,6,0))","v":"はだかの［オウサマ］"},{"$f":"IF(K21=\"\",\"\",VLOOKUP(K21,漢字読み!$A$2:$O$506,6,0))","v":"高い［波］に気をつける"},{"$f":"IF(L21=\"\",\"\",VLOOKUP(L21,漢字読み!$A$2:$O$506,6,0))","v":"［様子］がわからない"},{"$f":"IF(M21=\"\",\"\",VLOOKUP(M21,漢字読み!$A$2:$O$506,6,0))","v":"［美］しいけしき"},{"$f":"IF(N21=\"\",\"\",VLOOKUP(N21,漢字読み!$A$2:$O$506,6,0))","v":"［街］の光が消える"},{"$f":"IF(O21=\"\",\"\",VLOOKUP(O21,漢字読み!$A$2:$O$506,6,0))","v":"魚を［放流］する"},{"$f":"IF(P21=\"\",\"\",VLOOKUP(P21,漢字読み!$A$2:$O$506,6,0))","v":"［品物］をならべる"},{"$f":"IF(Q21=\"\",\"\",VLOOKUP(Q21,漢字読み!$A$2:$O$506,6,0))","v":"［湯］に水をまぜる"},{"$f":"IF(R21=\"\",\"\",VLOOKUP(R21,漢字読み!$A$2:$O$506,6,0))","v":"山に［登］る"},{"$f":"IF(S21=\"\",\"\",VLOOKUP(S21,漢字読み!$A$2:$O$506,6,0))","v":"助けを［求］める"},{"$f":"IF(T21=\"\",\"\",VLOOKUP(T21,漢字読み!$A$2:$O$506,6,0))","v":"夏休みの［予定］"},null,"級"]
[null,null,null,null,null,null,null,null,null,null,null,null,null,null,null,null,null,null,null,null,null,"名前"]
[{"$f":"IF(A21=\"\",\"\",IF(VLOOKUP(A21,漢字書き!$A$2:$N$502,7,0)=0,\"\",VLOOKUP(A21,漢字書き!$A$2:$N$502,7,0)))","v":""},{"$f":"IF(B21=\"\",\"\",IF(VLOOKUP(B21,漢字書き!$A$2:$N$502,7,0)=0,\"\",VLOOKUP(B21,漢字書き!$A$2:$N$502,7,0)))","v":""},{"$f":"IF(C21=\"\",\"\",IF(VLOOKUP(C21,漢字書き!$A$2:$N$502,7,0)=0,\"\",VLOOKUP(C21,漢字書き!$A$2:$N$502,7,0)))","v":"な"},{"$f":"IF(D21=\"\",\"\",IF(VLOOKUP(D21,漢字書き!$A$2:$N$502,7,0)=0,\"\",VLOOKUP(D21,漢字書き!$A$2:$N$502,7,0)))","v":""},{"$f":"IF(E21=\"\",\"\",IF(VLOOKUP(E21,漢字書き!$A$2:$N$502,7,0)=0,\"\",VLOOKUP(E21,漢字書き!$A$2:$N$502,7,0)))","v":"する"},{"$f":"IF(F21=\"\",\"\",IF(VLOOKUP(F21,漢字書き!$A$2:$N$502,7,0)=0,\"\",VLOOKUP(F21,漢字書き!$A$2:$N$502,7,0)))","v":"める"},{"$f":"IF(G21=\"\",\"\",IF(VLOOKUP(G21,漢字書き!$A$2:$N$502,7,0)=0,\"\",VLOOKUP(G21,漢字書き!$A$2:$N$502,7,0)))","v":""},{"$f":"IF(H21=\"\",\"\",IF(VLOOKUP(H21,漢字書き!$A$2:$N$502,7,0)=0,\"\",VLOOKUP(H21,漢字書き!$A$2:$N$502,7,0)))","v":""},{"$f":"IF(I21=\"\",\"\",IF(VLOOKUP(I21,漢字書き!$A$2:$N$502,7,0)=0,\"\",VLOOKUP(I21,漢字書き!$A$2:$N$502,7,0)))","v":"らな"},{"$f":"IF(J21=\"\",\"\",IF(VLOOKUP(J21,漢字書き!$A$2:$N$502,7,0)=0,\"\",VLOOKUP(J21,漢字書き!$A$2:$N$502,7,0)))","v":""},{"$f":"IF(K21=\"\",\"\",IF(VLOOKUP(K21,漢字読み!$A$2:$O$502,7,0)=0,\"\",VLOOKUP(K21,漢字読み!$A$2:$O$502,7,0)))","v":""},{"$f":"IF(L21=\"\",\"\",IF(VLOOKUP(L21,漢字読み!$A$2:$O$502,7,0)=0,\"\",VLOOKUP(L21,漢字読み!$A$2:$O$502,7,0)))","v":""},{"$f":"IF(M21=\"\",\"\",IF(VLOOKUP(M21,漢字読み!$A$2:$O$502,7,0)=0,\"\",VLOOKUP(M21,漢字読み!$A$2:$O$502,7,0)))","v":"しい"},{"$f":"IF(N21=\"\",\"\",IF(VLOOKUP(N21,漢字読み!$A$2:$O$502,7,0)=0,\"\",VLOOKUP(N21,漢字読み!$A$2:$O$502,7,0)))","v":""},{"$f":"IF(O21=\"\",\"\",IF(VLOOKUP(O21,漢字読み!$A$2:$O$502,7,0)=0,\"\",VLOOKUP(O21,漢字読み!$A$2:$O$502,7,0)))","v":"する"},{"$f":"IF(P21=\"\",\"\",IF(VLOOKUP(P21,漢字読み!$A$2:$O$502,7,0)=0,\"\",VLOOKUP(P21,漢字読み!$A$2:$O$502,7,0)))","v":""},{"$f":"IF(Q21=\"\",\"\",IF(VLOOKUP(Q21,漢字読み!$A$2:$O$502,7,0)=0,\"\",VLOOKUP(Q21,漢字読み!$A$2:$O$502,7,0)))","v":""},{"$f":"IF(R21=\"\",\"\",IF(VLOOKUP(R21,漢字読み!$A$2:$O$502,7,0)=0,\"\",VLOOKUP(R21,漢字読み!$A$2:$O$502,7,0)))","v":"る"},{"$f":"IF(S21=\"\",\"\",IF(VLOOKUP(S21,漢字読み!$A$2:$O$502,7,0)=0,\"\",VLOOKUP(S21,漢字読み!$A$2:$O$502,7,0)))","v":"める"},{"$f":"IF(T21=\"\",\"\",IF(VLOOKUP(T21,漢字読み!$A$2:$O$502,7,0)=0,\"\",VLOOKUP(T21,漢字読み!$A$2:$O$502,7,0)))","v":""},null,null,"和歌山県教育委員会"]
[{"$f":"INDIRECT(\"'関数（書き）'!C\" & COLUMN(B$1)+SUM($AD$2:$AD27))","v":171},{"$f":"INDIRECT(\"'関数（書き）'!C\" & COLUMN(C$1)+SUM($AD$2:$AD27))","v":178},{"$f":"INDIRECT(\"'関数（書き）'!C\" & COLUMN(D$1)+SUM($AD$2:$AD27))","v":78},{"$f":"INDIRECT(\"'関数（書き）'!C\" & COLUMN(E$1)+SUM($AD$2:$AD27))","v":75},{"$f":"INDIRECT(\"'関数（書き）'!C\" & COLUMN(F$1)+SUM($AD$2:$AD27))","v":42},{"$f":"INDIRECT(\"'関数（書き）'!C\" & COLUMN(G$1)+SUM($AD$2:$AD27))","v":184},{"$f":"INDIRECT(\"'関数（書き）'!C\" & COLUMN(H$1)+SUM($AD$2:$AD27))","v":163},{"$f":"INDIRECT(\"'関数（書き）'!C\" & COLUMN(I$1)+SUM($AD$2:$AD27))","v":195},{"$f":"INDIRECT(\"'関数（書き）'!C\" & COLUMN(J$1)+SUM($AD$2:$AD27))","v":168},{"$f":"INDIRECT(\"'関数（書き）'!C\" & COLUMN(K$1)+SUM($AD$2:$AD27))","v":197},{"$f":"INDIRECT(\"'関数（読み）'!C\" & COLUMN(B$1)+SUM($AD$2:$AD27))","v":194},{"$f":"INDIRECT(\"'関数（読み）'!C\" & COLUMN(C$1)+SUM($AD$2:$AD27))","v":156},{"$f":"INDIRECT(\"'関数（読み）'!C\" & COLUMN(D$1)+SUM($AD$2:$AD27))","v":153},{"$f":"INDIRECT(\"'関数（読み）'!C\" & COLUMN(E$1)+SUM($AD$2:$AD27))","v":53},{"$f":"INDIRECT(\"'関数（読み）'!C\" & COLUMN(F$1)+SUM($AD$2:$AD27))","v":19},{"$f":"INDIRECT(\"'関数（読み）'!C\" & COLUMN(G$1)+SUM($AD$2:$AD27))","v":118},{"$f":"INDIRECT(\"'関数（読み）'!C\" & COLUMN(H$1)+SUM($AD$2:$AD27))","v":15},{"$f":"INDIRECT(\"'関数（読み）'!C\" & COLUMN(I$1)+SUM($AD$2:$AD27))","v":130},{"$f":"INDIRECT(\"'関数（読み）'!C\" & COLUMN(J$1)+SUM($AD$2:$AD27))","v":55},{"$f":"INDIRECT(\"'関数（読み）'!C\" & COLUMN(K$1)+SUM($AD$2:$AD27))","v":104}]
["⑳","⑲","⑱","⑰","⑯","⑮","⑭","⑬","⑫","⑪","⑩","⑨","⑧","⑦","⑥","⑤","④","③","②","①","次の［　　　　］の部分の漢字には読みがなをひらがなで書き、カタカナは漢字に直しなさい。",11,"「漢字の博士検定試験」練習問題　",null,null,null,null,null,"←",10,"問",{"$f":"AH22+1","v":31},"～",{"$f":"SUM($AD$2:$AD27)+10","v":40},"問まで",{"$f":"COUNTIF($A$1:$T$200,T28)","v":2}]
[{"$f":"IF(A26=\"\",\"\",VLOOKUP(A26,漢字書き!$A$2:$N$506,6,0))","v":"［エンブン］の取りすぎ"},{"$f":"IF(B26=\"\",\"\",VLOOKUP(B26,漢字書き!$A$2:$N$506,6,0))","v":"［カジツ］のしゅうかく"},{"$f":"IF(C26=\"\",\"\",VLOOKUP(C26,漢字書き!$A$2:$N$506,6,0))","v":"［モノガタリ］を読む"},{"$f":"IF(D26=\"\",\"\",VLOOKUP(D26,漢字書き!$A$2:$N$506,6,0))","v":"たくさんの［ケンブツ］人"},{"$f":"IF(E26=\"\",\"\",VLOOKUP(E26,漢字書き!$A$2:$N$506,6,0))","v":"みかんの［カワ］"},{"$f":"IF(F26=\"\",\"\",VLOOKUP(F26,漢字書き!$A$2:$N$506,6,0))","v":"［カダイ］をあたえられる"},{"$f":"IF(G26=\"\",\"\",VLOOKUP(G26,漢字書き!$A$2:$N$506,6,0))","v":"［オカヤマケン］の出身"},{"$f":"IF(H26=\"\",\"\",VLOOKUP(H26,漢字書き!$A$2:$N$506,6,0))","v":"［カンカク］がするどい"},{"$f":"IF(I26=\"\",\"\",VLOOKUP(I26,漢字書き!$A$2:$N$506,6,0))","v":"［エイ］ゆうになる"},{"$f":"IF(J26=\"\",\"\",VLOOKUP(J26,漢字書き!$A$2:$N$506,6,0))","v":"字を［オボ］える"},{"$f":"IF(K26=\"\",\"\",VLOOKUP(K26,漢字読み!$A$2:$O$506,6,0))","v":"［観光］地をおとずれる"},{"$f":"IF(L26=\"\",\"\",VLOOKUP(L26,漢字読み!$A$2:$O$506,6,0))","v":"［岡山県］に帰る"},{"$f":"IF(M26=\"\",\"\",VLOOKUP(M26,漢字読み!$A$2:$O$506,6,0))","v":"［品位］が問われる"},{"$f":"IF(N26=\"\",\"\",VLOOKUP(N26,漢字読み!$A$2:$O$506,6,0))","v":"［病院］でみてもらう"},{"$f":"IF(O26=\"\",\"\",VLOOKUP(O26,漢字読み!$A$2:$O$506,6,0))","v":"新聞を［配達］する"},{"$f":"IF(P26=\"\",\"\",VLOOKUP(P26,漢字読み!$A$2:$O$506,6,0))","v":"［落葉］する木"},{"$f":"IF(Q26=\"\",\"\",VLOOKUP(Q26,漢字読み!$A$2:$O$506,6,0))","v":"［波長］が合う"},{"$f":"IF(R26=\"\",\"\",VLOOKUP(R26,漢字読み!$A$2:$O$506,6,0))","v":"水に［流］す"},{"$f":"IF(S26=\"\",\"\",VLOOKUP(S26,漢字読み!$A$2:$O$506,6,0))","v":"車の［部品］"},{"$f":"IF(T26=\"\",\"\",VLOOKUP(T26,漢字読み!$A$2:$O$506,6,0))","v":"火に［油］をそそぐ"},null,"級"]
[null,null,null,null,null,null,null,null,null,null,null,null,null,null,null,null,null,null,null,null,null,"名前"]
[{"$f":"IF(A26=\"\",\"\",IF(VLOOKUP(A26,漢字書き!$A$2:$N$502,7,0)=0,\"\",VLOOKUP(A26,漢字書き!$A$2:$N$502,7,0)))","v":""},{"$f":"IF(B26=\"\",\"\",IF(VLOOKUP(B26,漢字書き!$A$2:$N$502,7,0)=0,\"\",VLOOKUP(B26,漢字書き!$A$2:$N$502,7,0)))","v":""},{"$f":"IF(C26=\"\",\"\",IF(VLOOKUP(C26,漢字書き!$A$2:$N$502,7,0)=0,\"\",VLOOKUP(C26,漢字書き!$A$2:$N$502,7,0)))","v":""},{"$f":"IF(D26=\"\",\"\",IF(VLOOKUP(D26,漢字書き!$A$2:$N$502,7,0)=0,\"\",VLOOKUP(D26,漢字書き!$A$2:$N$502,7,0)))","v":"人"},{"$f":"IF(E26=\"\",\"\",IF(VLOOKUP(E26,漢字書き!$A$2:$N$502,7,0)=0,\"\",VLOOKUP(E26,漢字書き!$A$2:$N$502,7,0)))","v":""},{"$f":"IF(F26=\"\",\"\",IF(VLOOKUP(F26,漢字書き!$A$2:$N$502,7,0)=0,\"\",VLOOKUP(F26,漢字書き!$A$2:$N$502,7,0)))","v":""},{"$f":"IF(G26=\"\",\"\",IF(VLOOKUP(G26,漢字書き!$A$2:$N$502,7,0)=0,\"\",VLOOKUP(G26,漢字書き!$A$2:$N$502,7,0)))","v":""},{"$f":"IF(H26=\"\",\"\",IF(VLOOKUP(H26,漢字書き!$A$2:$N$502,7,0)=0,\"\",VLOOKUP(H26,漢字書き!$A$2:$N$502,7,0)))","v":""},{"$f":"IF(I26=\"\",\"\",IF(VLOOKUP(I26,漢字書き!$A$2:$N$502,7,0)=0,\"\",VLOOKUP(I26,漢字書き!$A$2:$N$502,7,0)))","v":"ゆう"},{"$f":"IF(J26=\"\",\"\",IF(VLOOKUP(J26,漢字書き!$A$2:$N$502,7,0)=0,\"\",VLOOKUP(J26,漢字書き!$A$2:$N$502,7,0)))","v":"える"},{"$f":"IF(K26=\"\",\"\",IF(VLOOKUP(K26,漢字読み!$A$2:$O$502,7,0)=0,\"\",VLOOKUP(K26,漢字読み!$A$2:$O$502,7,0)))","v":"地"},{"$f":"IF(L26=\"\",\"\",IF(VLOOKUP(L26,漢字読み!$A$2:$O$502,7,0)=0,\"\",VLOOKUP(L26,漢字読み!$A$2:$O$502,7,0)))","v":""},{"$f":"IF(M26=\"\",\"\",IF(VLOOKUP(M26,漢字読み!$A$2:$O$502,7,0)=0,\"\",VLOOKUP(M26,漢字読み!$A$2:$O$502,7,0)))","v":""},{"$f":"IF(N26=\"\",\"\",IF(VLOOKUP(N26,漢字読み!$A$2:$O$502,7,0)=0,\"\",VLOOKUP(N26,漢字読み!$A$2:$O$502,7,0)))","v":""},{"$f":"IF(O26=\"\",\"\",IF(VLOOKUP(O26,漢字読み!$A$2:$O$502,7,0)=0,\"\",VLOOKUP(O26,漢字読み!$A$2:$O$502,7,0)))","v":"する"},{"$f":"IF(P26=\"\",\"\",IF(VLOOKUP(P26,漢字読み!$A$2:$O$502,7,0)=0,\"\",VLOOKUP(P26,漢字読み!$A$2:$O$502,7,0)))","v":"する"},{"$f":"IF(Q26=\"\",\"\",IF(VLOOKUP(Q26,漢字読み!$A$2:$O$502,7,0)=0,\"\",VLOOKUP(Q26,漢字読み!$A$2:$O$502,7,0)))","v":""},{"$f":"IF(R26=\"\",\"\",IF(VLOOKUP(R26,漢字読み!$A$2:$O$502,7,0)=0,\"\",VLOOKUP(R26,漢字読み!$A$2:$O$502,7,0)))","v":"す"},{"$f":"IF(S26=\"\",\"\",IF(VLOOKUP(S26,漢字読み!$A$2:$O$502,7,0)=0,\"\",VLOOKUP(S26,漢字読み!$A$2:$O$502,7,0)))","v":""},{"$f":"IF(T26=\"\",\"\",IF(VLOOKUP(T26,漢字読み!$A$2:$O$502,7,0)=0,\"\",VLOOKUP(T26,漢字読み!$A$2:$O$502,7,0)))","v":""},null,null,"和歌山県教育委員会"]
[{"$f":"A21","v":113},{"$f":"B21","v":158},{"$f":"C21","v":125},{"$f":"D21","v":2},{"$f":"E21","v":72},{"$f":"F21","v":224},{"$f":"G21","v":225},{"$f":"H21","v":161},{"$f":"I21","v":81},{"$f":"J21","v":127},{"$f":"K21","v":18},{"$f":"L21","v":123},{"$f":"M21","v":40},{"$f":"N21","v":181},{"$f":"O21","v":80},{"$f":"P21","v":69},{"$f":"Q21","v":2},{"$f":"R21","v":6},{"$f":"S21","v":210},{"$f":"T21","v":111}]
["⑳","⑲","⑱","⑰","⑯","⑮","⑭","⑬","⑫","⑪","⑩","⑨","⑧","⑦","⑥","⑤","④","③","②","①","次の［　　　　］の部分の漢字には読みがなをひらがなで書き、カタカナは漢字に直しなさい。",11,"「漢字の博士検定試験」練習問題　"]
[{"$f":"IF(A31=\"\",\"\",VLOOKUP(A31,漢字書き!$A$2:$N$506,6,0))","v":"［ユウエンチ］に行く"},{"$f":"IF(B31=\"\",\"\",VLOOKUP(B31,漢字書き!$A$2:$N$506,6,0))","v":"［イフク］を整える"},{"$f":"IF(C31=\"\",\"\",VLOOKUP(C31,漢字書き!$A$2:$N$506,6,0))","v":"［ヨウキ］なせいかく"},{"$f":"IF(D31=\"\",\"\",VLOOKUP(D31,漢字書き!$A$2:$N$506,6,0))","v":"［ユ］をわかす"},{"$f":"IF(E31=\"\",\"\",VLOOKUP(E31,漢字書き!$A$2:$N$506,6,0))","v":"薬を［フクヨウ］する"},{"$f":"IF(F31=\"\",\"\",VLOOKUP(F31,漢字書き!$A$2:$N$506,6,0))","v":"答えを［モト］める"},{"$f":"IF(G31=\"\",\"\",VLOOKUP(G31,漢字書き!$A$2:$N$506,6,0))","v":"［クマ］を発見する"},{"$f":"IF(H31=\"\",\"\",VLOOKUP(H31,漢字書き!$A$2:$N$506,6,0))","v":"［クライ］をそろえる"},{"$f":"IF(I31=\"\",\"\",VLOOKUP(I31,漢字書き!$A$2:$N$506,6,0))","v":"［タイ］らな所におく"},{"$f":"IF(J31=\"\",\"\",VLOOKUP(J31,漢字書き!$A$2:$N$506,6,0))","v":"はだかの［オウサマ］"},{"$f":"IF(K31=\"\",\"\",VLOOKUP(K31,漢字読み!$A$2:$O$506,6,0))","v":"高い［波］に気をつける"},{"$f":"IF(L31=\"\",\"\",VLOOKUP(L31,漢字読み!$A$2:$O$506,6,0))","v":"［様子］がわからない"},{"$f":"IF(M31=\"\",\"\",VLOOKUP(M31,漢字読み!$A$2:$O$506,6,0))","v":"［美］しいけしき"},{"$f":"IF(N31=\"\",\"\",VLOOKUP(N31,漢字読み!$A$2:$O$506,6,0))","v":"［街］の光が消える"},{"$f":"IF(O31=\"\",\"\",VLOOKUP(O31,漢字読み!$A$2:$O$506,6,0))","v":"魚を［放流］する"},{"$f":"IF(P31=\"\",\"\",VLOOKUP(P31,漢字読み!$A$2:$O$506,6,0))","v":"［品物］をならべる"},{"$f":"IF(Q31=\"\",\"\",VLOOKUP(Q31,漢字読み!$A$2:$O$506,6,0))","v":"［湯］に水をまぜる"},{"$f":"IF(R31=\"\",\"\",VLOOKUP(R31,漢字読み!$A$2:$O$506,6,0))","v":"山に［登］る"},{"$f":"IF(S31=\"\",\"\",VLOOKUP(S31,漢字読み!$A$2:$O$506,6,0))","v":"助けを［求］める"},{"$f":"IF(T31=\"\",\"\",VLOOKUP(T31,漢字読み!$A$2:$O$506,6,0))","v":"夏休みの［予定］"},null,"級"]
[{"$f":"IF(A$11=\"\",\"\",VLOOKUP(A31,漢字書き!$A$2:$O$506,8,0))","v":"遊園地"},{"$f":"IF(B$11=\"\",\"\",VLOOKUP(B31,漢字書き!$A$2:$O$506,8,0))","v":"衣服"},{"$f":"IF(C$11=\"\",\"\",VLOOKUP(C31,漢字書き!$A$2:$O$506,8,0))","v":"陽気"},{"$f":"IF(D$11=\"\",\"\",VLOOKUP(D31,漢字書き!$A$2:$O$506,8,0))","v":"湯"},{"$f":"IF(E$11=\"\",\"\",VLOOKUP(E31,漢字書き!$A$2:$O$506,8,0))","v":"服用"},{"$f":"IF(F$11=\"\",\"\",VLOOKUP(F31,漢字書き!$A$2:$O$506,8,0))","v":"求"},{"$f":"IF(G$11=\"\",\"\",VLOOKUP(G31,漢字書き!$A$2:$O$506,8,0))","v":"熊"},{"$f":"IF(H$11=\"\",\"\",VLOOKUP(H31,漢字書き!$A$2:$O$506,8,0))","v":"位"},{"$f":"IF(I$11=\"\",\"\",VLOOKUP(I31,漢字書き!$A$2:$O$506,8,0))","v":"平"},{"$f":"IF(J$11=\"\",\"\",VLOOKUP(J31,漢字書き!$A$2:$O$506,8,0))","v":"王様"},{"$f":"IF(K$11=\"\",\"\",VLOOKUP(K31,漢字読み!$A$2:$O$506,8,0))","v":"なみ"},{"$f":"IF(L$11=\"\",\"\",VLOOKUP(L31,漢字読み!$A$2:$O$506,8,0))","v":"ようす"},{"$f":"IF(M$11=\"\",\"\",VLOOKUP(M31,漢字読み!$A$2:$O$506,8,0))","v":"うつく"},{"$f":"IF(N$11=\"\",\"\",VLOOKUP(N31,漢字読み!$A$2:$O$506,8,0))","v":"まち"},{"$f":"IF(O$11=\"\",\"\",VLOOKUP(O31,漢字読み!$A$2:$O$506,8,0))","v":"ほうりゅう"},{"$f":"IF(P$11=\"\",\"\",VLOOKUP(P31,漢字読み!$A$2:$O$506,8,0))","v":"しなもの"},{"$f":"IF(Q$11=\"\",\"\",VLOOKUP(Q31,漢字読み!$A$2:$O$506,8,0))","v":"ゆ"},{"$f":"IF(R$11=\"\",\"\",VLOOKUP(R31,漢字読み!$A$2:$O$506,8,0))","v":"のぼ"},{"$f":"IF(S$11=\"\",\"\",VLOOKUP(S31,漢字読み!$A$2:$O$506,8,0))","v":"もと"},{"$f":"IF(T$11=\"\",\"\",VLOOKUP(T31,漢字読み!$A$2:$O$506,8,0))","v":"よてい"},null,"名前"]
[{"$f":"IF(A31=\"\",\"\",IF(VLOOKUP(A31,漢字書き!$A$2:$N$502,7,0)=0,\"\",VLOOKUP(A31,漢字書き!$A$2:$N$502,7,0)))","v":""},{"$f":"IF(B31=\"\",\"\",IF(VLOOKUP(B31,漢字書き!$A$2:$N$502,7,0)=0,\"\",VLOOKUP(B31,漢字書き!$A$2:$N$502,7,0)))","v":""},{"$f":"IF(C31=\"\",\"\",IF(VLOOKUP(C31,漢字書き!$A$2:$N$502,7,0)=0,\"\",VLOOKUP(C31,漢字書き!$A$2:$N$502,7,0)))","v":"な"},{"$f":"IF(D31=\"\",\"\",IF(VLOOKUP(D31,漢字書き!$A$2:$N$502,7,0)=0,\"\",VLOOKUP(D31,漢字書き!$A$2:$N$502,7,0)))","v":""},{"$f":"IF(E31=\"\",\"\",IF(VLOOKUP(E31,漢字書き!$A$2:$N$502,7,0)=0,\"\",VLOOKUP(E31,漢字書き!$A$2:$N$502,7,0)))","v":"する"},{"$f":"IF(F31=\"\",\"\",IF(VLOOKUP(F31,漢字書き!$A$2:$N$502,7,0)=0,\"\",VLOOKUP(F31,漢字書き!$A$2:$N$502,7,0)))","v":"める"},{"$f":"IF(G31=\"\",\"\",IF(VLOOKUP(G31,漢字書き!$A$2:$N$502,7,0)=0,\"\",VLOOKUP(G31,漢字書き!$A$2:$N$502,7,0)))","v":""},{"$f":"IF(H31=\"\",\"\",IF(VLOOKUP(H31,漢字書き!$A$2:$N$502,7,0)=0,\"\",VLOOKUP(H31,漢字書き!$A$2:$N$502,7,0)))","v":""},{"$f":"IF(I31=\"\",\"\",IF(VLOOKUP(I31,漢字書き!$A$2:$N$502,7,0)=0,\"\",VLOOKUP(I31,漢字書き!$A$2:$N$502,7,0)))","v":"らな"},{"$f":"IF(J31=\"\",\"\",IF(VLOOKUP(J31,漢字書き!$A$2:$N$502,7,0)=0,\"\",VLOOKUP(J31,漢字書き!$A$2:$N$502,7,0)))","v":""},{"$f":"IF(K31=\"\",\"\",IF(VLOOKUP(K31,漢字読み!$A$2:$O$502,7,0)=0,\"\",VLOOKUP(K31,漢字読み!$A$2:$O$502,7,0)))","v":""},{"$f":"IF(L31=\"\",\"\",IF(VLOOKUP(L31,漢字読み!$A$2:$O$502,7,0)=0,\"\",VLOOKUP(L31,漢字読み!$A$2:$O$502,7,0)))","v":""},{"$f":"IF(M31=\"\",\"\",IF(VLOOKUP(M31,漢字読み!$A$2:$O$502,7,0)=0,\"\",VLOOKUP(M31,漢字読み!$A$2:$O$502,7,0)))","v":"しい"},{"$f":"IF(N31=\"\",\"\",IF(VLOOKUP(N31,漢字読み!$A$2:$O$502,7,0)=0,\"\",VLOOKUP(N31,漢字読み!$A$2:$O$502,7,0)))","v":""},{"$f":"IF(O31=\"\",\"\",IF(VLOOKUP(O31,漢字読み!$A$2:$O$502,7,0)=0,\"\",VLOOKUP(O31,漢字読み!$A$2:$O$502,7,0)))","v":"する"},{"$f":"IF(P31=\"\",\"\",IF(VLOOKUP(P31,漢字読み!$A$2:$O$502,7,0)=0,\"\",VLOOKUP(P31,漢字読み!$A$2:$O$502,7,0)))","v":""},{"$f":"IF(Q31=\"\",\"\",IF(VLOOKUP(Q31,漢字読み!$A$2:$O$502,7,0)=0,\"\",VLOOKUP(Q31,漢字読み!$A$2:$O$502,7,0)))","v":""},{"$f":"IF(R31=\"\",\"\",IF(VLOOKUP(R31,漢字読み!$A$2:$O$502,7,0)=0,\"\",VLOOKUP(R31,漢字読み!$A$2:$O$502,7,0)))","v":"る"},{"$f":"IF(S31=\"\",\"\",IF(VLOOKUP(S31,漢字読み!$A$2:$O$502,7,0)=0,\"\",VLOOKUP(S31,漢字読み!$A$2:$O$502,7,0)))","v":"める"},{"$f":"IF(T31=\"\",\"\",IF(VLOOKUP(T31,漢字読み!$A$2:$O$502,7,0)=0,\"\",VLOOKUP(T31,漢字読み!$A$2:$O$502,7,0)))","v":""},null,null,"和歌山県教育委員会"]
[{"$f":"A26","v":171},{"$f":"B26","v":178},{"$f":"C26","v":78},{"$f":"D26","v":75},{"$f":"E26","v":42},{"$f":"F26","v":184},{"$f":"G26","v":163},{"$f":"H26","v":195},{"$f":"I26","v":168},{"$f":"J26","v":197},{"$f":"K26","v":194},{"$f":"L26","v":156},{"$f":"M26","v":153},{"$f":"N26","v":53},{"$f":"O26","v":19},{"$f":"P26","v":118},{"$f":"Q26","v":15},{"$f":"R26","v":130},{"$f":"S26","v":55},{"$f":"T26","v":104}]
["⑳","⑲","⑱","⑰","⑯","⑮","⑭","⑬","⑫","⑪","⑩","⑨","⑧","⑦","⑥","⑤","④","③","②","①","次の［　　　　］の部分の漢字には読みがなをひらがなで書き、カタカナは漢字に直しなさい。",11,"「漢字の博士検定試験」練習問題　"]
[{"$f":"IF(A36=\"\",\"\",VLOOKUP(A36,漢字書き!$A$2:$N$506,6,0))","v":"［エンブン］の取りすぎ"},{"$f":"IF(B36=\"\",\"\",VLOOKUP(B36,漢字書き!$A$2:$N$506,6,0))","v":"［カジツ］のしゅうかく"},{"$f":"IF(C36=\"\",\"\",VLOOKUP(C36,漢字書き!$A$2:$N$506,6,0))","v":"［モノガタリ］を読む"},{"$f":"IF(D36=\"\",\"\",VLOOKUP(D36,漢字書き!$A$2:$N$506,6,0))","v":"たくさんの［ケンブツ］人"},{"$f":"IF(E36=\"\",\"\",VLOOKUP(E36,漢字書き!$A$2:$N$506,6,0))","v":"みかんの［カワ］"},{"$f":"IF(F36=\"\",\"\",VLOOKUP(F36,漢字書き!$A$2:$N$506,6,0))","v":"［カダイ］をあたえられる"},{"$f":"IF(G36=\"\",\"\",VLOOKUP(G36,漢字書き!$A$2:$N$506,6,0))","v":"［オカヤマケン］の出身"},{"$f":"IF(H36=\"\",\"\",VLOOKUP(H36,漢字書き!$A$2:$N$506,6,0))","v":"［カンカク］がするどい"},{"$f":"IF(I36=\"\",\"\",VLOOKUP(I36,漢字書き!$A$2:$N$506,6,0))","v":"［エイ］ゆうになる"},{"$f":"IF(J36=\"\",\"\",VLOOKUP(J36,漢字書き!$A$2:$N$506,6,0))","v":"字を［オボ］える"},{"$f":"IF(K36=\"\",\"\",VLOOKUP(K36,漢字読み!$A$2:$O$506,6,0))","v":"［観光］地をおとずれる"},{"$f":"IF(L36=\"\",\"\",VLOOKUP(L36,漢字読み!$A$2:$O$506,6,0))","v":"［岡山県］に帰る"},{"$f":"IF(M36=\"\",\"\",VLOOKUP(M36,漢字読み!$A$2:$O$506,6,0))","v":"［品位］が問われる"},{"$f":"IF(N36=\"\",\"\",VLOOKUP(N36,漢字読み!$A$2:$O$506,6,0))","v":"［病院］でみてもらう"},{"$f":"IF(O36=\"\",\"\",VLOOKUP(O36,漢字読み!$A$2:$O$506,6,0))","v":"新聞を［配達］する"},{"$f":"IF(P36=\"\",\"\",VLOOKUP(P36,漢字読み!$A$2:$O$506,6,0))","v":"［落葉］する木"},{"$f":"IF(Q36=\"\",\"\",VLOOKUP(Q36,漢字読み!$A$2:$O$506,6,0))","v":"［波長］が合う"},{"$f":"IF(R36=\"\",\"\",VLOOKUP(R36,漢字読み!$A$2:$O$506,6,0))","v":"水に［流］す"},{"$f":"IF(S36=\"\",\"\",VLOOKUP(S36,漢字読み!$A$2:$O$506,6,0))","v":"車の［部品］"},{"$f":"IF(T36=\"\",\"\",VLOOKUP(T36,漢字読み!$A$2:$O$506,6,0))","v":"火に［油］をそそぐ"},null,"級"]
[{"$f":"IF(A$16=\"\",\"\",VLOOKUP(A36,漢字書き!$A$2:$O$506,8,0))","v":"塩分"},{"$f":"IF(B$16=\"\",\"\",VLOOKUP(B36,漢字書き!$A$2:$O$506,8,0))","v":"果実"},{"$f":"IF(C$16=\"\",\"\",VLOOKUP(C36,漢字書き!$A$2:$O$506,8,0))","v":"物語"},{"$f":"IF(D$16=\"\",\"\",VLOOKUP(D36,漢字書き!$A$2:$O$506,8,0))","v":"見物"},{"$f":"IF(E$16=\"\",\"\",VLOOKUP(E36,漢字書き!$A$2:$O$506,8,0))","v":"皮"},{"$f":"IF(F$16=\"\",\"\",VLOOKUP(F36,漢字書き!$A$2:$O$506,8,0))","v":"課題"},{"$f":"IF(G$16=\"\",\"\",VLOOKUP(G36,漢字書き!$A$2:$O$506,8,0))","v":"岡山県"},{"$f":"IF(H$16=\"\",\"\",VLOOKUP(H36,漢字書き!$A$2:$O$506,8,0))","v":"感覚"},{"$f":"IF(I$16=\"\",\"\",VLOOKUP(I36,漢字書き!$A$2:$O$506,8,0))","v":"英"},{"$f":"IF(J$16=\"\",\"\",VLOOKUP(J36,漢字書き!$A$2:$O$506,8,0))","v":"覚"},{"$f":"IF(K$16=\"\",\"\",VLOOKUP(K36,漢字読み!$A$2:$O$506,8,0))","v":"かんこう"},{"$f":"IF(L$16=\"\",\"\",VLOOKUP(L36,漢字読み!$A$2:$O$506,8,0))","v":"おかやまけん"},{"$f":"IF(M$16=\"\",\"\",VLOOKUP(M36,漢字読み!$A$2:$O$506,8,0))","v":"ひんい"},{"$f":"IF(N$16=\"\",\"\",VLOOKUP(N36,漢字読み!$A$2:$O$506,8,0))","v":"びょういん"},{"$f":"IF(O$16=\"\",\"\",VLOOKUP(O36,漢字読み!$A$2:$O$506,8,0))","v":"はいたつ"},{"$f":"IF(P$16=\"\",\"\",VLOOKUP(P36,漢字読み!$A$2:$O$506,8,0))","v":"らくよう"},{"$f":"IF(Q$16=\"\",\"\",VLOOKUP(Q36,漢字読み!$A$2:$O$506,8,0))","v":"はちょう"},{"$f":"IF(R$16=\"\",\"\",VLOOKUP(R36,漢字読み!$A$2:$O$506,8,0))","v":"なが"},{"$f":"IF(S$16=\"\",\"\",VLOOKUP(S36,漢字読み!$A$2:$O$506,8,0))","v":"ぶひん"},{"$f":"IF(T$16=\"\",\"\",VLOOKUP(T36,漢字読み!$A$2:$O$506,8,0))","v":"あぶら"},null,"名前"]
[{"$f":"IF(A36=\"\",\"\",IF(VLOOKUP(A36,漢字書き!$A$2:$N$502,7,0)=0,\"\",VLOOKUP(A36,漢字書き!$A$2:$N$502,7,0)))","v":""},{"$f":"IF(B36=\"\",\"\",IF(VLOOKUP(B36,漢字書き!$A$2:$N$502,7,0)=0,\"\",VLOOKUP(B36,漢字書き!$A$2:$N$502,7,0)))","v":""},{"$f":"IF(C36=\"\",\"\",IF(VLOOKUP(C36,漢字書き!$A$2:$N$502,7,0)=0,\"\",VLOOKUP(C36,漢字書き!$A$2:$N$502,7,0)))","v":""},{"$f":"IF(D36=\"\",\"\",IF(VLOOKUP(D36,漢字書き!$A$2:$N$502,7,0)=0,\"\",VLOOKUP(D36,漢字書き!$A$2:$N$502,7,0)))","v":"人"},{"$f":"IF(E36=\"\",\"\",IF(VLOOKUP(E36,漢字書き!$A$2:$N$502,7,0)=0,\"\",VLOOKUP(E36,漢字書き!$A$2:$N$502,7,0)))","v":""},{"$f":"IF(F36=\"\",\"\",IF(VLOOKUP(F36,漢字書き!$A$2:$N$502,7,0)=0,\"\",VLOOKUP(F36,漢字書き!$A$2:$N$502,7,0)))","v":""},{"$f":"IF(G36=\"\",\"\",IF(VLOOKUP(G36,漢字書き!$A$2:$N$502,7,0)=0,\"\",VLOOKUP(G36,漢字書き!$A$2:$N$502,7,0)))","v":""},{"$f":"IF(H36=\"\",\"\",IF(VLOOKUP(H36,漢字書き!$A$2:$N$502,7,0)=0,\"\",VLOOKUP(H36,漢字書き!$A$2:$N$502,7,0)))","v":""},{"$f":"IF(I36=\"\",\"\",IF(VLOOKUP(I36,漢字書き!$A$2:$N$502,7,0)=0,\"\",VLOOKUP(I36,漢字書き!$A$2:$N$502,7,0)))","v":"ゆう"},{"$f":"IF(J36=\"\",\"\",IF(VLOOKUP(J36,漢字書き!$A$2:$N$502,7,0)=0,\"\",VLOOKUP(J36,漢字書き!$A$2:$N$502,7,0)))","v":"える"},{"$f":"IF(K36=\"\",\"\",IF(VLOOKUP(K36,漢字読み!$A$2:$O$502,7,0)=0,\"\",VLOOKUP(K36,漢字読み!$A$2:$O$502,7,0)))","v":"地"},{"$f":"IF(L36=\"\",\"\",IF(VLOOKUP(L36,漢字読み!$A$2:$O$502,7,0)=0,\"\",VLOOKUP(L36,漢字読み!$A$2:$O$502,7,0)))","v":""},{"$f":"IF(M36=\"\",\"\",IF(VLOOKUP(M36,漢字読み!$A$2:$O$502,7,0)=0,\"\",VLOOKUP(M36,漢字読み!$A$2:$O$502,7,0)))","v":""},{"$f":"IF(N36=\"\",\"\",IF(VLOOKUP(N36,漢字読み!$A$2:$O$502,7,0)=0,\"\",VLOOKUP(N36,漢字読み!$A$2:$O$502,7,0)))","v":""},{"$f":"IF(O36=\"\",\"\",IF(VLOOKUP(O36,漢字読み!$A$2:$O$502,7,0)=0,\"\",VLOOKUP(O36,漢字読み!$A$2:$O$502,7,0)))","v":"する"},{"$f":"IF(P36=\"\",\"\",IF(VLOOKUP(P36,漢字読み!$A$2:$O$502,7,0)=0,\"\",VLOOKUP(P36,漢字読み!$A$2:$O$502,7,0)))","v":"する"},{"$f":"IF(Q36=\"\",\"\",IF(VLOOKUP(Q36,漢字読み!$A$2:$O$502,7,0)=0,\"\",VLOOKUP(Q36,漢字読み!$A$2:$O$502,7,0)))","v":""},{"$f":"IF(R36=\"\",\"\",IF(VLOOKUP(R36,漢字読み!$A$2:$O$502,7,0)=0,\"\",VLOOKUP(R36,漢字読み!$A$2:$O$502,7,0)))","v":"す"},{"$f":"IF(S36=\"\",\"\",IF(VLOOKUP(S36,漢字読み!$A$2:$O$502,7,0)=0,\"\",VLOOKUP(S36,漢字読み!$A$2:$O$502,7,0)))","v":""},{"$f":"IF(T36=\"\",\"\",IF(VLOOKUP(T36,漢字読み!$A$2:$O$502,7,0)=0,\"\",VLOOKUP(T36,漢字読み!$A$2:$O$502,7,0)))","v":""},null,null,"和歌山県教育委員会"]
[{"$f":"INDIRECT(\"'関数（書き）'!C\" & COLUMN(B$1)+SUM($AD$2:$AD42))","v":6},{"$f":"INDIRECT(\"'関数（書き）'!C\" & COLUMN(C$1)+SUM($AD$2:$AD42))","v":177},{"$f":"INDIRECT(\"'関数（書き）'!C\" & COLUMN(D$1)+SUM($AD$2:$AD42))","v":108},{"$f":"INDIRECT(\"'関数（書き）'!C\" & COLUMN(E$1)+SUM($AD$2:$AD42))","v":54},{"$f":"INDIRECT(\"'関数（書き）'!C\" & COLUMN(F$1)+SUM($AD$2:$AD42))","v":115},{"$f":"INDIRECT(\"'関数（書き）'!C\" & COLUMN(G$1)+SUM($AD$2:$AD42))","v":136},{"$f":"INDIRECT(\"'関数（書き）'!C\" & COLUMN(H$1)+SUM($AD$2:$AD42))","v":214},{"$f":"INDIRECT(\"'関数（書き）'!C\" & COLUMN(I$1)+SUM($AD$2:$AD42))","v":40},{"$f":"INDIRECT(\"'関数（書き）'!C\" & COLUMN(J$1)+SUM($AD$2:$AD42))","v":169},{"$f":"INDIRECT(\"'関数（書き）'!C\" & COLUMN(K$1)+SUM($AD$2:$AD42))","v":23},{"$f":"INDIRECT(\"'関数（読み）'!C\" & COLUMN(B$1)+SUM($AD$2:$AD42))","v":51},{"$f":"INDIRECT(\"'関数（読み）'!C\" & COLUMN(C$1)+SUM($AD$2:$AD42))","v":204},{"$f":"INDIRECT(\"'関数（読み）'!C\" & COLUMN(D$1)+SUM($AD$2:$AD42))","v":92},{"$f":"INDIRECT(\"'関数（読み）'!C\" & COLUMN(E$1)+SUM($AD$2:$AD42))","v":11},{"$f":"INDIRECT(\"'関数（読み）'!C\" & COLUMN(F$1)+SUM($AD$2:$AD42))","v":102},{"$f":"INDIRECT(\"'関数（読み）'!C\" & COLUMN(G$1)+SUM($AD$2:$AD42))","v":134},{"$f":"INDIRECT(\"'関数（読み）'!C\" & COLUMN(H$1)+SUM($AD$2:$AD42))","v":197},{"$f":"INDIRECT(\"'関数（読み）'!C\" & COLUMN(I$1)+SUM($AD$2:$AD42))","v":189},{"$f":"INDIRECT(\"'関数（読み）'!C\" & COLUMN(J$1)+SUM($AD$2:$AD42))","v":112},{"$f":"INDIRECT(\"'関数（読み）'!C\" & COLUMN(K$1)+SUM($AD$2:$AD42))","v":21}]
["⑳","⑲","⑱","⑰","⑯","⑮","⑭","⑬","⑫","⑪","⑩","⑨","⑧","⑦","⑥","⑤","④","③","②","①","次の［　　　　］の部分の漢字には読みがなをひらがなで書き、カタカナは漢字に直しなさい。",11,"「漢字の博士検定試験」練習問題　",null,null,null,null,null,"←",10,"問",{"$f":"AH27+1","v":41},"～",{"$f":"SUM($AD$2:$AD42)+10","v":50},"問まで",{"$f":"COUNTIF($A$1:$T$200,T43)","v":2}]
[{"$f":"IF(A41=\"\",\"\",VLOOKUP(A41,漢字書き!$A$2:$N$506,6,0))","v":"ケーキを［トウブン］する"},{"$f":"IF(B41=\"\",\"\",VLOOKUP(B41,漢字書き!$A$2:$N$506,6,0))","v":"ゲームに［クワ］わる"},{"$f":"IF(C41=\"\",\"\",VLOOKUP(C41,漢字書き!$A$2:$N$506,6,0))","v":"［ジユウ］な生活"},{"$f":"IF(D41=\"\",\"\",VLOOKUP(D41,漢字書き!$A$2:$N$506,6,0))","v":"［ヒョウシ］の写真"},{"$f":"IF(E41=\"\",\"\",VLOOKUP(E41,漢字書き!$A$2:$N$506,6,0))","v":"昔の［アソ］び"},{"$f":"IF(F41=\"\",\"\",VLOOKUP(F41,漢字書き!$A$2:$N$506,6,0))","v":"［リョウホウ］ともほしい"},{"$f":"IF(G41=\"\",\"\",VLOOKUP(G41,漢字書き!$A$2:$N$506,6,0))","v":"［ニイガタケン］の米づくり"},{"$f":"IF(H41=\"\",\"\",VLOOKUP(H41,漢字書き!$A$2:$N$506,6,0))","v":"りんごの［カワ］をむく"},{"$f":"IF(I41=\"\",\"\",VLOOKUP(I41,漢字書き!$A$2:$N$506,6,0))","v":"［エイコウ］のかけ橋"},{"$f":"IF(J41=\"\",\"\",VLOOKUP(J41,漢字書き!$A$2:$N$506,6,0))","v":"ごみ［バコ］を用意する"},{"$f":"IF(K41=\"\",\"\",VLOOKUP(K41,漢字読み!$A$2:$O$506,6,0))","v":"一分は六十［秒］"},{"$f":"IF(L41=\"\",\"\",VLOOKUP(L41,漢字読み!$A$2:$O$506,6,0))","v":"［旗］をふる"},{"$f":"IF(M41=\"\",\"\",VLOOKUP(M41,漢字読み!$A$2:$O$506,6,0))","v":"［問答］をする"},{"$f":"IF(N41=\"\",\"\",VLOOKUP(N41,漢字読み!$A$2:$O$506,6,0))","v":"［童話］を読む"},{"$f":"IF(O41=\"\",\"\",VLOOKUP(O41,漢字読み!$A$2:$O$506,6,0))","v":"［由来］をたずねる"},{"$f":"IF(P41=\"\",\"\",VLOOKUP(P41,漢字読み!$A$2:$O$506,6,0))","v":"一人で［旅］をする"},{"$f":"IF(Q41=\"\",\"\",VLOOKUP(Q41,漢字読み!$A$2:$O$506,6,0))","v":"［願］いがかなう"},{"$f":"IF(R41=\"\",\"\",VLOOKUP(R41,漢字読み!$A$2:$O$506,6,0))","v":"体には［血管］がある"},{"$f":"IF(S41=\"\",\"\",VLOOKUP(S41,漢字読み!$A$2:$O$506,6,0))","v":"［羊毛］のセーター"},{"$f":"IF(T41=\"\",\"\",VLOOKUP(T41,漢字読み!$A$2:$O$506,6,0))","v":"長さを［倍］にする"},null,"級"]
[null,null,null,null,null,null,null,null,null,null,null,null,null,null,null,null,null,null,null,null,null,"名前"]
[{"$f":"IF(A41=\"\",\"\",IF(VLOOKUP(A41,漢字書き!$A$2:$N$502,7,0)=0,\"\",VLOOKUP(A41,漢字書き!$A$2:$N$502,7,0)))","v":"する"},{"$f":"IF(B41=\"\",\"\",IF(VLOOKUP(B41,漢字書き!$A$2:$N$502,7,0)=0,\"\",VLOOKUP(B41,漢字書き!$A$2:$N$502,7,0)))","v":"わる"},{"$f":"IF(C41=\"\",\"\",IF(VLOOKUP(C41,漢字書き!$A$2:$N$502,7,0)=0,\"\",VLOOKUP(C41,漢字書き!$A$2:$N$502,7,0)))","v":"な"},{"$f":"IF(D41=\"\",\"\",IF(VLOOKUP(D41,漢字書き!$A$2:$N$502,7,0)=0,\"\",VLOOKUP(D41,漢字書き!$A$2:$N$502,7,0)))","v":""},{"$f":"IF(E41=\"\",\"\",IF(VLOOKUP(E41,漢字書き!$A$2:$N$502,7,0)=0,\"\",VLOOKUP(E41,漢字書き!$A$2:$N$502,7,0)))","v":"び"},{"$f":"IF(F41=\"\",\"\",IF(VLOOKUP(F41,漢字書き!$A$2:$N$502,7,0)=0,\"\",VLOOKUP(F41,漢字書き!$A$2:$N$502,7,0)))","v":""},{"$f":"IF(G41=\"\",\"\",IF(VLOOKUP(G41,漢字書き!$A$2:$N$502,7,0)=0,\"\",VLOOKUP(G41,漢字書き!$A$2:$N$502,7,0)))","v":""},{"$f":"IF(H41=\"\",\"\",IF(VLOOKUP(H41,漢字書き!$A$2:$N$502,7,0)=0,\"\",VLOOKUP(H41,漢字書き!$A$2:$N$502,7,0)))","v":""},{"$f":"IF(I41=\"\",\"\",IF(VLOOKUP(I41,漢字書き!$A$2:$N$502,7,0)=0,\"\",VLOOKUP(I41,漢字書き!$A$2:$N$502,7,0)))","v":""},{"$f":"IF(J41=\"\",\"\",IF(VLOOKUP(J41,漢字書き!$A$2:$N$502,7,0)=0,\"\",VLOOKUP(J41,漢字書き!$A$2:$N$502,7,0)))","v":""},{"$f":"IF(K41=\"\",\"\",IF(VLOOKUP(K41,漢字読み!$A$2:$O$502,7,0)=0,\"\",VLOOKUP(K41,漢字読み!$A$2:$O$502,7,0)))","v":""},{"$f":"IF(L41=\"\",\"\",IF(VLOOKUP(L41,漢字読み!$A$2:$O$502,7,0)=0,\"\",VLOOKUP(L41,漢字読み!$A$2:$O$502,7,0)))","v":""},{"$f":"IF(M41=\"\",\"\",IF(VLOOKUP(M41,漢字読み!$A$2:$O$502,7,0)=0,\"\",VLOOKUP(M41,漢字読み!$A$2:$O$502,7,0)))","v":""},{"$f":"IF(N41=\"\",\"\",IF(VLOOKUP(N41,漢字読み!$A$2:$O$502,7,0)=0,\"\",VLOOKUP(N41,漢字読み!$A$2:$O$502,7,0)))","v":""},{"$f":"IF(O41=\"\",\"\",IF(VLOOKUP(O41,漢字読み!$A$2:$O$502,7,0)=0,\"\",VLOOKUP(O41,漢字読み!$A$2:$O$502,7,0)))","v":""},{"$f":"IF(P41=\"\",\"\",IF(VLOOKUP(P41,漢字読み!$A$2:$O$502,7,0)=0,\"\",VLOOKUP(P41,漢字読み!$A$2:$O$502,7,0)))","v":""},{"$f":"IF(Q41=\"\",\"\",IF(VLOOKUP(Q41,漢字読み!$A$2:$O$502,7,0)=0,\"\",VLOOKUP(Q41,漢字読み!$A$2:$O$502,7,0)))","v":"い"},{"$f":"IF(R41=\"\",\"\",IF(VLOOKUP(R41,漢字読み!$A$2:$O$502,7,0)=0,\"\",VLOOKUP(R41,漢字読み!$A$2:$O$502,7,0)))","v":""},{"$f":"IF(S41=\"\",\"\",IF(VLOOKUP(S41,漢字読み!$A$2:$O$502,7,0)=0,\"\",VLOOKUP(S41,漢字読み!$A$2:$O$502,7,0)))","v":""},{"$f":"IF(T41=\"\",\"\",IF(VLOOKUP(T41,漢字読み!$A$2:$O$502,7,0)=0,\"\",VLOOKUP(T41,漢字読み!$A$2:$O$502,7,0)))","v":""},null,null,"和歌山県教育委員会"]
[{"$f":"INDIRECT(\"'関数（書き）'!C\" & COLUMN(B$1)+SUM($AD$2:$AD47))","v":103},{"$f":"INDIRECT(\"'関数（書き）'!C\" & COLUMN(C$1)+SUM($AD$2:$AD47))","v":109},{"$f":"INDIRECT(\"'関数（書き）'!C\" & COLUMN(D$1)+SUM($AD$2:$AD47))","v":218},{"$f":"INDIRECT(\"'関数（書き）'!C\" & COLUMN(E$1)+SUM($AD$2:$AD47))","v":170},{"$f":"INDIRECT(\"'関数（書き）'!C\" & COLUMN(F$1)+SUM($AD$2:$AD47))","v":146},{"$f":"INDIRECT(\"'関数（書き）'!C\" & COLUMN(G$1)+SUM($AD$2:$AD47))","v":70},{"$f":"INDIRECT(\"'関数（書き）'!C\" & COLUMN(H$1)+SUM($AD$2:$AD47))","v":215},{"$f":"INDIRECT(\"'関数（書き）'!C\" & COLUMN(I$1)+SUM($AD$2:$AD47))","v":188},{"$f":"INDIRECT(\"'関数（書き）'!C\" & COLUMN(J$1)+SUM($AD$2:$AD47))","v":231},{"$f":"INDIRECT(\"'関数（書き）'!C\" & COLUMN(K$1)+SUM($AD$2:$AD47))","v":154},{"$f":"INDIRECT(\"'関数（読み）'!C\" & COLUMN(B$1)+SUM($AD$2:$AD47))","v":82},{"$f":"INDIRECT(\"'関数（読み）'!C\" & COLUMN(C$1)+SUM($AD$2:$AD47))","v":147},{"$f":"INDIRECT(\"'関数（読み）'!C\" & COLUMN(D$1)+SUM($AD$2:$AD47))","v":151},{"$f":"INDIRECT(\"'関数（読み）'!C\" & COLUMN(E$1)+SUM($AD$2:$AD47))","v":33},{"$f":"INDIRECT(\"'関数（読み）'!C\" & COLUMN(F$1)+SUM($AD$2:$AD47))","v":38},{"$f":"INDIRECT(\"'関数（読み）'!C\" & COLUMN(G$1)+SUM($AD$2:$AD47))","v":160},{"$f":"INDIRECT(\"'関数（読み）'!C\" & COLUMN(H$1)+SUM($AD$2:$AD47))","v":75},{"$f":"INDIRECT(\"'関数（読み）'!C\" & COLUMN(I$1)+SUM($AD$2:$AD47))","v":28},{"$f":"INDIRECT(\"'関数（読み）'!C\" & COLUMN(J$1)+SUM($AD$2:$AD47))","v":161},{"$f":"INDIRECT(\"'関数（読み）'!C\" & COLUMN(K$1)+SUM($AD$2:$AD47))","v":171}]
["⑳","⑲","⑱","⑰","⑯","⑮","⑭","⑬","⑫","⑪","⑩","⑨","⑧","⑦","⑥","⑤","④","③","②","①","次の［　　　　］の部分の漢字には読みがなをひらがなで書き、カタカナは漢字に直しなさい。",11,"「漢字の博士検定試験」練習問題　",null,null,null,null,null,"←",10,"問",{"$f":"AH42+1","v":51},"～",{"$f":"SUM($AD$2:$AD47)+10","v":60},"問まで",{"$f":"COUNTIF($A$1:$T$200,T48)","v":2}]
[{"$f":"IF(A46=\"\",\"\",VLOOKUP(A46,漢字書き!$A$2:$N$506,6,0))","v":"［ヤクシャ］になる"},{"$f":"IF(B46=\"\",\"\",VLOOKUP(B46,漢字書き!$A$2:$N$506,6,0))","v":"石炭と［セキユ］"},{"$f":"IF(C46=\"\",\"\",VLOOKUP(C46,漢字書き!$A$2:$N$506,6,0))","v":"消火[キ]の使い方"},{"$f":"IF(D46=\"\",\"\",VLOOKUP(D46,漢字書き!$A$2:$N$506,6,0))","v":"町が［サカ］える"},{"$f":"IF(E46=\"\",\"\",VLOOKUP(E46,漢字書き!$A$2:$N$506,6,0))","v":"ピアノの［レンシュウ］"},{"$f":"IF(F46=\"\",\"\",VLOOKUP(F46,漢字書き!$A$2:$N$506,6,0))","v":"［ヤキュウブ］の先ぱい"},{"$f":"IF(G46=\"\",\"\",VLOOKUP(G46,漢字書き!$A$2:$N$506,6,0))","v":"日本の［コッキ］"},{"$f":"IF(H46=\"\",\"\",VLOOKUP(H46,漢字書き!$A$2:$N$506,6,0))","v":"すなおに［アラタ］める"},{"$f":"IF(I46=\"\",\"\",VLOOKUP(I46,漢字書き!$A$2:$N$506,6,0))","v":{"$error":"#N/A"}},{"$f":"IF(J46=\"\",\"\",VLOOKUP(J46,漢字書き!$A$2:$N$506,6,0))","v":"［アイチケン］の出身"},{"$f":"IF(K46=\"\",\"\",VLOOKUP(K46,漢字読み!$A$2:$O$506,6,0))","v":"ボールを［放］る"},{"$f":"IF(L46=\"\",\"\",VLOOKUP(L46,漢字読み!$A$2:$O$506,6,0))","v":"家族から［愛］される"},{"$f":"IF(M46=\"\",\"\",VLOOKUP(M46,漢字読み!$A$2:$O$506,6,0))","v":"［衣服］をたたむ"},{"$f":"IF(N46=\"\",\"\",VLOOKUP(N46,漢字読み!$A$2:$O$506,6,0))","v":"［鉄板］でやいた肉"},{"$f":"IF(O46=\"\",\"\",VLOOKUP(O46,漢字読み!$A$2:$O$506,6,0))","v":"［悲］しい日々"},{"$f":"IF(P46=\"\",\"\",VLOOKUP(P46,漢字読み!$A$2:$O$506,6,0))","v":"国が［栄］える"},{"$f":"IF(Q46=\"\",\"\",VLOOKUP(Q46,漢字読み!$A$2:$O$506,6,0))","v":"気持ちのよい［返事］"},{"$f":"IF(R46=\"\",\"\",VLOOKUP(R46,漢字読み!$A$2:$O$506,6,0))","v":"考えを［発表］する"},{"$f":"IF(S46=\"\",\"\",VLOOKUP(S46,漢字読み!$A$2:$O$506,6,0))","v":"［栄］ようをとる"},{"$f":"IF(T46=\"\",\"\",VLOOKUP(T46,漢字読み!$A$2:$O$506,6,0))","v":"［課長］の仕事"},null,"級"]
[null,null,null,null,null,null,null,null,null,null,null,null,null,null,null,null,null,null,null,null,null,"名前"]
[{"$f":"IF(A46=\"\",\"\",IF(VLOOKUP(A46,漢字書き!$A$2:$N$502,7,0)=0,\"\",VLOOKUP(A46,漢字書き!$A$2:$N$502,7,0)))","v":""},{"$f":"IF(B46=\"\",\"\",IF(VLOOKUP(B46,漢字書き!$A$2:$N$502,7,0)=0,\"\",VLOOKUP(B46,漢字書き!$A$2:$N$502,7,0)))","v":""},{"$f":"IF(C46=\"\",\"\",IF(VLOOKUP(C46,漢字書き!$A$2:$N$502,7,0)=0,\"\",VLOOKUP(C46,漢字書き!$A$2:$N$502,7,0)))","v":""},{"$f":"IF(D46=\"\",\"\",IF(VLOOKUP(D46,漢字書き!$A$2:$N$502,7,0)=0,\"\",VLOOKUP(D46,漢字書き!$A$2:$N$502,7,0)))","v":"える"},{"$f":"IF(E46=\"\",\"\",IF(VLOOKUP(E46,漢字書き!$A$2:$N$502,7,0)=0,\"\",VLOOKUP(E46,漢字書き!$A$2:$N$502,7,0)))","v":""},{"$f":"IF(F46=\"\",\"\",IF(VLOOKUP(F46,漢字書き!$A$2:$N$502,7,0)=0,\"\",VLOOKUP(F46,漢字書き!$A$2:$N$502,7,0)))","v":""},{"$f":"IF(G46=\"\",\"\",IF(VLOOKUP(G46,漢字書き!$A$2:$N$502,7,0)=0,\"\",VLOOKUP(G46,漢字書き!$A$2:$N$502,7,0)))","v":""},{"$f":"IF(H46=\"\",\"\",IF(VLOOKUP(H46,漢字書き!$A$2:$N$502,7,0)=0,\"\",VLOOKUP(H46,漢字書き!$A$2:$N$502,7,0)))","v":"める"},{"$f":"IF(I46=\"\",\"\",IF(VLOOKUP(I46,漢字書き!$A$2:$N$502,7,0)=0,\"\",VLOOKUP(I46,漢字書き!$A$2:$N$502,7,0)))","v":{"$error":"#N/A"}},{"$f":"IF(J46=\"\",\"\",IF(VLOOKUP(J46,漢字書き!$A$2:$N$502,7,0)=0,\"\",VLOOKUP(J46,漢字書き!$A$2:$N$502,7,0)))","v":""},{"$f":"IF(K46=\"\",\"\",IF(VLOOKUP(K46,漢字読み!$A$2:$O$502,7,0)=0,\"\",VLOOKUP(K46,漢字読み!$A$2:$O$502,7,0)))","v":"る"},{"$f":"IF(L46=\"\",\"\",IF(VLOOKUP(L46,漢字読み!$A$2:$O$502,7,0)=0,\"\",VLOOKUP(L46,漢字読み!$A$2:$O$502,7,0)))","v":"される"},{"$f":"IF(M46=\"\",\"\",IF(VLOOKUP(M46,漢字読み!$A$2:$O$502,7,0)=0,\"\",VLOOKUP(M46,漢字読み!$A$2:$O$502,7,0)))","v":""},{"$f":"IF(N46=\"\",\"\",IF(VLOOKUP(N46,漢字読み!$A$2:$O$502,7,0)=0,\"\",VLOOKUP(N46,漢字読み!$A$2:$O$502,7,0)))","v":""},{"$f":"IF(O46=\"\",\"\",IF(VLOOKUP(O46,漢字読み!$A$2:$O$502,7,0)=0,\"\",VLOOKUP(O46,漢字読み!$A$2:$O$502,7,0)))","v":"しい"},{"$f":"IF(P46=\"\",\"\",IF(VLOOKUP(P46,漢字読み!$A$2:$O$502,7,0)=0,\"\",VLOOKUP(P46,漢字読み!$A$2:$O$502,7,0)))","v":"える"},{"$f":"IF(Q46=\"\",\"\",IF(VLOOKUP(Q46,漢字読み!$A$2:$O$502,7,0)=0,\"\",VLOOKUP(Q46,漢字読み!$A$2:$O$502,7,0)))","v":""},{"$f":"IF(R46=\"\",\"\",IF(VLOOKUP(R46,漢字読み!$A$2:$O$502,7,0)=0,\"\",VLOOKUP(R46,漢字読み!$A$2:$O$502,7,0)))","v":"する"},{"$f":"IF(S46=\"\",\"\",IF(VLOOKUP(S46,漢字読み!$A$2:$O$502,7,0)=0,\"\",VLOOKUP(S46,漢字読み!$A$2:$O$502,7,0)))","v":"よう"},{"$f":"IF(T46=\"\",\"\",IF(VLOOKUP(T46,漢字読み!$A$2:$O$502,7,0)=0,\"\",VLOOKUP(T46,漢字読み!$A$2:$O$502,7,0)))","v":""},null,null,"和歌山県教育委員会"]
[{"$f":"A41","v":6},{"$f":"B41","v":177},{"$f":"C41","v":108},{"$f":"D41","v":54},{"$f":"E41","v":115},{"$f":"F41","v":136},{"$f":"G41","v":214},{"$f":"H41","v":40},{"$f":"I41","v":169},{"$f":"J41","v":23},{"$f":"K41","v":51},{"$f":"L41","v":204},{"$f":"M41","v":92},{"$f":"N41","v":11},{"$f":"O41","v":102},{"$f":"P41","v":134},{"$f":"Q41","v":197},{"$f":"R41","v":189},{"$f":"S41","v":112},{"$f":"T41","v":21}]
["⑳","⑲","⑱","⑰","⑯","⑮","⑭","⑬","⑫","⑪","⑩","⑨","⑧","⑦","⑥","⑤","④","③","②","①","次の［　　　　］の部分の漢字には読みがなをひらがなで書き、カタカナは漢字に直しなさい。",11,"「漢字の博士検定試験」練習問題　"]
[{"$f":"IF(A51=\"\",\"\",VLOOKUP(A51,漢字書き!$A$2:$N$506,6,0))","v":"ケーキを［トウブン］する"},{"$f":"IF(B51=\"\",\"\",VLOOKUP(B51,漢字書き!$A$2:$N$506,6,0))","v":"ゲームに［クワ］わる"},{"$f":"IF(C51=\"\",\"\",VLOOKUP(C51,漢字書き!$A$2:$N$506,6,0))","v":"［ジユウ］な生活"},{"$f":"IF(D51=\"\",\"\",VLOOKUP(D51,漢字書き!$A$2:$N$506,6,0))","v":"［ヒョウシ］の写真"},{"$f":"IF(E51=\"\",\"\",VLOOKUP(E51,漢字書き!$A$2:$N$506,6,0))","v":"昔の［アソ］び"},{"$f":"IF(F51=\"\",\"\",VLOOKUP(F51,漢字書き!$A$2:$N$506,6,0))","v":"［リョウホウ］ともほしい"},{"$f":"IF(G51=\"\",\"\",VLOOKUP(G51,漢字書き!$A$2:$N$506,6,0))","v":"［ニイガタケン］の米づくり"},{"$f":"IF(H51=\"\",\"\",VLOOKUP(H51,漢字書き!$A$2:$N$506,6,0))","v":"りんごの［カワ］をむく"},{"$f":"IF(I51=\"\",\"\",VLOOKUP(I51,漢字書き!$A$2:$N$506,6,0))","v":"［エイコウ］のかけ橋"},{"$f":"IF(J51=\"\",\"\",VLOOKUP(J51,漢字書き!$A$2:$N$506,6,0))","v":"ごみ［バコ］を用意する"},{"$f":"IF(K51=\"\",\"\",VLOOKUP(K51,漢字読み!$A$2:$O$506,6,0))","v":"一分は六十［秒］"},{"$f":"IF(L51=\"\",\"\",VLOOKUP(L51,漢字読み!$A$2:$O$506,6,0))","v":"［旗］をふる"},{"$f":"IF(M51=\"\",\"\",VLOOKUP(M51,漢字読み!$A$2:$O$506,6,0))","v":"［問答］をする"},{"$f":"IF(N51=\"\",\"\",VLOOKUP(N51,漢字読み!$A$2:$O$506,6,0))","v":"［童話］を読む"},{"$f":"IF(O51=\"\",\"\",VLOOKUP(O51,漢字読み!$A$2:$O$506,6,0))","v":"［由来］をたずねる"},{"$f":"IF(P51=\"\",\"\",VLOOKUP(P51,漢字読み!$A$2:$O$506,6,0))","v":"一人で［旅］をする"},{"$f":"IF(Q51=\"\",\"\",VLOOKUP(Q51,漢字読み!$A$2:$O$506,6,0))","v":"［願］いがかなう"},{"$f":"IF(R51=\"\",\"\",VLOOKUP(R51,漢字読み!$A$2:$O$506,6,0))","v":"体には［血管］がある"},{"$f":"IF(S51=\"\",\"\",VLOOKUP(S51,漢字読み!$A$2:$O$506,6,0))","v":"［羊毛］のセーター"},{"$f":"IF(T51=\"\",\"\",VLOOKUP(T51,漢字読み!$A$2:$O$506,6,0))","v":"長さを［倍］にする"},null,"級"]
[{"$f":"IF(A$11=\"\",\"\",VLOOKUP(A51,漢字書き!$A$2:$O$506,8,0))","v":"等分"},{"$f":"IF(B$11=\"\",\"\",VLOOKUP(B51,漢字書き!$A$2:$O$506,8,0))","v":"加"},{"$f":"IF(C$11=\"\",\"\",VLOOKUP(C51,漢字書き!$A$2:$O$506,8,0))","v":"自由"},{"$f":"IF(D$11=\"\",\"\",VLOOKUP(D51,漢字書き!$A$2:$O$506,8,0))","v":"表紙"},{"$f":"IF(E$11=\"\",\"\",VLOOKUP(E51,漢字書き!$A$2:$O$506,8,0))","v":"遊"},{"$f":"IF(F$11=\"\",\"\",VLOOKUP(F51,漢字書き!$A$2:$O$506,8,0))","v":"両方"},{"$f":"IF(G$11=\"\",\"\",VLOOKUP(G51,漢字書き!$A$2:$O$506,8,0))","v":"新潟県"},{"$f":"IF(H$11=\"\",\"\",VLOOKUP(H51,漢字書き!$A$2:$O$506,8,0))","v":"皮"},{"$f":"IF(I$11=\"\",\"\",VLOOKUP(I51,漢字書き!$A$2:$O$506,8,0))","v":"栄光"},{"$f":"IF(J$11=\"\",\"\",VLOOKUP(J51,漢字書き!$A$2:$O$506,8,0))","v":"箱"},{"$f":"IF(K$11=\"\",\"\",VLOOKUP(K51,漢字読み!$A$2:$O$506,8,0))","v":"びょう"},{"$f":"IF(L$11=\"\",\"\",VLOOKUP(L51,漢字読み!$A$2:$O$506,8,0))","v":"はた"},{"$f":"IF(M$11=\"\",\"\",VLOOKUP(M51,漢字読み!$A$2:$O$506,8,0))","v":"もんどう"},{"$f":"IF(N$11=\"\",\"\",VLOOKUP(N51,漢字読み!$A$2:$O$506,8,0))","v":"どうわ"},{"$f":"IF(O$11=\"\",\"\",VLOOKUP(O51,漢字読み!$A$2:$O$506,8,0))","v":"ゆらい"},{"$f":"IF(P$11=\"\",\"\",VLOOKUP(P51,漢字読み!$A$2:$O$506,8,0))","v":"たび"},{"$f":"IF(Q$11=\"\",\"\",VLOOKUP(Q51,漢字読み!$A$2:$O$506,8,0))","v":"ねが"},{"$f":"IF(R$11=\"\",\"\",VLOOKUP(R51,漢字読み!$A$2:$O$506,8,0))","v":"けっかん"},{"$f":"IF(S$11=\"\",\"\",VLOOKUP(S51,漢字読み!$A$2:$O$506,8,0))","v":"ようもう"},{"$f":"IF(T$11=\"\",\"\",VLOOKUP(T51,漢字読み!$A$2:$O$506,8,0))","v":"ばい"},null,"名前"]
[{"$f":"IF(A51=\"\",\"\",IF(VLOOKUP(A51,漢字書き!$A$2:$N$502,7,0)=0,\"\",VLOOKUP(A51,漢字書き!$A$2:$N$502,7,0)))","v":"する"},{"$f":"IF(B51=\"\",\"\",IF(VLOOKUP(B51,漢字書き!$A$2:$N$502,7,0)=0,\"\",VLOOKUP(B51,漢字書き!$A$2:$N$502,7,0)))","v":"わる"},{"$f":"IF(C51=\"\",\"\",IF(VLOOKUP(C51,漢字書き!$A$2:$N$502,7,0)=0,\"\",VLOOKUP(C51,漢字書き!$A$2:$N$502,7,0)))","v":"な"},{"$f":"IF(D51=\"\",\"\",IF(VLOOKUP(D51,漢字書き!$A$2:$N$502,7,0)=0,\"\",VLOOKUP(D51,漢字書き!$A$2:$N$502,7,0)))","v":""},{"$f":"IF(E51=\"\",\"\",IF(VLOOKUP(E51,漢字書き!$A$2:$N$502,7,0)=0,\"\",VLOOKUP(E51,漢字書き!$A$2:$N$502,7,0)))","v":"び"},{"$f":"IF(F51=\"\",\"\",IF(VLOOKUP(F51,漢字書き!$A$2:$N$502,7,0)=0,\"\",VLOOKUP(F51,漢字書き!$A$2:$N$502,7,0)))","v":""},{"$f":"IF(G51=\"\",\"\",IF(VLOOKUP(G51,漢字書き!$A$2:$N$502,7,0)=0,\"\",VLOOKUP(G51,漢字書き!$A$2:$N$502,7,0)))","v":""},{"$f":"IF(H51=\"\",\"\",IF(VLOOKUP(H51,漢字書き!$A$2:$N$502,7,0)=0,\"\",VLOOKUP(H51,漢字書き!$A$2:$N$502,7,0)))","v":""},{"$f":"IF(I51=\"\",\"\",IF(VLOOKUP(I51,漢字書き!$A$2:$N$502,7,0)=0,\"\",VLOOKUP(I51,漢字書き!$A$2:$N$502,7,0)))","v":""},{"$f":"IF(J51=\"\",\"\",IF(VLOOKUP(J51,漢字書き!$A$2:$N$502,7,0)=0,\"\",VLOOKUP(J51,漢字書き!$A$2:$N$502,7,0)))","v":""},{"$f":"IF(K51=\"\",\"\",IF(VLOOKUP(K51,漢字読み!$A$2:$O$502,7,0)=0,\"\",VLOOKUP(K51,漢字読み!$A$2:$O$502,7,0)))","v":""},{"$f":"IF(L51=\"\",\"\",IF(VLOOKUP(L51,漢字読み!$A$2:$O$502,7,0)=0,\"\",VLOOKUP(L51,漢字読み!$A$2:$O$502,7,0)))","v":""},{"$f":"IF(M51=\"\",\"\",IF(VLOOKUP(M51,漢字読み!$A$2:$O$502,7,0)=0,\"\",VLOOKUP(M51,漢字読み!$A$2:$O$502,7,0)))","v":""},{"$f":"IF(N51=\"\",\"\",IF(VLOOKUP(N51,漢字読み!$A$2:$O$502,7,0)=0,\"\",VLOOKUP(N51,漢字読み!$A$2:$O$502,7,0)))","v":""},{"$f":"IF(O51=\"\",\"\",IF(VLOOKUP(O51,漢字読み!$A$2:$O$502,7,0)=0,\"\",VLOOKUP(O51,漢字読み!$A$2:$O$502,7,0)))","v":""},{"$f":"IF(P51=\"\",\"\",IF(VLOOKUP(P51,漢字読み!$A$2:$O$502,7,0)=0,\"\",VLOOKUP(P51,漢字読み!$A$2:$O$502,7,0)))","v":""},{"$f":"IF(Q51=\"\",\"\",IF(VLOOKUP(Q51,漢字読み!$A$2:$O$502,7,0)=0,\"\",VLOOKUP(Q51,漢字読み!$A$2:$O$502,7,0)))","v":"い"},{"$f":"IF(R51=\"\",\"\",IF(VLOOKUP(R51,漢字読み!$A$2:$O$502,7,0)=0,\"\",VLOOKUP(R51,漢字読み!$A$2:$O$502,7,0)))","v":""},{"$f":"IF(S51=\"\",\"\",IF(VLOOKUP(S51,漢字読み!$A$2:$O$502,7,0)=0,\"\",VLOOKUP(S51,漢字読み!$A$2:$O$502,7,0)))","v":""},{"$f":"IF(T51=\"\",\"\",IF(VLOOKUP(T51,漢字読み!$A$2:$O$502,7,0)=0,\"\",VLOOKUP(T51,漢字読み!$A$2:$O$502,7,0)))","v":""},null,null,"和歌山県教育委員会"]
[{"$f":"A46","v":103},{"$f":"B46","v":109},{"$f":"C46","v":218},{"$f":"D46","v":170},{"$f":"E46","v":146},{"$f":"F46","v":70},{"$f":"G46","v":215},{"$f":"H46","v":188},{"$f":"I46","v":231},{"$f":"J46","v":154},{"$f":"K46","v":82},{"$f":"L46","v":147},{"$f":"M46","v":151},{"$f":"N46","v":33},{"$f":"O46","v":38},{"$f":"P46","v":160},{"$f":"Q46","v":75},{"$f":"R46","v":28},{"$f":"S46","v":161},{"$f":"T46","v":171}]
["⑳","⑲","⑱","⑰","⑯","⑮","⑭","⑬","⑫","⑪","⑩","⑨","⑧","⑦","⑥","⑤","④","③","②","①","次の［　　　　］の部分の漢字には読みがなをひらがなで書き、カタカナは漢字に直しなさい。",11,"「漢字の博士検定試験」練習問題　"]
[{"$f":"IF(A56=\"\",\"\",VLOOKUP(A56,漢字書き!$A$2:$N$506,6,0))","v":"［ヤクシャ］になる"},{"$f":"IF(B56=\"\",\"\",VLOOKUP(B56,漢字書き!$A$2:$N$506,6,0))","v":"石炭と［セキユ］"},{"$f":"IF(C56=\"\",\"\",VLOOKUP(C56,漢字書き!$A$2:$N$506,6,0))","v":"消火[キ]の使い方"},{"$f":"IF(D56=\"\",\"\",VLOOKUP(D56,漢字書き!$A$2:$N$506,6,0))","v":"町が［サカ］える"},{"$f":"IF(E56=\"\",\"\",VLOOKUP(E56,漢字書き!$A$2:$N$506,6,0))","v":"ピアノの［レンシュウ］"},{"$f":"IF(F56=\"\",\"\",VLOOKUP(F56,漢字書き!$A$2:$N$506,6,0))","v":"［ヤキュウブ］の先ぱい"},{"$f":"IF(G56=\"\",\"\",VLOOKUP(G56,漢字書き!$A$2:$N$506,6,0))","v":"日本の［コッキ］"},{"$f":"IF(H56=\"\",\"\",VLOOKUP(H56,漢字書き!$A$2:$N$506,6,0))","v":"すなおに［アラタ］める"},{"$f":"IF(I56=\"\",\"\",VLOOKUP(I56,漢字書き!$A$2:$N$506,6,0))","v":{"$error":"#N/A"}},{"$f":"IF(J56=\"\",\"\",VLOOKUP(J56,漢字書き!$A$2:$N$506,6,0))","v":"［アイチケン］の出身"},{"$f":"IF(K56=\"\",\"\",VLOOKUP(K56,漢字読み!$A$2:$O$506,6,0))","v":"ボールを［放］る"},{"$f":"IF(L56=\"\",\"\",VLOOKUP(L56,漢字読み!$A$2:$O$506,6,0))","v":"家族から［愛］される"},{"$f":"IF(M56=\"\",\"\",VLOOKUP(M56,漢字読み!$A$2:$O$506,6,0))","v":"［衣服］をたたむ"},{"$f":"IF(N56=\"\",\"\",VLOOKUP(N56,漢字読み!$A$2:$O$506,6,0))","v":"［鉄板］でやいた肉"},{"$f":"IF(O56=\"\",\"\",VLOOKUP(O56,漢字読み!$A$2:$O$506,6,0))","v":"［悲］しい日々"},{"$f":"IF(P56=\"\",\"\",VLOOKUP(P56,漢字読み!$A$2:$O$506,6,0))","v":"国が［栄］える"},{"$f":"IF(Q56=\"\",\"\",VLOOKUP(Q56,漢字読み!$A$2:$O$506,6,0))","v":"気持ちのよい［返事］"},{"$f":"IF(R56=\"\",\"\",VLOOKUP(R56,漢字読み!$A$2:$O$506,6,0))","v":"考えを［発表］する"},{"$f":"IF(S56=\"\",\"\",VLOOKUP(S56,漢字読み!$A$2:$O$506,6,0))","v":"［栄］ようをとる"},{"$f":"IF(T56=\"\",\"\",VLOOKUP(T56,漢字読み!$A$2:$O$506,6,0))","v":"［課長］の仕事"},null,"級"]
[{"$f":"IF(A$16=\"\",\"\",VLOOKUP(A56,漢字書き!$A$2:$O$506,8,0))","v":"役者"},{"$f":"IF(B$16=\"\",\"\",VLOOKUP(B56,漢字書き!$A$2:$O$506,8,0))","v":"石油"},{"$f":"IF(C$16=\"\",\"\",VLOOKUP(C56,漢字書き!$A$2:$O$506,8,0))","v":"器"},{"$f":"IF(D$16=\"\",\"\",VLOOKUP(D56,漢字書き!$A$2:$O$506,8,0))","v":"栄"},{"$f":"IF(E$16=\"\",\"\",VLOOKUP(E56,漢字書き!$A$2:$O$506,8,0))","v":"練習"},{"$f":"IF(F$16=\"\",\"\",VLOOKUP(F56,漢字書き!$A$2:$O$506,8,0))","v":"野球部"},{"$f":"IF(G$16=\"\",\"\",VLOOKUP(G56,漢字書き!$A$2:$O$506,8,0))","v":"国旗"},{"$f":"IF(H$16=\"\",\"\",VLOOKUP(H56,漢字書き!$A$2:$O$506,8,0))","v":"改"},{"$f":"IF(I$16=\"\",\"\",VLOOKUP(I56,漢字書き!$A$2:$O$506,8,0))","v":{"$error":"#N/A"}},{"$f":"IF(J$16=\"\",\"\",VLOOKUP(J56,漢字書き!$A$2:$O$506,8,0))","v":"愛知県"},{"$f":"IF(K$16=\"\",\"\",VLOOKUP(K56,漢字読み!$A$2:$O$506,8,0))","v":"ほう"},{"$f":"IF(L$16=\"\",\"\",VLOOKUP(L56,漢字読み!$A$2:$O$506,8,0))","v":"あい"},{"$f":"IF(M$16=\"\",\"\",VLOOKUP(M56,漢字読み!$A$2:$O$506,8,0))","v":"いふく"},{"$f":"IF(N$16=\"\",\"\",VLOOKUP(N56,漢字読み!$A$2:$O$506,8,0))","v":"てっぱん"},{"$f":"IF(O$16=\"\",\"\",VLOOKUP(O56,漢字読み!$A$2:$O$506,8,0))","v":"かな"},{"$f":"IF(P$16=\"\",\"\",VLOOKUP(P56,漢字読み!$A$2:$O$506,8,0))","v":"さか"},{"$f":"IF(Q$16=\"\",\"\",VLOOKUP(Q56,漢字読み!$A$2:$O$506,8,0))","v":"へんじ"},{"$f":"IF(R$16=\"\",\"\",VLOOKUP(R56,漢字読み!$A$2:$O$506,8,0))","v":"はっぴょう"},{"$f":"IF(S$16=\"\",\"\",VLOOKUP(S56,漢字読み!$A$2:$O$506,8,0))","v":"えい"},{"$f":"IF(T$16=\"\",\"\",VLOOKUP(T56,漢字読み!$A$2:$O$506,8,0))","v":"かちょう"},null,"名前"]
[{"$f":"IF(A56=\"\",\"\",IF(VLOOKUP(A56,漢字書き!$A$2:$N$502,7,0)=0,\"\",VLOOKUP(A56,漢字書き!$A$2:$N$502,7,0)))","v":""},{"$f":"IF(B56=\"\",\"\",IF(VLOOKUP(B56,漢字書き!$A$2:$N$502,7,0)=0,\"\",VLOOKUP(B56,漢字書き!$A$2:$N$502,7,0)))","v":""},{"$f":"IF(C56=\"\",\"\",IF(VLOOKUP(C56,漢字書き!$A$2:$N$502,7,0)=0,\"\",VLOOKUP(C56,漢字書き!$A$2:$N$502,7,0)))","v":""},{"$f":"IF(D56=\"\",\"\",IF(VLOOKUP(D56,漢字書き!$A$2:$N$502,7,0)=0,\"\",VLOOKUP(D56,漢字書き!$A$2:$N$502,7,0)))","v":"える"},{"$f":"IF(E56=\"\",\"\",IF(VLOOKUP(E56,漢字書き!$A$2:$N$502,7,0)=0,\"\",VLOOKUP(E56,漢字書き!$A$2:$N$502,7,0)))","v":""},{"$f":"IF(F56=\"\",\"\",IF(VLOOKUP(F56,漢字書き!$A$2:$N$502,7,0)=0,\"\",VLOOKUP(F56,漢字書き!$A$2:$N$502,7,0)))","v":""},{"$f":"IF(G56=\"\",\"\",IF(VLOOKUP(G56,漢字書き!$A$2:$N$502,7,0)=0,\"\",VLOOKUP(G56,漢字書き!$A$2:$N$502,7,0)))","v":""},{"$f":"IF(H56=\"\",\"\",IF(VLOOKUP(H56,漢字書き!$A$2:$N$502,7,0)=0,\"\",VLOOKUP(H56,漢字書き!$A$2:$N$502,7,0)))","v":"める"},{"$f":"IF(I56=\"\",\"\",IF(VLOOKUP(I56,漢字書き!$A$2:$N$502,7,0)=0,\"\",VLOOKUP(I56,漢字書き!$A$2:$N$502,7,0)))","v":{"$error":"#N/A"}},{"$f":"IF(J56=\"\",\"\",IF(VLOOKUP(J56,漢字書き!$A$2:$N$502,7,0)=0,\"\",VLOOKUP(J56,漢字書き!$A$2:$N$502,7,0)))","v":""},{"$f":"IF(K56=\"\",\"\",IF(VLOOKUP(K56,漢字読み!$A$2:$O$502,7,0)=0,\"\",VLOOKUP(K56,漢字読み!$A$2:$O$502,7,0)))","v":"る"},{"$f":"IF(L56=\"\",\"\",IF(VLOOKUP(L56,漢字読み!$A$2:$O$502,7,0)=0,\"\",VLOOKUP(L56,漢字読み!$A$2:$O$502,7,0)))","v":"される"},{"$f":"IF(M56=\"\",\"\",IF(VLOOKUP(M56,漢字読み!$A$2:$O$502,7,0)=0,\"\",VLOOKUP(M56,漢字読み!$A$2:$O$502,7,0)))","v":""},{"$f":"IF(N56=\"\",\"\",IF(VLOOKUP(N56,漢字読み!$A$2:$O$502,7,0)=0,\"\",VLOOKUP(N56,漢字読み!$A$2:$O$502,7,0)))","v":""},{"$f":"IF(O56=\"\",\"\",IF(VLOOKUP(O56,漢字読み!$A$2:$O$502,7,0)=0,\"\",VLOOKUP(O56,漢字読み!$A$2:$O$502,7,0)))","v":"しい"},{"$f":"IF(P56=\"\",\"\",IF(VLOOKUP(P56,漢字読み!$A$2:$O$502,7,0)=0,\"\",VLOOKUP(P56,漢字読み!$A$2:$O$502,7,0)))","v":"える"},{"$f":"IF(Q56=\"\",\"\",IF(VLOOKUP(Q56,漢字読み!$A$2:$O$502,7,0)=0,\"\",VLOOKUP(Q56,漢字読み!$A$2:$O$502,7,0)))","v":""},{"$f":"IF(R56=\"\",\"\",IF(VLOOKUP(R56,漢字読み!$A$2:$O$502,7,0)=0,\"\",VLOOKUP(R56,漢字読み!$A$2:$O$502,7,0)))","v":"する"},{"$f":"IF(S56=\"\",\"\",IF(VLOOKUP(S56,漢字読み!$A$2:$O$502,7,0)=0,\"\",VLOOKUP(S56,漢字読み!$A$2:$O$502,7,0)))","v":"よう"},{"$f":"IF(T56=\"\",\"\",IF(VLOOKUP(T56,漢字読み!$A$2:$O$502,7,0)=0,\"\",VLOOKUP(T56,漢字読み!$A$2:$O$502,7,0)))","v":""},null,null,"和歌山県教育委員会"]
[{"$f":"INDIRECT(\"'関数（書き）'!C\" & COLUMN(B$1)+SUM($AD$2:$AD62))","v":87},{"$f":"INDIRECT(\"'関数（書き）'!C\" & COLUMN(C$1)+SUM($AD$2:$AD62))","v":137},{"$f":"INDIRECT(\"'関数（書き）'!C\" & COLUMN(D$1)+SUM($AD$2:$AD62))","v":205},{"$f":"INDIRECT(\"'関数（書き）'!C\" & COLUMN(E$1)+SUM($AD$2:$AD62))","v":126},{"$f":"INDIRECT(\"'関数（書き）'!C\" & COLUMN(F$1)+SUM($AD$2:$AD62))","v":144},{"$f":"INDIRECT(\"'関数（書き）'!C\" & COLUMN(G$1)+SUM($AD$2:$AD62))","v":107},{"$f":"INDIRECT(\"'関数（書き）'!C\" & COLUMN(H$1)+SUM($AD$2:$AD62))","v":49},{"$f":"INDIRECT(\"'関数（書き）'!C\" & COLUMN(I$1)+SUM($AD$2:$AD62))","v":157},{"$f":"INDIRECT(\"'関数（書き）'!C\" & COLUMN(J$1)+SUM($AD$2:$AD62))","v":52},{"$f":"INDIRECT(\"'関数（書き）'!C\" & COLUMN(K$1)+SUM($AD$2:$AD62))","v":36},{"$f":"INDIRECT(\"'関数（読み）'!C\" & COLUMN(B$1)+SUM($AD$2:$AD62))","v":183},{"$f":"INDIRECT(\"'関数（読み）'!C\" & COLUMN(C$1)+SUM($AD$2:$AD62))","v":177},{"$f":"INDIRECT(\"'関数（読み）'!C\" & COLUMN(D$1)+SUM($AD$2:$AD62))","v":20},{"$f":"INDIRECT(\"'関数（読み）'!C\" & COLUMN(E$1)+SUM($AD$2:$AD62))","v":7},{"$f":"INDIRECT(\"'関数（読み）'!C\" & COLUMN(F$1)+SUM($AD$2:$AD62))","v":192},{"$f":"INDIRECT(\"'関数（読み）'!C\" & COLUMN(G$1)+SUM($AD$2:$AD62))","v":70},{"$f":"INDIRECT(\"'関数（読み）'!C\" & COLUMN(H$1)+SUM($AD$2:$AD62))","v":200},{"$f":"INDIRECT(\"'関数（読み）'!C\" & COLUMN(I$1)+SUM($AD$2:$AD62))","v":34},{"$f":"INDIRECT(\"'関数（読み）'!C\" & COLUMN(J$1)+SUM($AD$2:$AD62))","v":99},{"$f":"INDIRECT(\"'関数（読み）'!C\" & COLUMN(K$1)+SUM($AD$2:$AD62))","v":41}]
["⑳","⑲","⑱","⑰","⑯","⑮","⑭","⑬","⑫","⑪","⑩","⑨","⑧","⑦","⑥","⑤","④","③","②","①","次の［　　　　］の部分の漢字には読みがなをひらがなで書き、カタカナは漢字に直しなさい。",11,"「漢字の博士検定試験」練習問題　",null,null,null,null,null,"←",10,"問",{"$f":"AH47+1","v":61},"～",{"$f":"SUM($AD$2:$AD62)+10","v":70},"問まで",{"$f":"COUNTIF($A$1:$T$200,T63)","v":2}]
[{"$f":"IF(A61=\"\",\"\",VLOOKUP(A61,漢字書き!$A$2:$N$506,6,0))","v":"学校を［カイホウ］する"},{"$f":"IF(B61=\"\",\"\",VLOOKUP(B61,漢字書き!$A$2:$N$506,6,0))","v":"［リョウアシ］で立つ"},{"$f":"IF(C61=\"\",\"\",VLOOKUP(C61,漢字書き!$A$2:$N$506,6,0))","v":"［カカ］わりを持つ"},{"$f":"IF(D61=\"\",\"\",VLOOKUP(D61,漢字書き!$A$2:$N$506,6,0))","v":"まわりの［ヨウス］"},{"$f":"IF(E61=\"\",\"\",VLOOKUP(E61,漢字書き!$A$2:$N$506,6,0))","v":"［レツ］に加わる"},{"$f":"IF(F61=\"\",\"\",VLOOKUP(F61,漢字書き!$A$2:$N$506,6,0))","v":"［ユライ］をたずねる"},{"$f":"IF(G61=\"\",\"\",VLOOKUP(G61,漢字書き!$A$2:$N$506,6,0))","v":"［モウヒツ］の時間"},{"$f":"IF(H61=\"\",\"\",VLOOKUP(H61,漢字書き!$A$2:$N$506,6,0))","v":"［イジョウ］で終わりです"},{"$f":"IF(I61=\"\",\"\",VLOOKUP(I61,漢字書き!$A$2:$N$506,6,0))","v":"つめたい［コオリ］"},{"$f":"IF(J61=\"\",\"\",VLOOKUP(J61,漢字書き!$A$2:$N$506,6,0))","v":"［コクバン］に書く"},{"$f":"IF(K61=\"\",\"\",VLOOKUP(K61,漢字読み!$A$2:$O$506,6,0))","v":"［自覚］がない"},{"$f":"IF(L61=\"\",\"\",VLOOKUP(L61,漢字読み!$A$2:$O$506,6,0))","v":"心を［改］める"},{"$f":"IF(M61=\"\",\"\",VLOOKUP(M61,漢字読み!$A$2:$O$506,6,0))","v":"気を［配］る"},{"$f":"IF(N61=\"\",\"\",VLOOKUP(N61,漢字読み!$A$2:$O$506,6,0))","v":"［平等］に分ける"},{"$f":"IF(O61=\"\",\"\",VLOOKUP(O61,漢字読み!$A$2:$O$506,6,0))","v":"［関所］を通る"},{"$f":"IF(P61=\"\",\"\",VLOOKUP(P61,漢字読み!$A$2:$O$506,6,0))","v":"世界の［平和］"},{"$f":"IF(Q61=\"\",\"\",VLOOKUP(Q61,漢字読み!$A$2:$O$506,6,0))","v":"日本の［四季］"},{"$f":"IF(R61=\"\",\"\",VLOOKUP(R61,漢字読み!$A$2:$O$506,6,0))","v":"かんなで［板］をけずる"},{"$f":"IF(S61=\"\",\"\",VLOOKUP(S61,漢字読み!$A$2:$O$506,6,0))","v":"［薬局］に立ちよる"},{"$f":"IF(T61=\"\",\"\",VLOOKUP(T61,漢字読み!$A$2:$O$506,6,0))","v":"[鼻水]が出る"},null,"級"]
[null,null,null,null,null,null,null,null,null,null,null,null,null,null,null,null,null,null,null,null,null,"名前"]
[{"$f":"IF(A61=\"\",\"\",IF(VLOOKUP(A61,漢字書き!$A$2:$N$502,7,0)=0,\"\",VLOOKUP(A61,漢字書き!$A$2:$N$502,7,0)))","v":"する"},{"$f":"IF(B61=\"\",\"\",IF(VLOOKUP(B61,漢字書き!$A$2:$N$502,7,0)=0,\"\",VLOOKUP(B61,漢字書き!$A$2:$N$502,7,0)))","v":""},{"$f":"IF(C61=\"\",\"\",IF(VLOOKUP(C61,漢字書き!$A$2:$N$502,7,0)=0,\"\",VLOOKUP(C61,漢字書き!$A$2:$N$502,7,0)))","v":"わり"},{"$f":"IF(D61=\"\",\"\",IF(VLOOKUP(D61,漢字書き!$A$2:$N$502,7,0)=0,\"\",VLOOKUP(D61,漢字書き!$A$2:$N$502,7,0)))","v":""},{"$f":"IF(E61=\"\",\"\",IF(VLOOKUP(E61,漢字書き!$A$2:$N$502,7,0)=0,\"\",VLOOKUP(E61,漢字書き!$A$2:$N$502,7,0)))","v":""},{"$f":"IF(F61=\"\",\"\",IF(VLOOKUP(F61,漢字書き!$A$2:$N$502,7,0)=0,\"\",VLOOKUP(F61,漢字書き!$A$2:$N$502,7,0)))","v":""},{"$f":"IF(G61=\"\",\"\",IF(VLOOKUP(G61,漢字書き!$A$2:$N$502,7,0)=0,\"\",VLOOKUP(G61,漢字書き!$A$2:$N$502,7,0)))","v":""},{"$f":"IF(H61=\"\",\"\",IF(VLOOKUP(H61,漢字書き!$A$2:$N$502,7,0)=0,\"\",VLOOKUP(H61,漢字書き!$A$2:$N$502,7,0)))","v":""},{"$f":"IF(I61=\"\",\"\",IF(VLOOKUP(I61,漢字書き!$A$2:$N$502,7,0)=0,\"\",VLOOKUP(I61,漢字書き!$A$2:$N$502,7,0)))","v":""},{"$f":"IF(J61=\"\",\"\",IF(VLOOKUP(J61,漢字書き!$A$2:$N$502,7,0)=0,\"\",VLOOKUP(J61,漢字書き!$A$2:$N$502,7,0)))","v":""},{"$f":"IF(K61=\"\",\"\",IF(VLOOKUP(K61,漢字読み!$A$2:$O$502,7,0)=0,\"\",VLOOKUP(K61,漢字読み!$A$2:$O$502,7,0)))","v":""},{"$f":"IF(L61=\"\",\"\",IF(VLOOKUP(L61,漢字読み!$A$2:$O$502,7,0)=0,\"\",VLOOKUP(L61,漢字読み!$A$2:$O$502,7,0)))","v":"める"},{"$f":"IF(M61=\"\",\"\",IF(VLOOKUP(M61,漢字読み!$A$2:$O$502,7,0)=0,\"\",VLOOKUP(M61,漢字読み!$A$2:$O$502,7,0)))","v":"る"},{"$f":"IF(N61=\"\",\"\",IF(VLOOKUP(N61,漢字読み!$A$2:$O$502,7,0)=0,\"\",VLOOKUP(N61,漢字読み!$A$2:$O$502,7,0)))","v":""},{"$f":"IF(O61=\"\",\"\",IF(VLOOKUP(O61,漢字読み!$A$2:$O$502,7,0)=0,\"\",VLOOKUP(O61,漢字読み!$A$2:$O$502,7,0)))","v":""},{"$f":"IF(P61=\"\",\"\",IF(VLOOKUP(P61,漢字読み!$A$2:$O$502,7,0)=0,\"\",VLOOKUP(P61,漢字読み!$A$2:$O$502,7,0)))","v":""},{"$f":"IF(Q61=\"\",\"\",IF(VLOOKUP(Q61,漢字読み!$A$2:$O$502,7,0)=0,\"\",VLOOKUP(Q61,漢字読み!$A$2:$O$502,7,0)))","v":""},{"$f":"IF(R61=\"\",\"\",IF(VLOOKUP(R61,漢字読み!$A$2:$O$502,7,0)=0,\"\",VLOOKUP(R61,漢字読み!$A$2:$O$502,7,0)))","v":""},{"$f":"IF(S61=\"\",\"\",IF(VLOOKUP(S61,漢字読み!$A$2:$O$502,7,0)=0,\"\",VLOOKUP(S61,漢字読み!$A$2:$O$502,7,0)))","v":""},{"$f":"IF(T61=\"\",\"\",IF(VLOOKUP(T61,漢字読み!$A$2:$O$502,7,0)=0,\"\",VLOOKUP(T61,漢字読み!$A$2:$O$502,7,0)))","v":""},null,null,"和歌山県教育委員会"]
[{"$f":"INDIRECT(\"'関数（書き）'!C\" & COLUMN(B$1)+SUM($AD$2:$AD67))","v":204},{"$f":"INDIRECT(\"'関数（書き）'!C\" & COLUMN(C$1)+SUM($AD$2:$AD67))","v":35},{"$f":"INDIRECT(\"'関数（書き）'!C\" & COLUMN(D$1)+SUM($AD$2:$AD67))","v":172},{"$f":"INDIRECT(\"'関数（書き）'!C\" & COLUMN(E$1)+SUM($AD$2:$AD67))","v":30},{"$f":"INDIRECT(\"'関数（書き）'!C\" & COLUMN(F$1)+SUM($AD$2:$AD67))","v":28},{"$f":"INDIRECT(\"'関数（書き）'!C\" & COLUMN(G$1)+SUM($AD$2:$AD67))","v":133},{"$f":"INDIRECT(\"'関数（書き）'!C\" & COLUMN(H$1)+SUM($AD$2:$AD67))","v":202},{"$f":"INDIRECT(\"'関数（書き）'!C\" & COLUMN(I$1)+SUM($AD$2:$AD67))","v":68},{"$f":"INDIRECT(\"'関数（書き）'!C\" & COLUMN(J$1)+SUM($AD$2:$AD67))","v":165},{"$f":"INDIRECT(\"'関数（書き）'!C\" & COLUMN(K$1)+SUM($AD$2:$AD67))","v":15},{"$f":"INDIRECT(\"'関数（読み）'!C\" & COLUMN(B$1)+SUM($AD$2:$AD67))","v":139},{"$f":"INDIRECT(\"'関数（読み）'!C\" & COLUMN(C$1)+SUM($AD$2:$AD67))","v":95},{"$f":"INDIRECT(\"'関数（読み）'!C\" & COLUMN(D$1)+SUM($AD$2:$AD67))","v":48},{"$f":"INDIRECT(\"'関数（読み）'!C\" & COLUMN(E$1)+SUM($AD$2:$AD67))","v":182},{"$f":"INDIRECT(\"'関数（読み）'!C\" & COLUMN(F$1)+SUM($AD$2:$AD67))","v":52},{"$f":"INDIRECT(\"'関数（読み）'!C\" & COLUMN(G$1)+SUM($AD$2:$AD67))","v":107},{"$f":"INDIRECT(\"'関数（読み）'!C\" & COLUMN(H$1)+SUM($AD$2:$AD67))","v":59},{"$f":"INDIRECT(\"'関数（読み）'!C\" & COLUMN(I$1)+SUM($AD$2:$AD67))","v":144},{"$f":"INDIRECT(\"'関数（読み）'!C\" & COLUMN(J$1)+SUM($AD$2:$AD67))","v":24},{"$f":"INDIRECT(\"'関数（読み）'!C\" & COLUMN(K$1)+SUM($AD$2:$AD67))","v":77}]
["⑳","⑲","⑱","⑰","⑯","⑮","⑭","⑬","⑫","⑪","⑩","⑨","⑧","⑦","⑥","⑤","④","③","②","①","次の［　　　　］の部分の漢字には読みがなをひらがなで書き、カタカナは漢字に直しなさい。",11,"「漢字の博士検定試験」練習問題　",null,null,null,null,null,"←",10,"問",{"$f":"AH62+1","v":71},"～",{"$f":"SUM($AD$2:$AD67)+10","v":80},"問まで",{"$f":"COUNTIF($A$1:$T$200,T68)","v":2}]
[{"$f":"IF(A66=\"\",\"\",VLOOKUP(A66,漢字書き!$A$2:$N$506,6,0))","v":"［セキショ］を通る"},{"$f":"IF(B66=\"\",\"\",VLOOKUP(B66,漢字書き!$A$2:$N$506,6,0))","v":"［サカミチ］を歩く"},{"$f":"IF(C66=\"\",\"\",VLOOKUP(C66,漢字書き!$A$2:$N$506,6,0))","v":"［シオアジ］が足りない"},{"$f":"IF(D66=\"\",\"\",VLOOKUP(D66,漢字書き!$A$2:$N$506,6,0))","v":"［ハンタイ］の意見"},{"$f":"IF(E66=\"\",\"\",VLOOKUP(E66,漢字書き!$A$2:$N$506,6,0))","v":"新星を[ハッケン]する"},{"$f":"IF(F66=\"\",\"\",VLOOKUP(F66,漢字書き!$A$2:$N$506,6,0))","v":"急な［ナガ］れ"},{"$f":"IF(G66=\"\",\"\",VLOOKUP(G66,漢字書き!$A$2:$N$506,6,0))","v":"親子の［カンケイ］"},{"$f":"IF(H66=\"\",\"\",VLOOKUP(H66,漢字書き!$A$2:$N$506,6,0))","v":"［ブシツ］をそうじする"},{"$f":"IF(I66=\"\",\"\",VLOOKUP(I66,漢字書き!$A$2:$N$506,6,0))","v":"［イン］さつされた文字"},{"$f":"IF(J66=\"\",\"\",VLOOKUP(J66,漢字書き!$A$2:$N$506,6,0))","v":"じ[ドウ]会の役員"},{"$f":"IF(K66=\"\",\"\",VLOOKUP(K66,漢字読み!$A$2:$O$506,6,0))","v":"［列］にくわわる"},{"$f":"IF(L66=\"\",\"\",VLOOKUP(L66,漢字読み!$A$2:$O$506,6,0))","v":"魚のおろし［問屋］"},{"$f":"IF(M66=\"\",\"\",VLOOKUP(M66,漢字読み!$A$2:$O$506,6,0))","v":"当番［表］を見る"},{"$f":"IF(N66=\"\",\"\",VLOOKUP(N66,漢字読み!$A$2:$O$506,6,0))","v":"［各自］で考える"},{"$f":"IF(O66=\"\",\"\",VLOOKUP(O66,漢字読み!$A$2:$O$506,6,0))","v":"［病気］をなおす"},{"$f":"IF(P66=\"\",\"\",VLOOKUP(P66,漢字読み!$A$2:$O$506,6,0))","v":"温せんで［有名］な土地"},{"$f":"IF(Q66=\"\",\"\",VLOOKUP(Q66,漢字読み!$A$2:$O$506,6,0))","v":"リュックをせ［負］う"},{"$f":"IF(R66=\"\",\"\",VLOOKUP(R66,漢字読み!$A$2:$O$506,6,0))","v":"［道路］を工事する"},{"$f":"IF(S66=\"\",\"\",VLOOKUP(S66,漢字読み!$A$2:$O$506,6,0))","v":"ノアの［箱船］"},{"$f":"IF(T66=\"\",\"\",VLOOKUP(T66,漢字読み!$A$2:$O$506,6,0))","v":"［返］すことばがない"},null,"級"]
[null,null,null,null,null,null,null,null,null,null,null,null,null,null,null,null,null,null,null,null,null,"名前"]
[{"$f":"IF(A66=\"\",\"\",IF(VLOOKUP(A66,漢字書き!$A$2:$N$502,7,0)=0,\"\",VLOOKUP(A66,漢字書き!$A$2:$N$502,7,0)))","v":""},{"$f":"IF(B66=\"\",\"\",IF(VLOOKUP(B66,漢字書き!$A$2:$N$502,7,0)=0,\"\",VLOOKUP(B66,漢字書き!$A$2:$N$502,7,0)))","v":""},{"$f":"IF(C66=\"\",\"\",IF(VLOOKUP(C66,漢字書き!$A$2:$N$502,7,0)=0,\"\",VLOOKUP(C66,漢字書き!$A$2:$N$502,7,0)))","v":""},{"$f":"IF(D66=\"\",\"\",IF(VLOOKUP(D66,漢字書き!$A$2:$N$502,7,0)=0,\"\",VLOOKUP(D66,漢字書き!$A$2:$N$502,7,0)))","v":""},{"$f":"IF(E66=\"\",\"\",IF(VLOOKUP(E66,漢字書き!$A$2:$N$502,7,0)=0,\"\",VLOOKUP(E66,漢字書き!$A$2:$N$502,7,0)))","v":"する"},{"$f":"IF(F66=\"\",\"\",IF(VLOOKUP(F66,漢字書き!$A$2:$N$502,7,0)=0,\"\",VLOOKUP(F66,漢字書き!$A$2:$N$502,7,0)))","v":"れ"},{"$f":"IF(G66=\"\",\"\",IF(VLOOKUP(G66,漢字書き!$A$2:$N$502,7,0)=0,\"\",VLOOKUP(G66,漢字書き!$A$2:$N$502,7,0)))","v":""},{"$f":"IF(H66=\"\",\"\",IF(VLOOKUP(H66,漢字書き!$A$2:$N$502,7,0)=0,\"\",VLOOKUP(H66,漢字書き!$A$2:$N$502,7,0)))","v":""},{"$f":"IF(I66=\"\",\"\",IF(VLOOKUP(I66,漢字書き!$A$2:$N$502,7,0)=0,\"\",VLOOKUP(I66,漢字書き!$A$2:$N$502,7,0)))","v":"さつ"},{"$f":"IF(J66=\"\",\"\",IF(VLOOKUP(J66,漢字書き!$A$2:$N$502,7,0)=0,\"\",VLOOKUP(J66,漢字書き!$A$2:$N$502,7,0)))","v":"会"},{"$f":"IF(K66=\"\",\"\",IF(VLOOKUP(K66,漢字読み!$A$2:$O$502,7,0)=0,\"\",VLOOKUP(K66,漢字読み!$A$2:$O$502,7,0)))","v":""},{"$f":"IF(L66=\"\",\"\",IF(VLOOKUP(L66,漢字読み!$A$2:$O$502,7,0)=0,\"\",VLOOKUP(L66,漢字読み!$A$2:$O$502,7,0)))","v":""},{"$f":"IF(M66=\"\",\"\",IF(VLOOKUP(M66,漢字読み!$A$2:$O$502,7,0)=0,\"\",VLOOKUP(M66,漢字読み!$A$2:$O$502,7,0)))","v":""},{"$f":"IF(N66=\"\",\"\",IF(VLOOKUP(N66,漢字読み!$A$2:$O$502,7,0)=0,\"\",VLOOKUP(N66,漢字読み!$A$2:$O$502,7,0)))","v":""},{"$f":"IF(O66=\"\",\"\",IF(VLOOKUP(O66,漢字読み!$A$2:$O$502,7,0)=0,\"\",VLOOKUP(O66,漢字読み!$A$2:$O$502,7,0)))","v":""},{"$f":"IF(P66=\"\",\"\",IF(VLOOKUP(P66,漢字読み!$A$2:$O$502,7,0)=0,\"\",VLOOKUP(P66,漢字読み!$A$2:$O$502,7,0)))","v":"な"},{"$f":"IF(Q66=\"\",\"\",IF(VLOOKUP(Q66,漢字読み!$A$2:$O$502,7,0)=0,\"\",VLOOKUP(Q66,漢字読み!$A$2:$O$502,7,0)))","v":"う"},{"$f":"IF(R66=\"\",\"\",IF(VLOOKUP(R66,漢字読み!$A$2:$O$502,7,0)=0,\"\",VLOOKUP(R66,漢字読み!$A$2:$O$502,7,0)))","v":""},{"$f":"IF(S66=\"\",\"\",IF(VLOOKUP(S66,漢字読み!$A$2:$O$502,7,0)=0,\"\",VLOOKUP(S66,漢字読み!$A$2:$O$502,7,0)))","v":""},{"$f":"IF(T66=\"\",\"\",IF(VLOOKUP(T66,漢字読み!$A$2:$O$502,7,0)=0,\"\",VLOOKUP(T66,漢字読み!$A$2:$O$502,7,0)))","v":"す"},null,null,"和歌山県教育委員会"]
[{"$f":"A61","v":87},{"$f":"B61","v":137},{"$f":"C61","v":205},{"$f":"D61","v":126},{"$f":"E61","v":144},{"$f":"F61","v":107},{"$f":"G61","v":49},{"$f":"H61","v":157},{"$f":"I61","v":52},{"$f":"J61","v":36},{"$f":"K61","v":183},{"$f":"L61","v":177},{"$f":"M61","v":20},{"$f":"N61","v":7},{"$f":"O61","v":192},{"$f":"P61","v":70},{"$f":"Q61","v":200},{"$f":"R61","v":34},{"$f":"S61","v":99},{"$f":"T61","v":41}]
["⑳","⑲","⑱","⑰","⑯","⑮","⑭","⑬","⑫","⑪","⑩","⑨","⑧","⑦","⑥","⑤","④","③","②","①","次の［　　　　］の部分の漢字には読みがなをひらがなで書き、カタカナは漢字に直しなさい。",11,"「漢字の博士検定試験」練習問題　"]
[{"$f":"IF(A71=\"\",\"\",VLOOKUP(A71,漢字書き!$A$2:$N$506,6,0))","v":"学校を［カイホウ］する"},{"$f":"IF(B71=\"\",\"\",VLOOKUP(B71,漢字書き!$A$2:$N$506,6,0))","v":"［リョウアシ］で立つ"},{"$f":"IF(C71=\"\",\"\",VLOOKUP(C71,漢字書き!$A$2:$N$506,6,0))","v":"［カカ］わりを持つ"},{"$f":"IF(D71=\"\",\"\",VLOOKUP(D71,漢字書き!$A$2:$N$506,6,0))","v":"まわりの［ヨウス］"},{"$f":"IF(E71=\"\",\"\",VLOOKUP(E71,漢字書き!$A$2:$N$506,6,0))","v":"［レツ］に加わる"},{"$f":"IF(F71=\"\",\"\",VLOOKUP(F71,漢字書き!$A$2:$N$506,6,0))","v":"［ユライ］をたずねる"},{"$f":"IF(G71=\"\",\"\",VLOOKUP(G71,漢字書き!$A$2:$N$506,6,0))","v":"［モウヒツ］の時間"},{"$f":"IF(H71=\"\",\"\",VLOOKUP(H71,漢字書き!$A$2:$N$506,6,0))","v":"［イジョウ］で終わりです"},{"$f":"IF(I71=\"\",\"\",VLOOKUP(I71,漢字書き!$A$2:$N$506,6,0))","v":"つめたい［コオリ］"},{"$f":"IF(J71=\"\",\"\",VLOOKUP(J71,漢字書き!$A$2:$N$506,6,0))","v":"［コクバン］に書く"},{"$f":"IF(K71=\"\",\"\",VLOOKUP(K71,漢字読み!$A$2:$O$506,6,0))","v":"［自覚］がない"},{"$f":"IF(L71=\"\",\"\",VLOOKUP(L71,漢字読み!$A$2:$O$506,6,0))","v":"心を［改］める"},{"$f":"IF(M71=\"\",\"\",VLOOKUP(M71,漢字読み!$A$2:$O$506,6,0))","v":"気を［配］る"},{"$f":"IF(N71=\"\",\"\",VLOOKUP(N71,漢字読み!$A$2:$O$506,6,0))","v":"［平等］に分ける"},{"$f":"IF(O71=\"\",\"\",VLOOKUP(O71,漢字読み!$A$2:$O$506,6,0))","v":"［関所］を通る"},{"$f":"IF(P71=\"\",\"\",VLOOKUP(P71,漢字読み!$A$2:$O$506,6,0))","v":"世界の［平和］"},{"$f":"IF(Q71=\"\",\"\",VLOOKUP(Q71,漢字読み!$A$2:$O$506,6,0))","v":"日本の［四季］"},{"$f":"IF(R71=\"\",\"\",VLOOKUP(R71,漢字読み!$A$2:$O$506,6,0))","v":"かんなで［板］をけずる"},{"$f":"IF(S71=\"\",\"\",VLOOKUP(S71,漢字読み!$A$2:$O$506,6,0))","v":"［薬局］に立ちよる"},{"$f":"IF(T71=\"\",\"\",VLOOKUP(T71,漢字読み!$A$2:$O$506,6,0))","v":"[鼻水]が出る"},null,"級"]
[{"$f":"IF(A$11=\"\",\"\",VLOOKUP(A71,漢字書き!$A$2:$O$506,8,0))","v":"開放"},{"$f":"IF(B$11=\"\",\"\",VLOOKUP(B71,漢字書き!$A$2:$O$506,8,0))","v":"両足"},{"$f":"IF(C$11=\"\",\"\",VLOOKUP(C71,漢字書き!$A$2:$O$506,8,0))","v":"関"},{"$f":"IF(D$11=\"\",\"\",VLOOKUP(D71,漢字書き!$A$2:$O$506,8,0))","v":"様子"},{"$f":"IF(E$11=\"\",\"\",VLOOKUP(E71,漢字書き!$A$2:$O$506,8,0))","v":"列"},{"$f":"IF(F$11=\"\",\"\",VLOOKUP(F71,漢字書き!$A$2:$O$506,8,0))","v":"由来"},{"$f":"IF(G$11=\"\",\"\",VLOOKUP(G71,漢字書き!$A$2:$O$506,8,0))","v":"毛筆"},{"$f":"IF(H$11=\"\",\"\",VLOOKUP(H71,漢字書き!$A$2:$O$506,8,0))","v":"以上"},{"$f":"IF(I$11=\"\",\"\",VLOOKUP(I71,漢字書き!$A$2:$O$506,8,0))","v":"氷"},{"$f":"IF(J$11=\"\",\"\",VLOOKUP(J71,漢字書き!$A$2:$O$506,8,0))","v":"黒板"},{"$f":"IF(K$11=\"\",\"\",VLOOKUP(K71,漢字読み!$A$2:$O$506,8,0))","v":"じかく"},{"$f":"IF(L$11=\"\",\"\",VLOOKUP(L71,漢字読み!$A$2:$O$506,8,0))","v":"あらた"},{"$f":"IF(M$11=\"\",\"\",VLOOKUP(M71,漢字読み!$A$2:$O$506,8,0))","v":"くば"},{"$f":"IF(N$11=\"\",\"\",VLOOKUP(N71,漢字読み!$A$2:$O$506,8,0))","v":"びょうどう"},{"$f":"IF(O$11=\"\",\"\",VLOOKUP(O71,漢字読み!$A$2:$O$506,8,0))","v":"せきしょ"},{"$f":"IF(P$11=\"\",\"\",VLOOKUP(P71,漢字読み!$A$2:$O$506,8,0))","v":"へいわ"},{"$f":"IF(Q$11=\"\",\"\",VLOOKUP(Q71,漢字読み!$A$2:$O$506,8,0))","v":"しき"},{"$f":"IF(R$11=\"\",\"\",VLOOKUP(R71,漢字読み!$A$2:$O$506,8,0))","v":"いた"},{"$f":"IF(S$11=\"\",\"\",VLOOKUP(S71,漢字読み!$A$2:$O$506,8,0))","v":"やっきょく"},{"$f":"IF(T$11=\"\",\"\",VLOOKUP(T71,漢字読み!$A$2:$O$506,8,0))","v":"はなみず"},null,"名前"]
[{"$f":"IF(A71=\"\",\"\",IF(VLOOKUP(A71,漢字書き!$A$2:$N$502,7,0)=0,\"\",VLOOKUP(A71,漢字書き!$A$2:$N$502,7,0)))","v":"する"},{"$f":"IF(B71=\"\",\"\",IF(VLOOKUP(B71,漢字書き!$A$2:$N$502,7,0)=0,\"\",VLOOKUP(B71,漢字書き!$A$2:$N$502,7,0)))","v":""},{"$f":"IF(C71=\"\",\"\",IF(VLOOKUP(C71,漢字書き!$A$2:$N$502,7,0)=0,\"\",VLOOKUP(C71,漢字書き!$A$2:$N$502,7,0)))","v":"わり"},{"$f":"IF(D71=\"\",\"\",IF(VLOOKUP(D71,漢字書き!$A$2:$N$502,7,0)=0,\"\",VLOOKUP(D71,漢字書き!$A$2:$N$502,7,0)))","v":""},{"$f":"IF(E71=\"\",\"\",IF(VLOOKUP(E71,漢字書き!$A$2:$N$502,7,0)=0,\"\",VLOOKUP(E71,漢字書き!$A$2:$N$502,7,0)))","v":""},{"$f":"IF(F71=\"\",\"\",IF(VLOOKUP(F71,漢字書き!$A$2:$N$502,7,0)=0,\"\",VLOOKUP(F71,漢字書き!$A$2:$N$502,7,0)))","v":""},{"$f":"IF(G71=\"\",\"\",IF(VLOOKUP(G71,漢字書き!$A$2:$N$502,7,0)=0,\"\",VLOOKUP(G71,漢字書き!$A$2:$N$502,7,0)))","v":""},{"$f":"IF(H71=\"\",\"\",IF(VLOOKUP(H71,漢字書き!$A$2:$N$502,7,0)=0,\"\",VLOOKUP(H71,漢字書き!$A$2:$N$502,7,0)))","v":""},{"$f":"IF(I71=\"\",\"\",IF(VLOOKUP(I71,漢字書き!$A$2:$N$502,7,0)=0,\"\",VLOOKUP(I71,漢字書き!$A$2:$N$502,7,0)))","v":""},{"$f":"IF(J71=\"\",\"\",IF(VLOOKUP(J71,漢字書き!$A$2:$N$502,7,0)=0,\"\",VLOOKUP(J71,漢字書き!$A$2:$N$502,7,0)))","v":""},{"$f":"IF(K71=\"\",\"\",IF(VLOOKUP(K71,漢字読み!$A$2:$O$502,7,0)=0,\"\",VLOOKUP(K71,漢字読み!$A$2:$O$502,7,0)))","v":""},{"$f":"IF(L71=\"\",\"\",IF(VLOOKUP(L71,漢字読み!$A$2:$O$502,7,0)=0,\"\",VLOOKUP(L71,漢字読み!$A$2:$O$502,7,0)))","v":"める"},{"$f":"IF(M71=\"\",\"\",IF(VLOOKUP(M71,漢字読み!$A$2:$O$502,7,0)=0,\"\",VLOOKUP(M71,漢字読み!$A$2:$O$502,7,0)))","v":"る"},{"$f":"IF(N71=\"\",\"\",IF(VLOOKUP(N71,漢字読み!$A$2:$O$502,7,0)=0,\"\",VLOOKUP(N71,漢字読み!$A$2:$O$502,7,0)))","v":""},{"$f":"IF(O71=\"\",\"\",IF(VLOOKUP(O71,漢字読み!$A$2:$O$502,7,0)=0,\"\",VLOOKUP(O71,漢字読み!$A$2:$O$502,7,0)))","v":""},{"$f":"IF(P71=\"\",\"\",IF(VLOOKUP(P71,漢字読み!$A$2:$O$502,7,0)=0,\"\",VLOOKUP(P71,漢字読み!$A$2:$O$502,7,0)))","v":""},{"$f":"IF(Q71=\"\",\"\",IF(VLOOKUP(Q71,漢字読み!$A$2:$O$502,7,0)=0,\"\",VLOOKUP(Q71,漢字読み!$A$2:$O$502,7,0)))","v":""},{"$f":"IF(R71=\"\",\"\",IF(VLOOKUP(R71,漢字読み!$A$2:$O$502,7,0)=0,\"\",VLOOKUP(R71,漢字読み!$A$2:$O$502,7,0)))","v":""},{"$f":"IF(S71=\"\",\"\",IF(VLOOKUP(S71,漢字読み!$A$2:$O$502,7,0)=0,\"\",VLOOKUP(S71,漢字読み!$A$2:$O$502,7,0)))","v":""},{"$f":"IF(T71=\"\",\"\",IF(VLOOKUP(T71,漢字読み!$A$2:$O$502,7,0)=0,\"\",VLOOKUP(T71,漢字読み!$A$2:$O$502,7,0)))","v":""},null,null,"和歌山県教育委員会"]
[{"$f":"A66","v":204},{"$f":"B66","v":35},{"$f":"C66","v":172},{"$f":"D66","v":30},{"$f":"E66","v":28},{"$f":"F66","v":133},{"$f":"G66","v":202},{"$f":"H66","v":68},{"$f":"I66","v":165},{"$f":"J66","v":15},{"$f":"K66","v":139},{"$f":"L66","v":95},{"$f":"M66","v":48},{"$f":"N66","v":182},{"$f":"O66","v":52},{"$f":"P66","v":107},{"$f":"Q66","v":59},{"$f":"R66","v":144},{"$f":"S66","v":24},{"$f":"T66","v":77}]
["⑳","⑲","⑱","⑰","⑯","⑮","⑭","⑬","⑫","⑪","⑩","⑨","⑧","⑦","⑥","⑤","④","③","②","①","次の［　　　　］の部分の漢字には読みがなをひらがなで書き、カタカナは漢字に直しなさい。",11,"「漢字の博士検定試験」練習問題　"]
[{"$f":"IF(A76=\"\",\"\",VLOOKUP(A76,漢字書き!$A$2:$N$506,6,0))","v":"［セキショ］を通る"},{"$f":"IF(B76=\"\",\"\",VLOOKUP(B76,漢字書き!$A$2:$N$506,6,0))","v":"［サカミチ］を歩く"},{"$f":"IF(C76=\"\",\"\",VLOOKUP(C76,漢字書き!$A$2:$N$506,6,0))","v":"［シオアジ］が足りない"},{"$f":"IF(D76=\"\",\"\",VLOOKUP(D76,漢字書き!$A$2:$N$506,6,0))","v":"［ハンタイ］の意見"},{"$f":"IF(E76=\"\",\"\",VLOOKUP(E76,漢字書き!$A$2:$N$506,6,0))","v":"新星を[ハッケン]する"},{"$f":"IF(F76=\"\",\"\",VLOOKUP(F76,漢字書き!$A$2:$N$506,6,0))","v":"急な［ナガ］れ"},{"$f":"IF(G76=\"\",\"\",VLOOKUP(G76,漢字書き!$A$2:$N$506,6,0))","v":"親子の［カンケイ］"},{"$f":"IF(H76=\"\",\"\",VLOOKUP(H76,漢字書き!$A$2:$N$506,6,0))","v":"［ブシツ］をそうじする"},{"$f":"IF(I76=\"\",\"\",VLOOKUP(I76,漢字書き!$A$2:$N$506,6,0))","v":"［イン］さつされた文字"},{"$f":"IF(J76=\"\",\"\",VLOOKUP(J76,漢字書き!$A$2:$N$506,6,0))","v":"じ[ドウ]会の役員"},{"$f":"IF(K76=\"\",\"\",VLOOKUP(K76,漢字読み!$A$2:$O$506,6,0))","v":"［列］にくわわる"},{"$f":"IF(L76=\"\",\"\",VLOOKUP(L76,漢字読み!$A$2:$O$506,6,0))","v":"魚のおろし［問屋］"},{"$f":"IF(M76=\"\",\"\",VLOOKUP(M76,漢字読み!$A$2:$O$506,6,0))","v":"当番［表］を見る"},{"$f":"IF(N76=\"\",\"\",VLOOKUP(N76,漢字読み!$A$2:$O$506,6,0))","v":"［各自］で考える"},{"$f":"IF(O76=\"\",\"\",VLOOKUP(O76,漢字読み!$A$2:$O$506,6,0))","v":"［病気］をなおす"},{"$f":"IF(P76=\"\",\"\",VLOOKUP(P76,漢字読み!$A$2:$O$506,6,0))","v":"温せんで［有名］な土地"},{"$f":"IF(Q76=\"\",\"\",VLOOKUP(Q76,漢字読み!$A$2:$O$506,6,0))","v":"リュックをせ［負］う"},{"$f":"IF(R76=\"\",\"\",VLOOKUP(R76,漢字読み!$A$2:$O$506,6,0))","v":"［道路］を工事する"},{"$f":"IF(S76=\"\",\"\",VLOOKUP(S76,漢字読み!$A$2:$O$506,6,0))","v":"ノアの［箱船］"},{"$f":"IF(T76=\"\",\"\",VLOOKUP(T76,漢字読み!$A$2:$O$506,6,0))","v":"［返］すことばがない"},null,"級"]
[{"$f":"IF(A$16=\"\",\"\",VLOOKUP(A76,漢字書き!$A$2:$O$506,8,0))","v":"関所"},{"$f":"IF(B$16=\"\",\"\",VLOOKUP(B76,漢字書き!$A$2:$O$506,8,0))","v":"坂道"},{"$f":"IF(C$16=\"\",\"\",VLOOKUP(C76,漢字書き!$A$2:$O$506,8,0))","v":"塩味"},{"$f":"IF(D$16=\"\",\"\",VLOOKUP(D76,漢字書き!$A$2:$O$506,8,0))","v":"反対"},{"$f":"IF(E$16=\"\",\"\",VLOOKUP(E76,漢字書き!$A$2:$O$506,8,0))","v":"発見"},{"$f":"IF(F$16=\"\",\"\",VLOOKUP(F76,漢字書き!$A$2:$O$506,8,0))","v":"流"},{"$f":"IF(G$16=\"\",\"\",VLOOKUP(G76,漢字書き!$A$2:$O$506,8,0))","v":"関係"},{"$f":"IF(H$16=\"\",\"\",VLOOKUP(H76,漢字書き!$A$2:$O$506,8,0))","v":"部室"},{"$f":"IF(I$16=\"\",\"\",VLOOKUP(I76,漢字書き!$A$2:$O$506,8,0))","v":"印"},{"$f":"IF(J$16=\"\",\"\",VLOOKUP(J76,漢字書き!$A$2:$O$506,8,0))","v":"童"},{"$f":"IF(K$16=\"\",\"\",VLOOKUP(K76,漢字読み!$A$2:$O$506,8,0))","v":"れつ"},{"$f":"IF(L$16=\"\",\"\",VLOOKUP(L76,漢字読み!$A$2:$O$506,8,0))","v":"どんや"},{"$f":"IF(M$16=\"\",\"\",VLOOKUP(M76,漢字読み!$A$2:$O$506,8,0))","v":"ひょう"},{"$f":"IF(N$16=\"\",\"\",VLOOKUP(N76,漢字読み!$A$2:$O$506,8,0))","v":"かくじ"},{"$f":"IF(O$16=\"\",\"\",VLOOKUP(O76,漢字読み!$A$2:$O$506,8,0))","v":"びょうき"},{"$f":"IF(P$16=\"\",\"\",VLOOKUP(P76,漢字読み!$A$2:$O$506,8,0))","v":"ゆうめい"},{"$f":"IF(Q$16=\"\",\"\",VLOOKUP(Q76,漢字読み!$A$2:$O$506,8,0))","v":"お"},{"$f":"IF(R$16=\"\",\"\",VLOOKUP(R76,漢字読み!$A$2:$O$506,8,0))","v":"どうろ"},{"$f":"IF(S$16=\"\",\"\",VLOOKUP(S76,漢字読み!$A$2:$O$506,8,0))","v":"はこぶね"},{"$f":"IF(T$16=\"\",\"\",VLOOKUP(T76,漢字読み!$A$2:$O$506,8,0))","v":"かえ"},null,"名前"]
[{"$f":"IF(A76=\"\",\"\",IF(VLOOKUP(A76,漢字書き!$A$2:$N$502,7,0)=0,\"\",VLOOKUP(A76,漢字書き!$A$2:$N$502,7,0)))","v":""},{"$f":"IF(B76=\"\",\"\",IF(VLOOKUP(B76,漢字書き!$A$2:$N$502,7,0)=0,\"\",VLOOKUP(B76,漢字書き!$A$2:$N$502,7,0)))","v":""},{"$f":"IF(C76=\"\",\"\",IF(VLOOKUP(C76,漢字書き!$A$2:$N$502,7,0)=0,\"\",VLOOKUP(C76,漢字書き!$A$2:$N$502,7,0)))","v":""},{"$f":"IF(D76=\"\",\"\",IF(VLOOKUP(D76,漢字書き!$A$2:$N$502,7,0)=0,\"\",VLOOKUP(D76,漢字書き!$A$2:$N$502,7,0)))","v":""},{"$f":"IF(E76=\"\",\"\",IF(VLOOKUP(E76,漢字書き!$A$2:$N$502,7,0)=0,\"\",VLOOKUP(E76,漢字書き!$A$2:$N$502,7,0)))","v":"する"},{"$f":"IF(F76=\"\",\"\",IF(VLOOKUP(F76,漢字書き!$A$2:$N$502,7,0)=0,\"\",VLOOKUP(F76,漢字書き!$A$2:$N$502,7,0)))","v":"れ"},{"$f":"IF(G76=\"\",\"\",IF(VLOOKUP(G76,漢字書き!$A$2:$N$502,7,0)=0,\"\",VLOOKUP(G76,漢字書き!$A$2:$N$502,7,0)))","v":""},{"$f":"IF(H76=\"\",\"\",IF(VLOOKUP(H76,漢字書き!$A$2:$N$502,7,0)=0,\"\",VLOOKUP(H76,漢字書き!$A$2:$N$502,7,0)))","v":""},{"$f":"IF(I76=\"\",\"\",IF(VLOOKUP(I76,漢字書き!$A$2:$N$502,7,0)=0,\"\",VLOOKUP(I76,漢字書き!$A$2:$N$502,7,0)))","v":"さつ"},{"$f":"IF(J76=\"\",\"\",IF(VLOOKUP(J76,漢字書き!$A$2:$N$502,7,0)=0,\"\",VLOOKUP(J76,漢字書き!$A$2:$N$502,7,0)))","v":"会"},{"$f":"IF(K76=\"\",\"\",IF(VLOOKUP(K76,漢字読み!$A$2:$O$502,7,0)=0,\"\",VLOOKUP(K76,漢字読み!$A$2:$O$502,7,0)))","v":""},{"$f":"IF(L76=\"\",\"\",IF(VLOOKUP(L76,漢字読み!$A$2:$O$502,7,0)=0,\"\",VLOOKUP(L76,漢字読み!$A$2:$O$502,7,0)))","v":""},{"$f":"IF(M76=\"\",\"\",IF(VLOOKUP(M76,漢字読み!$A$2:$O$502,7,0)=0,\"\",VLOOKUP(M76,漢字読み!$A$2:$O$502,7,0)))","v":""},{"$f":"IF(N76=\"\",\"\",IF(VLOOKUP(N76,漢字読み!$A$2:$O$502,7,0)=0,\"\",VLOOKUP(N76,漢字読み!$A$2:$O$502,7,0)))","v":""},{"$f":"IF(O76=\"\",\"\",IF(VLOOKUP(O76,漢字読み!$A$2:$O$502,7,0)=0,\"\",VLOOKUP(O76,漢字読み!$A$2:$O$502,7,0)))","v":""},{"$f":"IF(P76=\"\",\"\",IF(VLOOKUP(P76,漢字読み!$A$2:$O$502,7,0)=0,\"\",VLOOKUP(P76,漢字読み!$A$2:$O$502,7,0)))","v":"な"},{"$f":"IF(Q76=\"\",\"\",IF(VLOOKUP(Q76,漢字読み!$A$2:$O$502,7,0)=0,\"\",VLOOKUP(Q76,漢字読み!$A$2:$O$502,7,0)))","v":"う"},{"$f":"IF(R76=\"\",\"\",IF(VLOOKUP(R76,漢字読み!$A$2:$O$502,7,0)=0,\"\",VLOOKUP(R76,漢字読み!$A$2:$O$502,7,0)))","v":""},{"$f":"IF(S76=\"\",\"\",IF(VLOOKUP(S76,漢字読み!$A$2:$O$502,7,0)=0,\"\",VLOOKUP(S76,漢字読み!$A$2:$O$502,7,0)))","v":""},{"$f":"IF(T76=\"\",\"\",IF(VLOOKUP(T76,漢字読み!$A$2:$O$502,7,0)=0,\"\",VLOOKUP(T76,漢字読み!$A$2:$O$502,7,0)))","v":"す"},null,null,"和歌山県教育委員会"]
[{"$f":"INDIRECT(\"'関数（書き）'!C\" & COLUMN(B$1)+SUM($AD$2:$AD82))","v":31},{"$f":"INDIRECT(\"'関数（書き）'!C\" & COLUMN(C$1)+SUM($AD$2:$AD82))","v":11},{"$f":"INDIRECT(\"'関数（書き）'!C\" & COLUMN(D$1)+SUM($AD$2:$AD82))","v":41},{"$f":"INDIRECT(\"'関数（書き）'!C\" & COLUMN(E$1)+SUM($AD$2:$AD82))","v":155},{"$f":"INDIRECT(\"'関数（書き）'!C\" & COLUMN(F$1)+SUM($AD$2:$AD82))","v":199},{"$f":"INDIRECT(\"'関数（書き）'!C\" & COLUMN(G$1)+SUM($AD$2:$AD82))","v":88},{"$f":"INDIRECT(\"'関数（書き）'!C\" & COLUMN(H$1)+SUM($AD$2:$AD82))","v":13},{"$f":"INDIRECT(\"'関数（書き）'!C\" & COLUMN(I$1)+SUM($AD$2:$AD82))","v":90},{"$f":"INDIRECT(\"'関数（書き）'!C\" & COLUMN(J$1)+SUM($AD$2:$AD82))","v":211},{"$f":"INDIRECT(\"'関数（書き）'!C\" & COLUMN(K$1)+SUM($AD$2:$AD82))","v":48},{"$f":"INDIRECT(\"'関数（読み）'!C\" & COLUMN(B$1)+SUM($AD$2:$AD82))","v":143},{"$f":"INDIRECT(\"'関数（読み）'!C\" & COLUMN(C$1)+SUM($AD$2:$AD82))","v":141},{"$f":"INDIRECT(\"'関数（読み）'!C\" & COLUMN(D$1)+SUM($AD$2:$AD82))","v":88},{"$f":"INDIRECT(\"'関数（読み）'!C\" & COLUMN(E$1)+SUM($AD$2:$AD82))","v":35},{"$f":"INDIRECT(\"'関数（読み）'!C\" & COLUMN(F$1)+SUM($AD$2:$AD82))","v":25},{"$f":"INDIRECT(\"'関数（読み）'!C\" & COLUMN(G$1)+SUM($AD$2:$AD82))","v":58},{"$f":"INDIRECT(\"'関数（読み）'!C\" & COLUMN(H$1)+SUM($AD$2:$AD82))","v":184},{"$f":"INDIRECT(\"'関数（読み）'!C\" & COLUMN(I$1)+SUM($AD$2:$AD82))","v":36},{"$f":"INDIRECT(\"'関数（読み）'!C\" & COLUMN(J$1)+SUM($AD$2:$AD82))","v":136},{"$f":"INDIRECT(\"'関数（読み）'!C\" & COLUMN(K$1)+SUM($AD$2:$AD82))","v":142}]
["⑳","⑲","⑱","⑰","⑯","⑮","⑭","⑬","⑫","⑪","⑩","⑨","⑧","⑦","⑥","⑤","④","③","②","①","次の［　　　　］の部分の漢字には読みがなをひらがなで書き、カタカナは漢字に直しなさい。",11,"「漢字の博士検定試験」練習問題　",null,null,null,null,null,"←",10,"問",{"$f":"AH67+1","v":81},"～",{"$f":"SUM($AD$2:$AD82)+10","v":90},"問まで",{"$f":"COUNTIF($A$1:$T$200,T83)","v":2}]
[{"$f":"IF(A81=\"\",\"\",VLOOKUP(A81,漢字書き!$A$2:$N$506,6,0))","v":"親に［ハンパツ］する"},{"$f":"IF(B81=\"\",\"\",VLOOKUP(B81,漢字書き!$A$2:$N$506,6,0))","v":"気持ちが［ウゴ］く"},{"$f":"IF(C81=\"\",\"\",VLOOKUP(C81,漢字書き!$A$2:$N$506,6,0))","v":"［ケガワ］のコート"},{"$f":"IF(D81=\"\",\"\",VLOOKUP(D81,漢字書き!$A$2:$N$506,6,0))","v":"［アンナイ］する"},{"$f":"IF(E81=\"\",\"\",VLOOKUP(E81,漢字書き!$A$2:$N$506,6,0))","v":"けいさつ［カン］になる"},{"$f":"IF(F81=\"\",\"\",VLOOKUP(F81,漢字書き!$A$2:$N$506,6,0))","v":"［ハナ］しがいにする"},{"$f":"IF(G81=\"\",\"\",VLOOKUP(G81,漢字書き!$A$2:$N$506,6,0))","v":"日本の［ドウワ］を読む"},{"$f":"IF(H81=\"\",\"\",VLOOKUP(H81,漢字書き!$A$2:$N$506,6,0))","v":"［ホウ］っておけない物"},{"$f":"IF(I81=\"\",\"\",VLOOKUP(I81,漢字書き!$A$2:$N$506,6,0))","v":"［キ］ぼうをもつ"},{"$f":"IF(J81=\"\",\"\",VLOOKUP(J81,漢字書き!$A$2:$N$506,6,0))","v":"本の［ヒッシャ］"},{"$f":"IF(K81=\"\",\"\",VLOOKUP(K81,漢字読み!$A$2:$O$506,6,0))","v":"［路線］が変わる"},{"$f":"IF(L81=\"\",\"\",VLOOKUP(L81,漢字読み!$A$2:$O$506,6,0))","v":"考えを［練］る"},{"$f":"IF(M81=\"\",\"\",VLOOKUP(M81,漢字読み!$A$2:$O$506,6,0))","v":"月の［表面］の写真"},{"$f":"IF(N81=\"\",\"\",VLOOKUP(N81,漢字読み!$A$2:$O$506,6,0))","v":"［表皮］をけずる"},{"$f":"IF(O81=\"\",\"\",VLOOKUP(O81,漢字読み!$A$2:$O$506,6,0))","v":"［田畑］をたがやす"},{"$f":"IF(P81=\"\",\"\",VLOOKUP(P81,漢字読み!$A$2:$O$506,6,0))","v":"［勝負］にかける"},{"$f":"IF(Q81=\"\",\"\",VLOOKUP(Q81,漢字読み!$A$2:$O$506,6,0))","v":"［目覚］まし時計が鳴る"},{"$f":"IF(R81=\"\",\"\",VLOOKUP(R81,漢字読み!$A$2:$O$506,6,0))","v":"［毛皮］を着る"},{"$f":"IF(S81=\"\",\"\",VLOOKUP(S81,漢字読み!$A$2:$O$506,6,0))","v":"［緑地］公園に行く"},{"$f":"IF(T81=\"\",\"\",VLOOKUP(T81,漢字読み!$A$2:$O$506,6,0))","v":"汽車の［線路］"},null,"級"]
[null,null,null,null,null,null,null,null,null,null,null,null,null,null,null,null,null,null,null,null,null,"名前"]
[{"$f":"IF(A81=\"\",\"\",IF(VLOOKUP(A81,漢字書き!$A$2:$N$502,7,0)=0,\"\",VLOOKUP(A81,漢字書き!$A$2:$N$502,7,0)))","v":"する"},{"$f":"IF(B81=\"\",\"\",IF(VLOOKUP(B81,漢字書き!$A$2:$N$502,7,0)=0,\"\",VLOOKUP(B81,漢字書き!$A$2:$N$502,7,0)))","v":"く"},{"$f":"IF(C81=\"\",\"\",IF(VLOOKUP(C81,漢字書き!$A$2:$N$502,7,0)=0,\"\",VLOOKUP(C81,漢字書き!$A$2:$N$502,7,0)))","v":""},{"$f":"IF(D81=\"\",\"\",IF(VLOOKUP(D81,漢字書き!$A$2:$N$502,7,0)=0,\"\",VLOOKUP(D81,漢字書き!$A$2:$N$502,7,0)))","v":"する"},{"$f":"IF(E81=\"\",\"\",IF(VLOOKUP(E81,漢字書き!$A$2:$N$502,7,0)=0,\"\",VLOOKUP(E81,漢字書き!$A$2:$N$502,7,0)))","v":""},{"$f":"IF(F81=\"\",\"\",IF(VLOOKUP(F81,漢字書き!$A$2:$N$502,7,0)=0,\"\",VLOOKUP(F81,漢字書き!$A$2:$N$502,7,0)))","v":"しがい"},{"$f":"IF(G81=\"\",\"\",IF(VLOOKUP(G81,漢字書き!$A$2:$N$502,7,0)=0,\"\",VLOOKUP(G81,漢字書き!$A$2:$N$502,7,0)))","v":""},{"$f":"IF(H81=\"\",\"\",IF(VLOOKUP(H81,漢字書き!$A$2:$N$502,7,0)=0,\"\",VLOOKUP(H81,漢字書き!$A$2:$N$502,7,0)))","v":"って"},{"$f":"IF(I81=\"\",\"\",IF(VLOOKUP(I81,漢字書き!$A$2:$N$502,7,0)=0,\"\",VLOOKUP(I81,漢字書き!$A$2:$N$502,7,0)))","v":"ぼう"},{"$f":"IF(J81=\"\",\"\",IF(VLOOKUP(J81,漢字書き!$A$2:$N$502,7,0)=0,\"\",VLOOKUP(J81,漢字書き!$A$2:$N$502,7,0)))","v":""},{"$f":"IF(K81=\"\",\"\",IF(VLOOKUP(K81,漢字読み!$A$2:$O$502,7,0)=0,\"\",VLOOKUP(K81,漢字読み!$A$2:$O$502,7,0)))","v":""},{"$f":"IF(L81=\"\",\"\",IF(VLOOKUP(L81,漢字読み!$A$2:$O$502,7,0)=0,\"\",VLOOKUP(L81,漢字読み!$A$2:$O$502,7,0)))","v":"る"},{"$f":"IF(M81=\"\",\"\",IF(VLOOKUP(M81,漢字読み!$A$2:$O$502,7,0)=0,\"\",VLOOKUP(M81,漢字読み!$A$2:$O$502,7,0)))","v":""},{"$f":"IF(N81=\"\",\"\",IF(VLOOKUP(N81,漢字読み!$A$2:$O$502,7,0)=0,\"\",VLOOKUP(N81,漢字読み!$A$2:$O$502,7,0)))","v":""},{"$f":"IF(O81=\"\",\"\",IF(VLOOKUP(O81,漢字読み!$A$2:$O$502,7,0)=0,\"\",VLOOKUP(O81,漢字読み!$A$2:$O$502,7,0)))","v":""},{"$f":"IF(P81=\"\",\"\",IF(VLOOKUP(P81,漢字読み!$A$2:$O$502,7,0)=0,\"\",VLOOKUP(P81,漢字読み!$A$2:$O$502,7,0)))","v":""},{"$f":"IF(Q81=\"\",\"\",IF(VLOOKUP(Q81,漢字読み!$A$2:$O$502,7,0)=0,\"\",VLOOKUP(Q81,漢字読み!$A$2:$O$502,7,0)))","v":"まし"},{"$f":"IF(R81=\"\",\"\",IF(VLOOKUP(R81,漢字読み!$A$2:$O$502,7,0)=0,\"\",VLOOKUP(R81,漢字読み!$A$2:$O$502,7,0)))","v":""},{"$f":"IF(S81=\"\",\"\",IF(VLOOKUP(S81,漢字読み!$A$2:$O$502,7,0)=0,\"\",VLOOKUP(S81,漢字読み!$A$2:$O$502,7,0)))","v":""},{"$f":"IF(T81=\"\",\"\",IF(VLOOKUP(T81,漢字読み!$A$2:$O$502,7,0)=0,\"\",VLOOKUP(T81,漢字読み!$A$2:$O$502,7,0)))","v":""},null,null,"和歌山県教育委員会"]
[{"$f":"INDIRECT(\"'関数（書き）'!C\" & COLUMN(B$1)+SUM($AD$2:$AD87))","v":227},{"$f":"INDIRECT(\"'関数（書き）'!C\" & COLUMN(C$1)+SUM($AD$2:$AD87))","v":47},{"$f":"INDIRECT(\"'関数（書き）'!C\" & COLUMN(D$1)+SUM($AD$2:$AD87))","v":33},{"$f":"INDIRECT(\"'関数（書き）'!C\" & COLUMN(E$1)+SUM($AD$2:$AD87))","v":27},{"$f":"INDIRECT(\"'関数（書き）'!C\" & COLUMN(F$1)+SUM($AD$2:$AD87))","v":63},{"$f":"INDIRECT(\"'関数（書き）'!C\" & COLUMN(G$1)+SUM($AD$2:$AD87))","v":192},{"$f":"INDIRECT(\"'関数（書き）'!C\" & COLUMN(H$1)+SUM($AD$2:$AD87))","v":173},{"$f":"INDIRECT(\"'関数（書き）'!C\" & COLUMN(I$1)+SUM($AD$2:$AD87))","v":153},{"$f":"INDIRECT(\"'関数（書き）'!C\" & COLUMN(J$1)+SUM($AD$2:$AD87))","v":176},{"$f":"INDIRECT(\"'関数（書き）'!C\" & COLUMN(K$1)+SUM($AD$2:$AD87))","v":148},{"$f":"INDIRECT(\"'関数（読み）'!C\" & COLUMN(B$1)+SUM($AD$2:$AD87))","v":146},{"$f":"INDIRECT(\"'関数（読み）'!C\" & COLUMN(C$1)+SUM($AD$2:$AD87))","v":163},{"$f":"INDIRECT(\"'関数（読み）'!C\" & COLUMN(D$1)+SUM($AD$2:$AD87))","v":50},{"$f":"INDIRECT(\"'関数（読み）'!C\" & COLUMN(E$1)+SUM($AD$2:$AD87))","v":133},{"$f":"INDIRECT(\"'関数（読み）'!C\" & COLUMN(F$1)+SUM($AD$2:$AD87))","v":201},{"$f":"INDIRECT(\"'関数（読み）'!C\" & COLUMN(G$1)+SUM($AD$2:$AD87))","v":44},{"$f":"INDIRECT(\"'関数（読み）'!C\" & COLUMN(H$1)+SUM($AD$2:$AD87))","v":126},{"$f":"INDIRECT(\"'関数（読み）'!C\" & COLUMN(I$1)+SUM($AD$2:$AD87))","v":178},{"$f":"INDIRECT(\"'関数（読み）'!C\" & COLUMN(J$1)+SUM($AD$2:$AD87))","v":63},{"$f":"INDIRECT(\"'関数（読み）'!C\" & COLUMN(K$1)+SUM($AD$2:$AD87))","v":97}]
["⑳","⑲","⑱","⑰","⑯","⑮","⑭","⑬","⑫","⑪","⑩","⑨","⑧","⑦","⑥","⑤","④","③","②","①","次の［　　　　］の部分の漢字には読みがなをひらがなで書き、カタカナは漢字に直しなさい。",11,"「漢字の博士検定試験」練習問題　",null,null,null,null,null,"←",10,"問",{"$f":"AH82+1","v":91},"～",{"$f":"SUM($AD$2:$AD87)+10","v":100},"問まで",{"$f":"COUNTIF($A$1:$T$200,T88)","v":2}]
[{"$f":"IF(A86=\"\",\"\",VLOOKUP(A86,漢字書き!$A$2:$N$506,6,0))","v":"［トヤマケン］のおみやげ"},{"$f":"IF(B86=\"\",\"\",VLOOKUP(B86,漢字書き!$A$2:$N$506,6,0))","v":"［ハナミズ］が出る"},{"$f":"IF(C86=\"\",\"\",VLOOKUP(C86,漢字書き!$A$2:$N$506,6,0))","v":"表紙が［ソ］る"},{"$f":"IF(D86=\"\",\"\",VLOOKUP(D86,漢字書き!$A$2:$N$506,6,0))","v":"［ハッセイ］練習"},{"$f":"IF(E86=\"\",\"\",VLOOKUP(E86,漢字書き!$A$2:$N$506,6,0))","v":"［テジナ］は楽しい"},{"$f":"IF(F86=\"\",\"\",VLOOKUP(F86,漢字書き!$A$2:$N$506,6,0))","v":"商店［ガイ］を歩く"},{"$f":"IF(G86=\"\",\"\",VLOOKUP(G86,漢字書き!$A$2:$N$506,6,0))","v":"さとうと［シオ］"},{"$f":"IF(H86=\"\",\"\",VLOOKUP(H86,漢字書き!$A$2:$N$506,6,0))","v":"［アイ］とゆう気"},{"$f":"IF(I86=\"\",\"\",VLOOKUP(I86,漢字書き!$A$2:$N$506,6,0))","v":"みんなでさん［カ］する"},{"$f":"IF(J86=\"\",\"\",VLOOKUP(J86,漢字書き!$A$2:$N$506,6,0))","v":"汽車の［センロ］"},{"$f":"IF(K86=\"\",\"\",VLOOKUP(K86,漢字読み!$A$2:$O$506,6,0))","v":"[和紙]でつつむ"},{"$f":"IF(L86=\"\",\"\",VLOOKUP(L86,漢字読み!$A$2:$O$506,6,0))","v":"てきに［塩］をおくる"},{"$f":"IF(M86=\"\",\"\",VLOOKUP(M86,漢字読み!$A$2:$O$506,6,0))","v":"図やグラフで［表］す"},{"$f":"IF(N86=\"\",\"\",VLOOKUP(N86,漢字読み!$A$2:$O$506,6,0))","v":"海外［旅行］"},{"$f":"IF(O86=\"\",\"\",VLOOKUP(O86,漢字読み!$A$2:$O$506,6,0))","v":"［年賀］はがきを出す"},{"$f":"IF(P86=\"\",\"\",VLOOKUP(P86,漢字読み!$A$2:$O$506,6,0))","v":"［毛筆］を使う"},{"$f":"IF(Q86=\"\",\"\",VLOOKUP(Q86,漢字読み!$A$2:$O$506,6,0))","v":"［落石］に注意"},{"$f":"IF(R86=\"\",\"\",VLOOKUP(R86,漢字読み!$A$2:$O$506,6,0))","v":"［機械］を使う"},{"$f":"IF(S86=\"\",\"\",VLOOKUP(S86,漢字読み!$A$2:$O$506,6,0))","v":"［服］を着る"},{"$f":"IF(T86=\"\",\"\",VLOOKUP(T86,漢字読み!$A$2:$O$506,6,0))","v":"［役目］を果たす"},null,"級"]
[null,null,null,null,null,null,null,null,null,null,null,null,null,null,null,null,null,null,null,null,null,"名前"]
[{"$f":"IF(A86=\"\",\"\",IF(VLOOKUP(A86,漢字書き!$A$2:$N$502,7,0)=0,\"\",VLOOKUP(A86,漢字書き!$A$2:$N$502,7,0)))","v":""},{"$f":"IF(B86=\"\",\"\",IF(VLOOKUP(B86,漢字書き!$A$2:$N$502,7,0)=0,\"\",VLOOKUP(B86,漢字書き!$A$2:$N$502,7,0)))","v":""},{"$f":"IF(C86=\"\",\"\",IF(VLOOKUP(C86,漢字書き!$A$2:$N$502,7,0)=0,\"\",VLOOKUP(C86,漢字書き!$A$2:$N$502,7,0)))","v":"る"},{"$f":"IF(D86=\"\",\"\",IF(VLOOKUP(D86,漢字書き!$A$2:$N$502,7,0)=0,\"\",VLOOKUP(D86,漢字書き!$A$2:$N$502,7,0)))","v":""},{"$f":"IF(E86=\"\",\"\",IF(VLOOKUP(E86,漢字書き!$A$2:$N$502,7,0)=0,\"\",VLOOKUP(E86,漢字書き!$A$2:$N$502,7,0)))","v":""},{"$f":"IF(F86=\"\",\"\",IF(VLOOKUP(F86,漢字書き!$A$2:$N$502,7,0)=0,\"\",VLOOKUP(F86,漢字書き!$A$2:$N$502,7,0)))","v":""},{"$f":"IF(G86=\"\",\"\",IF(VLOOKUP(G86,漢字書き!$A$2:$N$502,7,0)=0,\"\",VLOOKUP(G86,漢字書き!$A$2:$N$502,7,0)))","v":""},{"$f":"IF(H86=\"\",\"\",IF(VLOOKUP(H86,漢字書き!$A$2:$N$502,7,0)=0,\"\",VLOOKUP(H86,漢字書き!$A$2:$N$502,7,0)))","v":""},{"$f":"IF(I86=\"\",\"\",IF(VLOOKUP(I86,漢字書き!$A$2:$N$502,7,0)=0,\"\",VLOOKUP(I86,漢字書き!$A$2:$N$502,7,0)))","v":"する"},{"$f":"IF(J86=\"\",\"\",IF(VLOOKUP(J86,漢字書き!$A$2:$N$502,7,0)=0,\"\",VLOOKUP(J86,漢字書き!$A$2:$N$502,7,0)))","v":""},{"$f":"IF(K86=\"\",\"\",IF(VLOOKUP(K86,漢字読み!$A$2:$O$502,7,0)=0,\"\",VLOOKUP(K86,漢字読み!$A$2:$O$502,7,0)))","v":""},{"$f":"IF(L86=\"\",\"\",IF(VLOOKUP(L86,漢字読み!$A$2:$O$502,7,0)=0,\"\",VLOOKUP(L86,漢字読み!$A$2:$O$502,7,0)))","v":""},{"$f":"IF(M86=\"\",\"\",IF(VLOOKUP(M86,漢字読み!$A$2:$O$502,7,0)=0,\"\",VLOOKUP(M86,漢字読み!$A$2:$O$502,7,0)))","v":"す"},{"$f":"IF(N86=\"\",\"\",IF(VLOOKUP(N86,漢字読み!$A$2:$O$502,7,0)=0,\"\",VLOOKUP(N86,漢字読み!$A$2:$O$502,7,0)))","v":""},{"$f":"IF(O86=\"\",\"\",IF(VLOOKUP(O86,漢字読み!$A$2:$O$502,7,0)=0,\"\",VLOOKUP(O86,漢字読み!$A$2:$O$502,7,0)))","v":"はがき"},{"$f":"IF(P86=\"\",\"\",IF(VLOOKUP(P86,漢字読み!$A$2:$O$502,7,0)=0,\"\",VLOOKUP(P86,漢字読み!$A$2:$O$502,7,0)))","v":""},{"$f":"IF(Q86=\"\",\"\",IF(VLOOKUP(Q86,漢字読み!$A$2:$O$502,7,0)=0,\"\",VLOOKUP(Q86,漢字読み!$A$2:$O$502,7,0)))","v":""},{"$f":"IF(R86=\"\",\"\",IF(VLOOKUP(R86,漢字読み!$A$2:$O$502,7,0)=0,\"\",VLOOKUP(R86,漢字読み!$A$2:$O$502,7,0)))","v":""},{"$f":"IF(S86=\"\",\"\",IF(VLOOKUP(S86,漢字読み!$A$2:$O$502,7,0)=0,\"\",VLOOKUP(S86,漢字読み!$A$2:$O$502,7,0)))","v":""},{"$f":"IF(T86=\"\",\"\",IF(VLOOKUP(T86,漢字読み!$A$2:$O$502,7,0)=0,\"\",VLOOKUP(T86,漢字読み!$A$2:$O$502,7,0)))","v":""},null,null,"和歌山県教育委員会"]
[{"$f":"A81","v":31},{"$f":"B81","v":11},{"$f":"C81","v":41},{"$f":"D81","v":155},{"$f":"E81","v":199},{"$f":"F81","v":88},{"$f":"G81","v":13},{"$f":"H81","v":90},{"$f":"I81","v":211},{"$f":"J81","v":48},{"$f":"K81","v":143},{"$f":"L81","v":141},{"$f":"M81","v":88},{"$f":"N81","v":35},{"$f":"O81","v":25},{"$f":"P81","v":58},{"$f":"Q81","v":184},{"$f":"R81","v":36},{"$f":"S81","v":136},{"$f":"T81","v":142}]
["⑳","⑲","⑱","⑰","⑯","⑮","⑭","⑬","⑫","⑪","⑩","⑨","⑧","⑦","⑥","⑤","④","③","②","①","次の［　　　　］の部分の漢字には読みがなをひらがなで書き、カタカナは漢字に直しなさい。",11,"「漢字の博士検定試験」練習問題　"]
[{"$f":"IF(A91=\"\",\"\",VLOOKUP(A91,漢字書き!$A$2:$N$506,6,0))","v":"親に［ハンパツ］する"},{"$f":"IF(B91=\"\",\"\",VLOOKUP(B91,漢字書き!$A$2:$N$506,6,0))","v":"気持ちが［ウゴ］く"},{"$f":"IF(C91=\"\",\"\",VLOOKUP(C91,漢字書き!$A$2:$N$506,6,0))","v":"［ケガワ］のコート"},{"$f":"IF(D91=\"\",\"\",VLOOKUP(D91,漢字書き!$A$2:$N$506,6,0))","v":"［アンナイ］する"},{"$f":"IF(E91=\"\",\"\",VLOOKUP(E91,漢字書き!$A$2:$N$506,6,0))","v":"けいさつ［カン］になる"},{"$f":"IF(F91=\"\",\"\",VLOOKUP(F91,漢字書き!$A$2:$N$506,6,0))","v":"［ハナ］しがいにする"},{"$f":"IF(G91=\"\",\"\",VLOOKUP(G91,漢字書き!$A$2:$N$506,6,0))","v":"日本の［ドウワ］を読む"},{"$f":"IF(H91=\"\",\"\",VLOOKUP(H91,漢字書き!$A$2:$N$506,6,0))","v":"［ホウ］っておけない物"},{"$f":"IF(I91=\"\",\"\",VLOOKUP(I91,漢字書き!$A$2:$N$506,6,0))","v":"［キ］ぼうをもつ"},{"$f":"IF(J91=\"\",\"\",VLOOKUP(J91,漢字書き!$A$2:$N$506,6,0))","v":"本の［ヒッシャ］"},{"$f":"IF(K91=\"\",\"\",VLOOKUP(K91,漢字読み!$A$2:$O$506,6,0))","v":"［路線］が変わる"},{"$f":"IF(L91=\"\",\"\",VLOOKUP(L91,漢字読み!$A$2:$O$506,6,0))","v":"考えを［練］る"},{"$f":"IF(M91=\"\",\"\",VLOOKUP(M91,漢字読み!$A$2:$O$506,6,0))","v":"月の［表面］の写真"},{"$f":"IF(N91=\"\",\"\",VLOOKUP(N91,漢字読み!$A$2:$O$506,6,0))","v":"［表皮］をけずる"},{"$f":"IF(O91=\"\",\"\",VLOOKUP(O91,漢字読み!$A$2:$O$506,6,0))","v":"［田畑］をたがやす"},{"$f":"IF(P91=\"\",\"\",VLOOKUP(P91,漢字読み!$A$2:$O$506,6,0))","v":"［勝負］にかける"},{"$f":"IF(Q91=\"\",\"\",VLOOKUP(Q91,漢字読み!$A$2:$O$506,6,0))","v":"［目覚］まし時計が鳴る"},{"$f":"IF(R91=\"\",\"\",VLOOKUP(R91,漢字読み!$A$2:$O$506,6,0))","v":"［毛皮］を着る"},{"$f":"IF(S91=\"\",\"\",VLOOKUP(S91,漢字読み!$A$2:$O$506,6,0))","v":"［緑地］公園に行く"},{"$f":"IF(T91=\"\",\"\",VLOOKUP(T91,漢字読み!$A$2:$O$506,6,0))","v":"汽車の［線路］"},null,"級"]
[{"$f":"IF(A$11=\"\",\"\",VLOOKUP(A91,漢字書き!$A$2:$O$506,8,0))","v":"反発"},{"$f":"IF(B$11=\"\",\"\",VLOOKUP(B91,漢字書き!$A$2:$O$506,8,0))","v":"動"},{"$f":"IF(C$11=\"\",\"\",VLOOKUP(C91,漢字書き!$A$2:$O$506,8,0))","v":"毛皮"},{"$f":"IF(D$11=\"\",\"\",VLOOKUP(D91,漢字書き!$A$2:$O$506,8,0))","v":"案内"},{"$f":"IF(E$11=\"\",\"\",VLOOKUP(E91,漢字書き!$A$2:$O$506,8,0))","v":"官"},{"$f":"IF(F$11=\"\",\"\",VLOOKUP(F91,漢字書き!$A$2:$O$506,8,0))","v":"放"},{"$f":"IF(G$11=\"\",\"\",VLOOKUP(G91,漢字書き!$A$2:$O$506,8,0))","v":"童話"},{"$f":"IF(H$11=\"\",\"\",VLOOKUP(H91,漢字書き!$A$2:$O$506,8,0))","v":"放"},{"$f":"IF(I$11=\"\",\"\",VLOOKUP(I91,漢字書き!$A$2:$O$506,8,0))","v":"希"},{"$f":"IF(J$11=\"\",\"\",VLOOKUP(J91,漢字書き!$A$2:$O$506,8,0))","v":"筆者"},{"$f":"IF(K$11=\"\",\"\",VLOOKUP(K91,漢字読み!$A$2:$O$506,8,0))","v":"ろせん"},{"$f":"IF(L$11=\"\",\"\",VLOOKUP(L91,漢字読み!$A$2:$O$506,8,0))","v":"ね"},{"$f":"IF(M$11=\"\",\"\",VLOOKUP(M91,漢字読み!$A$2:$O$506,8,0))","v":"ひょうめん"},{"$f":"IF(N$11=\"\",\"\",VLOOKUP(N91,漢字読み!$A$2:$O$506,8,0))","v":"ひょうひ"},{"$f":"IF(O$11=\"\",\"\",VLOOKUP(O91,漢字読み!$A$2:$O$506,8,0))","v":"たはた"},{"$f":"IF(P$11=\"\",\"\",VLOOKUP(P91,漢字読み!$A$2:$O$506,8,0))","v":"しょうぶ"},{"$f":"IF(Q$11=\"\",\"\",VLOOKUP(Q91,漢字読み!$A$2:$O$506,8,0))","v":"めざ"},{"$f":"IF(R$11=\"\",\"\",VLOOKUP(R91,漢字読み!$A$2:$O$506,8,0))","v":"けがわ"},{"$f":"IF(S$11=\"\",\"\",VLOOKUP(S91,漢字読み!$A$2:$O$506,8,0))","v":"りょくち"},{"$f":"IF(T$11=\"\",\"\",VLOOKUP(T91,漢字読み!$A$2:$O$506,8,0))","v":"せんろ"},null,"名前"]
[{"$f":"IF(A91=\"\",\"\",IF(VLOOKUP(A91,漢字書き!$A$2:$N$502,7,0)=0,\"\",VLOOKUP(A91,漢字書き!$A$2:$N$502,7,0)))","v":"する"},{"$f":"IF(B91=\"\",\"\",IF(VLOOKUP(B91,漢字書き!$A$2:$N$502,7,0)=0,\"\",VLOOKUP(B91,漢字書き!$A$2:$N$502,7,0)))","v":"く"},{"$f":"IF(C91=\"\",\"\",IF(VLOOKUP(C91,漢字書き!$A$2:$N$502,7,0)=0,\"\",VLOOKUP(C91,漢字書き!$A$2:$N$502,7,0)))","v":""},{"$f":"IF(D91=\"\",\"\",IF(VLOOKUP(D91,漢字書き!$A$2:$N$502,7,0)=0,\"\",VLOOKUP(D91,漢字書き!$A$2:$N$502,7,0)))","v":"する"},{"$f":"IF(E91=\"\",\"\",IF(VLOOKUP(E91,漢字書き!$A$2:$N$502,7,0)=0,\"\",VLOOKUP(E91,漢字書き!$A$2:$N$502,7,0)))","v":""},{"$f":"IF(F91=\"\",\"\",IF(VLOOKUP(F91,漢字書き!$A$2:$N$502,7,0)=0,\"\",VLOOKUP(F91,漢字書き!$A$2:$N$502,7,0)))","v":"しがい"},{"$f":"IF(G91=\"\",\"\",IF(VLOOKUP(G91,漢字書き!$A$2:$N$502,7,0)=0,\"\",VLOOKUP(G91,漢字書き!$A$2:$N$502,7,0)))","v":""},{"$f":"IF(H91=\"\",\"\",IF(VLOOKUP(H91,漢字書き!$A$2:$N$502,7,0)=0,\"\",VLOOKUP(H91,漢字書き!$A$2:$N$502,7,0)))","v":"って"},{"$f":"IF(I91=\"\",\"\",IF(VLOOKUP(I91,漢字書き!$A$2:$N$502,7,0)=0,\"\",VLOOKUP(I91,漢字書き!$A$2:$N$502,7,0)))","v":"ぼう"},{"$f":"IF(J91=\"\",\"\",IF(VLOOKUP(J91,漢字書き!$A$2:$N$502,7,0)=0,\"\",VLOOKUP(J91,漢字書き!$A$2:$N$502,7,0)))","v":""},{"$f":"IF(K91=\"\",\"\",IF(VLOOKUP(K91,漢字読み!$A$2:$O$502,7,0)=0,\"\",VLOOKUP(K91,漢字読み!$A$2:$O$502,7,0)))","v":""},{"$f":"IF(L91=\"\",\"\",IF(VLOOKUP(L91,漢字読み!$A$2:$O$502,7,0)=0,\"\",VLOOKUP(L91,漢字読み!$A$2:$O$502,7,0)))","v":"る"},{"$f":"IF(M91=\"\",\"\",IF(VLOOKUP(M91,漢字読み!$A$2:$O$502,7,0)=0,\"\",VLOOKUP(M91,漢字読み!$A$2:$O$502,7,0)))","v":""},{"$f":"IF(N91=\"\",\"\",IF(VLOOKUP(N91,漢字読み!$A$2:$O$502,7,0)=0,\"\",VLOOKUP(N91,漢字読み!$A$2:$O$502,7,0)))","v":""},{"$f":"IF(O91=\"\",\"\",IF(VLOOKUP(O91,漢字読み!$A$2:$O$502,7,0)=0,\"\",VLOOKUP(O91,漢字読み!$A$2:$O$502,7,0)))","v":""},{"$f":"IF(P91=\"\",\"\",IF(VLOOKUP(P91,漢字読み!$A$2:$O$502,7,0)=0,\"\",VLOOKUP(P91,漢字読み!$A$2:$O$502,7,0)))","v":""},{"$f":"IF(Q91=\"\",\"\",IF(VLOOKUP(Q91,漢字読み!$A$2:$O$502,7,0)=0,\"\",VLOOKUP(Q91,漢字読み!$A$2:$O$502,7,0)))","v":"まし"},{"$f":"IF(R91=\"\",\"\",IF(VLOOKUP(R91,漢字読み!$A$2:$O$502,7,0)=0,\"\",VLOOKUP(R91,漢字読み!$A$2:$O$502,7,0)))","v":""},{"$f":"IF(S91=\"\",\"\",IF(VLOOKUP(S91,漢字読み!$A$2:$O$502,7,0)=0,\"\",VLOOKUP(S91,漢字読み!$A$2:$O$502,7,0)))","v":""},{"$f":"IF(T91=\"\",\"\",IF(VLOOKUP(T91,漢字読み!$A$2:$O$502,7,0)=0,\"\",VLOOKUP(T91,漢字読み!$A$2:$O$502,7,0)))","v":""},null,null,"和歌山県教育委員会"]
[{"$f":"A86","v":227},{"$f":"B86","v":47},{"$f":"C86","v":33},{"$f":"D86","v":27},{"$f":"E86","v":63},{"$f":"F86","v":192},{"$f":"G86","v":173},{"$f":"H86","v":153},{"$f":"I86","v":176},{"$f":"J86","v":148},{"$f":"K86","v":146},{"$f":"L86","v":163},{"$f":"M86","v":50},{"$f":"N86","v":133},{"$f":"O86","v":201},{"$f":"P86","v":44},{"$f":"Q86","v":126},{"$f":"R86","v":178},{"$f":"S86","v":63},{"$f":"T86","v":97}]
["⑳","⑲","⑱","⑰","⑯","⑮","⑭","⑬","⑫","⑪","⑩","⑨","⑧","⑦","⑥","⑤","④","③","②","①","次の［　　　　］の部分の漢字には読みがなをひらがなで書き、カタカナは漢字に直しなさい。",11,"「漢字の博士検定試験」練習問題　"]
[{"$f":"IF(A96=\"\",\"\",VLOOKUP(A96,漢字書き!$A$2:$N$506,6,0))","v":"［トヤマケン］のおみやげ"},{"$f":"IF(B96=\"\",\"\",VLOOKUP(B96,漢字書き!$A$2:$N$506,6,0))","v":"［ハナミズ］が出る"},{"$f":"IF(C96=\"\",\"\",VLOOKUP(C96,漢字書き!$A$2:$N$506,6,0))","v":"表紙が［ソ］る"},{"$f":"IF(D96=\"\",\"\",VLOOKUP(D96,漢字書き!$A$2:$N$506,6,0))","v":"［ハッセイ］練習"},{"$f":"IF(E96=\"\",\"\",VLOOKUP(E96,漢字書き!$A$2:$N$506,6,0))","v":"［テジナ］は楽しい"},{"$f":"IF(F96=\"\",\"\",VLOOKUP(F96,漢字書き!$A$2:$N$506,6,0))","v":"商店［ガイ］を歩く"},{"$f":"IF(G96=\"\",\"\",VLOOKUP(G96,漢字書き!$A$2:$N$506,6,0))","v":"さとうと［シオ］"},{"$f":"IF(H96=\"\",\"\",VLOOKUP(H96,漢字書き!$A$2:$N$506,6,0))","v":"［アイ］とゆう気"},{"$f":"IF(I96=\"\",\"\",VLOOKUP(I96,漢字書き!$A$2:$N$506,6,0))","v":"みんなでさん［カ］する"},{"$f":"IF(J96=\"\",\"\",VLOOKUP(J96,漢字書き!$A$2:$N$506,6,0))","v":"汽車の［センロ］"},{"$f":"IF(K96=\"\",\"\",VLOOKUP(K96,漢字読み!$A$2:$O$506,6,0))","v":"[和紙]でつつむ"},{"$f":"IF(L96=\"\",\"\",VLOOKUP(L96,漢字読み!$A$2:$O$506,6,0))","v":"てきに［塩］をおくる"},{"$f":"IF(M96=\"\",\"\",VLOOKUP(M96,漢字読み!$A$2:$O$506,6,0))","v":"図やグラフで［表］す"},{"$f":"IF(N96=\"\",\"\",VLOOKUP(N96,漢字読み!$A$2:$O$506,6,0))","v":"海外［旅行］"},{"$f":"IF(O96=\"\",\"\",VLOOKUP(O96,漢字読み!$A$2:$O$506,6,0))","v":"［年賀］はがきを出す"},{"$f":"IF(P96=\"\",\"\",VLOOKUP(P96,漢字読み!$A$2:$O$506,6,0))","v":"［毛筆］を使う"},{"$f":"IF(Q96=\"\",\"\",VLOOKUP(Q96,漢字読み!$A$2:$O$506,6,0))","v":"［落石］に注意"},{"$f":"IF(R96=\"\",\"\",VLOOKUP(R96,漢字読み!$A$2:$O$506,6,0))","v":"［機械］を使う"},{"$f":"IF(S96=\"\",\"\",VLOOKUP(S96,漢字読み!$A$2:$O$506,6,0))","v":"［服］を着る"},{"$f":"IF(T96=\"\",\"\",VLOOKUP(T96,漢字読み!$A$2:$O$506,6,0))","v":"［役目］を果たす"},null,"級"]
[{"$f":"IF(A$16=\"\",\"\",VLOOKUP(A96,漢字書き!$A$2:$O$506,8,0))","v":"富山県"},{"$f":"IF(B$16=\"\",\"\",VLOOKUP(B96,漢字書き!$A$2:$O$506,8,0))","v":"鼻水"},{"$f":"IF(C$16=\"\",\"\",VLOOKUP(C96,漢字書き!$A$2:$O$506,8,0))","v":"反"},{"$f":"IF(D$16=\"\",\"\",VLOOKUP(D96,漢字書き!$A$2:$O$506,8,0))","v":"発声"},{"$f":"IF(E$16=\"\",\"\",VLOOKUP(E96,漢字書き!$A$2:$O$506,8,0))","v":"手品"},{"$f":"IF(F$16=\"\",\"\",VLOOKUP(F96,漢字書き!$A$2:$O$506,8,0))","v":"街"},{"$f":"IF(G$16=\"\",\"\",VLOOKUP(G96,漢字書き!$A$2:$O$506,8,0))","v":"塩"},{"$f":"IF(H$16=\"\",\"\",VLOOKUP(H96,漢字書き!$A$2:$O$506,8,0))","v":"愛"},{"$f":"IF(I$16=\"\",\"\",VLOOKUP(I96,漢字書き!$A$2:$O$506,8,0))","v":"加"},{"$f":"IF(J$16=\"\",\"\",VLOOKUP(J96,漢字書き!$A$2:$O$506,8,0))","v":"線路"},{"$f":"IF(K$16=\"\",\"\",VLOOKUP(K96,漢字読み!$A$2:$O$506,8,0))","v":"わし"},{"$f":"IF(L$16=\"\",\"\",VLOOKUP(L96,漢字読み!$A$2:$O$506,8,0))","v":"しお"},{"$f":"IF(M$16=\"\",\"\",VLOOKUP(M96,漢字読み!$A$2:$O$506,8,0))","v":"あらわ"},{"$f":"IF(N$16=\"\",\"\",VLOOKUP(N96,漢字読み!$A$2:$O$506,8,0))","v":"りょこう"},{"$f":"IF(O$16=\"\",\"\",VLOOKUP(O96,漢字読み!$A$2:$O$506,8,0))","v":"ねんが"},{"$f":"IF(P$16=\"\",\"\",VLOOKUP(P96,漢字読み!$A$2:$O$506,8,0))","v":"もうひつ"},{"$f":"IF(Q$16=\"\",\"\",VLOOKUP(Q96,漢字読み!$A$2:$O$506,8,0))","v":"らくせき"},{"$f":"IF(R$16=\"\",\"\",VLOOKUP(R96,漢字読み!$A$2:$O$506,8,0))","v":"きかい"},{"$f":"IF(S$16=\"\",\"\",VLOOKUP(S96,漢字読み!$A$2:$O$506,8,0))","v":"ふく"},{"$f":"IF(T$16=\"\",\"\",VLOOKUP(T96,漢字読み!$A$2:$O$506,8,0))","v":"やくめ"},null,"名前"]
[{"$f":"IF(A96=\"\",\"\",IF(VLOOKUP(A96,漢字書き!$A$2:$N$502,7,0)=0,\"\",VLOOKUP(A96,漢字書き!$A$2:$N$502,7,0)))","v":""},{"$f":"IF(B96=\"\",\"\",IF(VLOOKUP(B96,漢字書き!$A$2:$N$502,7,0)=0,\"\",VLOOKUP(B96,漢字書き!$A$2:$N$502,7,0)))","v":""},{"$f":"IF(C96=\"\",\"\",IF(VLOOKUP(C96,漢字書き!$A$2:$N$502,7,0)=0,\"\",VLOOKUP(C96,漢字書き!$A$2:$N$502,7,0)))","v":"る"},{"$f":"IF(D96=\"\",\"\",IF(VLOOKUP(D96,漢字書き!$A$2:$N$502,7,0)=0,\"\",VLOOKUP(D96,漢字書き!$A$2:$N$502,7,0)))","v":""},{"$f":"IF(E96=\"\",\"\",IF(VLOOKUP(E96,漢字書き!$A$2:$N$502,7,0)=0,\"\",VLOOKUP(E96,漢字書き!$A$2:$N$502,7,0)))","v":""},{"$f":"IF(F96=\"\",\"\",IF(VLOOKUP(F96,漢字書き!$A$2:$N$502,7,0)=0,\"\",VLOOKUP(F96,漢字書き!$A$2:$N$502,7,0)))","v":""},{"$f":"IF(G96=\"\",\"\",IF(VLOOKUP(G96,漢字書き!$A$2:$N$502,7,0)=0,\"\",VLOOKUP(G96,漢字書き!$A$2:$N$502,7,0)))","v":""},{"$f":"IF(H96=\"\",\"\",IF(VLOOKUP(H96,漢字書き!$A$2:$N$502,7,0)=0,\"\",VLOOKUP(H96,漢字書き!$A$2:$N$502,7,0)))","v":""},{"$f":"IF(I96=\"\",\"\",IF(VLOOKUP(I96,漢字書き!$A$2:$N$502,7,0)=0,\"\",VLOOKUP(I96,漢字書き!$A$2:$N$502,7,0)))","v":"する"},{"$f":"IF(J96=\"\",\"\",IF(VLOOKUP(J96,漢字書き!$A$2:$N$502,7,0)=0,\"\",VLOOKUP(J96,漢字書き!$A$2:$N$502,7,0)))","v":""},{"$f":"IF(K96=\"\",\"\",IF(VLOOKUP(K96,漢字読み!$A$2:$O$502,7,0)=0,\"\",VLOOKUP(K96,漢字読み!$A$2:$O$502,7,0)))","v":""},{"$f":"IF(L96=\"\",\"\",IF(VLOOKUP(L96,漢字読み!$A$2:$O$502,7,0)=0,\"\",VLOOKUP(L96,漢字読み!$A$2:$O$502,7,0)))","v":""},{"$f":"IF(M96=\"\",\"\",IF(VLOOKUP(M96,漢字読み!$A$2:$O$502,7,0)=0,\"\",VLOOKUP(M96,漢字読み!$A$2:$O$502,7,0)))","v":"す"},{"$f":"IF(N96=\"\",\"\",IF(VLOOKUP(N96,漢字読み!$A$2:$O$502,7,0)=0,\"\",VLOOKUP(N96,漢字読み!$A$2:$O$502,7,0)))","v":""},{"$f":"IF(O96=\"\",\"\",IF(VLOOKUP(O96,漢字読み!$A$2:$O$502,7,0)=0,\"\",VLOOKUP(O96,漢字読み!$A$2:$O$502,7,0)))","v":"はがき"},{"$f":"IF(P96=\"\",\"\",IF(VLOOKUP(P96,漢字読み!$A$2:$O$502,7,0)=0,\"\",VLOOKUP(P96,漢字読み!$A$2:$O$502,7,0)))","v":""},{"$f":"IF(Q96=\"\",\"\",IF(VLOOKUP(Q96,漢字読み!$A$2:$O$502,7,0)=0,\"\",VLOOKUP(Q96,漢字読み!$A$2:$O$502,7,0)))","v":""},{"$f":"IF(R96=\"\",\"\",IF(VLOOKUP(R96,漢字読み!$A$2:$O$502,7,0)=0,\"\",VLOOKUP(R96,漢字読み!$A$2:$O$502,7,0)))","v":""},{"$f":"IF(S96=\"\",\"\",IF(VLOOKUP(S96,漢字読み!$A$2:$O$502,7,0)=0,\"\",VLOOKUP(S96,漢字読み!$A$2:$O$502,7,0)))","v":""},{"$f":"IF(T96=\"\",\"\",IF(VLOOKUP(T96,漢字読み!$A$2:$O$502,7,0)=0,\"\",VLOOKUP(T96,漢字読み!$A$2:$O$502,7,0)))","v":""},null,null,"和歌山県教育委員会"]
[{"$f":"INDIRECT(\"'関数（書き）'!C\" & COLUMN(B$1)+SUM($AD$2:$AD102))","v":150},{"$f":"INDIRECT(\"'関数（書き）'!C\" & COLUMN(C$1)+SUM($AD$2:$AD102))","v":217},{"$f":"INDIRECT(\"'関数（書き）'!C\" & COLUMN(D$1)+SUM($AD$2:$AD102))","v":58},{"$f":"INDIRECT(\"'関数（書き）'!C\" & COLUMN(E$1)+SUM($AD$2:$AD102))","v":200},{"$f":"INDIRECT(\"'関数（書き）'!C\" & COLUMN(F$1)+SUM($AD$2:$AD102))","v":84},{"$f":"INDIRECT(\"'関数（書き）'!C\" & COLUMN(G$1)+SUM($AD$2:$AD102))","v":51},{"$f":"INDIRECT(\"'関数（書き）'!C\" & COLUMN(H$1)+SUM($AD$2:$AD102))","v":76},{"$f":"INDIRECT(\"'関数（書き）'!C\" & COLUMN(I$1)+SUM($AD$2:$AD102))","v":191},{"$f":"INDIRECT(\"'関数（書き）'!C\" & COLUMN(J$1)+SUM($AD$2:$AD102))","v":100},{"$f":"INDIRECT(\"'関数（書き）'!C\" & COLUMN(K$1)+SUM($AD$2:$AD102))","v":149},{"$f":"INDIRECT(\"'関数（読み）'!C\" & COLUMN(B$1)+SUM($AD$2:$AD102))","v":168},{"$f":"INDIRECT(\"'関数（読み）'!C\" & COLUMN(C$1)+SUM($AD$2:$AD102))","v":8},{"$f":"INDIRECT(\"'関数（読み）'!C\" & COLUMN(D$1)+SUM($AD$2:$AD102))","v":89},{"$f":"INDIRECT(\"'関数（読み）'!C\" & COLUMN(E$1)+SUM($AD$2:$AD102))","v":90},{"$f":"INDIRECT(\"'関数（読み）'!C\" & COLUMN(F$1)+SUM($AD$2:$AD102))","v":54},{"$f":"INDIRECT(\"'関数（読み）'!C\" & COLUMN(G$1)+SUM($AD$2:$AD102))","v":74},{"$f":"INDIRECT(\"'関数（読み）'!C\" & COLUMN(H$1)+SUM($AD$2:$AD102))","v":56},{"$f":"INDIRECT(\"'関数（読み）'!C\" & COLUMN(I$1)+SUM($AD$2:$AD102))","v":180},{"$f":"INDIRECT(\"'関数（読み）'!C\" & COLUMN(J$1)+SUM($AD$2:$AD102))","v":145},{"$f":"INDIRECT(\"'関数（読み）'!C\" & COLUMN(K$1)+SUM($AD$2:$AD102))","v":125}]
["⑳","⑲","⑱","⑰","⑯","⑮","⑭","⑬","⑫","⑪","⑩","⑨","⑧","⑦","⑥","⑤","④","③","②","①","次の［　　　　］の部分の漢字には読みがなをひらがなで書き、カタカナは漢字に直しなさい。",11,"「漢字の博士検定試験」練習問題　",null,null,null,null,null,"←",10,"問",{"$f":"AH87+1","v":101},"～",{"$f":"SUM($AD$2:$AD102)+10","v":110},"問まで",{"$f":"COUNTIF($A$1:$T$200,T103)","v":2}]
[{"$f":"IF(A101=\"\",\"\",VLOOKUP(A101,漢字書き!$A$2:$N$506,6,0))","v":"平安時代の［ワカ］を読む"},{"$f":"IF(B101=\"\",\"\",VLOOKUP(B101,漢字書き!$A$2:$N$506,6,0))","v":"手先が［キヨウ］だ"},{"$f":"IF(C101=\"\",\"\",VLOOKUP(C101,漢字書き!$A$2:$N$506,6,0))","v":"［ビョウイン］に通う"},{"$f":"IF(D101=\"\",\"\",VLOOKUP(D101,漢字書き!$A$2:$N$506,6,0))","v":"公園の［カンリ］"},{"$f":"IF(E101=\"\",\"\",VLOOKUP(E101,漢字書き!$A$2:$N$506,6,0))","v":"本を［カエ］す"},{"$f":"IF(F101=\"\",\"\",VLOOKUP(F101,漢字書き!$A$2:$N$506,6,0))","v":"［ヒョウザン］の一角"},{"$f":"IF(G101=\"\",\"\",VLOOKUP(G101,漢字書き!$A$2:$N$506,6,0))","v":"［ニモツ］を運ぶ"},{"$f":"IF(H101=\"\",\"\",VLOOKUP(H101,漢字書き!$A$2:$N$506,6,0))","v":"［ガイ］のある食べ物"},{"$f":"IF(I101=\"\",\"\",VLOOKUP(I101,漢字書き!$A$2:$N$506,6,0))","v":"かれに［ト］う"},{"$f":"IF(J101=\"\",\"\",VLOOKUP(J101,漢字書き!$A$2:$N$506,6,0))","v":"［ロジ］うらのお店"},{"$f":"IF(K101=\"\",\"\",VLOOKUP(K101,漢字読み!$A$2:$O$506,6,0))","v":"やくそくを［果］たす"},{"$f":"IF(L101=\"\",\"\",VLOOKUP(L101,漢字読み!$A$2:$O$506,6,0))","v":"三人に［等］しく分ける"},{"$f":"IF(M101=\"\",\"\",VLOOKUP(M101,漢字読み!$A$2:$O$506,6,0))","v":"［顔面］がこわばる"},{"$f":"IF(N101=\"\",\"\",VLOOKUP(N101,漢字読み!$A$2:$O$506,6,0))","v":"[面]と向かって言う"},{"$f":"IF(O101=\"\",\"\",VLOOKUP(O101,漢字読み!$A$2:$O$506,6,0))","v":"［病］にたおれる"},{"$f":"IF(P101=\"\",\"\",VLOOKUP(P101,漢字読み!$A$2:$O$506,6,0))","v":"［平］たい皿を買う"},{"$f":"IF(Q101=\"\",\"\",VLOOKUP(Q101,漢字読み!$A$2:$O$506,6,0))","v":"［上品］なおばあさん"},{"$f":"IF(R101=\"\",\"\",VLOOKUP(R101,漢字読み!$A$2:$O$506,6,0))","v":"［街道］ぞいの店"},{"$f":"IF(S101=\"\",\"\",VLOOKUP(S101,漢字読み!$A$2:$O$506,6,0))","v":"［平和］な国"},{"$f":"IF(T101=\"\",\"\",VLOOKUP(T101,漢字読み!$A$2:$O$506,6,0))","v":"［様］になっている"},null,"級"]
[null,null,null,null,null,null,null,null,null,null,null,null,null,null,null,null,null,null,null,null,null,"名前"]
[{"$f":"IF(A101=\"\",\"\",IF(VLOOKUP(A101,漢字書き!$A$2:$N$502,7,0)=0,\"\",VLOOKUP(A101,漢字書き!$A$2:$N$502,7,0)))","v":""},{"$f":"IF(B101=\"\",\"\",IF(VLOOKUP(B101,漢字書き!$A$2:$N$502,7,0)=0,\"\",VLOOKUP(B101,漢字書き!$A$2:$N$502,7,0)))","v":"だ"},{"$f":"IF(C101=\"\",\"\",IF(VLOOKUP(C101,漢字書き!$A$2:$N$502,7,0)=0,\"\",VLOOKUP(C101,漢字書き!$A$2:$N$502,7,0)))","v":""},{"$f":"IF(D101=\"\",\"\",IF(VLOOKUP(D101,漢字書き!$A$2:$N$502,7,0)=0,\"\",VLOOKUP(D101,漢字書き!$A$2:$N$502,7,0)))","v":""},{"$f":"IF(E101=\"\",\"\",IF(VLOOKUP(E101,漢字書き!$A$2:$N$502,7,0)=0,\"\",VLOOKUP(E101,漢字書き!$A$2:$N$502,7,0)))","v":"す"},{"$f":"IF(F101=\"\",\"\",IF(VLOOKUP(F101,漢字書き!$A$2:$N$502,7,0)=0,\"\",VLOOKUP(F101,漢字書き!$A$2:$N$502,7,0)))","v":""},{"$f":"IF(G101=\"\",\"\",IF(VLOOKUP(G101,漢字書き!$A$2:$N$502,7,0)=0,\"\",VLOOKUP(G101,漢字書き!$A$2:$N$502,7,0)))","v":""},{"$f":"IF(H101=\"\",\"\",IF(VLOOKUP(H101,漢字書き!$A$2:$N$502,7,0)=0,\"\",VLOOKUP(H101,漢字書き!$A$2:$N$502,7,0)))","v":""},{"$f":"IF(I101=\"\",\"\",IF(VLOOKUP(I101,漢字書き!$A$2:$N$502,7,0)=0,\"\",VLOOKUP(I101,漢字書き!$A$2:$N$502,7,0)))","v":"う"},{"$f":"IF(J101=\"\",\"\",IF(VLOOKUP(J101,漢字書き!$A$2:$N$502,7,0)=0,\"\",VLOOKUP(J101,漢字書き!$A$2:$N$502,7,0)))","v":"うら"},{"$f":"IF(K101=\"\",\"\",IF(VLOOKUP(K101,漢字読み!$A$2:$O$502,7,0)=0,\"\",VLOOKUP(K101,漢字読み!$A$2:$O$502,7,0)))","v":"たす"},{"$f":"IF(L101=\"\",\"\",IF(VLOOKUP(L101,漢字読み!$A$2:$O$502,7,0)=0,\"\",VLOOKUP(L101,漢字読み!$A$2:$O$502,7,0)))","v":"しく"},{"$f":"IF(M101=\"\",\"\",IF(VLOOKUP(M101,漢字読み!$A$2:$O$502,7,0)=0,\"\",VLOOKUP(M101,漢字読み!$A$2:$O$502,7,0)))","v":""},{"$f":"IF(N101=\"\",\"\",IF(VLOOKUP(N101,漢字読み!$A$2:$O$502,7,0)=0,\"\",VLOOKUP(N101,漢字読み!$A$2:$O$502,7,0)))","v":""},{"$f":"IF(O101=\"\",\"\",IF(VLOOKUP(O101,漢字読み!$A$2:$O$502,7,0)=0,\"\",VLOOKUP(O101,漢字読み!$A$2:$O$502,7,0)))","v":""},{"$f":"IF(P101=\"\",\"\",IF(VLOOKUP(P101,漢字読み!$A$2:$O$502,7,0)=0,\"\",VLOOKUP(P101,漢字読み!$A$2:$O$502,7,0)))","v":"たい"},{"$f":"IF(Q101=\"\",\"\",IF(VLOOKUP(Q101,漢字読み!$A$2:$O$502,7,0)=0,\"\",VLOOKUP(Q101,漢字読み!$A$2:$O$502,7,0)))","v":"な"},{"$f":"IF(R101=\"\",\"\",IF(VLOOKUP(R101,漢字読み!$A$2:$O$502,7,0)=0,\"\",VLOOKUP(R101,漢字読み!$A$2:$O$502,7,0)))","v":"ぞい"},{"$f":"IF(S101=\"\",\"\",IF(VLOOKUP(S101,漢字読み!$A$2:$O$502,7,0)=0,\"\",VLOOKUP(S101,漢字読み!$A$2:$O$502,7,0)))","v":"な"},{"$f":"IF(T101=\"\",\"\",IF(VLOOKUP(T101,漢字読み!$A$2:$O$502,7,0)=0,\"\",VLOOKUP(T101,漢字読み!$A$2:$O$502,7,0)))","v":""},null,null,"和歌山県教育委員会"]
[{"$f":"INDIRECT(\"'関数（書き）'!C\" & COLUMN(B$1)+SUM($AD$2:$AD107))","v":44},{"$f":"INDIRECT(\"'関数（書き）'!C\" & COLUMN(C$1)+SUM($AD$2:$AD107))","v":74},{"$f":"INDIRECT(\"'関数（書き）'!C\" & COLUMN(D$1)+SUM($AD$2:$AD107))","v":80},{"$f":"INDIRECT(\"'関数（書き）'!C\" & COLUMN(E$1)+SUM($AD$2:$AD107))","v":185},{"$f":"INDIRECT(\"'関数（書き）'!C\" & COLUMN(F$1)+SUM($AD$2:$AD107))","v":21},{"$f":"INDIRECT(\"'関数（書き）'!C\" & COLUMN(G$1)+SUM($AD$2:$AD107))","v":59},{"$f":"INDIRECT(\"'関数（書き）'!C\" & COLUMN(H$1)+SUM($AD$2:$AD107))","v":228},{"$f":"INDIRECT(\"'関数（書き）'!C\" & COLUMN(I$1)+SUM($AD$2:$AD107))","v":56},{"$f":"INDIRECT(\"'関数（書き）'!C\" & COLUMN(J$1)+SUM($AD$2:$AD107))","v":230},{"$f":"INDIRECT(\"'関数（書き）'!C\" & COLUMN(K$1)+SUM($AD$2:$AD107))","v":16},{"$f":"INDIRECT(\"'関数（読み）'!C\" & COLUMN(B$1)+SUM($AD$2:$AD107))","v":108},{"$f":"INDIRECT(\"'関数（読み）'!C\" & COLUMN(C$1)+SUM($AD$2:$AD107))","v":137},{"$f":"INDIRECT(\"'関数（読み）'!C\" & COLUMN(D$1)+SUM($AD$2:$AD107))","v":67},{"$f":"INDIRECT(\"'関数（読み）'!C\" & COLUMN(E$1)+SUM($AD$2:$AD107))","v":14},{"$f":"INDIRECT(\"'関数（読み）'!C\" & COLUMN(F$1)+SUM($AD$2:$AD107))","v":119},{"$f":"INDIRECT(\"'関数（読み）'!C\" & COLUMN(G$1)+SUM($AD$2:$AD107))","v":207},{"$f":"INDIRECT(\"'関数（読み）'!C\" & COLUMN(H$1)+SUM($AD$2:$AD107))","v":73},{"$f":"INDIRECT(\"'関数（読み）'!C\" & COLUMN(I$1)+SUM($AD$2:$AD107))","v":105},{"$f":"INDIRECT(\"'関数（読み）'!C\" & COLUMN(J$1)+SUM($AD$2:$AD107))","v":64},{"$f":"INDIRECT(\"'関数（読み）'!C\" & COLUMN(K$1)+SUM($AD$2:$AD107))","v":114}]
["⑳","⑲","⑱","⑰","⑯","⑮","⑭","⑬","⑫","⑪","⑩","⑨","⑧","⑦","⑥","⑤","④","③","②","①","次の［　　　　］の部分の漢字には読みがなをひらがなで書き、カタカナは漢字に直しなさい。",11,"「漢字の博士検定試験」練習問題　",null,null,null,null,null,"←",10,"問",{"$f":"AH102+1","v":111},"～",{"$f":"SUM($AD$2:$AD107)+10","v":120},"問まで",{"$f":"COUNTIF($A$1:$T$200,T108)","v":2}]
[{"$f":"IF(A106=\"\",\"\",VLOOKUP(A106,漢字書き!$A$2:$N$506,6,0))","v":"［カナ］しい気持ちになる"},{"$f":"IF(B106=\"\",\"\",VLOOKUP(B106,漢字書き!$A$2:$N$506,6,0))","v":"［コウフク］の王子"},{"$f":"IF(C106=\"\",\"\",VLOOKUP(C106,漢字書き!$A$2:$N$506,6,0))","v":"［ビョウドウ］にあつかう"},{"$f":"IF(D106=\"\",\"\",VLOOKUP(D106,漢字書き!$A$2:$N$506,6,0))","v":"たねが［ハツガ］する"},{"$f":"IF(E106=\"\",\"\",VLOOKUP(E106,漢字書き!$A$2:$N$506,6,0))","v":"きゅう食を［クバ］る"},{"$f":"IF(F106=\"\",\"\",VLOOKUP(F106,漢字書き!$A$2:$N$506,6,0))","v":"[ビョウジャク]な人"},{"$f":"IF(G106=\"\",\"\",VLOOKUP(G106,漢字書き!$A$2:$N$506,6,0))","v":"［フ］じ山に登る"},{"$f":"IF(H106=\"\",\"\",VLOOKUP(H106,漢字書き!$A$2:$N$506,6,0))","v":"時計の［ビョウ］しん"},{"$f":"IF(I106=\"\",\"\",VLOOKUP(I106,漢字書き!$A$2:$N$506,6,0))","v":"活動力に［ト］む"},{"$f":"IF(J106=\"\",\"\",VLOOKUP(J106,漢字書き!$A$2:$N$506,6,0))","v":"［ノウカ］の庭先"},{"$f":"IF(K106=\"\",\"\",VLOOKUP(K106,漢字読み!$A$2:$O$506,6,0))","v":"［有］るかないか調べる"},{"$f":"IF(L106=\"\",\"\",VLOOKUP(L106,漢字読み!$A$2:$O$506,6,0))","v":"山の［緑］がきれいだ"},{"$f":"IF(M106=\"\",\"\",VLOOKUP(M106,漢字読み!$A$2:$O$506,6,0))","v":"［荷物］を運ぶ"},{"$f":"IF(N106=\"\",\"\",VLOOKUP(N106,漢字読み!$A$2:$O$506,6,0))","v":"［農業］を始める"},{"$f":"IF(O106=\"\",\"\",VLOOKUP(O106,漢字読み!$A$2:$O$506,6,0))","v":"モミジの［葉］のような手"},{"$f":"IF(P106=\"\",\"\",VLOOKUP(P106,漢字読み!$A$2:$O$506,6,0))","v":"［機械］がこわれる"},{"$f":"IF(Q106=\"\",\"\",VLOOKUP(Q106,漢字読み!$A$2:$O$506,6,0))","v":"［平］らな土地"},{"$f":"IF(R106=\"\",\"\",VLOOKUP(R106,漢字読み!$A$2:$O$506,6,0))","v":"［油田］を見つける"},{"$f":"IF(S106=\"\",\"\",VLOOKUP(S106,漢字読み!$A$2:$O$506,6,0))","v":"薬を［服用］する"},{"$f":"IF(T106=\"\",\"\",VLOOKUP(T106,漢字読み!$A$2:$O$506,6,0))","v":"かわいい［羊］"},null,"級"]
[null,null,null,null,null,null,null,null,null,null,null,null,null,null,null,null,null,null,null,null,null,"名前"]
[{"$f":"IF(A106=\"\",\"\",IF(VLOOKUP(A106,漢字書き!$A$2:$N$502,7,0)=0,\"\",VLOOKUP(A106,漢字書き!$A$2:$N$502,7,0)))","v":"しい"},{"$f":"IF(B106=\"\",\"\",IF(VLOOKUP(B106,漢字書き!$A$2:$N$502,7,0)=0,\"\",VLOOKUP(B106,漢字書き!$A$2:$N$502,7,0)))","v":""},{"$f":"IF(C106=\"\",\"\",IF(VLOOKUP(C106,漢字書き!$A$2:$N$502,7,0)=0,\"\",VLOOKUP(C106,漢字書き!$A$2:$N$502,7,0)))","v":"に"},{"$f":"IF(D106=\"\",\"\",IF(VLOOKUP(D106,漢字書き!$A$2:$N$502,7,0)=0,\"\",VLOOKUP(D106,漢字書き!$A$2:$N$502,7,0)))","v":"する"},{"$f":"IF(E106=\"\",\"\",IF(VLOOKUP(E106,漢字書き!$A$2:$N$502,7,0)=0,\"\",VLOOKUP(E106,漢字書き!$A$2:$N$502,7,0)))","v":"る"},{"$f":"IF(F106=\"\",\"\",IF(VLOOKUP(F106,漢字書き!$A$2:$N$502,7,0)=0,\"\",VLOOKUP(F106,漢字書き!$A$2:$N$502,7,0)))","v":"な"},{"$f":"IF(G106=\"\",\"\",IF(VLOOKUP(G106,漢字書き!$A$2:$N$502,7,0)=0,\"\",VLOOKUP(G106,漢字書き!$A$2:$N$502,7,0)))","v":"じ山"},{"$f":"IF(H106=\"\",\"\",IF(VLOOKUP(H106,漢字書き!$A$2:$N$502,7,0)=0,\"\",VLOOKUP(H106,漢字書き!$A$2:$N$502,7,0)))","v":"しん"},{"$f":"IF(I106=\"\",\"\",IF(VLOOKUP(I106,漢字書き!$A$2:$N$502,7,0)=0,\"\",VLOOKUP(I106,漢字書き!$A$2:$N$502,7,0)))","v":"む"},{"$f":"IF(J106=\"\",\"\",IF(VLOOKUP(J106,漢字書き!$A$2:$N$502,7,0)=0,\"\",VLOOKUP(J106,漢字書き!$A$2:$N$502,7,0)))","v":""},{"$f":"IF(K106=\"\",\"\",IF(VLOOKUP(K106,漢字読み!$A$2:$O$502,7,0)=0,\"\",VLOOKUP(K106,漢字読み!$A$2:$O$502,7,0)))","v":"るか"},{"$f":"IF(L106=\"\",\"\",IF(VLOOKUP(L106,漢字読み!$A$2:$O$502,7,0)=0,\"\",VLOOKUP(L106,漢字読み!$A$2:$O$502,7,0)))","v":""},{"$f":"IF(M106=\"\",\"\",IF(VLOOKUP(M106,漢字読み!$A$2:$O$502,7,0)=0,\"\",VLOOKUP(M106,漢字読み!$A$2:$O$502,7,0)))","v":""},{"$f":"IF(N106=\"\",\"\",IF(VLOOKUP(N106,漢字読み!$A$2:$O$502,7,0)=0,\"\",VLOOKUP(N106,漢字読み!$A$2:$O$502,7,0)))","v":""},{"$f":"IF(O106=\"\",\"\",IF(VLOOKUP(O106,漢字読み!$A$2:$O$502,7,0)=0,\"\",VLOOKUP(O106,漢字読み!$A$2:$O$502,7,0)))","v":""},{"$f":"IF(P106=\"\",\"\",IF(VLOOKUP(P106,漢字読み!$A$2:$O$502,7,0)=0,\"\",VLOOKUP(P106,漢字読み!$A$2:$O$502,7,0)))","v":""},{"$f":"IF(Q106=\"\",\"\",IF(VLOOKUP(Q106,漢字読み!$A$2:$O$502,7,0)=0,\"\",VLOOKUP(Q106,漢字読み!$A$2:$O$502,7,0)))","v":"らな"},{"$f":"IF(R106=\"\",\"\",IF(VLOOKUP(R106,漢字読み!$A$2:$O$502,7,0)=0,\"\",VLOOKUP(R106,漢字読み!$A$2:$O$502,7,0)))","v":""},{"$f":"IF(S106=\"\",\"\",IF(VLOOKUP(S106,漢字読み!$A$2:$O$502,7,0)=0,\"\",VLOOKUP(S106,漢字読み!$A$2:$O$502,7,0)))","v":"する"},{"$f":"IF(T106=\"\",\"\",IF(VLOOKUP(T106,漢字読み!$A$2:$O$502,7,0)=0,\"\",VLOOKUP(T106,漢字読み!$A$2:$O$502,7,0)))","v":""},null,null,"和歌山県教育委員会"]
[{"$f":"A101","v":150},{"$f":"B101","v":217},{"$f":"C101","v":58},{"$f":"D101","v":200},{"$f":"E101","v":84},{"$f":"F101","v":51},{"$f":"G101","v":76},{"$f":"H101","v":191},{"$f":"I101","v":100},{"$f":"J101","v":149},{"$f":"K101","v":168},{"$f":"L101","v":8},{"$f":"M101","v":89},{"$f":"N101","v":90},{"$f":"O101","v":54},{"$f":"P101","v":74},{"$f":"Q101","v":56},{"$f":"R101","v":180},{"$f":"S101","v":145},{"$f":"T101","v":125}]
["⑳","⑲","⑱","⑰","⑯","⑮","⑭","⑬","⑫","⑪","⑩","⑨","⑧","⑦","⑥","⑤","④","③","②","①","次の［　　　　］の部分の漢字には読みがなをひらがなで書き、カタカナは漢字に直しなさい。",11,"「漢字の博士検定試験」練習問題　"]
[{"$f":"IF(A111=\"\",\"\",VLOOKUP(A111,漢字書き!$A$2:$N$506,6,0))","v":"平安時代の［ワカ］を読む"},{"$f":"IF(B111=\"\",\"\",VLOOKUP(B111,漢字書き!$A$2:$N$506,6,0))","v":"手先が［キヨウ］だ"},{"$f":"IF(C111=\"\",\"\",VLOOKUP(C111,漢字書き!$A$2:$N$506,6,0))","v":"［ビョウイン］に通う"},{"$f":"IF(D111=\"\",\"\",VLOOKUP(D111,漢字書き!$A$2:$N$506,6,0))","v":"公園の［カンリ］"},{"$f":"IF(E111=\"\",\"\",VLOOKUP(E111,漢字書き!$A$2:$N$506,6,0))","v":"本を［カエ］す"},{"$f":"IF(F111=\"\",\"\",VLOOKUP(F111,漢字書き!$A$2:$N$506,6,0))","v":"［ヒョウザン］の一角"},{"$f":"IF(G111=\"\",\"\",VLOOKUP(G111,漢字書き!$A$2:$N$506,6,0))","v":"［ニモツ］を運ぶ"},{"$f":"IF(H111=\"\",\"\",VLOOKUP(H111,漢字書き!$A$2:$N$506,6,0))","v":"［ガイ］のある食べ物"},{"$f":"IF(I111=\"\",\"\",VLOOKUP(I111,漢字書き!$A$2:$N$506,6,0))","v":"かれに［ト］う"},{"$f":"IF(J111=\"\",\"\",VLOOKUP(J111,漢字書き!$A$2:$N$506,6,0))","v":"［ロジ］うらのお店"},{"$f":"IF(K111=\"\",\"\",VLOOKUP(K111,漢字読み!$A$2:$O$506,6,0))","v":"やくそくを［果］たす"},{"$f":"IF(L111=\"\",\"\",VLOOKUP(L111,漢字読み!$A$2:$O$506,6,0))","v":"三人に［等］しく分ける"},{"$f":"IF(M111=\"\",\"\",VLOOKUP(M111,漢字読み!$A$2:$O$506,6,0))","v":"［顔面］がこわばる"},{"$f":"IF(N111=\"\",\"\",VLOOKUP(N111,漢字読み!$A$2:$O$506,6,0))","v":"[面]と向かって言う"},{"$f":"IF(O111=\"\",\"\",VLOOKUP(O111,漢字読み!$A$2:$O$506,6,0))","v":"［病］にたおれる"},{"$f":"IF(P111=\"\",\"\",VLOOKUP(P111,漢字読み!$A$2:$O$506,6,0))","v":"［平］たい皿を買う"},{"$f":"IF(Q111=\"\",\"\",VLOOKUP(Q111,漢字読み!$A$2:$O$506,6,0))","v":"［上品］なおばあさん"},{"$f":"IF(R111=\"\",\"\",VLOOKUP(R111,漢字読み!$A$2:$O$506,6,0))","v":"［街道］ぞいの店"},{"$f":"IF(S111=\"\",\"\",VLOOKUP(S111,漢字読み!$A$2:$O$506,6,0))","v":"［平和］な国"},{"$f":"IF(T111=\"\",\"\",VLOOKUP(T111,漢字読み!$A$2:$O$506,6,0))","v":"［様］になっている"},null,"級"]
[{"$f":"IF(A$11=\"\",\"\",VLOOKUP(A111,漢字書き!$A$2:$O$506,8,0))","v":"和歌"},{"$f":"IF(B$11=\"\",\"\",VLOOKUP(B111,漢字書き!$A$2:$O$506,8,0))","v":"器用"},{"$f":"IF(C$11=\"\",\"\",VLOOKUP(C111,漢字書き!$A$2:$O$506,8,0))","v":"病院"},{"$f":"IF(D$11=\"\",\"\",VLOOKUP(D111,漢字書き!$A$2:$O$506,8,0))","v":"管理"},{"$f":"IF(E$11=\"\",\"\",VLOOKUP(E111,漢字書き!$A$2:$O$506,8,0))","v":"返"},{"$f":"IF(F$11=\"\",\"\",VLOOKUP(F111,漢字書き!$A$2:$O$506,8,0))","v":"氷山"},{"$f":"IF(G$11=\"\",\"\",VLOOKUP(G111,漢字書き!$A$2:$O$506,8,0))","v":"荷物"},{"$f":"IF(H$11=\"\",\"\",VLOOKUP(H111,漢字書き!$A$2:$O$506,8,0))","v":"害"},{"$f":"IF(I$11=\"\",\"\",VLOOKUP(I111,漢字書き!$A$2:$O$506,8,0))","v":"問"},{"$f":"IF(J$11=\"\",\"\",VLOOKUP(J111,漢字書き!$A$2:$O$506,8,0))","v":"路地"},{"$f":"IF(K$11=\"\",\"\",VLOOKUP(K111,漢字読み!$A$2:$O$506,8,0))","v":"は"},{"$f":"IF(L$11=\"\",\"\",VLOOKUP(L111,漢字読み!$A$2:$O$506,8,0))","v":"ひと"},{"$f":"IF(M$11=\"\",\"\",VLOOKUP(M111,漢字読み!$A$2:$O$506,8,0))","v":"がんめん"},{"$f":"IF(N$11=\"\",\"\",VLOOKUP(N111,漢字読み!$A$2:$O$506,8,0))","v":"めん"},{"$f":"IF(O$11=\"\",\"\",VLOOKUP(O111,漢字読み!$A$2:$O$506,8,0))","v":"やまい"},{"$f":"IF(P$11=\"\",\"\",VLOOKUP(P111,漢字読み!$A$2:$O$506,8,0))","v":"ひら"},{"$f":"IF(Q$11=\"\",\"\",VLOOKUP(Q111,漢字読み!$A$2:$O$506,8,0))","v":"じょうひん"},{"$f":"IF(R$11=\"\",\"\",VLOOKUP(R111,漢字読み!$A$2:$O$506,8,0))","v":"かいどう"},{"$f":"IF(S$11=\"\",\"\",VLOOKUP(S111,漢字読み!$A$2:$O$506,8,0))","v":"へいわ"},{"$f":"IF(T$11=\"\",\"\",VLOOKUP(T111,漢字読み!$A$2:$O$506,8,0))","v":"さま"},null,"名前"]
[{"$f":"IF(A111=\"\",\"\",IF(VLOOKUP(A111,漢字書き!$A$2:$N$502,7,0)=0,\"\",VLOOKUP(A111,漢字書き!$A$2:$N$502,7,0)))","v":""},{"$f":"IF(B111=\"\",\"\",IF(VLOOKUP(B111,漢字書き!$A$2:$N$502,7,0)=0,\"\",VLOOKUP(B111,漢字書き!$A$2:$N$502,7,0)))","v":"だ"},{"$f":"IF(C111=\"\",\"\",IF(VLOOKUP(C111,漢字書き!$A$2:$N$502,7,0)=0,\"\",VLOOKUP(C111,漢字書き!$A$2:$N$502,7,0)))","v":""},{"$f":"IF(D111=\"\",\"\",IF(VLOOKUP(D111,漢字書き!$A$2:$N$502,7,0)=0,\"\",VLOOKUP(D111,漢字書き!$A$2:$N$502,7,0)))","v":""},{"$f":"IF(E111=\"\",\"\",IF(VLOOKUP(E111,漢字書き!$A$2:$N$502,7,0)=0,\"\",VLOOKUP(E111,漢字書き!$A$2:$N$502,7,0)))","v":"す"},{"$f":"IF(F111=\"\",\"\",IF(VLOOKUP(F111,漢字書き!$A$2:$N$502,7,0)=0,\"\",VLOOKUP(F111,漢字書き!$A$2:$N$502,7,0)))","v":""},{"$f":"IF(G111=\"\",\"\",IF(VLOOKUP(G111,漢字書き!$A$2:$N$502,7,0)=0,\"\",VLOOKUP(G111,漢字書き!$A$2:$N$502,7,0)))","v":""},{"$f":"IF(H111=\"\",\"\",IF(VLOOKUP(H111,漢字書き!$A$2:$N$502,7,0)=0,\"\",VLOOKUP(H111,漢字書き!$A$2:$N$502,7,0)))","v":""},{"$f":"IF(I111=\"\",\"\",IF(VLOOKUP(I111,漢字書き!$A$2:$N$502,7,0)=0,\"\",VLOOKUP(I111,漢字書き!$A$2:$N$502,7,0)))","v":"う"},{"$f":"IF(J111=\"\",\"\",IF(VLOOKUP(J111,漢字書き!$A$2:$N$502,7,0)=0,\"\",VLOOKUP(J111,漢字書き!$A$2:$N$502,7,0)))","v":"うら"},{"$f":"IF(K111=\"\",\"\",IF(VLOOKUP(K111,漢字読み!$A$2:$O$502,7,0)=0,\"\",VLOOKUP(K111,漢字読み!$A$2:$O$502,7,0)))","v":"たす"},{"$f":"IF(L111=\"\",\"\",IF(VLOOKUP(L111,漢字読み!$A$2:$O$502,7,0)=0,\"\",VLOOKUP(L111,漢字読み!$A$2:$O$502,7,0)))","v":"しく"},{"$f":"IF(M111=\"\",\"\",IF(VLOOKUP(M111,漢字読み!$A$2:$O$502,7,0)=0,\"\",VLOOKUP(M111,漢字読み!$A$2:$O$502,7,0)))","v":""},{"$f":"IF(N111=\"\",\"\",IF(VLOOKUP(N111,漢字読み!$A$2:$O$502,7,0)=0,\"\",VLOOKUP(N111,漢字読み!$A$2:$O$502,7,0)))","v":""},{"$f":"IF(O111=\"\",\"\",IF(VLOOKUP(O111,漢字読み!$A$2:$O$502,7,0)=0,\"\",VLOOKUP(O111,漢字読み!$A$2:$O$502,7,0)))","v":""},{"$f":"IF(P111=\"\",\"\",IF(VLOOKUP(P111,漢字読み!$A$2:$O$502,7,0)=0,\"\",VLOOKUP(P111,漢字読み!$A$2:$O$502,7,0)))","v":"たい"},{"$f":"IF(Q111=\"\",\"\",IF(VLOOKUP(Q111,漢字読み!$A$2:$O$502,7,0)=0,\"\",VLOOKUP(Q111,漢字読み!$A$2:$O$502,7,0)))","v":"な"},{"$f":"IF(R111=\"\",\"\",IF(VLOOKUP(R111,漢字読み!$A$2:$O$502,7,0)=0,\"\",VLOOKUP(R111,漢字読み!$A$2:$O$502,7,0)))","v":"ぞい"},{"$f":"IF(S111=\"\",\"\",IF(VLOOKUP(S111,漢字読み!$A$2:$O$502,7,0)=0,\"\",VLOOKUP(S111,漢字読み!$A$2:$O$502,7,0)))","v":"な"},{"$f":"IF(T111=\"\",\"\",IF(VLOOKUP(T111,漢字読み!$A$2:$O$502,7,0)=0,\"\",VLOOKUP(T111,漢字読み!$A$2:$O$502,7,0)))","v":""},null,null,"和歌山県教育委員会"]
[{"$f":"A106","v":44},{"$f":"B106","v":74},{"$f":"C106","v":80},{"$f":"D106","v":185},{"$f":"E106","v":21},{"$f":"F106","v":59},{"$f":"G106","v":228},{"$f":"H106","v":56},{"$f":"I106","v":230},{"$f":"J106","v":16},{"$f":"K106","v":108},{"$f":"L106","v":137},{"$f":"M106","v":67},{"$f":"N106","v":14},{"$f":"O106","v":119},{"$f":"P106","v":207},{"$f":"Q106","v":73},{"$f":"R106","v":105},{"$f":"S106","v":64},{"$f":"T106","v":114}]
["⑳","⑲","⑱","⑰","⑯","⑮","⑭","⑬","⑫","⑪","⑩","⑨","⑧","⑦","⑥","⑤","④","③","②","①","次の［　　　　］の部分の漢字には読みがなをひらがなで書き、カタカナは漢字に直しなさい。",11,"「漢字の博士検定試験」練習問題　"]
[{"$f":"IF(A116=\"\",\"\",VLOOKUP(A116,漢字書き!$A$2:$N$506,6,0))","v":"［カナ］しい気持ちになる"},{"$f":"IF(B116=\"\",\"\",VLOOKUP(B116,漢字書き!$A$2:$N$506,6,0))","v":"［コウフク］の王子"},{"$f":"IF(C116=\"\",\"\",VLOOKUP(C116,漢字書き!$A$2:$N$506,6,0))","v":"［ビョウドウ］にあつかう"},{"$f":"IF(D116=\"\",\"\",VLOOKUP(D116,漢字書き!$A$2:$N$506,6,0))","v":"たねが［ハツガ］する"},{"$f":"IF(E116=\"\",\"\",VLOOKUP(E116,漢字書き!$A$2:$N$506,6,0))","v":"きゅう食を［クバ］る"},{"$f":"IF(F116=\"\",\"\",VLOOKUP(F116,漢字書き!$A$2:$N$506,6,0))","v":"[ビョウジャク]な人"},{"$f":"IF(G116=\"\",\"\",VLOOKUP(G116,漢字書き!$A$2:$N$506,6,0))","v":"［フ］じ山に登る"},{"$f":"IF(H116=\"\",\"\",VLOOKUP(H116,漢字書き!$A$2:$N$506,6,0))","v":"時計の［ビョウ］しん"},{"$f":"IF(I116=\"\",\"\",VLOOKUP(I116,漢字書き!$A$2:$N$506,6,0))","v":"活動力に［ト］む"},{"$f":"IF(J116=\"\",\"\",VLOOKUP(J116,漢字書き!$A$2:$N$506,6,0))","v":"［ノウカ］の庭先"},{"$f":"IF(K116=\"\",\"\",VLOOKUP(K116,漢字読み!$A$2:$O$506,6,0))","v":"［有］るかないか調べる"},{"$f":"IF(L116=\"\",\"\",VLOOKUP(L116,漢字読み!$A$2:$O$506,6,0))","v":"山の［緑］がきれいだ"},{"$f":"IF(M116=\"\",\"\",VLOOKUP(M116,漢字読み!$A$2:$O$506,6,0))","v":"［荷物］を運ぶ"},{"$f":"IF(N116=\"\",\"\",VLOOKUP(N116,漢字読み!$A$2:$O$506,6,0))","v":"［農業］を始める"},{"$f":"IF(O116=\"\",\"\",VLOOKUP(O116,漢字読み!$A$2:$O$506,6,0))","v":"モミジの［葉］のような手"},{"$f":"IF(P116=\"\",\"\",VLOOKUP(P116,漢字読み!$A$2:$O$506,6,0))","v":"［機械］がこわれる"},{"$f":"IF(Q116=\"\",\"\",VLOOKUP(Q116,漢字読み!$A$2:$O$506,6,0))","v":"［平］らな土地"},{"$f":"IF(R116=\"\",\"\",VLOOKUP(R116,漢字読み!$A$2:$O$506,6,0))","v":"［油田］を見つける"},{"$f":"IF(S116=\"\",\"\",VLOOKUP(S116,漢字読み!$A$2:$O$506,6,0))","v":"薬を［服用］する"},{"$f":"IF(T116=\"\",\"\",VLOOKUP(T116,漢字読み!$A$2:$O$506,6,0))","v":"かわいい［羊］"},null,"級"]
[{"$f":"IF(A$16=\"\",\"\",VLOOKUP(A116,漢字書き!$A$2:$O$506,8,0))","v":"悲"},{"$f":"IF(B$16=\"\",\"\",VLOOKUP(B116,漢字書き!$A$2:$O$506,8,0))","v":"幸福"},{"$f":"IF(C$16=\"\",\"\",VLOOKUP(C116,漢字書き!$A$2:$O$506,8,0))","v":"平等"},{"$f":"IF(D$16=\"\",\"\",VLOOKUP(D116,漢字書き!$A$2:$O$506,8,0))","v":"発芽"},{"$f":"IF(E$16=\"\",\"\",VLOOKUP(E116,漢字書き!$A$2:$O$506,8,0))","v":"配"},{"$f":"IF(F$16=\"\",\"\",VLOOKUP(F116,漢字書き!$A$2:$O$506,8,0))","v":"病弱"},{"$f":"IF(G$16=\"\",\"\",VLOOKUP(G116,漢字書き!$A$2:$O$506,8,0))","v":"富"},{"$f":"IF(H$16=\"\",\"\",VLOOKUP(H116,漢字書き!$A$2:$O$506,8,0))","v":"秒"},{"$f":"IF(I$16=\"\",\"\",VLOOKUP(I116,漢字書き!$A$2:$O$506,8,0))","v":"富"},{"$f":"IF(J$16=\"\",\"\",VLOOKUP(J116,漢字書き!$A$2:$O$506,8,0))","v":"農家"},{"$f":"IF(K$16=\"\",\"\",VLOOKUP(K116,漢字読み!$A$2:$O$506,8,0))","v":"あ"},{"$f":"IF(L$16=\"\",\"\",VLOOKUP(L116,漢字読み!$A$2:$O$506,8,0))","v":"みどり"},{"$f":"IF(M$16=\"\",\"\",VLOOKUP(M116,漢字読み!$A$2:$O$506,8,0))","v":"にもつ"},{"$f":"IF(N$16=\"\",\"\",VLOOKUP(N116,漢字読み!$A$2:$O$506,8,0))","v":"のうぎょう"},{"$f":"IF(O$16=\"\",\"\",VLOOKUP(O116,漢字読み!$A$2:$O$506,8,0))","v":"は"},{"$f":"IF(P$16=\"\",\"\",VLOOKUP(P116,漢字読み!$A$2:$O$506,8,0))","v":"きかい"},{"$f":"IF(Q$16=\"\",\"\",VLOOKUP(Q116,漢字読み!$A$2:$O$506,8,0))","v":"たい"},{"$f":"IF(R$16=\"\",\"\",VLOOKUP(R116,漢字読み!$A$2:$O$506,8,0))","v":"ゆでん"},{"$f":"IF(S$16=\"\",\"\",VLOOKUP(S116,漢字読み!$A$2:$O$506,8,0))","v":"ふくよう"},{"$f":"IF(T$16=\"\",\"\",VLOOKUP(T116,漢字読み!$A$2:$O$506,8,0))","v":"ひつじ"},null,"名前"]
[{"$f":"IF(A116=\"\",\"\",IF(VLOOKUP(A116,漢字書き!$A$2:$N$502,7,0)=0,\"\",VLOOKUP(A116,漢字書き!$A$2:$N$502,7,0)))","v":"しい"},{"$f":"IF(B116=\"\",\"\",IF(VLOOKUP(B116,漢字書き!$A$2:$N$502,7,0)=0,\"\",VLOOKUP(B116,漢字書き!$A$2:$N$502,7,0)))","v":""},{"$f":"IF(C116=\"\",\"\",IF(VLOOKUP(C116,漢字書き!$A$2:$N$502,7,0)=0,\"\",VLOOKUP(C116,漢字書き!$A$2:$N$502,7,0)))","v":"に"},{"$f":"IF(D116=\"\",\"\",IF(VLOOKUP(D116,漢字書き!$A$2:$N$502,7,0)=0,\"\",VLOOKUP(D116,漢字書き!$A$2:$N$502,7,0)))","v":"する"},{"$f":"IF(E116=\"\",\"\",IF(VLOOKUP(E116,漢字書き!$A$2:$N$502,7,0)=0,\"\",VLOOKUP(E116,漢字書き!$A$2:$N$502,7,0)))","v":"る"},{"$f":"IF(F116=\"\",\"\",IF(VLOOKUP(F116,漢字書き!$A$2:$N$502,7,0)=0,\"\",VLOOKUP(F116,漢字書き!$A$2:$N$502,7,0)))","v":"な"},{"$f":"IF(G116=\"\",\"\",IF(VLOOKUP(G116,漢字書き!$A$2:$N$502,7,0)=0,\"\",VLOOKUP(G116,漢字書き!$A$2:$N$502,7,0)))","v":"じ山"},{"$f":"IF(H116=\"\",\"\",IF(VLOOKUP(H116,漢字書き!$A$2:$N$502,7,0)=0,\"\",VLOOKUP(H116,漢字書き!$A$2:$N$502,7,0)))","v":"しん"},{"$f":"IF(I116=\"\",\"\",IF(VLOOKUP(I116,漢字書き!$A$2:$N$502,7,0)=0,\"\",VLOOKUP(I116,漢字書き!$A$2:$N$502,7,0)))","v":"む"},{"$f":"IF(J116=\"\",\"\",IF(VLOOKUP(J116,漢字書き!$A$2:$N$502,7,0)=0,\"\",VLOOKUP(J116,漢字書き!$A$2:$N$502,7,0)))","v":""},{"$f":"IF(K116=\"\",\"\",IF(VLOOKUP(K116,漢字読み!$A$2:$O$502,7,0)=0,\"\",VLOOKUP(K116,漢字読み!$A$2:$O$502,7,0)))","v":"るか"},{"$f":"IF(L116=\"\",\"\",IF(VLOOKUP(L116,漢字読み!$A$2:$O$502,7,0)=0,\"\",VLOOKUP(L116,漢字読み!$A$2:$O$502,7,0)))","v":""},{"$f":"IF(M116=\"\",\"\",IF(VLOOKUP(M116,漢字読み!$A$2:$O$502,7,0)=0,\"\",VLOOKUP(M116,漢字読み!$A$2:$O$502,7,0)))","v":""},{"$f":"IF(N116=\"\",\"\",IF(VLOOKUP(N116,漢字読み!$A$2:$O$502,7,0)=0,\"\",VLOOKUP(N116,漢字読み!$A$2:$O$502,7,0)))","v":""},{"$f":"IF(O116=\"\",\"\",IF(VLOOKUP(O116,漢字読み!$A$2:$O$502,7,0)=0,\"\",VLOOKUP(O116,漢字読み!$A$2:$O$502,7,0)))","v":""},{"$f":"IF(P116=\"\",\"\",IF(VLOOKUP(P116,漢字読み!$A$2:$O$502,7,0)=0,\"\",VLOOKUP(P116,漢字読み!$A$2:$O$502,7,0)))","v":""},{"$f":"IF(Q116=\"\",\"\",IF(VLOOKUP(Q116,漢字読み!$A$2:$O$502,7,0)=0,\"\",VLOOKUP(Q116,漢字読み!$A$2:$O$502,7,0)))","v":"らな"},{"$f":"IF(R116=\"\",\"\",IF(VLOOKUP(R116,漢字読み!$A$2:$O$502,7,0)=0,\"\",VLOOKUP(R116,漢字読み!$A$2:$O$502,7,0)))","v":""},{"$f":"IF(S116=\"\",\"\",IF(VLOOKUP(S116,漢字読み!$A$2:$O$502,7,0)=0,\"\",VLOOKUP(S116,漢字読み!$A$2:$O$502,7,0)))","v":"する"},{"$f":"IF(T116=\"\",\"\",IF(VLOOKUP(T116,漢字読み!$A$2:$O$502,7,0)=0,\"\",VLOOKUP(T116,漢字読み!$A$2:$O$502,7,0)))","v":""},null,null,"和歌山県教育委員会"]
[{"$f":"INDIRECT(\"'関数（書き）'!C\" & COLUMN(B$1)+SUM($AD$2:$AD122))","v":182},{"$f":"INDIRECT(\"'関数（書き）'!C\" & COLUMN(C$1)+SUM($AD$2:$AD122))","v":77},{"$f":"INDIRECT(\"'関数（書き）'!C\" & COLUMN(D$1)+SUM($AD$2:$AD122))","v":39},{"$f":"INDIRECT(\"'関数（書き）'!C\" & COLUMN(E$1)+SUM($AD$2:$AD122))","v":159},{"$f":"INDIRECT(\"'関数（書き）'!C\" & COLUMN(F$1)+SUM($AD$2:$AD122))","v":67},{"$f":"INDIRECT(\"'関数（書き）'!C\" & COLUMN(G$1)+SUM($AD$2:$AD122))","v":222},{"$f":"INDIRECT(\"'関数（書き）'!C\" & COLUMN(H$1)+SUM($AD$2:$AD122))","v":110},{"$f":"INDIRECT(\"'関数（書き）'!C\" & COLUMN(I$1)+SUM($AD$2:$AD122))","v":71},{"$f":"INDIRECT(\"'関数（書き）'!C\" & COLUMN(J$1)+SUM($AD$2:$AD122))","v":60},{"$f":"INDIRECT(\"'関数（書き）'!C\" & COLUMN(K$1)+SUM($AD$2:$AD122))","v":57},{"$f":"INDIRECT(\"'関数（読み）'!C\" & COLUMN(B$1)+SUM($AD$2:$AD122))","v":120},{"$f":"INDIRECT(\"'関数（読み）'!C\" & COLUMN(C$1)+SUM($AD$2:$AD122))","v":187},{"$f":"INDIRECT(\"'関数（読み）'!C\" & COLUMN(D$1)+SUM($AD$2:$AD122))","v":79},{"$f":"INDIRECT(\"'関数（読み）'!C\" & COLUMN(E$1)+SUM($AD$2:$AD122))","v":169},{"$f":"INDIRECT(\"'関数（読み）'!C\" & COLUMN(F$1)+SUM($AD$2:$AD122))","v":81},{"$f":"INDIRECT(\"'関数（読み）'!C\" & COLUMN(G$1)+SUM($AD$2:$AD122))","v":84},{"$f":"INDIRECT(\"'関数（読み）'!C\" & COLUMN(H$1)+SUM($AD$2:$AD122))","v":101},{"$f":"INDIRECT(\"'関数（読み）'!C\" & COLUMN(I$1)+SUM($AD$2:$AD122))","v":16},{"$f":"INDIRECT(\"'関数（読み）'!C\" & COLUMN(J$1)+SUM($AD$2:$AD122))","v":186},{"$f":"INDIRECT(\"'関数（読み）'!C\" & COLUMN(K$1)+SUM($AD$2:$AD122))","v":117}]
["⑳","⑲","⑱","⑰","⑯","⑮","⑭","⑬","⑫","⑪","⑩","⑨","⑧","⑦","⑥","⑤","④","③","②","①","次の［　　　　］の部分の漢字には読みがなをひらがなで書き、カタカナは漢字に直しなさい。",11,"「漢字の博士検定試験」練習問題　",null,null,null,null,null,"←",10,"問",{"$f":"AH107+1","v":121},"～",{"$f":"SUM($AD$2:$AD122)+10","v":130},"問まで",{"$f":"COUNTIF($A$1:$T$200,T123)","v":2}]
[{"$f":"IF(A121=\"\",\"\",VLOOKUP(A121,漢字書き!$A$2:$N$506,6,0))","v":"［キンカ］を手に入れる"},{"$f":"IF(B121=\"\",\"\",VLOOKUP(B121,漢字書き!$A$2:$N$506,6,0))","v":"［シナモノ］をならべる"},{"$f":"IF(C121=\"\",\"\",VLOOKUP(C121,漢字書き!$A$2:$N$506,6,0))","v":"日にやけた［ヒ］ふ"},{"$f":"IF(D121=\"\",\"\",VLOOKUP(D121,漢字書き!$A$2:$N$506,6,0))","v":"夏物の[イ]るい"},{"$f":"IF(E121=\"\",\"\",VLOOKUP(E121,漢字書き!$A$2:$N$506,6,0))","v":"勝ったり［マ］けたりする"},{"$f":"IF(F121=\"\",\"\",VLOOKUP(F121,漢字書き!$A$2:$N$506,6,0))","v":"［カイギ］で話し合う"},{"$f":"IF(G121=\"\",\"\",VLOOKUP(G121,漢字書き!$A$2:$N$506,6,0))","v":"［アブラ］がこぼれる"},{"$f":"IF(H121=\"\",\"\",VLOOKUP(H121,漢字書き!$A$2:$N$506,6,0))","v":"［イフク］をそろえる"},{"$f":"IF(I121=\"\",\"\",VLOOKUP(I121,漢字書き!$A$2:$N$506,6,0))","v":"［ヤマイ］は気から"},{"$f":"IF(J121=\"\",\"\",VLOOKUP(J121,漢字書き!$A$2:$N$506,6,0))","v":"［ジュウゴビョウ］の動画"},{"$f":"IF(K121=\"\",\"\",VLOOKUP(K121,漢字読み!$A$2:$O$506,6,0))","v":"気持ちのいい［陽気］"},{"$f":"IF(L121=\"\",\"\",VLOOKUP(L121,漢字読み!$A$2:$O$506,6,0))","v":"けいさつ［官］になる"},{"$f":"IF(M121=\"\",\"\",VLOOKUP(M121,漢字読み!$A$2:$O$506,6,0))","v":"［勉学］にはげむ"},{"$f":"IF(N121=\"\",\"\",VLOOKUP(N121,漢字読み!$A$2:$O$506,6,0))","v":"［貨物］を運ぶ列車"},{"$f":"IF(O121=\"\",\"\",VLOOKUP(O121,漢字読み!$A$2:$O$506,6,0))","v":"ち魚を［放］す"},{"$f":"IF(P121=\"\",\"\",VLOOKUP(P121,漢字読み!$A$2:$O$506,6,0))","v":"［塩味］が強い"},{"$f":"IF(Q121=\"\",\"\",VLOOKUP(Q121,漢字読み!$A$2:$O$506,6,0))","v":"［自由］をうばわれる"},{"$f":"IF(R121=\"\",\"\",VLOOKUP(R121,漢字読み!$A$2:$O$506,6,0))","v":"［音波］を計算する"},{"$f":"IF(S121=\"\",\"\",VLOOKUP(S121,漢字読み!$A$2:$O$506,6,0))","v":"［完全］に仕上げる"},{"$f":"IF(T121=\"\",\"\",VLOOKUP(T121,漢字読み!$A$2:$O$506,6,0))","v":"［大西洋］の海"},null,"級"]
[null,null,null,null,null,null,null,null,null,null,null,null,null,null,null,null,null,null,null,null,null,"名前"]
[{"$f":"IF(A121=\"\",\"\",IF(VLOOKUP(A121,漢字書き!$A$2:$N$502,7,0)=0,\"\",VLOOKUP(A121,漢字書き!$A$2:$N$502,7,0)))","v":""},{"$f":"IF(B121=\"\",\"\",IF(VLOOKUP(B121,漢字書き!$A$2:$N$502,7,0)=0,\"\",VLOOKUP(B121,漢字書き!$A$2:$N$502,7,0)))","v":""},{"$f":"IF(C121=\"\",\"\",IF(VLOOKUP(C121,漢字書き!$A$2:$N$502,7,0)=0,\"\",VLOOKUP(C121,漢字書き!$A$2:$N$502,7,0)))","v":"ふ"},{"$f":"IF(D121=\"\",\"\",IF(VLOOKUP(D121,漢字書き!$A$2:$N$502,7,0)=0,\"\",VLOOKUP(D121,漢字書き!$A$2:$N$502,7,0)))","v":"るい"},{"$f":"IF(E121=\"\",\"\",IF(VLOOKUP(E121,漢字書き!$A$2:$N$502,7,0)=0,\"\",VLOOKUP(E121,漢字書き!$A$2:$N$502,7,0)))","v":"け"},{"$f":"IF(F121=\"\",\"\",IF(VLOOKUP(F121,漢字書き!$A$2:$N$502,7,0)=0,\"\",VLOOKUP(F121,漢字書き!$A$2:$N$502,7,0)))","v":""},{"$f":"IF(G121=\"\",\"\",IF(VLOOKUP(G121,漢字書き!$A$2:$N$502,7,0)=0,\"\",VLOOKUP(G121,漢字書き!$A$2:$N$502,7,0)))","v":""},{"$f":"IF(H121=\"\",\"\",IF(VLOOKUP(H121,漢字書き!$A$2:$N$502,7,0)=0,\"\",VLOOKUP(H121,漢字書き!$A$2:$N$502,7,0)))","v":""},{"$f":"IF(I121=\"\",\"\",IF(VLOOKUP(I121,漢字書き!$A$2:$N$502,7,0)=0,\"\",VLOOKUP(I121,漢字書き!$A$2:$N$502,7,0)))","v":""},{"$f":"IF(J121=\"\",\"\",IF(VLOOKUP(J121,漢字書き!$A$2:$N$502,7,0)=0,\"\",VLOOKUP(J121,漢字書き!$A$2:$N$502,7,0)))","v":""},{"$f":"IF(K121=\"\",\"\",IF(VLOOKUP(K121,漢字読み!$A$2:$O$502,7,0)=0,\"\",VLOOKUP(K121,漢字読み!$A$2:$O$502,7,0)))","v":""},{"$f":"IF(L121=\"\",\"\",IF(VLOOKUP(L121,漢字読み!$A$2:$O$502,7,0)=0,\"\",VLOOKUP(L121,漢字読み!$A$2:$O$502,7,0)))","v":""},{"$f":"IF(M121=\"\",\"\",IF(VLOOKUP(M121,漢字読み!$A$2:$O$502,7,0)=0,\"\",VLOOKUP(M121,漢字読み!$A$2:$O$502,7,0)))","v":""},{"$f":"IF(N121=\"\",\"\",IF(VLOOKUP(N121,漢字読み!$A$2:$O$502,7,0)=0,\"\",VLOOKUP(N121,漢字読み!$A$2:$O$502,7,0)))","v":""},{"$f":"IF(O121=\"\",\"\",IF(VLOOKUP(O121,漢字読み!$A$2:$O$502,7,0)=0,\"\",VLOOKUP(O121,漢字読み!$A$2:$O$502,7,0)))","v":"す"},{"$f":"IF(P121=\"\",\"\",IF(VLOOKUP(P121,漢字読み!$A$2:$O$502,7,0)=0,\"\",VLOOKUP(P121,漢字読み!$A$2:$O$502,7,0)))","v":""},{"$f":"IF(Q121=\"\",\"\",IF(VLOOKUP(Q121,漢字読み!$A$2:$O$502,7,0)=0,\"\",VLOOKUP(Q121,漢字読み!$A$2:$O$502,7,0)))","v":""},{"$f":"IF(R121=\"\",\"\",IF(VLOOKUP(R121,漢字読み!$A$2:$O$502,7,0)=0,\"\",VLOOKUP(R121,漢字読み!$A$2:$O$502,7,0)))","v":""},{"$f":"IF(S121=\"\",\"\",IF(VLOOKUP(S121,漢字読み!$A$2:$O$502,7,0)=0,\"\",VLOOKUP(S121,漢字読み!$A$2:$O$502,7,0)))","v":""},{"$f":"IF(T121=\"\",\"\",IF(VLOOKUP(T121,漢字読み!$A$2:$O$502,7,0)=0,\"\",VLOOKUP(T121,漢字読み!$A$2:$O$502,7,0)))","v":""},null,null,"和歌山県教育委員会"]
[{"$f":"INDIRECT(\"'関数（書き）'!C\" & COLUMN(B$1)+SUM($AD$2:$AD127))","v":174},{"$f":"INDIRECT(\"'関数（書き）'!C\" & COLUMN(C$1)+SUM($AD$2:$AD127))","v":7},{"$f":"INDIRECT(\"'関数（書き）'!C\" & COLUMN(D$1)+SUM($AD$2:$AD127))","v":129},{"$f":"INDIRECT(\"'関数（書き）'!C\" & COLUMN(E$1)+SUM($AD$2:$AD127))","v":95},{"$f":"INDIRECT(\"'関数（書き）'!C\" & COLUMN(F$1)+SUM($AD$2:$AD127))","v":37},{"$f":"INDIRECT(\"'関数（書き）'!C\" & COLUMN(G$1)+SUM($AD$2:$AD127))","v":101},{"$f":"INDIRECT(\"'関数（書き）'!C\" & COLUMN(H$1)+SUM($AD$2:$AD127))","v":1},{"$f":"INDIRECT(\"'関数（書き）'!C\" & COLUMN(I$1)+SUM($AD$2:$AD127))","v":66},{"$f":"INDIRECT(\"'関数（書き）'!C\" & COLUMN(J$1)+SUM($AD$2:$AD127))","v":162},{"$f":"INDIRECT(\"'関数（書き）'!C\" & COLUMN(K$1)+SUM($AD$2:$AD127))","v":143},{"$f":"INDIRECT(\"'関数（読み）'!C\" & COLUMN(B$1)+SUM($AD$2:$AD127))","v":138},{"$f":"INDIRECT(\"'関数（読み）'!C\" & COLUMN(C$1)+SUM($AD$2:$AD127))","v":121},{"$f":"INDIRECT(\"'関数（読み）'!C\" & COLUMN(D$1)+SUM($AD$2:$AD127))","v":128},{"$f":"INDIRECT(\"'関数（読み）'!C\" & COLUMN(E$1)+SUM($AD$2:$AD127))","v":39},{"$f":"INDIRECT(\"'関数（読み）'!C\" & COLUMN(F$1)+SUM($AD$2:$AD127))","v":17},{"$f":"INDIRECT(\"'関数（読み）'!C\" & COLUMN(G$1)+SUM($AD$2:$AD127))","v":195},{"$f":"INDIRECT(\"'関数（読み）'!C\" & COLUMN(H$1)+SUM($AD$2:$AD127))","v":23},{"$f":"INDIRECT(\"'関数（読み）'!C\" & COLUMN(I$1)+SUM($AD$2:$AD127))","v":86},{"$f":"INDIRECT(\"'関数（読み）'!C\" & COLUMN(J$1)+SUM($AD$2:$AD127))","v":150},{"$f":"INDIRECT(\"'関数（読み）'!C\" & COLUMN(K$1)+SUM($AD$2:$AD127))","v":66}]
["⑳","⑲","⑱","⑰","⑯","⑮","⑭","⑬","⑫","⑪","⑩","⑨","⑧","⑦","⑥","⑤","④","③","②","①","次の［　　　　］の部分の漢字には読みがなをひらがなで書き、カタカナは漢字に直しなさい。",11,"「漢字の博士検定試験」練習問題　",null,null,null,null,null,"←",10,"問",{"$f":"AH122+1","v":131},"～",{"$f":"SUM($AD$2:$AD127)+10","v":140},"問まで",{"$f":"COUNTIF($A$1:$T$200,T128)","v":2}]
[{"$f":"IF(A126=\"\",\"\",VLOOKUP(A126,漢字書き!$A$2:$N$506,6,0))","v":"［オクマン］長者"},{"$f":"IF(B126=\"\",\"\",VLOOKUP(B126,漢字書き!$A$2:$N$506,6,0))","v":"［ビョウドウ］にあつかう"},{"$f":"IF(C126=\"\",\"\",VLOOKUP(C126,漢字書き!$A$2:$N$506,6,0))","v":"水が［オ］ちる"},{"$f":"IF(D126=\"\",\"\",VLOOKUP(D126,漢字書き!$A$2:$N$506,6,0))","v":"［イノチ］を大切にする"},{"$f":"IF(E126=\"\",\"\",VLOOKUP(E126,漢字書き!$A$2:$N$506,6,0))","v":"［テッパン］で肉をやく"},{"$f":"IF(F126=\"\",\"\",VLOOKUP(F126,漢字書き!$A$2:$N$506,6,0))","v":"商品の［トンヤ］"},{"$f":"IF(G126=\"\",\"\",VLOOKUP(G126,漢字書き!$A$2:$N$506,6,0))","v":"ねっ［トウ］をかける"},{"$f":"IF(H126=\"\",\"\",VLOOKUP(H126,漢字書き!$A$2:$N$506,6,0))","v":"妹に［マ］かされる"},{"$f":"IF(I126=\"\",\"\",VLOOKUP(I126,漢字書き!$A$2:$N$506,6,0))","v":"［エヒメケン］に行く"},{"$f":"IF(J126=\"\",\"\",VLOOKUP(J126,漢字書き!$A$2:$N$506,6,0))","v":"［レッシャ］に乗る"},{"$f":"IF(K126=\"\",\"\",VLOOKUP(K126,漢字読み!$A$2:$O$506,6,0))","v":"［礼］を言う"},{"$f":"IF(L126=\"\",\"\",VLOOKUP(L126,漢字読み!$A$2:$O$506,6,0))","v":"［陽光］がさす"},{"$f":"IF(M126=\"\",\"\",VLOOKUP(M126,漢字読み!$A$2:$O$506,6,0))","v":"よごれを［落］とす"},{"$f":"IF(N126=\"\",\"\",VLOOKUP(N126,漢字読み!$A$2:$O$506,6,0))","v":"有終の［美］をかざる"},{"$f":"IF(O126=\"\",\"\",VLOOKUP(O126,漢字読み!$A$2:$O$506,6,0))","v":"［波］の音が聞こえる"},{"$f":"IF(P126=\"\",\"\",VLOOKUP(P126,漢字読み!$A$2:$O$506,6,0))","v":"たくさんの［観客］がいる"},{"$f":"IF(Q126=\"\",\"\",VLOOKUP(Q126,漢字読み!$A$2:$O$506,6,0))","v":"［箱］を開ける"},{"$f":"IF(R126=\"\",\"\",VLOOKUP(R126,漢字読み!$A$2:$O$506,6,0))","v":"［命題］をあたえられる"},{"$f":"IF(S126=\"\",\"\",VLOOKUP(S126,漢字読み!$A$2:$O$506,6,0))","v":"百万人［以上］の都市"},{"$f":"IF(T126=\"\",\"\",VLOOKUP(T126,漢字読み!$A$2:$O$506,6,0))","v":"［福］をよぶ鳥"},null,"級"]
[null,null,null,null,null,null,null,null,null,null,null,null,null,null,null,null,null,null,null,null,null,"名前"]
[{"$f":"IF(A126=\"\",\"\",IF(VLOOKUP(A126,漢字書き!$A$2:$N$502,7,0)=0,\"\",VLOOKUP(A126,漢字書き!$A$2:$N$502,7,0)))","v":"長者"},{"$f":"IF(B126=\"\",\"\",IF(VLOOKUP(B126,漢字書き!$A$2:$N$502,7,0)=0,\"\",VLOOKUP(B126,漢字書き!$A$2:$N$502,7,0)))","v":"に"},{"$f":"IF(C126=\"\",\"\",IF(VLOOKUP(C126,漢字書き!$A$2:$N$502,7,0)=0,\"\",VLOOKUP(C126,漢字書き!$A$2:$N$502,7,0)))","v":"ちる"},{"$f":"IF(D126=\"\",\"\",IF(VLOOKUP(D126,漢字書き!$A$2:$N$502,7,0)=0,\"\",VLOOKUP(D126,漢字書き!$A$2:$N$502,7,0)))","v":""},{"$f":"IF(E126=\"\",\"\",IF(VLOOKUP(E126,漢字書き!$A$2:$N$502,7,0)=0,\"\",VLOOKUP(E126,漢字書き!$A$2:$N$502,7,0)))","v":""},{"$f":"IF(F126=\"\",\"\",IF(VLOOKUP(F126,漢字書き!$A$2:$N$502,7,0)=0,\"\",VLOOKUP(F126,漢字書き!$A$2:$N$502,7,0)))","v":""},{"$f":"IF(G126=\"\",\"\",IF(VLOOKUP(G126,漢字書き!$A$2:$N$502,7,0)=0,\"\",VLOOKUP(G126,漢字書き!$A$2:$N$502,7,0)))","v":""},{"$f":"IF(H126=\"\",\"\",IF(VLOOKUP(H126,漢字書き!$A$2:$N$502,7,0)=0,\"\",VLOOKUP(H126,漢字書き!$A$2:$N$502,7,0)))","v":"かされる"},{"$f":"IF(I126=\"\",\"\",IF(VLOOKUP(I126,漢字書き!$A$2:$N$502,7,0)=0,\"\",VLOOKUP(I126,漢字書き!$A$2:$N$502,7,0)))","v":""},{"$f":"IF(J126=\"\",\"\",IF(VLOOKUP(J126,漢字書き!$A$2:$N$502,7,0)=0,\"\",VLOOKUP(J126,漢字書き!$A$2:$N$502,7,0)))","v":""},{"$f":"IF(K126=\"\",\"\",IF(VLOOKUP(K126,漢字読み!$A$2:$O$502,7,0)=0,\"\",VLOOKUP(K126,漢字読み!$A$2:$O$502,7,0)))","v":""},{"$f":"IF(L126=\"\",\"\",IF(VLOOKUP(L126,漢字読み!$A$2:$O$502,7,0)=0,\"\",VLOOKUP(L126,漢字読み!$A$2:$O$502,7,0)))","v":""},{"$f":"IF(M126=\"\",\"\",IF(VLOOKUP(M126,漢字読み!$A$2:$O$502,7,0)=0,\"\",VLOOKUP(M126,漢字読み!$A$2:$O$502,7,0)))","v":"とす"},{"$f":"IF(N126=\"\",\"\",IF(VLOOKUP(N126,漢字読み!$A$2:$O$502,7,0)=0,\"\",VLOOKUP(N126,漢字読み!$A$2:$O$502,7,0)))","v":""},{"$f":"IF(O126=\"\",\"\",IF(VLOOKUP(O126,漢字読み!$A$2:$O$502,7,0)=0,\"\",VLOOKUP(O126,漢字読み!$A$2:$O$502,7,0)))","v":""},{"$f":"IF(P126=\"\",\"\",IF(VLOOKUP(P126,漢字読み!$A$2:$O$502,7,0)=0,\"\",VLOOKUP(P126,漢字読み!$A$2:$O$502,7,0)))","v":""},{"$f":"IF(Q126=\"\",\"\",IF(VLOOKUP(Q126,漢字読み!$A$2:$O$502,7,0)=0,\"\",VLOOKUP(Q126,漢字読み!$A$2:$O$502,7,0)))","v":""},{"$f":"IF(R126=\"\",\"\",IF(VLOOKUP(R126,漢字読み!$A$2:$O$502,7,0)=0,\"\",VLOOKUP(R126,漢字読み!$A$2:$O$502,7,0)))","v":""},{"$f":"IF(S126=\"\",\"\",IF(VLOOKUP(S126,漢字読み!$A$2:$O$502,7,0)=0,\"\",VLOOKUP(S126,漢字読み!$A$2:$O$502,7,0)))","v":""},{"$f":"IF(T126=\"\",\"\",IF(VLOOKUP(T126,漢字読み!$A$2:$O$502,7,0)=0,\"\",VLOOKUP(T126,漢字読み!$A$2:$O$502,7,0)))","v":""},null,null,"和歌山県教育委員会"]
[{"$f":"A121","v":182},{"$f":"B121","v":77},{"$f":"C121","v":39},{"$f":"D121","v":159},{"$f":"E121","v":67},{"$f":"F121","v":222},{"$f":"G121","v":110},{"$f":"H121","v":71},{"$f":"I121","v":60},{"$f":"J121","v":57},{"$f":"K121","v":120},{"$f":"L121","v":187},{"$f":"M121","v":79},{"$f":"N121","v":169},{"$f":"O121","v":81},{"$f":"P121","v":84},{"$f":"Q121","v":101},{"$f":"R121","v":16},{"$f":"S121","v":186},{"$f":"T121","v":117}]
["⑳","⑲","⑱","⑰","⑯","⑮","⑭","⑬","⑫","⑪","⑩","⑨","⑧","⑦","⑥","⑤","④","③","②","①","次の［　　　　］の部分の漢字には読みがなをひらがなで書き、カタカナは漢字に直しなさい。",11,"「漢字の博士検定試験」練習問題　"]
[{"$f":"IF(A131=\"\",\"\",VLOOKUP(A131,漢字書き!$A$2:$N$506,6,0))","v":"［キンカ］を手に入れる"},{"$f":"IF(B131=\"\",\"\",VLOOKUP(B131,漢字書き!$A$2:$N$506,6,0))","v":"［シナモノ］をならべる"},{"$f":"IF(C131=\"\",\"\",VLOOKUP(C131,漢字書き!$A$2:$N$506,6,0))","v":"日にやけた［ヒ］ふ"},{"$f":"IF(D131=\"\",\"\",VLOOKUP(D131,漢字書き!$A$2:$N$506,6,0))","v":"夏物の[イ]るい"},{"$f":"IF(E131=\"\",\"\",VLOOKUP(E131,漢字書き!$A$2:$N$506,6,0))","v":"勝ったり［マ］けたりする"},{"$f":"IF(F131=\"\",\"\",VLOOKUP(F131,漢字書き!$A$2:$N$506,6,0))","v":"［カイギ］で話し合う"},{"$f":"IF(G131=\"\",\"\",VLOOKUP(G131,漢字書き!$A$2:$N$506,6,0))","v":"［アブラ］がこぼれる"},{"$f":"IF(H131=\"\",\"\",VLOOKUP(H131,漢字書き!$A$2:$N$506,6,0))","v":"［イフク］をそろえる"},{"$f":"IF(I131=\"\",\"\",VLOOKUP(I131,漢字書き!$A$2:$N$506,6,0))","v":"［ヤマイ］は気から"},{"$f":"IF(J131=\"\",\"\",VLOOKUP(J131,漢字書き!$A$2:$N$506,6,0))","v":"［ジュウゴビョウ］の動画"},{"$f":"IF(K131=\"\",\"\",VLOOKUP(K131,漢字読み!$A$2:$O$506,6,0))","v":"気持ちのいい［陽気］"},{"$f":"IF(L131=\"\",\"\",VLOOKUP(L131,漢字読み!$A$2:$O$506,6,0))","v":"けいさつ［官］になる"},{"$f":"IF(M131=\"\",\"\",VLOOKUP(M131,漢字読み!$A$2:$O$506,6,0))","v":"［勉学］にはげむ"},{"$f":"IF(N131=\"\",\"\",VLOOKUP(N131,漢字読み!$A$2:$O$506,6,0))","v":"［貨物］を運ぶ列車"},{"$f":"IF(O131=\"\",\"\",VLOOKUP(O131,漢字読み!$A$2:$O$506,6,0))","v":"ち魚を［放］す"},{"$f":"IF(P131=\"\",\"\",VLOOKUP(P131,漢字読み!$A$2:$O$506,6,0))","v":"［塩味］が強い"},{"$f":"IF(Q131=\"\",\"\",VLOOKUP(Q131,漢字読み!$A$2:$O$506,6,0))","v":"［自由］をうばわれる"},{"$f":"IF(R131=\"\",\"\",VLOOKUP(R131,漢字読み!$A$2:$O$506,6,0))","v":"［音波］を計算する"},{"$f":"IF(S131=\"\",\"\",VLOOKUP(S131,漢字読み!$A$2:$O$506,6,0))","v":"［完全］に仕上げる"},{"$f":"IF(T131=\"\",\"\",VLOOKUP(T131,漢字読み!$A$2:$O$506,6,0))","v":"［大西洋］の海"},null,"級"]
[{"$f":"IF(A$11=\"\",\"\",VLOOKUP(A131,漢字書き!$A$2:$O$506,8,0))","v":"金貨"},{"$f":"IF(B$11=\"\",\"\",VLOOKUP(B131,漢字書き!$A$2:$O$506,8,0))","v":"品物"},{"$f":"IF(C$11=\"\",\"\",VLOOKUP(C131,漢字書き!$A$2:$O$506,8,0))","v":"皮"},{"$f":"IF(D$11=\"\",\"\",VLOOKUP(D131,漢字書き!$A$2:$O$506,8,0))","v":"衣"},{"$f":"IF(E$11=\"\",\"\",VLOOKUP(E131,漢字書き!$A$2:$O$506,8,0))","v":"負"},{"$f":"IF(F$11=\"\",\"\",VLOOKUP(F131,漢字書き!$A$2:$O$506,8,0))","v":"会議"},{"$f":"IF(G$11=\"\",\"\",VLOOKUP(G131,漢字書き!$A$2:$O$506,8,0))","v":"油"},{"$f":"IF(H$11=\"\",\"\",VLOOKUP(H131,漢字書き!$A$2:$O$506,8,0))","v":"衣服"},{"$f":"IF(I$11=\"\",\"\",VLOOKUP(I131,漢字書き!$A$2:$O$506,8,0))","v":"病"},{"$f":"IF(J$11=\"\",\"\",VLOOKUP(J131,漢字書き!$A$2:$O$506,8,0))","v":"十五秒"},{"$f":"IF(K$11=\"\",\"\",VLOOKUP(K131,漢字読み!$A$2:$O$506,8,0))","v":"ようき"},{"$f":"IF(L$11=\"\",\"\",VLOOKUP(L131,漢字読み!$A$2:$O$506,8,0))","v":"かん"},{"$f":"IF(M$11=\"\",\"\",VLOOKUP(M131,漢字読み!$A$2:$O$506,8,0))","v":"べんがく"},{"$f":"IF(N$11=\"\",\"\",VLOOKUP(N131,漢字読み!$A$2:$O$506,8,0))","v":"かもつ"},{"$f":"IF(O$11=\"\",\"\",VLOOKUP(O131,漢字読み!$A$2:$O$506,8,0))","v":"はな"},{"$f":"IF(P$11=\"\",\"\",VLOOKUP(P131,漢字読み!$A$2:$O$506,8,0))","v":"しおあじ"},{"$f":"IF(Q$11=\"\",\"\",VLOOKUP(Q131,漢字読み!$A$2:$O$506,8,0))","v":"じゆう"},{"$f":"IF(R$11=\"\",\"\",VLOOKUP(R131,漢字読み!$A$2:$O$506,8,0))","v":"おんぱ"},{"$f":"IF(S$11=\"\",\"\",VLOOKUP(S131,漢字読み!$A$2:$O$506,8,0))","v":"かんぜん"},{"$f":"IF(T$11=\"\",\"\",VLOOKUP(T131,漢字読み!$A$2:$O$506,8,0))","v":"たいせいよう"},null,"名前"]
[{"$f":"IF(A131=\"\",\"\",IF(VLOOKUP(A131,漢字書き!$A$2:$N$502,7,0)=0,\"\",VLOOKUP(A131,漢字書き!$A$2:$N$502,7,0)))","v":""},{"$f":"IF(B131=\"\",\"\",IF(VLOOKUP(B131,漢字書き!$A$2:$N$502,7,0)=0,\"\",VLOOKUP(B131,漢字書き!$A$2:$N$502,7,0)))","v":""},{"$f":"IF(C131=\"\",\"\",IF(VLOOKUP(C131,漢字書き!$A$2:$N$502,7,0)=0,\"\",VLOOKUP(C131,漢字書き!$A$2:$N$502,7,0)))","v":"ふ"},{"$f":"IF(D131=\"\",\"\",IF(VLOOKUP(D131,漢字書き!$A$2:$N$502,7,0)=0,\"\",VLOOKUP(D131,漢字書き!$A$2:$N$502,7,0)))","v":"るい"},{"$f":"IF(E131=\"\",\"\",IF(VLOOKUP(E131,漢字書き!$A$2:$N$502,7,0)=0,\"\",VLOOKUP(E131,漢字書き!$A$2:$N$502,7,0)))","v":"け"},{"$f":"IF(F131=\"\",\"\",IF(VLOOKUP(F131,漢字書き!$A$2:$N$502,7,0)=0,\"\",VLOOKUP(F131,漢字書き!$A$2:$N$502,7,0)))","v":""},{"$f":"IF(G131=\"\",\"\",IF(VLOOKUP(G131,漢字書き!$A$2:$N$502,7,0)=0,\"\",VLOOKUP(G131,漢字書き!$A$2:$N$502,7,0)))","v":""},{"$f":"IF(H131=\"\",\"\",IF(VLOOKUP(H131,漢字書き!$A$2:$N$502,7,0)=0,\"\",VLOOKUP(H131,漢字書き!$A$2:$N$502,7,0)))","v":""},{"$f":"IF(I131=\"\",\"\",IF(VLOOKUP(I131,漢字書き!$A$2:$N$502,7,0)=0,\"\",VLOOKUP(I131,漢字書き!$A$2:$N$502,7,0)))","v":""},{"$f":"IF(J131=\"\",\"\",IF(VLOOKUP(J131,漢字書き!$A$2:$N$502,7,0)=0,\"\",VLOOKUP(J131,漢字書き!$A$2:$N$502,7,0)))","v":""},{"$f":"IF(K131=\"\",\"\",IF(VLOOKUP(K131,漢字読み!$A$2:$O$502,7,0)=0,\"\",VLOOKUP(K131,漢字読み!$A$2:$O$502,7,0)))","v":""},{"$f":"IF(L131=\"\",\"\",IF(VLOOKUP(L131,漢字読み!$A$2:$O$502,7,0)=0,\"\",VLOOKUP(L131,漢字読み!$A$2:$O$502,7,0)))","v":""},{"$f":"IF(M131=\"\",\"\",IF(VLOOKUP(M131,漢字読み!$A$2:$O$502,7,0)=0,\"\",VLOOKUP(M131,漢字読み!$A$2:$O$502,7,0)))","v":""},{"$f":"IF(N131=\"\",\"\",IF(VLOOKUP(N131,漢字読み!$A$2:$O$502,7,0)=0,\"\",VLOOKUP(N131,漢字読み!$A$2:$O$502,7,0)))","v":""},{"$f":"IF(O131=\"\",\"\",IF(VLOOKUP(O131,漢字読み!$A$2:$O$502,7,0)=0,\"\",VLOOKUP(O131,漢字読み!$A$2:$O$502,7,0)))","v":"す"},{"$f":"IF(P131=\"\",\"\",IF(VLOOKUP(P131,漢字読み!$A$2:$O$502,7,0)=0,\"\",VLOOKUP(P131,漢字読み!$A$2:$O$502,7,0)))","v":""},{"$f":"IF(Q131=\"\",\"\",IF(VLOOKUP(Q131,漢字読み!$A$2:$O$502,7,0)=0,\"\",VLOOKUP(Q131,漢字読み!$A$2:$O$502,7,0)))","v":""},{"$f":"IF(R131=\"\",\"\",IF(VLOOKUP(R131,漢字読み!$A$2:$O$502,7,0)=0,\"\",VLOOKUP(R131,漢字読み!$A$2:$O$502,7,0)))","v":""},{"$f":"IF(S131=\"\",\"\",IF(VLOOKUP(S131,漢字読み!$A$2:$O$502,7,0)=0,\"\",VLOOKUP(S131,漢字読み!$A$2:$O$502,7,0)))","v":""},{"$f":"IF(T131=\"\",\"\",IF(VLOOKUP(T131,漢字読み!$A$2:$O$502,7,0)=0,\"\",VLOOKUP(T131,漢字読み!$A$2:$O$502,7,0)))","v":""},null,null,"和歌山県教育委員会"]
[{"$f":"A126","v":174},{"$f":"B126","v":7},{"$f":"C126","v":129},{"$f":"D126","v":95},{"$f":"E126","v":37},{"$f":"F126","v":101},{"$f":"G126","v":1},{"$f":"H126","v":66},{"$f":"I126","v":162},{"$f":"J126","v":143},{"$f":"K126","v":138},{"$f":"L126","v":121},{"$f":"M126","v":128},{"$f":"N126","v":39},{"$f":"O126","v":17},{"$f":"P126","v":195},{"$f":"Q126","v":23},{"$f":"R126","v":86},{"$f":"S126","v":150},{"$f":"T126","v":66}]
["⑳","⑲","⑱","⑰","⑯","⑮","⑭","⑬","⑫","⑪","⑩","⑨","⑧","⑦","⑥","⑤","④","③","②","①","次の［　　　　］の部分の漢字には読みがなをひらがなで書き、カタカナは漢字に直しなさい。",11,"「漢字の博士検定試験」練習問題　"]
[{"$f":"IF(A136=\"\",\"\",VLOOKUP(A136,漢字書き!$A$2:$N$506,6,0))","v":"［オクマン］長者"},{"$f":"IF(B136=\"\",\"\",VLOOKUP(B136,漢字書き!$A$2:$N$506,6,0))","v":"［ビョウドウ］にあつかう"},{"$f":"IF(C136=\"\",\"\",VLOOKUP(C136,漢字書き!$A$2:$N$506,6,0))","v":"水が［オ］ちる"},{"$f":"IF(D136=\"\",\"\",VLOOKUP(D136,漢字書き!$A$2:$N$506,6,0))","v":"［イノチ］を大切にする"},{"$f":"IF(E136=\"\",\"\",VLOOKUP(E136,漢字書き!$A$2:$N$506,6,0))","v":"［テッパン］で肉をやく"},{"$f":"IF(F136=\"\",\"\",VLOOKUP(F136,漢字書き!$A$2:$N$506,6,0))","v":"商品の［トンヤ］"},{"$f":"IF(G136=\"\",\"\",VLOOKUP(G136,漢字書き!$A$2:$N$506,6,0))","v":"ねっ［トウ］をかける"},{"$f":"IF(H136=\"\",\"\",VLOOKUP(H136,漢字書き!$A$2:$N$506,6,0))","v":"妹に［マ］かされる"},{"$f":"IF(I136=\"\",\"\",VLOOKUP(I136,漢字書き!$A$2:$N$506,6,0))","v":"［エヒメケン］に行く"},{"$f":"IF(J136=\"\",\"\",VLOOKUP(J136,漢字書き!$A$2:$N$506,6,0))","v":"［レッシャ］に乗る"},{"$f":"IF(K136=\"\",\"\",VLOOKUP(K136,漢字読み!$A$2:$O$506,6,0))","v":"［礼］を言う"},{"$f":"IF(L136=\"\",\"\",VLOOKUP(L136,漢字読み!$A$2:$O$506,6,0))","v":"［陽光］がさす"},{"$f":"IF(M136=\"\",\"\",VLOOKUP(M136,漢字読み!$A$2:$O$506,6,0))","v":"よごれを［落］とす"},{"$f":"IF(N136=\"\",\"\",VLOOKUP(N136,漢字読み!$A$2:$O$506,6,0))","v":"有終の［美］をかざる"},{"$f":"IF(O136=\"\",\"\",VLOOKUP(O136,漢字読み!$A$2:$O$506,6,0))","v":"［波］の音が聞こえる"},{"$f":"IF(P136=\"\",\"\",VLOOKUP(P136,漢字読み!$A$2:$O$506,6,0))","v":"たくさんの［観客］がいる"},{"$f":"IF(Q136=\"\",\"\",VLOOKUP(Q136,漢字読み!$A$2:$O$506,6,0))","v":"［箱］を開ける"},{"$f":"IF(R136=\"\",\"\",VLOOKUP(R136,漢字読み!$A$2:$O$506,6,0))","v":"［命題］をあたえられる"},{"$f":"IF(S136=\"\",\"\",VLOOKUP(S136,漢字読み!$A$2:$O$506,6,0))","v":"百万人［以上］の都市"},{"$f":"IF(T136=\"\",\"\",VLOOKUP(T136,漢字読み!$A$2:$O$506,6,0))","v":"［福］をよぶ鳥"},null,"級"]
[{"$f":"IF(A$16=\"\",\"\",VLOOKUP(A136,漢字書き!$A$2:$O$506,8,0))","v":"億万"},{"$f":"IF(B$16=\"\",\"\",VLOOKUP(B136,漢字書き!$A$2:$O$506,8,0))","v":"平等"},{"$f":"IF(C$16=\"\",\"\",VLOOKUP(C136,漢字書き!$A$2:$O$506,8,0))","v":"落"},{"$f":"IF(D$16=\"\",\"\",VLOOKUP(D136,漢字書き!$A$2:$O$506,8,0))","v":"命"},{"$f":"IF(E$16=\"\",\"\",VLOOKUP(E136,漢字書き!$A$2:$O$506,8,0))","v":"鉄板"},{"$f":"IF(F$16=\"\",\"\",VLOOKUP(F136,漢字書き!$A$2:$O$506,8,0))","v":"問屋"},{"$f":"IF(G$16=\"\",\"\",VLOOKUP(G136,漢字書き!$A$2:$O$506,8,0))","v":"湯"},{"$f":"IF(H$16=\"\",\"\",VLOOKUP(H136,漢字書き!$A$2:$O$506,8,0))","v":"負"},{"$f":"IF(I$16=\"\",\"\",VLOOKUP(I136,漢字書き!$A$2:$O$506,8,0))","v":"愛媛県"},{"$f":"IF(J$16=\"\",\"\",VLOOKUP(J136,漢字書き!$A$2:$O$506,8,0))","v":"列車"},{"$f":"IF(K$16=\"\",\"\",VLOOKUP(K136,漢字読み!$A$2:$O$506,8,0))","v":"れい"},{"$f":"IF(L$16=\"\",\"\",VLOOKUP(L136,漢字読み!$A$2:$O$506,8,0))","v":"ようこう"},{"$f":"IF(M$16=\"\",\"\",VLOOKUP(M136,漢字読み!$A$2:$O$506,8,0))","v":"お"},{"$f":"IF(N$16=\"\",\"\",VLOOKUP(N136,漢字読み!$A$2:$O$506,8,0))","v":"び"},{"$f":"IF(O$16=\"\",\"\",VLOOKUP(O136,漢字読み!$A$2:$O$506,8,0))","v":"なみ"},{"$f":"IF(P$16=\"\",\"\",VLOOKUP(P136,漢字読み!$A$2:$O$506,8,0))","v":"かんきゃく"},{"$f":"IF(Q$16=\"\",\"\",VLOOKUP(Q136,漢字読み!$A$2:$O$506,8,0))","v":"はこ"},{"$f":"IF(R$16=\"\",\"\",VLOOKUP(R136,漢字読み!$A$2:$O$506,8,0))","v":"めいだい"},{"$f":"IF(S$16=\"\",\"\",VLOOKUP(S136,漢字読み!$A$2:$O$506,8,0))","v":"いじょう"},{"$f":"IF(T$16=\"\",\"\",VLOOKUP(T136,漢字読み!$A$2:$O$506,8,0))","v":"ふく"},null,"名前"]
[{"$f":"IF(A136=\"\",\"\",IF(VLOOKUP(A136,漢字書き!$A$2:$N$502,7,0)=0,\"\",VLOOKUP(A136,漢字書き!$A$2:$N$502,7,0)))","v":"長者"},{"$f":"IF(B136=\"\",\"\",IF(VLOOKUP(B136,漢字書き!$A$2:$N$502,7,0)=0,\"\",VLOOKUP(B136,漢字書き!$A$2:$N$502,7,0)))","v":"に"},{"$f":"IF(C136=\"\",\"\",IF(VLOOKUP(C136,漢字書き!$A$2:$N$502,7,0)=0,\"\",VLOOKUP(C136,漢字書き!$A$2:$N$502,7,0)))","v":"ちる"},{"$f":"IF(D136=\"\",\"\",IF(VLOOKUP(D136,漢字書き!$A$2:$N$502,7,0)=0,\"\",VLOOKUP(D136,漢字書き!$A$2:$N$502,7,0)))","v":""},{"$f":"IF(E136=\"\",\"\",IF(VLOOKUP(E136,漢字書き!$A$2:$N$502,7,0)=0,\"\",VLOOKUP(E136,漢字書き!$A$2:$N$502,7,0)))","v":""},{"$f":"IF(F136=\"\",\"\",IF(VLOOKUP(F136,漢字書き!$A$2:$N$502,7,0)=0,\"\",VLOOKUP(F136,漢字書き!$A$2:$N$502,7,0)))","v":""},{"$f":"IF(G136=\"\",\"\",IF(VLOOKUP(G136,漢字書き!$A$2:$N$502,7,0)=0,\"\",VLOOKUP(G136,漢字書き!$A$2:$N$502,7,0)))","v":""},{"$f":"IF(H136=\"\",\"\",IF(VLOOKUP(H136,漢字書き!$A$2:$N$502,7,0)=0,\"\",VLOOKUP(H136,漢字書き!$A$2:$N$502,7,0)))","v":"かされる"},{"$f":"IF(I136=\"\",\"\",IF(VLOOKUP(I136,漢字書き!$A$2:$N$502,7,0)=0,\"\",VLOOKUP(I136,漢字書き!$A$2:$N$502,7,0)))","v":""},{"$f":"IF(J136=\"\",\"\",IF(VLOOKUP(J136,漢字書き!$A$2:$N$502,7,0)=0,\"\",VLOOKUP(J136,漢字書き!$A$2:$N$502,7,0)))","v":""},{"$f":"IF(K136=\"\",\"\",IF(VLOOKUP(K136,漢字読み!$A$2:$O$502,7,0)=0,\"\",VLOOKUP(K136,漢字読み!$A$2:$O$502,7,0)))","v":""},{"$f":"IF(L136=\"\",\"\",IF(VLOOKUP(L136,漢字読み!$A$2:$O$502,7,0)=0,\"\",VLOOKUP(L136,漢字読み!$A$2:$O$502,7,0)))","v":""},{"$f":"IF(M136=\"\",\"\",IF(VLOOKUP(M136,漢字読み!$A$2:$O$502,7,0)=0,\"\",VLOOKUP(M136,漢字読み!$A$2:$O$502,7,0)))","v":"とす"},{"$f":"IF(N136=\"\",\"\",IF(VLOOKUP(N136,漢字読み!$A$2:$O$502,7,0)=0,\"\",VLOOKUP(N136,漢字読み!$A$2:$O$502,7,0)))","v":""},{"$f":"IF(O136=\"\",\"\",IF(VLOOKUP(O136,漢字読み!$A$2:$O$502,7,0)=0,\"\",VLOOKUP(O136,漢字読み!$A$2:$O$502,7,0)))","v":""},{"$f":"IF(P136=\"\",\"\",IF(VLOOKUP(P136,漢字読み!$A$2:$O$502,7,0)=0,\"\",VLOOKUP(P136,漢字読み!$A$2:$O$502,7,0)))","v":""},{"$f":"IF(Q136=\"\",\"\",IF(VLOOKUP(Q136,漢字読み!$A$2:$O$502,7,0)=0,\"\",VLOOKUP(Q136,漢字読み!$A$2:$O$502,7,0)))","v":""},{"$f":"IF(R136=\"\",\"\",IF(VLOOKUP(R136,漢字読み!$A$2:$O$502,7,0)=0,\"\",VLOOKUP(R136,漢字読み!$A$2:$O$502,7,0)))","v":""},{"$f":"IF(S136=\"\",\"\",IF(VLOOKUP(S136,漢字読み!$A$2:$O$502,7,0)=0,\"\",VLOOKUP(S136,漢字読み!$A$2:$O$502,7,0)))","v":""},{"$f":"IF(T136=\"\",\"\",IF(VLOOKUP(T136,漢字読み!$A$2:$O$502,7,0)=0,\"\",VLOOKUP(T136,漢字読み!$A$2:$O$502,7,0)))","v":""},null,null,"和歌山県教育委員会"]
[{"$f":"INDIRECT(\"'関数（書き）'!C\" & COLUMN(B$1)+SUM($AD$2:$AD142))","v":83},{"$f":"INDIRECT(\"'関数（書き）'!C\" & COLUMN(C$1)+SUM($AD$2:$AD142))","v":55},{"$f":"INDIRECT(\"'関数（書き）'!C\" & COLUMN(D$1)+SUM($AD$2:$AD142))","v":190},{"$f":"INDIRECT(\"'関数（書き）'!C\" & COLUMN(E$1)+SUM($AD$2:$AD142))","v":102},{"$f":"INDIRECT(\"'関数（書き）'!C\" & COLUMN(F$1)+SUM($AD$2:$AD142))","v":24},{"$f":"INDIRECT(\"'関数（書き）'!C\" & COLUMN(G$1)+SUM($AD$2:$AD142))","v":105},{"$f":"INDIRECT(\"'関数（書き）'!C\" & COLUMN(H$1)+SUM($AD$2:$AD142))","v":117},{"$f":"INDIRECT(\"'関数（書き）'!C\" & COLUMN(I$1)+SUM($AD$2:$AD142))","v":118},{"$f":"INDIRECT(\"'関数（書き）'!C\" & COLUMN(J$1)+SUM($AD$2:$AD142))","v":220},{"$f":"INDIRECT(\"'関数（書き）'!C\" & COLUMN(K$1)+SUM($AD$2:$AD142))","v":175},{"$f":"INDIRECT(\"'関数（読み）'!C\" & COLUMN(B$1)+SUM($AD$2:$AD142))","v":205},{"$f":"INDIRECT(\"'関数（読み）'!C\" & COLUMN(C$1)+SUM($AD$2:$AD142))","v":198},{"$f":"INDIRECT(\"'関数（読み）'!C\" & COLUMN(D$1)+SUM($AD$2:$AD142))","v":167},{"$f":"INDIRECT(\"'関数（読み）'!C\" & COLUMN(E$1)+SUM($AD$2:$AD142))","v":57},{"$f":"INDIRECT(\"'関数（読み）'!C\" & COLUMN(F$1)+SUM($AD$2:$AD142))","v":72},{"$f":"INDIRECT(\"'関数（読み）'!C\" & COLUMN(G$1)+SUM($AD$2:$AD142))","v":166},{"$f":"INDIRECT(\"'関数（読み）'!C\" & COLUMN(H$1)+SUM($AD$2:$AD142))","v":110},{"$f":"INDIRECT(\"'関数（読み）'!C\" & COLUMN(I$1)+SUM($AD$2:$AD142))","v":26},{"$f":"INDIRECT(\"'関数（読み）'!C\" & COLUMN(J$1)+SUM($AD$2:$AD142))","v":96},{"$f":"INDIRECT(\"'関数（読み）'!C\" & COLUMN(K$1)+SUM($AD$2:$AD142))","v":209}]
["⑳","⑲","⑱","⑰","⑯","⑮","⑭","⑬","⑫","⑪","⑩","⑨","⑧","⑦","⑥","⑤","④","③","②","①","次の［　　　　］の部分の漢字には読みがなをひらがなで書き、カタカナは漢字に直しなさい。",11,"「漢字の博士検定試験」練習問題　",null,null,null,null,null,"←",10,"問",{"$f":"AH127+1","v":141},"～",{"$f":"SUM($AD$2:$AD142)+10","v":150},"問まで",{"$f":"COUNTIF($A$1:$T$200,T143)","v":2}]
[{"$f":"IF(A141=\"\",\"\",VLOOKUP(A141,漢字書き!$A$2:$N$506,6,0))","v":"手紙の［ヘンジ］を書く"},{"$f":"IF(B141=\"\",\"\",VLOOKUP(B141,漢字書き!$A$2:$N$506,6,0))","v":"［オモテ］とうら"},{"$f":"IF(C141=\"\",\"\",VLOOKUP(C141,漢字書き!$A$2:$N$506,6,0))","v":"［キカイ］をしゅう理する"},{"$f":"IF(D141=\"\",\"\",VLOOKUP(D141,漢字書き!$A$2:$N$506,6,0))","v":"クラスの［ヤクイン］になる"},{"$f":"IF(E141=\"\",\"\",VLOOKUP(E141,漢字書き!$A$2:$N$506,6,0))","v":"大きな［ハコ］"},{"$f":"IF(F141=\"\",\"\",VLOOKUP(F141,漢字書き!$A$2:$N$506,6,0))","v":"［ヤクソウ］をさがす"},{"$f":"IF(G141=\"\",\"\",VLOOKUP(G141,漢字書き!$A$2:$N$506,6,0))","v":"［ヨテイ］がある"},{"$f":"IF(H141=\"\",\"\",VLOOKUP(H141,漢字書き!$A$2:$N$506,6,0))","v":"［ヨウモウ］のセーター"},{"$f":"IF(I141=\"\",\"\",VLOOKUP(I141,漢字書き!$A$2:$N$506,6,0))","v":"ぜっこうの［キカイ］"},{"$f":"IF(J141=\"\",\"\",VLOOKUP(J141,漢字書き!$A$2:$N$506,6,0))","v":"［イチオク］の人口"},{"$f":"IF(K141=\"\",\"\",VLOOKUP(K141,漢字読み!$A$2:$O$506,6,0))","v":"木の［器］を使う"},{"$f":"IF(L141=\"\",\"\",VLOOKUP(L141,漢字読み!$A$2:$O$506,6,0))","v":"平和を［希求］する"},{"$f":"IF(M141=\"\",\"\",VLOOKUP(M141,漢字読み!$A$2:$O$506,6,0))","v":"［果実］のめぐみ"},{"$f":"IF(N141=\"\",\"\",VLOOKUP(N141,漢字読み!$A$2:$O$506,6,0))","v":"かれは［手品］がうまい"},{"$f":"IF(O141=\"\",\"\",VLOOKUP(O141,漢字読み!$A$2:$O$506,6,0))","v":"［平日］のダイヤ"},{"$f":"IF(P141=\"\",\"\",VLOOKUP(P141,漢字読み!$A$2:$O$506,6,0))","v":"ルールを［追加］する"},{"$f":"IF(Q141=\"\",\"\",VLOOKUP(Q141,漢字読み!$A$2:$O$506,6,0))","v":"［遊］びに行こう"},{"$f":"IF(R141=\"\",\"\",VLOOKUP(R141,漢字読み!$A$2:$O$506,6,0))","v":"［畑］で野さいをつくる"},{"$f":"IF(S141=\"\",\"\",VLOOKUP(S141,漢字読み!$A$2:$O$506,6,0))","v":"［役場］につとめる"},{"$f":"IF(T141=\"\",\"\",VLOOKUP(T141,漢字読み!$A$2:$O$506,6,0))","v":"［求人］の広こく"},null,"級"]
[null,null,null,null,null,null,null,null,null,null,null,null,null,null,null,null,null,null,null,null,null,"名前"]
[{"$f":"IF(A141=\"\",\"\",IF(VLOOKUP(A141,漢字書き!$A$2:$N$502,7,0)=0,\"\",VLOOKUP(A141,漢字書き!$A$2:$N$502,7,0)))","v":""},{"$f":"IF(B141=\"\",\"\",IF(VLOOKUP(B141,漢字書き!$A$2:$N$502,7,0)=0,\"\",VLOOKUP(B141,漢字書き!$A$2:$N$502,7,0)))","v":""},{"$f":"IF(C141=\"\",\"\",IF(VLOOKUP(C141,漢字書き!$A$2:$N$502,7,0)=0,\"\",VLOOKUP(C141,漢字書き!$A$2:$N$502,7,0)))","v":""},{"$f":"IF(D141=\"\",\"\",IF(VLOOKUP(D141,漢字書き!$A$2:$N$502,7,0)=0,\"\",VLOOKUP(D141,漢字書き!$A$2:$N$502,7,0)))","v":""},{"$f":"IF(E141=\"\",\"\",IF(VLOOKUP(E141,漢字書き!$A$2:$N$502,7,0)=0,\"\",VLOOKUP(E141,漢字書き!$A$2:$N$502,7,0)))","v":""},{"$f":"IF(F141=\"\",\"\",IF(VLOOKUP(F141,漢字書き!$A$2:$N$502,7,0)=0,\"\",VLOOKUP(F141,漢字書き!$A$2:$N$502,7,0)))","v":""},{"$f":"IF(G141=\"\",\"\",IF(VLOOKUP(G141,漢字書き!$A$2:$N$502,7,0)=0,\"\",VLOOKUP(G141,漢字書き!$A$2:$N$502,7,0)))","v":""},{"$f":"IF(H141=\"\",\"\",IF(VLOOKUP(H141,漢字書き!$A$2:$N$502,7,0)=0,\"\",VLOOKUP(H141,漢字書き!$A$2:$N$502,7,0)))","v":""},{"$f":"IF(I141=\"\",\"\",IF(VLOOKUP(I141,漢字書き!$A$2:$N$502,7,0)=0,\"\",VLOOKUP(I141,漢字書き!$A$2:$N$502,7,0)))","v":""},{"$f":"IF(J141=\"\",\"\",IF(VLOOKUP(J141,漢字書き!$A$2:$N$502,7,0)=0,\"\",VLOOKUP(J141,漢字書き!$A$2:$N$502,7,0)))","v":""},{"$f":"IF(K141=\"\",\"\",IF(VLOOKUP(K141,漢字読み!$A$2:$O$502,7,0)=0,\"\",VLOOKUP(K141,漢字読み!$A$2:$O$502,7,0)))","v":""},{"$f":"IF(L141=\"\",\"\",IF(VLOOKUP(L141,漢字読み!$A$2:$O$502,7,0)=0,\"\",VLOOKUP(L141,漢字読み!$A$2:$O$502,7,0)))","v":"する"},{"$f":"IF(M141=\"\",\"\",IF(VLOOKUP(M141,漢字読み!$A$2:$O$502,7,0)=0,\"\",VLOOKUP(M141,漢字読み!$A$2:$O$502,7,0)))","v":""},{"$f":"IF(N141=\"\",\"\",IF(VLOOKUP(N141,漢字読み!$A$2:$O$502,7,0)=0,\"\",VLOOKUP(N141,漢字読み!$A$2:$O$502,7,0)))","v":""},{"$f":"IF(O141=\"\",\"\",IF(VLOOKUP(O141,漢字読み!$A$2:$O$502,7,0)=0,\"\",VLOOKUP(O141,漢字読み!$A$2:$O$502,7,0)))","v":""},{"$f":"IF(P141=\"\",\"\",IF(VLOOKUP(P141,漢字読み!$A$2:$O$502,7,0)=0,\"\",VLOOKUP(P141,漢字読み!$A$2:$O$502,7,0)))","v":"する"},{"$f":"IF(Q141=\"\",\"\",IF(VLOOKUP(Q141,漢字読み!$A$2:$O$502,7,0)=0,\"\",VLOOKUP(Q141,漢字読み!$A$2:$O$502,7,0)))","v":"び"},{"$f":"IF(R141=\"\",\"\",IF(VLOOKUP(R141,漢字読み!$A$2:$O$502,7,0)=0,\"\",VLOOKUP(R141,漢字読み!$A$2:$O$502,7,0)))","v":""},{"$f":"IF(S141=\"\",\"\",IF(VLOOKUP(S141,漢字読み!$A$2:$O$502,7,0)=0,\"\",VLOOKUP(S141,漢字読み!$A$2:$O$502,7,0)))","v":""},{"$f":"IF(T141=\"\",\"\",IF(VLOOKUP(T141,漢字読み!$A$2:$O$502,7,0)=0,\"\",VLOOKUP(T141,漢字読み!$A$2:$O$502,7,0)))","v":""},null,null,"和歌山県教育委員会"]
[{"$f":"INDIRECT(\"'関数（書き）'!C\" & COLUMN(B$1)+SUM($AD$2:$AD147))","v":18},{"$f":"INDIRECT(\"'関数（書き）'!C\" & COLUMN(C$1)+SUM($AD$2:$AD147))","v":46},{"$f":"INDIRECT(\"'関数（書き）'!C\" & COLUMN(D$1)+SUM($AD$2:$AD147))","v":132},{"$f":"INDIRECT(\"'関数（書き）'!C\" & COLUMN(E$1)+SUM($AD$2:$AD147))","v":219},{"$f":"INDIRECT(\"'関数（書き）'!C\" & COLUMN(F$1)+SUM($AD$2:$AD147))","v":25},{"$f":"INDIRECT(\"'関数（書き）'!C\" & COLUMN(G$1)+SUM($AD$2:$AD147))","v":4},{"$f":"INDIRECT(\"'関数（書き）'!C\" & COLUMN(H$1)+SUM($AD$2:$AD147))","v":138},{"$f":"INDIRECT(\"'関数（書き）'!C\" & COLUMN(I$1)+SUM($AD$2:$AD147))","v":62},{"$f":"INDIRECT(\"'関数（書き）'!C\" & COLUMN(J$1)+SUM($AD$2:$AD147))","v":229},{"$f":"INDIRECT(\"'関数（書き）'!C\" & COLUMN(K$1)+SUM($AD$2:$AD147))","v":147},{"$f":"INDIRECT(\"'関数（読み）'!C\" & COLUMN(B$1)+SUM($AD$2:$AD147))","v":191},{"$f":"INDIRECT(\"'関数（読み）'!C\" & COLUMN(C$1)+SUM($AD$2:$AD147))","v":202},{"$f":"INDIRECT(\"'関数（読み）'!C\" & COLUMN(D$1)+SUM($AD$2:$AD147))","v":32},{"$f":"INDIRECT(\"'関数（読み）'!C\" & COLUMN(E$1)+SUM($AD$2:$AD147))","v":85},{"$f":"INDIRECT(\"'関数（読み）'!C\" & COLUMN(F$1)+SUM($AD$2:$AD147))","v":175},{"$f":"INDIRECT(\"'関数（読み）'!C\" & COLUMN(G$1)+SUM($AD$2:$AD147))","v":122},{"$f":"INDIRECT(\"'関数（読み）'!C\" & COLUMN(H$1)+SUM($AD$2:$AD147))","v":129},{"$f":"INDIRECT(\"'関数（読み）'!C\" & COLUMN(I$1)+SUM($AD$2:$AD147))","v":212},{"$f":"INDIRECT(\"'関数（読み）'!C\" & COLUMN(J$1)+SUM($AD$2:$AD147))","v":103},{"$f":"INDIRECT(\"'関数（読み）'!C\" & COLUMN(K$1)+SUM($AD$2:$AD147))","v":157}]
["⑳","⑲","⑱","⑰","⑯","⑮","⑭","⑬","⑫","⑪","⑩","⑨","⑧","⑦","⑥","⑤","④","③","②","①","次の［　　　　］の部分の漢字には読みがなをひらがなで書き、カタカナは漢字に直しなさい。",11,"「漢字の博士検定試験」練習問題　",null,null,null,null,null,"←",10,"問",{"$f":"AH142+1","v":151},"～",{"$f":"SUM($AD$2:$AD147)+10","v":160},"問まで",{"$f":"COUNTIF($A$1:$T$200,T148)","v":2}]
[{"$f":"IF(A146=\"\",\"\",VLOOKUP(A146,漢字書き!$A$2:$N$506,6,0))","v":"［ナミ］が高い海"},{"$f":"IF(B146=\"\",\"\",VLOOKUP(B146,漢字書き!$A$2:$N$506,6,0))","v":"夕日が［ウツク］しい"},{"$f":"IF(C146=\"\",\"\",VLOOKUP(C146,漢字書き!$A$2:$N$506,6,0))","v":"［ナガ］れの速い川"},{"$f":"IF(D146=\"\",\"\",VLOOKUP(D146,漢字書き!$A$2:$N$506,6,0))","v":"[ショッキ]をあらう"},{"$f":"IF(E146=\"\",\"\",VLOOKUP(E146,漢字書き!$A$2:$N$506,6,0))","v":"［ハタケ］の土"},{"$f":"IF(F146=\"\",\"\",VLOOKUP(F146,漢字書き!$A$2:$N$506,6,0))","v":"［トウコウ］中の学生"},{"$f":"IF(G146=\"\",\"\",VLOOKUP(G146,漢字書き!$A$2:$N$506,6,0))","v":"［リョクチャ］を飲む"},{"$f":"IF(H146=\"\",\"\",VLOOKUP(H146,漢字書き!$A$2:$N$506,6,0))","v":"［ヒン］がよい人"},{"$f":"IF(I146=\"\",\"\",VLOOKUP(I146,漢字書き!$A$2:$N$506,6,0))","v":"［トミ］をたくわえる"},{"$f":"IF(J146=\"\",\"\",VLOOKUP(J146,漢字書き!$A$2:$N$506,6,0))","v":"あんこを［ネ］る"},{"$f":"IF(K146=\"\",\"\",VLOOKUP(K146,漢字読み!$A$2:$O$506,6,0))","v":"自分は［関係］ない"},{"$f":"IF(L146=\"\",\"\",VLOOKUP(L146,漢字読み!$A$2:$O$506,6,0))","v":"［新潟県］の米づくり"},{"$f":"IF(M146=\"\",\"\",VLOOKUP(M146,漢字読み!$A$2:$O$506,6,0))","v":"急な［坂］にさしかかる"},{"$f":"IF(N146=\"\",\"\",VLOOKUP(N146,漢字読み!$A$2:$O$506,6,0))","v":"ゆっくり［味］わう"},{"$f":"IF(O146=\"\",\"\",VLOOKUP(O146,漢字読み!$A$2:$O$506,6,0))","v":"草木が［芽生］える"},{"$f":"IF(P146=\"\",\"\",VLOOKUP(P146,漢字読み!$A$2:$O$506,6,0))","v":"［太陽］の光"},{"$f":"IF(Q146=\"\",\"\",VLOOKUP(Q146,漢字読み!$A$2:$O$506,6,0))","v":"［上流］の水"},{"$f":"IF(R146=\"\",\"\",VLOOKUP(R146,漢字読み!$A$2:$O$506,6,0))","v":"［富山県］に行く"},{"$f":"IF(S146=\"\",\"\",VLOOKUP(S146,漢字読み!$A$2:$O$506,6,0))","v":"［油］がもれる"},{"$f":"IF(T146=\"\",\"\",VLOOKUP(T146,漢字読み!$A$2:$O$506,6,0))","v":"［印字］された文"},null,"級"]
[null,null,null,null,null,null,null,null,null,null,null,null,null,null,null,null,null,null,null,null,null,"名前"]
[{"$f":"IF(A146=\"\",\"\",IF(VLOOKUP(A146,漢字書き!$A$2:$N$502,7,0)=0,\"\",VLOOKUP(A146,漢字書き!$A$2:$N$502,7,0)))","v":""},{"$f":"IF(B146=\"\",\"\",IF(VLOOKUP(B146,漢字書き!$A$2:$N$502,7,0)=0,\"\",VLOOKUP(B146,漢字書き!$A$2:$N$502,7,0)))","v":"しい"},{"$f":"IF(C146=\"\",\"\",IF(VLOOKUP(C146,漢字書き!$A$2:$N$502,7,0)=0,\"\",VLOOKUP(C146,漢字書き!$A$2:$N$502,7,0)))","v":"れ"},{"$f":"IF(D146=\"\",\"\",IF(VLOOKUP(D146,漢字書き!$A$2:$N$502,7,0)=0,\"\",VLOOKUP(D146,漢字書き!$A$2:$N$502,7,0)))","v":""},{"$f":"IF(E146=\"\",\"\",IF(VLOOKUP(E146,漢字書き!$A$2:$N$502,7,0)=0,\"\",VLOOKUP(E146,漢字書き!$A$2:$N$502,7,0)))","v":""},{"$f":"IF(F146=\"\",\"\",IF(VLOOKUP(F146,漢字書き!$A$2:$N$502,7,0)=0,\"\",VLOOKUP(F146,漢字書き!$A$2:$N$502,7,0)))","v":"中"},{"$f":"IF(G146=\"\",\"\",IF(VLOOKUP(G146,漢字書き!$A$2:$N$502,7,0)=0,\"\",VLOOKUP(G146,漢字書き!$A$2:$N$502,7,0)))","v":""},{"$f":"IF(H146=\"\",\"\",IF(VLOOKUP(H146,漢字書き!$A$2:$N$502,7,0)=0,\"\",VLOOKUP(H146,漢字書き!$A$2:$N$502,7,0)))","v":""},{"$f":"IF(I146=\"\",\"\",IF(VLOOKUP(I146,漢字書き!$A$2:$N$502,7,0)=0,\"\",VLOOKUP(I146,漢字書き!$A$2:$N$502,7,0)))","v":""},{"$f":"IF(J146=\"\",\"\",IF(VLOOKUP(J146,漢字書き!$A$2:$N$502,7,0)=0,\"\",VLOOKUP(J146,漢字書き!$A$2:$N$502,7,0)))","v":"る"},{"$f":"IF(K146=\"\",\"\",IF(VLOOKUP(K146,漢字読み!$A$2:$O$502,7,0)=0,\"\",VLOOKUP(K146,漢字読み!$A$2:$O$502,7,0)))","v":"ない"},{"$f":"IF(L146=\"\",\"\",IF(VLOOKUP(L146,漢字読み!$A$2:$O$502,7,0)=0,\"\",VLOOKUP(L146,漢字読み!$A$2:$O$502,7,0)))","v":""},{"$f":"IF(M146=\"\",\"\",IF(VLOOKUP(M146,漢字読み!$A$2:$O$502,7,0)=0,\"\",VLOOKUP(M146,漢字読み!$A$2:$O$502,7,0)))","v":""},{"$f":"IF(N146=\"\",\"\",IF(VLOOKUP(N146,漢字読み!$A$2:$O$502,7,0)=0,\"\",VLOOKUP(N146,漢字読み!$A$2:$O$502,7,0)))","v":"わう"},{"$f":"IF(O146=\"\",\"\",IF(VLOOKUP(O146,漢字読み!$A$2:$O$502,7,0)=0,\"\",VLOOKUP(O146,漢字読み!$A$2:$O$502,7,0)))","v":"える"},{"$f":"IF(P146=\"\",\"\",IF(VLOOKUP(P146,漢字読み!$A$2:$O$502,7,0)=0,\"\",VLOOKUP(P146,漢字読み!$A$2:$O$502,7,0)))","v":""},{"$f":"IF(Q146=\"\",\"\",IF(VLOOKUP(Q146,漢字読み!$A$2:$O$502,7,0)=0,\"\",VLOOKUP(Q146,漢字読み!$A$2:$O$502,7,0)))","v":""},{"$f":"IF(R146=\"\",\"\",IF(VLOOKUP(R146,漢字読み!$A$2:$O$502,7,0)=0,\"\",VLOOKUP(R146,漢字読み!$A$2:$O$502,7,0)))","v":""},{"$f":"IF(S146=\"\",\"\",IF(VLOOKUP(S146,漢字読み!$A$2:$O$502,7,0)=0,\"\",VLOOKUP(S146,漢字読み!$A$2:$O$502,7,0)))","v":""},{"$f":"IF(T146=\"\",\"\",IF(VLOOKUP(T146,漢字読み!$A$2:$O$502,7,0)=0,\"\",VLOOKUP(T146,漢字読み!$A$2:$O$502,7,0)))","v":"された"},null,null,"和歌山県教育委員会"]
[{"$f":"A141","v":83},{"$f":"B141","v":55},{"$f":"C141","v":190},{"$f":"D141","v":102},{"$f":"E141","v":24},{"$f":"F141","v":105},{"$f":"G141","v":117},{"$f":"H141","v":118},{"$f":"I141","v":220},{"$f":"J141","v":175},{"$f":"K141","v":205},{"$f":"L141","v":198},{"$f":"M141","v":167},{"$f":"N141","v":57},{"$f":"O141","v":72},{"$f":"P141","v":166},{"$f":"Q141","v":110},{"$f":"R141","v":26},{"$f":"S141","v":96},{"$f":"T141","v":209}]
["⑳","⑲","⑱","⑰","⑯","⑮","⑭","⑬","⑫","⑪","⑩","⑨","⑧","⑦","⑥","⑤","④","③","②","①","次の［　　　　］の部分の漢字には読みがなをひらがなで書き、カタカナは漢字に直しなさい。",11,"「漢字の博士検定試験」練習問題　"]
[{"$f":"IF(A151=\"\",\"\",VLOOKUP(A151,漢字書き!$A$2:$N$506,6,0))","v":"手紙の［ヘンジ］を書く"},{"$f":"IF(B151=\"\",\"\",VLOOKUP(B151,漢字書き!$A$2:$N$506,6,0))","v":"［オモテ］とうら"},{"$f":"IF(C151=\"\",\"\",VLOOKUP(C151,漢字書き!$A$2:$N$506,6,0))","v":"［キカイ］をしゅう理する"},{"$f":"IF(D151=\"\",\"\",VLOOKUP(D151,漢字書き!$A$2:$N$506,6,0))","v":"クラスの［ヤクイン］になる"},{"$f":"IF(E151=\"\",\"\",VLOOKUP(E151,漢字書き!$A$2:$N$506,6,0))","v":"大きな［ハコ］"},{"$f":"IF(F151=\"\",\"\",VLOOKUP(F151,漢字書き!$A$2:$N$506,6,0))","v":"［ヤクソウ］をさがす"},{"$f":"IF(G151=\"\",\"\",VLOOKUP(G151,漢字書き!$A$2:$N$506,6,0))","v":"［ヨテイ］がある"},{"$f":"IF(H151=\"\",\"\",VLOOKUP(H151,漢字書き!$A$2:$N$506,6,0))","v":"［ヨウモウ］のセーター"},{"$f":"IF(I151=\"\",\"\",VLOOKUP(I151,漢字書き!$A$2:$N$506,6,0))","v":"ぜっこうの［キカイ］"},{"$f":"IF(J151=\"\",\"\",VLOOKUP(J151,漢字書き!$A$2:$N$506,6,0))","v":"［イチオク］の人口"},{"$f":"IF(K151=\"\",\"\",VLOOKUP(K151,漢字読み!$A$2:$O$506,6,0))","v":"木の［器］を使う"},{"$f":"IF(L151=\"\",\"\",VLOOKUP(L151,漢字読み!$A$2:$O$506,6,0))","v":"平和を［希求］する"},{"$f":"IF(M151=\"\",\"\",VLOOKUP(M151,漢字読み!$A$2:$O$506,6,0))","v":"［果実］のめぐみ"},{"$f":"IF(N151=\"\",\"\",VLOOKUP(N151,漢字読み!$A$2:$O$506,6,0))","v":"かれは［手品］がうまい"},{"$f":"IF(O151=\"\",\"\",VLOOKUP(O151,漢字読み!$A$2:$O$506,6,0))","v":"［平日］のダイヤ"},{"$f":"IF(P151=\"\",\"\",VLOOKUP(P151,漢字読み!$A$2:$O$506,6,0))","v":"ルールを［追加］する"},{"$f":"IF(Q151=\"\",\"\",VLOOKUP(Q151,漢字読み!$A$2:$O$506,6,0))","v":"［遊］びに行こう"},{"$f":"IF(R151=\"\",\"\",VLOOKUP(R151,漢字読み!$A$2:$O$506,6,0))","v":"［畑］で野さいをつくる"},{"$f":"IF(S151=\"\",\"\",VLOOKUP(S151,漢字読み!$A$2:$O$506,6,0))","v":"［役場］につとめる"},{"$f":"IF(T151=\"\",\"\",VLOOKUP(T151,漢字読み!$A$2:$O$506,6,0))","v":"［求人］の広こく"},null,"級"]
[{"$f":"IF(A$11=\"\",\"\",VLOOKUP(A151,漢字書き!$A$2:$O$506,8,0))","v":"返事"},{"$f":"IF(B$11=\"\",\"\",VLOOKUP(B151,漢字書き!$A$2:$O$506,8,0))","v":"表"},{"$f":"IF(C$11=\"\",\"\",VLOOKUP(C151,漢字書き!$A$2:$O$506,8,0))","v":"機械"},{"$f":"IF(D$11=\"\",\"\",VLOOKUP(D151,漢字書き!$A$2:$O$506,8,0))","v":"役員"},{"$f":"IF(E$11=\"\",\"\",VLOOKUP(E151,漢字書き!$A$2:$O$506,8,0))","v":"箱"},{"$f":"IF(F$11=\"\",\"\",VLOOKUP(F151,漢字書き!$A$2:$O$506,8,0))","v":"薬草"},{"$f":"IF(G$11=\"\",\"\",VLOOKUP(G151,漢字書き!$A$2:$O$506,8,0))","v":"予定"},{"$f":"IF(H$11=\"\",\"\",VLOOKUP(H151,漢字書き!$A$2:$O$506,8,0))","v":"羊毛"},{"$f":"IF(I$11=\"\",\"\",VLOOKUP(I151,漢字書き!$A$2:$O$506,8,0))","v":"機会"},{"$f":"IF(J$11=\"\",\"\",VLOOKUP(J151,漢字書き!$A$2:$O$506,8,0))","v":"一億"},{"$f":"IF(K$11=\"\",\"\",VLOOKUP(K151,漢字読み!$A$2:$O$506,8,0))","v":"うつわ"},{"$f":"IF(L$11=\"\",\"\",VLOOKUP(L151,漢字読み!$A$2:$O$506,8,0))","v":"ききゅう"},{"$f":"IF(M$11=\"\",\"\",VLOOKUP(M151,漢字読み!$A$2:$O$506,8,0))","v":"かじつ"},{"$f":"IF(N$11=\"\",\"\",VLOOKUP(N151,漢字読み!$A$2:$O$506,8,0))","v":"てじな"},{"$f":"IF(O$11=\"\",\"\",VLOOKUP(O151,漢字読み!$A$2:$O$506,8,0))","v":"へいじつ"},{"$f":"IF(P$11=\"\",\"\",VLOOKUP(P151,漢字読み!$A$2:$O$506,8,0))","v":"ついか"},{"$f":"IF(Q$11=\"\",\"\",VLOOKUP(Q151,漢字読み!$A$2:$O$506,8,0))","v":"あそ"},{"$f":"IF(R$11=\"\",\"\",VLOOKUP(R151,漢字読み!$A$2:$O$506,8,0))","v":"はたけ"},{"$f":"IF(S$11=\"\",\"\",VLOOKUP(S151,漢字読み!$A$2:$O$506,8,0))","v":"やくば"},{"$f":"IF(T$11=\"\",\"\",VLOOKUP(T151,漢字読み!$A$2:$O$506,8,0))","v":"きゅうじん"},null,"名前"]
[{"$f":"IF(A151=\"\",\"\",IF(VLOOKUP(A151,漢字書き!$A$2:$N$502,7,0)=0,\"\",VLOOKUP(A151,漢字書き!$A$2:$N$502,7,0)))","v":""},{"$f":"IF(B151=\"\",\"\",IF(VLOOKUP(B151,漢字書き!$A$2:$N$502,7,0)=0,\"\",VLOOKUP(B151,漢字書き!$A$2:$N$502,7,0)))","v":""},{"$f":"IF(C151=\"\",\"\",IF(VLOOKUP(C151,漢字書き!$A$2:$N$502,7,0)=0,\"\",VLOOKUP(C151,漢字書き!$A$2:$N$502,7,0)))","v":""},{"$f":"IF(D151=\"\",\"\",IF(VLOOKUP(D151,漢字書き!$A$2:$N$502,7,0)=0,\"\",VLOOKUP(D151,漢字書き!$A$2:$N$502,7,0)))","v":""},{"$f":"IF(E151=\"\",\"\",IF(VLOOKUP(E151,漢字書き!$A$2:$N$502,7,0)=0,\"\",VLOOKUP(E151,漢字書き!$A$2:$N$502,7,0)))","v":""},{"$f":"IF(F151=\"\",\"\",IF(VLOOKUP(F151,漢字書き!$A$2:$N$502,7,0)=0,\"\",VLOOKUP(F151,漢字書き!$A$2:$N$502,7,0)))","v":""},{"$f":"IF(G151=\"\",\"\",IF(VLOOKUP(G151,漢字書き!$A$2:$N$502,7,0)=0,\"\",VLOOKUP(G151,漢字書き!$A$2:$N$502,7,0)))","v":""},{"$f":"IF(H151=\"\",\"\",IF(VLOOKUP(H151,漢字書き!$A$2:$N$502,7,0)=0,\"\",VLOOKUP(H151,漢字書き!$A$2:$N$502,7,0)))","v":""},{"$f":"IF(I151=\"\",\"\",IF(VLOOKUP(I151,漢字書き!$A$2:$N$502,7,0)=0,\"\",VLOOKUP(I151,漢字書き!$A$2:$N$502,7,0)))","v":""},{"$f":"IF(J151=\"\",\"\",IF(VLOOKUP(J151,漢字書き!$A$2:$N$502,7,0)=0,\"\",VLOOKUP(J151,漢字書き!$A$2:$N$502,7,0)))","v":""},{"$f":"IF(K151=\"\",\"\",IF(VLOOKUP(K151,漢字読み!$A$2:$O$502,7,0)=0,\"\",VLOOKUP(K151,漢字読み!$A$2:$O$502,7,0)))","v":""},{"$f":"IF(L151=\"\",\"\",IF(VLOOKUP(L151,漢字読み!$A$2:$O$502,7,0)=0,\"\",VLOOKUP(L151,漢字読み!$A$2:$O$502,7,0)))","v":"する"},{"$f":"IF(M151=\"\",\"\",IF(VLOOKUP(M151,漢字読み!$A$2:$O$502,7,0)=0,\"\",VLOOKUP(M151,漢字読み!$A$2:$O$502,7,0)))","v":""},{"$f":"IF(N151=\"\",\"\",IF(VLOOKUP(N151,漢字読み!$A$2:$O$502,7,0)=0,\"\",VLOOKUP(N151,漢字読み!$A$2:$O$502,7,0)))","v":""},{"$f":"IF(O151=\"\",\"\",IF(VLOOKUP(O151,漢字読み!$A$2:$O$502,7,0)=0,\"\",VLOOKUP(O151,漢字読み!$A$2:$O$502,7,0)))","v":""},{"$f":"IF(P151=\"\",\"\",IF(VLOOKUP(P151,漢字読み!$A$2:$O$502,7,0)=0,\"\",VLOOKUP(P151,漢字読み!$A$2:$O$502,7,0)))","v":"する"},{"$f":"IF(Q151=\"\",\"\",IF(VLOOKUP(Q151,漢字読み!$A$2:$O$502,7,0)=0,\"\",VLOOKUP(Q151,漢字読み!$A$2:$O$502,7,0)))","v":"び"},{"$f":"IF(R151=\"\",\"\",IF(VLOOKUP(R151,漢字読み!$A$2:$O$502,7,0)=0,\"\",VLOOKUP(R151,漢字読み!$A$2:$O$502,7,0)))","v":""},{"$f":"IF(S151=\"\",\"\",IF(VLOOKUP(S151,漢字読み!$A$2:$O$502,7,0)=0,\"\",VLOOKUP(S151,漢字読み!$A$2:$O$502,7,0)))","v":""},{"$f":"IF(T151=\"\",\"\",IF(VLOOKUP(T151,漢字読み!$A$2:$O$502,7,0)=0,\"\",VLOOKUP(T151,漢字読み!$A$2:$O$502,7,0)))","v":""},null,null,"和歌山県教育委員会"]
[{"$f":"A146","v":18},{"$f":"B146","v":46},{"$f":"C146","v":132},{"$f":"D146","v":219},{"$f":"E146","v":25},{"$f":"F146","v":4},{"$f":"G146","v":138},{"$f":"H146","v":62},{"$f":"I146","v":229},{"$f":"J146","v":147},{"$f":"K146","v":191},{"$f":"L146","v":202},{"$f":"M146","v":32},{"$f":"N146","v":85},{"$f":"O146","v":175},{"$f":"P146","v":122},{"$f":"Q146","v":129},{"$f":"R146","v":212},{"$f":"S146","v":103},{"$f":"T146","v":157}]
["⑳","⑲","⑱","⑰","⑯","⑮","⑭","⑬","⑫","⑪","⑩","⑨","⑧","⑦","⑥","⑤","④","③","②","①","次の［　　　　］の部分の漢字には読みがなをひらがなで書き、カタカナは漢字に直しなさい。",11,"「漢字の博士検定試験」練習問題　"]
[{"$f":"IF(A156=\"\",\"\",VLOOKUP(A156,漢字書き!$A$2:$N$506,6,0))","v":"［ナミ］が高い海"},{"$f":"IF(B156=\"\",\"\",VLOOKUP(B156,漢字書き!$A$2:$N$506,6,0))","v":"夕日が［ウツク］しい"},{"$f":"IF(C156=\"\",\"\",VLOOKUP(C156,漢字書き!$A$2:$N$506,6,0))","v":"［ナガ］れの速い川"},{"$f":"IF(D156=\"\",\"\",VLOOKUP(D156,漢字書き!$A$2:$N$506,6,0))","v":"[ショッキ]をあらう"},{"$f":"IF(E156=\"\",\"\",VLOOKUP(E156,漢字書き!$A$2:$N$506,6,0))","v":"［ハタケ］の土"},{"$f":"IF(F156=\"\",\"\",VLOOKUP(F156,漢字書き!$A$2:$N$506,6,0))","v":"［トウコウ］中の学生"},{"$f":"IF(G156=\"\",\"\",VLOOKUP(G156,漢字書き!$A$2:$N$506,6,0))","v":"［リョクチャ］を飲む"},{"$f":"IF(H156=\"\",\"\",VLOOKUP(H156,漢字書き!$A$2:$N$506,6,0))","v":"［ヒン］がよい人"},{"$f":"IF(I156=\"\",\"\",VLOOKUP(I156,漢字書き!$A$2:$N$506,6,0))","v":"［トミ］をたくわえる"},{"$f":"IF(J156=\"\",\"\",VLOOKUP(J156,漢字書き!$A$2:$N$506,6,0))","v":"あんこを［ネ］る"},{"$f":"IF(K156=\"\",\"\",VLOOKUP(K156,漢字読み!$A$2:$O$506,6,0))","v":"自分は［関係］ない"},{"$f":"IF(L156=\"\",\"\",VLOOKUP(L156,漢字読み!$A$2:$O$506,6,0))","v":"［新潟県］の米づくり"},{"$f":"IF(M156=\"\",\"\",VLOOKUP(M156,漢字読み!$A$2:$O$506,6,0))","v":"急な［坂］にさしかかる"},{"$f":"IF(N156=\"\",\"\",VLOOKUP(N156,漢字読み!$A$2:$O$506,6,0))","v":"ゆっくり［味］わう"},{"$f":"IF(O156=\"\",\"\",VLOOKUP(O156,漢字読み!$A$2:$O$506,6,0))","v":"草木が［芽生］える"},{"$f":"IF(P156=\"\",\"\",VLOOKUP(P156,漢字読み!$A$2:$O$506,6,0))","v":"［太陽］の光"},{"$f":"IF(Q156=\"\",\"\",VLOOKUP(Q156,漢字読み!$A$2:$O$506,6,0))","v":"［上流］の水"},{"$f":"IF(R156=\"\",\"\",VLOOKUP(R156,漢字読み!$A$2:$O$506,6,0))","v":"［富山県］に行く"},{"$f":"IF(S156=\"\",\"\",VLOOKUP(S156,漢字読み!$A$2:$O$506,6,0))","v":"［油］がもれる"},{"$f":"IF(T156=\"\",\"\",VLOOKUP(T156,漢字読み!$A$2:$O$506,6,0))","v":"［印字］された文"},null,"級"]
[{"$f":"IF(A$16=\"\",\"\",VLOOKUP(A156,漢字書き!$A$2:$O$506,8,0))","v":"波"},{"$f":"IF(B$16=\"\",\"\",VLOOKUP(B156,漢字書き!$A$2:$O$506,8,0))","v":"美"},{"$f":"IF(C$16=\"\",\"\",VLOOKUP(C156,漢字書き!$A$2:$O$506,8,0))","v":"流"},{"$f":"IF(D$16=\"\",\"\",VLOOKUP(D156,漢字書き!$A$2:$O$506,8,0))","v":"食器"},{"$f":"IF(E$16=\"\",\"\",VLOOKUP(E156,漢字書き!$A$2:$O$506,8,0))","v":"畑"},{"$f":"IF(F$16=\"\",\"\",VLOOKUP(F156,漢字書き!$A$2:$O$506,8,0))","v":"登校"},{"$f":"IF(G$16=\"\",\"\",VLOOKUP(G156,漢字書き!$A$2:$O$506,8,0))","v":"緑茶"},{"$f":"IF(H$16=\"\",\"\",VLOOKUP(H156,漢字書き!$A$2:$O$506,8,0))","v":"品"},{"$f":"IF(I$16=\"\",\"\",VLOOKUP(I156,漢字書き!$A$2:$O$506,8,0))","v":"富"},{"$f":"IF(J$16=\"\",\"\",VLOOKUP(J156,漢字書き!$A$2:$O$506,8,0))","v":"練"},{"$f":"IF(K$16=\"\",\"\",VLOOKUP(K156,漢字読み!$A$2:$O$506,8,0))","v":"かんけい"},{"$f":"IF(L$16=\"\",\"\",VLOOKUP(L156,漢字読み!$A$2:$O$506,8,0))","v":"にいがたけん"},{"$f":"IF(M$16=\"\",\"\",VLOOKUP(M156,漢字読み!$A$2:$O$506,8,0))","v":"さか"},{"$f":"IF(N$16=\"\",\"\",VLOOKUP(N156,漢字読み!$A$2:$O$506,8,0))","v":"あじ"},{"$f":"IF(O$16=\"\",\"\",VLOOKUP(O156,漢字読み!$A$2:$O$506,8,0))","v":"めば"},{"$f":"IF(P$16=\"\",\"\",VLOOKUP(P156,漢字読み!$A$2:$O$506,8,0))","v":"たいよう"},{"$f":"IF(Q$16=\"\",\"\",VLOOKUP(Q156,漢字読み!$A$2:$O$506,8,0))","v":"じょうりゅう"},{"$f":"IF(R$16=\"\",\"\",VLOOKUP(R156,漢字読み!$A$2:$O$506,8,0))","v":"とやまけん"},{"$f":"IF(S$16=\"\",\"\",VLOOKUP(S156,漢字読み!$A$2:$O$506,8,0))","v":"あぶら"},{"$f":"IF(T$16=\"\",\"\",VLOOKUP(T156,漢字読み!$A$2:$O$506,8,0))","v":"いんじ"},null,"名前"]
[{"$f":"IF(A156=\"\",\"\",IF(VLOOKUP(A156,漢字書き!$A$2:$N$502,7,0)=0,\"\",VLOOKUP(A156,漢字書き!$A$2:$N$502,7,0)))","v":""},{"$f":"IF(B156=\"\",\"\",IF(VLOOKUP(B156,漢字書き!$A$2:$N$502,7,0)=0,\"\",VLOOKUP(B156,漢字書き!$A$2:$N$502,7,0)))","v":"しい"},{"$f":"IF(C156=\"\",\"\",IF(VLOOKUP(C156,漢字書き!$A$2:$N$502,7,0)=0,\"\",VLOOKUP(C156,漢字書き!$A$2:$N$502,7,0)))","v":"れ"},{"$f":"IF(D156=\"\",\"\",IF(VLOOKUP(D156,漢字書き!$A$2:$N$502,7,0)=0,\"\",VLOOKUP(D156,漢字書き!$A$2:$N$502,7,0)))","v":""},{"$f":"IF(E156=\"\",\"\",IF(VLOOKUP(E156,漢字書き!$A$2:$N$502,7,0)=0,\"\",VLOOKUP(E156,漢字書き!$A$2:$N$502,7,0)))","v":""},{"$f":"IF(F156=\"\",\"\",IF(VLOOKUP(F156,漢字書き!$A$2:$N$502,7,0)=0,\"\",VLOOKUP(F156,漢字書き!$A$2:$N$502,7,0)))","v":"中"},{"$f":"IF(G156=\"\",\"\",IF(VLOOKUP(G156,漢字書き!$A$2:$N$502,7,0)=0,\"\",VLOOKUP(G156,漢字書き!$A$2:$N$502,7,0)))","v":""},{"$f":"IF(H156=\"\",\"\",IF(VLOOKUP(H156,漢字書き!$A$2:$N$502,7,0)=0,\"\",VLOOKUP(H156,漢字書き!$A$2:$N$502,7,0)))","v":""},{"$f":"IF(I156=\"\",\"\",IF(VLOOKUP(I156,漢字書き!$A$2:$N$502,7,0)=0,\"\",VLOOKUP(I156,漢字書き!$A$2:$N$502,7,0)))","v":""},{"$f":"IF(J156=\"\",\"\",IF(VLOOKUP(J156,漢字書き!$A$2:$N$502,7,0)=0,\"\",VLOOKUP(J156,漢字書き!$A$2:$N$502,7,0)))","v":"る"},{"$f":"IF(K156=\"\",\"\",IF(VLOOKUP(K156,漢字読み!$A$2:$O$502,7,0)=0,\"\",VLOOKUP(K156,漢字読み!$A$2:$O$502,7,0)))","v":"ない"},{"$f":"IF(L156=\"\",\"\",IF(VLOOKUP(L156,漢字読み!$A$2:$O$502,7,0)=0,\"\",VLOOKUP(L156,漢字読み!$A$2:$O$502,7,0)))","v":""},{"$f":"IF(M156=\"\",\"\",IF(VLOOKUP(M156,漢字読み!$A$2:$O$502,7,0)=0,\"\",VLOOKUP(M156,漢字読み!$A$2:$O$502,7,0)))","v":""},{"$f":"IF(N156=\"\",\"\",IF(VLOOKUP(N156,漢字読み!$A$2:$O$502,7,0)=0,\"\",VLOOKUP(N156,漢字読み!$A$2:$O$502,7,0)))","v":"わう"},{"$f":"IF(O156=\"\",\"\",IF(VLOOKUP(O156,漢字読み!$A$2:$O$502,7,0)=0,\"\",VLOOKUP(O156,漢字読み!$A$2:$O$502,7,0)))","v":"える"},{"$f":"IF(P156=\"\",\"\",IF(VLOOKUP(P156,漢字読み!$A$2:$O$502,7,0)=0,\"\",VLOOKUP(P156,漢字読み!$A$2:$O$502,7,0)))","v":""},{"$f":"IF(Q156=\"\",\"\",IF(VLOOKUP(Q156,漢字読み!$A$2:$O$502,7,0)=0,\"\",VLOOKUP(Q156,漢字読み!$A$2:$O$502,7,0)))","v":""},{"$f":"IF(R156=\"\",\"\",IF(VLOOKUP(R156,漢字読み!$A$2:$O$502,7,0)=0,\"\",VLOOKUP(R156,漢字読み!$A$2:$O$502,7,0)))","v":""},{"$f":"IF(S156=\"\",\"\",IF(VLOOKUP(S156,漢字読み!$A$2:$O$502,7,0)=0,\"\",VLOOKUP(S156,漢字読み!$A$2:$O$502,7,0)))","v":""},{"$f":"IF(T156=\"\",\"\",IF(VLOOKUP(T156,漢字読み!$A$2:$O$502,7,0)=0,\"\",VLOOKUP(T156,漢字読み!$A$2:$O$502,7,0)))","v":"された"},null,null,"和歌山県教育委員会"]
[{"$f":"INDIRECT(\"'関数（書き）'!C\" & COLUMN(B$1)+SUM($AD$2:$AD162))","v":216},{"$f":"INDIRECT(\"'関数（書き）'!C\" & COLUMN(C$1)+SUM($AD$2:$AD162))","v":226},{"$f":"INDIRECT(\"'関数（書き）'!C\" & COLUMN(D$1)+SUM($AD$2:$AD162))","v":181},{"$f":"INDIRECT(\"'関数（書き）'!C\" & COLUMN(E$1)+SUM($AD$2:$AD162))","v":50},{"$f":"INDIRECT(\"'関数（書き）'!C\" & COLUMN(F$1)+SUM($AD$2:$AD162))","v":98},{"$f":"INDIRECT(\"'関数（書き）'!C\" & COLUMN(G$1)+SUM($AD$2:$AD162))","v":96},{"$f":"INDIRECT(\"'関数（書き）'!C\" & COLUMN(H$1)+SUM($AD$2:$AD162))","v":139},{"$f":"INDIRECT(\"'関数（書き）'!C\" & COLUMN(I$1)+SUM($AD$2:$AD162))","v":124},{"$f":"INDIRECT(\"'関数（書き）'!C\" & COLUMN(J$1)+SUM($AD$2:$AD162))","v":111},{"$f":"INDIRECT(\"'関数（書き）'!C\" & COLUMN(K$1)+SUM($AD$2:$AD162))","v":183},{"$f":"INDIRECT(\"'関数（読み）'!C\" & COLUMN(B$1)+SUM($AD$2:$AD162))","v":179},{"$f":"INDIRECT(\"'関数（読み）'!C\" & COLUMN(C$1)+SUM($AD$2:$AD162))","v":9},{"$f":"INDIRECT(\"'関数（読み）'!C\" & COLUMN(D$1)+SUM($AD$2:$AD162))","v":1},{"$f":"INDIRECT(\"'関数（読み）'!C\" & COLUMN(E$1)+SUM($AD$2:$AD162))","v":196},{"$f":"INDIRECT(\"'関数（読み）'!C\" & COLUMN(F$1)+SUM($AD$2:$AD162))","v":124},{"$f":"INDIRECT(\"'関数（読み）'!C\" & COLUMN(G$1)+SUM($AD$2:$AD162))","v":140},{"$f":"INDIRECT(\"'関数（読み）'!C\" & COLUMN(H$1)+SUM($AD$2:$AD162))","v":170},{"$f":"INDIRECT(\"'関数（読み）'!C\" & COLUMN(I$1)+SUM($AD$2:$AD162))","v":47},{"$f":"INDIRECT(\"'関数（読み）'!C\" & COLUMN(J$1)+SUM($AD$2:$AD162))","v":62},{"$f":"INDIRECT(\"'関数（読み）'!C\" & COLUMN(K$1)+SUM($AD$2:$AD162))","v":116}]
["⑳","⑲","⑱","⑰","⑯","⑮","⑭","⑬","⑫","⑪","⑩","⑨","⑧","⑦","⑥","⑤","④","③","②","①","次の［　　　　］の部分の漢字には読みがなをひらがなで書き、カタカナは漢字に直しなさい。",11,"「漢字の博士検定試験」練習問題　",null,null,null,null,null,"←",10,"問",{"$f":"AH147+1","v":161},"～",{"$f":"SUM($AD$2:$AD162)+10","v":170},"問まで",{"$f":"COUNTIF($A$1:$T$200,T163)","v":2}]
[{"$f":"IF(A161=\"\",\"\",VLOOKUP(A161,漢字書き!$A$2:$N$506,6,0))","v":"［ハタ］をふる"},{"$f":"IF(B161=\"\",\"\",VLOOKUP(B161,漢字書き!$A$2:$N$506,6,0))","v":"［クマモトケン］への旅行"},{"$f":"IF(C161=\"\",\"\",VLOOKUP(C161,漢字書き!$A$2:$N$506,6,0))","v":"［カモツ］列車"},{"$f":"IF(D161=\"\",\"\",VLOOKUP(D161,漢字書き!$A$2:$N$506,6,0))","v":"［フデ］を使って書く"},{"$f":"IF(E161=\"\",\"\",VLOOKUP(E161,漢字書き!$A$2:$N$506,6,0))","v":"[ジメン]を強くける"},{"$f":"IF(F161=\"\",\"\",VLOOKUP(F161,漢字書き!$A$2:$N$506,6,0))","v":"［イノチ］の重さ"},{"$f":"IF(G161=\"\",\"\",VLOOKUP(G161,漢字書き!$A$2:$N$506,6,0))","v":"［ミドリ］の草原"},{"$f":"IF(H161=\"\",\"\",VLOOKUP(H161,漢字書き!$A$2:$N$506,6,0))","v":"明るい［タイヨウ］"},{"$f":"IF(I161=\"\",\"\",VLOOKUP(I161,漢字書き!$A$2:$N$506,6,0))","v":"［ユウリョク］なせん手"},{"$f":"IF(J161=\"\",\"\",VLOOKUP(J161,漢字書き!$A$2:$N$506,6,0))","v":"［ホウカ］後のやくそく"},{"$f":"IF(K161=\"\",\"\",VLOOKUP(K161,漢字読み!$A$2:$O$506,6,0))","v":"タバコは［有害］だ"},{"$f":"IF(L161=\"\",\"\",VLOOKUP(L161,漢字読み!$A$2:$O$506,6,0))","v":"［動作］がはやい"},{"$f":"IF(M161=\"\",\"\",VLOOKUP(M161,漢字読み!$A$2:$O$506,6,0))","v":"ねっ［湯］に気をつける"},{"$f":"IF(N161=\"\",\"\",VLOOKUP(N161,漢字読み!$A$2:$O$506,6,0))","v":"［悲願］の一勝"},{"$f":"IF(O161=\"\",\"\",VLOOKUP(O161,漢字読み!$A$2:$O$506,6,0))","v":"田中［様］からお電話です"},{"$f":"IF(P161=\"\",\"\",VLOOKUP(P161,漢字読み!$A$2:$O$506,6,0))","v":"水泳の［練習］"},{"$f":"IF(Q161=\"\",\"\",VLOOKUP(Q161,漢字読み!$A$2:$O$506,6,0))","v":"［銀貨］をもらう"},{"$f":"IF(R161=\"\",\"\",VLOOKUP(R161,漢字読み!$A$2:$O$506,6,0))","v":"［氷］がとける"},{"$f":"IF(S161=\"\",\"\",VLOOKUP(S161,漢字読み!$A$2:$O$506,6,0))","v":"［部活動］がさかんだ"},{"$f":"IF(T161=\"\",\"\",VLOOKUP(T161,漢字読み!$A$2:$O$506,6,0))","v":"［洋服］を買いにいく"},null,"級"]
[null,null,null,null,null,null,null,null,null,null,null,null,null,null,null,null,null,null,null,null,null,"名前"]
[{"$f":"IF(A161=\"\",\"\",IF(VLOOKUP(A161,漢字書き!$A$2:$N$502,7,0)=0,\"\",VLOOKUP(A161,漢字書き!$A$2:$N$502,7,0)))","v":""},{"$f":"IF(B161=\"\",\"\",IF(VLOOKUP(B161,漢字書き!$A$2:$N$502,7,0)=0,\"\",VLOOKUP(B161,漢字書き!$A$2:$N$502,7,0)))","v":""},{"$f":"IF(C161=\"\",\"\",IF(VLOOKUP(C161,漢字書き!$A$2:$N$502,7,0)=0,\"\",VLOOKUP(C161,漢字書き!$A$2:$N$502,7,0)))","v":""},{"$f":"IF(D161=\"\",\"\",IF(VLOOKUP(D161,漢字書き!$A$2:$N$502,7,0)=0,\"\",VLOOKUP(D161,漢字書き!$A$2:$N$502,7,0)))","v":""},{"$f":"IF(E161=\"\",\"\",IF(VLOOKUP(E161,漢字書き!$A$2:$N$502,7,0)=0,\"\",VLOOKUP(E161,漢字書き!$A$2:$N$502,7,0)))","v":""},{"$f":"IF(F161=\"\",\"\",IF(VLOOKUP(F161,漢字書き!$A$2:$N$502,7,0)=0,\"\",VLOOKUP(F161,漢字書き!$A$2:$N$502,7,0)))","v":""},{"$f":"IF(G161=\"\",\"\",IF(VLOOKUP(G161,漢字書き!$A$2:$N$502,7,0)=0,\"\",VLOOKUP(G161,漢字書き!$A$2:$N$502,7,0)))","v":""},{"$f":"IF(H161=\"\",\"\",IF(VLOOKUP(H161,漢字書き!$A$2:$N$502,7,0)=0,\"\",VLOOKUP(H161,漢字書き!$A$2:$N$502,7,0)))","v":""},{"$f":"IF(I161=\"\",\"\",IF(VLOOKUP(I161,漢字書き!$A$2:$N$502,7,0)=0,\"\",VLOOKUP(I161,漢字書き!$A$2:$N$502,7,0)))","v":"な"},{"$f":"IF(J161=\"\",\"\",IF(VLOOKUP(J161,漢字書き!$A$2:$N$502,7,0)=0,\"\",VLOOKUP(J161,漢字書き!$A$2:$N$502,7,0)))","v":"後"},{"$f":"IF(K161=\"\",\"\",IF(VLOOKUP(K161,漢字読み!$A$2:$O$502,7,0)=0,\"\",VLOOKUP(K161,漢字読み!$A$2:$O$502,7,0)))","v":"だ"},{"$f":"IF(L161=\"\",\"\",IF(VLOOKUP(L161,漢字読み!$A$2:$O$502,7,0)=0,\"\",VLOOKUP(L161,漢字読み!$A$2:$O$502,7,0)))","v":""},{"$f":"IF(M161=\"\",\"\",IF(VLOOKUP(M161,漢字読み!$A$2:$O$502,7,0)=0,\"\",VLOOKUP(M161,漢字読み!$A$2:$O$502,7,0)))","v":""},{"$f":"IF(N161=\"\",\"\",IF(VLOOKUP(N161,漢字読み!$A$2:$O$502,7,0)=0,\"\",VLOOKUP(N161,漢字読み!$A$2:$O$502,7,0)))","v":""},{"$f":"IF(O161=\"\",\"\",IF(VLOOKUP(O161,漢字読み!$A$2:$O$502,7,0)=0,\"\",VLOOKUP(O161,漢字読み!$A$2:$O$502,7,0)))","v":""},{"$f":"IF(P161=\"\",\"\",IF(VLOOKUP(P161,漢字読み!$A$2:$O$502,7,0)=0,\"\",VLOOKUP(P161,漢字読み!$A$2:$O$502,7,0)))","v":""},{"$f":"IF(Q161=\"\",\"\",IF(VLOOKUP(Q161,漢字読み!$A$2:$O$502,7,0)=0,\"\",VLOOKUP(Q161,漢字読み!$A$2:$O$502,7,0)))","v":""},{"$f":"IF(R161=\"\",\"\",IF(VLOOKUP(R161,漢字読み!$A$2:$O$502,7,0)=0,\"\",VLOOKUP(R161,漢字読み!$A$2:$O$502,7,0)))","v":""},{"$f":"IF(S161=\"\",\"\",IF(VLOOKUP(S161,漢字読み!$A$2:$O$502,7,0)=0,\"\",VLOOKUP(S161,漢字読み!$A$2:$O$502,7,0)))","v":""},{"$f":"IF(T161=\"\",\"\",IF(VLOOKUP(T161,漢字読み!$A$2:$O$502,7,0)=0,\"\",VLOOKUP(T161,漢字読み!$A$2:$O$502,7,0)))","v":""},null,null,"和歌山県教育委員会"]
[{"$f":"INDIRECT(\"'関数（書き）'!C\" & COLUMN(B$1)+SUM($AD$2:$AD167))","v":119},{"$f":"INDIRECT(\"'関数（書き）'!C\" & COLUMN(C$1)+SUM($AD$2:$AD167))","v":38},{"$f":"INDIRECT(\"'関数（書き）'!C\" & COLUMN(D$1)+SUM($AD$2:$AD167))","v":53},{"$f":"INDIRECT(\"'関数（書き）'!C\" & COLUMN(E$1)+SUM($AD$2:$AD167))","v":145},{"$f":"INDIRECT(\"'関数（書き）'!C\" & COLUMN(F$1)+SUM($AD$2:$AD167))","v":142},{"$f":"INDIRECT(\"'関数（書き）'!C\" & COLUMN(G$1)+SUM($AD$2:$AD167))","v":187},{"$f":"INDIRECT(\"'関数（書き）'!C\" & COLUMN(H$1)+SUM($AD$2:$AD167))","v":180},{"$f":"INDIRECT(\"'関数（書き）'!C\" & COLUMN(I$1)+SUM($AD$2:$AD167))","v":198},{"$f":"INDIRECT(\"'関数（書き）'!C\" & COLUMN(J$1)+SUM($AD$2:$AD167))","v":29},{"$f":"INDIRECT(\"'関数（書き）'!C\" & COLUMN(K$1)+SUM($AD$2:$AD167))","v":166},{"$f":"INDIRECT(\"'関数（読み）'!C\" & COLUMN(B$1)+SUM($AD$2:$AD167))","v":29},{"$f":"INDIRECT(\"'関数（読み）'!C\" & COLUMN(C$1)+SUM($AD$2:$AD167))","v":213},{"$f":"INDIRECT(\"'関数（読み）'!C\" & COLUMN(D$1)+SUM($AD$2:$AD167))","v":94},{"$f":"INDIRECT(\"'関数（読み）'!C\" & COLUMN(E$1)+SUM($AD$2:$AD167))","v":152},{"$f":"INDIRECT(\"'関数（読み）'!C\" & COLUMN(F$1)+SUM($AD$2:$AD167))","v":91},{"$f":"INDIRECT(\"'関数（読み）'!C\" & COLUMN(G$1)+SUM($AD$2:$AD167))","v":3},{"$f":"INDIRECT(\"'関数（読み）'!C\" & COLUMN(H$1)+SUM($AD$2:$AD167))","v":127},{"$f":"INDIRECT(\"'関数（読み）'!C\" & COLUMN(I$1)+SUM($AD$2:$AD167))","v":188},{"$f":"INDIRECT(\"'関数（読み）'!C\" & COLUMN(J$1)+SUM($AD$2:$AD167))","v":109},{"$f":"INDIRECT(\"'関数（読み）'!C\" & COLUMN(K$1)+SUM($AD$2:$AD167))","v":113}]
["⑳","⑲","⑱","⑰","⑯","⑮","⑭","⑬","⑫","⑪","⑩","⑨","⑧","⑦","⑥","⑤","④","③","②","①","次の［　　　　］の部分の漢字には読みがなをひらがなで書き、カタカナは漢字に直しなさい。",11,"「漢字の博士検定試験」練習問題　",null,null,null,null,null,"←",10,"問",{"$f":"AH162+1","v":171},"～",{"$f":"SUM($AD$2:$AD167)+10","v":180},"問まで",{"$f":"COUNTIF($A$1:$T$200,T168)","v":2}]
[{"$f":"IF(A166=\"\",\"\",VLOOKUP(A166,漢字書き!$A$2:$N$506,6,0))","v":"［ヒツジ］のむれ"},{"$f":"IF(B166=\"\",\"\",VLOOKUP(B166,漢字書き!$A$2:$N$506,6,0))","v":"立て［イタ］に水で話す"},{"$f":"IF(C166=\"\",\"\",VLOOKUP(C166,漢字書き!$A$2:$N$506,6,0))","v":"［コオリ］がとける"},{"$f":"IF(D166=\"\",\"\",VLOOKUP(D166,漢字書き!$A$2:$N$506,6,0))","v":"［レンシュウ］にはげむ"},{"$f":"IF(E166=\"\",\"\",VLOOKUP(E166,漢字書き!$A$2:$N$506,6,0))","v":"お［レイ］を言う"},{"$f":"IF(F166=\"\",\"\",VLOOKUP(F166,漢字書き!$A$2:$N$506,6,0))","v":"機械を［カイ］りょうする"},{"$f":"IF(G166=\"\",\"\",VLOOKUP(G166,漢字書き!$A$2:$N$506,6,0))","v":"役わりを［ハ］たす"},{"$f":"IF(H166=\"\",\"\",VLOOKUP(H166,漢字書き!$A$2:$N$506,6,0))","v":"［カンゼン］に仕上げる"},{"$f":"IF(I166=\"\",\"\",VLOOKUP(I166,漢字書き!$A$2:$N$506,6,0))","v":"［ハッピョウ］会で歌を歌う"},{"$f":"IF(J166=\"\",\"\",VLOOKUP(J166,漢字書き!$A$2:$N$506,6,0))","v":"［シルシ］をつける"},{"$f":"IF(K166=\"\",\"\",VLOOKUP(K166,漢字読み!$A$2:$O$506,6,0))","v":"右の［反対］は左"},{"$f":"IF(L166=\"\",\"\",VLOOKUP(L166,漢字読み!$A$2:$O$506,6,0))","v":"［富］をたくわえる"},{"$f":"IF(M166=\"\",\"\",VLOOKUP(M166,漢字読み!$A$2:$O$506,6,0))","v":"［問］いつめる"},{"$f":"IF(N166=\"\",\"\",VLOOKUP(N166,漢字読み!$A$2:$O$506,6,0))","v":"[白衣]を着る"},{"$f":"IF(O166=\"\",\"\",VLOOKUP(O166,漢字読み!$A$2:$O$506,6,0))","v":"こんなんに[直面]する"},{"$f":"IF(P166=\"\",\"\",VLOOKUP(P166,漢字読み!$A$2:$O$506,6,0))","v":"ふろの［湯］を入れる"},{"$f":"IF(Q166=\"\",\"\",VLOOKUP(Q166,漢字読み!$A$2:$O$506,6,0))","v":"［落下］さんでおりる"},{"$f":"IF(R166=\"\",\"\",VLOOKUP(R166,漢字読み!$A$2:$O$506,6,0))","v":"兄は［外交官］だ"},{"$f":"IF(S166=\"\",\"\",VLOOKUP(S166,漢字読み!$A$2:$O$506,6,0))","v":"［遊園地］がにぎわう"},{"$f":"IF(T166=\"\",\"\",VLOOKUP(T166,漢字読み!$A$2:$O$506,6,0))","v":"［子羊］のむれ"},null,"級"]
[null,null,null,null,null,null,null,null,null,null,null,null,null,null,null,null,null,null,null,null,null,"名前"]
[{"$f":"IF(A166=\"\",\"\",IF(VLOOKUP(A166,漢字書き!$A$2:$N$502,7,0)=0,\"\",VLOOKUP(A166,漢字書き!$A$2:$N$502,7,0)))","v":""},{"$f":"IF(B166=\"\",\"\",IF(VLOOKUP(B166,漢字書き!$A$2:$N$502,7,0)=0,\"\",VLOOKUP(B166,漢字書き!$A$2:$N$502,7,0)))","v":""},{"$f":"IF(C166=\"\",\"\",IF(VLOOKUP(C166,漢字書き!$A$2:$N$502,7,0)=0,\"\",VLOOKUP(C166,漢字書き!$A$2:$N$502,7,0)))","v":""},{"$f":"IF(D166=\"\",\"\",IF(VLOOKUP(D166,漢字書き!$A$2:$N$502,7,0)=0,\"\",VLOOKUP(D166,漢字書き!$A$2:$N$502,7,0)))","v":""},{"$f":"IF(E166=\"\",\"\",IF(VLOOKUP(E166,漢字書き!$A$2:$N$502,7,0)=0,\"\",VLOOKUP(E166,漢字書き!$A$2:$N$502,7,0)))","v":""},{"$f":"IF(F166=\"\",\"\",IF(VLOOKUP(F166,漢字書き!$A$2:$N$502,7,0)=0,\"\",VLOOKUP(F166,漢字書き!$A$2:$N$502,7,0)))","v":"りょう"},{"$f":"IF(G166=\"\",\"\",IF(VLOOKUP(G166,漢字書き!$A$2:$N$502,7,0)=0,\"\",VLOOKUP(G166,漢字書き!$A$2:$N$502,7,0)))","v":"たす"},{"$f":"IF(H166=\"\",\"\",IF(VLOOKUP(H166,漢字書き!$A$2:$N$502,7,0)=0,\"\",VLOOKUP(H166,漢字書き!$A$2:$N$502,7,0)))","v":""},{"$f":"IF(I166=\"\",\"\",IF(VLOOKUP(I166,漢字書き!$A$2:$N$502,7,0)=0,\"\",VLOOKUP(I166,漢字書き!$A$2:$N$502,7,0)))","v":"会"},{"$f":"IF(J166=\"\",\"\",IF(VLOOKUP(J166,漢字書き!$A$2:$N$502,7,0)=0,\"\",VLOOKUP(J166,漢字書き!$A$2:$N$502,7,0)))","v":""},{"$f":"IF(K166=\"\",\"\",IF(VLOOKUP(K166,漢字読み!$A$2:$O$502,7,0)=0,\"\",VLOOKUP(K166,漢字読み!$A$2:$O$502,7,0)))","v":""},{"$f":"IF(L166=\"\",\"\",IF(VLOOKUP(L166,漢字読み!$A$2:$O$502,7,0)=0,\"\",VLOOKUP(L166,漢字読み!$A$2:$O$502,7,0)))","v":""},{"$f":"IF(M166=\"\",\"\",IF(VLOOKUP(M166,漢字読み!$A$2:$O$502,7,0)=0,\"\",VLOOKUP(M166,漢字読み!$A$2:$O$502,7,0)))","v":"い"},{"$f":"IF(N166=\"\",\"\",IF(VLOOKUP(N166,漢字読み!$A$2:$O$502,7,0)=0,\"\",VLOOKUP(N166,漢字読み!$A$2:$O$502,7,0)))","v":""},{"$f":"IF(O166=\"\",\"\",IF(VLOOKUP(O166,漢字読み!$A$2:$O$502,7,0)=0,\"\",VLOOKUP(O166,漢字読み!$A$2:$O$502,7,0)))","v":"する"},{"$f":"IF(P166=\"\",\"\",IF(VLOOKUP(P166,漢字読み!$A$2:$O$502,7,0)=0,\"\",VLOOKUP(P166,漢字読み!$A$2:$O$502,7,0)))","v":""},{"$f":"IF(Q166=\"\",\"\",IF(VLOOKUP(Q166,漢字読み!$A$2:$O$502,7,0)=0,\"\",VLOOKUP(Q166,漢字読み!$A$2:$O$502,7,0)))","v":"さん"},{"$f":"IF(R166=\"\",\"\",IF(VLOOKUP(R166,漢字読み!$A$2:$O$502,7,0)=0,\"\",VLOOKUP(R166,漢字読み!$A$2:$O$502,7,0)))","v":""},{"$f":"IF(S166=\"\",\"\",IF(VLOOKUP(S166,漢字読み!$A$2:$O$502,7,0)=0,\"\",VLOOKUP(S166,漢字読み!$A$2:$O$502,7,0)))","v":""},{"$f":"IF(T166=\"\",\"\",IF(VLOOKUP(T166,漢字読み!$A$2:$O$502,7,0)=0,\"\",VLOOKUP(T166,漢字読み!$A$2:$O$502,7,0)))","v":""},null,null,"和歌山県教育委員会"]
[{"$f":"A161","v":216},{"$f":"B161","v":226},{"$f":"C161","v":181},{"$f":"D161","v":50},{"$f":"E161","v":98},{"$f":"F161","v":96},{"$f":"G161","v":139},{"$f":"H161","v":124},{"$f":"I161","v":111},{"$f":"J161","v":183},{"$f":"K161","v":179},{"$f":"L161","v":9},{"$f":"M161","v":1},{"$f":"N161","v":196},{"$f":"O161","v":124},{"$f":"P161","v":140},{"$f":"Q161","v":170},{"$f":"R161","v":47},{"$f":"S161","v":62},{"$f":"T161","v":116}]
["⑳","⑲","⑱","⑰","⑯","⑮","⑭","⑬","⑫","⑪","⑩","⑨","⑧","⑦","⑥","⑤","④","③","②","①","次の［　　　　］の部分の漢字には読みがなをひらがなで書き、カタカナは漢字に直しなさい。",11,"「漢字の博士検定試験」練習問題　"]
[{"$f":"IF(A171=\"\",\"\",VLOOKUP(A171,漢字書き!$A$2:$N$506,6,0))","v":"［ハタ］をふる"},{"$f":"IF(B171=\"\",\"\",VLOOKUP(B171,漢字書き!$A$2:$N$506,6,0))","v":"［クマモトケン］への旅行"},{"$f":"IF(C171=\"\",\"\",VLOOKUP(C171,漢字書き!$A$2:$N$506,6,0))","v":"［カモツ］列車"},{"$f":"IF(D171=\"\",\"\",VLOOKUP(D171,漢字書き!$A$2:$N$506,6,0))","v":"［フデ］を使って書く"},{"$f":"IF(E171=\"\",\"\",VLOOKUP(E171,漢字書き!$A$2:$N$506,6,0))","v":"[ジメン]を強くける"},{"$f":"IF(F171=\"\",\"\",VLOOKUP(F171,漢字書き!$A$2:$N$506,6,0))","v":"［イノチ］の重さ"},{"$f":"IF(G171=\"\",\"\",VLOOKUP(G171,漢字書き!$A$2:$N$506,6,0))","v":"［ミドリ］の草原"},{"$f":"IF(H171=\"\",\"\",VLOOKUP(H171,漢字書き!$A$2:$N$506,6,0))","v":"明るい［タイヨウ］"},{"$f":"IF(I171=\"\",\"\",VLOOKUP(I171,漢字書き!$A$2:$N$506,6,0))","v":"［ユウリョク］なせん手"},{"$f":"IF(J171=\"\",\"\",VLOOKUP(J171,漢字書き!$A$2:$N$506,6,0))","v":"［ホウカ］後のやくそく"},{"$f":"IF(K171=\"\",\"\",VLOOKUP(K171,漢字読み!$A$2:$O$506,6,0))","v":"タバコは［有害］だ"},{"$f":"IF(L171=\"\",\"\",VLOOKUP(L171,漢字読み!$A$2:$O$506,6,0))","v":"［動作］がはやい"},{"$f":"IF(M171=\"\",\"\",VLOOKUP(M171,漢字読み!$A$2:$O$506,6,0))","v":"ねっ［湯］に気をつける"},{"$f":"IF(N171=\"\",\"\",VLOOKUP(N171,漢字読み!$A$2:$O$506,6,0))","v":"［悲願］の一勝"},{"$f":"IF(O171=\"\",\"\",VLOOKUP(O171,漢字読み!$A$2:$O$506,6,0))","v":"田中［様］からお電話です"},{"$f":"IF(P171=\"\",\"\",VLOOKUP(P171,漢字読み!$A$2:$O$506,6,0))","v":"水泳の［練習］"},{"$f":"IF(Q171=\"\",\"\",VLOOKUP(Q171,漢字読み!$A$2:$O$506,6,0))","v":"［銀貨］をもらう"},{"$f":"IF(R171=\"\",\"\",VLOOKUP(R171,漢字読み!$A$2:$O$506,6,0))","v":"［氷］がとける"},{"$f":"IF(S171=\"\",\"\",VLOOKUP(S171,漢字読み!$A$2:$O$506,6,0))","v":"［部活動］がさかんだ"},{"$f":"IF(T171=\"\",\"\",VLOOKUP(T171,漢字読み!$A$2:$O$506,6,0))","v":"［洋服］を買いにいく"},null,"級"]
[{"$f":"IF(A$11=\"\",\"\",VLOOKUP(A171,漢字書き!$A$2:$O$506,8,0))","v":"旗"},{"$f":"IF(B$11=\"\",\"\",VLOOKUP(B171,漢字書き!$A$2:$O$506,8,0))","v":"熊本県"},{"$f":"IF(C$11=\"\",\"\",VLOOKUP(C171,漢字書き!$A$2:$O$506,8,0))","v":"貨物"},{"$f":"IF(D$11=\"\",\"\",VLOOKUP(D171,漢字書き!$A$2:$O$506,8,0))","v":"筆者"},{"$f":"IF(E$11=\"\",\"\",VLOOKUP(E171,漢字書き!$A$2:$O$506,8,0))","v":"地面"},{"$f":"IF(F$11=\"\",\"\",VLOOKUP(F171,漢字書き!$A$2:$O$506,8,0))","v":"命"},{"$f":"IF(G$11=\"\",\"\",VLOOKUP(G171,漢字書き!$A$2:$O$506,8,0))","v":"緑"},{"$f":"IF(H$11=\"\",\"\",VLOOKUP(H171,漢字書き!$A$2:$O$506,8,0))","v":"太陽"},{"$f":"IF(I$11=\"\",\"\",VLOOKUP(I171,漢字書き!$A$2:$O$506,8,0))","v":"優良"},{"$f":"IF(J$11=\"\",\"\",VLOOKUP(J171,漢字書き!$A$2:$O$506,8,0))","v":"放課"},{"$f":"IF(K$11=\"\",\"\",VLOOKUP(K171,漢字読み!$A$2:$O$506,8,0))","v":"ゆうがい"},{"$f":"IF(L$11=\"\",\"\",VLOOKUP(L171,漢字読み!$A$2:$O$506,8,0))","v":"どうさ"},{"$f":"IF(M$11=\"\",\"\",VLOOKUP(M171,漢字読み!$A$2:$O$506,8,0))","v":"とう"},{"$f":"IF(N$11=\"\",\"\",VLOOKUP(N171,漢字読み!$A$2:$O$506,8,0))","v":"ひがん"},{"$f":"IF(O$11=\"\",\"\",VLOOKUP(O171,漢字読み!$A$2:$O$506,8,0))","v":"さま"},{"$f":"IF(P$11=\"\",\"\",VLOOKUP(P171,漢字読み!$A$2:$O$506,8,0))","v":"れんしゅう"},{"$f":"IF(Q$11=\"\",\"\",VLOOKUP(Q171,漢字読み!$A$2:$O$506,8,0))","v":"ぎんか"},{"$f":"IF(R$11=\"\",\"\",VLOOKUP(R171,漢字読み!$A$2:$O$506,8,0))","v":"こおり"},{"$f":"IF(S$11=\"\",\"\",VLOOKUP(S171,漢字読み!$A$2:$O$506,8,0))","v":"ぶかつどう"},{"$f":"IF(T$11=\"\",\"\",VLOOKUP(T171,漢字読み!$A$2:$O$506,8,0))","v":"ようふく"},null,"名前"]
[{"$f":"IF(A171=\"\",\"\",IF(VLOOKUP(A171,漢字書き!$A$2:$N$502,7,0)=0,\"\",VLOOKUP(A171,漢字書き!$A$2:$N$502,7,0)))","v":""},{"$f":"IF(B171=\"\",\"\",IF(VLOOKUP(B171,漢字書き!$A$2:$N$502,7,0)=0,\"\",VLOOKUP(B171,漢字書き!$A$2:$N$502,7,0)))","v":""},{"$f":"IF(C171=\"\",\"\",IF(VLOOKUP(C171,漢字書き!$A$2:$N$502,7,0)=0,\"\",VLOOKUP(C171,漢字書き!$A$2:$N$502,7,0)))","v":""},{"$f":"IF(D171=\"\",\"\",IF(VLOOKUP(D171,漢字書き!$A$2:$N$502,7,0)=0,\"\",VLOOKUP(D171,漢字書き!$A$2:$N$502,7,0)))","v":""},{"$f":"IF(E171=\"\",\"\",IF(VLOOKUP(E171,漢字書き!$A$2:$N$502,7,0)=0,\"\",VLOOKUP(E171,漢字書き!$A$2:$N$502,7,0)))","v":""},{"$f":"IF(F171=\"\",\"\",IF(VLOOKUP(F171,漢字書き!$A$2:$N$502,7,0)=0,\"\",VLOOKUP(F171,漢字書き!$A$2:$N$502,7,0)))","v":""},{"$f":"IF(G171=\"\",\"\",IF(VLOOKUP(G171,漢字書き!$A$2:$N$502,7,0)=0,\"\",VLOOKUP(G171,漢字書き!$A$2:$N$502,7,0)))","v":""},{"$f":"IF(H171=\"\",\"\",IF(VLOOKUP(H171,漢字書き!$A$2:$N$502,7,0)=0,\"\",VLOOKUP(H171,漢字書き!$A$2:$N$502,7,0)))","v":""},{"$f":"IF(I171=\"\",\"\",IF(VLOOKUP(I171,漢字書き!$A$2:$N$502,7,0)=0,\"\",VLOOKUP(I171,漢字書き!$A$2:$N$502,7,0)))","v":"な"},{"$f":"IF(J171=\"\",\"\",IF(VLOOKUP(J171,漢字書き!$A$2:$N$502,7,0)=0,\"\",VLOOKUP(J171,漢字書き!$A$2:$N$502,7,0)))","v":"後"},{"$f":"IF(K171=\"\",\"\",IF(VLOOKUP(K171,漢字読み!$A$2:$O$502,7,0)=0,\"\",VLOOKUP(K171,漢字読み!$A$2:$O$502,7,0)))","v":"だ"},{"$f":"IF(L171=\"\",\"\",IF(VLOOKUP(L171,漢字読み!$A$2:$O$502,7,0)=0,\"\",VLOOKUP(L171,漢字読み!$A$2:$O$502,7,0)))","v":""},{"$f":"IF(M171=\"\",\"\",IF(VLOOKUP(M171,漢字読み!$A$2:$O$502,7,0)=0,\"\",VLOOKUP(M171,漢字読み!$A$2:$O$502,7,0)))","v":""},{"$f":"IF(N171=\"\",\"\",IF(VLOOKUP(N171,漢字読み!$A$2:$O$502,7,0)=0,\"\",VLOOKUP(N171,漢字読み!$A$2:$O$502,7,0)))","v":""},{"$f":"IF(O171=\"\",\"\",IF(VLOOKUP(O171,漢字読み!$A$2:$O$502,7,0)=0,\"\",VLOOKUP(O171,漢字読み!$A$2:$O$502,7,0)))","v":""},{"$f":"IF(P171=\"\",\"\",IF(VLOOKUP(P171,漢字読み!$A$2:$O$502,7,0)=0,\"\",VLOOKUP(P171,漢字読み!$A$2:$O$502,7,0)))","v":""},{"$f":"IF(Q171=\"\",\"\",IF(VLOOKUP(Q171,漢字読み!$A$2:$O$502,7,0)=0,\"\",VLOOKUP(Q171,漢字読み!$A$2:$O$502,7,0)))","v":""},{"$f":"IF(R171=\"\",\"\",IF(VLOOKUP(R171,漢字読み!$A$2:$O$502,7,0)=0,\"\",VLOOKUP(R171,漢字読み!$A$2:$O$502,7,0)))","v":""},{"$f":"IF(S171=\"\",\"\",IF(VLOOKUP(S171,漢字読み!$A$2:$O$502,7,0)=0,\"\",VLOOKUP(S171,漢字読み!$A$2:$O$502,7,0)))","v":""},{"$f":"IF(T171=\"\",\"\",IF(VLOOKUP(T171,漢字読み!$A$2:$O$502,7,0)=0,\"\",VLOOKUP(T171,漢字読み!$A$2:$O$502,7,0)))","v":""},null,null,"和歌山県教育委員会"]
[{"$f":"A166","v":119},{"$f":"B166","v":38},{"$f":"C166","v":53},{"$f":"D166","v":145},{"$f":"E166","v":142},{"$f":"F166","v":187},{"$f":"G166","v":180},{"$f":"H166","v":198},{"$f":"I166","v":29},{"$f":"J166","v":166},{"$f":"K166","v":29},{"$f":"L166","v":213},{"$f":"M166","v":94},{"$f":"N166","v":152},{"$f":"O166","v":91},{"$f":"P166","v":3},{"$f":"Q166","v":127},{"$f":"R166","v":188},{"$f":"S166","v":109},{"$f":"T166","v":113}]
["⑳","⑲","⑱","⑰","⑯","⑮","⑭","⑬","⑫","⑪","⑩","⑨","⑧","⑦","⑥","⑤","④","③","②","①","次の［　　　　］の部分の漢字には読みがなをひらがなで書き、カタカナは漢字に直しなさい。",11,"「漢字の博士検定試験」練習問題　"]
[{"$f":"IF(A176=\"\",\"\",VLOOKUP(A176,漢字書き!$A$2:$N$506,6,0))","v":"［ヒツジ］のむれ"},{"$f":"IF(B176=\"\",\"\",VLOOKUP(B176,漢字書き!$A$2:$N$506,6,0))","v":"立て［イタ］に水で話す"},{"$f":"IF(C176=\"\",\"\",VLOOKUP(C176,漢字書き!$A$2:$N$506,6,0))","v":"［コオリ］がとける"},{"$f":"IF(D176=\"\",\"\",VLOOKUP(D176,漢字書き!$A$2:$N$506,6,0))","v":"［レンシュウ］にはげむ"},{"$f":"IF(E176=\"\",\"\",VLOOKUP(E176,漢字書き!$A$2:$N$506,6,0))","v":"お［レイ］を言う"},{"$f":"IF(F176=\"\",\"\",VLOOKUP(F176,漢字書き!$A$2:$N$506,6,0))","v":"機械を［カイ］りょうする"},{"$f":"IF(G176=\"\",\"\",VLOOKUP(G176,漢字書き!$A$2:$N$506,6,0))","v":"役わりを［ハ］たす"},{"$f":"IF(H176=\"\",\"\",VLOOKUP(H176,漢字書き!$A$2:$N$506,6,0))","v":"［カンゼン］に仕上げる"},{"$f":"IF(I176=\"\",\"\",VLOOKUP(I176,漢字書き!$A$2:$N$506,6,0))","v":"［ハッピョウ］会で歌を歌う"},{"$f":"IF(J176=\"\",\"\",VLOOKUP(J176,漢字書き!$A$2:$N$506,6,0))","v":"［シルシ］をつける"},{"$f":"IF(K176=\"\",\"\",VLOOKUP(K176,漢字読み!$A$2:$O$506,6,0))","v":"右の［反対］は左"},{"$f":"IF(L176=\"\",\"\",VLOOKUP(L176,漢字読み!$A$2:$O$506,6,0))","v":"［富］をたくわえる"},{"$f":"IF(M176=\"\",\"\",VLOOKUP(M176,漢字読み!$A$2:$O$506,6,0))","v":"［問］いつめる"},{"$f":"IF(N176=\"\",\"\",VLOOKUP(N176,漢字読み!$A$2:$O$506,6,0))","v":"[白衣]を着る"},{"$f":"IF(O176=\"\",\"\",VLOOKUP(O176,漢字読み!$A$2:$O$506,6,0))","v":"こんなんに[直面]する"},{"$f":"IF(P176=\"\",\"\",VLOOKUP(P176,漢字読み!$A$2:$O$506,6,0))","v":"ふろの［湯］を入れる"},{"$f":"IF(Q176=\"\",\"\",VLOOKUP(Q176,漢字読み!$A$2:$O$506,6,0))","v":"［落下］さんでおりる"},{"$f":"IF(R176=\"\",\"\",VLOOKUP(R176,漢字読み!$A$2:$O$506,6,0))","v":"兄は［外交官］だ"},{"$f":"IF(S176=\"\",\"\",VLOOKUP(S176,漢字読み!$A$2:$O$506,6,0))","v":"［遊園地］がにぎわう"},{"$f":"IF(T176=\"\",\"\",VLOOKUP(T176,漢字読み!$A$2:$O$506,6,0))","v":"［子羊］のむれ"},null,"級"]
[{"$f":"IF(A$16=\"\",\"\",VLOOKUP(A176,漢字書き!$A$2:$O$506,8,0))","v":"羊"},{"$f":"IF(B$16=\"\",\"\",VLOOKUP(B176,漢字書き!$A$2:$O$506,8,0))","v":"板"},{"$f":"IF(C$16=\"\",\"\",VLOOKUP(C176,漢字書き!$A$2:$O$506,8,0))","v":"氷"},{"$f":"IF(D$16=\"\",\"\",VLOOKUP(D176,漢字書き!$A$2:$O$506,8,0))","v":"練習"},{"$f":"IF(E$16=\"\",\"\",VLOOKUP(E176,漢字書き!$A$2:$O$506,8,0))","v":"礼"},{"$f":"IF(F$16=\"\",\"\",VLOOKUP(F176,漢字書き!$A$2:$O$506,8,0))","v":"改"},{"$f":"IF(G$16=\"\",\"\",VLOOKUP(G176,漢字書き!$A$2:$O$506,8,0))","v":"果"},{"$f":"IF(H$16=\"\",\"\",VLOOKUP(H176,漢字書き!$A$2:$O$506,8,0))","v":"完全"},{"$f":"IF(I$16=\"\",\"\",VLOOKUP(I176,漢字書き!$A$2:$O$506,8,0))","v":"発表"},{"$f":"IF(J$16=\"\",\"\",VLOOKUP(J176,漢字書き!$A$2:$O$506,8,0))","v":"印"},{"$f":"IF(K$16=\"\",\"\",VLOOKUP(K176,漢字読み!$A$2:$O$506,8,0))","v":"はんたい"},{"$f":"IF(L$16=\"\",\"\",VLOOKUP(L176,漢字読み!$A$2:$O$506,8,0))","v":"とみ"},{"$f":"IF(M$16=\"\",\"\",VLOOKUP(M176,漢字読み!$A$2:$O$506,8,0))","v":"と"},{"$f":"IF(N$16=\"\",\"\",VLOOKUP(N176,漢字読み!$A$2:$O$506,8,0))","v":"はくい"},{"$f":"IF(O$16=\"\",\"\",VLOOKUP(O176,漢字読み!$A$2:$O$506,8,0))","v":"ちょくめん"},{"$f":"IF(P$16=\"\",\"\",VLOOKUP(P176,漢字読み!$A$2:$O$506,8,0))","v":"ゆ"},{"$f":"IF(Q$16=\"\",\"\",VLOOKUP(Q176,漢字読み!$A$2:$O$506,8,0))","v":"らっか"},{"$f":"IF(R$16=\"\",\"\",VLOOKUP(R176,漢字読み!$A$2:$O$506,8,0))","v":"がいこうかん"},{"$f":"IF(S$16=\"\",\"\",VLOOKUP(S176,漢字読み!$A$2:$O$506,8,0))","v":"ゆうえんち"},{"$f":"IF(T$16=\"\",\"\",VLOOKUP(T176,漢字読み!$A$2:$O$506,8,0))","v":"こひつじ"},null,"名前"]
[{"$f":"IF(A176=\"\",\"\",IF(VLOOKUP(A176,漢字書き!$A$2:$N$502,7,0)=0,\"\",VLOOKUP(A176,漢字書き!$A$2:$N$502,7,0)))","v":""},{"$f":"IF(B176=\"\",\"\",IF(VLOOKUP(B176,漢字書き!$A$2:$N$502,7,0)=0,\"\",VLOOKUP(B176,漢字書き!$A$2:$N$502,7,0)))","v":""},{"$f":"IF(C176=\"\",\"\",IF(VLOOKUP(C176,漢字書き!$A$2:$N$502,7,0)=0,\"\",VLOOKUP(C176,漢字書き!$A$2:$N$502,7,0)))","v":""},{"$f":"IF(D176=\"\",\"\",IF(VLOOKUP(D176,漢字書き!$A$2:$N$502,7,0)=0,\"\",VLOOKUP(D176,漢字書き!$A$2:$N$502,7,0)))","v":""},{"$f":"IF(E176=\"\",\"\",IF(VLOOKUP(E176,漢字書き!$A$2:$N$502,7,0)=0,\"\",VLOOKUP(E176,漢字書き!$A$2:$N$502,7,0)))","v":""},{"$f":"IF(F176=\"\",\"\",IF(VLOOKUP(F176,漢字書き!$A$2:$N$502,7,0)=0,\"\",VLOOKUP(F176,漢字書き!$A$2:$N$502,7,0)))","v":"りょう"},{"$f":"IF(G176=\"\",\"\",IF(VLOOKUP(G176,漢字書き!$A$2:$N$502,7,0)=0,\"\",VLOOKUP(G176,漢字書き!$A$2:$N$502,7,0)))","v":"たす"},{"$f":"IF(H176=\"\",\"\",IF(VLOOKUP(H176,漢字書き!$A$2:$N$502,7,0)=0,\"\",VLOOKUP(H176,漢字書き!$A$2:$N$502,7,0)))","v":""},{"$f":"IF(I176=\"\",\"\",IF(VLOOKUP(I176,漢字書き!$A$2:$N$502,7,0)=0,\"\",VLOOKUP(I176,漢字書き!$A$2:$N$502,7,0)))","v":"会"},{"$f":"IF(J176=\"\",\"\",IF(VLOOKUP(J176,漢字書き!$A$2:$N$502,7,0)=0,\"\",VLOOKUP(J176,漢字書き!$A$2:$N$502,7,0)))","v":""},{"$f":"IF(K176=\"\",\"\",IF(VLOOKUP(K176,漢字読み!$A$2:$O$502,7,0)=0,\"\",VLOOKUP(K176,漢字読み!$A$2:$O$502,7,0)))","v":""},{"$f":"IF(L176=\"\",\"\",IF(VLOOKUP(L176,漢字読み!$A$2:$O$502,7,0)=0,\"\",VLOOKUP(L176,漢字読み!$A$2:$O$502,7,0)))","v":""},{"$f":"IF(M176=\"\",\"\",IF(VLOOKUP(M176,漢字読み!$A$2:$O$502,7,0)=0,\"\",VLOOKUP(M176,漢字読み!$A$2:$O$502,7,0)))","v":"い"},{"$f":"IF(N176=\"\",\"\",IF(VLOOKUP(N176,漢字読み!$A$2:$O$502,7,0)=0,\"\",VLOOKUP(N176,漢字読み!$A$2:$O$502,7,0)))","v":""},{"$f":"IF(O176=\"\",\"\",IF(VLOOKUP(O176,漢字読み!$A$2:$O$502,7,0)=0,\"\",VLOOKUP(O176,漢字読み!$A$2:$O$502,7,0)))","v":"する"},{"$f":"IF(P176=\"\",\"\",IF(VLOOKUP(P176,漢字読み!$A$2:$O$502,7,0)=0,\"\",VLOOKUP(P176,漢字読み!$A$2:$O$502,7,0)))","v":""},{"$f":"IF(Q176=\"\",\"\",IF(VLOOKUP(Q176,漢字読み!$A$2:$O$502,7,0)=0,\"\",VLOOKUP(Q176,漢字読み!$A$2:$O$502,7,0)))","v":"さん"},{"$f":"IF(R176=\"\",\"\",IF(VLOOKUP(R176,漢字読み!$A$2:$O$502,7,0)=0,\"\",VLOOKUP(R176,漢字読み!$A$2:$O$502,7,0)))","v":""},{"$f":"IF(S176=\"\",\"\",IF(VLOOKUP(S176,漢字読み!$A$2:$O$502,7,0)=0,\"\",VLOOKUP(S176,漢字読み!$A$2:$O$502,7,0)))","v":""},{"$f":"IF(T176=\"\",\"\",IF(VLOOKUP(T176,漢字読み!$A$2:$O$502,7,0)=0,\"\",VLOOKUP(T176,漢字読み!$A$2:$O$502,7,0)))","v":""},null,null,"和歌山県教育委員会"]
[{"$f":"INDIRECT(\"'関数（書き）'!C\" & COLUMN(B$1)+SUM($AD$2:$AD182))","v":121},{"$f":"INDIRECT(\"'関数（書き）'!C\" & COLUMN(C$1)+SUM($AD$2:$AD182))","v":128},{"$f":"INDIRECT(\"'関数（書き）'!C\" & COLUMN(D$1)+SUM($AD$2:$AD182))","v":106},{"$f":"INDIRECT(\"'関数（書き）'!C\" & COLUMN(E$1)+SUM($AD$2:$AD182))","v":91},{"$f":"INDIRECT(\"'関数（書き）'!C\" & COLUMN(F$1)+SUM($AD$2:$AD182))","v":22},{"$f":"INDIRECT(\"'関数（書き）'!C\" & COLUMN(G$1)+SUM($AD$2:$AD182))","v":17},{"$f":"INDIRECT(\"'関数（書き）'!C\" & COLUMN(H$1)+SUM($AD$2:$AD182))","v":131},{"$f":"INDIRECT(\"'関数（書き）'!C\" & COLUMN(I$1)+SUM($AD$2:$AD182))","v":209},{"$f":"INDIRECT(\"'関数（書き）'!C\" & COLUMN(J$1)+SUM($AD$2:$AD182))","v":9},{"$f":"INDIRECT(\"'関数（書き）'!C\" & COLUMN(K$1)+SUM($AD$2:$AD182))","v":207},{"$f":"INDIRECT(\"'関数（読み）'!C\" & COLUMN(B$1)+SUM($AD$2:$AD182))","v":43},{"$f":"INDIRECT(\"'関数（読み）'!C\" & COLUMN(C$1)+SUM($AD$2:$AD182))","v":45},{"$f":"INDIRECT(\"'関数（読み）'!C\" & COLUMN(D$1)+SUM($AD$2:$AD182))","v":206},{"$f":"INDIRECT(\"'関数（読み）'!C\" & COLUMN(E$1)+SUM($AD$2:$AD182))","v":71},{"$f":"INDIRECT(\"'関数（読み）'!C\" & COLUMN(F$1)+SUM($AD$2:$AD182))","v":93},{"$f":"INDIRECT(\"'関数（読み）'!C\" & COLUMN(G$1)+SUM($AD$2:$AD182))","v":148},{"$f":"INDIRECT(\"'関数（読み）'!C\" & COLUMN(H$1)+SUM($AD$2:$AD182))","v":98},{"$f":"INDIRECT(\"'関数（読み）'!C\" & COLUMN(I$1)+SUM($AD$2:$AD182))","v":31},{"$f":"INDIRECT(\"'関数（読み）'!C\" & COLUMN(J$1)+SUM($AD$2:$AD182))","v":76},{"$f":"INDIRECT(\"'関数（読み）'!C\" & COLUMN(K$1)+SUM($AD$2:$AD182))","v":13}]
["⑳","⑲","⑱","⑰","⑯","⑮","⑭","⑬","⑫","⑪","⑩","⑨","⑧","⑦","⑥","⑤","④","③","②","①","次の［　　　　］の部分の漢字には読みがなをひらがなで書き、カタカナは漢字に直しなさい。",11,"「漢字の博士検定試験」練習問題　",null,null,null,null,null,"←",10,"問",{"$f":"AH167+1","v":181},"～",{"$f":"SUM($AD$2:$AD182)+10","v":190},"問まで",{"$f":"COUNTIF($A$1:$T$200,T183)","v":2}]
[{"$f":"IF(A181=\"\",\"\",VLOOKUP(A181,漢字書き!$A$2:$N$506,6,0))","v":"［ラクヨウ］のきせつ"},{"$f":"IF(B181=\"\",\"\",VLOOKUP(B181,漢字書き!$A$2:$N$506,6,0))","v":"［ラッカ］した所"},{"$f":"IF(C181=\"\",\"\",VLOOKUP(C181,漢字書き!$A$2:$N$506,6,0))","v":"［クスリ］を飲む"},{"$f":"IF(D181=\"\",\"\",VLOOKUP(D181,漢字書き!$A$2:$N$506,6,0))","v":"かぜ［ギミ］になっている"},{"$f":"IF(E181=\"\",\"\",VLOOKUP(E181,漢字書き!$A$2:$N$506,6,0))","v":"［ニバイ］の量になる"},{"$f":"IF(F181=\"\",\"\",VLOOKUP(F181,漢字書き!$A$2:$N$506,6,0))","v":"［デンパ］がとどく"},{"$f":"IF(G181=\"\",\"\",VLOOKUP(G181,漢字書き!$A$2:$N$506,6,0))","v":"川の［カリュウ］"},{"$f":"IF(H181=\"\",\"\",VLOOKUP(H181,漢字書き!$A$2:$N$506,6,0))","v":"強く［ネガ］う"},{"$f":"IF(I181=\"\",\"\",VLOOKUP(I181,漢字書き!$A$2:$N$506,6,0))","v":"［ウンドウ］会に出る"},{"$f":"IF(J181=\"\",\"\",VLOOKUP(J181,漢字書き!$A$2:$N$506,6,0))","v":"［カンキャク］のはく手"},{"$f":"IF(K181=\"\",\"\",VLOOKUP(K181,漢字読み!$A$2:$O$506,6,0))","v":"［筆者］の考え"},{"$f":"IF(L181=\"\",\"\",VLOOKUP(L181,漢字読み!$A$2:$O$506,6,0))","v":"［筆］を使う"},{"$f":"IF(M181=\"\",\"\",VLOOKUP(M181,漢字読み!$A$2:$O$506,6,0))","v":"［食器］をあらう"},{"$f":"IF(N181=\"\",\"\",VLOOKUP(N181,漢字読み!$A$2:$O$506,6,0))","v":"人間は［平等］だ"},{"$f":"IF(O181=\"\",\"\",VLOOKUP(O181,漢字読み!$A$2:$O$506,6,0))","v":"［問］いに答える"},{"$f":"IF(P181=\"\",\"\",VLOOKUP(P181,漢字読み!$A$2:$O$506,6,0))","v":"それは［名案］だ"},{"$f":"IF(Q181=\"\",\"\",VLOOKUP(Q181,漢字読み!$A$2:$O$506,6,0))","v":"［役者］になりたい"},{"$f":"IF(R181=\"\",\"\",VLOOKUP(R181,漢字読み!$A$2:$O$506,6,0))","v":"[坂道]を下る"},{"$f":"IF(S181=\"\",\"\",VLOOKUP(S181,漢字読み!$A$2:$O$506,6,0))","v":"［返答］を待つ"},{"$f":"IF(T181=\"\",\"\",VLOOKUP(T181,漢字読み!$A$2:$O$506,6,0))","v":"［農家］の庭先"},null,"級"]
[null,null,null,null,null,null,null,null,null,null,null,null,null,null,null,null,null,null,null,null,null,"名前"]
[{"$f":"IF(A181=\"\",\"\",IF(VLOOKUP(A181,漢字書き!$A$2:$N$502,7,0)=0,\"\",VLOOKUP(A181,漢字書き!$A$2:$N$502,7,0)))","v":""},{"$f":"IF(B181=\"\",\"\",IF(VLOOKUP(B181,漢字書き!$A$2:$N$502,7,0)=0,\"\",VLOOKUP(B181,漢字書き!$A$2:$N$502,7,0)))","v":"した"},{"$f":"IF(C181=\"\",\"\",IF(VLOOKUP(C181,漢字書き!$A$2:$N$502,7,0)=0,\"\",VLOOKUP(C181,漢字書き!$A$2:$N$502,7,0)))","v":""},{"$f":"IF(D181=\"\",\"\",IF(VLOOKUP(D181,漢字書き!$A$2:$N$502,7,0)=0,\"\",VLOOKUP(D181,漢字書き!$A$2:$N$502,7,0)))","v":""},{"$f":"IF(E181=\"\",\"\",IF(VLOOKUP(E181,漢字書き!$A$2:$N$502,7,0)=0,\"\",VLOOKUP(E181,漢字書き!$A$2:$N$502,7,0)))","v":""},{"$f":"IF(F181=\"\",\"\",IF(VLOOKUP(F181,漢字書き!$A$2:$N$502,7,0)=0,\"\",VLOOKUP(F181,漢字書き!$A$2:$N$502,7,0)))","v":""},{"$f":"IF(G181=\"\",\"\",IF(VLOOKUP(G181,漢字書き!$A$2:$N$502,7,0)=0,\"\",VLOOKUP(G181,漢字書き!$A$2:$N$502,7,0)))","v":""},{"$f":"IF(H181=\"\",\"\",IF(VLOOKUP(H181,漢字書き!$A$2:$N$502,7,0)=0,\"\",VLOOKUP(H181,漢字書き!$A$2:$N$502,7,0)))","v":"う"},{"$f":"IF(I181=\"\",\"\",IF(VLOOKUP(I181,漢字書き!$A$2:$N$502,7,0)=0,\"\",VLOOKUP(I181,漢字書き!$A$2:$N$502,7,0)))","v":"会"},{"$f":"IF(J181=\"\",\"\",IF(VLOOKUP(J181,漢字書き!$A$2:$N$502,7,0)=0,\"\",VLOOKUP(J181,漢字書き!$A$2:$N$502,7,0)))","v":""},{"$f":"IF(K181=\"\",\"\",IF(VLOOKUP(K181,漢字読み!$A$2:$O$502,7,0)=0,\"\",VLOOKUP(K181,漢字読み!$A$2:$O$502,7,0)))","v":""},{"$f":"IF(L181=\"\",\"\",IF(VLOOKUP(L181,漢字読み!$A$2:$O$502,7,0)=0,\"\",VLOOKUP(L181,漢字読み!$A$2:$O$502,7,0)))","v":""},{"$f":"IF(M181=\"\",\"\",IF(VLOOKUP(M181,漢字読み!$A$2:$O$502,7,0)=0,\"\",VLOOKUP(M181,漢字読み!$A$2:$O$502,7,0)))","v":""},{"$f":"IF(N181=\"\",\"\",IF(VLOOKUP(N181,漢字読み!$A$2:$O$502,7,0)=0,\"\",VLOOKUP(N181,漢字読み!$A$2:$O$502,7,0)))","v":""},{"$f":"IF(O181=\"\",\"\",IF(VLOOKUP(O181,漢字読み!$A$2:$O$502,7,0)=0,\"\",VLOOKUP(O181,漢字読み!$A$2:$O$502,7,0)))","v":"い"},{"$f":"IF(P181=\"\",\"\",IF(VLOOKUP(P181,漢字読み!$A$2:$O$502,7,0)=0,\"\",VLOOKUP(P181,漢字読み!$A$2:$O$502,7,0)))","v":""},{"$f":"IF(Q181=\"\",\"\",IF(VLOOKUP(Q181,漢字読み!$A$2:$O$502,7,0)=0,\"\",VLOOKUP(Q181,漢字読み!$A$2:$O$502,7,0)))","v":""},{"$f":"IF(R181=\"\",\"\",IF(VLOOKUP(R181,漢字読み!$A$2:$O$502,7,0)=0,\"\",VLOOKUP(R181,漢字読み!$A$2:$O$502,7,0)))","v":""},{"$f":"IF(S181=\"\",\"\",IF(VLOOKUP(S181,漢字読み!$A$2:$O$502,7,0)=0,\"\",VLOOKUP(S181,漢字読み!$A$2:$O$502,7,0)))","v":""},{"$f":"IF(T181=\"\",\"\",IF(VLOOKUP(T181,漢字読み!$A$2:$O$502,7,0)=0,\"\",VLOOKUP(T181,漢字読み!$A$2:$O$502,7,0)))","v":""},null,null,"和歌山県教育委員会"]
[{"$f":"INDIRECT(\"'関数（書き）'!C\" & COLUMN(B$1)+SUM($AD$2:$AD187))","v":196},{"$f":"INDIRECT(\"'関数（書き）'!C\" & COLUMN(C$1)+SUM($AD$2:$AD187))","v":79},{"$f":"INDIRECT(\"'関数（書き）'!C\" & COLUMN(D$1)+SUM($AD$2:$AD187))","v":97},{"$f":"INDIRECT(\"'関数（書き）'!C\" & COLUMN(E$1)+SUM($AD$2:$AD187))","v":3},{"$f":"INDIRECT(\"'関数（書き）'!C\" & COLUMN(F$1)+SUM($AD$2:$AD187))","v":201},{"$f":"INDIRECT(\"'関数（書き）'!C\" & COLUMN(G$1)+SUM($AD$2:$AD187))","v":61},{"$f":"INDIRECT(\"'関数（書き）'!C\" & COLUMN(H$1)+SUM($AD$2:$AD187))","v":123},{"$f":"INDIRECT(\"'関数（書き）'!C\" & COLUMN(I$1)+SUM($AD$2:$AD187))","v":99},{"$f":"INDIRECT(\"'関数（書き）'!C\" & COLUMN(J$1)+SUM($AD$2:$AD187))","v":160},{"$f":"INDIRECT(\"'関数（書き）'!C\" & COLUMN(K$1)+SUM($AD$2:$AD187))","v":120},{"$f":"INDIRECT(\"'関数（読み）'!C\" & COLUMN(B$1)+SUM($AD$2:$AD187))","v":211},{"$f":"INDIRECT(\"'関数（読み）'!C\" & COLUMN(C$1)+SUM($AD$2:$AD187))","v":4},{"$f":"INDIRECT(\"'関数（読み）'!C\" & COLUMN(D$1)+SUM($AD$2:$AD187))","v":46},{"$f":"INDIRECT(\"'関数（読み）'!C\" & COLUMN(E$1)+SUM($AD$2:$AD187))","v":155},{"$f":"INDIRECT(\"'関数（読み）'!C\" & COLUMN(F$1)+SUM($AD$2:$AD187))","v":172},{"$f":"INDIRECT(\"'関数（読み）'!C\" & COLUMN(G$1)+SUM($AD$2:$AD187))","v":60},{"$f":"INDIRECT(\"'関数（読み）'!C\" & COLUMN(H$1)+SUM($AD$2:$AD187))","v":203},{"$f":"INDIRECT(\"'関数（読み）'!C\" & COLUMN(I$1)+SUM($AD$2:$AD187))","v":162},{"$f":"INDIRECT(\"'関数（読み）'!C\" & COLUMN(J$1)+SUM($AD$2:$AD187))","v":154},{"$f":"INDIRECT(\"'関数（読み）'!C\" & COLUMN(K$1)+SUM($AD$2:$AD187))","v":12}]
["⑳","⑲","⑱","⑰","⑯","⑮","⑭","⑬","⑫","⑪","⑩","⑨","⑧","⑦","⑥","⑤","④","③","②","①","次の［　　　　］の部分の漢字には読みがなをひらがなで書き、カタカナは漢字に直しなさい。",11,"「漢字の博士検定試験」練習問題　",null,null,null,null,null,"←",10,"問",{"$f":"AH182+1","v":191},"～",{"$f":"SUM($AD$2:$AD187)+10","v":200},"問まで",{"$f":"COUNTIF($A$1:$T$200,T188)","v":2}]
[{"$f":"IF(A186=\"\",\"\",VLOOKUP(A186,漢字書き!$A$2:$N$506,6,0))","v":"目を［サ］ます"},{"$f":"IF(B186=\"\",\"\",VLOOKUP(B186,漢字書き!$A$2:$N$506,6,0))","v":"［ヘイワ］な世の中"},{"$f":"IF(C186=\"\",\"\",VLOOKUP(C186,漢字書き!$A$2:$N$506,6,0))","v":"テレビの［ガメン］"},{"$f":"IF(D186=\"\",\"\",VLOOKUP(D186,漢字書き!$A$2:$N$506,6,0))","v":"［トザン］列車に乗る"},{"$f":"IF(E186=\"\",\"\",VLOOKUP(E186,漢字書き!$A$2:$N$506,6,0))","v":"［クダ］に水を通す"},{"$f":"IF(F186=\"\",\"\",VLOOKUP(F186,漢字書き!$A$2:$N$506,6,0))","v":"［ジョウヒン］な母親"},{"$f":"IF(G186=\"\",\"\",VLOOKUP(G186,漢字書き!$A$2:$N$506,6,0))","v":"木の［ハ］をひろう"},{"$f":"IF(H186=\"\",\"\",VLOOKUP(H186,漢字書き!$A$2:$N$506,6,0))","v":"［モンダイ］になる"},{"$f":"IF(I186=\"\",\"\",VLOOKUP(I186,漢字書き!$A$2:$N$506,6,0))","v":"［ジョウイ］のせいせき"},{"$f":"IF(J186=\"\",\"\",VLOOKUP(J186,漢字書き!$A$2:$N$506,6,0))","v":"［タイヘイヨウ］にうかぶ島"},{"$f":"IF(K186=\"\",\"\",VLOOKUP(K186,漢字読み!$A$2:$O$506,6,0))","v":"火山が有名な［熊本県］"},{"$f":"IF(L186=\"\",\"\",VLOOKUP(L186,漢字読み!$A$2:$O$506,6,0))","v":"朝早く［登校］する"},{"$f":"IF(M186=\"\",\"\",VLOOKUP(M186,漢字読み!$A$2:$O$506,6,0))","v":"［流氷］が動く"},{"$f":"IF(N186=\"\",\"\",VLOOKUP(N186,漢字読み!$A$2:$O$506,6,0))","v":"［愛媛県］に行く"},{"$f":"IF(O186=\"\",\"\",VLOOKUP(O186,漢字読み!$A$2:$O$506,6,0))","v":"せきにんを［課］す"},{"$f":"IF(P186=\"\",\"\",VLOOKUP(P186,漢字読み!$A$2:$O$506,6,0))","v":"じゃんけんで［負］ける"},{"$f":"IF(Q186=\"\",\"\",VLOOKUP(Q186,漢字読み!$A$2:$O$506,6,0))","v":"日本の［国旗］"},{"$f":"IF(R186=\"\",\"\",VLOOKUP(R186,漢字読み!$A$2:$O$506,6,0))","v":"［岩塩］をくだく"},{"$f":"IF(S186=\"\",\"\",VLOOKUP(S186,漢字読み!$A$2:$O$506,6,0))","v":"十の［位］"},{"$f":"IF(T186=\"\",\"\",VLOOKUP(T186,漢字読み!$A$2:$O$506,6,0))","v":"[童心]にかえる"},null,"級"]
[null,null,null,null,null,null,null,null,null,null,null,null,null,null,null,null,null,null,null,null,null,"名前"]
[{"$f":"IF(A186=\"\",\"\",IF(VLOOKUP(A186,漢字書き!$A$2:$N$502,7,0)=0,\"\",VLOOKUP(A186,漢字書き!$A$2:$N$502,7,0)))","v":"ます"},{"$f":"IF(B186=\"\",\"\",IF(VLOOKUP(B186,漢字書き!$A$2:$N$502,7,0)=0,\"\",VLOOKUP(B186,漢字書き!$A$2:$N$502,7,0)))","v":"な"},{"$f":"IF(C186=\"\",\"\",IF(VLOOKUP(C186,漢字書き!$A$2:$N$502,7,0)=0,\"\",VLOOKUP(C186,漢字書き!$A$2:$N$502,7,0)))","v":""},{"$f":"IF(D186=\"\",\"\",IF(VLOOKUP(D186,漢字書き!$A$2:$N$502,7,0)=0,\"\",VLOOKUP(D186,漢字書き!$A$2:$N$502,7,0)))","v":""},{"$f":"IF(E186=\"\",\"\",IF(VLOOKUP(E186,漢字書き!$A$2:$N$502,7,0)=0,\"\",VLOOKUP(E186,漢字書き!$A$2:$N$502,7,0)))","v":""},{"$f":"IF(F186=\"\",\"\",IF(VLOOKUP(F186,漢字書き!$A$2:$N$502,7,0)=0,\"\",VLOOKUP(F186,漢字書き!$A$2:$N$502,7,0)))","v":"な"},{"$f":"IF(G186=\"\",\"\",IF(VLOOKUP(G186,漢字書き!$A$2:$N$502,7,0)=0,\"\",VLOOKUP(G186,漢字書き!$A$2:$N$502,7,0)))","v":""},{"$f":"IF(H186=\"\",\"\",IF(VLOOKUP(H186,漢字書き!$A$2:$N$502,7,0)=0,\"\",VLOOKUP(H186,漢字書き!$A$2:$N$502,7,0)))","v":""},{"$f":"IF(I186=\"\",\"\",IF(VLOOKUP(I186,漢字書き!$A$2:$N$502,7,0)=0,\"\",VLOOKUP(I186,漢字書き!$A$2:$N$502,7,0)))","v":""},{"$f":"IF(J186=\"\",\"\",IF(VLOOKUP(J186,漢字書き!$A$2:$N$502,7,0)=0,\"\",VLOOKUP(J186,漢字書き!$A$2:$N$502,7,0)))","v":""},{"$f":"IF(K186=\"\",\"\",IF(VLOOKUP(K186,漢字読み!$A$2:$O$502,7,0)=0,\"\",VLOOKUP(K186,漢字読み!$A$2:$O$502,7,0)))","v":""},{"$f":"IF(L186=\"\",\"\",IF(VLOOKUP(L186,漢字読み!$A$2:$O$502,7,0)=0,\"\",VLOOKUP(L186,漢字読み!$A$2:$O$502,7,0)))","v":"する"},{"$f":"IF(M186=\"\",\"\",IF(VLOOKUP(M186,漢字読み!$A$2:$O$502,7,0)=0,\"\",VLOOKUP(M186,漢字読み!$A$2:$O$502,7,0)))","v":""},{"$f":"IF(N186=\"\",\"\",IF(VLOOKUP(N186,漢字読み!$A$2:$O$502,7,0)=0,\"\",VLOOKUP(N186,漢字読み!$A$2:$O$502,7,0)))","v":""},{"$f":"IF(O186=\"\",\"\",IF(VLOOKUP(O186,漢字読み!$A$2:$O$502,7,0)=0,\"\",VLOOKUP(O186,漢字読み!$A$2:$O$502,7,0)))","v":"す"},{"$f":"IF(P186=\"\",\"\",IF(VLOOKUP(P186,漢字読み!$A$2:$O$502,7,0)=0,\"\",VLOOKUP(P186,漢字読み!$A$2:$O$502,7,0)))","v":"ける"},{"$f":"IF(Q186=\"\",\"\",IF(VLOOKUP(Q186,漢字読み!$A$2:$O$502,7,0)=0,\"\",VLOOKUP(Q186,漢字読み!$A$2:$O$502,7,0)))","v":""},{"$f":"IF(R186=\"\",\"\",IF(VLOOKUP(R186,漢字読み!$A$2:$O$502,7,0)=0,\"\",VLOOKUP(R186,漢字読み!$A$2:$O$502,7,0)))","v":""},{"$f":"IF(S186=\"\",\"\",IF(VLOOKUP(S186,漢字読み!$A$2:$O$502,7,0)=0,\"\",VLOOKUP(S186,漢字読み!$A$2:$O$502,7,0)))","v":""},{"$f":"IF(T186=\"\",\"\",IF(VLOOKUP(T186,漢字読み!$A$2:$O$502,7,0)=0,\"\",VLOOKUP(T186,漢字読み!$A$2:$O$502,7,0)))","v":""},null,null,"和歌山県教育委員会"]
[{"$f":"A181","v":121},{"$f":"B181","v":128},{"$f":"C181","v":106},{"$f":"D181","v":91},{"$f":"E181","v":22},{"$f":"F181","v":17},{"$f":"G181","v":131},{"$f":"H181","v":209},{"$f":"I181","v":9},{"$f":"J181","v":207},{"$f":"K181","v":43},{"$f":"L181","v":45},{"$f":"M181","v":206},{"$f":"N181","v":71},{"$f":"O181","v":93},{"$f":"P181","v":148},{"$f":"Q181","v":98},{"$f":"R181","v":31},{"$f":"S181","v":76},{"$f":"T181","v":13}]
["⑳","⑲","⑱","⑰","⑯","⑮","⑭","⑬","⑫","⑪","⑩","⑨","⑧","⑦","⑥","⑤","④","③","②","①","次の［　　　　］の部分の漢字には読みがなをひらがなで書き、カタカナは漢字に直しなさい。",11,"「漢字の博士検定試験」練習問題　"]
[{"$f":"IF(A191=\"\",\"\",VLOOKUP(A191,漢字書き!$A$2:$N$506,6,0))","v":"［ラクヨウ］のきせつ"},{"$f":"IF(B191=\"\",\"\",VLOOKUP(B191,漢字書き!$A$2:$N$506,6,0))","v":"［ラッカ］した所"},{"$f":"IF(C191=\"\",\"\",VLOOKUP(C191,漢字書き!$A$2:$N$506,6,0))","v":"［クスリ］を飲む"},{"$f":"IF(D191=\"\",\"\",VLOOKUP(D191,漢字書き!$A$2:$N$506,6,0))","v":"かぜ［ギミ］になっている"},{"$f":"IF(E191=\"\",\"\",VLOOKUP(E191,漢字書き!$A$2:$N$506,6,0))","v":"［ニバイ］の量になる"},{"$f":"IF(F191=\"\",\"\",VLOOKUP(F191,漢字書き!$A$2:$N$506,6,0))","v":"［デンパ］がとどく"},{"$f":"IF(G191=\"\",\"\",VLOOKUP(G191,漢字書き!$A$2:$N$506,6,0))","v":"川の［カリュウ］"},{"$f":"IF(H191=\"\",\"\",VLOOKUP(H191,漢字書き!$A$2:$N$506,6,0))","v":"強く［ネガ］う"},{"$f":"IF(I191=\"\",\"\",VLOOKUP(I191,漢字書き!$A$2:$N$506,6,0))","v":"［ウンドウ］会に出る"},{"$f":"IF(J191=\"\",\"\",VLOOKUP(J191,漢字書き!$A$2:$N$506,6,0))","v":"［カンキャク］のはく手"},{"$f":"IF(K191=\"\",\"\",VLOOKUP(K191,漢字読み!$A$2:$O$506,6,0))","v":"［筆者］の考え"},{"$f":"IF(L191=\"\",\"\",VLOOKUP(L191,漢字読み!$A$2:$O$506,6,0))","v":"［筆］を使う"},{"$f":"IF(M191=\"\",\"\",VLOOKUP(M191,漢字読み!$A$2:$O$506,6,0))","v":"［食器］をあらう"},{"$f":"IF(N191=\"\",\"\",VLOOKUP(N191,漢字読み!$A$2:$O$506,6,0))","v":"人間は［平等］だ"},{"$f":"IF(O191=\"\",\"\",VLOOKUP(O191,漢字読み!$A$2:$O$506,6,0))","v":"［問］いに答える"},{"$f":"IF(P191=\"\",\"\",VLOOKUP(P191,漢字読み!$A$2:$O$506,6,0))","v":"それは［名案］だ"},{"$f":"IF(Q191=\"\",\"\",VLOOKUP(Q191,漢字読み!$A$2:$O$506,6,0))","v":"［役者］になりたい"},{"$f":"IF(R191=\"\",\"\",VLOOKUP(R191,漢字読み!$A$2:$O$506,6,0))","v":"[坂道]を下る"},{"$f":"IF(S191=\"\",\"\",VLOOKUP(S191,漢字読み!$A$2:$O$506,6,0))","v":"［返答］を待つ"},{"$f":"IF(T191=\"\",\"\",VLOOKUP(T191,漢字読み!$A$2:$O$506,6,0))","v":"［農家］の庭先"},null,"級"]
[{"$f":"IF(A$11=\"\",\"\",VLOOKUP(A191,漢字書き!$A$2:$O$506,8,0))","v":"落葉"},{"$f":"IF(B$11=\"\",\"\",VLOOKUP(B191,漢字書き!$A$2:$O$506,8,0))","v":"落下"},{"$f":"IF(C$11=\"\",\"\",VLOOKUP(C191,漢字書き!$A$2:$O$506,8,0))","v":"薬"},{"$f":"IF(D$11=\"\",\"\",VLOOKUP(D191,漢字書き!$A$2:$O$506,8,0))","v":"気味"},{"$f":"IF(E$11=\"\",\"\",VLOOKUP(E191,漢字書き!$A$2:$O$506,8,0))","v":"二倍"},{"$f":"IF(F$11=\"\",\"\",VLOOKUP(F191,漢字書き!$A$2:$O$506,8,0))","v":"電波"},{"$f":"IF(G$11=\"\",\"\",VLOOKUP(G191,漢字書き!$A$2:$O$506,8,0))","v":"下流"},{"$f":"IF(H$11=\"\",\"\",VLOOKUP(H191,漢字書き!$A$2:$O$506,8,0))","v":"願"},{"$f":"IF(I$11=\"\",\"\",VLOOKUP(I191,漢字書き!$A$2:$O$506,8,0))","v":"運動"},{"$f":"IF(J$11=\"\",\"\",VLOOKUP(J191,漢字書き!$A$2:$O$506,8,0))","v":"観客"},{"$f":"IF(K$11=\"\",\"\",VLOOKUP(K191,漢字読み!$A$2:$O$506,8,0))","v":"ひっしゃ"},{"$f":"IF(L$11=\"\",\"\",VLOOKUP(L191,漢字読み!$A$2:$O$506,8,0))","v":"ふで"},{"$f":"IF(M$11=\"\",\"\",VLOOKUP(M191,漢字読み!$A$2:$O$506,8,0))","v":"しょっき"},{"$f":"IF(N$11=\"\",\"\",VLOOKUP(N191,漢字読み!$A$2:$O$506,8,0))","v":"びょうどう"},{"$f":"IF(O$11=\"\",\"\",VLOOKUP(O191,漢字読み!$A$2:$O$506,8,0))","v":"と"},{"$f":"IF(P$11=\"\",\"\",VLOOKUP(P191,漢字読み!$A$2:$O$506,8,0))","v":"めいあん"},{"$f":"IF(Q$11=\"\",\"\",VLOOKUP(Q191,漢字読み!$A$2:$O$506,8,0))","v":"やくしゃ"},{"$f":"IF(R$11=\"\",\"\",VLOOKUP(R191,漢字読み!$A$2:$O$506,8,0))","v":"さかみち"},{"$f":"IF(S$11=\"\",\"\",VLOOKUP(S191,漢字読み!$A$2:$O$506,8,0))","v":"へんとう"},{"$f":"IF(T$11=\"\",\"\",VLOOKUP(T191,漢字読み!$A$2:$O$506,8,0))","v":"のうか"},null,"名前"]
[{"$f":"IF(A191=\"\",\"\",IF(VLOOKUP(A191,漢字書き!$A$2:$N$502,7,0)=0,\"\",VLOOKUP(A191,漢字書き!$A$2:$N$502,7,0)))","v":""},{"$f":"IF(B191=\"\",\"\",IF(VLOOKUP(B191,漢字書き!$A$2:$N$502,7,0)=0,\"\",VLOOKUP(B191,漢字書き!$A$2:$N$502,7,0)))","v":"した"},{"$f":"IF(C191=\"\",\"\",IF(VLOOKUP(C191,漢字書き!$A$2:$N$502,7,0)=0,\"\",VLOOKUP(C191,漢字書き!$A$2:$N$502,7,0)))","v":""},{"$f":"IF(D191=\"\",\"\",IF(VLOOKUP(D191,漢字書き!$A$2:$N$502,7,0)=0,\"\",VLOOKUP(D191,漢字書き!$A$2:$N$502,7,0)))","v":""},{"$f":"IF(E191=\"\",\"\",IF(VLOOKUP(E191,漢字書き!$A$2:$N$502,7,0)=0,\"\",VLOOKUP(E191,漢字書き!$A$2:$N$502,7,0)))","v":""},{"$f":"IF(F191=\"\",\"\",IF(VLOOKUP(F191,漢字書き!$A$2:$N$502,7,0)=0,\"\",VLOOKUP(F191,漢字書き!$A$2:$N$502,7,0)))","v":""},{"$f":"IF(G191=\"\",\"\",IF(VLOOKUP(G191,漢字書き!$A$2:$N$502,7,0)=0,\"\",VLOOKUP(G191,漢字書き!$A$2:$N$502,7,0)))","v":""},{"$f":"IF(H191=\"\",\"\",IF(VLOOKUP(H191,漢字書き!$A$2:$N$502,7,0)=0,\"\",VLOOKUP(H191,漢字書き!$A$2:$N$502,7,0)))","v":"う"},{"$f":"IF(I191=\"\",\"\",IF(VLOOKUP(I191,漢字書き!$A$2:$N$502,7,0)=0,\"\",VLOOKUP(I191,漢字書き!$A$2:$N$502,7,0)))","v":"会"},{"$f":"IF(J191=\"\",\"\",IF(VLOOKUP(J191,漢字書き!$A$2:$N$502,7,0)=0,\"\",VLOOKUP(J191,漢字書き!$A$2:$N$502,7,0)))","v":""},{"$f":"IF(K191=\"\",\"\",IF(VLOOKUP(K191,漢字読み!$A$2:$O$502,7,0)=0,\"\",VLOOKUP(K191,漢字読み!$A$2:$O$502,7,0)))","v":""},{"$f":"IF(L191=\"\",\"\",IF(VLOOKUP(L191,漢字読み!$A$2:$O$502,7,0)=0,\"\",VLOOKUP(L191,漢字読み!$A$2:$O$502,7,0)))","v":""},{"$f":"IF(M191=\"\",\"\",IF(VLOOKUP(M191,漢字読み!$A$2:$O$502,7,0)=0,\"\",VLOOKUP(M191,漢字読み!$A$2:$O$502,7,0)))","v":""},{"$f":"IF(N191=\"\",\"\",IF(VLOOKUP(N191,漢字読み!$A$2:$O$502,7,0)=0,\"\",VLOOKUP(N191,漢字読み!$A$2:$O$502,7,0)))","v":""},{"$f":"IF(O191=\"\",\"\",IF(VLOOKUP(O191,漢字読み!$A$2:$O$502,7,0)=0,\"\",VLOOKUP(O191,漢字読み!$A$2:$O$502,7,0)))","v":"い"},{"$f":"IF(P191=\"\",\"\",IF(VLOOKUP(P191,漢字読み!$A$2:$O$502,7,0)=0,\"\",VLOOKUP(P191,漢字読み!$A$2:$O$502,7,0)))","v":""},{"$f":"IF(Q191=\"\",\"\",IF(VLOOKUP(Q191,漢字読み!$A$2:$O$502,7,0)=0,\"\",VLOOKUP(Q191,漢字読み!$A$2:$O$502,7,0)))","v":""},{"$f":"IF(R191=\"\",\"\",IF(VLOOKUP(R191,漢字読み!$A$2:$O$502,7,0)=0,\"\",VLOOKUP(R191,漢字読み!$A$2:$O$502,7,0)))","v":""},{"$f":"IF(S191=\"\",\"\",IF(VLOOKUP(S191,漢字読み!$A$2:$O$502,7,0)=0,\"\",VLOOKUP(S191,漢字読み!$A$2:$O$502,7,0)))","v":""},{"$f":"IF(T191=\"\",\"\",IF(VLOOKUP(T191,漢字読み!$A$2:$O$502,7,0)=0,\"\",VLOOKUP(T191,漢字読み!$A$2:$O$502,7,0)))","v":""},null,null,"和歌山県教育委員会"]
[{"$f":"A186","v":196},{"$f":"B186","v":79},{"$f":"C186","v":97},{"$f":"D186","v":3},{"$f":"E186","v":201},{"$f":"F186","v":61},{"$f":"G186","v":123},{"$f":"H186","v":99},{"$f":"I186","v":160},{"$f":"J186","v":120},{"$f":"K186","v":211},{"$f":"L186","v":4},{"$f":"M186","v":46},{"$f":"N186","v":155},{"$f":"O186","v":172},{"$f":"P186","v":60},{"$f":"Q186","v":203},{"$f":"R186","v":162},{"$f":"S186","v":154},{"$f":"T186","v":12}]
["⑳","⑲","⑱","⑰","⑯","⑮","⑭","⑬","⑫","⑪","⑩","⑨","⑧","⑦","⑥","⑤","④","③","②","①","次の［　　　　］の部分の漢字には読みがなをひらがなで書き、カタカナは漢字に直しなさい。",11,"「漢字の博士検定試験」練習問題　"]
[{"$f":"IF(A196=\"\",\"\",VLOOKUP(A196,漢字書き!$A$2:$N$506,6,0))","v":"目を［サ］ます"},{"$f":"IF(B196=\"\",\"\",VLOOKUP(B196,漢字書き!$A$2:$N$506,6,0))","v":"［ヘイワ］な世の中"},{"$f":"IF(C196=\"\",\"\",VLOOKUP(C196,漢字書き!$A$2:$N$506,6,0))","v":"テレビの［ガメン］"},{"$f":"IF(D196=\"\",\"\",VLOOKUP(D196,漢字書き!$A$2:$N$506,6,0))","v":"［トザン］列車に乗る"},{"$f":"IF(E196=\"\",\"\",VLOOKUP(E196,漢字書き!$A$2:$N$506,6,0))","v":"［クダ］に水を通す"},{"$f":"IF(F196=\"\",\"\",VLOOKUP(F196,漢字書き!$A$2:$N$506,6,0))","v":"［ジョウヒン］な母親"},{"$f":"IF(G196=\"\",\"\",VLOOKUP(G196,漢字書き!$A$2:$N$506,6,0))","v":"木の［ハ］をひろう"},{"$f":"IF(H196=\"\",\"\",VLOOKUP(H196,漢字書き!$A$2:$N$506,6,0))","v":"［モンダイ］になる"},{"$f":"IF(I196=\"\",\"\",VLOOKUP(I196,漢字書き!$A$2:$N$506,6,0))","v":"［ジョウイ］のせいせき"},{"$f":"IF(J196=\"\",\"\",VLOOKUP(J196,漢字書き!$A$2:$N$506,6,0))","v":"［タイヘイヨウ］にうかぶ島"},{"$f":"IF(K196=\"\",\"\",VLOOKUP(K196,漢字読み!$A$2:$O$506,6,0))","v":"火山が有名な［熊本県］"},{"$f":"IF(L196=\"\",\"\",VLOOKUP(L196,漢字読み!$A$2:$O$506,6,0))","v":"朝早く［登校］する"},{"$f":"IF(M196=\"\",\"\",VLOOKUP(M196,漢字読み!$A$2:$O$506,6,0))","v":"［流氷］が動く"},{"$f":"IF(N196=\"\",\"\",VLOOKUP(N196,漢字読み!$A$2:$O$506,6,0))","v":"［愛媛県］に行く"},{"$f":"IF(O196=\"\",\"\",VLOOKUP(O196,漢字読み!$A$2:$O$506,6,0))","v":"せきにんを［課］す"},{"$f":"IF(P196=\"\",\"\",VLOOKUP(P196,漢字読み!$A$2:$O$506,6,0))","v":"じゃんけんで［負］ける"},{"$f":"IF(Q196=\"\",\"\",VLOOKUP(Q196,漢字読み!$A$2:$O$506,6,0))","v":"日本の［国旗］"},{"$f":"IF(R196=\"\",\"\",VLOOKUP(R196,漢字読み!$A$2:$O$506,6,0))","v":"［岩塩］をくだく"},{"$f":"IF(S196=\"\",\"\",VLOOKUP(S196,漢字読み!$A$2:$O$506,6,0))","v":"十の［位］"},{"$f":"IF(T196=\"\",\"\",VLOOKUP(T196,漢字読み!$A$2:$O$506,6,0))","v":"[童心]にかえる"},null,"級"]
[{"$f":"IF(A$16=\"\",\"\",VLOOKUP(A196,漢字書き!$A$2:$O$506,8,0))","v":"覚"},{"$f":"IF(B$16=\"\",\"\",VLOOKUP(B196,漢字書き!$A$2:$O$506,8,0))","v":"平和"},{"$f":"IF(C$16=\"\",\"\",VLOOKUP(C196,漢字書き!$A$2:$O$506,8,0))","v":"画面"},{"$f":"IF(D$16=\"\",\"\",VLOOKUP(D196,漢字書き!$A$2:$O$506,8,0))","v":"登山"},{"$f":"IF(E$16=\"\",\"\",VLOOKUP(E196,漢字書き!$A$2:$O$506,8,0))","v":"管"},{"$f":"IF(F$16=\"\",\"\",VLOOKUP(F196,漢字書き!$A$2:$O$506,8,0))","v":"上品"},{"$f":"IF(G$16=\"\",\"\",VLOOKUP(G196,漢字書き!$A$2:$O$506,8,0))","v":"葉"},{"$f":"IF(H$16=\"\",\"\",VLOOKUP(H196,漢字書き!$A$2:$O$506,8,0))","v":"問題"},{"$f":"IF(I$16=\"\",\"\",VLOOKUP(I196,漢字書き!$A$2:$O$506,8,0))","v":"上位"},{"$f":"IF(J$16=\"\",\"\",VLOOKUP(J196,漢字書き!$A$2:$O$506,8,0))","v":"太平洋"},{"$f":"IF(K$16=\"\",\"\",VLOOKUP(K196,漢字読み!$A$2:$O$506,8,0))","v":"くまもとけん"},{"$f":"IF(L$16=\"\",\"\",VLOOKUP(L196,漢字読み!$A$2:$O$506,8,0))","v":"とうこう"},{"$f":"IF(M$16=\"\",\"\",VLOOKUP(M196,漢字読み!$A$2:$O$506,8,0))","v":"りゅうひょう"},{"$f":"IF(N$16=\"\",\"\",VLOOKUP(N196,漢字読み!$A$2:$O$506,8,0))","v":"えひめけん"},{"$f":"IF(O$16=\"\",\"\",VLOOKUP(O196,漢字読み!$A$2:$O$506,8,0))","v":"か"},{"$f":"IF(P$16=\"\",\"\",VLOOKUP(P196,漢字読み!$A$2:$O$506,8,0))","v":"ま"},{"$f":"IF(Q$16=\"\",\"\",VLOOKUP(Q196,漢字読み!$A$2:$O$506,8,0))","v":"こっき"},{"$f":"IF(R$16=\"\",\"\",VLOOKUP(R196,漢字読み!$A$2:$O$506,8,0))","v":"がんえん"},{"$f":"IF(S$16=\"\",\"\",VLOOKUP(S196,漢字読み!$A$2:$O$506,8,0))","v":"くらい"},{"$f":"IF(T$16=\"\",\"\",VLOOKUP(T196,漢字読み!$A$2:$O$506,8,0))","v":"どうしん"},null,"名前"]
[{"$f":"IF(A196=\"\",\"\",IF(VLOOKUP(A196,漢字書き!$A$2:$N$502,7,0)=0,\"\",VLOOKUP(A196,漢字書き!$A$2:$N$502,7,0)))","v":"ます"},{"$f":"IF(B196=\"\",\"\",IF(VLOOKUP(B196,漢字書き!$A$2:$N$502,7,0)=0,\"\",VLOOKUP(B196,漢字書き!$A$2:$N$502,7,0)))","v":"な"},{"$f":"IF(C196=\"\",\"\",IF(VLOOKUP(C196,漢字書き!$A$2:$N$502,7,0)=0,\"\",VLOOKUP(C196,漢字書き!$A$2:$N$502,7,0)))","v":""},{"$f":"IF(D196=\"\",\"\",IF(VLOOKUP(D196,漢字書き!$A$2:$N$502,7,0)=0,\"\",VLOOKUP(D196,漢字書き!$A$2:$N$502,7,0)))","v":""},{"$f":"IF(E196=\"\",\"\",IF(VLOOKUP(E196,漢字書き!$A$2:$N$502,7,0)=0,\"\",VLOOKUP(E196,漢字書き!$A$2:$N$502,7,0)))","v":""},{"$f":"IF(F196=\"\",\"\",IF(VLOOKUP(F196,漢字書き!$A$2:$N$502,7,0)=0,\"\",VLOOKUP(F196,漢字書き!$A$2:$N$502,7,0)))","v":"な"},{"$f":"IF(G196=\"\",\"\",IF(VLOOKUP(G196,漢字書き!$A$2:$N$502,7,0)=0,\"\",VLOOKUP(G196,漢字書き!$A$2:$N$502,7,0)))","v":""},{"$f":"IF(H196=\"\",\"\",IF(VLOOKUP(H196,漢字書き!$A$2:$N$502,7,0)=0,\"\",VLOOKUP(H196,漢字書き!$A$2:$N$502,7,0)))","v":""},{"$f":"IF(I196=\"\",\"\",IF(VLOOKUP(I196,漢字書き!$A$2:$N$502,7,0)=0,\"\",VLOOKUP(I196,漢字書き!$A$2:$N$502,7,0)))","v":""},{"$f":"IF(J196=\"\",\"\",IF(VLOOKUP(J196,漢字書き!$A$2:$N$502,7,0)=0,\"\",VLOOKUP(J196,漢字書き!$A$2:$N$502,7,0)))","v":""},{"$f":"IF(K196=\"\",\"\",IF(VLOOKUP(K196,漢字読み!$A$2:$O$502,7,0)=0,\"\",VLOOKUP(K196,漢字読み!$A$2:$O$502,7,0)))","v":""},{"$f":"IF(L196=\"\",\"\",IF(VLOOKUP(L196,漢字読み!$A$2:$O$502,7,0)=0,\"\",VLOOKUP(L196,漢字読み!$A$2:$O$502,7,0)))","v":"する"},{"$f":"IF(M196=\"\",\"\",IF(VLOOKUP(M196,漢字読み!$A$2:$O$502,7,0)=0,\"\",VLOOKUP(M196,漢字読み!$A$2:$O$502,7,0)))","v":""},{"$f":"IF(N196=\"\",\"\",IF(VLOOKUP(N196,漢字読み!$A$2:$O$502,7,0)=0,\"\",VLOOKUP(N196,漢字読み!$A$2:$O$502,7,0)))","v":""},{"$f":"IF(O196=\"\",\"\",IF(VLOOKUP(O196,漢字読み!$A$2:$O$502,7,0)=0,\"\",VLOOKUP(O196,漢字読み!$A$2:$O$502,7,0)))","v":"す"},{"$f":"IF(P196=\"\",\"\",IF(VLOOKUP(P196,漢字読み!$A$2:$O$502,7,0)=0,\"\",VLOOKUP(P196,漢字読み!$A$2:$O$502,7,0)))","v":"ける"},{"$f":"IF(Q196=\"\",\"\",IF(VLOOKUP(Q196,漢字読み!$A$2:$O$502,7,0)=0,\"\",VLOOKUP(Q196,漢字読み!$A$2:$O$502,7,0)))","v":""},{"$f":"IF(R196=\"\",\"\",IF(VLOOKUP(R196,漢字読み!$A$2:$O$502,7,0)=0,\"\",VLOOKUP(R196,漢字読み!$A$2:$O$502,7,0)))","v":""},{"$f":"IF(S196=\"\",\"\",IF(VLOOKUP(S196,漢字読み!$A$2:$O$502,7,0)=0,\"\",VLOOKUP(S196,漢字読み!$A$2:$O$502,7,0)))","v":""},{"$f":"IF(T196=\"\",\"\",IF(VLOOKUP(T196,漢字読み!$A$2:$O$502,7,0)=0,\"\",VLOOKUP(T196,漢字読み!$A$2:$O$502,7,0)))","v":""},null,null,"和歌山県教育委員会"]
[{"$f":"INDIRECT(\"'関数（書き）'!C\" & COLUMN(B$1)+SUM($AD$2:$AD202))","v":114},{"$f":"INDIRECT(\"'関数（書き）'!C\" & COLUMN(C$1)+SUM($AD$2:$AD202))","v":5},{"$f":"INDIRECT(\"'関数（書き）'!C\" & COLUMN(D$1)+SUM($AD$2:$AD202))","v":73},{"$f":"INDIRECT(\"'関数（書き）'!C\" & COLUMN(E$1)+SUM($AD$2:$AD202))","v":112},{"$f":"INDIRECT(\"'関数（書き）'!C\" & COLUMN(F$1)+SUM($AD$2:$AD202))","v":167},{"$f":"INDIRECT(\"'関数（書き）'!C\" & COLUMN(G$1)+SUM($AD$2:$AD202))","v":92},{"$f":"INDIRECT(\"'関数（書き）'!C\" & COLUMN(H$1)+SUM($AD$2:$AD202))","v":206},{"$f":"INDIRECT(\"'関数（書き）'!C\" & COLUMN(I$1)+SUM($AD$2:$AD202))","v":210},{"$f":"INDIRECT(\"'関数（書き）'!C\" & COLUMN(J$1)+SUM($AD$2:$AD202))","v":8},{"$f":"INDIRECT(\"'関数（書き）'!C\" & COLUMN(K$1)+SUM($AD$2:$AD202))","v":208},{"$f":"INDIRECT(\"'関数（読み）'!C\" & COLUMN(B$1)+SUM($AD$2:$AD202))","v":135},{"$f":"INDIRECT(\"'関数（読み）'!C\" & COLUMN(C$1)+SUM($AD$2:$AD202))","v":83},{"$f":"INDIRECT(\"'関数（読み）'!C\" & COLUMN(D$1)+SUM($AD$2:$AD202))","v":115},{"$f":"INDIRECT(\"'関数（読み）'!C\" & COLUMN(E$1)+SUM($AD$2:$AD202))","v":159},{"$f":"INDIRECT(\"'関数（読み）'!C\" & COLUMN(F$1)+SUM($AD$2:$AD202))","v":100},{"$f":"INDIRECT(\"'関数（読み）'!C\" & COLUMN(G$1)+SUM($AD$2:$AD202))","v":208},{"$f":"INDIRECT(\"'関数（読み）'!C\" & COLUMN(H$1)+SUM($AD$2:$AD202))","v":131},{"$f":"INDIRECT(\"'関数（読み）'!C\" & COLUMN(I$1)+SUM($AD$2:$AD202))","v":68},{"$f":"INDIRECT(\"'関数（読み）'!C\" & COLUMN(J$1)+SUM($AD$2:$AD202))","v":164},{"$f":"INDIRECT(\"'関数（読み）'!C\" & COLUMN(K$1)+SUM($AD$2:$AD202))","v":132}]
["⑳","⑲","⑱","⑰","⑯","⑮","⑭","⑬","⑫","⑪","⑩","⑨","⑧","⑦","⑥","⑤","④","③","②","①","次の［　　　　］の部分の漢字には読みがなをひらがなで書き、カタカナは漢字に直しなさい。",11,"「漢字の博士検定試験」練習問題　",null,null,null,null,null,"←",10,"問",{"$f":"AH187+1","v":201},"～",{"$f":"SUM($AD$2:$AD202)+10","v":210},"問まで",{"$f":"COUNTIF($A$1:$T$200,T203)","v":0}]
[{"$f":"IF(A201=\"\",\"\",VLOOKUP(A201,漢字書き!$A$2:$N$506,6,0))","v":"友だちと［アソ］ぶ"},{"$f":"IF(B201=\"\",\"\",VLOOKUP(B201,漢字書き!$A$2:$N$506,6,0))","v":"山に［ノボ］る"},{"$f":"IF(C201=\"\",\"\",VLOOKUP(C201,漢字書き!$A$2:$N$506,6,0))","v":"［フク］は内おには外"},{"$f":"IF(D201=\"\",\"\",VLOOKUP(D201,漢字書き!$A$2:$N$506,6,0))","v":"［ア］るかないか調べる"},{"$f":"IF(E201=\"\",\"\",VLOOKUP(E201,漢字書き!$A$2:$N$506,6,0))","v":"［エイゴ］を話す"},{"$f":"IF(F201=\"\",\"\",VLOOKUP(F201,漢字書き!$A$2:$N$506,6,0))","v":"うすい［アジ］"},{"$f":"IF(G201=\"\",\"\",VLOOKUP(G201,漢字書き!$A$2:$N$506,6,0))","v":"虫を［カン］さつする"},{"$f":"IF(H201=\"\",\"\",VLOOKUP(H201,漢字書き!$A$2:$N$506,6,0))","v":"［ネガ］いがかなう"},{"$f":"IF(I201=\"\",\"\",VLOOKUP(I201,漢字書き!$A$2:$N$506,6,0))","v":"［ヒト］しい長さ"},{"$f":"IF(J201=\"\",\"\",VLOOKUP(J201,漢字書き!$A$2:$N$506,6,0))","v":"ゆう勝をき［ガン］する"},{"$f":"IF(K201=\"\",\"\",VLOOKUP(K201,漢字読み!$A$2:$O$506,6,0))","v":"［両手］でつかむ"},{"$f":"IF(L201=\"\",\"\",VLOOKUP(L201,漢字読み!$A$2:$O$506,6,0))","v":"ことばの［意味］"},{"$f":"IF(M201=\"\",\"\",VLOOKUP(M201,漢字読み!$A$2:$O$506,6,0))","v":"［西洋］の文化"},{"$f":"IF(N201=\"\",\"\",VLOOKUP(N201,漢字読み!$A$2:$O$506,6,0))","v":"［英語］の時間"},{"$f":"IF(O201=\"\",\"\",VLOOKUP(O201,漢字読み!$A$2:$O$506,6,0))","v":"［目薬］をさす"},{"$f":"IF(P201=\"\",\"\",VLOOKUP(P201,漢字読み!$A$2:$O$506,6,0))","v":"［議会］が開かれる"},{"$f":"IF(Q201=\"\",\"\",VLOOKUP(Q201,漢字読み!$A$2:$O$506,6,0))","v":"［流］れがかわる"},{"$f":"IF(R201=\"\",\"\",VLOOKUP(R201,漢字読み!$A$2:$O$506,6,0))","v":"わからない［物体］"},{"$f":"IF(S201=\"\",\"\",VLOOKUP(S201,漢字読み!$A$2:$O$506,6,0))","v":"［億万］長者になる"},{"$f":"IF(T201=\"\",\"\",VLOOKUP(T201,漢字読み!$A$2:$O$506,6,0))","v":"［旅行］に行く"},null,"級"]
[null,null,null,null,null,null,null,null,null,null,null,null,null,null,null,null,null,null,null,null,null,"名前"]
[{"$f":"IF(A201=\"\",\"\",IF(VLOOKUP(A201,漢字書き!$A$2:$N$502,7,0)=0,\"\",VLOOKUP(A201,漢字書き!$A$2:$N$502,7,0)))","v":"ぶ"},{"$f":"IF(B201=\"\",\"\",IF(VLOOKUP(B201,漢字書き!$A$2:$N$502,7,0)=0,\"\",VLOOKUP(B201,漢字書き!$A$2:$N$502,7,0)))","v":"る"},{"$f":"IF(C201=\"\",\"\",IF(VLOOKUP(C201,漢字書き!$A$2:$N$502,7,0)=0,\"\",VLOOKUP(C201,漢字書き!$A$2:$N$502,7,0)))","v":""},{"$f":"IF(D201=\"\",\"\",IF(VLOOKUP(D201,漢字書き!$A$2:$N$502,7,0)=0,\"\",VLOOKUP(D201,漢字書き!$A$2:$N$502,7,0)))","v":"る"},{"$f":"IF(E201=\"\",\"\",IF(VLOOKUP(E201,漢字書き!$A$2:$N$502,7,0)=0,\"\",VLOOKUP(E201,漢字書き!$A$2:$N$502,7,0)))","v":""},{"$f":"IF(F201=\"\",\"\",IF(VLOOKUP(F201,漢字書き!$A$2:$N$502,7,0)=0,\"\",VLOOKUP(F201,漢字書き!$A$2:$N$502,7,0)))","v":""},{"$f":"IF(G201=\"\",\"\",IF(VLOOKUP(G201,漢字書き!$A$2:$N$502,7,0)=0,\"\",VLOOKUP(G201,漢字書き!$A$2:$N$502,7,0)))","v":"さつ"},{"$f":"IF(H201=\"\",\"\",IF(VLOOKUP(H201,漢字書き!$A$2:$N$502,7,0)=0,\"\",VLOOKUP(H201,漢字書き!$A$2:$N$502,7,0)))","v":"い"},{"$f":"IF(I201=\"\",\"\",IF(VLOOKUP(I201,漢字書き!$A$2:$N$502,7,0)=0,\"\",VLOOKUP(I201,漢字書き!$A$2:$N$502,7,0)))","v":"しい"},{"$f":"IF(J201=\"\",\"\",IF(VLOOKUP(J201,漢字書き!$A$2:$N$502,7,0)=0,\"\",VLOOKUP(J201,漢字書き!$A$2:$N$502,7,0)))","v":"する"},{"$f":"IF(K201=\"\",\"\",IF(VLOOKUP(K201,漢字読み!$A$2:$O$502,7,0)=0,\"\",VLOOKUP(K201,漢字読み!$A$2:$O$502,7,0)))","v":""},{"$f":"IF(L201=\"\",\"\",IF(VLOOKUP(L201,漢字読み!$A$2:$O$502,7,0)=0,\"\",VLOOKUP(L201,漢字読み!$A$2:$O$502,7,0)))","v":""},{"$f":"IF(M201=\"\",\"\",IF(VLOOKUP(M201,漢字読み!$A$2:$O$502,7,0)=0,\"\",VLOOKUP(M201,漢字読み!$A$2:$O$502,7,0)))","v":""},{"$f":"IF(N201=\"\",\"\",IF(VLOOKUP(N201,漢字読み!$A$2:$O$502,7,0)=0,\"\",VLOOKUP(N201,漢字読み!$A$2:$O$502,7,0)))","v":""},{"$f":"IF(O201=\"\",\"\",IF(VLOOKUP(O201,漢字読み!$A$2:$O$502,7,0)=0,\"\",VLOOKUP(O201,漢字読み!$A$2:$O$502,7,0)))","v":""},{"$f":"IF(P201=\"\",\"\",IF(VLOOKUP(P201,漢字読み!$A$2:$O$502,7,0)=0,\"\",VLOOKUP(P201,漢字読み!$A$2:$O$502,7,0)))","v":""},{"$f":"IF(Q201=\"\",\"\",IF(VLOOKUP(Q201,漢字読み!$A$2:$O$502,7,0)=0,\"\",VLOOKUP(Q201,漢字読み!$A$2:$O$502,7,0)))","v":"れ"},{"$f":"IF(R201=\"\",\"\",IF(VLOOKUP(R201,漢字読み!$A$2:$O$502,7,0)=0,\"\",VLOOKUP(R201,漢字読み!$A$2:$O$502,7,0)))","v":""},{"$f":"IF(S201=\"\",\"\",IF(VLOOKUP(S201,漢字読み!$A$2:$O$502,7,0)=0,\"\",VLOOKUP(S201,漢字読み!$A$2:$O$502,7,0)))","v":"長者"},{"$f":"IF(T201=\"\",\"\",IF(VLOOKUP(T201,漢字読み!$A$2:$O$502,7,0)=0,\"\",VLOOKUP(T201,漢字読み!$A$2:$O$502,7,0)))","v":""},null,null,"和歌山県教育委員会"]
[{"$f":"INDIRECT(\"'関数（書き）'!C\" & COLUMN(B$1)+SUM($AD$2:$AD207))","v":135},{"$f":"INDIRECT(\"'関数（書き）'!C\" & COLUMN(C$1)+SUM($AD$2:$AD207))","v":86},{"$f":"INDIRECT(\"'関数（書き）'!C\" & COLUMN(D$1)+SUM($AD$2:$AD207))","v":186},{"$f":"INDIRECT(\"'関数（書き）'!C\" & COLUMN(E$1)+SUM($AD$2:$AD207))","v":189},{"$f":"INDIRECT(\"'関数（書き）'!C\" & COLUMN(F$1)+SUM($AD$2:$AD207))","v":152},{"$f":"INDIRECT(\"'関数（書き）'!C\" & COLUMN(G$1)+SUM($AD$2:$AD207))","v":141},{"$f":"INDIRECT(\"'関数（書き）'!C\" & COLUMN(H$1)+SUM($AD$2:$AD207))","v":134},{"$f":"INDIRECT(\"'関数（書き）'!C\" & COLUMN(I$1)+SUM($AD$2:$AD207))","v":94},{"$f":"INDIRECT(\"'関数（書き）'!C\" & COLUMN(J$1)+SUM($AD$2:$AD207))","v":10},{"$f":"INDIRECT(\"'関数（書き）'!C\" & COLUMN(K$1)+SUM($AD$2:$AD207))","v":45},{"$f":"INDIRECT(\"'関数（読み）'!C\" & COLUMN(B$1)+SUM($AD$2:$AD207))","v":190},{"$f":"INDIRECT(\"'関数（読み）'!C\" & COLUMN(C$1)+SUM($AD$2:$AD207))","v":174},{"$f":"INDIRECT(\"'関数（読み）'!C\" & COLUMN(D$1)+SUM($AD$2:$AD207))","v":176},{"$f":"INDIRECT(\"'関数（読み）'!C\" & COLUMN(E$1)+SUM($AD$2:$AD207))","v":0},{"$f":"INDIRECT(\"'関数（読み）'!C\" & COLUMN(F$1)+SUM($AD$2:$AD207))","v":0},{"$f":"INDIRECT(\"'関数（読み）'!C\" & COLUMN(G$1)+SUM($AD$2:$AD207))","v":0},{"$f":"INDIRECT(\"'関数（読み）'!C\" & COLUMN(H$1)+SUM($AD$2:$AD207))","v":0},{"$f":"INDIRECT(\"'関数（読み）'!C\" & COLUMN(I$1)+SUM($AD$2:$AD207))","v":0},{"$f":"INDIRECT(\"'関数（読み）'!C\" & COLUMN(J$1)+SUM($AD$2:$AD207))","v":0},{"$f":"INDIRECT(\"'関数（読み）'!C\" & COLUMN(K$1)+SUM($AD$2:$AD207))","v":0}]
["⑳","⑲","⑱","⑰","⑯","⑮","⑭","⑬","⑫","⑪","⑩","⑨","⑧","⑦","⑥","⑤","④","③","②","①","次の［　　　　］の部分の漢字には読みがなをひらがなで書き、カタカナは漢字に直しなさい。",11,"「漢字の博士検定試験」練習問題　",null,null,null,null,null,"←",10,"問",{"$f":"AH202+1","v":211},"～",{"$f":"SUM($AD$2:$AD207)+10","v":220},"問まで",{"$f":"COUNTIF($A$1:$T$200,T208)","v":5}]
[{"$f":"IF(A206=\"\",\"\",VLOOKUP(A206,漢字書き!$A$2:$N$506,6,0))","v":"［タビ］に出る"},{"$f":"IF(B206=\"\",\"\",VLOOKUP(B206,漢字書き!$A$2:$N$506,6,0))","v":"魚を［ホウリュウ］する"},{"$f":"IF(C206=\"\",\"\",VLOOKUP(C206,漢字書き!$A$2:$N$506,6,0))","v":"木の［メ］がふくらむ"},{"$f":"IF(D206=\"\",\"\",VLOOKUP(D206,漢字書き!$A$2:$N$506,6,0))","v":"気持ちが［アラタ］まる"},{"$f":"IF(E206=\"\",\"\",VLOOKUP(E206,漢字書き!$A$2:$N$506,6,0))","v":"[ワカヤマ]市に住む"},{"$f":"IF(F206=\"\",\"\",VLOOKUP(F206,漢字書き!$A$2:$N$506,6,0))","v":"［レイ］ぎ正しい人"},{"$f":"IF(G206=\"\",\"\",VLOOKUP(G206,漢字書き!$A$2:$N$506,6,0))","v":"［リョカン］にとまる"},{"$f":"IF(H206=\"\",\"\",VLOOKUP(H206,漢字書き!$A$2:$N$506,6,0))","v":"［セイメイ］を守る"},{"$f":"IF(I206=\"\",\"\",VLOOKUP(I206,漢字書き!$A$2:$N$506,6,0))","v":"ゆっくりした［ドウサ］"},{"$f":"IF(J206=\"\",\"\",VLOOKUP(J206,漢字書き!$A$2:$N$506,6,0))","v":"母は［ビジン］だ"},{"$f":"IF(K206=\"\",\"\",VLOOKUP(K206,漢字読み!$A$2:$O$506,6,0))","v":"ゴムの［管］"},{"$f":"IF(L206=\"\",\"\",VLOOKUP(L206,漢字読み!$A$2:$O$506,6,0))","v":"木の［芽］がふくらむ"},{"$f":"IF(M206=\"\",\"\",VLOOKUP(M206,漢字読み!$A$2:$O$506,6,0))","v":"悪人が［改心］する"},{"$f":"IF(N206=\"\",\"\",VLOOKUP(N206,漢字読み!$A$2:$O$506,6,0))","v":{"$error":"#N/A"}},{"$f":"IF(O206=\"\",\"\",VLOOKUP(O206,漢字読み!$A$2:$O$506,6,0))","v":{"$error":"#N/A"}},{"$f":"IF(P206=\"\",\"\",VLOOKUP(P206,漢字読み!$A$2:$O$506,6,0))","v":{"$error":"#N/A"}},{"$f":"IF(Q206=\"\",\"\",VLOOKUP(Q206,漢字読み!$A$2:$O$506,6,0))","v":{"$error":"#N/A"}},{"$f":"IF(R206=\"\",\"\",VLOOKUP(R206,漢字読み!$A$2:$O$506,6,0))","v":{"$error":"#N/A"}},{"$f":"IF(S206=\"\",\"\",VLOOKUP(S206,漢字読み!$A$2:$O$506,6,0))","v":{"$error":"#N/A"}},{"$f":"IF(T206=\"\",\"\",VLOOKUP(T206,漢字読み!$A$2:$O$506,6,0))","v":{"$error":"#N/A"}},null,"級"]
[null,null,null,null,null,null,null,null,null,null,null,null,null,null,null,null,null,null,null,null,null,"名前"]
[{"$f":"IF(A206=\"\",\"\",IF(VLOOKUP(A206,漢字書き!$A$2:$N$502,7,0)=0,\"\",VLOOKUP(A206,漢字書き!$A$2:$N$502,7,0)))","v":""},{"$f":"IF(B206=\"\",\"\",IF(VLOOKUP(B206,漢字書き!$A$2:$N$502,7,0)=0,\"\",VLOOKUP(B206,漢字書き!$A$2:$N$502,7,0)))","v":"する"},{"$f":"IF(C206=\"\",\"\",IF(VLOOKUP(C206,漢字書き!$A$2:$N$502,7,0)=0,\"\",VLOOKUP(C206,漢字書き!$A$2:$N$502,7,0)))","v":""},{"$f":"IF(D206=\"\",\"\",IF(VLOOKUP(D206,漢字書き!$A$2:$N$502,7,0)=0,\"\",VLOOKUP(D206,漢字書き!$A$2:$N$502,7,0)))","v":"まる"},{"$f":"IF(E206=\"\",\"\",IF(VLOOKUP(E206,漢字書き!$A$2:$N$502,7,0)=0,\"\",VLOOKUP(E206,漢字書き!$A$2:$N$502,7,0)))","v":"市"},{"$f":"IF(F206=\"\",\"\",IF(VLOOKUP(F206,漢字書き!$A$2:$N$502,7,0)=0,\"\",VLOOKUP(F206,漢字書き!$A$2:$N$502,7,0)))","v":"ぎ"},{"$f":"IF(G206=\"\",\"\",IF(VLOOKUP(G206,漢字書き!$A$2:$N$502,7,0)=0,\"\",VLOOKUP(G206,漢字書き!$A$2:$N$502,7,0)))","v":""},{"$f":"IF(H206=\"\",\"\",IF(VLOOKUP(H206,漢字書き!$A$2:$N$502,7,0)=0,\"\",VLOOKUP(H206,漢字書き!$A$2:$N$502,7,0)))","v":""},{"$f":"IF(I206=\"\",\"\",IF(VLOOKUP(I206,漢字書き!$A$2:$N$502,7,0)=0,\"\",VLOOKUP(I206,漢字書き!$A$2:$N$502,7,0)))","v":""},{"$f":"IF(J206=\"\",\"\",IF(VLOOKUP(J206,漢字書き!$A$2:$N$502,7,0)=0,\"\",VLOOKUP(J206,漢字書き!$A$2:$N$502,7,0)))","v":"だ"},{"$f":"IF(K206=\"\",\"\",IF(VLOOKUP(K206,漢字読み!$A$2:$O$502,7,0)=0,\"\",VLOOKUP(K206,漢字読み!$A$2:$O$502,7,0)))","v":""},{"$f":"IF(L206=\"\",\"\",IF(VLOOKUP(L206,漢字読み!$A$2:$O$502,7,0)=0,\"\",VLOOKUP(L206,漢字読み!$A$2:$O$502,7,0)))","v":""},{"$f":"IF(M206=\"\",\"\",IF(VLOOKUP(M206,漢字読み!$A$2:$O$502,7,0)=0,\"\",VLOOKUP(M206,漢字読み!$A$2:$O$502,7,0)))","v":"する"},{"$f":"IF(N206=\"\",\"\",IF(VLOOKUP(N206,漢字読み!$A$2:$O$502,7,0)=0,\"\",VLOOKUP(N206,漢字読み!$A$2:$O$502,7,0)))","v":{"$error":"#N/A"}},{"$f":"IF(O206=\"\",\"\",IF(VLOOKUP(O206,漢字読み!$A$2:$O$502,7,0)=0,\"\",VLOOKUP(O206,漢字読み!$A$2:$O$502,7,0)))","v":{"$error":"#N/A"}},{"$f":"IF(P206=\"\",\"\",IF(VLOOKUP(P206,漢字読み!$A$2:$O$502,7,0)=0,\"\",VLOOKUP(P206,漢字読み!$A$2:$O$502,7,0)))","v":{"$error":"#N/A"}},{"$f":"IF(Q206=\"\",\"\",IF(VLOOKUP(Q206,漢字読み!$A$2:$O$502,7,0)=0,\"\",VLOOKUP(Q206,漢字読み!$A$2:$O$502,7,0)))","v":{"$error":"#N/A"}},{"$f":"IF(R206=\"\",\"\",IF(VLOOKUP(R206,漢字読み!$A$2:$O$502,7,0)=0,\"\",VLOOKUP(R206,漢字読み!$A$2:$O$502,7,0)))","v":{"$error":"#N/A"}},{"$f":"IF(S206=\"\",\"\",IF(VLOOKUP(S206,漢字読み!$A$2:$O$502,7,0)=0,\"\",VLOOKUP(S206,漢字読み!$A$2:$O$502,7,0)))","v":{"$error":"#N/A"}},{"$f":"IF(T206=\"\",\"\",IF(VLOOKUP(T206,漢字読み!$A$2:$O$502,7,0)=0,\"\",VLOOKUP(T206,漢字読み!$A$2:$O$502,7,0)))","v":{"$error":"#N/A"}},null,null,"和歌山県教育委員会"]
[{"$f":"A201","v":114},{"$f":"B201","v":5},{"$f":"C201","v":73},{"$f":"D201","v":112},{"$f":"E201","v":167},{"$f":"F201","v":92},{"$f":"G201","v":206},{"$f":"H201","v":210},{"$f":"I201","v":8},{"$f":"J201","v":208},{"$f":"K201","v":135},{"$f":"L201","v":83},{"$f":"M201","v":115},{"$f":"N201","v":159},{"$f":"O201","v":100},{"$f":"P201","v":208},{"$f":"Q201","v":131},{"$f":"R201","v":68},{"$f":"S201","v":164},{"$f":"T201","v":132}]
["⑳","⑲","⑱","⑰","⑯","⑮","⑭","⑬","⑫","⑪","⑩","⑨","⑧","⑦","⑥","⑤","④","③","②","①","次の［　　　　］の部分の漢字には読みがなをひらがなで書き、カタカナは漢字に直しなさい。",11,"「漢字の博士検定試験」練習問題　"]
[{"$f":"IF(A211=\"\",\"\",VLOOKUP(A211,漢字書き!$A$2:$N$506,6,0))","v":"友だちと［アソ］ぶ"},{"$f":"IF(B211=\"\",\"\",VLOOKUP(B211,漢字書き!$A$2:$N$506,6,0))","v":"山に［ノボ］る"},{"$f":"IF(C211=\"\",\"\",VLOOKUP(C211,漢字書き!$A$2:$N$506,6,0))","v":"［フク］は内おには外"},{"$f":"IF(D211=\"\",\"\",VLOOKUP(D211,漢字書き!$A$2:$N$506,6,0))","v":"［ア］るかないか調べる"},{"$f":"IF(E211=\"\",\"\",VLOOKUP(E211,漢字書き!$A$2:$N$506,6,0))","v":"［エイゴ］を話す"},{"$f":"IF(F211=\"\",\"\",VLOOKUP(F211,漢字書き!$A$2:$N$506,6,0))","v":"うすい［アジ］"},{"$f":"IF(G211=\"\",\"\",VLOOKUP(G211,漢字書き!$A$2:$N$506,6,0))","v":"虫を［カン］さつする"},{"$f":"IF(H211=\"\",\"\",VLOOKUP(H211,漢字書き!$A$2:$N$506,6,0))","v":"［ネガ］いがかなう"},{"$f":"IF(I211=\"\",\"\",VLOOKUP(I211,漢字書き!$A$2:$N$506,6,0))","v":"［ヒト］しい長さ"},{"$f":"IF(J211=\"\",\"\",VLOOKUP(J211,漢字書き!$A$2:$N$506,6,0))","v":"ゆう勝をき［ガン］する"},{"$f":"IF(K211=\"\",\"\",VLOOKUP(K211,漢字読み!$A$2:$O$506,6,0))","v":"［両手］でつかむ"},{"$f":"IF(L211=\"\",\"\",VLOOKUP(L211,漢字読み!$A$2:$O$506,6,0))","v":"ことばの［意味］"},{"$f":"IF(M211=\"\",\"\",VLOOKUP(M211,漢字読み!$A$2:$O$506,6,0))","v":"［西洋］の文化"},{"$f":"IF(N211=\"\",\"\",VLOOKUP(N211,漢字読み!$A$2:$O$506,6,0))","v":"［英語］の時間"},{"$f":"IF(O211=\"\",\"\",VLOOKUP(O211,漢字読み!$A$2:$O$506,6,0))","v":"［目薬］をさす"},{"$f":"IF(P211=\"\",\"\",VLOOKUP(P211,漢字読み!$A$2:$O$506,6,0))","v":"［議会］が開かれる"},{"$f":"IF(Q211=\"\",\"\",VLOOKUP(Q211,漢字読み!$A$2:$O$506,6,0))","v":"［流］れがかわる"},{"$f":"IF(R211=\"\",\"\",VLOOKUP(R211,漢字読み!$A$2:$O$506,6,0))","v":"わからない［物体］"},{"$f":"IF(S211=\"\",\"\",VLOOKUP(S211,漢字読み!$A$2:$O$506,6,0))","v":"［億万］長者になる"},{"$f":"IF(T211=\"\",\"\",VLOOKUP(T211,漢字読み!$A$2:$O$506,6,0))","v":"［旅行］に行く"},null,"級"]
[{"$f":"IF(A$11=\"\",\"\",VLOOKUP(A211,漢字書き!$A$2:$O$506,8,0))","v":"遊"},{"$f":"IF(B$11=\"\",\"\",VLOOKUP(B211,漢字書き!$A$2:$O$506,8,0))","v":"登"},{"$f":"IF(C$11=\"\",\"\",VLOOKUP(C211,漢字書き!$A$2:$O$506,8,0))","v":"福"},{"$f":"IF(D$11=\"\",\"\",VLOOKUP(D211,漢字書き!$A$2:$O$506,8,0))","v":"有"},{"$f":"IF(E$11=\"\",\"\",VLOOKUP(E211,漢字書き!$A$2:$O$506,8,0))","v":"英語"},{"$f":"IF(F$11=\"\",\"\",VLOOKUP(F211,漢字書き!$A$2:$O$506,8,0))","v":"味"},{"$f":"IF(G$11=\"\",\"\",VLOOKUP(G211,漢字書き!$A$2:$O$506,8,0))","v":"観"},{"$f":"IF(H$11=\"\",\"\",VLOOKUP(H211,漢字書き!$A$2:$O$506,8,0))","v":"願"},{"$f":"IF(I$11=\"\",\"\",VLOOKUP(I211,漢字書き!$A$2:$O$506,8,0))","v":"等"},{"$f":"IF(J$11=\"\",\"\",VLOOKUP(J211,漢字書き!$A$2:$O$506,8,0))","v":"願"},{"$f":"IF(K$11=\"\",\"\",VLOOKUP(K211,漢字読み!$A$2:$O$506,8,0))","v":"りょうて"},{"$f":"IF(L$11=\"\",\"\",VLOOKUP(L211,漢字読み!$A$2:$O$506,8,0))","v":"いみ"},{"$f":"IF(M$11=\"\",\"\",VLOOKUP(M211,漢字読み!$A$2:$O$506,8,0))","v":"せいよう"},{"$f":"IF(N$11=\"\",\"\",VLOOKUP(N211,漢字読み!$A$2:$O$506,8,0))","v":"えいご"},{"$f":"IF(O$11=\"\",\"\",VLOOKUP(O211,漢字読み!$A$2:$O$506,8,0))","v":"めぐすり"},{"$f":"IF(P$11=\"\",\"\",VLOOKUP(P211,漢字読み!$A$2:$O$506,8,0))","v":"ぎかい"},{"$f":"IF(Q$11=\"\",\"\",VLOOKUP(Q211,漢字読み!$A$2:$O$506,8,0))","v":"なが"},{"$f":"IF(R$11=\"\",\"\",VLOOKUP(R211,漢字読み!$A$2:$O$506,8,0))","v":"ぶったい"},{"$f":"IF(S$11=\"\",\"\",VLOOKUP(S211,漢字読み!$A$2:$O$506,8,0))","v":"おくまん"},{"$f":"IF(T$11=\"\",\"\",VLOOKUP(T211,漢字読み!$A$2:$O$506,8,0))","v":"りょこう"},null,"名前"]
[{"$f":"IF(A211=\"\",\"\",IF(VLOOKUP(A211,漢字書き!$A$2:$N$502,7,0)=0,\"\",VLOOKUP(A211,漢字書き!$A$2:$N$502,7,0)))","v":"ぶ"},{"$f":"IF(B211=\"\",\"\",IF(VLOOKUP(B211,漢字書き!$A$2:$N$502,7,0)=0,\"\",VLOOKUP(B211,漢字書き!$A$2:$N$502,7,0)))","v":"る"},{"$f":"IF(C211=\"\",\"\",IF(VLOOKUP(C211,漢字書き!$A$2:$N$502,7,0)=0,\"\",VLOOKUP(C211,漢字書き!$A$2:$N$502,7,0)))","v":""},{"$f":"IF(D211=\"\",\"\",IF(VLOOKUP(D211,漢字書き!$A$2:$N$502,7,0)=0,\"\",VLOOKUP(D211,漢字書き!$A$2:$N$502,7,0)))","v":"る"},{"$f":"IF(E211=\"\",\"\",IF(VLOOKUP(E211,漢字書き!$A$2:$N$502,7,0)=0,\"\",VLOOKUP(E211,漢字書き!$A$2:$N$502,7,0)))","v":""},{"$f":"IF(F211=\"\",\"\",IF(VLOOKUP(F211,漢字書き!$A$2:$N$502,7,0)=0,\"\",VLOOKUP(F211,漢字書き!$A$2:$N$502,7,0)))","v":""},{"$f":"IF(G211=\"\",\"\",IF(VLOOKUP(G211,漢字書き!$A$2:$N$502,7,0)=0,\"\",VLOOKUP(G211,漢字書き!$A$2:$N$502,7,0)))","v":"さつ"},{"$f":"IF(H211=\"\",\"\",IF(VLOOKUP(H211,漢字書き!$A$2:$N$502,7,0)=0,\"\",VLOOKUP(H211,漢字書き!$A$2:$N$502,7,0)))","v":"い"},{"$f":"IF(I211=\"\",\"\",IF(VLOOKUP(I211,漢字書き!$A$2:$N$502,7,0)=0,\"\",VLOOKUP(I211,漢字書き!$A$2:$N$502,7,0)))","v":"しい"},{"$f":"IF(J211=\"\",\"\",IF(VLOOKUP(J211,漢字書き!$A$2:$N$502,7,0)=0,\"\",VLOOKUP(J211,漢字書き!$A$2:$N$502,7,0)))","v":"する"},{"$f":"IF(K211=\"\",\"\",IF(VLOOKUP(K211,漢字読み!$A$2:$O$502,7,0)=0,\"\",VLOOKUP(K211,漢字読み!$A$2:$O$502,7,0)))","v":""},{"$f":"IF(L211=\"\",\"\",IF(VLOOKUP(L211,漢字読み!$A$2:$O$502,7,0)=0,\"\",VLOOKUP(L211,漢字読み!$A$2:$O$502,7,0)))","v":""},{"$f":"IF(M211=\"\",\"\",IF(VLOOKUP(M211,漢字読み!$A$2:$O$502,7,0)=0,\"\",VLOOKUP(M211,漢字読み!$A$2:$O$502,7,0)))","v":""},{"$f":"IF(N211=\"\",\"\",IF(VLOOKUP(N211,漢字読み!$A$2:$O$502,7,0)=0,\"\",VLOOKUP(N211,漢字読み!$A$2:$O$502,7,0)))","v":""},{"$f":"IF(O211=\"\",\"\",IF(VLOOKUP(O211,漢字読み!$A$2:$O$502,7,0)=0,\"\",VLOOKUP(O211,漢字読み!$A$2:$O$502,7,0)))","v":""},{"$f":"IF(P211=\"\",\"\",IF(VLOOKUP(P211,漢字読み!$A$2:$O$502,7,0)=0,\"\",VLOOKUP(P211,漢字読み!$A$2:$O$502,7,0)))","v":""},{"$f":"IF(Q211=\"\",\"\",IF(VLOOKUP(Q211,漢字読み!$A$2:$O$502,7,0)=0,\"\",VLOOKUP(Q211,漢字読み!$A$2:$O$502,7,0)))","v":"れ"},{"$f":"IF(R211=\"\",\"\",IF(VLOOKUP(R211,漢字読み!$A$2:$O$502,7,0)=0,\"\",VLOOKUP(R211,漢字読み!$A$2:$O$502,7,0)))","v":""},{"$f":"IF(S211=\"\",\"\",IF(VLOOKUP(S211,漢字読み!$A$2:$O$502,7,0)=0,\"\",VLOOKUP(S211,漢字読み!$A$2:$O$502,7,0)))","v":"長者"},{"$f":"IF(T211=\"\",\"\",IF(VLOOKUP(T211,漢字読み!$A$2:$O$502,7,0)=0,\"\",VLOOKUP(T211,漢字読み!$A$2:$O$502,7,0)))","v":""},null,null,"和歌山県教育委員会"]
[{"$f":"A206","v":135},{"$f":"B206","v":86},{"$f":"C206","v":186},{"$f":"D206","v":189},{"$f":"E206","v":152},{"$f":"F206","v":141},{"$f":"G206","v":134},{"$f":"H206","v":94},{"$f":"I206","v":10},{"$f":"J206","v":45},{"$f":"K206","v":190},{"$f":"L206","v":174},{"$f":"M206","v":176},{"$f":"N206","v":0},{"$f":"O206","v":0},{"$f":"P206","v":0},{"$f":"Q206","v":0},{"$f":"R206","v":0},{"$f":"S206","v":0},{"$f":"T206","v":0}]
["⑳","⑲","⑱","⑰","⑯","⑮","⑭","⑬","⑫","⑪","⑩","⑨","⑧","⑦","⑥","⑤","④","③","②","①","次の［　　　　］の部分の漢字には読みがなをひらがなで書き、カタカナは漢字に直しなさい。",11,"「漢字の博士検定試験」練習問題　"]
[{"$f":"IF(A216=\"\",\"\",VLOOKUP(A216,漢字書き!$A$2:$N$506,6,0))","v":"［タビ］に出る"},{"$f":"IF(B216=\"\",\"\",VLOOKUP(B216,漢字書き!$A$2:$N$506,6,0))","v":"魚を［ホウリュウ］する"},{"$f":"IF(C216=\"\",\"\",VLOOKUP(C216,漢字書き!$A$2:$N$506,6,0))","v":"木の［メ］がふくらむ"},{"$f":"IF(D216=\"\",\"\",VLOOKUP(D216,漢字書き!$A$2:$N$506,6,0))","v":"気持ちが［アラタ］まる"},{"$f":"IF(E216=\"\",\"\",VLOOKUP(E216,漢字書き!$A$2:$N$506,6,0))","v":"[ワカヤマ]市に住む"},{"$f":"IF(F216=\"\",\"\",VLOOKUP(F216,漢字書き!$A$2:$N$506,6,0))","v":"［レイ］ぎ正しい人"},{"$f":"IF(G216=\"\",\"\",VLOOKUP(G216,漢字書き!$A$2:$N$506,6,0))","v":"［リョカン］にとまる"},{"$f":"IF(H216=\"\",\"\",VLOOKUP(H216,漢字書き!$A$2:$N$506,6,0))","v":"［セイメイ］を守る"},{"$f":"IF(I216=\"\",\"\",VLOOKUP(I216,漢字書き!$A$2:$N$506,6,0))","v":"ゆっくりした［ドウサ］"},{"$f":"IF(J216=\"\",\"\",VLOOKUP(J216,漢字書き!$A$2:$N$506,6,0))","v":"母は［ビジン］だ"},{"$f":"IF(K216=\"\",\"\",VLOOKUP(K216,漢字読み!$A$2:$O$506,6,0))","v":"ゴムの［管］"},{"$f":"IF(L216=\"\",\"\",VLOOKUP(L216,漢字読み!$A$2:$O$506,6,0))","v":"木の［芽］がふくらむ"},{"$f":"IF(M216=\"\",\"\",VLOOKUP(M216,漢字読み!$A$2:$O$506,6,0))","v":"悪人が［改心］する"},{"$f":"IF(N216=\"\",\"\",VLOOKUP(N216,漢字読み!$A$2:$O$506,6,0))","v":{"$error":"#N/A"}},{"$f":"IF(O216=\"\",\"\",VLOOKUP(O216,漢字読み!$A$2:$O$506,6,0))","v":{"$error":"#N/A"}},{"$f":"IF(P216=\"\",\"\",VLOOKUP(P216,漢字読み!$A$2:$O$506,6,0))","v":{"$error":"#N/A"}},{"$f":"IF(Q216=\"\",\"\",VLOOKUP(Q216,漢字読み!$A$2:$O$506,6,0))","v":{"$error":"#N/A"}},{"$f":"IF(R216=\"\",\"\",VLOOKUP(R216,漢字読み!$A$2:$O$506,6,0))","v":{"$error":"#N/A"}},{"$f":"IF(S216=\"\",\"\",VLOOKUP(S216,漢字読み!$A$2:$O$506,6,0))","v":{"$error":"#N/A"}},{"$f":"IF(T216=\"\",\"\",VLOOKUP(T216,漢字読み!$A$2:$O$506,6,0))","v":{"$error":"#N/A"}},null,"級"]
[{"$f":"IF(A$16=\"\",\"\",VLOOKUP(A216,漢字書き!$A$2:$O$506,8,0))","v":"旅"},{"$f":"IF(B$16=\"\",\"\",VLOOKUP(B216,漢字書き!$A$2:$O$506,8,0))","v":"放流"},{"$f":"IF(C$16=\"\",\"\",VLOOKUP(C216,漢字書き!$A$2:$O$506,8,0))","v":"芽"},{"$f":"IF(D$16=\"\",\"\",VLOOKUP(D216,漢字書き!$A$2:$O$506,8,0))","v":"改"},{"$f":"IF(E$16=\"\",\"\",VLOOKUP(E216,漢字書き!$A$2:$O$506,8,0))","v":"和歌山"},{"$f":"IF(F$16=\"\",\"\",VLOOKUP(F216,漢字書き!$A$2:$O$506,8,0))","v":"礼"},{"$f":"IF(G$16=\"\",\"\",VLOOKUP(G216,漢字書き!$A$2:$O$506,8,0))","v":"旅館"},{"$f":"IF(H$16=\"\",\"\",VLOOKUP(H216,漢字書き!$A$2:$O$506,8,0))","v":"生命"},{"$f":"IF(I$16=\"\",\"\",VLOOKUP(I216,漢字書き!$A$2:$O$506,8,0))","v":"動作"},{"$f":"IF(J$16=\"\",\"\",VLOOKUP(J216,漢字書き!$A$2:$O$506,8,0))","v":"美人"},{"$f":"IF(K$16=\"\",\"\",VLOOKUP(K216,漢字読み!$A$2:$O$506,8,0))","v":"くだ"},{"$f":"IF(L$16=\"\",\"\",VLOOKUP(L216,漢字読み!$A$2:$O$506,8,0))","v":"め"},{"$f":"IF(M$16=\"\",\"\",VLOOKUP(M216,漢字読み!$A$2:$O$506,8,0))","v":"かいしん"},{"$f":"IF(N$16=\"\",\"\",VLOOKUP(N216,漢字読み!$A$2:$O$506,8,0))","v":{"$error":"#N/A"}},{"$f":"IF(O$16=\"\",\"\",VLOOKUP(O216,漢字読み!$A$2:$O$506,8,0))","v":{"$error":"#N/A"}},{"$f":"IF(P$16=\"\",\"\",VLOOKUP(P216,漢字読み!$A$2:$O$506,8,0))","v":{"$error":"#N/A"}},{"$f":"IF(Q$16=\"\",\"\",VLOOKUP(Q216,漢字読み!$A$2:$O$506,8,0))","v":{"$error":"#N/A"}},{"$f":"IF(R$16=\"\",\"\",VLOOKUP(R216,漢字読み!$A$2:$O$506,8,0))","v":{"$error":"#N/A"}},{"$f":"IF(S$16=\"\",\"\",VLOOKUP(S216,漢字読み!$A$2:$O$506,8,0))","v":{"$error":"#N/A"}},{"$f":"IF(T$16=\"\",\"\",VLOOKUP(T216,漢字読み!$A$2:$O$506,8,0))","v":{"$error":"#N/A"}},null,"名前"]
[{"$f":"IF(A216=\"\",\"\",IF(VLOOKUP(A216,漢字書き!$A$2:$N$502,7,0)=0,\"\",VLOOKUP(A216,漢字書き!$A$2:$N$502,7,0)))","v":""},{"$f":"IF(B216=\"\",\"\",IF(VLOOKUP(B216,漢字書き!$A$2:$N$502,7,0)=0,\"\",VLOOKUP(B216,漢字書き!$A$2:$N$502,7,0)))","v":"する"},{"$f":"IF(C216=\"\",\"\",IF(VLOOKUP(C216,漢字書き!$A$2:$N$502,7,0)=0,\"\",VLOOKUP(C216,漢字書き!$A$2:$N$502,7,0)))","v":""},{"$f":"IF(D216=\"\",\"\",IF(VLOOKUP(D216,漢字書き!$A$2:$N$502,7,0)=0,\"\",VLOOKUP(D216,漢字書き!$A$2:$N$502,7,0)))","v":"まる"},{"$f":"IF(E216=\"\",\"\",IF(VLOOKUP(E216,漢字書き!$A$2:$N$502,7,0)=0,\"\",VLOOKUP(E216,漢字書き!$A$2:$N$502,7,0)))","v":"市"},{"$f":"IF(F216=\"\",\"\",IF(VLOOKUP(F216,漢字書き!$A$2:$N$502,7,0)=0,\"\",VLOOKUP(F216,漢字書き!$A$2:$N$502,7,0)))","v":"ぎ"},{"$f":"IF(G216=\"\",\"\",IF(VLOOKUP(G216,漢字書き!$A$2:$N$502,7,0)=0,\"\",VLOOKUP(G216,漢字書き!$A$2:$N$502,7,0)))","v":""},{"$f":"IF(H216=\"\",\"\",IF(VLOOKUP(H216,漢字書き!$A$2:$N$502,7,0)=0,\"\",VLOOKUP(H216,漢字書き!$A$2:$N$502,7,0)))","v":""},{"$f":"IF(I216=\"\",\"\",IF(VLOOKUP(I216,漢字書き!$A$2:$N$502,7,0)=0,\"\",VLOOKUP(I216,漢字書き!$A$2:$N$502,7,0)))","v":""},{"$f":"IF(J216=\"\",\"\",IF(VLOOKUP(J216,漢字書き!$A$2:$N$502,7,0)=0,\"\",VLOOKUP(J216,漢字書き!$A$2:$N$502,7,0)))","v":"だ"},{"$f":"IF(K216=\"\",\"\",IF(VLOOKUP(K216,漢字読み!$A$2:$O$502,7,0)=0,\"\",VLOOKUP(K216,漢字読み!$A$2:$O$502,7,0)))","v":""},{"$f":"IF(L216=\"\",\"\",IF(VLOOKUP(L216,漢字読み!$A$2:$O$502,7,0)=0,\"\",VLOOKUP(L216,漢字読み!$A$2:$O$502,7,0)))","v":""},{"$f":"IF(M216=\"\",\"\",IF(VLOOKUP(M216,漢字読み!$A$2:$O$502,7,0)=0,\"\",VLOOKUP(M216,漢字読み!$A$2:$O$502,7,0)))","v":"する"},{"$f":"IF(N216=\"\",\"\",IF(VLOOKUP(N216,漢字読み!$A$2:$O$502,7,0)=0,\"\",VLOOKUP(N216,漢字読み!$A$2:$O$502,7,0)))","v":{"$error":"#N/A"}},{"$f":"IF(O216=\"\",\"\",IF(VLOOKUP(O216,漢字読み!$A$2:$O$502,7,0)=0,\"\",VLOOKUP(O216,漢字読み!$A$2:$O$502,7,0)))","v":{"$error":"#N/A"}},{"$f":"IF(P216=\"\",\"\",IF(VLOOKUP(P216,漢字読み!$A$2:$O$502,7,0)=0,\"\",VLOOKUP(P216,漢字読み!$A$2:$O$502,7,0)))","v":{"$error":"#N/A"}},{"$f":"IF(Q216=\"\",\"\",IF(VLOOKUP(Q216,漢字読み!$A$2:$O$502,7,0)=0,\"\",VLOOKUP(Q216,漢字読み!$A$2:$O$502,7,0)))","v":{"$error":"#N/A"}},{"$f":"IF(R216=\"\",\"\",IF(VLOOKUP(R216,漢字読み!$A$2:$O$502,7,0)=0,\"\",VLOOKUP(R216,漢字読み!$A$2:$O$502,7,0)))","v":{"$error":"#N/A"}},{"$f":"IF(S216=\"\",\"\",IF(VLOOKUP(S216,漢字読み!$A$2:$O$502,7,0)=0,\"\",VLOOKUP(S216,漢字読み!$A$2:$O$502,7,0)))","v":{"$error":"#N/A"}},{"$f":"IF(T216=\"\",\"\",IF(VLOOKUP(T216,漢字読み!$A$2:$O$502,7,0)=0,\"\",VLOOKUP(T216,漢字読み!$A$2:$O$502,7,0)))","v":{"$error":"#N/A"}},null,null,"和歌山県教育委員会"]
[{"$f":"INDIRECT(\"'関数（書き）'!C\" & COLUMN(B$1)+SUM($AD$2:$AD222))","v":104},{"$f":"INDIRECT(\"'関数（書き）'!C\" & COLUMN(C$1)+SUM($AD$2:$AD222))","v":65},{"$f":"INDIRECT(\"'関数（書き）'!C\" & COLUMN(D$1)+SUM($AD$2:$AD222))","v":69},{"$f":"INDIRECT(\"'関数（書き）'!C\" & COLUMN(E$1)+SUM($AD$2:$AD222))","v":194},{"$f":"INDIRECT(\"'関数（書き）'!C\" & COLUMN(F$1)+SUM($AD$2:$AD222))","v":203},{"$f":"INDIRECT(\"'関数（書き）'!C\" & COLUMN(G$1)+SUM($AD$2:$AD222))","v":34},{"$f":"INDIRECT(\"'関数（書き）'!C\" & COLUMN(H$1)+SUM($AD$2:$AD222))","v":223},{"$f":"INDIRECT(\"'関数（書き）'!C\" & COLUMN(I$1)+SUM($AD$2:$AD222))","v":122},{"$f":"INDIRECT(\"'関数（書き）'!C\" & COLUMN(J$1)+SUM($AD$2:$AD222))","v":85},{"$f":"INDIRECT(\"'関数（書き）'!C\" & COLUMN(K$1)+SUM($AD$2:$AD222))","v":221},{"$f":"INDIRECT(\"'関数（読み）'!C\" & COLUMN(B$1)+SUM($AD$2:$AD222))","v":0},{"$f":"INDIRECT(\"'関数（読み）'!C\" & COLUMN(C$1)+SUM($AD$2:$AD222))","v":0},{"$f":"INDIRECT(\"'関数（読み）'!C\" & COLUMN(D$1)+SUM($AD$2:$AD222))","v":0},{"$f":"INDIRECT(\"'関数（読み）'!C\" & COLUMN(E$1)+SUM($AD$2:$AD222))","v":0},{"$f":"INDIRECT(\"'関数（読み）'!C\" & COLUMN(F$1)+SUM($AD$2:$AD222))","v":0},{"$f":"INDIRECT(\"'関数（読み）'!C\" & COLUMN(G$1)+SUM($AD$2:$AD222))","v":0},{"$f":"INDIRECT(\"'関数（読み）'!C\" & COLUMN(H$1)+SUM($AD$2:$AD222))","v":0},{"$f":"INDIRECT(\"'関数（読み）'!C\" & COLUMN(I$1)+SUM($AD$2:$AD222))","v":0},{"$f":"INDIRECT(\"'関数（読み）'!C\" & COLUMN(J$1)+SUM($AD$2:$AD222))","v":0},{"$f":"INDIRECT(\"'関数（読み）'!C\" & COLUMN(K$1)+SUM($AD$2:$AD222))","v":0}]
["⑳","⑲","⑱","⑰","⑯","⑮","⑭","⑬","⑫","⑪","⑩","⑨","⑧","⑦","⑥","⑤","④","③","②","①","次の［　　　　］の部分の漢字には読みがなをひらがなで書き、カタカナは漢字に直しなさい。",11,"「漢字の博士検定試験」練習問題　",null,null,null,null,null,"←",10,"問",{"$f":"AH207+1","v":221},"～",{"$f":"SUM($AD$2:$AD222)+10","v":230},"問まで",{"$f":"COUNTIF($A$1:$T$200,T223)","v":5}]
[{"$f":"IF(A221=\"\",\"\",VLOOKUP(A221,漢字書き!$A$2:$N$506,6,0))","v":"［ヤクバ］につとめる"},{"$f":"IF(B221=\"\",\"\",VLOOKUP(B221,漢字書き!$A$2:$N$506,6,0))","v":"けがを［オ］う"},{"$f":"IF(C221=\"\",\"\",VLOOKUP(C221,漢字書き!$A$2:$N$506,6,0))","v":"かれのよわい［ブブン］"},{"$f":"IF(D221=\"\",\"\",VLOOKUP(D221,漢字書き!$A$2:$N$506,6,0))","v":"昼食は［カクジ］持ってくる"},{"$f":"IF(E221=\"\",\"\",VLOOKUP(E221,漢字書き!$A$2:$N$506,6,0))","v":"音楽に［カン］する本"},{"$f":"IF(F221=\"\",\"\",VLOOKUP(F221,漢字書き!$A$2:$N$506,6,0))","v":"急な［サカ］"},{"$f":"IF(G221=\"\",\"\",VLOOKUP(G221,漢字書き!$A$2:$N$506,6,0))","v":"［キュウジン］の広こく"},{"$f":"IF(H221=\"\",\"\",VLOOKUP(H221,漢字書き!$A$2:$N$506,6,0))","v":"［コトバ］を集める"},{"$f":"IF(I221=\"\",\"\",VLOOKUP(I221,漢字書き!$A$2:$N$506,6,0))","v":"よく［ベンキョウ］する"},{"$f":"IF(J221=\"\",\"\",VLOOKUP(J221,漢字書き!$A$2:$N$506,6,0))","v":"妹の[キ]げんが悪い"},{"$f":"IF(K221=\"\",\"\",VLOOKUP(K221,漢字読み!$A$2:$O$506,6,0))","v":{"$error":"#N/A"}},{"$f":"IF(L221=\"\",\"\",VLOOKUP(L221,漢字読み!$A$2:$O$506,6,0))","v":{"$error":"#N/A"}},{"$f":"IF(M221=\"\",\"\",VLOOKUP(M221,漢字読み!$A$2:$O$506,6,0))","v":{"$error":"#N/A"}},{"$f":"IF(N221=\"\",\"\",VLOOKUP(N221,漢字読み!$A$2:$O$506,6,0))","v":{"$error":"#N/A"}},{"$f":"IF(O221=\"\",\"\",VLOOKUP(O221,漢字読み!$A$2:$O$506,6,0))","v":{"$error":"#N/A"}},{"$f":"IF(P221=\"\",\"\",VLOOKUP(P221,漢字読み!$A$2:$O$506,6,0))","v":{"$error":"#N/A"}},{"$f":"IF(Q221=\"\",\"\",VLOOKUP(Q221,漢字読み!$A$2:$O$506,6,0))","v":{"$error":"#N/A"}},{"$f":"IF(R221=\"\",\"\",VLOOKUP(R221,漢字読み!$A$2:$O$506,6,0))","v":{"$error":"#N/A"}},{"$f":"IF(S221=\"\",\"\",VLOOKUP(S221,漢字読み!$A$2:$O$506,6,0))","v":{"$error":"#N/A"}},{"$f":"IF(T221=\"\",\"\",VLOOKUP(T221,漢字読み!$A$2:$O$506,6,0))","v":{"$error":"#N/A"}},null,"級"]
[null,null,null,null,null,null,null,null,null,null,null,null,null,null,null,null,null,null,null,null,null,"名前"]
[{"$f":"IF(A221=\"\",\"\",IF(VLOOKUP(A221,漢字書き!$A$2:$N$502,7,0)=0,\"\",VLOOKUP(A221,漢字書き!$A$2:$N$502,7,0)))","v":""},{"$f":"IF(B221=\"\",\"\",IF(VLOOKUP(B221,漢字書き!$A$2:$N$502,7,0)=0,\"\",VLOOKUP(B221,漢字書き!$A$2:$N$502,7,0)))","v":"う"},{"$f":"IF(C221=\"\",\"\",IF(VLOOKUP(C221,漢字書き!$A$2:$N$502,7,0)=0,\"\",VLOOKUP(C221,漢字書き!$A$2:$N$502,7,0)))","v":""},{"$f":"IF(D221=\"\",\"\",IF(VLOOKUP(D221,漢字書き!$A$2:$N$502,7,0)=0,\"\",VLOOKUP(D221,漢字書き!$A$2:$N$502,7,0)))","v":""},{"$f":"IF(E221=\"\",\"\",IF(VLOOKUP(E221,漢字書き!$A$2:$N$502,7,0)=0,\"\",VLOOKUP(E221,漢字書き!$A$2:$N$502,7,0)))","v":"する"},{"$f":"IF(F221=\"\",\"\",IF(VLOOKUP(F221,漢字書き!$A$2:$N$502,7,0)=0,\"\",VLOOKUP(F221,漢字書き!$A$2:$N$502,7,0)))","v":""},{"$f":"IF(G221=\"\",\"\",IF(VLOOKUP(G221,漢字書き!$A$2:$N$502,7,0)=0,\"\",VLOOKUP(G221,漢字書き!$A$2:$N$502,7,0)))","v":""},{"$f":"IF(H221=\"\",\"\",IF(VLOOKUP(H221,漢字書き!$A$2:$N$502,7,0)=0,\"\",VLOOKUP(H221,漢字書き!$A$2:$N$502,7,0)))","v":""},{"$f":"IF(I221=\"\",\"\",IF(VLOOKUP(I221,漢字書き!$A$2:$N$502,7,0)=0,\"\",VLOOKUP(I221,漢字書き!$A$2:$N$502,7,0)))","v":"する"},{"$f":"IF(J221=\"\",\"\",IF(VLOOKUP(J221,漢字書き!$A$2:$N$502,7,0)=0,\"\",VLOOKUP(J221,漢字書き!$A$2:$N$502,7,0)))","v":"げん"},{"$f":"IF(K221=\"\",\"\",IF(VLOOKUP(K221,漢字読み!$A$2:$O$502,7,0)=0,\"\",VLOOKUP(K221,漢字読み!$A$2:$O$502,7,0)))","v":{"$error":"#N/A"}},{"$f":"IF(L221=\"\",\"\",IF(VLOOKUP(L221,漢字読み!$A$2:$O$502,7,0)=0,\"\",VLOOKUP(L221,漢字読み!$A$2:$O$502,7,0)))","v":{"$error":"#N/A"}},{"$f":"IF(M221=\"\",\"\",IF(VLOOKUP(M221,漢字読み!$A$2:$O$502,7,0)=0,\"\",VLOOKUP(M221,漢字読み!$A$2:$O$502,7,0)))","v":{"$error":"#N/A"}},{"$f":"IF(N221=\"\",\"\",IF(VLOOKUP(N221,漢字読み!$A$2:$O$502,7,0)=0,\"\",VLOOKUP(N221,漢字読み!$A$2:$O$502,7,0)))","v":{"$error":"#N/A"}},{"$f":"IF(O221=\"\",\"\",IF(VLOOKUP(O221,漢字読み!$A$2:$O$502,7,0)=0,\"\",VLOOKUP(O221,漢字読み!$A$2:$O$502,7,0)))","v":{"$error":"#N/A"}},{"$f":"IF(P221=\"\",\"\",IF(VLOOKUP(P221,漢字読み!$A$2:$O$502,7,0)=0,\"\",VLOOKUP(P221,漢字読み!$A$2:$O$502,7,0)))","v":{"$error":"#N/A"}},{"$f":"IF(Q221=\"\",\"\",IF(VLOOKUP(Q221,漢字読み!$A$2:$O$502,7,0)=0,\"\",VLOOKUP(Q221,漢字読み!$A$2:$O$502,7,0)))","v":{"$error":"#N/A"}},{"$f":"IF(R221=\"\",\"\",IF(VLOOKUP(R221,漢字読み!$A$2:$O$502,7,0)=0,\"\",VLOOKUP(R221,漢字読み!$A$2:$O$502,7,0)))","v":{"$error":"#N/A"}},{"$f":"IF(S221=\"\",\"\",IF(VLOOKUP(S221,漢字読み!$A$2:$O$502,7,0)=0,\"\",VLOOKUP(S221,漢字読み!$A$2:$O$502,7,0)))","v":{"$error":"#N/A"}},{"$f":"IF(T221=\"\",\"\",IF(VLOOKUP(T221,漢字読み!$A$2:$O$502,7,0)=0,\"\",VLOOKUP(T221,漢字読み!$A$2:$O$502,7,0)))","v":{"$error":"#N/A"}},null,null,"和歌山県教育委員会"]
[{"$f":"INDIRECT(\"'関数（書き）'!C\" & COLUMN(B$1)+SUM($AD$2:$AD227))","v":82},{"$f":"INDIRECT(\"'関数（書き）'!C\" & COLUMN(C$1)+SUM($AD$2:$AD227))","v":0},{"$f":"INDIRECT(\"'関数（書き）'!C\" & COLUMN(D$1)+SUM($AD$2:$AD227))","v":0},{"$f":"INDIRECT(\"'関数（書き）'!C\" & COLUMN(E$1)+SUM($AD$2:$AD227))","v":0},{"$f":"INDIRECT(\"'関数（書き）'!C\" & COLUMN(F$1)+SUM($AD$2:$AD227))","v":0},{"$f":"INDIRECT(\"'関数（書き）'!C\" & COLUMN(G$1)+SUM($AD$2:$AD227))","v":0},{"$f":"INDIRECT(\"'関数（書き）'!C\" & COLUMN(H$1)+SUM($AD$2:$AD227))","v":0},{"$f":"INDIRECT(\"'関数（書き）'!C\" & COLUMN(I$1)+SUM($AD$2:$AD227))","v":0},{"$f":"INDIRECT(\"'関数（書き）'!C\" & COLUMN(J$1)+SUM($AD$2:$AD227))","v":0},{"$f":"INDIRECT(\"'関数（書き）'!C\" & COLUMN(K$1)+SUM($AD$2:$AD227))","v":0},{"$f":"INDIRECT(\"'関数（読み）'!C\" & COLUMN(B$1)+SUM($AD$2:$AD227))","v":0},{"$f":"INDIRECT(\"'関数（読み）'!C\" & COLUMN(C$1)+SUM($AD$2:$AD227))","v":0},{"$f":"INDIRECT(\"'関数（読み）'!C\" & COLUMN(D$1)+SUM($AD$2:$AD227))","v":0},{"$f":"INDIRECT(\"'関数（読み）'!C\" & COLUMN(E$1)+SUM($AD$2:$AD227))","v":0},{"$f":"INDIRECT(\"'関数（読み）'!C\" & COLUMN(F$1)+SUM($AD$2:$AD227))","v":0},{"$f":"INDIRECT(\"'関数（読み）'!C\" & COLUMN(G$1)+SUM($AD$2:$AD227))","v":0},{"$f":"INDIRECT(\"'関数（読み）'!C\" & COLUMN(H$1)+SUM($AD$2:$AD227))","v":0},{"$f":"INDIRECT(\"'関数（読み）'!C\" & COLUMN(I$1)+SUM($AD$2:$AD227))","v":0},{"$f":"INDIRECT(\"'関数（読み）'!C\" & COLUMN(J$1)+SUM($AD$2:$AD227))","v":0},{"$f":"INDIRECT(\"'関数（読み）'!C\" & COLUMN(K$1)+SUM($AD$2:$AD227))","v":0}]
["⑳","⑲","⑱","⑰","⑯","⑮","⑭","⑬","⑫","⑪","⑩","⑨","⑧","⑦","⑥","⑤","④","③","②","①","次の［　　　　］の部分の漢字には読みがなをひらがなで書き、カタカナは漢字に直しなさい。",11,"「漢字の博士検定試験」練習問題　",null,null,null,null,null,"←",10,"問",{"$f":"AH222+1","v":231},"～",{"$f":"SUM($AD$2:$AD227)+10","v":240},"問まで",{"$f":"COUNTIF($A$1:$T$200,T228)","v":5}]
[{"$f":"IF(A226=\"\",\"\",VLOOKUP(A226,漢字書き!$A$2:$N$506,6,0))","v":"手の［ヒラ］を見つめる"},{"$f":"IF(B226=\"\",\"\",VLOOKUP(B226,漢字書き!$A$2:$N$506,6,0))","v":{"$error":"#N/A"}},{"$f":"IF(C226=\"\",\"\",VLOOKUP(C226,漢字書き!$A$2:$N$506,6,0))","v":{"$error":"#N/A"}},{"$f":"IF(D226=\"\",\"\",VLOOKUP(D226,漢字書き!$A$2:$N$506,6,0))","v":{"$error":"#N/A"}},{"$f":"IF(E226=\"\",\"\",VLOOKUP(E226,漢字書き!$A$2:$N$506,6,0))","v":{"$error":"#N/A"}},{"$f":"IF(F226=\"\",\"\",VLOOKUP(F226,漢字書き!$A$2:$N$506,6,0))","v":{"$error":"#N/A"}},{"$f":"IF(G226=\"\",\"\",VLOOKUP(G226,漢字書き!$A$2:$N$506,6,0))","v":{"$error":"#N/A"}},{"$f":"IF(H226=\"\",\"\",VLOOKUP(H226,漢字書き!$A$2:$N$506,6,0))","v":{"$error":"#N/A"}},{"$f":"IF(I226=\"\",\"\",VLOOKUP(I226,漢字書き!$A$2:$N$506,6,0))","v":{"$error":"#N/A"}},{"$f":"IF(J226=\"\",\"\",VLOOKUP(J226,漢字書き!$A$2:$N$506,6,0))","v":{"$error":"#N/A"}},{"$f":"IF(K226=\"\",\"\",VLOOKUP(K226,漢字読み!$A$2:$O$506,6,0))","v":{"$error":"#N/A"}},{"$f":"IF(L226=\"\",\"\",VLOOKUP(L226,漢字読み!$A$2:$O$506,6,0))","v":{"$error":"#N/A"}},{"$f":"IF(M226=\"\",\"\",VLOOKUP(M226,漢字読み!$A$2:$O$506,6,0))","v":{"$error":"#N/A"}},{"$f":"IF(N226=\"\",\"\",VLOOKUP(N226,漢字読み!$A$2:$O$506,6,0))","v":{"$error":"#N/A"}},{"$f":"IF(O226=\"\",\"\",VLOOKUP(O226,漢字読み!$A$2:$O$506,6,0))","v":{"$error":"#N/A"}},{"$f":"IF(P226=\"\",\"\",VLOOKUP(P226,漢字読み!$A$2:$O$506,6,0))","v":{"$error":"#N/A"}},{"$f":"IF(Q226=\"\",\"\",VLOOKUP(Q226,漢字読み!$A$2:$O$506,6,0))","v":{"$error":"#N/A"}},{"$f":"IF(R226=\"\",\"\",VLOOKUP(R226,漢字読み!$A$2:$O$506,6,0))","v":{"$error":"#N/A"}},{"$f":"IF(S226=\"\",\"\",VLOOKUP(S226,漢字読み!$A$2:$O$506,6,0))","v":{"$error":"#N/A"}},{"$f":"IF(T226=\"\",\"\",VLOOKUP(T226,漢字読み!$A$2:$O$506,6,0))","v":{"$error":"#N/A"}},null,"級"]
[null,null,null,null,null,null,null,null,null,null,null,null,null,null,null,null,null,null,null,null,null,"名前"]
[{"$f":"IF(A226=\"\",\"\",IF(VLOOKUP(A226,漢字書き!$A$2:$N$502,7,0)=0,\"\",VLOOKUP(A226,漢字書き!$A$2:$N$502,7,0)))","v":""},{"$f":"IF(B226=\"\",\"\",IF(VLOOKUP(B226,漢字書き!$A$2:$N$502,7,0)=0,\"\",VLOOKUP(B226,漢字書き!$A$2:$N$502,7,0)))","v":{"$error":"#N/A"}},{"$f":"IF(C226=\"\",\"\",IF(VLOOKUP(C226,漢字書き!$A$2:$N$502,7,0)=0,\"\",VLOOKUP(C226,漢字書き!$A$2:$N$502,7,0)))","v":{"$error":"#N/A"}},{"$f":"IF(D226=\"\",\"\",IF(VLOOKUP(D226,漢字書き!$A$2:$N$502,7,0)=0,\"\",VLOOKUP(D226,漢字書き!$A$2:$N$502,7,0)))","v":{"$error":"#N/A"}},{"$f":"IF(E226=\"\",\"\",IF(VLOOKUP(E226,漢字書き!$A$2:$N$502,7,0)=0,\"\",VLOOKUP(E226,漢字書き!$A$2:$N$502,7,0)))","v":{"$error":"#N/A"}},{"$f":"IF(F226=\"\",\"\",IF(VLOOKUP(F226,漢字書き!$A$2:$N$502,7,0)=0,\"\",VLOOKUP(F226,漢字書き!$A$2:$N$502,7,0)))","v":{"$error":"#N/A"}},{"$f":"IF(G226=\"\",\"\",IF(VLOOKUP(G226,漢字書き!$A$2:$N$502,7,0)=0,\"\",VLOOKUP(G226,漢字書き!$A$2:$N$502,7,0)))","v":{"$error":"#N/A"}},{"$f":"IF(H226=\"\",\"\",IF(VLOOKUP(H226,漢字書き!$A$2:$N$502,7,0)=0,\"\",VLOOKUP(H226,漢字書き!$A$2:$N$502,7,0)))","v":{"$error":"#N/A"}},{"$f":"IF(I226=\"\",\"\",IF(VLOOKUP(I226,漢字書き!$A$2:$N$502,7,0)=0,\"\",VLOOKUP(I226,漢字書き!$A$2:$N$502,7,0)))","v":{"$error":"#N/A"}},{"$f":"IF(J226=\"\",\"\",IF(VLOOKUP(J226,漢字書き!$A$2:$N$502,7,0)=0,\"\",VLOOKUP(J226,漢字書き!$A$2:$N$502,7,0)))","v":{"$error":"#N/A"}},{"$f":"IF(K226=\"\",\"\",IF(VLOOKUP(K226,漢字読み!$A$2:$O$502,7,0)=0,\"\",VLOOKUP(K226,漢字読み!$A$2:$O$502,7,0)))","v":{"$error":"#N/A"}},{"$f":"IF(L226=\"\",\"\",IF(VLOOKUP(L226,漢字読み!$A$2:$O$502,7,0)=0,\"\",VLOOKUP(L226,漢字読み!$A$2:$O$502,7,0)))","v":{"$error":"#N/A"}},{"$f":"IF(M226=\"\",\"\",IF(VLOOKUP(M226,漢字読み!$A$2:$O$502,7,0)=0,\"\",VLOOKUP(M226,漢字読み!$A$2:$O$502,7,0)))","v":{"$error":"#N/A"}},{"$f":"IF(N226=\"\",\"\",IF(VLOOKUP(N226,漢字読み!$A$2:$O$502,7,0)=0,\"\",VLOOKUP(N226,漢字読み!$A$2:$O$502,7,0)))","v":{"$error":"#N/A"}},{"$f":"IF(O226=\"\",\"\",IF(VLOOKUP(O226,漢字読み!$A$2:$O$502,7,0)=0,\"\",VLOOKUP(O226,漢字読み!$A$2:$O$502,7,0)))","v":{"$error":"#N/A"}},{"$f":"IF(P226=\"\",\"\",IF(VLOOKUP(P226,漢字読み!$A$2:$O$502,7,0)=0,\"\",VLOOKUP(P226,漢字読み!$A$2:$O$502,7,0)))","v":{"$error":"#N/A"}},{"$f":"IF(Q226=\"\",\"\",IF(VLOOKUP(Q226,漢字読み!$A$2:$O$502,7,0)=0,\"\",VLOOKUP(Q226,漢字読み!$A$2:$O$502,7,0)))","v":{"$error":"#N/A"}},{"$f":"IF(R226=\"\",\"\",IF(VLOOKUP(R226,漢字読み!$A$2:$O$502,7,0)=0,\"\",VLOOKUP(R226,漢字読み!$A$2:$O$502,7,0)))","v":{"$error":"#N/A"}},{"$f":"IF(S226=\"\",\"\",IF(VLOOKUP(S226,漢字読み!$A$2:$O$502,7,0)=0,\"\",VLOOKUP(S226,漢字読み!$A$2:$O$502,7,0)))","v":{"$error":"#N/A"}},{"$f":"IF(T226=\"\",\"\",IF(VLOOKUP(T226,漢字読み!$A$2:$O$502,7,0)=0,\"\",VLOOKUP(T226,漢字読み!$A$2:$O$502,7,0)))","v":{"$error":"#N/A"}},null,null,"和歌山県教育委員会"]
[{"$f":"A221","v":104},{"$f":"B221","v":65},{"$f":"C221","v":69},{"$f":"D221","v":194},{"$f":"E221","v":203},{"$f":"F221","v":34},{"$f":"G221","v":223},{"$f":"H221","v":122},{"$f":"I221","v":85},{"$f":"J221","v":221},{"$f":"K221","v":0},{"$f":"L221","v":0},{"$f":"M221","v":0},{"$f":"N221","v":0},{"$f":"O221","v":0},{"$f":"P221","v":0},{"$f":"Q221","v":0},{"$f":"R221","v":0},{"$f":"S221","v":0},{"$f":"T221","v":0}]
["⑳","⑲","⑱","⑰","⑯","⑮","⑭","⑬","⑫","⑪","⑩","⑨","⑧","⑦","⑥","⑤","④","③","②","①","次の［　　　　］の部分の漢字には読みがなをひらがなで書き、カタカナは漢字に直しなさい。",11,"「漢字の博士検定試験」練習問題　"]
[{"$f":"IF(A231=\"\",\"\",VLOOKUP(A231,漢字書き!$A$2:$N$506,6,0))","v":"［ヤクバ］につとめる"},{"$f":"IF(B231=\"\",\"\",VLOOKUP(B231,漢字書き!$A$2:$N$506,6,0))","v":"けがを［オ］う"},{"$f":"IF(C231=\"\",\"\",VLOOKUP(C231,漢字書き!$A$2:$N$506,6,0))","v":"かれのよわい［ブブン］"},{"$f":"IF(D231=\"\",\"\",VLOOKUP(D231,漢字書き!$A$2:$N$506,6,0))","v":"昼食は［カクジ］持ってくる"},{"$f":"IF(E231=\"\",\"\",VLOOKUP(E231,漢字書き!$A$2:$N$506,6,0))","v":"音楽に［カン］する本"},{"$f":"IF(F231=\"\",\"\",VLOOKUP(F231,漢字書き!$A$2:$N$506,6,0))","v":"急な［サカ］"},{"$f":"IF(G231=\"\",\"\",VLOOKUP(G231,漢字書き!$A$2:$N$506,6,0))","v":"［キュウジン］の広こく"},{"$f":"IF(H231=\"\",\"\",VLOOKUP(H231,漢字書き!$A$2:$N$506,6,0))","v":"［コトバ］を集める"},{"$f":"IF(I231=\"\",\"\",VLOOKUP(I231,漢字書き!$A$2:$N$506,6,0))","v":"よく［ベンキョウ］する"},{"$f":"IF(J231=\"\",\"\",VLOOKUP(J231,漢字書き!$A$2:$N$506,6,0))","v":"妹の[キ]げんが悪い"},{"$f":"IF(K231=\"\",\"\",VLOOKUP(K231,漢字読み!$A$2:$O$506,6,0))","v":{"$error":"#N/A"}},{"$f":"IF(L231=\"\",\"\",VLOOKUP(L231,漢字読み!$A$2:$O$506,6,0))","v":{"$error":"#N/A"}},{"$f":"IF(M231=\"\",\"\",VLOOKUP(M231,漢字読み!$A$2:$O$506,6,0))","v":{"$error":"#N/A"}},{"$f":"IF(N231=\"\",\"\",VLOOKUP(N231,漢字読み!$A$2:$O$506,6,0))","v":{"$error":"#N/A"}},{"$f":"IF(O231=\"\",\"\",VLOOKUP(O231,漢字読み!$A$2:$O$506,6,0))","v":{"$error":"#N/A"}},{"$f":"IF(P231=\"\",\"\",VLOOKUP(P231,漢字読み!$A$2:$O$506,6,0))","v":{"$error":"#N/A"}},{"$f":"IF(Q231=\"\",\"\",VLOOKUP(Q231,漢字読み!$A$2:$O$506,6,0))","v":{"$error":"#N/A"}},{"$f":"IF(R231=\"\",\"\",VLOOKUP(R231,漢字読み!$A$2:$O$506,6,0))","v":{"$error":"#N/A"}},{"$f":"IF(S231=\"\",\"\",VLOOKUP(S231,漢字読み!$A$2:$O$506,6,0))","v":{"$error":"#N/A"}},{"$f":"IF(T231=\"\",\"\",VLOOKUP(T231,漢字読み!$A$2:$O$506,6,0))","v":{"$error":"#N/A"}},null,"級"]
[{"$f":"IF(A$11=\"\",\"\",VLOOKUP(A231,漢字書き!$A$2:$O$506,8,0))","v":"役場"},{"$f":"IF(B$11=\"\",\"\",VLOOKUP(B231,漢字書き!$A$2:$O$506,8,0))","v":"負"},{"$f":"IF(C$11=\"\",\"\",VLOOKUP(C231,漢字書き!$A$2:$O$506,8,0))","v":"部分"},{"$f":"IF(D$11=\"\",\"\",VLOOKUP(D231,漢字書き!$A$2:$O$506,8,0))","v":"各自"},{"$f":"IF(E$11=\"\",\"\",VLOOKUP(E231,漢字書き!$A$2:$O$506,8,0))","v":"関"},{"$f":"IF(F$11=\"\",\"\",VLOOKUP(F231,漢字書き!$A$2:$O$506,8,0))","v":"坂"},{"$f":"IF(G$11=\"\",\"\",VLOOKUP(G231,漢字書き!$A$2:$O$506,8,0))","v":"求人"},{"$f":"IF(H$11=\"\",\"\",VLOOKUP(H231,漢字書き!$A$2:$O$506,8,0))","v":"言葉"},{"$f":"IF(I$11=\"\",\"\",VLOOKUP(I231,漢字書き!$A$2:$O$506,8,0))","v":"勉強"},{"$f":"IF(J$11=\"\",\"\",VLOOKUP(J231,漢字書き!$A$2:$O$506,8,0))","v":"機"},{"$f":"IF(K$11=\"\",\"\",VLOOKUP(K231,漢字読み!$A$2:$O$506,8,0))","v":{"$error":"#N/A"}},{"$f":"IF(L$11=\"\",\"\",VLOOKUP(L231,漢字読み!$A$2:$O$506,8,0))","v":{"$error":"#N/A"}},{"$f":"IF(M$11=\"\",\"\",VLOOKUP(M231,漢字読み!$A$2:$O$506,8,0))","v":{"$error":"#N/A"}},{"$f":"IF(N$11=\"\",\"\",VLOOKUP(N231,漢字読み!$A$2:$O$506,8,0))","v":{"$error":"#N/A"}},{"$f":"IF(O$11=\"\",\"\",VLOOKUP(O231,漢字読み!$A$2:$O$506,8,0))","v":{"$error":"#N/A"}},{"$f":"IF(P$11=\"\",\"\",VLOOKUP(P231,漢字読み!$A$2:$O$506,8,0))","v":{"$error":"#N/A"}},{"$f":"IF(Q$11=\"\",\"\",VLOOKUP(Q231,漢字読み!$A$2:$O$506,8,0))","v":{"$error":"#N/A"}},{"$f":"IF(R$11=\"\",\"\",VLOOKUP(R231,漢字読み!$A$2:$O$506,8,0))","v":{"$error":"#N/A"}},{"$f":"IF(S$11=\"\",\"\",VLOOKUP(S231,漢字読み!$A$2:$O$506,8,0))","v":{"$error":"#N/A"}},{"$f":"IF(T$11=\"\",\"\",VLOOKUP(T231,漢字読み!$A$2:$O$506,8,0))","v":{"$error":"#N/A"}},null,"名前"]
[{"$f":"IF(A231=\"\",\"\",IF(VLOOKUP(A231,漢字書き!$A$2:$N$502,7,0)=0,\"\",VLOOKUP(A231,漢字書き!$A$2:$N$502,7,0)))","v":""},{"$f":"IF(B231=\"\",\"\",IF(VLOOKUP(B231,漢字書き!$A$2:$N$502,7,0)=0,\"\",VLOOKUP(B231,漢字書き!$A$2:$N$502,7,0)))","v":"う"},{"$f":"IF(C231=\"\",\"\",IF(VLOOKUP(C231,漢字書き!$A$2:$N$502,7,0)=0,\"\",VLOOKUP(C231,漢字書き!$A$2:$N$502,7,0)))","v":""},{"$f":"IF(D231=\"\",\"\",IF(VLOOKUP(D231,漢字書き!$A$2:$N$502,7,0)=0,\"\",VLOOKUP(D231,漢字書き!$A$2:$N$502,7,0)))","v":""},{"$f":"IF(E231=\"\",\"\",IF(VLOOKUP(E231,漢字書き!$A$2:$N$502,7,0)=0,\"\",VLOOKUP(E231,漢字書き!$A$2:$N$502,7,0)))","v":"する"},{"$f":"IF(F231=\"\",\"\",IF(VLOOKUP(F231,漢字書き!$A$2:$N$502,7,0)=0,\"\",VLOOKUP(F231,漢字書き!$A$2:$N$502,7,0)))","v":""},{"$f":"IF(G231=\"\",\"\",IF(VLOOKUP(G231,漢字書き!$A$2:$N$502,7,0)=0,\"\",VLOOKUP(G231,漢字書き!$A$2:$N$502,7,0)))","v":""},{"$f":"IF(H231=\"\",\"\",IF(VLOOKUP(H231,漢字書き!$A$2:$N$502,7,0)=0,\"\",VLOOKUP(H231,漢字書き!$A$2:$N$502,7,0)))","v":""},{"$f":"IF(I231=\"\",\"\",IF(VLOOKUP(I231,漢字書き!$A$2:$N$502,7,0)=0,\"\",VLOOKUP(I231,漢字書き!$A$2:$N$502,7,0)))","v":"する"},{"$f":"IF(J231=\"\",\"\",IF(VLOOKUP(J231,漢字書き!$A$2:$N$502,7,0)=0,\"\",VLOOKUP(J231,漢字書き!$A$2:$N$502,7,0)))","v":"げん"},{"$f":"IF(K231=\"\",\"\",IF(VLOOKUP(K231,漢字読み!$A$2:$O$502,7,0)=0,\"\",VLOOKUP(K231,漢字読み!$A$2:$O$502,7,0)))","v":{"$error":"#N/A"}},{"$f":"IF(L231=\"\",\"\",IF(VLOOKUP(L231,漢字読み!$A$2:$O$502,7,0)=0,\"\",VLOOKUP(L231,漢字読み!$A$2:$O$502,7,0)))","v":{"$error":"#N/A"}},{"$f":"IF(M231=\"\",\"\",IF(VLOOKUP(M231,漢字読み!$A$2:$O$502,7,0)=0,\"\",VLOOKUP(M231,漢字読み!$A$2:$O$502,7,0)))","v":{"$error":"#N/A"}},{"$f":"IF(N231=\"\",\"\",IF(VLOOKUP(N231,漢字読み!$A$2:$O$502,7,0)=0,\"\",VLOOKUP(N231,漢字読み!$A$2:$O$502,7,0)))","v":{"$error":"#N/A"}},{"$f":"IF(O231=\"\",\"\",IF(VLOOKUP(O231,漢字読み!$A$2:$O$502,7,0)=0,\"\",VLOOKUP(O231,漢字読み!$A$2:$O$502,7,0)))","v":{"$error":"#N/A"}},{"$f":"IF(P231=\"\",\"\",IF(VLOOKUP(P231,漢字読み!$A$2:$O$502,7,0)=0,\"\",VLOOKUP(P231,漢字読み!$A$2:$O$502,7,0)))","v":{"$error":"#N/A"}},{"$f":"IF(Q231=\"\",\"\",IF(VLOOKUP(Q231,漢字読み!$A$2:$O$502,7,0)=0,\"\",VLOOKUP(Q231,漢字読み!$A$2:$O$502,7,0)))","v":{"$error":"#N/A"}},{"$f":"IF(R231=\"\",\"\",IF(VLOOKUP(R231,漢字読み!$A$2:$O$502,7,0)=0,\"\",VLOOKUP(R231,漢字読み!$A$2:$O$502,7,0)))","v":{"$error":"#N/A"}},{"$f":"IF(S231=\"\",\"\",IF(VLOOKUP(S231,漢字読み!$A$2:$O$502,7,0)=0,\"\",VLOOKUP(S231,漢字読み!$A$2:$O$502,7,0)))","v":{"$error":"#N/A"}},{"$f":"IF(T231=\"\",\"\",IF(VLOOKUP(T231,漢字読み!$A$2:$O$502,7,0)=0,\"\",VLOOKUP(T231,漢字読み!$A$2:$O$502,7,0)))","v":{"$error":"#N/A"}},null,null,"和歌山県教育委員会"]
[{"$f":"A226","v":82},{"$f":"B226","v":0},{"$f":"C226","v":0},{"$f":"D226","v":0},{"$f":"E226","v":0},{"$f":"F226","v":0},{"$f":"G226","v":0},{"$f":"H226","v":0},{"$f":"I226","v":0},{"$f":"J226","v":0},{"$f":"K226","v":0},{"$f":"L226","v":0},{"$f":"M226","v":0},{"$f":"N226","v":0},{"$f":"O226","v":0},{"$f":"P226","v":0},{"$f":"Q226","v":0},{"$f":"R226","v":0},{"$f":"S226","v":0},{"$f":"T226","v":0}]
["⑳","⑲","⑱","⑰","⑯","⑮","⑭","⑬","⑫","⑪","⑩","⑨","⑧","⑦","⑥","⑤","④","③","②","①","次の［　　　　］の部分の漢字には読みがなをひらがなで書き、カタカナは漢字に直しなさい。",11,"「漢字の博士検定試験」練習問題　"]
[{"$f":"IF(A236=\"\",\"\",VLOOKUP(A236,漢字書き!$A$2:$N$506,6,0))","v":"手の［ヒラ］を見つめる"},{"$f":"IF(B236=\"\",\"\",VLOOKUP(B236,漢字書き!$A$2:$N$506,6,0))","v":{"$error":"#N/A"}},{"$f":"IF(C236=\"\",\"\",VLOOKUP(C236,漢字書き!$A$2:$N$506,6,0))","v":{"$error":"#N/A"}},{"$f":"IF(D236=\"\",\"\",VLOOKUP(D236,漢字書き!$A$2:$N$506,6,0))","v":{"$error":"#N/A"}},{"$f":"IF(E236=\"\",\"\",VLOOKUP(E236,漢字書き!$A$2:$N$506,6,0))","v":{"$error":"#N/A"}},{"$f":"IF(F236=\"\",\"\",VLOOKUP(F236,漢字書き!$A$2:$N$506,6,0))","v":{"$error":"#N/A"}},{"$f":"IF(G236=\"\",\"\",VLOOKUP(G236,漢字書き!$A$2:$N$506,6,0))","v":{"$error":"#N/A"}},{"$f":"IF(H236=\"\",\"\",VLOOKUP(H236,漢字書き!$A$2:$N$506,6,0))","v":{"$error":"#N/A"}},{"$f":"IF(I236=\"\",\"\",VLOOKUP(I236,漢字書き!$A$2:$N$506,6,0))","v":{"$error":"#N/A"}},{"$f":"IF(J236=\"\",\"\",VLOOKUP(J236,漢字書き!$A$2:$N$506,6,0))","v":{"$error":"#N/A"}},{"$f":"IF(K236=\"\",\"\",VLOOKUP(K236,漢字読み!$A$2:$O$506,6,0))","v":{"$error":"#N/A"}},{"$f":"IF(L236=\"\",\"\",VLOOKUP(L236,漢字読み!$A$2:$O$506,6,0))","v":{"$error":"#N/A"}},{"$f":"IF(M236=\"\",\"\",VLOOKUP(M236,漢字読み!$A$2:$O$506,6,0))","v":{"$error":"#N/A"}},{"$f":"IF(N236=\"\",\"\",VLOOKUP(N236,漢字読み!$A$2:$O$506,6,0))","v":{"$error":"#N/A"}},{"$f":"IF(O236=\"\",\"\",VLOOKUP(O236,漢字読み!$A$2:$O$506,6,0))","v":{"$error":"#N/A"}},{"$f":"IF(P236=\"\",\"\",VLOOKUP(P236,漢字読み!$A$2:$O$506,6,0))","v":{"$error":"#N/A"}},{"$f":"IF(Q236=\"\",\"\",VLOOKUP(Q236,漢字読み!$A$2:$O$506,6,0))","v":{"$error":"#N/A"}},{"$f":"IF(R236=\"\",\"\",VLOOKUP(R236,漢字読み!$A$2:$O$506,6,0))","v":{"$error":"#N/A"}},{"$f":"IF(S236=\"\",\"\",VLOOKUP(S236,漢字読み!$A$2:$O$506,6,0))","v":{"$error":"#N/A"}},{"$f":"IF(T236=\"\",\"\",VLOOKUP(T236,漢字読み!$A$2:$O$506,6,0))","v":{"$error":"#N/A"}},null,"級"]
[{"$f":"IF(A$16=\"\",\"\",VLOOKUP(A236,漢字書き!$A$2:$O$506,8,0))","v":"平"},{"$f":"IF(B$16=\"\",\"\",VLOOKUP(B236,漢字書き!$A$2:$O$506,8,0))","v":{"$error":"#N/A"}},{"$f":"IF(C$16=\"\",\"\",VLOOKUP(C236,漢字書き!$A$2:$O$506,8,0))","v":{"$error":"#N/A"}},{"$f":"IF(D$16=\"\",\"\",VLOOKUP(D236,漢字書き!$A$2:$O$506,8,0))","v":{"$error":"#N/A"}},{"$f":"IF(E$16=\"\",\"\",VLOOKUP(E236,漢字書き!$A$2:$O$506,8,0))","v":{"$error":"#N/A"}},{"$f":"IF(F$16=\"\",\"\",VLOOKUP(F236,漢字書き!$A$2:$O$506,8,0))","v":{"$error":"#N/A"}},{"$f":"IF(G$16=\"\",\"\",VLOOKUP(G236,漢字書き!$A$2:$O$506,8,0))","v":{"$error":"#N/A"}},{"$f":"IF(H$16=\"\",\"\",VLOOKUP(H236,漢字書き!$A$2:$O$506,8,0))","v":{"$error":"#N/A"}},{"$f":"IF(I$16=\"\",\"\",VLOOKUP(I236,漢字書き!$A$2:$O$506,8,0))","v":{"$error":"#N/A"}},{"$f":"IF(J$16=\"\",\"\",VLOOKUP(J236,漢字書き!$A$2:$O$506,8,0))","v":{"$error":"#N/A"}},{"$f":"IF(K$16=\"\",\"\",VLOOKUP(K236,漢字読み!$A$2:$O$506,8,0))","v":{"$error":"#N/A"}},{"$f":"IF(L$16=\"\",\"\",VLOOKUP(L236,漢字読み!$A$2:$O$506,8,0))","v":{"$error":"#N/A"}},{"$f":"IF(M$16=\"\",\"\",VLOOKUP(M236,漢字読み!$A$2:$O$506,8,0))","v":{"$error":"#N/A"}},{"$f":"IF(N$16=\"\",\"\",VLOOKUP(N236,漢字読み!$A$2:$O$506,8,0))","v":{"$error":"#N/A"}},{"$f":"IF(O$16=\"\",\"\",VLOOKUP(O236,漢字読み!$A$2:$O$506,8,0))","v":{"$error":"#N/A"}},{"$f":"IF(P$16=\"\",\"\",VLOOKUP(P236,漢字読み!$A$2:$O$506,8,0))","v":{"$error":"#N/A"}},{"$f":"IF(Q$16=\"\",\"\",VLOOKUP(Q236,漢字読み!$A$2:$O$506,8,0))","v":{"$error":"#N/A"}},{"$f":"IF(R$16=\"\",\"\",VLOOKUP(R236,漢字読み!$A$2:$O$506,8,0))","v":{"$error":"#N/A"}},{"$f":"IF(S$16=\"\",\"\",VLOOKUP(S236,漢字読み!$A$2:$O$506,8,0))","v":{"$error":"#N/A"}},{"$f":"IF(T$16=\"\",\"\",VLOOKUP(T236,漢字読み!$A$2:$O$506,8,0))","v":{"$error":"#N/A"}},null,"名前"]
[{"$f":"IF(A236=\"\",\"\",IF(VLOOKUP(A236,漢字書き!$A$2:$N$502,7,0)=0,\"\",VLOOKUP(A236,漢字書き!$A$2:$N$502,7,0)))","v":""},{"$f":"IF(B236=\"\",\"\",IF(VLOOKUP(B236,漢字書き!$A$2:$N$502,7,0)=0,\"\",VLOOKUP(B236,漢字書き!$A$2:$N$502,7,0)))","v":{"$error":"#N/A"}},{"$f":"IF(C236=\"\",\"\",IF(VLOOKUP(C236,漢字書き!$A$2:$N$502,7,0)=0,\"\",VLOOKUP(C236,漢字書き!$A$2:$N$502,7,0)))","v":{"$error":"#N/A"}},{"$f":"IF(D236=\"\",\"\",IF(VLOOKUP(D236,漢字書き!$A$2:$N$502,7,0)=0,\"\",VLOOKUP(D236,漢字書き!$A$2:$N$502,7,0)))","v":{"$error":"#N/A"}},{"$f":"IF(E236=\"\",\"\",IF(VLOOKUP(E236,漢字書き!$A$2:$N$502,7,0)=0,\"\",VLOOKUP(E236,漢字書き!$A$2:$N$502,7,0)))","v":{"$error":"#N/A"}},{"$f":"IF(F236=\"\",\"\",IF(VLOOKUP(F236,漢字書き!$A$2:$N$502,7,0)=0,\"\",VLOOKUP(F236,漢字書き!$A$2:$N$502,7,0)))","v":{"$error":"#N/A"}},{"$f":"IF(G236=\"\",\"\",IF(VLOOKUP(G236,漢字書き!$A$2:$N$502,7,0)=0,\"\",VLOOKUP(G236,漢字書き!$A$2:$N$502,7,0)))","v":{"$error":"#N/A"}},{"$f":"IF(H236=\"\",\"\",IF(VLOOKUP(H236,漢字書き!$A$2:$N$502,7,0)=0,\"\",VLOOKUP(H236,漢字書き!$A$2:$N$502,7,0)))","v":{"$error":"#N/A"}},{"$f":"IF(I236=\"\",\"\",IF(VLOOKUP(I236,漢字書き!$A$2:$N$502,7,0)=0,\"\",VLOOKUP(I236,漢字書き!$A$2:$N$502,7,0)))","v":{"$error":"#N/A"}},{"$f":"IF(J236=\"\",\"\",IF(VLOOKUP(J236,漢字書き!$A$2:$N$502,7,0)=0,\"\",VLOOKUP(J236,漢字書き!$A$2:$N$502,7,0)))","v":{"$error":"#N/A"}},{"$f":"IF(K236=\"\",\"\",IF(VLOOKUP(K236,漢字読み!$A$2:$O$502,7,0)=0,\"\",VLOOKUP(K236,漢字読み!$A$2:$O$502,7,0)))","v":{"$error":"#N/A"}},{"$f":"IF(L236=\"\",\"\",IF(VLOOKUP(L236,漢字読み!$A$2:$O$502,7,0)=0,\"\",VLOOKUP(L236,漢字読み!$A$2:$O$502,7,0)))","v":{"$error":"#N/A"}},{"$f":"IF(M236=\"\",\"\",IF(VLOOKUP(M236,漢字読み!$A$2:$O$502,7,0)=0,\"\",VLOOKUP(M236,漢字読み!$A$2:$O$502,7,0)))","v":{"$error":"#N/A"}},{"$f":"IF(N236=\"\",\"\",IF(VLOOKUP(N236,漢字読み!$A$2:$O$502,7,0)=0,\"\",VLOOKUP(N236,漢字読み!$A$2:$O$502,7,0)))","v":{"$error":"#N/A"}},{"$f":"IF(O236=\"\",\"\",IF(VLOOKUP(O236,漢字読み!$A$2:$O$502,7,0)=0,\"\",VLOOKUP(O236,漢字読み!$A$2:$O$502,7,0)))","v":{"$error":"#N/A"}},{"$f":"IF(P236=\"\",\"\",IF(VLOOKUP(P236,漢字読み!$A$2:$O$502,7,0)=0,\"\",VLOOKUP(P236,漢字読み!$A$2:$O$502,7,0)))","v":{"$error":"#N/A"}},{"$f":"IF(Q236=\"\",\"\",IF(VLOOKUP(Q236,漢字読み!$A$2:$O$502,7,0)=0,\"\",VLOOKUP(Q236,漢字読み!$A$2:$O$502,7,0)))","v":{"$error":"#N/A"}},{"$f":"IF(R236=\"\",\"\",IF(VLOOKUP(R236,漢字読み!$A$2:$O$502,7,0)=0,\"\",VLOOKUP(R236,漢字読み!$A$2:$O$502,7,0)))","v":{"$error":"#N/A"}},{"$f":"IF(S236=\"\",\"\",IF(VLOOKUP(S236,漢字読み!$A$2:$O$502,7,0)=0,\"\",VLOOKUP(S236,漢字読み!$A$2:$O$502,7,0)))","v":{"$error":"#N/A"}},{"$f":"IF(T236=\"\",\"\",IF(VLOOKUP(T236,漢字読み!$A$2:$O$502,7,0)=0,\"\",VLOOKUP(T236,漢字読み!$A$2:$O$502,7,0)))","v":{"$error":"#N/A"}},null,null,"和歌山県教育委員会"]
[{"$f":"INDIRECT(\"'関数（書き）'!C\" & COLUMN(B$1)+SUM($AD$2:$AD242))","v":0},{"$f":"INDIRECT(\"'関数（書き）'!C\" & COLUMN(C$1)+SUM($AD$2:$AD242))","v":0},{"$f":"INDIRECT(\"'関数（書き）'!C\" & COLUMN(D$1)+SUM($AD$2:$AD242))","v":0},{"$f":"INDIRECT(\"'関数（書き）'!C\" & COLUMN(E$1)+SUM($AD$2:$AD242))","v":0},{"$f":"INDIRECT(\"'関数（書き）'!C\" & COLUMN(F$1)+SUM($AD$2:$AD242))","v":0},{"$f":"INDIRECT(\"'関数（書き）'!C\" & COLUMN(G$1)+SUM($AD$2:$AD242))","v":0},{"$f":"INDIRECT(\"'関数（書き）'!C\" & COLUMN(H$1)+SUM($AD$2:$AD242))","v":0},{"$f":"INDIRECT(\"'関数（書き）'!C\" & COLUMN(I$1)+SUM($AD$2:$AD242))","v":0},{"$f":"INDIRECT(\"'関数（書き）'!C\" & COLUMN(J$1)+SUM($AD$2:$AD242))","v":0},{"$f":"INDIRECT(\"'関数（書き）'!C\" & COLUMN(K$1)+SUM($AD$2:$AD242))","v":0},{"$f":"INDIRECT(\"'関数（読み）'!C\" & COLUMN(B$1)+SUM($AD$2:$AD242))","v":0},{"$f":"INDIRECT(\"'関数（読み）'!C\" & COLUMN(C$1)+SUM($AD$2:$AD242))","v":0},{"$f":"INDIRECT(\"'関数（読み）'!C\" & COLUMN(D$1)+SUM($AD$2:$AD242))","v":0},{"$f":"INDIRECT(\"'関数（読み）'!C\" & COLUMN(E$1)+SUM($AD$2:$AD242))","v":0},{"$f":"INDIRECT(\"'関数（読み）'!C\" & COLUMN(F$1)+SUM($AD$2:$AD242))","v":0},{"$f":"INDIRECT(\"'関数（読み）'!C\" & COLUMN(G$1)+SUM($AD$2:$AD242))","v":0},{"$f":"INDIRECT(\"'関数（読み）'!C\" & COLUMN(H$1)+SUM($AD$2:$AD242))","v":0},{"$f":"INDIRECT(\"'関数（読み）'!C\" & COLUMN(I$1)+SUM($AD$2:$AD242))","v":0},{"$f":"INDIRECT(\"'関数（読み）'!C\" & COLUMN(J$1)+SUM($AD$2:$AD242))","v":0},{"$f":"INDIRECT(\"'関数（読み）'!C\" & COLUMN(K$1)+SUM($AD$2:$AD242))","v":0}]
["⑳","⑲","⑱","⑰","⑯","⑮","⑭","⑬","⑫","⑪","⑩","⑨","⑧","⑦","⑥","⑤","④","③","②","①","次の［　　　　］の部分の漢字には読みがなをひらがなで書き、カタカナは漢字に直しなさい。",11,"「漢字の博士検定試験」練習問題　",null,null,null,null,null,"←",10,"問",{"$f":"AH227+1","v":241},"～",{"$f":"SUM($AD$2:$AD242)+10","v":250},"問まで",{"$f":"COUNTIF($A$1:$T$200,T243)","v":5}]
[{"$f":"IF(A241=\"\",\"\",VLOOKUP(A241,漢字書き!$A$2:$N$506,6,0))","v":{"$error":"#N/A"}},{"$f":"IF(B241=\"\",\"\",VLOOKUP(B241,漢字書き!$A$2:$N$506,6,0))","v":{"$error":"#N/A"}},{"$f":"IF(C241=\"\",\"\",VLOOKUP(C241,漢字書き!$A$2:$N$506,6,0))","v":{"$error":"#N/A"}},{"$f":"IF(D241=\"\",\"\",VLOOKUP(D241,漢字書き!$A$2:$N$506,6,0))","v":{"$error":"#N/A"}},{"$f":"IF(E241=\"\",\"\",VLOOKUP(E241,漢字書き!$A$2:$N$506,6,0))","v":{"$error":"#N/A"}},{"$f":"IF(F241=\"\",\"\",VLOOKUP(F241,漢字書き!$A$2:$N$506,6,0))","v":{"$error":"#N/A"}},{"$f":"IF(G241=\"\",\"\",VLOOKUP(G241,漢字書き!$A$2:$N$506,6,0))","v":{"$error":"#N/A"}},{"$f":"IF(H241=\"\",\"\",VLOOKUP(H241,漢字書き!$A$2:$N$506,6,0))","v":{"$error":"#N/A"}},{"$f":"IF(I241=\"\",\"\",VLOOKUP(I241,漢字書き!$A$2:$N$506,6,0))","v":{"$error":"#N/A"}},{"$f":"IF(J241=\"\",\"\",VLOOKUP(J241,漢字書き!$A$2:$N$506,6,0))","v":{"$error":"#N/A"}},{"$f":"IF(K241=\"\",\"\",VLOOKUP(K241,漢字読み!$A$2:$O$506,6,0))","v":{"$error":"#N/A"}},{"$f":"IF(L241=\"\",\"\",VLOOKUP(L241,漢字読み!$A$2:$O$506,6,0))","v":{"$error":"#N/A"}},{"$f":"IF(M241=\"\",\"\",VLOOKUP(M241,漢字読み!$A$2:$O$506,6,0))","v":{"$error":"#N/A"}},{"$f":"IF(N241=\"\",\"\",VLOOKUP(N241,漢字読み!$A$2:$O$506,6,0))","v":{"$error":"#N/A"}},{"$f":"IF(O241=\"\",\"\",VLOOKUP(O241,漢字読み!$A$2:$O$506,6,0))","v":{"$error":"#N/A"}},{"$f":"IF(P241=\"\",\"\",VLOOKUP(P241,漢字読み!$A$2:$O$506,6,0))","v":{"$error":"#N/A"}},{"$f":"IF(Q241=\"\",\"\",VLOOKUP(Q241,漢字読み!$A$2:$O$506,6,0))","v":{"$error":"#N/A"}},{"$f":"IF(R241=\"\",\"\",VLOOKUP(R241,漢字読み!$A$2:$O$506,6,0))","v":{"$error":"#N/A"}},{"$f":"IF(S241=\"\",\"\",VLOOKUP(S241,漢字読み!$A$2:$O$506,6,0))","v":{"$error":"#N/A"}},{"$f":"IF(T241=\"\",\"\",VLOOKUP(T241,漢字読み!$A$2:$O$506,6,0))","v":{"$error":"#N/A"}},null,"級"]
[null,null,null,null,null,null,null,null,null,null,null,null,null,null,null,null,null,null,null,null,null,"名前"]
[{"$f":"IF(A241=\"\",\"\",IF(VLOOKUP(A241,漢字書き!$A$2:$N$502,7,0)=0,\"\",VLOOKUP(A241,漢字書き!$A$2:$N$502,7,0)))","v":{"$error":"#N/A"}},{"$f":"IF(B241=\"\",\"\",IF(VLOOKUP(B241,漢字書き!$A$2:$N$502,7,0)=0,\"\",VLOOKUP(B241,漢字書き!$A$2:$N$502,7,0)))","v":{"$error":"#N/A"}},{"$f":"IF(C241=\"\",\"\",IF(VLOOKUP(C241,漢字書き!$A$2:$N$502,7,0)=0,\"\",VLOOKUP(C241,漢字書き!$A$2:$N$502,7,0)))","v":{"$error":"#N/A"}},{"$f":"IF(D241=\"\",\"\",IF(VLOOKUP(D241,漢字書き!$A$2:$N$502,7,0)=0,\"\",VLOOKUP(D241,漢字書き!$A$2:$N$502,7,0)))","v":{"$error":"#N/A"}},{"$f":"IF(E241=\"\",\"\",IF(VLOOKUP(E241,漢字書き!$A$2:$N$502,7,0)=0,\"\",VLOOKUP(E241,漢字書き!$A$2:$N$502,7,0)))","v":{"$error":"#N/A"}},{"$f":"IF(F241=\"\",\"\",IF(VLOOKUP(F241,漢字書き!$A$2:$N$502,7,0)=0,\"\",VLOOKUP(F241,漢字書き!$A$2:$N$502,7,0)))","v":{"$error":"#N/A"}},{"$f":"IF(G241=\"\",\"\",IF(VLOOKUP(G241,漢字書き!$A$2:$N$502,7,0)=0,\"\",VLOOKUP(G241,漢字書き!$A$2:$N$502,7,0)))","v":{"$error":"#N/A"}},{"$f":"IF(H241=\"\",\"\",IF(VLOOKUP(H241,漢字書き!$A$2:$N$502,7,0)=0,\"\",VLOOKUP(H241,漢字書き!$A$2:$N$502,7,0)))","v":{"$error":"#N/A"}},{"$f":"IF(I241=\"\",\"\",IF(VLOOKUP(I241,漢字書き!$A$2:$N$502,7,0)=0,\"\",VLOOKUP(I241,漢字書き!$A$2:$N$502,7,0)))","v":{"$error":"#N/A"}},{"$f":"IF(J241=\"\",\"\",IF(VLOOKUP(J241,漢字書き!$A$2:$N$502,7,0)=0,\"\",VLOOKUP(J241,漢字書き!$A$2:$N$502,7,0)))","v":{"$error":"#N/A"}},{"$f":"IF(K241=\"\",\"\",IF(VLOOKUP(K241,漢字読み!$A$2:$O$502,7,0)=0,\"\",VLOOKUP(K241,漢字読み!$A$2:$O$502,7,0)))","v":{"$error":"#N/A"}},{"$f":"IF(L241=\"\",\"\",IF(VLOOKUP(L241,漢字読み!$A$2:$O$502,7,0)=0,\"\",VLOOKUP(L241,漢字読み!$A$2:$O$502,7,0)))","v":{"$error":"#N/A"}},{"$f":"IF(M241=\"\",\"\",IF(VLOOKUP(M241,漢字読み!$A$2:$O$502,7,0)=0,\"\",VLOOKUP(M241,漢字読み!$A$2:$O$502,7,0)))","v":{"$error":"#N/A"}},{"$f":"IF(N241=\"\",\"\",IF(VLOOKUP(N241,漢字読み!$A$2:$O$502,7,0)=0,\"\",VLOOKUP(N241,漢字読み!$A$2:$O$502,7,0)))","v":{"$error":"#N/A"}},{"$f":"IF(O241=\"\",\"\",IF(VLOOKUP(O241,漢字読み!$A$2:$O$502,7,0)=0,\"\",VLOOKUP(O241,漢字読み!$A$2:$O$502,7,0)))","v":{"$error":"#N/A"}},{"$f":"IF(P241=\"\",\"\",IF(VLOOKUP(P241,漢字読み!$A$2:$O$502,7,0)=0,\"\",VLOOKUP(P241,漢字読み!$A$2:$O$502,7,0)))","v":{"$error":"#N/A"}},{"$f":"IF(Q241=\"\",\"\",IF(VLOOKUP(Q241,漢字読み!$A$2:$O$502,7,0)=0,\"\",VLOOKUP(Q241,漢字読み!$A$2:$O$502,7,0)))","v":{"$error":"#N/A"}},{"$f":"IF(R241=\"\",\"\",IF(VLOOKUP(R241,漢字読み!$A$2:$O$502,7,0)=0,\"\",VLOOKUP(R241,漢字読み!$A$2:$O$502,7,0)))","v":{"$error":"#N/A"}},{"$f":"IF(S241=\"\",\"\",IF(VLOOKUP(S241,漢字読み!$A$2:$O$502,7,0)=0,\"\",VLOOKUP(S241,漢字読み!$A$2:$O$502,7,0)))","v":{"$error":"#N/A"}},{"$f":"IF(T241=\"\",\"\",IF(VLOOKUP(T241,漢字読み!$A$2:$O$502,7,0)=0,\"\",VLOOKUP(T241,漢字読み!$A$2:$O$502,7,0)))","v":{"$error":"#N/A"}},null,null,"和歌山県教育委員会"]
[{"$f":"INDIRECT(\"'関数（書き）'!C\" & COLUMN(B$1)+SUM($AD$2:$AD247))","v":0},{"$f":"INDIRECT(\"'関数（書き）'!C\" & COLUMN(C$1)+SUM($AD$2:$AD247))","v":0},{"$f":"INDIRECT(\"'関数（書き）'!C\" & COLUMN(D$1)+SUM($AD$2:$AD247))","v":0},{"$f":"INDIRECT(\"'関数（書き）'!C\" & COLUMN(E$1)+SUM($AD$2:$AD247))","v":0},{"$f":"INDIRECT(\"'関数（書き）'!C\" & COLUMN(F$1)+SUM($AD$2:$AD247))","v":0},{"$f":"INDIRECT(\"'関数（書き）'!C\" & COLUMN(G$1)+SUM($AD$2:$AD247))","v":0},{"$f":"INDIRECT(\"'関数（書き）'!C\" & COLUMN(H$1)+SUM($AD$2:$AD247))","v":0},{"$f":"INDIRECT(\"'関数（書き）'!C\" & COLUMN(I$1)+SUM($AD$2:$AD247))","v":0},{"$f":"INDIRECT(\"'関数（書き）'!C\" & COLUMN(J$1)+SUM($AD$2:$AD247))","v":0},{"$f":"INDIRECT(\"'関数（書き）'!C\" & COLUMN(K$1)+SUM($AD$2:$AD247))","v":0},{"$f":"INDIRECT(\"'関数（読み）'!C\" & COLUMN(B$1)+SUM($AD$2:$AD247))","v":0},{"$f":"INDIRECT(\"'関数（読み）'!C\" & COLUMN(C$1)+SUM($AD$2:$AD247))","v":0},{"$f":"INDIRECT(\"'関数（読み）'!C\" & COLUMN(D$1)+SUM($AD$2:$AD247))","v":0},{"$f":"INDIRECT(\"'関数（読み）'!C\" & COLUMN(E$1)+SUM($AD$2:$AD247))","v":0},{"$f":"INDIRECT(\"'関数（読み）'!C\" & COLUMN(F$1)+SUM($AD$2:$AD247))","v":0},{"$f":"INDIRECT(\"'関数（読み）'!C\" & COLUMN(G$1)+SUM($AD$2:$AD247))","v":0},{"$f":"INDIRECT(\"'関数（読み）'!C\" & COLUMN(H$1)+SUM($AD$2:$AD247))","v":0},{"$f":"INDIRECT(\"'関数（読み）'!C\" & COLUMN(I$1)+SUM($AD$2:$AD247))","v":0},{"$f":"INDIRECT(\"'関数（読み）'!C\" & COLUMN(J$1)+SUM($AD$2:$AD247))","v":0},{"$f":"INDIRECT(\"'関数（読み）'!C\" & COLUMN(K$1)+SUM($AD$2:$AD247))","v":0}]
["⑳","⑲","⑱","⑰","⑯","⑮","⑭","⑬","⑫","⑪","⑩","⑨","⑧","⑦","⑥","⑤","④","③","②","①","次の［　　　　］の部分の漢字には読みがなをひらがなで書き、カタカナは漢字に直しなさい。",11,"「漢字の博士検定試験」練習問題　",null,null,null,null,null,"←",10,"問",{"$f":"AH242+1","v":251},"～",{"$f":"SUM($AD$2:$AD247)+10","v":260},"問まで",{"$f":"COUNTIF($A$1:$T$200,T248)","v":5}]
[{"$f":"IF(A246=\"\",\"\",VLOOKUP(A246,漢字書き!$A$2:$N$506,6,0))","v":{"$error":"#N/A"}},{"$f":"IF(B246=\"\",\"\",VLOOKUP(B246,漢字書き!$A$2:$N$506,6,0))","v":{"$error":"#N/A"}},{"$f":"IF(C246=\"\",\"\",VLOOKUP(C246,漢字書き!$A$2:$N$506,6,0))","v":{"$error":"#N/A"}},{"$f":"IF(D246=\"\",\"\",VLOOKUP(D246,漢字書き!$A$2:$N$506,6,0))","v":{"$error":"#N/A"}},{"$f":"IF(E246=\"\",\"\",VLOOKUP(E246,漢字書き!$A$2:$N$506,6,0))","v":{"$error":"#N/A"}},{"$f":"IF(F246=\"\",\"\",VLOOKUP(F246,漢字書き!$A$2:$N$506,6,0))","v":{"$error":"#N/A"}},{"$f":"IF(G246=\"\",\"\",VLOOKUP(G246,漢字書き!$A$2:$N$506,6,0))","v":{"$error":"#N/A"}},{"$f":"IF(H246=\"\",\"\",VLOOKUP(H246,漢字書き!$A$2:$N$506,6,0))","v":{"$error":"#N/A"}},{"$f":"IF(I246=\"\",\"\",VLOOKUP(I246,漢字書き!$A$2:$N$506,6,0))","v":{"$error":"#N/A"}},{"$f":"IF(J246=\"\",\"\",VLOOKUP(J246,漢字書き!$A$2:$N$506,6,0))","v":{"$error":"#N/A"}},{"$f":"IF(K246=\"\",\"\",VLOOKUP(K246,漢字読み!$A$2:$O$506,6,0))","v":{"$error":"#N/A"}},{"$f":"IF(L246=\"\",\"\",VLOOKUP(L246,漢字読み!$A$2:$O$506,6,0))","v":{"$error":"#N/A"}},{"$f":"IF(M246=\"\",\"\",VLOOKUP(M246,漢字読み!$A$2:$O$506,6,0))","v":{"$error":"#N/A"}},{"$f":"IF(N246=\"\",\"\",VLOOKUP(N246,漢字読み!$A$2:$O$506,6,0))","v":{"$error":"#N/A"}},{"$f":"IF(O246=\"\",\"\",VLOOKUP(O246,漢字読み!$A$2:$O$506,6,0))","v":{"$error":"#N/A"}},{"$f":"IF(P246=\"\",\"\",VLOOKUP(P246,漢字読み!$A$2:$O$506,6,0))","v":{"$error":"#N/A"}},{"$f":"IF(Q246=\"\",\"\",VLOOKUP(Q246,漢字読み!$A$2:$O$506,6,0))","v":{"$error":"#N/A"}},{"$f":"IF(R246=\"\",\"\",VLOOKUP(R246,漢字読み!$A$2:$O$506,6,0))","v":{"$error":"#N/A"}},{"$f":"IF(S246=\"\",\"\",VLOOKUP(S246,漢字読み!$A$2:$O$506,6,0))","v":{"$error":"#N/A"}},{"$f":"IF(T246=\"\",\"\",VLOOKUP(T246,漢字読み!$A$2:$O$506,6,0))","v":{"$error":"#N/A"}},null,"級"]
[null,null,null,null,null,null,null,null,null,null,null,null,null,null,null,null,null,null,null,null,null,"名前"]
[{"$f":"IF(A246=\"\",\"\",IF(VLOOKUP(A246,漢字書き!$A$2:$N$502,7,0)=0,\"\",VLOOKUP(A246,漢字書き!$A$2:$N$502,7,0)))","v":{"$error":"#N/A"}},{"$f":"IF(B246=\"\",\"\",IF(VLOOKUP(B246,漢字書き!$A$2:$N$502,7,0)=0,\"\",VLOOKUP(B246,漢字書き!$A$2:$N$502,7,0)))","v":{"$error":"#N/A"}},{"$f":"IF(C246=\"\",\"\",IF(VLOOKUP(C246,漢字書き!$A$2:$N$502,7,0)=0,\"\",VLOOKUP(C246,漢字書き!$A$2:$N$502,7,0)))","v":{"$error":"#N/A"}},{"$f":"IF(D246=\"\",\"\",IF(VLOOKUP(D246,漢字書き!$A$2:$N$502,7,0)=0,\"\",VLOOKUP(D246,漢字書き!$A$2:$N$502,7,0)))","v":{"$error":"#N/A"}},{"$f":"IF(E246=\"\",\"\",IF(VLOOKUP(E246,漢字書き!$A$2:$N$502,7,0)=0,\"\",VLOOKUP(E246,漢字書き!$A$2:$N$502,7,0)))","v":{"$error":"#N/A"}},{"$f":"IF(F246=\"\",\"\",IF(VLOOKUP(F246,漢字書き!$A$2:$N$502,7,0)=0,\"\",VLOOKUP(F246,漢字書き!$A$2:$N$502,7,0)))","v":{"$error":"#N/A"}},{"$f":"IF(G246=\"\",\"\",IF(VLOOKUP(G246,漢字書き!$A$2:$N$502,7,0)=0,\"\",VLOOKUP(G246,漢字書き!$A$2:$N$502,7,0)))","v":{"$error":"#N/A"}},{"$f":"IF(H246=\"\",\"\",IF(VLOOKUP(H246,漢字書き!$A$2:$N$502,7,0)=0,\"\",VLOOKUP(H246,漢字書き!$A$2:$N$502,7,0)))","v":{"$error":"#N/A"}},{"$f":"IF(I246=\"\",\"\",IF(VLOOKUP(I246,漢字書き!$A$2:$N$502,7,0)=0,\"\",VLOOKUP(I246,漢字書き!$A$2:$N$502,7,0)))","v":{"$error":"#N/A"}},{"$f":"IF(J246=\"\",\"\",IF(VLOOKUP(J246,漢字書き!$A$2:$N$502,7,0)=0,\"\",VLOOKUP(J246,漢字書き!$A$2:$N$502,7,0)))","v":{"$error":"#N/A"}},{"$f":"IF(K246=\"\",\"\",IF(VLOOKUP(K246,漢字読み!$A$2:$O$502,7,0)=0,\"\",VLOOKUP(K246,漢字読み!$A$2:$O$502,7,0)))","v":{"$error":"#N/A"}},{"$f":"IF(L246=\"\",\"\",IF(VLOOKUP(L246,漢字読み!$A$2:$O$502,7,0)=0,\"\",VLOOKUP(L246,漢字読み!$A$2:$O$502,7,0)))","v":{"$error":"#N/A"}},{"$f":"IF(M246=\"\",\"\",IF(VLOOKUP(M246,漢字読み!$A$2:$O$502,7,0)=0,\"\",VLOOKUP(M246,漢字読み!$A$2:$O$502,7,0)))","v":{"$error":"#N/A"}},{"$f":"IF(N246=\"\",\"\",IF(VLOOKUP(N246,漢字読み!$A$2:$O$502,7,0)=0,\"\",VLOOKUP(N246,漢字読み!$A$2:$O$502,7,0)))","v":{"$error":"#N/A"}},{"$f":"IF(O246=\"\",\"\",IF(VLOOKUP(O246,漢字読み!$A$2:$O$502,7,0)=0,\"\",VLOOKUP(O246,漢字読み!$A$2:$O$502,7,0)))","v":{"$error":"#N/A"}},{"$f":"IF(P246=\"\",\"\",IF(VLOOKUP(P246,漢字読み!$A$2:$O$502,7,0)=0,\"\",VLOOKUP(P246,漢字読み!$A$2:$O$502,7,0)))","v":{"$error":"#N/A"}},{"$f":"IF(Q246=\"\",\"\",IF(VLOOKUP(Q246,漢字読み!$A$2:$O$502,7,0)=0,\"\",VLOOKUP(Q246,漢字読み!$A$2:$O$502,7,0)))","v":{"$error":"#N/A"}},{"$f":"IF(R246=\"\",\"\",IF(VLOOKUP(R246,漢字読み!$A$2:$O$502,7,0)=0,\"\",VLOOKUP(R246,漢字読み!$A$2:$O$502,7,0)))","v":{"$error":"#N/A"}},{"$f":"IF(S246=\"\",\"\",IF(VLOOKUP(S246,漢字読み!$A$2:$O$502,7,0)=0,\"\",VLOOKUP(S246,漢字読み!$A$2:$O$502,7,0)))","v":{"$error":"#N/A"}},{"$f":"IF(T246=\"\",\"\",IF(VLOOKUP(T246,漢字読み!$A$2:$O$502,7,0)=0,\"\",VLOOKUP(T246,漢字読み!$A$2:$O$502,7,0)))","v":{"$error":"#N/A"}},null,null,"和歌山県教育委員会"]
[{"$f":"A241","v":0},{"$f":"B241","v":0},{"$f":"C241","v":0},{"$f":"D241","v":0},{"$f":"E241","v":0},{"$f":"F241","v":0},{"$f":"G241","v":0},{"$f":"H241","v":0},{"$f":"I241","v":0},{"$f":"J241","v":0},{"$f":"K241","v":0},{"$f":"L241","v":0},{"$f":"M241","v":0},{"$f":"N241","v":0},{"$f":"O241","v":0},{"$f":"P241","v":0},{"$f":"Q241","v":0},{"$f":"R241","v":0},{"$f":"S241","v":0},{"$f":"T241","v":0}]
["⑳","⑲","⑱","⑰","⑯","⑮","⑭","⑬","⑫","⑪","⑩","⑨","⑧","⑦","⑥","⑤","④","③","②","①","次の［　　　　］の部分の漢字には読みがなをひらがなで書き、カタカナは漢字に直しなさい。",11,"「漢字の博士検定試験」練習問題　"]
[{"$f":"IF(A251=\"\",\"\",VLOOKUP(A251,漢字書き!$A$2:$N$506,6,0))","v":{"$error":"#N/A"}},{"$f":"IF(B251=\"\",\"\",VLOOKUP(B251,漢字書き!$A$2:$N$506,6,0))","v":{"$error":"#N/A"}},{"$f":"IF(C251=\"\",\"\",VLOOKUP(C251,漢字書き!$A$2:$N$506,6,0))","v":{"$error":"#N/A"}},{"$f":"IF(D251=\"\",\"\",VLOOKUP(D251,漢字書き!$A$2:$N$506,6,0))","v":{"$error":"#N/A"}},{"$f":"IF(E251=\"\",\"\",VLOOKUP(E251,漢字書き!$A$2:$N$506,6,0))","v":{"$error":"#N/A"}},{"$f":"IF(F251=\"\",\"\",VLOOKUP(F251,漢字書き!$A$2:$N$506,6,0))","v":{"$error":"#N/A"}},{"$f":"IF(G251=\"\",\"\",VLOOKUP(G251,漢字書き!$A$2:$N$506,6,0))","v":{"$error":"#N/A"}},{"$f":"IF(H251=\"\",\"\",VLOOKUP(H251,漢字書き!$A$2:$N$506,6,0))","v":{"$error":"#N/A"}},{"$f":"IF(I251=\"\",\"\",VLOOKUP(I251,漢字書き!$A$2:$N$506,6,0))","v":{"$error":"#N/A"}},{"$f":"IF(J251=\"\",\"\",VLOOKUP(J251,漢字書き!$A$2:$N$506,6,0))","v":{"$error":"#N/A"}},{"$f":"IF(K251=\"\",\"\",VLOOKUP(K251,漢字読み!$A$2:$O$506,6,0))","v":{"$error":"#N/A"}},{"$f":"IF(L251=\"\",\"\",VLOOKUP(L251,漢字読み!$A$2:$O$506,6,0))","v":{"$error":"#N/A"}},{"$f":"IF(M251=\"\",\"\",VLOOKUP(M251,漢字読み!$A$2:$O$506,6,0))","v":{"$error":"#N/A"}},{"$f":"IF(N251=\"\",\"\",VLOOKUP(N251,漢字読み!$A$2:$O$506,6,0))","v":{"$error":"#N/A"}},{"$f":"IF(O251=\"\",\"\",VLOOKUP(O251,漢字読み!$A$2:$O$506,6,0))","v":{"$error":"#N/A"}},{"$f":"IF(P251=\"\",\"\",VLOOKUP(P251,漢字読み!$A$2:$O$506,6,0))","v":{"$error":"#N/A"}},{"$f":"IF(Q251=\"\",\"\",VLOOKUP(Q251,漢字読み!$A$2:$O$506,6,0))","v":{"$error":"#N/A"}},{"$f":"IF(R251=\"\",\"\",VLOOKUP(R251,漢字読み!$A$2:$O$506,6,0))","v":{"$error":"#N/A"}},{"$f":"IF(S251=\"\",\"\",VLOOKUP(S251,漢字読み!$A$2:$O$506,6,0))","v":{"$error":"#N/A"}},{"$f":"IF(T251=\"\",\"\",VLOOKUP(T251,漢字読み!$A$2:$O$506,6,0))","v":{"$error":"#N/A"}},null,"級"]
[{"$f":"IF(A$11=\"\",\"\",VLOOKUP(A251,漢字書き!$A$2:$O$506,8,0))","v":{"$error":"#N/A"}},{"$f":"IF(B$11=\"\",\"\",VLOOKUP(B251,漢字書き!$A$2:$O$506,8,0))","v":{"$error":"#N/A"}},{"$f":"IF(C$11=\"\",\"\",VLOOKUP(C251,漢字書き!$A$2:$O$506,8,0))","v":{"$error":"#N/A"}},{"$f":"IF(D$11=\"\",\"\",VLOOKUP(D251,漢字書き!$A$2:$O$506,8,0))","v":{"$error":"#N/A"}},{"$f":"IF(E$11=\"\",\"\",VLOOKUP(E251,漢字書き!$A$2:$O$506,8,0))","v":{"$error":"#N/A"}},{"$f":"IF(F$11=\"\",\"\",VLOOKUP(F251,漢字書き!$A$2:$O$506,8,0))","v":{"$error":"#N/A"}},{"$f":"IF(G$11=\"\",\"\",VLOOKUP(G251,漢字書き!$A$2:$O$506,8,0))","v":{"$error":"#N/A"}},{"$f":"IF(H$11=\"\",\"\",VLOOKUP(H251,漢字書き!$A$2:$O$506,8,0))","v":{"$error":"#N/A"}},{"$f":"IF(I$11=\"\",\"\",VLOOKUP(I251,漢字書き!$A$2:$O$506,8,0))","v":{"$error":"#N/A"}},{"$f":"IF(J$11=\"\",\"\",VLOOKUP(J251,漢字書き!$A$2:$O$506,8,0))","v":{"$error":"#N/A"}},{"$f":"IF(K$11=\"\",\"\",VLOOKUP(K251,漢字読み!$A$2:$O$506,8,0))","v":{"$error":"#N/A"}},{"$f":"IF(L$11=\"\",\"\",VLOOKUP(L251,漢字読み!$A$2:$O$506,8,0))","v":{"$error":"#N/A"}},{"$f":"IF(M$11=\"\",\"\",VLOOKUP(M251,漢字読み!$A$2:$O$506,8,0))","v":{"$error":"#N/A"}},{"$f":"IF(N$11=\"\",\"\",VLOOKUP(N251,漢字読み!$A$2:$O$506,8,0))","v":{"$error":"#N/A"}},{"$f":"IF(O$11=\"\",\"\",VLOOKUP(O251,漢字読み!$A$2:$O$506,8,0))","v":{"$error":"#N/A"}},{"$f":"IF(P$11=\"\",\"\",VLOOKUP(P251,漢字読み!$A$2:$O$506,8,0))","v":{"$error":"#N/A"}},{"$f":"IF(Q$11=\"\",\"\",VLOOKUP(Q251,漢字読み!$A$2:$O$506,8,0))","v":{"$error":"#N/A"}},{"$f":"IF(R$11=\"\",\"\",VLOOKUP(R251,漢字読み!$A$2:$O$506,8,0))","v":{"$error":"#N/A"}},{"$f":"IF(S$11=\"\",\"\",VLOOKUP(S251,漢字読み!$A$2:$O$506,8,0))","v":{"$error":"#N/A"}},{"$f":"IF(T$11=\"\",\"\",VLOOKUP(T251,漢字読み!$A$2:$O$506,8,0))","v":{"$error":"#N/A"}},null,"名前"]
[{"$f":"IF(A251=\"\",\"\",IF(VLOOKUP(A251,漢字書き!$A$2:$N$502,7,0)=0,\"\",VLOOKUP(A251,漢字書き!$A$2:$N$502,7,0)))","v":{"$error":"#N/A"}},{"$f":"IF(B251=\"\",\"\",IF(VLOOKUP(B251,漢字書き!$A$2:$N$502,7,0)=0,\"\",VLOOKUP(B251,漢字書き!$A$2:$N$502,7,0)))","v":{"$error":"#N/A"}},{"$f":"IF(C251=\"\",\"\",IF(VLOOKUP(C251,漢字書き!$A$2:$N$502,7,0)=0,\"\",VLOOKUP(C251,漢字書き!$A$2:$N$502,7,0)))","v":{"$error":"#N/A"}},{"$f":"IF(D251=\"\",\"\",IF(VLOOKUP(D251,漢字書き!$A$2:$N$502,7,0)=0,\"\",VLOOKUP(D251,漢字書き!$A$2:$N$502,7,0)))","v":{"$error":"#N/A"}},{"$f":"IF(E251=\"\",\"\",IF(VLOOKUP(E251,漢字書き!$A$2:$N$502,7,0)=0,\"\",VLOOKUP(E251,漢字書き!$A$2:$N$502,7,0)))","v":{"$error":"#N/A"}},{"$f":"IF(F251=\"\",\"\",IF(VLOOKUP(F251,漢字書き!$A$2:$N$502,7,0)=0,\"\",VLOOKUP(F251,漢字書き!$A$2:$N$502,7,0)))","v":{"$error":"#N/A"}},{"$f":"IF(G251=\"\",\"\",IF(VLOOKUP(G251,漢字書き!$A$2:$N$502,7,0)=0,\"\",VLOOKUP(G251,漢字書き!$A$2:$N$502,7,0)))","v":{"$error":"#N/A"}},{"$f":"IF(H251=\"\",\"\",IF(VLOOKUP(H251,漢字書き!$A$2:$N$502,7,0)=0,\"\",VLOOKUP(H251,漢字書き!$A$2:$N$502,7,0)))","v":{"$error":"#N/A"}},{"$f":"IF(I251=\"\",\"\",IF(VLOOKUP(I251,漢字書き!$A$2:$N$502,7,0)=0,\"\",VLOOKUP(I251,漢字書き!$A$2:$N$502,7,0)))","v":{"$error":"#N/A"}},{"$f":"IF(J251=\"\",\"\",IF(VLOOKUP(J251,漢字書き!$A$2:$N$502,7,0)=0,\"\",VLOOKUP(J251,漢字書き!$A$2:$N$502,7,0)))","v":{"$error":"#N/A"}},{"$f":"IF(K251=\"\",\"\",IF(VLOOKUP(K251,漢字読み!$A$2:$O$502,7,0)=0,\"\",VLOOKUP(K251,漢字読み!$A$2:$O$502,7,0)))","v":{"$error":"#N/A"}},{"$f":"IF(L251=\"\",\"\",IF(VLOOKUP(L251,漢字読み!$A$2:$O$502,7,0)=0,\"\",VLOOKUP(L251,漢字読み!$A$2:$O$502,7,0)))","v":{"$error":"#N/A"}},{"$f":"IF(M251=\"\",\"\",IF(VLOOKUP(M251,漢字読み!$A$2:$O$502,7,0)=0,\"\",VLOOKUP(M251,漢字読み!$A$2:$O$502,7,0)))","v":{"$error":"#N/A"}},{"$f":"IF(N251=\"\",\"\",IF(VLOOKUP(N251,漢字読み!$A$2:$O$502,7,0)=0,\"\",VLOOKUP(N251,漢字読み!$A$2:$O$502,7,0)))","v":{"$error":"#N/A"}},{"$f":"IF(O251=\"\",\"\",IF(VLOOKUP(O251,漢字読み!$A$2:$O$502,7,0)=0,\"\",VLOOKUP(O251,漢字読み!$A$2:$O$502,7,0)))","v":{"$error":"#N/A"}},{"$f":"IF(P251=\"\",\"\",IF(VLOOKUP(P251,漢字読み!$A$2:$O$502,7,0)=0,\"\",VLOOKUP(P251,漢字読み!$A$2:$O$502,7,0)))","v":{"$error":"#N/A"}},{"$f":"IF(Q251=\"\",\"\",IF(VLOOKUP(Q251,漢字読み!$A$2:$O$502,7,0)=0,\"\",VLOOKUP(Q251,漢字読み!$A$2:$O$502,7,0)))","v":{"$error":"#N/A"}},{"$f":"IF(R251=\"\",\"\",IF(VLOOKUP(R251,漢字読み!$A$2:$O$502,7,0)=0,\"\",VLOOKUP(R251,漢字読み!$A$2:$O$502,7,0)))","v":{"$error":"#N/A"}},{"$f":"IF(S251=\"\",\"\",IF(VLOOKUP(S251,漢字読み!$A$2:$O$502,7,0)=0,\"\",VLOOKUP(S251,漢字読み!$A$2:$O$502,7,0)))","v":{"$error":"#N/A"}},{"$f":"IF(T251=\"\",\"\",IF(VLOOKUP(T251,漢字読み!$A$2:$O$502,7,0)=0,\"\",VLOOKUP(T251,漢字読み!$A$2:$O$502,7,0)))","v":{"$error":"#N/A"}},null,null,"和歌山県教育委員会"]
[{"$f":"A246","v":0},{"$f":"B246","v":0},{"$f":"C246","v":0},{"$f":"D246","v":0},{"$f":"E246","v":0},{"$f":"F246","v":0},{"$f":"G246","v":0},{"$f":"H246","v":0},{"$f":"I246","v":0},{"$f":"J246","v":0},{"$f":"K246","v":0},{"$f":"L246","v":0},{"$f":"M246","v":0},{"$f":"N246","v":0},{"$f":"O246","v":0},{"$f":"P246","v":0},{"$f":"Q246","v":0},{"$f":"R246","v":0},{"$f":"S246","v":0},{"$f":"T246","v":0}]
["⑳","⑲","⑱","⑰","⑯","⑮","⑭","⑬","⑫","⑪","⑩","⑨","⑧","⑦","⑥","⑤","④","③","②","①","次の［　　　　］の部分の漢字には読みがなをひらがなで書き、カタカナは漢字に直しなさい。",11,"「漢字の博士検定試験」練習問題　"]
[{"$f":"IF(A256=\"\",\"\",VLOOKUP(A256,漢字書き!$A$2:$N$506,6,0))","v":{"$error":"#N/A"}},{"$f":"IF(B256=\"\",\"\",VLOOKUP(B256,漢字書き!$A$2:$N$506,6,0))","v":{"$error":"#N/A"}},{"$f":"IF(C256=\"\",\"\",VLOOKUP(C256,漢字書き!$A$2:$N$506,6,0))","v":{"$error":"#N/A"}},{"$f":"IF(D256=\"\",\"\",VLOOKUP(D256,漢字書き!$A$2:$N$506,6,0))","v":{"$error":"#N/A"}},{"$f":"IF(E256=\"\",\"\",VLOOKUP(E256,漢字書き!$A$2:$N$506,6,0))","v":{"$error":"#N/A"}},{"$f":"IF(F256=\"\",\"\",VLOOKUP(F256,漢字書き!$A$2:$N$506,6,0))","v":{"$error":"#N/A"}},{"$f":"IF(G256=\"\",\"\",VLOOKUP(G256,漢字書き!$A$2:$N$506,6,0))","v":{"$error":"#N/A"}},{"$f":"IF(H256=\"\",\"\",VLOOKUP(H256,漢字書き!$A$2:$N$506,6,0))","v":{"$error":"#N/A"}},{"$f":"IF(I256=\"\",\"\",VLOOKUP(I256,漢字書き!$A$2:$N$506,6,0))","v":{"$error":"#N/A"}},{"$f":"IF(J256=\"\",\"\",VLOOKUP(J256,漢字書き!$A$2:$N$506,6,0))","v":{"$error":"#N/A"}},{"$f":"IF(K256=\"\",\"\",VLOOKUP(K256,漢字読み!$A$2:$O$506,6,0))","v":{"$error":"#N/A"}},{"$f":"IF(L256=\"\",\"\",VLOOKUP(L256,漢字読み!$A$2:$O$506,6,0))","v":{"$error":"#N/A"}},{"$f":"IF(M256=\"\",\"\",VLOOKUP(M256,漢字読み!$A$2:$O$506,6,0))","v":{"$error":"#N/A"}},{"$f":"IF(N256=\"\",\"\",VLOOKUP(N256,漢字読み!$A$2:$O$506,6,0))","v":{"$error":"#N/A"}},{"$f":"IF(O256=\"\",\"\",VLOOKUP(O256,漢字読み!$A$2:$O$506,6,0))","v":{"$error":"#N/A"}},{"$f":"IF(P256=\"\",\"\",VLOOKUP(P256,漢字読み!$A$2:$O$506,6,0))","v":{"$error":"#N/A"}},{"$f":"IF(Q256=\"\",\"\",VLOOKUP(Q256,漢字読み!$A$2:$O$506,6,0))","v":{"$error":"#N/A"}},{"$f":"IF(R256=\"\",\"\",VLOOKUP(R256,漢字読み!$A$2:$O$506,6,0))","v":{"$error":"#N/A"}},{"$f":"IF(S256=\"\",\"\",VLOOKUP(S256,漢字読み!$A$2:$O$506,6,0))","v":{"$error":"#N/A"}},{"$f":"IF(T256=\"\",\"\",VLOOKUP(T256,漢字読み!$A$2:$O$506,6,0))","v":{"$error":"#N/A"}},null,"級"]
[{"$f":"IF(A$16=\"\",\"\",VLOOKUP(A256,漢字書き!$A$2:$O$506,8,0))","v":{"$error":"#N/A"}},{"$f":"IF(B$16=\"\",\"\",VLOOKUP(B256,漢字書き!$A$2:$O$506,8,0))","v":{"$error":"#N/A"}},{"$f":"IF(C$16=\"\",\"\",VLOOKUP(C256,漢字書き!$A$2:$O$506,8,0))","v":{"$error":"#N/A"}},{"$f":"IF(D$16=\"\",\"\",VLOOKUP(D256,漢字書き!$A$2:$O$506,8,0))","v":{"$error":"#N/A"}},{"$f":"IF(E$16=\"\",\"\",VLOOKUP(E256,漢字書き!$A$2:$O$506,8,0))","v":{"$error":"#N/A"}},{"$f":"IF(F$16=\"\",\"\",VLOOKUP(F256,漢字書き!$A$2:$O$506,8,0))","v":{"$error":"#N/A"}},{"$f":"IF(G$16=\"\",\"\",VLOOKUP(G256,漢字書き!$A$2:$O$506,8,0))","v":{"$error":"#N/A"}},{"$f":"IF(H$16=\"\",\"\",VLOOKUP(H256,漢字書き!$A$2:$O$506,8,0))","v":{"$error":"#N/A"}},{"$f":"IF(I$16=\"\",\"\",VLOOKUP(I256,漢字書き!$A$2:$O$506,8,0))","v":{"$error":"#N/A"}},{"$f":"IF(J$16=\"\",\"\",VLOOKUP(J256,漢字書き!$A$2:$O$506,8,0))","v":{"$error":"#N/A"}},{"$f":"IF(K$16=\"\",\"\",VLOOKUP(K256,漢字読み!$A$2:$O$506,8,0))","v":{"$error":"#N/A"}},{"$f":"IF(L$16=\"\",\"\",VLOOKUP(L256,漢字読み!$A$2:$O$506,8,0))","v":{"$error":"#N/A"}},{"$f":"IF(M$16=\"\",\"\",VLOOKUP(M256,漢字読み!$A$2:$O$506,8,0))","v":{"$error":"#N/A"}},{"$f":"IF(N$16=\"\",\"\",VLOOKUP(N256,漢字読み!$A$2:$O$506,8,0))","v":{"$error":"#N/A"}},{"$f":"IF(O$16=\"\",\"\",VLOOKUP(O256,漢字読み!$A$2:$O$506,8,0))","v":{"$error":"#N/A"}},{"$f":"IF(P$16=\"\",\"\",VLOOKUP(P256,漢字読み!$A$2:$O$506,8,0))","v":{"$error":"#N/A"}},{"$f":"IF(Q$16=\"\",\"\",VLOOKUP(Q256,漢字読み!$A$2:$O$506,8,0))","v":{"$error":"#N/A"}},{"$f":"IF(R$16=\"\",\"\",VLOOKUP(R256,漢字読み!$A$2:$O$506,8,0))","v":{"$error":"#N/A"}},{"$f":"IF(S$16=\"\",\"\",VLOOKUP(S256,漢字読み!$A$2:$O$506,8,0))","v":{"$error":"#N/A"}},{"$f":"IF(T$16=\"\",\"\",VLOOKUP(T256,漢字読み!$A$2:$O$506,8,0))","v":{"$error":"#N/A"}},null,"名前"]
[{"$f":"IF(A256=\"\",\"\",IF(VLOOKUP(A256,漢字書き!$A$2:$N$502,7,0)=0,\"\",VLOOKUP(A256,漢字書き!$A$2:$N$502,7,0)))","v":{"$error":"#N/A"}},{"$f":"IF(B256=\"\",\"\",IF(VLOOKUP(B256,漢字書き!$A$2:$N$502,7,0)=0,\"\",VLOOKUP(B256,漢字書き!$A$2:$N$502,7,0)))","v":{"$error":"#N/A"}},{"$f":"IF(C256=\"\",\"\",IF(VLOOKUP(C256,漢字書き!$A$2:$N$502,7,0)=0,\"\",VLOOKUP(C256,漢字書き!$A$2:$N$502,7,0)))","v":{"$error":"#N/A"}},{"$f":"IF(D256=\"\",\"\",IF(VLOOKUP(D256,漢字書き!$A$2:$N$502,7,0)=0,\"\",VLOOKUP(D256,漢字書き!$A$2:$N$502,7,0)))","v":{"$error":"#N/A"}},{"$f":"IF(E256=\"\",\"\",IF(VLOOKUP(E256,漢字書き!$A$2:$N$502,7,0)=0,\"\",VLOOKUP(E256,漢字書き!$A$2:$N$502,7,0)))","v":{"$error":"#N/A"}},{"$f":"IF(F256=\"\",\"\",IF(VLOOKUP(F256,漢字書き!$A$2:$N$502,7,0)=0,\"\",VLOOKUP(F256,漢字書き!$A$2:$N$502,7,0)))","v":{"$error":"#N/A"}},{"$f":"IF(G256=\"\",\"\",IF(VLOOKUP(G256,漢字書き!$A$2:$N$502,7,0)=0,\"\",VLOOKUP(G256,漢字書き!$A$2:$N$502,7,0)))","v":{"$error":"#N/A"}},{"$f":"IF(H256=\"\",\"\",IF(VLOOKUP(H256,漢字書き!$A$2:$N$502,7,0)=0,\"\",VLOOKUP(H256,漢字書き!$A$2:$N$502,7,0)))","v":{"$error":"#N/A"}},{"$f":"IF(I256=\"\",\"\",IF(VLOOKUP(I256,漢字書き!$A$2:$N$502,7,0)=0,\"\",VLOOKUP(I256,漢字書き!$A$2:$N$502,7,0)))","v":{"$error":"#N/A"}},{"$f":"IF(J256=\"\",\"\",IF(VLOOKUP(J256,漢字書き!$A$2:$N$502,7,0)=0,\"\",VLOOKUP(J256,漢字書き!$A$2:$N$502,7,0)))","v":{"$error":"#N/A"}},{"$f":"IF(K256=\"\",\"\",IF(VLOOKUP(K256,漢字読み!$A$2:$O$502,7,0)=0,\"\",VLOOKUP(K256,漢字読み!$A$2:$O$502,7,0)))","v":{"$error":"#N/A"}},{"$f":"IF(L256=\"\",\"\",IF(VLOOKUP(L256,漢字読み!$A$2:$O$502,7,0)=0,\"\",VLOOKUP(L256,漢字読み!$A$2:$O$502,7,0)))","v":{"$error":"#N/A"}},{"$f":"IF(M256=\"\",\"\",IF(VLOOKUP(M256,漢字読み!$A$2:$O$502,7,0)=0,\"\",VLOOKUP(M256,漢字読み!$A$2:$O$502,7,0)))","v":{"$error":"#N/A"}},{"$f":"IF(N256=\"\",\"\",IF(VLOOKUP(N256,漢字読み!$A$2:$O$502,7,0)=0,\"\",VLOOKUP(N256,漢字読み!$A$2:$O$502,7,0)))","v":{"$error":"#N/A"}},{"$f":"IF(O256=\"\",\"\",IF(VLOOKUP(O256,漢字読み!$A$2:$O$502,7,0)=0,\"\",VLOOKUP(O256,漢字読み!$A$2:$O$502,7,0)))","v":{"$error":"#N/A"}},{"$f":"IF(P256=\"\",\"\",IF(VLOOKUP(P256,漢字読み!$A$2:$O$502,7,0)=0,\"\",VLOOKUP(P256,漢字読み!$A$2:$O$502,7,0)))","v":{"$error":"#N/A"}},{"$f":"IF(Q256=\"\",\"\",IF(VLOOKUP(Q256,漢字読み!$A$2:$O$502,7,0)=0,\"\",VLOOKUP(Q256,漢字読み!$A$2:$O$502,7,0)))","v":{"$error":"#N/A"}},{"$f":"IF(R256=\"\",\"\",IF(VLOOKUP(R256,漢字読み!$A$2:$O$502,7,0)=0,\"\",VLOOKUP(R256,漢字読み!$A$2:$O$502,7,0)))","v":{"$error":"#N/A"}},{"$f":"IF(S256=\"\",\"\",IF(VLOOKUP(S256,漢字読み!$A$2:$O$502,7,0)=0,\"\",VLOOKUP(S256,漢字読み!$A$2:$O$502,7,0)))","v":{"$error":"#N/A"}},{"$f":"IF(T256=\"\",\"\",IF(VLOOKUP(T256,漢字読み!$A$2:$O$502,7,0)=0,\"\",VLOOKUP(T256,漢字読み!$A$2:$O$502,7,0)))","v":{"$error":"#N/A"}},null,null,"和歌山県教育委員会"]
[{"$f":"INDIRECT(\"'関数（書き）'!C\" & COLUMN(B$1)+SUM($AD$2:$AD262))","v":0},{"$f":"INDIRECT(\"'関数（書き）'!C\" & COLUMN(C$1)+SUM($AD$2:$AD262))","v":0},{"$f":"INDIRECT(\"'関数（書き）'!C\" & COLUMN(D$1)+SUM($AD$2:$AD262))","v":0},{"$f":"INDIRECT(\"'関数（書き）'!C\" & COLUMN(E$1)+SUM($AD$2:$AD262))","v":0},{"$f":"INDIRECT(\"'関数（書き）'!C\" & COLUMN(F$1)+SUM($AD$2:$AD262))","v":0},{"$f":"INDIRECT(\"'関数（書き）'!C\" & COLUMN(G$1)+SUM($AD$2:$AD262))","v":0},{"$f":"INDIRECT(\"'関数（書き）'!C\" & COLUMN(H$1)+SUM($AD$2:$AD262))","v":0},{"$f":"INDIRECT(\"'関数（書き）'!C\" & COLUMN(I$1)+SUM($AD$2:$AD262))","v":0},{"$f":"INDIRECT(\"'関数（書き）'!C\" & COLUMN(J$1)+SUM($AD$2:$AD262))","v":0},{"$f":"INDIRECT(\"'関数（書き）'!C\" & COLUMN(K$1)+SUM($AD$2:$AD262))","v":0},{"$f":"INDIRECT(\"'関数（読み）'!C\" & COLUMN(B$1)+SUM($AD$2:$AD262))","v":0},{"$f":"INDIRECT(\"'関数（読み）'!C\" & COLUMN(C$1)+SUM($AD$2:$AD262))","v":0},{"$f":"INDIRECT(\"'関数（読み）'!C\" & COLUMN(D$1)+SUM($AD$2:$AD262))","v":0},{"$f":"INDIRECT(\"'関数（読み）'!C\" & COLUMN(E$1)+SUM($AD$2:$AD262))","v":0},{"$f":"INDIRECT(\"'関数（読み）'!C\" & COLUMN(F$1)+SUM($AD$2:$AD262))","v":0},{"$f":"INDIRECT(\"'関数（読み）'!C\" & COLUMN(G$1)+SUM($AD$2:$AD262))","v":0},{"$f":"INDIRECT(\"'関数（読み）'!C\" & COLUMN(H$1)+SUM($AD$2:$AD262))","v":0},{"$f":"INDIRECT(\"'関数（読み）'!C\" & COLUMN(I$1)+SUM($AD$2:$AD262))","v":0},{"$f":"INDIRECT(\"'関数（読み）'!C\" & COLUMN(J$1)+SUM($AD$2:$AD262))","v":0},{"$f":"INDIRECT(\"'関数（読み）'!C\" & COLUMN(K$1)+SUM($AD$2:$AD262))","v":0}]
["⑳","⑲","⑱","⑰","⑯","⑮","⑭","⑬","⑫","⑪","⑩","⑨","⑧","⑦","⑥","⑤","④","③","②","①","次の［　　　　］の部分の漢字には読みがなをひらがなで書き、カタカナは漢字に直しなさい。",11,"「漢字の博士検定試験」練習問題　",null,null,null,null,null,"←",10,"問",{"$f":"AH247+1","v":261},"～",{"$f":"SUM($AD$2:$AD262)+10","v":270},"問まで",{"$f":"COUNTIF($A$1:$T$200,T263)","v":5}]
[{"$f":"IF(A261=\"\",\"\",VLOOKUP(A261,漢字書き!$A$2:$N$506,6,0))","v":{"$error":"#N/A"}},{"$f":"IF(B261=\"\",\"\",VLOOKUP(B261,漢字書き!$A$2:$N$506,6,0))","v":{"$error":"#N/A"}},{"$f":"IF(C261=\"\",\"\",VLOOKUP(C261,漢字書き!$A$2:$N$506,6,0))","v":{"$error":"#N/A"}},{"$f":"IF(D261=\"\",\"\",VLOOKUP(D261,漢字書き!$A$2:$N$506,6,0))","v":{"$error":"#N/A"}},{"$f":"IF(E261=\"\",\"\",VLOOKUP(E261,漢字書き!$A$2:$N$506,6,0))","v":{"$error":"#N/A"}},{"$f":"IF(F261=\"\",\"\",VLOOKUP(F261,漢字書き!$A$2:$N$506,6,0))","v":{"$error":"#N/A"}},{"$f":"IF(G261=\"\",\"\",VLOOKUP(G261,漢字書き!$A$2:$N$506,6,0))","v":{"$error":"#N/A"}},{"$f":"IF(H261=\"\",\"\",VLOOKUP(H261,漢字書き!$A$2:$N$506,6,0))","v":{"$error":"#N/A"}},{"$f":"IF(I261=\"\",\"\",VLOOKUP(I261,漢字書き!$A$2:$N$506,6,0))","v":{"$error":"#N/A"}},{"$f":"IF(J261=\"\",\"\",VLOOKUP(J261,漢字書き!$A$2:$N$506,6,0))","v":{"$error":"#N/A"}},{"$f":"IF(K261=\"\",\"\",VLOOKUP(K261,漢字読み!$A$2:$O$506,6,0))","v":{"$error":"#N/A"}},{"$f":"IF(L261=\"\",\"\",VLOOKUP(L261,漢字読み!$A$2:$O$506,6,0))","v":{"$error":"#N/A"}},{"$f":"IF(M261=\"\",\"\",VLOOKUP(M261,漢字読み!$A$2:$O$506,6,0))","v":{"$error":"#N/A"}},{"$f":"IF(N261=\"\",\"\",VLOOKUP(N261,漢字読み!$A$2:$O$506,6,0))","v":{"$error":"#N/A"}},{"$f":"IF(O261=\"\",\"\",VLOOKUP(O261,漢字読み!$A$2:$O$506,6,0))","v":{"$error":"#N/A"}},{"$f":"IF(P261=\"\",\"\",VLOOKUP(P261,漢字読み!$A$2:$O$506,6,0))","v":{"$error":"#N/A"}},{"$f":"IF(Q261=\"\",\"\",VLOOKUP(Q261,漢字読み!$A$2:$O$506,6,0))","v":{"$error":"#N/A"}},{"$f":"IF(R261=\"\",\"\",VLOOKUP(R261,漢字読み!$A$2:$O$506,6,0))","v":{"$error":"#N/A"}},{"$f":"IF(S261=\"\",\"\",VLOOKUP(S261,漢字読み!$A$2:$O$506,6,0))","v":{"$error":"#N/A"}},{"$f":"IF(T261=\"\",\"\",VLOOKUP(T261,漢字読み!$A$2:$O$506,6,0))","v":{"$error":"#N/A"}},null,"級"]
[null,null,null,null,null,null,null,null,null,null,null,null,null,null,null,null,null,null,null,null,null,"名前"]
[{"$f":"IF(A261=\"\",\"\",IF(VLOOKUP(A261,漢字書き!$A$2:$N$502,7,0)=0,\"\",VLOOKUP(A261,漢字書き!$A$2:$N$502,7,0)))","v":{"$error":"#N/A"}},{"$f":"IF(B261=\"\",\"\",IF(VLOOKUP(B261,漢字書き!$A$2:$N$502,7,0)=0,\"\",VLOOKUP(B261,漢字書き!$A$2:$N$502,7,0)))","v":{"$error":"#N/A"}},{"$f":"IF(C261=\"\",\"\",IF(VLOOKUP(C261,漢字書き!$A$2:$N$502,7,0)=0,\"\",VLOOKUP(C261,漢字書き!$A$2:$N$502,7,0)))","v":{"$error":"#N/A"}},{"$f":"IF(D261=\"\",\"\",IF(VLOOKUP(D261,漢字書き!$A$2:$N$502,7,0)=0,\"\",VLOOKUP(D261,漢字書き!$A$2:$N$502,7,0)))","v":{"$error":"#N/A"}},{"$f":"IF(E261=\"\",\"\",IF(VLOOKUP(E261,漢字書き!$A$2:$N$502,7,0)=0,\"\",VLOOKUP(E261,漢字書き!$A$2:$N$502,7,0)))","v":{"$error":"#N/A"}},{"$f":"IF(F261=\"\",\"\",IF(VLOOKUP(F261,漢字書き!$A$2:$N$502,7,0)=0,\"\",VLOOKUP(F261,漢字書き!$A$2:$N$502,7,0)))","v":{"$error":"#N/A"}},{"$f":"IF(G261=\"\",\"\",IF(VLOOKUP(G261,漢字書き!$A$2:$N$502,7,0)=0,\"\",VLOOKUP(G261,漢字書き!$A$2:$N$502,7,0)))","v":{"$error":"#N/A"}},{"$f":"IF(H261=\"\",\"\",IF(VLOOKUP(H261,漢字書き!$A$2:$N$502,7,0)=0,\"\",VLOOKUP(H261,漢字書き!$A$2:$N$502,7,0)))","v":{"$error":"#N/A"}},{"$f":"IF(I261=\"\",\"\",IF(VLOOKUP(I261,漢字書き!$A$2:$N$502,7,0)=0,\"\",VLOOKUP(I261,漢字書き!$A$2:$N$502,7,0)))","v":{"$error":"#N/A"}},{"$f":"IF(J261=\"\",\"\",IF(VLOOKUP(J261,漢字書き!$A$2:$N$502,7,0)=0,\"\",VLOOKUP(J261,漢字書き!$A$2:$N$502,7,0)))","v":{"$error":"#N/A"}},{"$f":"IF(K261=\"\",\"\",IF(VLOOKUP(K261,漢字読み!$A$2:$O$502,7,0)=0,\"\",VLOOKUP(K261,漢字読み!$A$2:$O$502,7,0)))","v":{"$error":"#N/A"}},{"$f":"IF(L261=\"\",\"\",IF(VLOOKUP(L261,漢字読み!$A$2:$O$502,7,0)=0,\"\",VLOOKUP(L261,漢字読み!$A$2:$O$502,7,0)))","v":{"$error":"#N/A"}},{"$f":"IF(M261=\"\",\"\",IF(VLOOKUP(M261,漢字読み!$A$2:$O$502,7,0)=0,\"\",VLOOKUP(M261,漢字読み!$A$2:$O$502,7,0)))","v":{"$error":"#N/A"}},{"$f":"IF(N261=\"\",\"\",IF(VLOOKUP(N261,漢字読み!$A$2:$O$502,7,0)=0,\"\",VLOOKUP(N261,漢字読み!$A$2:$O$502,7,0)))","v":{"$error":"#N/A"}},{"$f":"IF(O261=\"\",\"\",IF(VLOOKUP(O261,漢字読み!$A$2:$O$502,7,0)=0,\"\",VLOOKUP(O261,漢字読み!$A$2:$O$502,7,0)))","v":{"$error":"#N/A"}},{"$f":"IF(P261=\"\",\"\",IF(VLOOKUP(P261,漢字読み!$A$2:$O$502,7,0)=0,\"\",VLOOKUP(P261,漢字読み!$A$2:$O$502,7,0)))","v":{"$error":"#N/A"}},{"$f":"IF(Q261=\"\",\"\",IF(VLOOKUP(Q261,漢字読み!$A$2:$O$502,7,0)=0,\"\",VLOOKUP(Q261,漢字読み!$A$2:$O$502,7,0)))","v":{"$error":"#N/A"}},{"$f":"IF(R261=\"\",\"\",IF(VLOOKUP(R261,漢字読み!$A$2:$O$502,7,0)=0,\"\",VLOOKUP(R261,漢字読み!$A$2:$O$502,7,0)))","v":{"$error":"#N/A"}},{"$f":"IF(S261=\"\",\"\",IF(VLOOKUP(S261,漢字読み!$A$2:$O$502,7,0)=0,\"\",VLOOKUP(S261,漢字読み!$A$2:$O$502,7,0)))","v":{"$error":"#N/A"}},{"$f":"IF(T261=\"\",\"\",IF(VLOOKUP(T261,漢字読み!$A$2:$O$502,7,0)=0,\"\",VLOOKUP(T261,漢字読み!$A$2:$O$502,7,0)))","v":{"$error":"#N/A"}},null,null,"和歌山県教育委員会"]
[{"$f":"INDIRECT(\"'関数（書き）'!C\" & COLUMN(B$1)+SUM($AD$2:$AD267))","v":0},{"$f":"INDIRECT(\"'関数（書き）'!C\" & COLUMN(C$1)+SUM($AD$2:$AD267))","v":0},{"$f":"INDIRECT(\"'関数（書き）'!C\" & COLUMN(D$1)+SUM($AD$2:$AD267))","v":0},{"$f":"INDIRECT(\"'関数（書き）'!C\" & COLUMN(E$1)+SUM($AD$2:$AD267))","v":0},{"$f":"INDIRECT(\"'関数（書き）'!C\" & COLUMN(F$1)+SUM($AD$2:$AD267))","v":0},{"$f":"INDIRECT(\"'関数（書き）'!C\" & COLUMN(G$1)+SUM($AD$2:$AD267))","v":0},{"$f":"INDIRECT(\"'関数（書き）'!C\" & COLUMN(H$1)+SUM($AD$2:$AD267))","v":0},{"$f":"INDIRECT(\"'関数（書き）'!C\" & COLUMN(I$1)+SUM($AD$2:$AD267))","v":0},{"$f":"INDIRECT(\"'関数（書き）'!C\" & COLUMN(J$1)+SUM($AD$2:$AD267))","v":0},{"$f":"INDIRECT(\"'関数（書き）'!C\" & COLUMN(K$1)+SUM($AD$2:$AD267))","v":0},{"$f":"INDIRECT(\"'関数（読み）'!C\" & COLUMN(B$1)+SUM($AD$2:$AD267))","v":0},{"$f":"INDIRECT(\"'関数（読み）'!C\" & COLUMN(C$1)+SUM($AD$2:$AD267))","v":0},{"$f":"INDIRECT(\"'関数（読み）'!C\" & COLUMN(D$1)+SUM($AD$2:$AD267))","v":0},{"$f":"INDIRECT(\"'関数（読み）'!C\" & COLUMN(E$1)+SUM($AD$2:$AD267))","v":0},{"$f":"INDIRECT(\"'関数（読み）'!C\" & COLUMN(F$1)+SUM($AD$2:$AD267))","v":0},{"$f":"INDIRECT(\"'関数（読み）'!C\" & COLUMN(G$1)+SUM($AD$2:$AD267))","v":0},{"$f":"INDIRECT(\"'関数（読み）'!C\" & COLUMN(H$1)+SUM($AD$2:$AD267))","v":0},{"$f":"INDIRECT(\"'関数（読み）'!C\" & COLUMN(I$1)+SUM($AD$2:$AD267))","v":0},{"$f":"INDIRECT(\"'関数（読み）'!C\" & COLUMN(J$1)+SUM($AD$2:$AD267))","v":0},{"$f":"INDIRECT(\"'関数（読み）'!C\" & COLUMN(K$1)+SUM($AD$2:$AD267))","v":0}]
["⑳","⑲","⑱","⑰","⑯","⑮","⑭","⑬","⑫","⑪","⑩","⑨","⑧","⑦","⑥","⑤","④","③","②","①","次の［　　　　］の部分の漢字には読みがなをひらがなで書き、カタカナは漢字に直しなさい。",11,"「漢字の博士検定試験」練習問題　",null,null,null,null,null,"←",10,"問",{"$f":"AH262+1","v":271},"～",{"$f":"SUM($AD$2:$AD267)+10","v":280},"問まで",{"$f":"COUNTIF($A$1:$T$200,T268)","v":5}]
[{"$f":"IF(A266=\"\",\"\",VLOOKUP(A266,漢字書き!$A$2:$N$506,6,0))","v":{"$error":"#N/A"}},{"$f":"IF(B266=\"\",\"\",VLOOKUP(B266,漢字書き!$A$2:$N$506,6,0))","v":{"$error":"#N/A"}},{"$f":"IF(C266=\"\",\"\",VLOOKUP(C266,漢字書き!$A$2:$N$506,6,0))","v":{"$error":"#N/A"}},{"$f":"IF(D266=\"\",\"\",VLOOKUP(D266,漢字書き!$A$2:$N$506,6,0))","v":{"$error":"#N/A"}},{"$f":"IF(E266=\"\",\"\",VLOOKUP(E266,漢字書き!$A$2:$N$506,6,0))","v":{"$error":"#N/A"}},{"$f":"IF(F266=\"\",\"\",VLOOKUP(F266,漢字書き!$A$2:$N$506,6,0))","v":{"$error":"#N/A"}},{"$f":"IF(G266=\"\",\"\",VLOOKUP(G266,漢字書き!$A$2:$N$506,6,0))","v":{"$error":"#N/A"}},{"$f":"IF(H266=\"\",\"\",VLOOKUP(H266,漢字書き!$A$2:$N$506,6,0))","v":{"$error":"#N/A"}},{"$f":"IF(I266=\"\",\"\",VLOOKUP(I266,漢字書き!$A$2:$N$506,6,0))","v":{"$error":"#N/A"}},{"$f":"IF(J266=\"\",\"\",VLOOKUP(J266,漢字書き!$A$2:$N$506,6,0))","v":{"$error":"#N/A"}},{"$f":"IF(K266=\"\",\"\",VLOOKUP(K266,漢字読み!$A$2:$O$506,6,0))","v":{"$error":"#N/A"}},{"$f":"IF(L266=\"\",\"\",VLOOKUP(L266,漢字読み!$A$2:$O$506,6,0))","v":{"$error":"#N/A"}},{"$f":"IF(M266=\"\",\"\",VLOOKUP(M266,漢字読み!$A$2:$O$506,6,0))","v":{"$error":"#N/A"}},{"$f":"IF(N266=\"\",\"\",VLOOKUP(N266,漢字読み!$A$2:$O$506,6,0))","v":{"$error":"#N/A"}},{"$f":"IF(O266=\"\",\"\",VLOOKUP(O266,漢字読み!$A$2:$O$506,6,0))","v":{"$error":"#N/A"}},{"$f":"IF(P266=\"\",\"\",VLOOKUP(P266,漢字読み!$A$2:$O$506,6,0))","v":{"$error":"#N/A"}},{"$f":"IF(Q266=\"\",\"\",VLOOKUP(Q266,漢字読み!$A$2:$O$506,6,0))","v":{"$error":"#N/A"}},{"$f":"IF(R266=\"\",\"\",VLOOKUP(R266,漢字読み!$A$2:$O$506,6,0))","v":{"$error":"#N/A"}},{"$f":"IF(S266=\"\",\"\",VLOOKUP(S266,漢字読み!$A$2:$O$506,6,0))","v":{"$error":"#N/A"}},{"$f":"IF(T266=\"\",\"\",VLOOKUP(T266,漢字読み!$A$2:$O$506,6,0))","v":{"$error":"#N/A"}},null,"級"]
[null,null,null,null,null,null,null,null,null,null,null,null,null,null,null,null,null,null,null,null,null,"名前"]
[{"$f":"IF(A266=\"\",\"\",IF(VLOOKUP(A266,漢字書き!$A$2:$N$502,7,0)=0,\"\",VLOOKUP(A266,漢字書き!$A$2:$N$502,7,0)))","v":{"$error":"#N/A"}},{"$f":"IF(B266=\"\",\"\",IF(VLOOKUP(B266,漢字書き!$A$2:$N$502,7,0)=0,\"\",VLOOKUP(B266,漢字書き!$A$2:$N$502,7,0)))","v":{"$error":"#N/A"}},{"$f":"IF(C266=\"\",\"\",IF(VLOOKUP(C266,漢字書き!$A$2:$N$502,7,0)=0,\"\",VLOOKUP(C266,漢字書き!$A$2:$N$502,7,0)))","v":{"$error":"#N/A"}},{"$f":"IF(D266=\"\",\"\",IF(VLOOKUP(D266,漢字書き!$A$2:$N$502,7,0)=0,\"\",VLOOKUP(D266,漢字書き!$A$2:$N$502,7,0)))","v":{"$error":"#N/A"}},{"$f":"IF(E266=\"\",\"\",IF(VLOOKUP(E266,漢字書き!$A$2:$N$502,7,0)=0,\"\",VLOOKUP(E266,漢字書き!$A$2:$N$502,7,0)))","v":{"$error":"#N/A"}},{"$f":"IF(F266=\"\",\"\",IF(VLOOKUP(F266,漢字書き!$A$2:$N$502,7,0)=0,\"\",VLOOKUP(F266,漢字書き!$A$2:$N$502,7,0)))","v":{"$error":"#N/A"}},{"$f":"IF(G266=\"\",\"\",IF(VLOOKUP(G266,漢字書き!$A$2:$N$502,7,0)=0,\"\",VLOOKUP(G266,漢字書き!$A$2:$N$502,7,0)))","v":{"$error":"#N/A"}},{"$f":"IF(H266=\"\",\"\",IF(VLOOKUP(H266,漢字書き!$A$2:$N$502,7,0)=0,\"\",VLOOKUP(H266,漢字書き!$A$2:$N$502,7,0)))","v":{"$error":"#N/A"}},{"$f":"IF(I266=\"\",\"\",IF(VLOOKUP(I266,漢字書き!$A$2:$N$502,7,0)=0,\"\",VLOOKUP(I266,漢字書き!$A$2:$N$502,7,0)))","v":{"$error":"#N/A"}},{"$f":"IF(J266=\"\",\"\",IF(VLOOKUP(J266,漢字書き!$A$2:$N$502,7,0)=0,\"\",VLOOKUP(J266,漢字書き!$A$2:$N$502,7,0)))","v":{"$error":"#N/A"}},{"$f":"IF(K266=\"\",\"\",IF(VLOOKUP(K266,漢字読み!$A$2:$O$502,7,0)=0,\"\",VLOOKUP(K266,漢字読み!$A$2:$O$502,7,0)))","v":{"$error":"#N/A"}},{"$f":"IF(L266=\"\",\"\",IF(VLOOKUP(L266,漢字読み!$A$2:$O$502,7,0)=0,\"\",VLOOKUP(L266,漢字読み!$A$2:$O$502,7,0)))","v":{"$error":"#N/A"}},{"$f":"IF(M266=\"\",\"\",IF(VLOOKUP(M266,漢字読み!$A$2:$O$502,7,0)=0,\"\",VLOOKUP(M266,漢字読み!$A$2:$O$502,7,0)))","v":{"$error":"#N/A"}},{"$f":"IF(N266=\"\",\"\",IF(VLOOKUP(N266,漢字読み!$A$2:$O$502,7,0)=0,\"\",VLOOKUP(N266,漢字読み!$A$2:$O$502,7,0)))","v":{"$error":"#N/A"}},{"$f":"IF(O266=\"\",\"\",IF(VLOOKUP(O266,漢字読み!$A$2:$O$502,7,0)=0,\"\",VLOOKUP(O266,漢字読み!$A$2:$O$502,7,0)))","v":{"$error":"#N/A"}},{"$f":"IF(P266=\"\",\"\",IF(VLOOKUP(P266,漢字読み!$A$2:$O$502,7,0)=0,\"\",VLOOKUP(P266,漢字読み!$A$2:$O$502,7,0)))","v":{"$error":"#N/A"}},{"$f":"IF(Q266=\"\",\"\",IF(VLOOKUP(Q266,漢字読み!$A$2:$O$502,7,0)=0,\"\",VLOOKUP(Q266,漢字読み!$A$2:$O$502,7,0)))","v":{"$error":"#N/A"}},{"$f":"IF(R266=\"\",\"\",IF(VLOOKUP(R266,漢字読み!$A$2:$O$502,7,0)=0,\"\",VLOOKUP(R266,漢字読み!$A$2:$O$502,7,0)))","v":{"$error":"#N/A"}},{"$f":"IF(S266=\"\",\"\",IF(VLOOKUP(S266,漢字読み!$A$2:$O$502,7,0)=0,\"\",VLOOKUP(S266,漢字読み!$A$2:$O$502,7,0)))","v":{"$error":"#N/A"}},{"$f":"IF(T266=\"\",\"\",IF(VLOOKUP(T266,漢字読み!$A$2:$O$502,7,0)=0,\"\",VLOOKUP(T266,漢字読み!$A$2:$O$502,7,0)))","v":{"$error":"#N/A"}},null,null,"和歌山県教育委員会"]
[{"$f":"A261","v":0},{"$f":"B261","v":0},{"$f":"C261","v":0},{"$f":"D261","v":0},{"$f":"E261","v":0},{"$f":"F261","v":0},{"$f":"G261","v":0},{"$f":"H261","v":0},{"$f":"I261","v":0},{"$f":"J261","v":0},{"$f":"K261","v":0},{"$f":"L261","v":0},{"$f":"M261","v":0},{"$f":"N261","v":0},{"$f":"O261","v":0},{"$f":"P261","v":0},{"$f":"Q261","v":0},{"$f":"R261","v":0},{"$f":"S261","v":0},{"$f":"T261","v":0}]
["⑳","⑲","⑱","⑰","⑯","⑮","⑭","⑬","⑫","⑪","⑩","⑨","⑧","⑦","⑥","⑤","④","③","②","①","次の［　　　　］の部分の漢字には読みがなをひらがなで書き、カタカナは漢字に直しなさい。",11,"「漢字の博士検定試験」練習問題　"]
[{"$f":"IF(A271=\"\",\"\",VLOOKUP(A271,漢字書き!$A$2:$N$506,6,0))","v":{"$error":"#N/A"}},{"$f":"IF(B271=\"\",\"\",VLOOKUP(B271,漢字書き!$A$2:$N$506,6,0))","v":{"$error":"#N/A"}},{"$f":"IF(C271=\"\",\"\",VLOOKUP(C271,漢字書き!$A$2:$N$506,6,0))","v":{"$error":"#N/A"}},{"$f":"IF(D271=\"\",\"\",VLOOKUP(D271,漢字書き!$A$2:$N$506,6,0))","v":{"$error":"#N/A"}},{"$f":"IF(E271=\"\",\"\",VLOOKUP(E271,漢字書き!$A$2:$N$506,6,0))","v":{"$error":"#N/A"}},{"$f":"IF(F271=\"\",\"\",VLOOKUP(F271,漢字書き!$A$2:$N$506,6,0))","v":{"$error":"#N/A"}},{"$f":"IF(G271=\"\",\"\",VLOOKUP(G271,漢字書き!$A$2:$N$506,6,0))","v":{"$error":"#N/A"}},{"$f":"IF(H271=\"\",\"\",VLOOKUP(H271,漢字書き!$A$2:$N$506,6,0))","v":{"$error":"#N/A"}},{"$f":"IF(I271=\"\",\"\",VLOOKUP(I271,漢字書き!$A$2:$N$506,6,0))","v":{"$error":"#N/A"}},{"$f":"IF(J271=\"\",\"\",VLOOKUP(J271,漢字書き!$A$2:$N$506,6,0))","v":{"$error":"#N/A"}},{"$f":"IF(K271=\"\",\"\",VLOOKUP(K271,漢字読み!$A$2:$O$506,6,0))","v":{"$error":"#N/A"}},{"$f":"IF(L271=\"\",\"\",VLOOKUP(L271,漢字読み!$A$2:$O$506,6,0))","v":{"$error":"#N/A"}},{"$f":"IF(M271=\"\",\"\",VLOOKUP(M271,漢字読み!$A$2:$O$506,6,0))","v":{"$error":"#N/A"}},{"$f":"IF(N271=\"\",\"\",VLOOKUP(N271,漢字読み!$A$2:$O$506,6,0))","v":{"$error":"#N/A"}},{"$f":"IF(O271=\"\",\"\",VLOOKUP(O271,漢字読み!$A$2:$O$506,6,0))","v":{"$error":"#N/A"}},{"$f":"IF(P271=\"\",\"\",VLOOKUP(P271,漢字読み!$A$2:$O$506,6,0))","v":{"$error":"#N/A"}},{"$f":"IF(Q271=\"\",\"\",VLOOKUP(Q271,漢字読み!$A$2:$O$506,6,0))","v":{"$error":"#N/A"}},{"$f":"IF(R271=\"\",\"\",VLOOKUP(R271,漢字読み!$A$2:$O$506,6,0))","v":{"$error":"#N/A"}},{"$f":"IF(S271=\"\",\"\",VLOOKUP(S271,漢字読み!$A$2:$O$506,6,0))","v":{"$error":"#N/A"}},{"$f":"IF(T271=\"\",\"\",VLOOKUP(T271,漢字読み!$A$2:$O$506,6,0))","v":{"$error":"#N/A"}},null,"級"]
[{"$f":"IF(A$11=\"\",\"\",VLOOKUP(A271,漢字書き!$A$2:$O$506,8,0))","v":{"$error":"#N/A"}},{"$f":"IF(B$11=\"\",\"\",VLOOKUP(B271,漢字書き!$A$2:$O$506,8,0))","v":{"$error":"#N/A"}},{"$f":"IF(C$11=\"\",\"\",VLOOKUP(C271,漢字書き!$A$2:$O$506,8,0))","v":{"$error":"#N/A"}},{"$f":"IF(D$11=\"\",\"\",VLOOKUP(D271,漢字書き!$A$2:$O$506,8,0))","v":{"$error":"#N/A"}},{"$f":"IF(E$11=\"\",\"\",VLOOKUP(E271,漢字書き!$A$2:$O$506,8,0))","v":{"$error":"#N/A"}},{"$f":"IF(F$11=\"\",\"\",VLOOKUP(F271,漢字書き!$A$2:$O$506,8,0))","v":{"$error":"#N/A"}},{"$f":"IF(G$11=\"\",\"\",VLOOKUP(G271,漢字書き!$A$2:$O$506,8,0))","v":{"$error":"#N/A"}},{"$f":"IF(H$11=\"\",\"\",VLOOKUP(H271,漢字書き!$A$2:$O$506,8,0))","v":{"$error":"#N/A"}},{"$f":"IF(I$11=\"\",\"\",VLOOKUP(I271,漢字書き!$A$2:$O$506,8,0))","v":{"$error":"#N/A"}},{"$f":"IF(J$11=\"\",\"\",VLOOKUP(J271,漢字書き!$A$2:$O$506,8,0))","v":{"$error":"#N/A"}},{"$f":"IF(K$11=\"\",\"\",VLOOKUP(K271,漢字読み!$A$2:$O$506,8,0))","v":{"$error":"#N/A"}},{"$f":"IF(L$11=\"\",\"\",VLOOKUP(L271,漢字読み!$A$2:$O$506,8,0))","v":{"$error":"#N/A"}},{"$f":"IF(M$11=\"\",\"\",VLOOKUP(M271,漢字読み!$A$2:$O$506,8,0))","v":{"$error":"#N/A"}},{"$f":"IF(N$11=\"\",\"\",VLOOKUP(N271,漢字読み!$A$2:$O$506,8,0))","v":{"$error":"#N/A"}},{"$f":"IF(O$11=\"\",\"\",VLOOKUP(O271,漢字読み!$A$2:$O$506,8,0))","v":{"$error":"#N/A"}},{"$f":"IF(P$11=\"\",\"\",VLOOKUP(P271,漢字読み!$A$2:$O$506,8,0))","v":{"$error":"#N/A"}},{"$f":"IF(Q$11=\"\",\"\",VLOOKUP(Q271,漢字読み!$A$2:$O$506,8,0))","v":{"$error":"#N/A"}},{"$f":"IF(R$11=\"\",\"\",VLOOKUP(R271,漢字読み!$A$2:$O$506,8,0))","v":{"$error":"#N/A"}},{"$f":"IF(S$11=\"\",\"\",VLOOKUP(S271,漢字読み!$A$2:$O$506,8,0))","v":{"$error":"#N/A"}},{"$f":"IF(T$11=\"\",\"\",VLOOKUP(T271,漢字読み!$A$2:$O$506,8,0))","v":{"$error":"#N/A"}},null,"名前"]
[{"$f":"IF(A271=\"\",\"\",IF(VLOOKUP(A271,漢字書き!$A$2:$N$502,7,0)=0,\"\",VLOOKUP(A271,漢字書き!$A$2:$N$502,7,0)))","v":{"$error":"#N/A"}},{"$f":"IF(B271=\"\",\"\",IF(VLOOKUP(B271,漢字書き!$A$2:$N$502,7,0)=0,\"\",VLOOKUP(B271,漢字書き!$A$2:$N$502,7,0)))","v":{"$error":"#N/A"}},{"$f":"IF(C271=\"\",\"\",IF(VLOOKUP(C271,漢字書き!$A$2:$N$502,7,0)=0,\"\",VLOOKUP(C271,漢字書き!$A$2:$N$502,7,0)))","v":{"$error":"#N/A"}},{"$f":"IF(D271=\"\",\"\",IF(VLOOKUP(D271,漢字書き!$A$2:$N$502,7,0)=0,\"\",VLOOKUP(D271,漢字書き!$A$2:$N$502,7,0)))","v":{"$error":"#N/A"}},{"$f":"IF(E271=\"\",\"\",IF(VLOOKUP(E271,漢字書き!$A$2:$N$502,7,0)=0,\"\",VLOOKUP(E271,漢字書き!$A$2:$N$502,7,0)))","v":{"$error":"#N/A"}},{"$f":"IF(F271=\"\",\"\",IF(VLOOKUP(F271,漢字書き!$A$2:$N$502,7,0)=0,\"\",VLOOKUP(F271,漢字書き!$A$2:$N$502,7,0)))","v":{"$error":"#N/A"}},{"$f":"IF(G271=\"\",\"\",IF(VLOOKUP(G271,漢字書き!$A$2:$N$502,7,0)=0,\"\",VLOOKUP(G271,漢字書き!$A$2:$N$502,7,0)))","v":{"$error":"#N/A"}},{"$f":"IF(H271=\"\",\"\",IF(VLOOKUP(H271,漢字書き!$A$2:$N$502,7,0)=0,\"\",VLOOKUP(H271,漢字書き!$A$2:$N$502,7,0)))","v":{"$error":"#N/A"}},{"$f":"IF(I271=\"\",\"\",IF(VLOOKUP(I271,漢字書き!$A$2:$N$502,7,0)=0,\"\",VLOOKUP(I271,漢字書き!$A$2:$N$502,7,0)))","v":{"$error":"#N/A"}},{"$f":"IF(J271=\"\",\"\",IF(VLOOKUP(J271,漢字書き!$A$2:$N$502,7,0)=0,\"\",VLOOKUP(J271,漢字書き!$A$2:$N$502,7,0)))","v":{"$error":"#N/A"}},{"$f":"IF(K271=\"\",\"\",IF(VLOOKUP(K271,漢字読み!$A$2:$O$502,7,0)=0,\"\",VLOOKUP(K271,漢字読み!$A$2:$O$502,7,0)))","v":{"$error":"#N/A"}},{"$f":"IF(L271=\"\",\"\",IF(VLOOKUP(L271,漢字読み!$A$2:$O$502,7,0)=0,\"\",VLOOKUP(L271,漢字読み!$A$2:$O$502,7,0)))","v":{"$error":"#N/A"}},{"$f":"IF(M271=\"\",\"\",IF(VLOOKUP(M271,漢字読み!$A$2:$O$502,7,0)=0,\"\",VLOOKUP(M271,漢字読み!$A$2:$O$502,7,0)))","v":{"$error":"#N/A"}},{"$f":"IF(N271=\"\",\"\",IF(VLOOKUP(N271,漢字読み!$A$2:$O$502,7,0)=0,\"\",VLOOKUP(N271,漢字読み!$A$2:$O$502,7,0)))","v":{"$error":"#N/A"}},{"$f":"IF(O271=\"\",\"\",IF(VLOOKUP(O271,漢字読み!$A$2:$O$502,7,0)=0,\"\",VLOOKUP(O271,漢字読み!$A$2:$O$502,7,0)))","v":{"$error":"#N/A"}},{"$f":"IF(P271=\"\",\"\",IF(VLOOKUP(P271,漢字読み!$A$2:$O$502,7,0)=0,\"\",VLOOKUP(P271,漢字読み!$A$2:$O$502,7,0)))","v":{"$error":"#N/A"}},{"$f":"IF(Q271=\"\",\"\",IF(VLOOKUP(Q271,漢字読み!$A$2:$O$502,7,0)=0,\"\",VLOOKUP(Q271,漢字読み!$A$2:$O$502,7,0)))","v":{"$error":"#N/A"}},{"$f":"IF(R271=\"\",\"\",IF(VLOOKUP(R271,漢字読み!$A$2:$O$502,7,0)=0,\"\",VLOOKUP(R271,漢字読み!$A$2:$O$502,7,0)))","v":{"$error":"#N/A"}},{"$f":"IF(S271=\"\",\"\",IF(VLOOKUP(S271,漢字読み!$A$2:$O$502,7,0)=0,\"\",VLOOKUP(S271,漢字読み!$A$2:$O$502,7,0)))","v":{"$error":"#N/A"}},{"$f":"IF(T271=\"\",\"\",IF(VLOOKUP(T271,漢字読み!$A$2:$O$502,7,0)=0,\"\",VLOOKUP(T271,漢字読み!$A$2:$O$502,7,0)))","v":{"$error":"#N/A"}},null,null,"和歌山県教育委員会"]
[{"$f":"A266","v":0},{"$f":"B266","v":0},{"$f":"C266","v":0},{"$f":"D266","v":0},{"$f":"E266","v":0},{"$f":"F266","v":0},{"$f":"G266","v":0},{"$f":"H266","v":0},{"$f":"I266","v":0},{"$f":"J266","v":0},{"$f":"K266","v":0},{"$f":"L266","v":0},{"$f":"M266","v":0},{"$f":"N266","v":0},{"$f":"O266","v":0},{"$f":"P266","v":0},{"$f":"Q266","v":0},{"$f":"R266","v":0},{"$f":"S266","v":0},{"$f":"T266","v":0}]
["⑳","⑲","⑱","⑰","⑯","⑮","⑭","⑬","⑫","⑪","⑩","⑨","⑧","⑦","⑥","⑤","④","③","②","①","次の［　　　　］の部分の漢字には読みがなをひらがなで書き、カタカナは漢字に直しなさい。",11,"「漢字の博士検定試験」練習問題　"]
[{"$f":"IF(A276=\"\",\"\",VLOOKUP(A276,漢字書き!$A$2:$N$506,6,0))","v":{"$error":"#N/A"}},{"$f":"IF(B276=\"\",\"\",VLOOKUP(B276,漢字書き!$A$2:$N$506,6,0))","v":{"$error":"#N/A"}},{"$f":"IF(C276=\"\",\"\",VLOOKUP(C276,漢字書き!$A$2:$N$506,6,0))","v":{"$error":"#N/A"}},{"$f":"IF(D276=\"\",\"\",VLOOKUP(D276,漢字書き!$A$2:$N$506,6,0))","v":{"$error":"#N/A"}},{"$f":"IF(E276=\"\",\"\",VLOOKUP(E276,漢字書き!$A$2:$N$506,6,0))","v":{"$error":"#N/A"}},{"$f":"IF(F276=\"\",\"\",VLOOKUP(F276,漢字書き!$A$2:$N$506,6,0))","v":{"$error":"#N/A"}},{"$f":"IF(G276=\"\",\"\",VLOOKUP(G276,漢字書き!$A$2:$N$506,6,0))","v":{"$error":"#N/A"}},{"$f":"IF(H276=\"\",\"\",VLOOKUP(H276,漢字書き!$A$2:$N$506,6,0))","v":{"$error":"#N/A"}},{"$f":"IF(I276=\"\",\"\",VLOOKUP(I276,漢字書き!$A$2:$N$506,6,0))","v":{"$error":"#N/A"}},{"$f":"IF(J276=\"\",\"\",VLOOKUP(J276,漢字書き!$A$2:$N$506,6,0))","v":{"$error":"#N/A"}},{"$f":"IF(K276=\"\",\"\",VLOOKUP(K276,漢字読み!$A$2:$O$506,6,0))","v":{"$error":"#N/A"}},{"$f":"IF(L276=\"\",\"\",VLOOKUP(L276,漢字読み!$A$2:$O$506,6,0))","v":{"$error":"#N/A"}},{"$f":"IF(M276=\"\",\"\",VLOOKUP(M276,漢字読み!$A$2:$O$506,6,0))","v":{"$error":"#N/A"}},{"$f":"IF(N276=\"\",\"\",VLOOKUP(N276,漢字読み!$A$2:$O$506,6,0))","v":{"$error":"#N/A"}},{"$f":"IF(O276=\"\",\"\",VLOOKUP(O276,漢字読み!$A$2:$O$506,6,0))","v":{"$error":"#N/A"}},{"$f":"IF(P276=\"\",\"\",VLOOKUP(P276,漢字読み!$A$2:$O$506,6,0))","v":{"$error":"#N/A"}},{"$f":"IF(Q276=\"\",\"\",VLOOKUP(Q276,漢字読み!$A$2:$O$506,6,0))","v":{"$error":"#N/A"}},{"$f":"IF(R276=\"\",\"\",VLOOKUP(R276,漢字読み!$A$2:$O$506,6,0))","v":{"$error":"#N/A"}},{"$f":"IF(S276=\"\",\"\",VLOOKUP(S276,漢字読み!$A$2:$O$506,6,0))","v":{"$error":"#N/A"}},{"$f":"IF(T276=\"\",\"\",VLOOKUP(T276,漢字読み!$A$2:$O$506,6,0))","v":{"$error":"#N/A"}},null,"級"]
[{"$f":"IF(A$16=\"\",\"\",VLOOKUP(A276,漢字書き!$A$2:$O$506,8,0))","v":{"$error":"#N/A"}},{"$f":"IF(B$16=\"\",\"\",VLOOKUP(B276,漢字書き!$A$2:$O$506,8,0))","v":{"$error":"#N/A"}},{"$f":"IF(C$16=\"\",\"\",VLOOKUP(C276,漢字書き!$A$2:$O$506,8,0))","v":{"$error":"#N/A"}},{"$f":"IF(D$16=\"\",\"\",VLOOKUP(D276,漢字書き!$A$2:$O$506,8,0))","v":{"$error":"#N/A"}},{"$f":"IF(E$16=\"\",\"\",VLOOKUP(E276,漢字書き!$A$2:$O$506,8,0))","v":{"$error":"#N/A"}},{"$f":"IF(F$16=\"\",\"\",VLOOKUP(F276,漢字書き!$A$2:$O$506,8,0))","v":{"$error":"#N/A"}},{"$f":"IF(G$16=\"\",\"\",VLOOKUP(G276,漢字書き!$A$2:$O$506,8,0))","v":{"$error":"#N/A"}},{"$f":"IF(H$16=\"\",\"\",VLOOKUP(H276,漢字書き!$A$2:$O$506,8,0))","v":{"$error":"#N/A"}},{"$f":"IF(I$16=\"\",\"\",VLOOKUP(I276,漢字書き!$A$2:$O$506,8,0))","v":{"$error":"#N/A"}},{"$f":"IF(J$16=\"\",\"\",VLOOKUP(J276,漢字書き!$A$2:$O$506,8,0))","v":{"$error":"#N/A"}},{"$f":"IF(K$16=\"\",\"\",VLOOKUP(K276,漢字読み!$A$2:$O$506,8,0))","v":{"$error":"#N/A"}},{"$f":"IF(L$16=\"\",\"\",VLOOKUP(L276,漢字読み!$A$2:$O$506,8,0))","v":{"$error":"#N/A"}},{"$f":"IF(M$16=\"\",\"\",VLOOKUP(M276,漢字読み!$A$2:$O$506,8,0))","v":{"$error":"#N/A"}},{"$f":"IF(N$16=\"\",\"\",VLOOKUP(N276,漢字読み!$A$2:$O$506,8,0))","v":{"$error":"#N/A"}},{"$f":"IF(O$16=\"\",\"\",VLOOKUP(O276,漢字読み!$A$2:$O$506,8,0))","v":{"$error":"#N/A"}},{"$f":"IF(P$16=\"\",\"\",VLOOKUP(P276,漢字読み!$A$2:$O$506,8,0))","v":{"$error":"#N/A"}},{"$f":"IF(Q$16=\"\",\"\",VLOOKUP(Q276,漢字読み!$A$2:$O$506,8,0))","v":{"$error":"#N/A"}},{"$f":"IF(R$16=\"\",\"\",VLOOKUP(R276,漢字読み!$A$2:$O$506,8,0))","v":{"$error":"#N/A"}},{"$f":"IF(S$16=\"\",\"\",VLOOKUP(S276,漢字読み!$A$2:$O$506,8,0))","v":{"$error":"#N/A"}},{"$f":"IF(T$16=\"\",\"\",VLOOKUP(T276,漢字読み!$A$2:$O$506,8,0))","v":{"$error":"#N/A"}},null,"名前"]
[{"$f":"IF(A276=\"\",\"\",IF(VLOOKUP(A276,漢字書き!$A$2:$N$502,7,0)=0,\"\",VLOOKUP(A276,漢字書き!$A$2:$N$502,7,0)))","v":{"$error":"#N/A"}},{"$f":"IF(B276=\"\",\"\",IF(VLOOKUP(B276,漢字書き!$A$2:$N$502,7,0)=0,\"\",VLOOKUP(B276,漢字書き!$A$2:$N$502,7,0)))","v":{"$error":"#N/A"}},{"$f":"IF(C276=\"\",\"\",IF(VLOOKUP(C276,漢字書き!$A$2:$N$502,7,0)=0,\"\",VLOOKUP(C276,漢字書き!$A$2:$N$502,7,0)))","v":{"$error":"#N/A"}},{"$f":"IF(D276=\"\",\"\",IF(VLOOKUP(D276,漢字書き!$A$2:$N$502,7,0)=0,\"\",VLOOKUP(D276,漢字書き!$A$2:$N$502,7,0)))","v":{"$error":"#N/A"}},{"$f":"IF(E276=\"\",\"\",IF(VLOOKUP(E276,漢字書き!$A$2:$N$502,7,0)=0,\"\",VLOOKUP(E276,漢字書き!$A$2:$N$502,7,0)))","v":{"$error":"#N/A"}},{"$f":"IF(F276=\"\",\"\",IF(VLOOKUP(F276,漢字書き!$A$2:$N$502,7,0)=0,\"\",VLOOKUP(F276,漢字書き!$A$2:$N$502,7,0)))","v":{"$error":"#N/A"}},{"$f":"IF(G276=\"\",\"\",IF(VLOOKUP(G276,漢字書き!$A$2:$N$502,7,0)=0,\"\",VLOOKUP(G276,漢字書き!$A$2:$N$502,7,0)))","v":{"$error":"#N/A"}},{"$f":"IF(H276=\"\",\"\",IF(VLOOKUP(H276,漢字書き!$A$2:$N$502,7,0)=0,\"\",VLOOKUP(H276,漢字書き!$A$2:$N$502,7,0)))","v":{"$error":"#N/A"}},{"$f":"IF(I276=\"\",\"\",IF(VLOOKUP(I276,漢字書き!$A$2:$N$502,7,0)=0,\"\",VLOOKUP(I276,漢字書き!$A$2:$N$502,7,0)))","v":{"$error":"#N/A"}},{"$f":"IF(J276=\"\",\"\",IF(VLOOKUP(J276,漢字書き!$A$2:$N$502,7,0)=0,\"\",VLOOKUP(J276,漢字書き!$A$2:$N$502,7,0)))","v":{"$error":"#N/A"}},{"$f":"IF(K276=\"\",\"\",IF(VLOOKUP(K276,漢字読み!$A$2:$O$502,7,0)=0,\"\",VLOOKUP(K276,漢字読み!$A$2:$O$502,7,0)))","v":{"$error":"#N/A"}},{"$f":"IF(L276=\"\",\"\",IF(VLOOKUP(L276,漢字読み!$A$2:$O$502,7,0)=0,\"\",VLOOKUP(L276,漢字読み!$A$2:$O$502,7,0)))","v":{"$error":"#N/A"}},{"$f":"IF(M276=\"\",\"\",IF(VLOOKUP(M276,漢字読み!$A$2:$O$502,7,0)=0,\"\",VLOOKUP(M276,漢字読み!$A$2:$O$502,7,0)))","v":{"$error":"#N/A"}},{"$f":"IF(N276=\"\",\"\",IF(VLOOKUP(N276,漢字読み!$A$2:$O$502,7,0)=0,\"\",VLOOKUP(N276,漢字読み!$A$2:$O$502,7,0)))","v":{"$error":"#N/A"}},{"$f":"IF(O276=\"\",\"\",IF(VLOOKUP(O276,漢字読み!$A$2:$O$502,7,0)=0,\"\",VLOOKUP(O276,漢字読み!$A$2:$O$502,7,0)))","v":{"$error":"#N/A"}},{"$f":"IF(P276=\"\",\"\",IF(VLOOKUP(P276,漢字読み!$A$2:$O$502,7,0)=0,\"\",VLOOKUP(P276,漢字読み!$A$2:$O$502,7,0)))","v":{"$error":"#N/A"}},{"$f":"IF(Q276=\"\",\"\",IF(VLOOKUP(Q276,漢字読み!$A$2:$O$502,7,0)=0,\"\",VLOOKUP(Q276,漢字読み!$A$2:$O$502,7,0)))","v":{"$error":"#N/A"}},{"$f":"IF(R276=\"\",\"\",IF(VLOOKUP(R276,漢字読み!$A$2:$O$502,7,0)=0,\"\",VLOOKUP(R276,漢字読み!$A$2:$O$502,7,0)))","v":{"$error":"#N/A"}},{"$f":"IF(S276=\"\",\"\",IF(VLOOKUP(S276,漢字読み!$A$2:$O$502,7,0)=0,\"\",VLOOKUP(S276,漢字読み!$A$2:$O$502,7,0)))","v":{"$error":"#N/A"}},{"$f":"IF(T276=\"\",\"\",IF(VLOOKUP(T276,漢字読み!$A$2:$O$502,7,0)=0,\"\",VLOOKUP(T276,漢字読み!$A$2:$O$502,7,0)))","v":{"$error":"#N/A"}},null,null,"和歌山県教育委員会"]
[{"$f":"INDIRECT(\"'関数（書き）'!C\" & COLUMN(B$1)+SUM($AD$2:$AD282))","v":0},{"$f":"INDIRECT(\"'関数（書き）'!C\" & COLUMN(C$1)+SUM($AD$2:$AD282))","v":0},{"$f":"INDIRECT(\"'関数（書き）'!C\" & COLUMN(D$1)+SUM($AD$2:$AD282))","v":0},{"$f":"INDIRECT(\"'関数（書き）'!C\" & COLUMN(E$1)+SUM($AD$2:$AD282))","v":0},{"$f":"INDIRECT(\"'関数（書き）'!C\" & COLUMN(F$1)+SUM($AD$2:$AD282))","v":0},{"$f":"INDIRECT(\"'関数（書き）'!C\" & COLUMN(G$1)+SUM($AD$2:$AD282))","v":0},{"$f":"INDIRECT(\"'関数（書き）'!C\" & COLUMN(H$1)+SUM($AD$2:$AD282))","v":0},{"$f":"INDIRECT(\"'関数（書き）'!C\" & COLUMN(I$1)+SUM($AD$2:$AD282))","v":0},{"$f":"INDIRECT(\"'関数（書き）'!C\" & COLUMN(J$1)+SUM($AD$2:$AD282))","v":0},{"$f":"INDIRECT(\"'関数（書き）'!C\" & COLUMN(K$1)+SUM($AD$2:$AD282))","v":0},{"$f":"INDIRECT(\"'関数（読み）'!C\" & COLUMN(B$1)+SUM($AD$2:$AD282))","v":0},{"$f":"INDIRECT(\"'関数（読み）'!C\" & COLUMN(C$1)+SUM($AD$2:$AD282))","v":0},{"$f":"INDIRECT(\"'関数（読み）'!C\" & COLUMN(D$1)+SUM($AD$2:$AD282))","v":0},{"$f":"INDIRECT(\"'関数（読み）'!C\" & COLUMN(E$1)+SUM($AD$2:$AD282))","v":0},{"$f":"INDIRECT(\"'関数（読み）'!C\" & COLUMN(F$1)+SUM($AD$2:$AD282))","v":0},{"$f":"INDIRECT(\"'関数（読み）'!C\" & COLUMN(G$1)+SUM($AD$2:$AD282))","v":0},{"$f":"INDIRECT(\"'関数（読み）'!C\" & COLUMN(H$1)+SUM($AD$2:$AD282))","v":0},{"$f":"INDIRECT(\"'関数（読み）'!C\" & COLUMN(I$1)+SUM($AD$2:$AD282))","v":0},{"$f":"INDIRECT(\"'関数（読み）'!C\" & COLUMN(J$1)+SUM($AD$2:$AD282))","v":0},{"$f":"INDIRECT(\"'関数（読み）'!C\" & COLUMN(K$1)+SUM($AD$2:$AD282))","v":0}]
["⑳","⑲","⑱","⑰","⑯","⑮","⑭","⑬","⑫","⑪","⑩","⑨","⑧","⑦","⑥","⑤","④","③","②","①","次の［　　　　］の部分の漢字には読みがなをひらがなで書き、カタカナは漢字に直しなさい。",11,"「漢字の博士検定試験」練習問題　",null,null,null,null,null,"←",10,"問",{"$f":"AH267+1","v":281},"～",{"$f":"SUM($AD$2:$AD282)+10","v":290},"問まで",{"$f":"COUNTIF($A$1:$T$200,T283)","v":5}]
[{"$f":"IF(A281=\"\",\"\",VLOOKUP(A281,漢字書き!$A$2:$N$506,6,0))","v":{"$error":"#N/A"}},{"$f":"IF(B281=\"\",\"\",VLOOKUP(B281,漢字書き!$A$2:$N$506,6,0))","v":{"$error":"#N/A"}},{"$f":"IF(C281=\"\",\"\",VLOOKUP(C281,漢字書き!$A$2:$N$506,6,0))","v":{"$error":"#N/A"}},{"$f":"IF(D281=\"\",\"\",VLOOKUP(D281,漢字書き!$A$2:$N$506,6,0))","v":{"$error":"#N/A"}},{"$f":"IF(E281=\"\",\"\",VLOOKUP(E281,漢字書き!$A$2:$N$506,6,0))","v":{"$error":"#N/A"}},{"$f":"IF(F281=\"\",\"\",VLOOKUP(F281,漢字書き!$A$2:$N$506,6,0))","v":{"$error":"#N/A"}},{"$f":"IF(G281=\"\",\"\",VLOOKUP(G281,漢字書き!$A$2:$N$506,6,0))","v":{"$error":"#N/A"}},{"$f":"IF(H281=\"\",\"\",VLOOKUP(H281,漢字書き!$A$2:$N$506,6,0))","v":{"$error":"#N/A"}},{"$f":"IF(I281=\"\",\"\",VLOOKUP(I281,漢字書き!$A$2:$N$506,6,0))","v":{"$error":"#N/A"}},{"$f":"IF(J281=\"\",\"\",VLOOKUP(J281,漢字書き!$A$2:$N$506,6,0))","v":{"$error":"#N/A"}},{"$f":"IF(K281=\"\",\"\",VLOOKUP(K281,漢字読み!$A$2:$O$506,6,0))","v":{"$error":"#N/A"}},{"$f":"IF(L281=\"\",\"\",VLOOKUP(L281,漢字読み!$A$2:$O$506,6,0))","v":{"$error":"#N/A"}},{"$f":"IF(M281=\"\",\"\",VLOOKUP(M281,漢字読み!$A$2:$O$506,6,0))","v":{"$error":"#N/A"}},{"$f":"IF(N281=\"\",\"\",VLOOKUP(N281,漢字読み!$A$2:$O$506,6,0))","v":{"$error":"#N/A"}},{"$f":"IF(O281=\"\",\"\",VLOOKUP(O281,漢字読み!$A$2:$O$506,6,0))","v":{"$error":"#N/A"}},{"$f":"IF(P281=\"\",\"\",VLOOKUP(P281,漢字読み!$A$2:$O$506,6,0))","v":{"$error":"#N/A"}},{"$f":"IF(Q281=\"\",\"\",VLOOKUP(Q281,漢字読み!$A$2:$O$506,6,0))","v":{"$error":"#N/A"}},{"$f":"IF(R281=\"\",\"\",VLOOKUP(R281,漢字読み!$A$2:$O$506,6,0))","v":{"$error":"#N/A"}},{"$f":"IF(S281=\"\",\"\",VLOOKUP(S281,漢字読み!$A$2:$O$506,6,0))","v":{"$error":"#N/A"}},{"$f":"IF(T281=\"\",\"\",VLOOKUP(T281,漢字読み!$A$2:$O$506,6,0))","v":{"$error":"#N/A"}},null,"級"]
[null,null,null,null,null,null,null,null,null,null,null,null,null,null,null,null,null,null,null,null,null,"名前"]
[{"$f":"IF(A281=\"\",\"\",IF(VLOOKUP(A281,漢字書き!$A$2:$N$502,7,0)=0,\"\",VLOOKUP(A281,漢字書き!$A$2:$N$502,7,0)))","v":{"$error":"#N/A"}},{"$f":"IF(B281=\"\",\"\",IF(VLOOKUP(B281,漢字書き!$A$2:$N$502,7,0)=0,\"\",VLOOKUP(B281,漢字書き!$A$2:$N$502,7,0)))","v":{"$error":"#N/A"}},{"$f":"IF(C281=\"\",\"\",IF(VLOOKUP(C281,漢字書き!$A$2:$N$502,7,0)=0,\"\",VLOOKUP(C281,漢字書き!$A$2:$N$502,7,0)))","v":{"$error":"#N/A"}},{"$f":"IF(D281=\"\",\"\",IF(VLOOKUP(D281,漢字書き!$A$2:$N$502,7,0)=0,\"\",VLOOKUP(D281,漢字書き!$A$2:$N$502,7,0)))","v":{"$error":"#N/A"}},{"$f":"IF(E281=\"\",\"\",IF(VLOOKUP(E281,漢字書き!$A$2:$N$502,7,0)=0,\"\",VLOOKUP(E281,漢字書き!$A$2:$N$502,7,0)))","v":{"$error":"#N/A"}},{"$f":"IF(F281=\"\",\"\",IF(VLOOKUP(F281,漢字書き!$A$2:$N$502,7,0)=0,\"\",VLOOKUP(F281,漢字書き!$A$2:$N$502,7,0)))","v":{"$error":"#N/A"}},{"$f":"IF(G281=\"\",\"\",IF(VLOOKUP(G281,漢字書き!$A$2:$N$502,7,0)=0,\"\",VLOOKUP(G281,漢字書き!$A$2:$N$502,7,0)))","v":{"$error":"#N/A"}},{"$f":"IF(H281=\"\",\"\",IF(VLOOKUP(H281,漢字書き!$A$2:$N$502,7,0)=0,\"\",VLOOKUP(H281,漢字書き!$A$2:$N$502,7,0)))","v":{"$error":"#N/A"}},{"$f":"IF(I281=\"\",\"\",IF(VLOOKUP(I281,漢字書き!$A$2:$N$502,7,0)=0,\"\",VLOOKUP(I281,漢字書き!$A$2:$N$502,7,0)))","v":{"$error":"#N/A"}},{"$f":"IF(J281=\"\",\"\",IF(VLOOKUP(J281,漢字書き!$A$2:$N$502,7,0)=0,\"\",VLOOKUP(J281,漢字書き!$A$2:$N$502,7,0)))","v":{"$error":"#N/A"}},{"$f":"IF(K281=\"\",\"\",IF(VLOOKUP(K281,漢字読み!$A$2:$O$502,7,0)=0,\"\",VLOOKUP(K281,漢字読み!$A$2:$O$502,7,0)))","v":{"$error":"#N/A"}},{"$f":"IF(L281=\"\",\"\",IF(VLOOKUP(L281,漢字読み!$A$2:$O$502,7,0)=0,\"\",VLOOKUP(L281,漢字読み!$A$2:$O$502,7,0)))","v":{"$error":"#N/A"}},{"$f":"IF(M281=\"\",\"\",IF(VLOOKUP(M281,漢字読み!$A$2:$O$502,7,0)=0,\"\",VLOOKUP(M281,漢字読み!$A$2:$O$502,7,0)))","v":{"$error":"#N/A"}},{"$f":"IF(N281=\"\",\"\",IF(VLOOKUP(N281,漢字読み!$A$2:$O$502,7,0)=0,\"\",VLOOKUP(N281,漢字読み!$A$2:$O$502,7,0)))","v":{"$error":"#N/A"}},{"$f":"IF(O281=\"\",\"\",IF(VLOOKUP(O281,漢字読み!$A$2:$O$502,7,0)=0,\"\",VLOOKUP(O281,漢字読み!$A$2:$O$502,7,0)))","v":{"$error":"#N/A"}},{"$f":"IF(P281=\"\",\"\",IF(VLOOKUP(P281,漢字読み!$A$2:$O$502,7,0)=0,\"\",VLOOKUP(P281,漢字読み!$A$2:$O$502,7,0)))","v":{"$error":"#N/A"}},{"$f":"IF(Q281=\"\",\"\",IF(VLOOKUP(Q281,漢字読み!$A$2:$O$502,7,0)=0,\"\",VLOOKUP(Q281,漢字読み!$A$2:$O$502,7,0)))","v":{"$error":"#N/A"}},{"$f":"IF(R281=\"\",\"\",IF(VLOOKUP(R281,漢字読み!$A$2:$O$502,7,0)=0,\"\",VLOOKUP(R281,漢字読み!$A$2:$O$502,7,0)))","v":{"$error":"#N/A"}},{"$f":"IF(S281=\"\",\"\",IF(VLOOKUP(S281,漢字読み!$A$2:$O$502,7,0)=0,\"\",VLOOKUP(S281,漢字読み!$A$2:$O$502,7,0)))","v":{"$error":"#N/A"}},{"$f":"IF(T281=\"\",\"\",IF(VLOOKUP(T281,漢字読み!$A$2:$O$502,7,0)=0,\"\",VLOOKUP(T281,漢字読み!$A$2:$O$502,7,0)))","v":{"$error":"#N/A"}},null,null,"和歌山県教育委員会"]
[{"$f":"INDIRECT(\"'関数（書き）'!C\" & COLUMN(B$1)+SUM($AD$2:$AD287))","v":0},{"$f":"INDIRECT(\"'関数（書き）'!C\" & COLUMN(C$1)+SUM($AD$2:$AD287))","v":0},{"$f":"INDIRECT(\"'関数（書き）'!C\" & COLUMN(D$1)+SUM($AD$2:$AD287))","v":0},{"$f":"INDIRECT(\"'関数（書き）'!C\" & COLUMN(E$1)+SUM($AD$2:$AD287))","v":0},{"$f":"INDIRECT(\"'関数（書き）'!C\" & COLUMN(F$1)+SUM($AD$2:$AD287))","v":0},{"$f":"INDIRECT(\"'関数（書き）'!C\" & COLUMN(G$1)+SUM($AD$2:$AD287))","v":0},{"$f":"INDIRECT(\"'関数（書き）'!C\" & COLUMN(H$1)+SUM($AD$2:$AD287))","v":0},{"$f":"INDIRECT(\"'関数（書き）'!C\" & COLUMN(I$1)+SUM($AD$2:$AD287))","v":0},{"$f":"INDIRECT(\"'関数（書き）'!C\" & COLUMN(J$1)+SUM($AD$2:$AD287))","v":0},{"$f":"INDIRECT(\"'関数（書き）'!C\" & COLUMN(K$1)+SUM($AD$2:$AD287))","v":0},{"$f":"INDIRECT(\"'関数（読み）'!C\" & COLUMN(B$1)+SUM($AD$2:$AD287))","v":0},{"$f":"INDIRECT(\"'関数（読み）'!C\" & COLUMN(C$1)+SUM($AD$2:$AD287))","v":0},{"$f":"INDIRECT(\"'関数（読み）'!C\" & COLUMN(D$1)+SUM($AD$2:$AD287))","v":0},{"$f":"INDIRECT(\"'関数（読み）'!C\" & COLUMN(E$1)+SUM($AD$2:$AD287))","v":0},{"$f":"INDIRECT(\"'関数（読み）'!C\" & COLUMN(F$1)+SUM($AD$2:$AD287))","v":0},{"$f":"INDIRECT(\"'関数（読み）'!C\" & COLUMN(G$1)+SUM($AD$2:$AD287))","v":0},{"$f":"INDIRECT(\"'関数（読み）'!C\" & COLUMN(H$1)+SUM($AD$2:$AD287))","v":0},{"$f":"INDIRECT(\"'関数（読み）'!C\" & COLUMN(I$1)+SUM($AD$2:$AD287))","v":0},{"$f":"INDIRECT(\"'関数（読み）'!C\" & COLUMN(J$1)+SUM($AD$2:$AD287))","v":0},{"$f":"INDIRECT(\"'関数（読み）'!C\" & COLUMN(K$1)+SUM($AD$2:$AD287))","v":0}]
["⑳","⑲","⑱","⑰","⑯","⑮","⑭","⑬","⑫","⑪","⑩","⑨","⑧","⑦","⑥","⑤","④","③","②","①","次の［　　　　］の部分の漢字には読みがなをひらがなで書き、カタカナは漢字に直しなさい。",11,"「漢字の博士検定試験」練習問題　",null,null,null,null,null,"←",10,"問",{"$f":"AH282+1","v":291},"～",{"$f":"SUM($AD$2:$AD287)+10","v":300},"問まで",{"$f":"COUNTIF($A$1:$T$200,T288)","v":5}]
[{"$f":"IF(A286=\"\",\"\",VLOOKUP(A286,漢字書き!$A$2:$N$506,6,0))","v":{"$error":"#N/A"}},{"$f":"IF(B286=\"\",\"\",VLOOKUP(B286,漢字書き!$A$2:$N$506,6,0))","v":{"$error":"#N/A"}},{"$f":"IF(C286=\"\",\"\",VLOOKUP(C286,漢字書き!$A$2:$N$506,6,0))","v":{"$error":"#N/A"}},{"$f":"IF(D286=\"\",\"\",VLOOKUP(D286,漢字書き!$A$2:$N$506,6,0))","v":{"$error":"#N/A"}},{"$f":"IF(E286=\"\",\"\",VLOOKUP(E286,漢字書き!$A$2:$N$506,6,0))","v":{"$error":"#N/A"}},{"$f":"IF(F286=\"\",\"\",VLOOKUP(F286,漢字書き!$A$2:$N$506,6,0))","v":{"$error":"#N/A"}},{"$f":"IF(G286=\"\",\"\",VLOOKUP(G286,漢字書き!$A$2:$N$506,6,0))","v":{"$error":"#N/A"}},{"$f":"IF(H286=\"\",\"\",VLOOKUP(H286,漢字書き!$A$2:$N$506,6,0))","v":{"$error":"#N/A"}},{"$f":"IF(I286=\"\",\"\",VLOOKUP(I286,漢字書き!$A$2:$N$506,6,0))","v":{"$error":"#N/A"}},{"$f":"IF(J286=\"\",\"\",VLOOKUP(J286,漢字書き!$A$2:$N$506,6,0))","v":{"$error":"#N/A"}},{"$f":"IF(K286=\"\",\"\",VLOOKUP(K286,漢字読み!$A$2:$O$506,6,0))","v":{"$error":"#N/A"}},{"$f":"IF(L286=\"\",\"\",VLOOKUP(L286,漢字読み!$A$2:$O$506,6,0))","v":{"$error":"#N/A"}},{"$f":"IF(M286=\"\",\"\",VLOOKUP(M286,漢字読み!$A$2:$O$506,6,0))","v":{"$error":"#N/A"}},{"$f":"IF(N286=\"\",\"\",VLOOKUP(N286,漢字読み!$A$2:$O$506,6,0))","v":{"$error":"#N/A"}},{"$f":"IF(O286=\"\",\"\",VLOOKUP(O286,漢字読み!$A$2:$O$506,6,0))","v":{"$error":"#N/A"}},{"$f":"IF(P286=\"\",\"\",VLOOKUP(P286,漢字読み!$A$2:$O$506,6,0))","v":{"$error":"#N/A"}},{"$f":"IF(Q286=\"\",\"\",VLOOKUP(Q286,漢字読み!$A$2:$O$506,6,0))","v":{"$error":"#N/A"}},{"$f":"IF(R286=\"\",\"\",VLOOKUP(R286,漢字読み!$A$2:$O$506,6,0))","v":{"$error":"#N/A"}},{"$f":"IF(S286=\"\",\"\",VLOOKUP(S286,漢字読み!$A$2:$O$506,6,0))","v":{"$error":"#N/A"}},{"$f":"IF(T286=\"\",\"\",VLOOKUP(T286,漢字読み!$A$2:$O$506,6,0))","v":{"$error":"#N/A"}},null,"級"]
[null,null,null,null,null,null,null,null,null,null,null,null,null,null,null,null,null,null,null,null,null,"名前"]
[{"$f":"IF(A286=\"\",\"\",IF(VLOOKUP(A286,漢字書き!$A$2:$N$502,7,0)=0,\"\",VLOOKUP(A286,漢字書き!$A$2:$N$502,7,0)))","v":{"$error":"#N/A"}},{"$f":"IF(B286=\"\",\"\",IF(VLOOKUP(B286,漢字書き!$A$2:$N$502,7,0)=0,\"\",VLOOKUP(B286,漢字書き!$A$2:$N$502,7,0)))","v":{"$error":"#N/A"}},{"$f":"IF(C286=\"\",\"\",IF(VLOOKUP(C286,漢字書き!$A$2:$N$502,7,0)=0,\"\",VLOOKUP(C286,漢字書き!$A$2:$N$502,7,0)))","v":{"$error":"#N/A"}},{"$f":"IF(D286=\"\",\"\",IF(VLOOKUP(D286,漢字書き!$A$2:$N$502,7,0)=0,\"\",VLOOKUP(D286,漢字書き!$A$2:$N$502,7,0)))","v":{"$error":"#N/A"}},{"$f":"IF(E286=\"\",\"\",IF(VLOOKUP(E286,漢字書き!$A$2:$N$502,7,0)=0,\"\",VLOOKUP(E286,漢字書き!$A$2:$N$502,7,0)))","v":{"$error":"#N/A"}},{"$f":"IF(F286=\"\",\"\",IF(VLOOKUP(F286,漢字書き!$A$2:$N$502,7,0)=0,\"\",VLOOKUP(F286,漢字書き!$A$2:$N$502,7,0)))","v":{"$error":"#N/A"}},{"$f":"IF(G286=\"\",\"\",IF(VLOOKUP(G286,漢字書き!$A$2:$N$502,7,0)=0,\"\",VLOOKUP(G286,漢字書き!$A$2:$N$502,7,0)))","v":{"$error":"#N/A"}},{"$f":"IF(H286=\"\",\"\",IF(VLOOKUP(H286,漢字書き!$A$2:$N$502,7,0)=0,\"\",VLOOKUP(H286,漢字書き!$A$2:$N$502,7,0)))","v":{"$error":"#N/A"}},{"$f":"IF(I286=\"\",\"\",IF(VLOOKUP(I286,漢字書き!$A$2:$N$502,7,0)=0,\"\",VLOOKUP(I286,漢字書き!$A$2:$N$502,7,0)))","v":{"$error":"#N/A"}},{"$f":"IF(J286=\"\",\"\",IF(VLOOKUP(J286,漢字書き!$A$2:$N$502,7,0)=0,\"\",VLOOKUP(J286,漢字書き!$A$2:$N$502,7,0)))","v":{"$error":"#N/A"}},{"$f":"IF(K286=\"\",\"\",IF(VLOOKUP(K286,漢字読み!$A$2:$O$502,7,0)=0,\"\",VLOOKUP(K286,漢字読み!$A$2:$O$502,7,0)))","v":{"$error":"#N/A"}},{"$f":"IF(L286=\"\",\"\",IF(VLOOKUP(L286,漢字読み!$A$2:$O$502,7,0)=0,\"\",VLOOKUP(L286,漢字読み!$A$2:$O$502,7,0)))","v":{"$error":"#N/A"}},{"$f":"IF(M286=\"\",\"\",IF(VLOOKUP(M286,漢字読み!$A$2:$O$502,7,0)=0,\"\",VLOOKUP(M286,漢字読み!$A$2:$O$502,7,0)))","v":{"$error":"#N/A"}},{"$f":"IF(N286=\"\",\"\",IF(VLOOKUP(N286,漢字読み!$A$2:$O$502,7,0)=0,\"\",VLOOKUP(N286,漢字読み!$A$2:$O$502,7,0)))","v":{"$error":"#N/A"}},{"$f":"IF(O286=\"\",\"\",IF(VLOOKUP(O286,漢字読み!$A$2:$O$502,7,0)=0,\"\",VLOOKUP(O286,漢字読み!$A$2:$O$502,7,0)))","v":{"$error":"#N/A"}},{"$f":"IF(P286=\"\",\"\",IF(VLOOKUP(P286,漢字読み!$A$2:$O$502,7,0)=0,\"\",VLOOKUP(P286,漢字読み!$A$2:$O$502,7,0)))","v":{"$error":"#N/A"}},{"$f":"IF(Q286=\"\",\"\",IF(VLOOKUP(Q286,漢字読み!$A$2:$O$502,7,0)=0,\"\",VLOOKUP(Q286,漢字読み!$A$2:$O$502,7,0)))","v":{"$error":"#N/A"}},{"$f":"IF(R286=\"\",\"\",IF(VLOOKUP(R286,漢字読み!$A$2:$O$502,7,0)=0,\"\",VLOOKUP(R286,漢字読み!$A$2:$O$502,7,0)))","v":{"$error":"#N/A"}},{"$f":"IF(S286=\"\",\"\",IF(VLOOKUP(S286,漢字読み!$A$2:$O$502,7,0)=0,\"\",VLOOKUP(S286,漢字読み!$A$2:$O$502,7,0)))","v":{"$error":"#N/A"}},{"$f":"IF(T286=\"\",\"\",IF(VLOOKUP(T286,漢字読み!$A$2:$O$502,7,0)=0,\"\",VLOOKUP(T286,漢字読み!$A$2:$O$502,7,0)))","v":{"$error":"#N/A"}},null,null,"和歌山県教育委員会"]
[{"$f":"A281","v":0},{"$f":"B281","v":0},{"$f":"C281","v":0},{"$f":"D281","v":0},{"$f":"E281","v":0},{"$f":"F281","v":0},{"$f":"G281","v":0},{"$f":"H281","v":0},{"$f":"I281","v":0},{"$f":"J281","v":0},{"$f":"K281","v":0},{"$f":"L281","v":0},{"$f":"M281","v":0},{"$f":"N281","v":0},{"$f":"O281","v":0},{"$f":"P281","v":0},{"$f":"Q281","v":0},{"$f":"R281","v":0},{"$f":"S281","v":0},{"$f":"T281","v":0}]
["⑳","⑲","⑱","⑰","⑯","⑮","⑭","⑬","⑫","⑪","⑩","⑨","⑧","⑦","⑥","⑤","④","③","②","①","次の［　　　　］の部分の漢字には読みがなをひらがなで書き、カタカナは漢字に直しなさい。",11,"「漢字の博士検定試験」練習問題　"]
[{"$f":"IF(A291=\"\",\"\",VLOOKUP(A291,漢字書き!$A$2:$N$506,6,0))","v":{"$error":"#N/A"}},{"$f":"IF(B291=\"\",\"\",VLOOKUP(B291,漢字書き!$A$2:$N$506,6,0))","v":{"$error":"#N/A"}},{"$f":"IF(C291=\"\",\"\",VLOOKUP(C291,漢字書き!$A$2:$N$506,6,0))","v":{"$error":"#N/A"}},{"$f":"IF(D291=\"\",\"\",VLOOKUP(D291,漢字書き!$A$2:$N$506,6,0))","v":{"$error":"#N/A"}},{"$f":"IF(E291=\"\",\"\",VLOOKUP(E291,漢字書き!$A$2:$N$506,6,0))","v":{"$error":"#N/A"}},{"$f":"IF(F291=\"\",\"\",VLOOKUP(F291,漢字書き!$A$2:$N$506,6,0))","v":{"$error":"#N/A"}},{"$f":"IF(G291=\"\",\"\",VLOOKUP(G291,漢字書き!$A$2:$N$506,6,0))","v":{"$error":"#N/A"}},{"$f":"IF(H291=\"\",\"\",VLOOKUP(H291,漢字書き!$A$2:$N$506,6,0))","v":{"$error":"#N/A"}},{"$f":"IF(I291=\"\",\"\",VLOOKUP(I291,漢字書き!$A$2:$N$506,6,0))","v":{"$error":"#N/A"}},{"$f":"IF(J291=\"\",\"\",VLOOKUP(J291,漢字書き!$A$2:$N$506,6,0))","v":{"$error":"#N/A"}},{"$f":"IF(K291=\"\",\"\",VLOOKUP(K291,漢字読み!$A$2:$O$506,6,0))","v":{"$error":"#N/A"}},{"$f":"IF(L291=\"\",\"\",VLOOKUP(L291,漢字読み!$A$2:$O$506,6,0))","v":{"$error":"#N/A"}},{"$f":"IF(M291=\"\",\"\",VLOOKUP(M291,漢字読み!$A$2:$O$506,6,0))","v":{"$error":"#N/A"}},{"$f":"IF(N291=\"\",\"\",VLOOKUP(N291,漢字読み!$A$2:$O$506,6,0))","v":{"$error":"#N/A"}},{"$f":"IF(O291=\"\",\"\",VLOOKUP(O291,漢字読み!$A$2:$O$506,6,0))","v":{"$error":"#N/A"}},{"$f":"IF(P291=\"\",\"\",VLOOKUP(P291,漢字読み!$A$2:$O$506,6,0))","v":{"$error":"#N/A"}},{"$f":"IF(Q291=\"\",\"\",VLOOKUP(Q291,漢字読み!$A$2:$O$506,6,0))","v":{"$error":"#N/A"}},{"$f":"IF(R291=\"\",\"\",VLOOKUP(R291,漢字読み!$A$2:$O$506,6,0))","v":{"$error":"#N/A"}},{"$f":"IF(S291=\"\",\"\",VLOOKUP(S291,漢字読み!$A$2:$O$506,6,0))","v":{"$error":"#N/A"}},{"$f":"IF(T291=\"\",\"\",VLOOKUP(T291,漢字読み!$A$2:$O$506,6,0))","v":{"$error":"#N/A"}},null,"級"]
[{"$f":"IF(A$11=\"\",\"\",VLOOKUP(A291,漢字書き!$A$2:$O$506,8,0))","v":{"$error":"#N/A"}},{"$f":"IF(B$11=\"\",\"\",VLOOKUP(B291,漢字書き!$A$2:$O$506,8,0))","v":{"$error":"#N/A"}},{"$f":"IF(C$11=\"\",\"\",VLOOKUP(C291,漢字書き!$A$2:$O$506,8,0))","v":{"$error":"#N/A"}},{"$f":"IF(D$11=\"\",\"\",VLOOKUP(D291,漢字書き!$A$2:$O$506,8,0))","v":{"$error":"#N/A"}},{"$f":"IF(E$11=\"\",\"\",VLOOKUP(E291,漢字書き!$A$2:$O$506,8,0))","v":{"$error":"#N/A"}},{"$f":"IF(F$11=\"\",\"\",VLOOKUP(F291,漢字書き!$A$2:$O$506,8,0))","v":{"$error":"#N/A"}},{"$f":"IF(G$11=\"\",\"\",VLOOKUP(G291,漢字書き!$A$2:$O$506,8,0))","v":{"$error":"#N/A"}},{"$f":"IF(H$11=\"\",\"\",VLOOKUP(H291,漢字書き!$A$2:$O$506,8,0))","v":{"$error":"#N/A"}},{"$f":"IF(I$11=\"\",\"\",VLOOKUP(I291,漢字書き!$A$2:$O$506,8,0))","v":{"$error":"#N/A"}},{"$f":"IF(J$11=\"\",\"\",VLOOKUP(J291,漢字書き!$A$2:$O$506,8,0))","v":{"$error":"#N/A"}},{"$f":"IF(K$11=\"\",\"\",VLOOKUP(K291,漢字読み!$A$2:$O$506,8,0))","v":{"$error":"#N/A"}},{"$f":"IF(L$11=\"\",\"\",VLOOKUP(L291,漢字読み!$A$2:$O$506,8,0))","v":{"$error":"#N/A"}},{"$f":"IF(M$11=\"\",\"\",VLOOKUP(M291,漢字読み!$A$2:$O$506,8,0))","v":{"$error":"#N/A"}},{"$f":"IF(N$11=\"\",\"\",VLOOKUP(N291,漢字読み!$A$2:$O$506,8,0))","v":{"$error":"#N/A"}},{"$f":"IF(O$11=\"\",\"\",VLOOKUP(O291,漢字読み!$A$2:$O$506,8,0))","v":{"$error":"#N/A"}},{"$f":"IF(P$11=\"\",\"\",VLOOKUP(P291,漢字読み!$A$2:$O$506,8,0))","v":{"$error":"#N/A"}},{"$f":"IF(Q$11=\"\",\"\",VLOOKUP(Q291,漢字読み!$A$2:$O$506,8,0))","v":{"$error":"#N/A"}},{"$f":"IF(R$11=\"\",\"\",VLOOKUP(R291,漢字読み!$A$2:$O$506,8,0))","v":{"$error":"#N/A"}},{"$f":"IF(S$11=\"\",\"\",VLOOKUP(S291,漢字読み!$A$2:$O$506,8,0))","v":{"$error":"#N/A"}},{"$f":"IF(T$11=\"\",\"\",VLOOKUP(T291,漢字読み!$A$2:$O$506,8,0))","v":{"$error":"#N/A"}},null,"名前"]
[{"$f":"IF(A291=\"\",\"\",IF(VLOOKUP(A291,漢字書き!$A$2:$N$502,7,0)=0,\"\",VLOOKUP(A291,漢字書き!$A$2:$N$502,7,0)))","v":{"$error":"#N/A"}},{"$f":"IF(B291=\"\",\"\",IF(VLOOKUP(B291,漢字書き!$A$2:$N$502,7,0)=0,\"\",VLOOKUP(B291,漢字書き!$A$2:$N$502,7,0)))","v":{"$error":"#N/A"}},{"$f":"IF(C291=\"\",\"\",IF(VLOOKUP(C291,漢字書き!$A$2:$N$502,7,0)=0,\"\",VLOOKUP(C291,漢字書き!$A$2:$N$502,7,0)))","v":{"$error":"#N/A"}},{"$f":"IF(D291=\"\",\"\",IF(VLOOKUP(D291,漢字書き!$A$2:$N$502,7,0)=0,\"\",VLOOKUP(D291,漢字書き!$A$2:$N$502,7,0)))","v":{"$error":"#N/A"}},{"$f":"IF(E291=\"\",\"\",IF(VLOOKUP(E291,漢字書き!$A$2:$N$502,7,0)=0,\"\",VLOOKUP(E291,漢字書き!$A$2:$N$502,7,0)))","v":{"$error":"#N/A"}},{"$f":"IF(F291=\"\",\"\",IF(VLOOKUP(F291,漢字書き!$A$2:$N$502,7,0)=0,\"\",VLOOKUP(F291,漢字書き!$A$2:$N$502,7,0)))","v":{"$error":"#N/A"}},{"$f":"IF(G291=\"\",\"\",IF(VLOOKUP(G291,漢字書き!$A$2:$N$502,7,0)=0,\"\",VLOOKUP(G291,漢字書き!$A$2:$N$502,7,0)))","v":{"$error":"#N/A"}},{"$f":"IF(H291=\"\",\"\",IF(VLOOKUP(H291,漢字書き!$A$2:$N$502,7,0)=0,\"\",VLOOKUP(H291,漢字書き!$A$2:$N$502,7,0)))","v":{"$error":"#N/A"}},{"$f":"IF(I291=\"\",\"\",IF(VLOOKUP(I291,漢字書き!$A$2:$N$502,7,0)=0,\"\",VLOOKUP(I291,漢字書き!$A$2:$N$502,7,0)))","v":{"$error":"#N/A"}},{"$f":"IF(J291=\"\",\"\",IF(VLOOKUP(J291,漢字書き!$A$2:$N$502,7,0)=0,\"\",VLOOKUP(J291,漢字書き!$A$2:$N$502,7,0)))","v":{"$error":"#N/A"}},{"$f":"IF(K291=\"\",\"\",IF(VLOOKUP(K291,漢字読み!$A$2:$O$502,7,0)=0,\"\",VLOOKUP(K291,漢字読み!$A$2:$O$502,7,0)))","v":{"$error":"#N/A"}},{"$f":"IF(L291=\"\",\"\",IF(VLOOKUP(L291,漢字読み!$A$2:$O$502,7,0)=0,\"\",VLOOKUP(L291,漢字読み!$A$2:$O$502,7,0)))","v":{"$error":"#N/A"}},{"$f":"IF(M291=\"\",\"\",IF(VLOOKUP(M291,漢字読み!$A$2:$O$502,7,0)=0,\"\",VLOOKUP(M291,漢字読み!$A$2:$O$502,7,0)))","v":{"$error":"#N/A"}},{"$f":"IF(N291=\"\",\"\",IF(VLOOKUP(N291,漢字読み!$A$2:$O$502,7,0)=0,\"\",VLOOKUP(N291,漢字読み!$A$2:$O$502,7,0)))","v":{"$error":"#N/A"}},{"$f":"IF(O291=\"\",\"\",IF(VLOOKUP(O291,漢字読み!$A$2:$O$502,7,0)=0,\"\",VLOOKUP(O291,漢字読み!$A$2:$O$502,7,0)))","v":{"$error":"#N/A"}},{"$f":"IF(P291=\"\",\"\",IF(VLOOKUP(P291,漢字読み!$A$2:$O$502,7,0)=0,\"\",VLOOKUP(P291,漢字読み!$A$2:$O$502,7,0)))","v":{"$error":"#N/A"}},{"$f":"IF(Q291=\"\",\"\",IF(VLOOKUP(Q291,漢字読み!$A$2:$O$502,7,0)=0,\"\",VLOOKUP(Q291,漢字読み!$A$2:$O$502,7,0)))","v":{"$error":"#N/A"}},{"$f":"IF(R291=\"\",\"\",IF(VLOOKUP(R291,漢字読み!$A$2:$O$502,7,0)=0,\"\",VLOOKUP(R291,漢字読み!$A$2:$O$502,7,0)))","v":{"$error":"#N/A"}},{"$f":"IF(S291=\"\",\"\",IF(VLOOKUP(S291,漢字読み!$A$2:$O$502,7,0)=0,\"\",VLOOKUP(S291,漢字読み!$A$2:$O$502,7,0)))","v":{"$error":"#N/A"}},{"$f":"IF(T291=\"\",\"\",IF(VLOOKUP(T291,漢字読み!$A$2:$O$502,7,0)=0,\"\",VLOOKUP(T291,漢字読み!$A$2:$O$502,7,0)))","v":{"$error":"#N/A"}},null,null,"和歌山県教育委員会"]
[{"$f":"A286","v":0},{"$f":"B286","v":0},{"$f":"C286","v":0},{"$f":"D286","v":0},{"$f":"E286","v":0},{"$f":"F286","v":0},{"$f":"G286","v":0},{"$f":"H286","v":0},{"$f":"I286","v":0},{"$f":"J286","v":0},{"$f":"K286","v":0},{"$f":"L286","v":0},{"$f":"M286","v":0},{"$f":"N286","v":0},{"$f":"O286","v":0},{"$f":"P286","v":0},{"$f":"Q286","v":0},{"$f":"R286","v":0},{"$f":"S286","v":0},{"$f":"T286","v":0}]
["⑳","⑲","⑱","⑰","⑯","⑮","⑭","⑬","⑫","⑪","⑩","⑨","⑧","⑦","⑥","⑤","④","③","②","①","次の［　　　　］の部分の漢字には読みがなをひらがなで書き、カタカナは漢字に直しなさい。",11,"「漢字の博士検定試験」練習問題　"]
[{"$f":"IF(A296=\"\",\"\",VLOOKUP(A296,漢字書き!$A$2:$N$506,6,0))","v":{"$error":"#N/A"}},{"$f":"IF(B296=\"\",\"\",VLOOKUP(B296,漢字書き!$A$2:$N$506,6,0))","v":{"$error":"#N/A"}},{"$f":"IF(C296=\"\",\"\",VLOOKUP(C296,漢字書き!$A$2:$N$506,6,0))","v":{"$error":"#N/A"}},{"$f":"IF(D296=\"\",\"\",VLOOKUP(D296,漢字書き!$A$2:$N$506,6,0))","v":{"$error":"#N/A"}},{"$f":"IF(E296=\"\",\"\",VLOOKUP(E296,漢字書き!$A$2:$N$506,6,0))","v":{"$error":"#N/A"}},{"$f":"IF(F296=\"\",\"\",VLOOKUP(F296,漢字書き!$A$2:$N$506,6,0))","v":{"$error":"#N/A"}},{"$f":"IF(G296=\"\",\"\",VLOOKUP(G296,漢字書き!$A$2:$N$506,6,0))","v":{"$error":"#N/A"}},{"$f":"IF(H296=\"\",\"\",VLOOKUP(H296,漢字書き!$A$2:$N$506,6,0))","v":{"$error":"#N/A"}},{"$f":"IF(I296=\"\",\"\",VLOOKUP(I296,漢字書き!$A$2:$N$506,6,0))","v":{"$error":"#N/A"}},{"$f":"IF(J296=\"\",\"\",VLOOKUP(J296,漢字書き!$A$2:$N$506,6,0))","v":{"$error":"#N/A"}},{"$f":"IF(K296=\"\",\"\",VLOOKUP(K296,漢字読み!$A$2:$O$506,6,0))","v":{"$error":"#N/A"}},{"$f":"IF(L296=\"\",\"\",VLOOKUP(L296,漢字読み!$A$2:$O$506,6,0))","v":{"$error":"#N/A"}},{"$f":"IF(M296=\"\",\"\",VLOOKUP(M296,漢字読み!$A$2:$O$506,6,0))","v":{"$error":"#N/A"}},{"$f":"IF(N296=\"\",\"\",VLOOKUP(N296,漢字読み!$A$2:$O$506,6,0))","v":{"$error":"#N/A"}},{"$f":"IF(O296=\"\",\"\",VLOOKUP(O296,漢字読み!$A$2:$O$506,6,0))","v":{"$error":"#N/A"}},{"$f":"IF(P296=\"\",\"\",VLOOKUP(P296,漢字読み!$A$2:$O$506,6,0))","v":{"$error":"#N/A"}},{"$f":"IF(Q296=\"\",\"\",VLOOKUP(Q296,漢字読み!$A$2:$O$506,6,0))","v":{"$error":"#N/A"}},{"$f":"IF(R296=\"\",\"\",VLOOKUP(R296,漢字読み!$A$2:$O$506,6,0))","v":{"$error":"#N/A"}},{"$f":"IF(S296=\"\",\"\",VLOOKUP(S296,漢字読み!$A$2:$O$506,6,0))","v":{"$error":"#N/A"}},{"$f":"IF(T296=\"\",\"\",VLOOKUP(T296,漢字読み!$A$2:$O$506,6,0))","v":{"$error":"#N/A"}},null,"級"]
[{"$f":"IF(A$16=\"\",\"\",VLOOKUP(A296,漢字書き!$A$2:$O$506,8,0))","v":{"$error":"#N/A"}},{"$f":"IF(B$16=\"\",\"\",VLOOKUP(B296,漢字書き!$A$2:$O$506,8,0))","v":{"$error":"#N/A"}},{"$f":"IF(C$16=\"\",\"\",VLOOKUP(C296,漢字書き!$A$2:$O$506,8,0))","v":{"$error":"#N/A"}},{"$f":"IF(D$16=\"\",\"\",VLOOKUP(D296,漢字書き!$A$2:$O$506,8,0))","v":{"$error":"#N/A"}},{"$f":"IF(E$16=\"\",\"\",VLOOKUP(E296,漢字書き!$A$2:$O$506,8,0))","v":{"$error":"#N/A"}},{"$f":"IF(F$16=\"\",\"\",VLOOKUP(F296,漢字書き!$A$2:$O$506,8,0))","v":{"$error":"#N/A"}},{"$f":"IF(G$16=\"\",\"\",VLOOKUP(G296,漢字書き!$A$2:$O$506,8,0))","v":{"$error":"#N/A"}},{"$f":"IF(H$16=\"\",\"\",VLOOKUP(H296,漢字書き!$A$2:$O$506,8,0))","v":{"$error":"#N/A"}},{"$f":"IF(I$16=\"\",\"\",VLOOKUP(I296,漢字書き!$A$2:$O$506,8,0))","v":{"$error":"#N/A"}},{"$f":"IF(J$16=\"\",\"\",VLOOKUP(J296,漢字書き!$A$2:$O$506,8,0))","v":{"$error":"#N/A"}},{"$f":"IF(K$16=\"\",\"\",VLOOKUP(K296,漢字読み!$A$2:$O$506,8,0))","v":{"$error":"#N/A"}},{"$f":"IF(L$16=\"\",\"\",VLOOKUP(L296,漢字読み!$A$2:$O$506,8,0))","v":{"$error":"#N/A"}},{"$f":"IF(M$16=\"\",\"\",VLOOKUP(M296,漢字読み!$A$2:$O$506,8,0))","v":{"$error":"#N/A"}},{"$f":"IF(N$16=\"\",\"\",VLOOKUP(N296,漢字読み!$A$2:$O$506,8,0))","v":{"$error":"#N/A"}},{"$f":"IF(O$16=\"\",\"\",VLOOKUP(O296,漢字読み!$A$2:$O$506,8,0))","v":{"$error":"#N/A"}},{"$f":"IF(P$16=\"\",\"\",VLOOKUP(P296,漢字読み!$A$2:$O$506,8,0))","v":{"$error":"#N/A"}},{"$f":"IF(Q$16=\"\",\"\",VLOOKUP(Q296,漢字読み!$A$2:$O$506,8,0))","v":{"$error":"#N/A"}},{"$f":"IF(R$16=\"\",\"\",VLOOKUP(R296,漢字読み!$A$2:$O$506,8,0))","v":{"$error":"#N/A"}},{"$f":"IF(S$16=\"\",\"\",VLOOKUP(S296,漢字読み!$A$2:$O$506,8,0))","v":{"$error":"#N/A"}},{"$f":"IF(T$16=\"\",\"\",VLOOKUP(T296,漢字読み!$A$2:$O$506,8,0))","v":{"$error":"#N/A"}},null,"名前"]
[{"$f":"IF(A296=\"\",\"\",IF(VLOOKUP(A296,漢字書き!$A$2:$N$502,7,0)=0,\"\",VLOOKUP(A296,漢字書き!$A$2:$N$502,7,0)))","v":{"$error":"#N/A"}},{"$f":"IF(B296=\"\",\"\",IF(VLOOKUP(B296,漢字書き!$A$2:$N$502,7,0)=0,\"\",VLOOKUP(B296,漢字書き!$A$2:$N$502,7,0)))","v":{"$error":"#N/A"}},{"$f":"IF(C296=\"\",\"\",IF(VLOOKUP(C296,漢字書き!$A$2:$N$502,7,0)=0,\"\",VLOOKUP(C296,漢字書き!$A$2:$N$502,7,0)))","v":{"$error":"#N/A"}},{"$f":"IF(D296=\"\",\"\",IF(VLOOKUP(D296,漢字書き!$A$2:$N$502,7,0)=0,\"\",VLOOKUP(D296,漢字書き!$A$2:$N$502,7,0)))","v":{"$error":"#N/A"}},{"$f":"IF(E296=\"\",\"\",IF(VLOOKUP(E296,漢字書き!$A$2:$N$502,7,0)=0,\"\",VLOOKUP(E296,漢字書き!$A$2:$N$502,7,0)))","v":{"$error":"#N/A"}},{"$f":"IF(F296=\"\",\"\",IF(VLOOKUP(F296,漢字書き!$A$2:$N$502,7,0)=0,\"\",VLOOKUP(F296,漢字書き!$A$2:$N$502,7,0)))","v":{"$error":"#N/A"}},{"$f":"IF(G296=\"\",\"\",IF(VLOOKUP(G296,漢字書き!$A$2:$N$502,7,0)=0,\"\",VLOOKUP(G296,漢字書き!$A$2:$N$502,7,0)))","v":{"$error":"#N/A"}},{"$f":"IF(H296=\"\",\"\",IF(VLOOKUP(H296,漢字書き!$A$2:$N$502,7,0)=0,\"\",VLOOKUP(H296,漢字書き!$A$2:$N$502,7,0)))","v":{"$error":"#N/A"}},{"$f":"IF(I296=\"\",\"\",IF(VLOOKUP(I296,漢字書き!$A$2:$N$502,7,0)=0,\"\",VLOOKUP(I296,漢字書き!$A$2:$N$502,7,0)))","v":{"$error":"#N/A"}},{"$f":"IF(J296=\"\",\"\",IF(VLOOKUP(J296,漢字書き!$A$2:$N$502,7,0)=0,\"\",VLOOKUP(J296,漢字書き!$A$2:$N$502,7,0)))","v":{"$error":"#N/A"}},{"$f":"IF(K296=\"\",\"\",IF(VLOOKUP(K296,漢字読み!$A$2:$O$502,7,0)=0,\"\",VLOOKUP(K296,漢字読み!$A$2:$O$502,7,0)))","v":{"$error":"#N/A"}},{"$f":"IF(L296=\"\",\"\",IF(VLOOKUP(L296,漢字読み!$A$2:$O$502,7,0)=0,\"\",VLOOKUP(L296,漢字読み!$A$2:$O$502,7,0)))","v":{"$error":"#N/A"}},{"$f":"IF(M296=\"\",\"\",IF(VLOOKUP(M296,漢字読み!$A$2:$O$502,7,0)=0,\"\",VLOOKUP(M296,漢字読み!$A$2:$O$502,7,0)))","v":{"$error":"#N/A"}},{"$f":"IF(N296=\"\",\"\",IF(VLOOKUP(N296,漢字読み!$A$2:$O$502,7,0)=0,\"\",VLOOKUP(N296,漢字読み!$A$2:$O$502,7,0)))","v":{"$error":"#N/A"}},{"$f":"IF(O296=\"\",\"\",IF(VLOOKUP(O296,漢字読み!$A$2:$O$502,7,0)=0,\"\",VLOOKUP(O296,漢字読み!$A$2:$O$502,7,0)))","v":{"$error":"#N/A"}},{"$f":"IF(P296=\"\",\"\",IF(VLOOKUP(P296,漢字読み!$A$2:$O$502,7,0)=0,\"\",VLOOKUP(P296,漢字読み!$A$2:$O$502,7,0)))","v":{"$error":"#N/A"}},{"$f":"IF(Q296=\"\",\"\",IF(VLOOKUP(Q296,漢字読み!$A$2:$O$502,7,0)=0,\"\",VLOOKUP(Q296,漢字読み!$A$2:$O$502,7,0)))","v":{"$error":"#N/A"}},{"$f":"IF(R296=\"\",\"\",IF(VLOOKUP(R296,漢字読み!$A$2:$O$502,7,0)=0,\"\",VLOOKUP(R296,漢字読み!$A$2:$O$502,7,0)))","v":{"$error":"#N/A"}},{"$f":"IF(S296=\"\",\"\",IF(VLOOKUP(S296,漢字読み!$A$2:$O$502,7,0)=0,\"\",VLOOKUP(S296,漢字読み!$A$2:$O$502,7,0)))","v":{"$error":"#N/A"}},{"$f":"IF(T296=\"\",\"\",IF(VLOOKUP(T296,漢字読み!$A$2:$O$502,7,0)=0,\"\",VLOOKUP(T296,漢字読み!$A$2:$O$502,7,0)))","v":{"$error":"#N/A"}},null,null,"和歌山県教育委員会"]
[{"$f":"INDIRECT(\"'関数（書き）'!C\" & COLUMN(B$1)+SUM($AD$2:$AD302))","v":0},{"$f":"INDIRECT(\"'関数（書き）'!C\" & COLUMN(C$1)+SUM($AD$2:$AD302))","v":0},{"$f":"INDIRECT(\"'関数（書き）'!C\" & COLUMN(D$1)+SUM($AD$2:$AD302))","v":0},{"$f":"INDIRECT(\"'関数（書き）'!C\" & COLUMN(E$1)+SUM($AD$2:$AD302))","v":0},{"$f":"INDIRECT(\"'関数（書き）'!C\" & COLUMN(F$1)+SUM($AD$2:$AD302))","v":0},{"$f":"INDIRECT(\"'関数（書き）'!C\" & COLUMN(G$1)+SUM($AD$2:$AD302))","v":0},{"$f":"INDIRECT(\"'関数（書き）'!C\" & COLUMN(H$1)+SUM($AD$2:$AD302))","v":0},{"$f":"INDIRECT(\"'関数（書き）'!C\" & COLUMN(I$1)+SUM($AD$2:$AD302))","v":0},{"$f":"INDIRECT(\"'関数（書き）'!C\" & COLUMN(J$1)+SUM($AD$2:$AD302))","v":0},{"$f":"INDIRECT(\"'関数（書き）'!C\" & COLUMN(K$1)+SUM($AD$2:$AD302))","v":0},{"$f":"INDIRECT(\"'関数（読み）'!C\" & COLUMN(B$1)+SUM($AD$2:$AD302))","v":0},{"$f":"INDIRECT(\"'関数（読み）'!C\" & COLUMN(C$1)+SUM($AD$2:$AD302))","v":0},{"$f":"INDIRECT(\"'関数（読み）'!C\" & COLUMN(D$1)+SUM($AD$2:$AD302))","v":0},{"$f":"INDIRECT(\"'関数（読み）'!C\" & COLUMN(E$1)+SUM($AD$2:$AD302))","v":0},{"$f":"INDIRECT(\"'関数（読み）'!C\" & COLUMN(F$1)+SUM($AD$2:$AD302))","v":0},{"$f":"INDIRECT(\"'関数（読み）'!C\" & COLUMN(G$1)+SUM($AD$2:$AD302))","v":0},{"$f":"INDIRECT(\"'関数（読み）'!C\" & COLUMN(H$1)+SUM($AD$2:$AD302))","v":0},{"$f":"INDIRECT(\"'関数（読み）'!C\" & COLUMN(I$1)+SUM($AD$2:$AD302))","v":0},{"$f":"INDIRECT(\"'関数（読み）'!C\" & COLUMN(J$1)+SUM($AD$2:$AD302))","v":0},{"$f":"INDIRECT(\"'関数（読み）'!C\" & COLUMN(K$1)+SUM($AD$2:$AD302))","v":0}]
["⑳","⑲","⑱","⑰","⑯","⑮","⑭","⑬","⑫","⑪","⑩","⑨","⑧","⑦","⑥","⑤","④","③","②","①","次の［　　　　］の部分の漢字には読みがなをひらがなで書き、カタカナは漢字に直しなさい。",11,"「漢字の博士検定試験」練習問題　",null,null,null,null,null,"←",10,"問",{"$f":"AH287+1","v":301},"～",{"$f":"SUM($AD$2:$AD302)+10","v":310},"問まで",{"$f":"COUNTIF($A$1:$T$200,T303)","v":5}]
[{"$f":"IF(A301=\"\",\"\",VLOOKUP(A301,漢字書き!$A$2:$N$506,6,0))","v":{"$error":"#N/A"}},{"$f":"IF(B301=\"\",\"\",VLOOKUP(B301,漢字書き!$A$2:$N$506,6,0))","v":{"$error":"#N/A"}},{"$f":"IF(C301=\"\",\"\",VLOOKUP(C301,漢字書き!$A$2:$N$506,6,0))","v":{"$error":"#N/A"}},{"$f":"IF(D301=\"\",\"\",VLOOKUP(D301,漢字書き!$A$2:$N$506,6,0))","v":{"$error":"#N/A"}},{"$f":"IF(E301=\"\",\"\",VLOOKUP(E301,漢字書き!$A$2:$N$506,6,0))","v":{"$error":"#N/A"}},{"$f":"IF(F301=\"\",\"\",VLOOKUP(F301,漢字書き!$A$2:$N$506,6,0))","v":{"$error":"#N/A"}},{"$f":"IF(G301=\"\",\"\",VLOOKUP(G301,漢字書き!$A$2:$N$506,6,0))","v":{"$error":"#N/A"}},{"$f":"IF(H301=\"\",\"\",VLOOKUP(H301,漢字書き!$A$2:$N$506,6,0))","v":{"$error":"#N/A"}},{"$f":"IF(I301=\"\",\"\",VLOOKUP(I301,漢字書き!$A$2:$N$506,6,0))","v":{"$error":"#N/A"}},{"$f":"IF(J301=\"\",\"\",VLOOKUP(J301,漢字書き!$A$2:$N$506,6,0))","v":{"$error":"#N/A"}},{"$f":"IF(K301=\"\",\"\",VLOOKUP(K301,漢字読み!$A$2:$O$506,6,0))","v":{"$error":"#N/A"}},{"$f":"IF(L301=\"\",\"\",VLOOKUP(L301,漢字読み!$A$2:$O$506,6,0))","v":{"$error":"#N/A"}},{"$f":"IF(M301=\"\",\"\",VLOOKUP(M301,漢字読み!$A$2:$O$506,6,0))","v":{"$error":"#N/A"}},{"$f":"IF(N301=\"\",\"\",VLOOKUP(N301,漢字読み!$A$2:$O$506,6,0))","v":{"$error":"#N/A"}},{"$f":"IF(O301=\"\",\"\",VLOOKUP(O301,漢字読み!$A$2:$O$506,6,0))","v":{"$error":"#N/A"}},{"$f":"IF(P301=\"\",\"\",VLOOKUP(P301,漢字読み!$A$2:$O$506,6,0))","v":{"$error":"#N/A"}},{"$f":"IF(Q301=\"\",\"\",VLOOKUP(Q301,漢字読み!$A$2:$O$506,6,0))","v":{"$error":"#N/A"}},{"$f":"IF(R301=\"\",\"\",VLOOKUP(R301,漢字読み!$A$2:$O$506,6,0))","v":{"$error":"#N/A"}},{"$f":"IF(S301=\"\",\"\",VLOOKUP(S301,漢字読み!$A$2:$O$506,6,0))","v":{"$error":"#N/A"}},{"$f":"IF(T301=\"\",\"\",VLOOKUP(T301,漢字読み!$A$2:$O$506,6,0))","v":{"$error":"#N/A"}},null,"級"]
[null,null,null,null,null,null,null,null,null,null,null,null,null,null,null,null,null,null,null,null,null,"名前"]
[{"$f":"IF(A301=\"\",\"\",IF(VLOOKUP(A301,漢字書き!$A$2:$N$502,7,0)=0,\"\",VLOOKUP(A301,漢字書き!$A$2:$N$502,7,0)))","v":{"$error":"#N/A"}},{"$f":"IF(B301=\"\",\"\",IF(VLOOKUP(B301,漢字書き!$A$2:$N$502,7,0)=0,\"\",VLOOKUP(B301,漢字書き!$A$2:$N$502,7,0)))","v":{"$error":"#N/A"}},{"$f":"IF(C301=\"\",\"\",IF(VLOOKUP(C301,漢字書き!$A$2:$N$502,7,0)=0,\"\",VLOOKUP(C301,漢字書き!$A$2:$N$502,7,0)))","v":{"$error":"#N/A"}},{"$f":"IF(D301=\"\",\"\",IF(VLOOKUP(D301,漢字書き!$A$2:$N$502,7,0)=0,\"\",VLOOKUP(D301,漢字書き!$A$2:$N$502,7,0)))","v":{"$error":"#N/A"}},{"$f":"IF(E301=\"\",\"\",IF(VLOOKUP(E301,漢字書き!$A$2:$N$502,7,0)=0,\"\",VLOOKUP(E301,漢字書き!$A$2:$N$502,7,0)))","v":{"$error":"#N/A"}},{"$f":"IF(F301=\"\",\"\",IF(VLOOKUP(F301,漢字書き!$A$2:$N$502,7,0)=0,\"\",VLOOKUP(F301,漢字書き!$A$2:$N$502,7,0)))","v":{"$error":"#N/A"}},{"$f":"IF(G301=\"\",\"\",IF(VLOOKUP(G301,漢字書き!$A$2:$N$502,7,0)=0,\"\",VLOOKUP(G301,漢字書き!$A$2:$N$502,7,0)))","v":{"$error":"#N/A"}},{"$f":"IF(H301=\"\",\"\",IF(VLOOKUP(H301,漢字書き!$A$2:$N$502,7,0)=0,\"\",VLOOKUP(H301,漢字書き!$A$2:$N$502,7,0)))","v":{"$error":"#N/A"}},{"$f":"IF(I301=\"\",\"\",IF(VLOOKUP(I301,漢字書き!$A$2:$N$502,7,0)=0,\"\",VLOOKUP(I301,漢字書き!$A$2:$N$502,7,0)))","v":{"$error":"#N/A"}},{"$f":"IF(J301=\"\",\"\",IF(VLOOKUP(J301,漢字書き!$A$2:$N$502,7,0)=0,\"\",VLOOKUP(J301,漢字書き!$A$2:$N$502,7,0)))","v":{"$error":"#N/A"}},{"$f":"IF(K301=\"\",\"\",IF(VLOOKUP(K301,漢字読み!$A$2:$O$502,7,0)=0,\"\",VLOOKUP(K301,漢字読み!$A$2:$O$502,7,0)))","v":{"$error":"#N/A"}},{"$f":"IF(L301=\"\",\"\",IF(VLOOKUP(L301,漢字読み!$A$2:$O$502,7,0)=0,\"\",VLOOKUP(L301,漢字読み!$A$2:$O$502,7,0)))","v":{"$error":"#N/A"}},{"$f":"IF(M301=\"\",\"\",IF(VLOOKUP(M301,漢字読み!$A$2:$O$502,7,0)=0,\"\",VLOOKUP(M301,漢字読み!$A$2:$O$502,7,0)))","v":{"$error":"#N/A"}},{"$f":"IF(N301=\"\",\"\",IF(VLOOKUP(N301,漢字読み!$A$2:$O$502,7,0)=0,\"\",VLOOKUP(N301,漢字読み!$A$2:$O$502,7,0)))","v":{"$error":"#N/A"}},{"$f":"IF(O301=\"\",\"\",IF(VLOOKUP(O301,漢字読み!$A$2:$O$502,7,0)=0,\"\",VLOOKUP(O301,漢字読み!$A$2:$O$502,7,0)))","v":{"$error":"#N/A"}},{"$f":"IF(P301=\"\",\"\",IF(VLOOKUP(P301,漢字読み!$A$2:$O$502,7,0)=0,\"\",VLOOKUP(P301,漢字読み!$A$2:$O$502,7,0)))","v":{"$error":"#N/A"}},{"$f":"IF(Q301=\"\",\"\",IF(VLOOKUP(Q301,漢字読み!$A$2:$O$502,7,0)=0,\"\",VLOOKUP(Q301,漢字読み!$A$2:$O$502,7,0)))","v":{"$error":"#N/A"}},{"$f":"IF(R301=\"\",\"\",IF(VLOOKUP(R301,漢字読み!$A$2:$O$502,7,0)=0,\"\",VLOOKUP(R301,漢字読み!$A$2:$O$502,7,0)))","v":{"$error":"#N/A"}},{"$f":"IF(S301=\"\",\"\",IF(VLOOKUP(S301,漢字読み!$A$2:$O$502,7,0)=0,\"\",VLOOKUP(S301,漢字読み!$A$2:$O$502,7,0)))","v":{"$error":"#N/A"}},{"$f":"IF(T301=\"\",\"\",IF(VLOOKUP(T301,漢字読み!$A$2:$O$502,7,0)=0,\"\",VLOOKUP(T301,漢字読み!$A$2:$O$502,7,0)))","v":{"$error":"#N/A"}},null,null,"和歌山県教育委員会"]
[{"$f":"INDIRECT(\"'関数（書き）'!C\" & COLUMN(B$1)+SUM($AD$2:$AD307))","v":0},{"$f":"INDIRECT(\"'関数（書き）'!C\" & COLUMN(C$1)+SUM($AD$2:$AD307))","v":0},{"$f":"INDIRECT(\"'関数（書き）'!C\" & COLUMN(D$1)+SUM($AD$2:$AD307))","v":0},{"$f":"INDIRECT(\"'関数（書き）'!C\" & COLUMN(E$1)+SUM($AD$2:$AD307))","v":0},{"$f":"INDIRECT(\"'関数（書き）'!C\" & COLUMN(F$1)+SUM($AD$2:$AD307))","v":0},{"$f":"INDIRECT(\"'関数（書き）'!C\" & COLUMN(G$1)+SUM($AD$2:$AD307))","v":0},{"$f":"INDIRECT(\"'関数（書き）'!C\" & COLUMN(H$1)+SUM($AD$2:$AD307))","v":0},{"$f":"INDIRECT(\"'関数（書き）'!C\" & COLUMN(I$1)+SUM($AD$2:$AD307))","v":0},{"$f":"INDIRECT(\"'関数（書き）'!C\" & COLUMN(J$1)+SUM($AD$2:$AD307))","v":0},{"$f":"INDIRECT(\"'関数（書き）'!C\" & COLUMN(K$1)+SUM($AD$2:$AD307))","v":0},{"$f":"INDIRECT(\"'関数（読み）'!C\" & COLUMN(B$1)+SUM($AD$2:$AD307))","v":0},{"$f":"INDIRECT(\"'関数（読み）'!C\" & COLUMN(C$1)+SUM($AD$2:$AD307))","v":0},{"$f":"INDIRECT(\"'関数（読み）'!C\" & COLUMN(D$1)+SUM($AD$2:$AD307))","v":0},{"$f":"INDIRECT(\"'関数（読み）'!C\" & COLUMN(E$1)+SUM($AD$2:$AD307))","v":0},{"$f":"INDIRECT(\"'関数（読み）'!C\" & COLUMN(F$1)+SUM($AD$2:$AD307))","v":0},{"$f":"INDIRECT(\"'関数（読み）'!C\" & COLUMN(G$1)+SUM($AD$2:$AD307))","v":0},{"$f":"INDIRECT(\"'関数（読み）'!C\" & COLUMN(H$1)+SUM($AD$2:$AD307))","v":0},{"$f":"INDIRECT(\"'関数（読み）'!C\" & COLUMN(I$1)+SUM($AD$2:$AD307))","v":0},{"$f":"INDIRECT(\"'関数（読み）'!C\" & COLUMN(J$1)+SUM($AD$2:$AD307))","v":0},{"$f":"INDIRECT(\"'関数（読み）'!C\" & COLUMN(K$1)+SUM($AD$2:$AD307))","v":0}]
["⑳","⑲","⑱","⑰","⑯","⑮","⑭","⑬","⑫","⑪","⑩","⑨","⑧","⑦","⑥","⑤","④","③","②","①","次の［　　　　］の部分の漢字には読みがなをひらがなで書き、カタカナは漢字に直しなさい。",11,"「漢字の博士検定試験」練習問題　",null,null,null,null,null,"←",10,"問",{"$f":"AH302+1","v":311},"～",{"$f":"SUM($AD$2:$AD307)+10","v":320},"問まで",{"$f":"COUNTIF($A$1:$T$200,T308)","v":5}]
[{"$f":"IF(A306=\"\",\"\",VLOOKUP(A306,漢字書き!$A$2:$N$506,6,0))","v":{"$error":"#N/A"}},{"$f":"IF(B306=\"\",\"\",VLOOKUP(B306,漢字書き!$A$2:$N$506,6,0))","v":{"$error":"#N/A"}},{"$f":"IF(C306=\"\",\"\",VLOOKUP(C306,漢字書き!$A$2:$N$506,6,0))","v":{"$error":"#N/A"}},{"$f":"IF(D306=\"\",\"\",VLOOKUP(D306,漢字書き!$A$2:$N$506,6,0))","v":{"$error":"#N/A"}},{"$f":"IF(E306=\"\",\"\",VLOOKUP(E306,漢字書き!$A$2:$N$506,6,0))","v":{"$error":"#N/A"}},{"$f":"IF(F306=\"\",\"\",VLOOKUP(F306,漢字書き!$A$2:$N$506,6,0))","v":{"$error":"#N/A"}},{"$f":"IF(G306=\"\",\"\",VLOOKUP(G306,漢字書き!$A$2:$N$506,6,0))","v":{"$error":"#N/A"}},{"$f":"IF(H306=\"\",\"\",VLOOKUP(H306,漢字書き!$A$2:$N$506,6,0))","v":{"$error":"#N/A"}},{"$f":"IF(I306=\"\",\"\",VLOOKUP(I306,漢字書き!$A$2:$N$506,6,0))","v":{"$error":"#N/A"}},{"$f":"IF(J306=\"\",\"\",VLOOKUP(J306,漢字書き!$A$2:$N$506,6,0))","v":{"$error":"#N/A"}},{"$f":"IF(K306=\"\",\"\",VLOOKUP(K306,漢字読み!$A$2:$O$506,6,0))","v":{"$error":"#N/A"}},{"$f":"IF(L306=\"\",\"\",VLOOKUP(L306,漢字読み!$A$2:$O$506,6,0))","v":{"$error":"#N/A"}},{"$f":"IF(M306=\"\",\"\",VLOOKUP(M306,漢字読み!$A$2:$O$506,6,0))","v":{"$error":"#N/A"}},{"$f":"IF(N306=\"\",\"\",VLOOKUP(N306,漢字読み!$A$2:$O$506,6,0))","v":{"$error":"#N/A"}},{"$f":"IF(O306=\"\",\"\",VLOOKUP(O306,漢字読み!$A$2:$O$506,6,0))","v":{"$error":"#N/A"}},{"$f":"IF(P306=\"\",\"\",VLOOKUP(P306,漢字読み!$A$2:$O$506,6,0))","v":{"$error":"#N/A"}},{"$f":"IF(Q306=\"\",\"\",VLOOKUP(Q306,漢字読み!$A$2:$O$506,6,0))","v":{"$error":"#N/A"}},{"$f":"IF(R306=\"\",\"\",VLOOKUP(R306,漢字読み!$A$2:$O$506,6,0))","v":{"$error":"#N/A"}},{"$f":"IF(S306=\"\",\"\",VLOOKUP(S306,漢字読み!$A$2:$O$506,6,0))","v":{"$error":"#N/A"}},{"$f":"IF(T306=\"\",\"\",VLOOKUP(T306,漢字読み!$A$2:$O$506,6,0))","v":{"$error":"#N/A"}},null,"級"]
[null,null,null,null,null,null,null,null,null,null,null,null,null,null,null,null,null,null,null,null,null,"名前"]
[{"$f":"IF(A306=\"\",\"\",IF(VLOOKUP(A306,漢字書き!$A$2:$N$502,7,0)=0,\"\",VLOOKUP(A306,漢字書き!$A$2:$N$502,7,0)))","v":{"$error":"#N/A"}},{"$f":"IF(B306=\"\",\"\",IF(VLOOKUP(B306,漢字書き!$A$2:$N$502,7,0)=0,\"\",VLOOKUP(B306,漢字書き!$A$2:$N$502,7,0)))","v":{"$error":"#N/A"}},{"$f":"IF(C306=\"\",\"\",IF(VLOOKUP(C306,漢字書き!$A$2:$N$502,7,0)=0,\"\",VLOOKUP(C306,漢字書き!$A$2:$N$502,7,0)))","v":{"$error":"#N/A"}},{"$f":"IF(D306=\"\",\"\",IF(VLOOKUP(D306,漢字書き!$A$2:$N$502,7,0)=0,\"\",VLOOKUP(D306,漢字書き!$A$2:$N$502,7,0)))","v":{"$error":"#N/A"}},{"$f":"IF(E306=\"\",\"\",IF(VLOOKUP(E306,漢字書き!$A$2:$N$502,7,0)=0,\"\",VLOOKUP(E306,漢字書き!$A$2:$N$502,7,0)))","v":{"$error":"#N/A"}},{"$f":"IF(F306=\"\",\"\",IF(VLOOKUP(F306,漢字書き!$A$2:$N$502,7,0)=0,\"\",VLOOKUP(F306,漢字書き!$A$2:$N$502,7,0)))","v":{"$error":"#N/A"}},{"$f":"IF(G306=\"\",\"\",IF(VLOOKUP(G306,漢字書き!$A$2:$N$502,7,0)=0,\"\",VLOOKUP(G306,漢字書き!$A$2:$N$502,7,0)))","v":{"$error":"#N/A"}},{"$f":"IF(H306=\"\",\"\",IF(VLOOKUP(H306,漢字書き!$A$2:$N$502,7,0)=0,\"\",VLOOKUP(H306,漢字書き!$A$2:$N$502,7,0)))","v":{"$error":"#N/A"}},{"$f":"IF(I306=\"\",\"\",IF(VLOOKUP(I306,漢字書き!$A$2:$N$502,7,0)=0,\"\",VLOOKUP(I306,漢字書き!$A$2:$N$502,7,0)))","v":{"$error":"#N/A"}},{"$f":"IF(J306=\"\",\"\",IF(VLOOKUP(J306,漢字書き!$A$2:$N$502,7,0)=0,\"\",VLOOKUP(J306,漢字書き!$A$2:$N$502,7,0)))","v":{"$error":"#N/A"}},{"$f":"IF(K306=\"\",\"\",IF(VLOOKUP(K306,漢字読み!$A$2:$O$502,7,0)=0,\"\",VLOOKUP(K306,漢字読み!$A$2:$O$502,7,0)))","v":{"$error":"#N/A"}},{"$f":"IF(L306=\"\",\"\",IF(VLOOKUP(L306,漢字読み!$A$2:$O$502,7,0)=0,\"\",VLOOKUP(L306,漢字読み!$A$2:$O$502,7,0)))","v":{"$error":"#N/A"}},{"$f":"IF(M306=\"\",\"\",IF(VLOOKUP(M306,漢字読み!$A$2:$O$502,7,0)=0,\"\",VLOOKUP(M306,漢字読み!$A$2:$O$502,7,0)))","v":{"$error":"#N/A"}},{"$f":"IF(N306=\"\",\"\",IF(VLOOKUP(N306,漢字読み!$A$2:$O$502,7,0)=0,\"\",VLOOKUP(N306,漢字読み!$A$2:$O$502,7,0)))","v":{"$error":"#N/A"}},{"$f":"IF(O306=\"\",\"\",IF(VLOOKUP(O306,漢字読み!$A$2:$O$502,7,0)=0,\"\",VLOOKUP(O306,漢字読み!$A$2:$O$502,7,0)))","v":{"$error":"#N/A"}},{"$f":"IF(P306=\"\",\"\",IF(VLOOKUP(P306,漢字読み!$A$2:$O$502,7,0)=0,\"\",VLOOKUP(P306,漢字読み!$A$2:$O$502,7,0)))","v":{"$error":"#N/A"}},{"$f":"IF(Q306=\"\",\"\",IF(VLOOKUP(Q306,漢字読み!$A$2:$O$502,7,0)=0,\"\",VLOOKUP(Q306,漢字読み!$A$2:$O$502,7,0)))","v":{"$error":"#N/A"}},{"$f":"IF(R306=\"\",\"\",IF(VLOOKUP(R306,漢字読み!$A$2:$O$502,7,0)=0,\"\",VLOOKUP(R306,漢字読み!$A$2:$O$502,7,0)))","v":{"$error":"#N/A"}},{"$f":"IF(S306=\"\",\"\",IF(VLOOKUP(S306,漢字読み!$A$2:$O$502,7,0)=0,\"\",VLOOKUP(S306,漢字読み!$A$2:$O$502,7,0)))","v":{"$error":"#N/A"}},{"$f":"IF(T306=\"\",\"\",IF(VLOOKUP(T306,漢字読み!$A$2:$O$502,7,0)=0,\"\",VLOOKUP(T306,漢字読み!$A$2:$O$502,7,0)))","v":{"$error":"#N/A"}},null,null,"和歌山県教育委員会"]
[{"$f":"A301","v":0},{"$f":"B301","v":0},{"$f":"C301","v":0},{"$f":"D301","v":0},{"$f":"E301","v":0},{"$f":"F301","v":0},{"$f":"G301","v":0},{"$f":"H301","v":0},{"$f":"I301","v":0},{"$f":"J301","v":0},{"$f":"K301","v":0},{"$f":"L301","v":0},{"$f":"M301","v":0},{"$f":"N301","v":0},{"$f":"O301","v":0},{"$f":"P301","v":0},{"$f":"Q301","v":0},{"$f":"R301","v":0},{"$f":"S301","v":0},{"$f":"T301","v":0}]
["⑳","⑲","⑱","⑰","⑯","⑮","⑭","⑬","⑫","⑪","⑩","⑨","⑧","⑦","⑥","⑤","④","③","②","①","次の［　　　　］の部分の漢字には読みがなをひらがなで書き、カタカナは漢字に直しなさい。",11,"「漢字の博士検定試験」練習問題　"]
[{"$f":"IF(A311=\"\",\"\",VLOOKUP(A311,漢字書き!$A$2:$N$506,6,0))","v":{"$error":"#N/A"}},{"$f":"IF(B311=\"\",\"\",VLOOKUP(B311,漢字書き!$A$2:$N$506,6,0))","v":{"$error":"#N/A"}},{"$f":"IF(C311=\"\",\"\",VLOOKUP(C311,漢字書き!$A$2:$N$506,6,0))","v":{"$error":"#N/A"}},{"$f":"IF(D311=\"\",\"\",VLOOKUP(D311,漢字書き!$A$2:$N$506,6,0))","v":{"$error":"#N/A"}},{"$f":"IF(E311=\"\",\"\",VLOOKUP(E311,漢字書き!$A$2:$N$506,6,0))","v":{"$error":"#N/A"}},{"$f":"IF(F311=\"\",\"\",VLOOKUP(F311,漢字書き!$A$2:$N$506,6,0))","v":{"$error":"#N/A"}},{"$f":"IF(G311=\"\",\"\",VLOOKUP(G311,漢字書き!$A$2:$N$506,6,0))","v":{"$error":"#N/A"}},{"$f":"IF(H311=\"\",\"\",VLOOKUP(H311,漢字書き!$A$2:$N$506,6,0))","v":{"$error":"#N/A"}},{"$f":"IF(I311=\"\",\"\",VLOOKUP(I311,漢字書き!$A$2:$N$506,6,0))","v":{"$error":"#N/A"}},{"$f":"IF(J311=\"\",\"\",VLOOKUP(J311,漢字書き!$A$2:$N$506,6,0))","v":{"$error":"#N/A"}},{"$f":"IF(K311=\"\",\"\",VLOOKUP(K311,漢字読み!$A$2:$O$506,6,0))","v":{"$error":"#N/A"}},{"$f":"IF(L311=\"\",\"\",VLOOKUP(L311,漢字読み!$A$2:$O$506,6,0))","v":{"$error":"#N/A"}},{"$f":"IF(M311=\"\",\"\",VLOOKUP(M311,漢字読み!$A$2:$O$506,6,0))","v":{"$error":"#N/A"}},{"$f":"IF(N311=\"\",\"\",VLOOKUP(N311,漢字読み!$A$2:$O$506,6,0))","v":{"$error":"#N/A"}},{"$f":"IF(O311=\"\",\"\",VLOOKUP(O311,漢字読み!$A$2:$O$506,6,0))","v":{"$error":"#N/A"}},{"$f":"IF(P311=\"\",\"\",VLOOKUP(P311,漢字読み!$A$2:$O$506,6,0))","v":{"$error":"#N/A"}},{"$f":"IF(Q311=\"\",\"\",VLOOKUP(Q311,漢字読み!$A$2:$O$506,6,0))","v":{"$error":"#N/A"}},{"$f":"IF(R311=\"\",\"\",VLOOKUP(R311,漢字読み!$A$2:$O$506,6,0))","v":{"$error":"#N/A"}},{"$f":"IF(S311=\"\",\"\",VLOOKUP(S311,漢字読み!$A$2:$O$506,6,0))","v":{"$error":"#N/A"}},{"$f":"IF(T311=\"\",\"\",VLOOKUP(T311,漢字読み!$A$2:$O$506,6,0))","v":{"$error":"#N/A"}},null,"級"]
[{"$f":"IF(A$11=\"\",\"\",VLOOKUP(A311,漢字書き!$A$2:$O$506,8,0))","v":{"$error":"#N/A"}},{"$f":"IF(B$11=\"\",\"\",VLOOKUP(B311,漢字書き!$A$2:$O$506,8,0))","v":{"$error":"#N/A"}},{"$f":"IF(C$11=\"\",\"\",VLOOKUP(C311,漢字書き!$A$2:$O$506,8,0))","v":{"$error":"#N/A"}},{"$f":"IF(D$11=\"\",\"\",VLOOKUP(D311,漢字書き!$A$2:$O$506,8,0))","v":{"$error":"#N/A"}},{"$f":"IF(E$11=\"\",\"\",VLOOKUP(E311,漢字書き!$A$2:$O$506,8,0))","v":{"$error":"#N/A"}},{"$f":"IF(F$11=\"\",\"\",VLOOKUP(F311,漢字書き!$A$2:$O$506,8,0))","v":{"$error":"#N/A"}},{"$f":"IF(G$11=\"\",\"\",VLOOKUP(G311,漢字書き!$A$2:$O$506,8,0))","v":{"$error":"#N/A"}},{"$f":"IF(H$11=\"\",\"\",VLOOKUP(H311,漢字書き!$A$2:$O$506,8,0))","v":{"$error":"#N/A"}},{"$f":"IF(I$11=\"\",\"\",VLOOKUP(I311,漢字書き!$A$2:$O$506,8,0))","v":{"$error":"#N/A"}},{"$f":"IF(J$11=\"\",\"\",VLOOKUP(J311,漢字書き!$A$2:$O$506,8,0))","v":{"$error":"#N/A"}},{"$f":"IF(K$11=\"\",\"\",VLOOKUP(K311,漢字読み!$A$2:$O$506,8,0))","v":{"$error":"#N/A"}},{"$f":"IF(L$11=\"\",\"\",VLOOKUP(L311,漢字読み!$A$2:$O$506,8,0))","v":{"$error":"#N/A"}},{"$f":"IF(M$11=\"\",\"\",VLOOKUP(M311,漢字読み!$A$2:$O$506,8,0))","v":{"$error":"#N/A"}},{"$f":"IF(N$11=\"\",\"\",VLOOKUP(N311,漢字読み!$A$2:$O$506,8,0))","v":{"$error":"#N/A"}},{"$f":"IF(O$11=\"\",\"\",VLOOKUP(O311,漢字読み!$A$2:$O$506,8,0))","v":{"$error":"#N/A"}},{"$f":"IF(P$11=\"\",\"\",VLOOKUP(P311,漢字読み!$A$2:$O$506,8,0))","v":{"$error":"#N/A"}},{"$f":"IF(Q$11=\"\",\"\",VLOOKUP(Q311,漢字読み!$A$2:$O$506,8,0))","v":{"$error":"#N/A"}},{"$f":"IF(R$11=\"\",\"\",VLOOKUP(R311,漢字読み!$A$2:$O$506,8,0))","v":{"$error":"#N/A"}},{"$f":"IF(S$11=\"\",\"\",VLOOKUP(S311,漢字読み!$A$2:$O$506,8,0))","v":{"$error":"#N/A"}},{"$f":"IF(T$11=\"\",\"\",VLOOKUP(T311,漢字読み!$A$2:$O$506,8,0))","v":{"$error":"#N/A"}},null,"名前"]
[{"$f":"IF(A311=\"\",\"\",IF(VLOOKUP(A311,漢字書き!$A$2:$N$502,7,0)=0,\"\",VLOOKUP(A311,漢字書き!$A$2:$N$502,7,0)))","v":{"$error":"#N/A"}},{"$f":"IF(B311=\"\",\"\",IF(VLOOKUP(B311,漢字書き!$A$2:$N$502,7,0)=0,\"\",VLOOKUP(B311,漢字書き!$A$2:$N$502,7,0)))","v":{"$error":"#N/A"}},{"$f":"IF(C311=\"\",\"\",IF(VLOOKUP(C311,漢字書き!$A$2:$N$502,7,0)=0,\"\",VLOOKUP(C311,漢字書き!$A$2:$N$502,7,0)))","v":{"$error":"#N/A"}},{"$f":"IF(D311=\"\",\"\",IF(VLOOKUP(D311,漢字書き!$A$2:$N$502,7,0)=0,\"\",VLOOKUP(D311,漢字書き!$A$2:$N$502,7,0)))","v":{"$error":"#N/A"}},{"$f":"IF(E311=\"\",\"\",IF(VLOOKUP(E311,漢字書き!$A$2:$N$502,7,0)=0,\"\",VLOOKUP(E311,漢字書き!$A$2:$N$502,7,0)))","v":{"$error":"#N/A"}},{"$f":"IF(F311=\"\",\"\",IF(VLOOKUP(F311,漢字書き!$A$2:$N$502,7,0)=0,\"\",VLOOKUP(F311,漢字書き!$A$2:$N$502,7,0)))","v":{"$error":"#N/A"}},{"$f":"IF(G311=\"\",\"\",IF(VLOOKUP(G311,漢字書き!$A$2:$N$502,7,0)=0,\"\",VLOOKUP(G311,漢字書き!$A$2:$N$502,7,0)))","v":{"$error":"#N/A"}},{"$f":"IF(H311=\"\",\"\",IF(VLOOKUP(H311,漢字書き!$A$2:$N$502,7,0)=0,\"\",VLOOKUP(H311,漢字書き!$A$2:$N$502,7,0)))","v":{"$error":"#N/A"}},{"$f":"IF(I311=\"\",\"\",IF(VLOOKUP(I311,漢字書き!$A$2:$N$502,7,0)=0,\"\",VLOOKUP(I311,漢字書き!$A$2:$N$502,7,0)))","v":{"$error":"#N/A"}},{"$f":"IF(J311=\"\",\"\",IF(VLOOKUP(J311,漢字書き!$A$2:$N$502,7,0)=0,\"\",VLOOKUP(J311,漢字書き!$A$2:$N$502,7,0)))","v":{"$error":"#N/A"}},{"$f":"IF(K311=\"\",\"\",IF(VLOOKUP(K311,漢字読み!$A$2:$O$502,7,0)=0,\"\",VLOOKUP(K311,漢字読み!$A$2:$O$502,7,0)))","v":{"$error":"#N/A"}},{"$f":"IF(L311=\"\",\"\",IF(VLOOKUP(L311,漢字読み!$A$2:$O$502,7,0)=0,\"\",VLOOKUP(L311,漢字読み!$A$2:$O$502,7,0)))","v":{"$error":"#N/A"}},{"$f":"IF(M311=\"\",\"\",IF(VLOOKUP(M311,漢字読み!$A$2:$O$502,7,0)=0,\"\",VLOOKUP(M311,漢字読み!$A$2:$O$502,7,0)))","v":{"$error":"#N/A"}},{"$f":"IF(N311=\"\",\"\",IF(VLOOKUP(N311,漢字読み!$A$2:$O$502,7,0)=0,\"\",VLOOKUP(N311,漢字読み!$A$2:$O$502,7,0)))","v":{"$error":"#N/A"}},{"$f":"IF(O311=\"\",\"\",IF(VLOOKUP(O311,漢字読み!$A$2:$O$502,7,0)=0,\"\",VLOOKUP(O311,漢字読み!$A$2:$O$502,7,0)))","v":{"$error":"#N/A"}},{"$f":"IF(P311=\"\",\"\",IF(VLOOKUP(P311,漢字読み!$A$2:$O$502,7,0)=0,\"\",VLOOKUP(P311,漢字読み!$A$2:$O$502,7,0)))","v":{"$error":"#N/A"}},{"$f":"IF(Q311=\"\",\"\",IF(VLOOKUP(Q311,漢字読み!$A$2:$O$502,7,0)=0,\"\",VLOOKUP(Q311,漢字読み!$A$2:$O$502,7,0)))","v":{"$error":"#N/A"}},{"$f":"IF(R311=\"\",\"\",IF(VLOOKUP(R311,漢字読み!$A$2:$O$502,7,0)=0,\"\",VLOOKUP(R311,漢字読み!$A$2:$O$502,7,0)))","v":{"$error":"#N/A"}},{"$f":"IF(S311=\"\",\"\",IF(VLOOKUP(S311,漢字読み!$A$2:$O$502,7,0)=0,\"\",VLOOKUP(S311,漢字読み!$A$2:$O$502,7,0)))","v":{"$error":"#N/A"}},{"$f":"IF(T311=\"\",\"\",IF(VLOOKUP(T311,漢字読み!$A$2:$O$502,7,0)=0,\"\",VLOOKUP(T311,漢字読み!$A$2:$O$502,7,0)))","v":{"$error":"#N/A"}},null,null,"和歌山県教育委員会"]
[{"$f":"A306","v":0},{"$f":"B306","v":0},{"$f":"C306","v":0},{"$f":"D306","v":0},{"$f":"E306","v":0},{"$f":"F306","v":0},{"$f":"G306","v":0},{"$f":"H306","v":0},{"$f":"I306","v":0},{"$f":"J306","v":0},{"$f":"K306","v":0},{"$f":"L306","v":0},{"$f":"M306","v":0},{"$f":"N306","v":0},{"$f":"O306","v":0},{"$f":"P306","v":0},{"$f":"Q306","v":0},{"$f":"R306","v":0},{"$f":"S306","v":0},{"$f":"T306","v":0}]
["⑳","⑲","⑱","⑰","⑯","⑮","⑭","⑬","⑫","⑪","⑩","⑨","⑧","⑦","⑥","⑤","④","③","②","①","次の［　　　　］の部分の漢字には読みがなをひらがなで書き、カタカナは漢字に直しなさい。",11,"「漢字の博士検定試験」練習問題　"]
[{"$f":"IF(A316=\"\",\"\",VLOOKUP(A316,漢字書き!$A$2:$N$506,6,0))","v":{"$error":"#N/A"}},{"$f":"IF(B316=\"\",\"\",VLOOKUP(B316,漢字書き!$A$2:$N$506,6,0))","v":{"$error":"#N/A"}},{"$f":"IF(C316=\"\",\"\",VLOOKUP(C316,漢字書き!$A$2:$N$506,6,0))","v":{"$error":"#N/A"}},{"$f":"IF(D316=\"\",\"\",VLOOKUP(D316,漢字書き!$A$2:$N$506,6,0))","v":{"$error":"#N/A"}},{"$f":"IF(E316=\"\",\"\",VLOOKUP(E316,漢字書き!$A$2:$N$506,6,0))","v":{"$error":"#N/A"}},{"$f":"IF(F316=\"\",\"\",VLOOKUP(F316,漢字書き!$A$2:$N$506,6,0))","v":{"$error":"#N/A"}},{"$f":"IF(G316=\"\",\"\",VLOOKUP(G316,漢字書き!$A$2:$N$506,6,0))","v":{"$error":"#N/A"}},{"$f":"IF(H316=\"\",\"\",VLOOKUP(H316,漢字書き!$A$2:$N$506,6,0))","v":{"$error":"#N/A"}},{"$f":"IF(I316=\"\",\"\",VLOOKUP(I316,漢字書き!$A$2:$N$506,6,0))","v":{"$error":"#N/A"}},{"$f":"IF(J316=\"\",\"\",VLOOKUP(J316,漢字書き!$A$2:$N$506,6,0))","v":{"$error":"#N/A"}},{"$f":"IF(K316=\"\",\"\",VLOOKUP(K316,漢字読み!$A$2:$O$506,6,0))","v":{"$error":"#N/A"}},{"$f":"IF(L316=\"\",\"\",VLOOKUP(L316,漢字読み!$A$2:$O$506,6,0))","v":{"$error":"#N/A"}},{"$f":"IF(M316=\"\",\"\",VLOOKUP(M316,漢字読み!$A$2:$O$506,6,0))","v":{"$error":"#N/A"}},{"$f":"IF(N316=\"\",\"\",VLOOKUP(N316,漢字読み!$A$2:$O$506,6,0))","v":{"$error":"#N/A"}},{"$f":"IF(O316=\"\",\"\",VLOOKUP(O316,漢字読み!$A$2:$O$506,6,0))","v":{"$error":"#N/A"}},{"$f":"IF(P316=\"\",\"\",VLOOKUP(P316,漢字読み!$A$2:$O$506,6,0))","v":{"$error":"#N/A"}},{"$f":"IF(Q316=\"\",\"\",VLOOKUP(Q316,漢字読み!$A$2:$O$506,6,0))","v":{"$error":"#N/A"}},{"$f":"IF(R316=\"\",\"\",VLOOKUP(R316,漢字読み!$A$2:$O$506,6,0))","v":{"$error":"#N/A"}},{"$f":"IF(S316=\"\",\"\",VLOOKUP(S316,漢字読み!$A$2:$O$506,6,0))","v":{"$error":"#N/A"}},{"$f":"IF(T316=\"\",\"\",VLOOKUP(T316,漢字読み!$A$2:$O$506,6,0))","v":{"$error":"#N/A"}},null,"級"]
[{"$f":"IF(A$16=\"\",\"\",VLOOKUP(A316,漢字書き!$A$2:$O$506,8,0))","v":{"$error":"#N/A"}},{"$f":"IF(B$16=\"\",\"\",VLOOKUP(B316,漢字書き!$A$2:$O$506,8,0))","v":{"$error":"#N/A"}},{"$f":"IF(C$16=\"\",\"\",VLOOKUP(C316,漢字書き!$A$2:$O$506,8,0))","v":{"$error":"#N/A"}},{"$f":"IF(D$16=\"\",\"\",VLOOKUP(D316,漢字書き!$A$2:$O$506,8,0))","v":{"$error":"#N/A"}},{"$f":"IF(E$16=\"\",\"\",VLOOKUP(E316,漢字書き!$A$2:$O$506,8,0))","v":{"$error":"#N/A"}},{"$f":"IF(F$16=\"\",\"\",VLOOKUP(F316,漢字書き!$A$2:$O$506,8,0))","v":{"$error":"#N/A"}},{"$f":"IF(G$16=\"\",\"\",VLOOKUP(G316,漢字書き!$A$2:$O$506,8,0))","v":{"$error":"#N/A"}},{"$f":"IF(H$16=\"\",\"\",VLOOKUP(H316,漢字書き!$A$2:$O$506,8,0))","v":{"$error":"#N/A"}},{"$f":"IF(I$16=\"\",\"\",VLOOKUP(I316,漢字書き!$A$2:$O$506,8,0))","v":{"$error":"#N/A"}},{"$f":"IF(J$16=\"\",\"\",VLOOKUP(J316,漢字書き!$A$2:$O$506,8,0))","v":{"$error":"#N/A"}},{"$f":"IF(K$16=\"\",\"\",VLOOKUP(K316,漢字読み!$A$2:$O$506,8,0))","v":{"$error":"#N/A"}},{"$f":"IF(L$16=\"\",\"\",VLOOKUP(L316,漢字読み!$A$2:$O$506,8,0))","v":{"$error":"#N/A"}},{"$f":"IF(M$16=\"\",\"\",VLOOKUP(M316,漢字読み!$A$2:$O$506,8,0))","v":{"$error":"#N/A"}},{"$f":"IF(N$16=\"\",\"\",VLOOKUP(N316,漢字読み!$A$2:$O$506,8,0))","v":{"$error":"#N/A"}},{"$f":"IF(O$16=\"\",\"\",VLOOKUP(O316,漢字読み!$A$2:$O$506,8,0))","v":{"$error":"#N/A"}},{"$f":"IF(P$16=\"\",\"\",VLOOKUP(P316,漢字読み!$A$2:$O$506,8,0))","v":{"$error":"#N/A"}},{"$f":"IF(Q$16=\"\",\"\",VLOOKUP(Q316,漢字読み!$A$2:$O$506,8,0))","v":{"$error":"#N/A"}},{"$f":"IF(R$16=\"\",\"\",VLOOKUP(R316,漢字読み!$A$2:$O$506,8,0))","v":{"$error":"#N/A"}},{"$f":"IF(S$16=\"\",\"\",VLOOKUP(S316,漢字読み!$A$2:$O$506,8,0))","v":{"$error":"#N/A"}},{"$f":"IF(T$16=\"\",\"\",VLOOKUP(T316,漢字読み!$A$2:$O$506,8,0))","v":{"$error":"#N/A"}},null,"名前"]
[{"$f":"IF(A316=\"\",\"\",IF(VLOOKUP(A316,漢字書き!$A$2:$N$502,7,0)=0,\"\",VLOOKUP(A316,漢字書き!$A$2:$N$502,7,0)))","v":{"$error":"#N/A"}},{"$f":"IF(B316=\"\",\"\",IF(VLOOKUP(B316,漢字書き!$A$2:$N$502,7,0)=0,\"\",VLOOKUP(B316,漢字書き!$A$2:$N$502,7,0)))","v":{"$error":"#N/A"}},{"$f":"IF(C316=\"\",\"\",IF(VLOOKUP(C316,漢字書き!$A$2:$N$502,7,0)=0,\"\",VLOOKUP(C316,漢字書き!$A$2:$N$502,7,0)))","v":{"$error":"#N/A"}},{"$f":"IF(D316=\"\",\"\",IF(VLOOKUP(D316,漢字書き!$A$2:$N$502,7,0)=0,\"\",VLOOKUP(D316,漢字書き!$A$2:$N$502,7,0)))","v":{"$error":"#N/A"}},{"$f":"IF(E316=\"\",\"\",IF(VLOOKUP(E316,漢字書き!$A$2:$N$502,7,0)=0,\"\",VLOOKUP(E316,漢字書き!$A$2:$N$502,7,0)))","v":{"$error":"#N/A"}},{"$f":"IF(F316=\"\",\"\",IF(VLOOKUP(F316,漢字書き!$A$2:$N$502,7,0)=0,\"\",VLOOKUP(F316,漢字書き!$A$2:$N$502,7,0)))","v":{"$error":"#N/A"}},{"$f":"IF(G316=\"\",\"\",IF(VLOOKUP(G316,漢字書き!$A$2:$N$502,7,0)=0,\"\",VLOOKUP(G316,漢字書き!$A$2:$N$502,7,0)))","v":{"$error":"#N/A"}},{"$f":"IF(H316=\"\",\"\",IF(VLOOKUP(H316,漢字書き!$A$2:$N$502,7,0)=0,\"\",VLOOKUP(H316,漢字書き!$A$2:$N$502,7,0)))","v":{"$error":"#N/A"}},{"$f":"IF(I316=\"\",\"\",IF(VLOOKUP(I316,漢字書き!$A$2:$N$502,7,0)=0,\"\",VLOOKUP(I316,漢字書き!$A$2:$N$502,7,0)))","v":{"$error":"#N/A"}},{"$f":"IF(J316=\"\",\"\",IF(VLOOKUP(J316,漢字書き!$A$2:$N$502,7,0)=0,\"\",VLOOKUP(J316,漢字書き!$A$2:$N$502,7,0)))","v":{"$error":"#N/A"}},{"$f":"IF(K316=\"\",\"\",IF(VLOOKUP(K316,漢字読み!$A$2:$O$502,7,0)=0,\"\",VLOOKUP(K316,漢字読み!$A$2:$O$502,7,0)))","v":{"$error":"#N/A"}},{"$f":"IF(L316=\"\",\"\",IF(VLOOKUP(L316,漢字読み!$A$2:$O$502,7,0)=0,\"\",VLOOKUP(L316,漢字読み!$A$2:$O$502,7,0)))","v":{"$error":"#N/A"}},{"$f":"IF(M316=\"\",\"\",IF(VLOOKUP(M316,漢字読み!$A$2:$O$502,7,0)=0,\"\",VLOOKUP(M316,漢字読み!$A$2:$O$502,7,0)))","v":{"$error":"#N/A"}},{"$f":"IF(N316=\"\",\"\",IF(VLOOKUP(N316,漢字読み!$A$2:$O$502,7,0)=0,\"\",VLOOKUP(N316,漢字読み!$A$2:$O$502,7,0)))","v":{"$error":"#N/A"}},{"$f":"IF(O316=\"\",\"\",IF(VLOOKUP(O316,漢字読み!$A$2:$O$502,7,0)=0,\"\",VLOOKUP(O316,漢字読み!$A$2:$O$502,7,0)))","v":{"$error":"#N/A"}},{"$f":"IF(P316=\"\",\"\",IF(VLOOKUP(P316,漢字読み!$A$2:$O$502,7,0)=0,\"\",VLOOKUP(P316,漢字読み!$A$2:$O$502,7,0)))","v":{"$error":"#N/A"}},{"$f":"IF(Q316=\"\",\"\",IF(VLOOKUP(Q316,漢字読み!$A$2:$O$502,7,0)=0,\"\",VLOOKUP(Q316,漢字読み!$A$2:$O$502,7,0)))","v":{"$error":"#N/A"}},{"$f":"IF(R316=\"\",\"\",IF(VLOOKUP(R316,漢字読み!$A$2:$O$502,7,0)=0,\"\",VLOOKUP(R316,漢字読み!$A$2:$O$502,7,0)))","v":{"$error":"#N/A"}},{"$f":"IF(S316=\"\",\"\",IF(VLOOKUP(S316,漢字読み!$A$2:$O$502,7,0)=0,\"\",VLOOKUP(S316,漢字読み!$A$2:$O$502,7,0)))","v":{"$error":"#N/A"}},{"$f":"IF(T316=\"\",\"\",IF(VLOOKUP(T316,漢字読み!$A$2:$O$502,7,0)=0,\"\",VLOOKUP(T316,漢字読み!$A$2:$O$502,7,0)))","v":{"$error":"#N/A"}},null,null,"和歌山県教育委員会"]
[{"$f":"INDIRECT(\"'関数（書き）'!C\" & COLUMN(B$1)+SUM($AD$2:$AD322))","v":0},{"$f":"INDIRECT(\"'関数（書き）'!C\" & COLUMN(C$1)+SUM($AD$2:$AD322))","v":0},{"$f":"INDIRECT(\"'関数（書き）'!C\" & COLUMN(D$1)+SUM($AD$2:$AD322))","v":0},{"$f":"INDIRECT(\"'関数（書き）'!C\" & COLUMN(E$1)+SUM($AD$2:$AD322))","v":0},{"$f":"INDIRECT(\"'関数（書き）'!C\" & COLUMN(F$1)+SUM($AD$2:$AD322))","v":0},{"$f":"INDIRECT(\"'関数（書き）'!C\" & COLUMN(G$1)+SUM($AD$2:$AD322))","v":0},{"$f":"INDIRECT(\"'関数（書き）'!C\" & COLUMN(H$1)+SUM($AD$2:$AD322))","v":0},{"$f":"INDIRECT(\"'関数（書き）'!C\" & COLUMN(I$1)+SUM($AD$2:$AD322))","v":0},{"$f":"INDIRECT(\"'関数（書き）'!C\" & COLUMN(J$1)+SUM($AD$2:$AD322))","v":0},{"$f":"INDIRECT(\"'関数（書き）'!C\" & COLUMN(K$1)+SUM($AD$2:$AD322))","v":0},{"$f":"INDIRECT(\"'関数（読み）'!C\" & COLUMN(B$1)+SUM($AD$2:$AD322))","v":0},{"$f":"INDIRECT(\"'関数（読み）'!C\" & COLUMN(C$1)+SUM($AD$2:$AD322))","v":0},{"$f":"INDIRECT(\"'関数（読み）'!C\" & COLUMN(D$1)+SUM($AD$2:$AD322))","v":0},{"$f":"INDIRECT(\"'関数（読み）'!C\" & COLUMN(E$1)+SUM($AD$2:$AD322))","v":0},{"$f":"INDIRECT(\"'関数（読み）'!C\" & COLUMN(F$1)+SUM($AD$2:$AD322))","v":0},{"$f":"INDIRECT(\"'関数（読み）'!C\" & COLUMN(G$1)+SUM($AD$2:$AD322))","v":0},{"$f":"INDIRECT(\"'関数（読み）'!C\" & COLUMN(H$1)+SUM($AD$2:$AD322))","v":0},{"$f":"INDIRECT(\"'関数（読み）'!C\" & COLUMN(I$1)+SUM($AD$2:$AD322))","v":0},{"$f":"INDIRECT(\"'関数（読み）'!C\" & COLUMN(J$1)+SUM($AD$2:$AD322))","v":0},{"$f":"INDIRECT(\"'関数（読み）'!C\" & COLUMN(K$1)+SUM($AD$2:$AD322))","v":0}]
["⑳","⑲","⑱","⑰","⑯","⑮","⑭","⑬","⑫","⑪","⑩","⑨","⑧","⑦","⑥","⑤","④","③","②","①","次の［　　　　］の部分の漢字には読みがなをひらがなで書き、カタカナは漢字に直しなさい。",11,"「漢字の博士検定試験」練習問題　",null,null,null,null,null,"←",10,"問",{"$f":"AH307+1","v":321},"～",{"$f":"SUM($AD$2:$AD322)+10","v":330},"問まで",{"$f":"COUNTIF($A$1:$T$200,T323)","v":5}]
[{"$f":"IF(A321=\"\",\"\",VLOOKUP(A321,漢字書き!$A$2:$N$506,6,0))","v":{"$error":"#N/A"}},{"$f":"IF(B321=\"\",\"\",VLOOKUP(B321,漢字書き!$A$2:$N$506,6,0))","v":{"$error":"#N/A"}},{"$f":"IF(C321=\"\",\"\",VLOOKUP(C321,漢字書き!$A$2:$N$506,6,0))","v":{"$error":"#N/A"}},{"$f":"IF(D321=\"\",\"\",VLOOKUP(D321,漢字書き!$A$2:$N$506,6,0))","v":{"$error":"#N/A"}},{"$f":"IF(E321=\"\",\"\",VLOOKUP(E321,漢字書き!$A$2:$N$506,6,0))","v":{"$error":"#N/A"}},{"$f":"IF(F321=\"\",\"\",VLOOKUP(F321,漢字書き!$A$2:$N$506,6,0))","v":{"$error":"#N/A"}},{"$f":"IF(G321=\"\",\"\",VLOOKUP(G321,漢字書き!$A$2:$N$506,6,0))","v":{"$error":"#N/A"}},{"$f":"IF(H321=\"\",\"\",VLOOKUP(H321,漢字書き!$A$2:$N$506,6,0))","v":{"$error":"#N/A"}},{"$f":"IF(I321=\"\",\"\",VLOOKUP(I321,漢字書き!$A$2:$N$506,6,0))","v":{"$error":"#N/A"}},{"$f":"IF(J321=\"\",\"\",VLOOKUP(J321,漢字書き!$A$2:$N$506,6,0))","v":{"$error":"#N/A"}},{"$f":"IF(K321=\"\",\"\",VLOOKUP(K321,漢字読み!$A$2:$O$506,6,0))","v":{"$error":"#N/A"}},{"$f":"IF(L321=\"\",\"\",VLOOKUP(L321,漢字読み!$A$2:$O$506,6,0))","v":{"$error":"#N/A"}},{"$f":"IF(M321=\"\",\"\",VLOOKUP(M321,漢字読み!$A$2:$O$506,6,0))","v":{"$error":"#N/A"}},{"$f":"IF(N321=\"\",\"\",VLOOKUP(N321,漢字読み!$A$2:$O$506,6,0))","v":{"$error":"#N/A"}},{"$f":"IF(O321=\"\",\"\",VLOOKUP(O321,漢字読み!$A$2:$O$506,6,0))","v":{"$error":"#N/A"}},{"$f":"IF(P321=\"\",\"\",VLOOKUP(P321,漢字読み!$A$2:$O$506,6,0))","v":{"$error":"#N/A"}},{"$f":"IF(Q321=\"\",\"\",VLOOKUP(Q321,漢字読み!$A$2:$O$506,6,0))","v":{"$error":"#N/A"}},{"$f":"IF(R321=\"\",\"\",VLOOKUP(R321,漢字読み!$A$2:$O$506,6,0))","v":{"$error":"#N/A"}},{"$f":"IF(S321=\"\",\"\",VLOOKUP(S321,漢字読み!$A$2:$O$506,6,0))","v":{"$error":"#N/A"}},{"$f":"IF(T321=\"\",\"\",VLOOKUP(T321,漢字読み!$A$2:$O$506,6,0))","v":{"$error":"#N/A"}},null,"級"]
[null,null,null,null,null,null,null,null,null,null,null,null,null,null,null,null,null,null,null,null,null,"名前"]
[{"$f":"IF(A321=\"\",\"\",IF(VLOOKUP(A321,漢字書き!$A$2:$N$502,7,0)=0,\"\",VLOOKUP(A321,漢字書き!$A$2:$N$502,7,0)))","v":{"$error":"#N/A"}},{"$f":"IF(B321=\"\",\"\",IF(VLOOKUP(B321,漢字書き!$A$2:$N$502,7,0)=0,\"\",VLOOKUP(B321,漢字書き!$A$2:$N$502,7,0)))","v":{"$error":"#N/A"}},{"$f":"IF(C321=\"\",\"\",IF(VLOOKUP(C321,漢字書き!$A$2:$N$502,7,0)=0,\"\",VLOOKUP(C321,漢字書き!$A$2:$N$502,7,0)))","v":{"$error":"#N/A"}},{"$f":"IF(D321=\"\",\"\",IF(VLOOKUP(D321,漢字書き!$A$2:$N$502,7,0)=0,\"\",VLOOKUP(D321,漢字書き!$A$2:$N$502,7,0)))","v":{"$error":"#N/A"}},{"$f":"IF(E321=\"\",\"\",IF(VLOOKUP(E321,漢字書き!$A$2:$N$502,7,0)=0,\"\",VLOOKUP(E321,漢字書き!$A$2:$N$502,7,0)))","v":{"$error":"#N/A"}},{"$f":"IF(F321=\"\",\"\",IF(VLOOKUP(F321,漢字書き!$A$2:$N$502,7,0)=0,\"\",VLOOKUP(F321,漢字書き!$A$2:$N$502,7,0)))","v":{"$error":"#N/A"}},{"$f":"IF(G321=\"\",\"\",IF(VLOOKUP(G321,漢字書き!$A$2:$N$502,7,0)=0,\"\",VLOOKUP(G321,漢字書き!$A$2:$N$502,7,0)))","v":{"$error":"#N/A"}},{"$f":"IF(H321=\"\",\"\",IF(VLOOKUP(H321,漢字書き!$A$2:$N$502,7,0)=0,\"\",VLOOKUP(H321,漢字書き!$A$2:$N$502,7,0)))","v":{"$error":"#N/A"}},{"$f":"IF(I321=\"\",\"\",IF(VLOOKUP(I321,漢字書き!$A$2:$N$502,7,0)=0,\"\",VLOOKUP(I321,漢字書き!$A$2:$N$502,7,0)))","v":{"$error":"#N/A"}},{"$f":"IF(J321=\"\",\"\",IF(VLOOKUP(J321,漢字書き!$A$2:$N$502,7,0)=0,\"\",VLOOKUP(J321,漢字書き!$A$2:$N$502,7,0)))","v":{"$error":"#N/A"}},{"$f":"IF(K321=\"\",\"\",IF(VLOOKUP(K321,漢字読み!$A$2:$O$502,7,0)=0,\"\",VLOOKUP(K321,漢字読み!$A$2:$O$502,7,0)))","v":{"$error":"#N/A"}},{"$f":"IF(L321=\"\",\"\",IF(VLOOKUP(L321,漢字読み!$A$2:$O$502,7,0)=0,\"\",VLOOKUP(L321,漢字読み!$A$2:$O$502,7,0)))","v":{"$error":"#N/A"}},{"$f":"IF(M321=\"\",\"\",IF(VLOOKUP(M321,漢字読み!$A$2:$O$502,7,0)=0,\"\",VLOOKUP(M321,漢字読み!$A$2:$O$502,7,0)))","v":{"$error":"#N/A"}},{"$f":"IF(N321=\"\",\"\",IF(VLOOKUP(N321,漢字読み!$A$2:$O$502,7,0)=0,\"\",VLOOKUP(N321,漢字読み!$A$2:$O$502,7,0)))","v":{"$error":"#N/A"}},{"$f":"IF(O321=\"\",\"\",IF(VLOOKUP(O321,漢字読み!$A$2:$O$502,7,0)=0,\"\",VLOOKUP(O321,漢字読み!$A$2:$O$502,7,0)))","v":{"$error":"#N/A"}},{"$f":"IF(P321=\"\",\"\",IF(VLOOKUP(P321,漢字読み!$A$2:$O$502,7,0)=0,\"\",VLOOKUP(P321,漢字読み!$A$2:$O$502,7,0)))","v":{"$error":"#N/A"}},{"$f":"IF(Q321=\"\",\"\",IF(VLOOKUP(Q321,漢字読み!$A$2:$O$502,7,0)=0,\"\",VLOOKUP(Q321,漢字読み!$A$2:$O$502,7,0)))","v":{"$error":"#N/A"}},{"$f":"IF(R321=\"\",\"\",IF(VLOOKUP(R321,漢字読み!$A$2:$O$502,7,0)=0,\"\",VLOOKUP(R321,漢字読み!$A$2:$O$502,7,0)))","v":{"$error":"#N/A"}},{"$f":"IF(S321=\"\",\"\",IF(VLOOKUP(S321,漢字読み!$A$2:$O$502,7,0)=0,\"\",VLOOKUP(S321,漢字読み!$A$2:$O$502,7,0)))","v":{"$error":"#N/A"}},{"$f":"IF(T321=\"\",\"\",IF(VLOOKUP(T321,漢字読み!$A$2:$O$502,7,0)=0,\"\",VLOOKUP(T321,漢字読み!$A$2:$O$502,7,0)))","v":{"$error":"#N/A"}},null,null,"和歌山県教育委員会"]
[{"$f":"INDIRECT(\"'関数（書き）'!C\" & COLUMN(B$1)+SUM($AD$2:$AD327))","v":0},{"$f":"INDIRECT(\"'関数（書き）'!C\" & COLUMN(C$1)+SUM($AD$2:$AD327))","v":0},{"$f":"INDIRECT(\"'関数（書き）'!C\" & COLUMN(D$1)+SUM($AD$2:$AD327))","v":0},{"$f":"INDIRECT(\"'関数（書き）'!C\" & COLUMN(E$1)+SUM($AD$2:$AD327))","v":0},{"$f":"INDIRECT(\"'関数（書き）'!C\" & COLUMN(F$1)+SUM($AD$2:$AD327))","v":0},{"$f":"INDIRECT(\"'関数（書き）'!C\" & COLUMN(G$1)+SUM($AD$2:$AD327))","v":0},{"$f":"INDIRECT(\"'関数（書き）'!C\" & COLUMN(H$1)+SUM($AD$2:$AD327))","v":0},{"$f":"INDIRECT(\"'関数（書き）'!C\" & COLUMN(I$1)+SUM($AD$2:$AD327))","v":0},{"$f":"INDIRECT(\"'関数（書き）'!C\" & COLUMN(J$1)+SUM($AD$2:$AD327))","v":0},{"$f":"INDIRECT(\"'関数（書き）'!C\" & COLUMN(K$1)+SUM($AD$2:$AD327))","v":0},{"$f":"INDIRECT(\"'関数（読み）'!C\" & COLUMN(B$1)+SUM($AD$2:$AD327))","v":0},{"$f":"INDIRECT(\"'関数（読み）'!C\" & COLUMN(C$1)+SUM($AD$2:$AD327))","v":0},{"$f":"INDIRECT(\"'関数（読み）'!C\" & COLUMN(D$1)+SUM($AD$2:$AD327))","v":0},{"$f":"INDIRECT(\"'関数（読み）'!C\" & COLUMN(E$1)+SUM($AD$2:$AD327))","v":0},{"$f":"INDIRECT(\"'関数（読み）'!C\" & COLUMN(F$1)+SUM($AD$2:$AD327))","v":0},{"$f":"INDIRECT(\"'関数（読み）'!C\" & COLUMN(G$1)+SUM($AD$2:$AD327))","v":0},{"$f":"INDIRECT(\"'関数（読み）'!C\" & COLUMN(H$1)+SUM($AD$2:$AD327))","v":0},{"$f":"INDIRECT(\"'関数（読み）'!C\" & COLUMN(I$1)+SUM($AD$2:$AD327))","v":0},{"$f":"INDIRECT(\"'関数（読み）'!C\" & COLUMN(J$1)+SUM($AD$2:$AD327))","v":0},{"$f":"INDIRECT(\"'関数（読み）'!C\" & COLUMN(K$1)+SUM($AD$2:$AD327))","v":0}]
["⑳","⑲","⑱","⑰","⑯","⑮","⑭","⑬","⑫","⑪","⑩","⑨","⑧","⑦","⑥","⑤","④","③","②","①","次の［　　　　］の部分の漢字には読みがなをひらがなで書き、カタカナは漢字に直しなさい。",11,"「漢字の博士検定試験」練習問題　",null,null,null,null,null,"←",10,"問",{"$f":"AH322+1","v":331},"～",{"$f":"SUM($AD$2:$AD327)+10","v":340},"問まで",{"$f":"COUNTIF($A$1:$T$200,T328)","v":5}]
[{"$f":"IF(A326=\"\",\"\",VLOOKUP(A326,漢字書き!$A$2:$N$506,6,0))","v":{"$error":"#N/A"}},{"$f":"IF(B326=\"\",\"\",VLOOKUP(B326,漢字書き!$A$2:$N$506,6,0))","v":{"$error":"#N/A"}},{"$f":"IF(C326=\"\",\"\",VLOOKUP(C326,漢字書き!$A$2:$N$506,6,0))","v":{"$error":"#N/A"}},{"$f":"IF(D326=\"\",\"\",VLOOKUP(D326,漢字書き!$A$2:$N$506,6,0))","v":{"$error":"#N/A"}},{"$f":"IF(E326=\"\",\"\",VLOOKUP(E326,漢字書き!$A$2:$N$506,6,0))","v":{"$error":"#N/A"}},{"$f":"IF(F326=\"\",\"\",VLOOKUP(F326,漢字書き!$A$2:$N$506,6,0))","v":{"$error":"#N/A"}},{"$f":"IF(G326=\"\",\"\",VLOOKUP(G326,漢字書き!$A$2:$N$506,6,0))","v":{"$error":"#N/A"}},{"$f":"IF(H326=\"\",\"\",VLOOKUP(H326,漢字書き!$A$2:$N$506,6,0))","v":{"$error":"#N/A"}},{"$f":"IF(I326=\"\",\"\",VLOOKUP(I326,漢字書き!$A$2:$N$506,6,0))","v":{"$error":"#N/A"}},{"$f":"IF(J326=\"\",\"\",VLOOKUP(J326,漢字書き!$A$2:$N$506,6,0))","v":{"$error":"#N/A"}},{"$f":"IF(K326=\"\",\"\",VLOOKUP(K326,漢字読み!$A$2:$O$506,6,0))","v":{"$error":"#N/A"}},{"$f":"IF(L326=\"\",\"\",VLOOKUP(L326,漢字読み!$A$2:$O$506,6,0))","v":{"$error":"#N/A"}},{"$f":"IF(M326=\"\",\"\",VLOOKUP(M326,漢字読み!$A$2:$O$506,6,0))","v":{"$error":"#N/A"}},{"$f":"IF(N326=\"\",\"\",VLOOKUP(N326,漢字読み!$A$2:$O$506,6,0))","v":{"$error":"#N/A"}},{"$f":"IF(O326=\"\",\"\",VLOOKUP(O326,漢字読み!$A$2:$O$506,6,0))","v":{"$error":"#N/A"}},{"$f":"IF(P326=\"\",\"\",VLOOKUP(P326,漢字読み!$A$2:$O$506,6,0))","v":{"$error":"#N/A"}},{"$f":"IF(Q326=\"\",\"\",VLOOKUP(Q326,漢字読み!$A$2:$O$506,6,0))","v":{"$error":"#N/A"}},{"$f":"IF(R326=\"\",\"\",VLOOKUP(R326,漢字読み!$A$2:$O$506,6,0))","v":{"$error":"#N/A"}},{"$f":"IF(S326=\"\",\"\",VLOOKUP(S326,漢字読み!$A$2:$O$506,6,0))","v":{"$error":"#N/A"}},{"$f":"IF(T326=\"\",\"\",VLOOKUP(T326,漢字読み!$A$2:$O$506,6,0))","v":{"$error":"#N/A"}},null,"級"]
[null,null,null,null,null,null,null,null,null,null,null,null,null,null,null,null,null,null,null,null,null,"名前"]
[{"$f":"IF(A326=\"\",\"\",IF(VLOOKUP(A326,漢字書き!$A$2:$N$502,7,0)=0,\"\",VLOOKUP(A326,漢字書き!$A$2:$N$502,7,0)))","v":{"$error":"#N/A"}},{"$f":"IF(B326=\"\",\"\",IF(VLOOKUP(B326,漢字書き!$A$2:$N$502,7,0)=0,\"\",VLOOKUP(B326,漢字書き!$A$2:$N$502,7,0)))","v":{"$error":"#N/A"}},{"$f":"IF(C326=\"\",\"\",IF(VLOOKUP(C326,漢字書き!$A$2:$N$502,7,0)=0,\"\",VLOOKUP(C326,漢字書き!$A$2:$N$502,7,0)))","v":{"$error":"#N/A"}},{"$f":"IF(D326=\"\",\"\",IF(VLOOKUP(D326,漢字書き!$A$2:$N$502,7,0)=0,\"\",VLOOKUP(D326,漢字書き!$A$2:$N$502,7,0)))","v":{"$error":"#N/A"}},{"$f":"IF(E326=\"\",\"\",IF(VLOOKUP(E326,漢字書き!$A$2:$N$502,7,0)=0,\"\",VLOOKUP(E326,漢字書き!$A$2:$N$502,7,0)))","v":{"$error":"#N/A"}},{"$f":"IF(F326=\"\",\"\",IF(VLOOKUP(F326,漢字書き!$A$2:$N$502,7,0)=0,\"\",VLOOKUP(F326,漢字書き!$A$2:$N$502,7,0)))","v":{"$error":"#N/A"}},{"$f":"IF(G326=\"\",\"\",IF(VLOOKUP(G326,漢字書き!$A$2:$N$502,7,0)=0,\"\",VLOOKUP(G326,漢字書き!$A$2:$N$502,7,0)))","v":{"$error":"#N/A"}},{"$f":"IF(H326=\"\",\"\",IF(VLOOKUP(H326,漢字書き!$A$2:$N$502,7,0)=0,\"\",VLOOKUP(H326,漢字書き!$A$2:$N$502,7,0)))","v":{"$error":"#N/A"}},{"$f":"IF(I326=\"\",\"\",IF(VLOOKUP(I326,漢字書き!$A$2:$N$502,7,0)=0,\"\",VLOOKUP(I326,漢字書き!$A$2:$N$502,7,0)))","v":{"$error":"#N/A"}},{"$f":"IF(J326=\"\",\"\",IF(VLOOKUP(J326,漢字書き!$A$2:$N$502,7,0)=0,\"\",VLOOKUP(J326,漢字書き!$A$2:$N$502,7,0)))","v":{"$error":"#N/A"}},{"$f":"IF(K326=\"\",\"\",IF(VLOOKUP(K326,漢字読み!$A$2:$O$502,7,0)=0,\"\",VLOOKUP(K326,漢字読み!$A$2:$O$502,7,0)))","v":{"$error":"#N/A"}},{"$f":"IF(L326=\"\",\"\",IF(VLOOKUP(L326,漢字読み!$A$2:$O$502,7,0)=0,\"\",VLOOKUP(L326,漢字読み!$A$2:$O$502,7,0)))","v":{"$error":"#N/A"}},{"$f":"IF(M326=\"\",\"\",IF(VLOOKUP(M326,漢字読み!$A$2:$O$502,7,0)=0,\"\",VLOOKUP(M326,漢字読み!$A$2:$O$502,7,0)))","v":{"$error":"#N/A"}},{"$f":"IF(N326=\"\",\"\",IF(VLOOKUP(N326,漢字読み!$A$2:$O$502,7,0)=0,\"\",VLOOKUP(N326,漢字読み!$A$2:$O$502,7,0)))","v":{"$error":"#N/A"}},{"$f":"IF(O326=\"\",\"\",IF(VLOOKUP(O326,漢字読み!$A$2:$O$502,7,0)=0,\"\",VLOOKUP(O326,漢字読み!$A$2:$O$502,7,0)))","v":{"$error":"#N/A"}},{"$f":"IF(P326=\"\",\"\",IF(VLOOKUP(P326,漢字読み!$A$2:$O$502,7,0)=0,\"\",VLOOKUP(P326,漢字読み!$A$2:$O$502,7,0)))","v":{"$error":"#N/A"}},{"$f":"IF(Q326=\"\",\"\",IF(VLOOKUP(Q326,漢字読み!$A$2:$O$502,7,0)=0,\"\",VLOOKUP(Q326,漢字読み!$A$2:$O$502,7,0)))","v":{"$error":"#N/A"}},{"$f":"IF(R326=\"\",\"\",IF(VLOOKUP(R326,漢字読み!$A$2:$O$502,7,0)=0,\"\",VLOOKUP(R326,漢字読み!$A$2:$O$502,7,0)))","v":{"$error":"#N/A"}},{"$f":"IF(S326=\"\",\"\",IF(VLOOKUP(S326,漢字読み!$A$2:$O$502,7,0)=0,\"\",VLOOKUP(S326,漢字読み!$A$2:$O$502,7,0)))","v":{"$error":"#N/A"}},{"$f":"IF(T326=\"\",\"\",IF(VLOOKUP(T326,漢字読み!$A$2:$O$502,7,0)=0,\"\",VLOOKUP(T326,漢字読み!$A$2:$O$502,7,0)))","v":{"$error":"#N/A"}},null,null,"和歌山県教育委員会"]
[{"$f":"A321","v":0},{"$f":"B321","v":0},{"$f":"C321","v":0},{"$f":"D321","v":0},{"$f":"E321","v":0},{"$f":"F321","v":0},{"$f":"G321","v":0},{"$f":"H321","v":0},{"$f":"I321","v":0},{"$f":"J321","v":0},{"$f":"K321","v":0},{"$f":"L321","v":0},{"$f":"M321","v":0},{"$f":"N321","v":0},{"$f":"O321","v":0},{"$f":"P321","v":0},{"$f":"Q321","v":0},{"$f":"R321","v":0},{"$f":"S321","v":0},{"$f":"T321","v":0}]
["⑳","⑲","⑱","⑰","⑯","⑮","⑭","⑬","⑫","⑪","⑩","⑨","⑧","⑦","⑥","⑤","④","③","②","①","次の［　　　　］の部分の漢字には読みがなをひらがなで書き、カタカナは漢字に直しなさい。",11,"「漢字の博士検定試験」練習問題　"]
[{"$f":"IF(A331=\"\",\"\",VLOOKUP(A331,漢字書き!$A$2:$N$506,6,0))","v":{"$error":"#N/A"}},{"$f":"IF(B331=\"\",\"\",VLOOKUP(B331,漢字書き!$A$2:$N$506,6,0))","v":{"$error":"#N/A"}},{"$f":"IF(C331=\"\",\"\",VLOOKUP(C331,漢字書き!$A$2:$N$506,6,0))","v":{"$error":"#N/A"}},{"$f":"IF(D331=\"\",\"\",VLOOKUP(D331,漢字書き!$A$2:$N$506,6,0))","v":{"$error":"#N/A"}},{"$f":"IF(E331=\"\",\"\",VLOOKUP(E331,漢字書き!$A$2:$N$506,6,0))","v":{"$error":"#N/A"}},{"$f":"IF(F331=\"\",\"\",VLOOKUP(F331,漢字書き!$A$2:$N$506,6,0))","v":{"$error":"#N/A"}},{"$f":"IF(G331=\"\",\"\",VLOOKUP(G331,漢字書き!$A$2:$N$506,6,0))","v":{"$error":"#N/A"}},{"$f":"IF(H331=\"\",\"\",VLOOKUP(H331,漢字書き!$A$2:$N$506,6,0))","v":{"$error":"#N/A"}},{"$f":"IF(I331=\"\",\"\",VLOOKUP(I331,漢字書き!$A$2:$N$506,6,0))","v":{"$error":"#N/A"}},{"$f":"IF(J331=\"\",\"\",VLOOKUP(J331,漢字書き!$A$2:$N$506,6,0))","v":{"$error":"#N/A"}},{"$f":"IF(K331=\"\",\"\",VLOOKUP(K331,漢字読み!$A$2:$O$506,6,0))","v":{"$error":"#N/A"}},{"$f":"IF(L331=\"\",\"\",VLOOKUP(L331,漢字読み!$A$2:$O$506,6,0))","v":{"$error":"#N/A"}},{"$f":"IF(M331=\"\",\"\",VLOOKUP(M331,漢字読み!$A$2:$O$506,6,0))","v":{"$error":"#N/A"}},{"$f":"IF(N331=\"\",\"\",VLOOKUP(N331,漢字読み!$A$2:$O$506,6,0))","v":{"$error":"#N/A"}},{"$f":"IF(O331=\"\",\"\",VLOOKUP(O331,漢字読み!$A$2:$O$506,6,0))","v":{"$error":"#N/A"}},{"$f":"IF(P331=\"\",\"\",VLOOKUP(P331,漢字読み!$A$2:$O$506,6,0))","v":{"$error":"#N/A"}},{"$f":"IF(Q331=\"\",\"\",VLOOKUP(Q331,漢字読み!$A$2:$O$506,6,0))","v":{"$error":"#N/A"}},{"$f":"IF(R331=\"\",\"\",VLOOKUP(R331,漢字読み!$A$2:$O$506,6,0))","v":{"$error":"#N/A"}},{"$f":"IF(S331=\"\",\"\",VLOOKUP(S331,漢字読み!$A$2:$O$506,6,0))","v":{"$error":"#N/A"}},{"$f":"IF(T331=\"\",\"\",VLOOKUP(T331,漢字読み!$A$2:$O$506,6,0))","v":{"$error":"#N/A"}},null,"級"]
[{"$f":"IF(A$11=\"\",\"\",VLOOKUP(A331,漢字書き!$A$2:$O$506,8,0))","v":{"$error":"#N/A"}},{"$f":"IF(B$11=\"\",\"\",VLOOKUP(B331,漢字書き!$A$2:$O$506,8,0))","v":{"$error":"#N/A"}},{"$f":"IF(C$11=\"\",\"\",VLOOKUP(C331,漢字書き!$A$2:$O$506,8,0))","v":{"$error":"#N/A"}},{"$f":"IF(D$11=\"\",\"\",VLOOKUP(D331,漢字書き!$A$2:$O$506,8,0))","v":{"$error":"#N/A"}},{"$f":"IF(E$11=\"\",\"\",VLOOKUP(E331,漢字書き!$A$2:$O$506,8,0))","v":{"$error":"#N/A"}},{"$f":"IF(F$11=\"\",\"\",VLOOKUP(F331,漢字書き!$A$2:$O$506,8,0))","v":{"$error":"#N/A"}},{"$f":"IF(G$11=\"\",\"\",VLOOKUP(G331,漢字書き!$A$2:$O$506,8,0))","v":{"$error":"#N/A"}},{"$f":"IF(H$11=\"\",\"\",VLOOKUP(H331,漢字書き!$A$2:$O$506,8,0))","v":{"$error":"#N/A"}},{"$f":"IF(I$11=\"\",\"\",VLOOKUP(I331,漢字書き!$A$2:$O$506,8,0))","v":{"$error":"#N/A"}},{"$f":"IF(J$11=\"\",\"\",VLOOKUP(J331,漢字書き!$A$2:$O$506,8,0))","v":{"$error":"#N/A"}},{"$f":"IF(K$11=\"\",\"\",VLOOKUP(K331,漢字読み!$A$2:$O$506,8,0))","v":{"$error":"#N/A"}},{"$f":"IF(L$11=\"\",\"\",VLOOKUP(L331,漢字読み!$A$2:$O$506,8,0))","v":{"$error":"#N/A"}},{"$f":"IF(M$11=\"\",\"\",VLOOKUP(M331,漢字読み!$A$2:$O$506,8,0))","v":{"$error":"#N/A"}},{"$f":"IF(N$11=\"\",\"\",VLOOKUP(N331,漢字読み!$A$2:$O$506,8,0))","v":{"$error":"#N/A"}},{"$f":"IF(O$11=\"\",\"\",VLOOKUP(O331,漢字読み!$A$2:$O$506,8,0))","v":{"$error":"#N/A"}},{"$f":"IF(P$11=\"\",\"\",VLOOKUP(P331,漢字読み!$A$2:$O$506,8,0))","v":{"$error":"#N/A"}},{"$f":"IF(Q$11=\"\",\"\",VLOOKUP(Q331,漢字読み!$A$2:$O$506,8,0))","v":{"$error":"#N/A"}},{"$f":"IF(R$11=\"\",\"\",VLOOKUP(R331,漢字読み!$A$2:$O$506,8,0))","v":{"$error":"#N/A"}},{"$f":"IF(S$11=\"\",\"\",VLOOKUP(S331,漢字読み!$A$2:$O$506,8,0))","v":{"$error":"#N/A"}},{"$f":"IF(T$11=\"\",\"\",VLOOKUP(T331,漢字読み!$A$2:$O$506,8,0))","v":{"$error":"#N/A"}},null,"名前"]
[{"$f":"IF(A331=\"\",\"\",IF(VLOOKUP(A331,漢字書き!$A$2:$N$502,7,0)=0,\"\",VLOOKUP(A331,漢字書き!$A$2:$N$502,7,0)))","v":{"$error":"#N/A"}},{"$f":"IF(B331=\"\",\"\",IF(VLOOKUP(B331,漢字書き!$A$2:$N$502,7,0)=0,\"\",VLOOKUP(B331,漢字書き!$A$2:$N$502,7,0)))","v":{"$error":"#N/A"}},{"$f":"IF(C331=\"\",\"\",IF(VLOOKUP(C331,漢字書き!$A$2:$N$502,7,0)=0,\"\",VLOOKUP(C331,漢字書き!$A$2:$N$502,7,0)))","v":{"$error":"#N/A"}},{"$f":"IF(D331=\"\",\"\",IF(VLOOKUP(D331,漢字書き!$A$2:$N$502,7,0)=0,\"\",VLOOKUP(D331,漢字書き!$A$2:$N$502,7,0)))","v":{"$error":"#N/A"}},{"$f":"IF(E331=\"\",\"\",IF(VLOOKUP(E331,漢字書き!$A$2:$N$502,7,0)=0,\"\",VLOOKUP(E331,漢字書き!$A$2:$N$502,7,0)))","v":{"$error":"#N/A"}},{"$f":"IF(F331=\"\",\"\",IF(VLOOKUP(F331,漢字書き!$A$2:$N$502,7,0)=0,\"\",VLOOKUP(F331,漢字書き!$A$2:$N$502,7,0)))","v":{"$error":"#N/A"}},{"$f":"IF(G331=\"\",\"\",IF(VLOOKUP(G331,漢字書き!$A$2:$N$502,7,0)=0,\"\",VLOOKUP(G331,漢字書き!$A$2:$N$502,7,0)))","v":{"$error":"#N/A"}},{"$f":"IF(H331=\"\",\"\",IF(VLOOKUP(H331,漢字書き!$A$2:$N$502,7,0)=0,\"\",VLOOKUP(H331,漢字書き!$A$2:$N$502,7,0)))","v":{"$error":"#N/A"}},{"$f":"IF(I331=\"\",\"\",IF(VLOOKUP(I331,漢字書き!$A$2:$N$502,7,0)=0,\"\",VLOOKUP(I331,漢字書き!$A$2:$N$502,7,0)))","v":{"$error":"#N/A"}},{"$f":"IF(J331=\"\",\"\",IF(VLOOKUP(J331,漢字書き!$A$2:$N$502,7,0)=0,\"\",VLOOKUP(J331,漢字書き!$A$2:$N$502,7,0)))","v":{"$error":"#N/A"}},{"$f":"IF(K331=\"\",\"\",IF(VLOOKUP(K331,漢字読み!$A$2:$O$502,7,0)=0,\"\",VLOOKUP(K331,漢字読み!$A$2:$O$502,7,0)))","v":{"$error":"#N/A"}},{"$f":"IF(L331=\"\",\"\",IF(VLOOKUP(L331,漢字読み!$A$2:$O$502,7,0)=0,\"\",VLOOKUP(L331,漢字読み!$A$2:$O$502,7,0)))","v":{"$error":"#N/A"}},{"$f":"IF(M331=\"\",\"\",IF(VLOOKUP(M331,漢字読み!$A$2:$O$502,7,0)=0,\"\",VLOOKUP(M331,漢字読み!$A$2:$O$502,7,0)))","v":{"$error":"#N/A"}},{"$f":"IF(N331=\"\",\"\",IF(VLOOKUP(N331,漢字読み!$A$2:$O$502,7,0)=0,\"\",VLOOKUP(N331,漢字読み!$A$2:$O$502,7,0)))","v":{"$error":"#N/A"}},{"$f":"IF(O331=\"\",\"\",IF(VLOOKUP(O331,漢字読み!$A$2:$O$502,7,0)=0,\"\",VLOOKUP(O331,漢字読み!$A$2:$O$502,7,0)))","v":{"$error":"#N/A"}},{"$f":"IF(P331=\"\",\"\",IF(VLOOKUP(P331,漢字読み!$A$2:$O$502,7,0)=0,\"\",VLOOKUP(P331,漢字読み!$A$2:$O$502,7,0)))","v":{"$error":"#N/A"}},{"$f":"IF(Q331=\"\",\"\",IF(VLOOKUP(Q331,漢字読み!$A$2:$O$502,7,0)=0,\"\",VLOOKUP(Q331,漢字読み!$A$2:$O$502,7,0)))","v":{"$error":"#N/A"}},{"$f":"IF(R331=\"\",\"\",IF(VLOOKUP(R331,漢字読み!$A$2:$O$502,7,0)=0,\"\",VLOOKUP(R331,漢字読み!$A$2:$O$502,7,0)))","v":{"$error":"#N/A"}},{"$f":"IF(S331=\"\",\"\",IF(VLOOKUP(S331,漢字読み!$A$2:$O$502,7,0)=0,\"\",VLOOKUP(S331,漢字読み!$A$2:$O$502,7,0)))","v":{"$error":"#N/A"}},{"$f":"IF(T331=\"\",\"\",IF(VLOOKUP(T331,漢字読み!$A$2:$O$502,7,0)=0,\"\",VLOOKUP(T331,漢字読み!$A$2:$O$502,7,0)))","v":{"$error":"#N/A"}},null,null,"和歌山県教育委員会"]
[{"$f":"A326","v":0},{"$f":"B326","v":0},{"$f":"C326","v":0},{"$f":"D326","v":0},{"$f":"E326","v":0},{"$f":"F326","v":0},{"$f":"G326","v":0},{"$f":"H326","v":0},{"$f":"I326","v":0},{"$f":"J326","v":0},{"$f":"K326","v":0},{"$f":"L326","v":0},{"$f":"M326","v":0},{"$f":"N326","v":0},{"$f":"O326","v":0},{"$f":"P326","v":0},{"$f":"Q326","v":0},{"$f":"R326","v":0},{"$f":"S326","v":0},{"$f":"T326","v":0}]
["⑳","⑲","⑱","⑰","⑯","⑮","⑭","⑬","⑫","⑪","⑩","⑨","⑧","⑦","⑥","⑤","④","③","②","①","次の［　　　　］の部分の漢字には読みがなをひらがなで書き、カタカナは漢字に直しなさい。",11,"「漢字の博士検定試験」練習問題　"]
[{"$f":"IF(A336=\"\",\"\",VLOOKUP(A336,漢字書き!$A$2:$N$506,6,0))","v":{"$error":"#N/A"}},{"$f":"IF(B336=\"\",\"\",VLOOKUP(B336,漢字書き!$A$2:$N$506,6,0))","v":{"$error":"#N/A"}},{"$f":"IF(C336=\"\",\"\",VLOOKUP(C336,漢字書き!$A$2:$N$506,6,0))","v":{"$error":"#N/A"}},{"$f":"IF(D336=\"\",\"\",VLOOKUP(D336,漢字書き!$A$2:$N$506,6,0))","v":{"$error":"#N/A"}},{"$f":"IF(E336=\"\",\"\",VLOOKUP(E336,漢字書き!$A$2:$N$506,6,0))","v":{"$error":"#N/A"}},{"$f":"IF(F336=\"\",\"\",VLOOKUP(F336,漢字書き!$A$2:$N$506,6,0))","v":{"$error":"#N/A"}},{"$f":"IF(G336=\"\",\"\",VLOOKUP(G336,漢字書き!$A$2:$N$506,6,0))","v":{"$error":"#N/A"}},{"$f":"IF(H336=\"\",\"\",VLOOKUP(H336,漢字書き!$A$2:$N$506,6,0))","v":{"$error":"#N/A"}},{"$f":"IF(I336=\"\",\"\",VLOOKUP(I336,漢字書き!$A$2:$N$506,6,0))","v":{"$error":"#N/A"}},{"$f":"IF(J336=\"\",\"\",VLOOKUP(J336,漢字書き!$A$2:$N$506,6,0))","v":{"$error":"#N/A"}},{"$f":"IF(K336=\"\",\"\",VLOOKUP(K336,漢字読み!$A$2:$O$506,6,0))","v":{"$error":"#N/A"}},{"$f":"IF(L336=\"\",\"\",VLOOKUP(L336,漢字読み!$A$2:$O$506,6,0))","v":{"$error":"#N/A"}},{"$f":"IF(M336=\"\",\"\",VLOOKUP(M336,漢字読み!$A$2:$O$506,6,0))","v":{"$error":"#N/A"}},{"$f":"IF(N336=\"\",\"\",VLOOKUP(N336,漢字読み!$A$2:$O$506,6,0))","v":{"$error":"#N/A"}},{"$f":"IF(O336=\"\",\"\",VLOOKUP(O336,漢字読み!$A$2:$O$506,6,0))","v":{"$error":"#N/A"}},{"$f":"IF(P336=\"\",\"\",VLOOKUP(P336,漢字読み!$A$2:$O$506,6,0))","v":{"$error":"#N/A"}},{"$f":"IF(Q336=\"\",\"\",VLOOKUP(Q336,漢字読み!$A$2:$O$506,6,0))","v":{"$error":"#N/A"}},{"$f":"IF(R336=\"\",\"\",VLOOKUP(R336,漢字読み!$A$2:$O$506,6,0))","v":{"$error":"#N/A"}},{"$f":"IF(S336=\"\",\"\",VLOOKUP(S336,漢字読み!$A$2:$O$506,6,0))","v":{"$error":"#N/A"}},{"$f":"IF(T336=\"\",\"\",VLOOKUP(T336,漢字読み!$A$2:$O$506,6,0))","v":{"$error":"#N/A"}},null,"級"]
[{"$f":"IF(A$16=\"\",\"\",VLOOKUP(A336,漢字書き!$A$2:$O$506,8,0))","v":{"$error":"#N/A"}},{"$f":"IF(B$16=\"\",\"\",VLOOKUP(B336,漢字書き!$A$2:$O$506,8,0))","v":{"$error":"#N/A"}},{"$f":"IF(C$16=\"\",\"\",VLOOKUP(C336,漢字書き!$A$2:$O$506,8,0))","v":{"$error":"#N/A"}},{"$f":"IF(D$16=\"\",\"\",VLOOKUP(D336,漢字書き!$A$2:$O$506,8,0))","v":{"$error":"#N/A"}},{"$f":"IF(E$16=\"\",\"\",VLOOKUP(E336,漢字書き!$A$2:$O$506,8,0))","v":{"$error":"#N/A"}},{"$f":"IF(F$16=\"\",\"\",VLOOKUP(F336,漢字書き!$A$2:$O$506,8,0))","v":{"$error":"#N/A"}},{"$f":"IF(G$16=\"\",\"\",VLOOKUP(G336,漢字書き!$A$2:$O$506,8,0))","v":{"$error":"#N/A"}},{"$f":"IF(H$16=\"\",\"\",VLOOKUP(H336,漢字書き!$A$2:$O$506,8,0))","v":{"$error":"#N/A"}},{"$f":"IF(I$16=\"\",\"\",VLOOKUP(I336,漢字書き!$A$2:$O$506,8,0))","v":{"$error":"#N/A"}},{"$f":"IF(J$16=\"\",\"\",VLOOKUP(J336,漢字書き!$A$2:$O$506,8,0))","v":{"$error":"#N/A"}},{"$f":"IF(K$16=\"\",\"\",VLOOKUP(K336,漢字読み!$A$2:$O$506,8,0))","v":{"$error":"#N/A"}},{"$f":"IF(L$16=\"\",\"\",VLOOKUP(L336,漢字読み!$A$2:$O$506,8,0))","v":{"$error":"#N/A"}},{"$f":"IF(M$16=\"\",\"\",VLOOKUP(M336,漢字読み!$A$2:$O$506,8,0))","v":{"$error":"#N/A"}},{"$f":"IF(N$16=\"\",\"\",VLOOKUP(N336,漢字読み!$A$2:$O$506,8,0))","v":{"$error":"#N/A"}},{"$f":"IF(O$16=\"\",\"\",VLOOKUP(O336,漢字読み!$A$2:$O$506,8,0))","v":{"$error":"#N/A"}},{"$f":"IF(P$16=\"\",\"\",VLOOKUP(P336,漢字読み!$A$2:$O$506,8,0))","v":{"$error":"#N/A"}},{"$f":"IF(Q$16=\"\",\"\",VLOOKUP(Q336,漢字読み!$A$2:$O$506,8,0))","v":{"$error":"#N/A"}},{"$f":"IF(R$16=\"\",\"\",VLOOKUP(R336,漢字読み!$A$2:$O$506,8,0))","v":{"$error":"#N/A"}},{"$f":"IF(S$16=\"\",\"\",VLOOKUP(S336,漢字読み!$A$2:$O$506,8,0))","v":{"$error":"#N/A"}},{"$f":"IF(T$16=\"\",\"\",VLOOKUP(T336,漢字読み!$A$2:$O$506,8,0))","v":{"$error":"#N/A"}},null,"名前"]
[{"$f":"IF(A336=\"\",\"\",IF(VLOOKUP(A336,漢字書き!$A$2:$N$502,7,0)=0,\"\",VLOOKUP(A336,漢字書き!$A$2:$N$502,7,0)))","v":{"$error":"#N/A"}},{"$f":"IF(B336=\"\",\"\",IF(VLOOKUP(B336,漢字書き!$A$2:$N$502,7,0)=0,\"\",VLOOKUP(B336,漢字書き!$A$2:$N$502,7,0)))","v":{"$error":"#N/A"}},{"$f":"IF(C336=\"\",\"\",IF(VLOOKUP(C336,漢字書き!$A$2:$N$502,7,0)=0,\"\",VLOOKUP(C336,漢字書き!$A$2:$N$502,7,0)))","v":{"$error":"#N/A"}},{"$f":"IF(D336=\"\",\"\",IF(VLOOKUP(D336,漢字書き!$A$2:$N$502,7,0)=0,\"\",VLOOKUP(D336,漢字書き!$A$2:$N$502,7,0)))","v":{"$error":"#N/A"}},{"$f":"IF(E336=\"\",\"\",IF(VLOOKUP(E336,漢字書き!$A$2:$N$502,7,0)=0,\"\",VLOOKUP(E336,漢字書き!$A$2:$N$502,7,0)))","v":{"$error":"#N/A"}},{"$f":"IF(F336=\"\",\"\",IF(VLOOKUP(F336,漢字書き!$A$2:$N$502,7,0)=0,\"\",VLOOKUP(F336,漢字書き!$A$2:$N$502,7,0)))","v":{"$error":"#N/A"}},{"$f":"IF(G336=\"\",\"\",IF(VLOOKUP(G336,漢字書き!$A$2:$N$502,7,0)=0,\"\",VLOOKUP(G336,漢字書き!$A$2:$N$502,7,0)))","v":{"$error":"#N/A"}},{"$f":"IF(H336=\"\",\"\",IF(VLOOKUP(H336,漢字書き!$A$2:$N$502,7,0)=0,\"\",VLOOKUP(H336,漢字書き!$A$2:$N$502,7,0)))","v":{"$error":"#N/A"}},{"$f":"IF(I336=\"\",\"\",IF(VLOOKUP(I336,漢字書き!$A$2:$N$502,7,0)=0,\"\",VLOOKUP(I336,漢字書き!$A$2:$N$502,7,0)))","v":{"$error":"#N/A"}},{"$f":"IF(J336=\"\",\"\",IF(VLOOKUP(J336,漢字書き!$A$2:$N$502,7,0)=0,\"\",VLOOKUP(J336,漢字書き!$A$2:$N$502,7,0)))","v":{"$error":"#N/A"}},{"$f":"IF(K336=\"\",\"\",IF(VLOOKUP(K336,漢字読み!$A$2:$O$502,7,0)=0,\"\",VLOOKUP(K336,漢字読み!$A$2:$O$502,7,0)))","v":{"$error":"#N/A"}},{"$f":"IF(L336=\"\",\"\",IF(VLOOKUP(L336,漢字読み!$A$2:$O$502,7,0)=0,\"\",VLOOKUP(L336,漢字読み!$A$2:$O$502,7,0)))","v":{"$error":"#N/A"}},{"$f":"IF(M336=\"\",\"\",IF(VLOOKUP(M336,漢字読み!$A$2:$O$502,7,0)=0,\"\",VLOOKUP(M336,漢字読み!$A$2:$O$502,7,0)))","v":{"$error":"#N/A"}},{"$f":"IF(N336=\"\",\"\",IF(VLOOKUP(N336,漢字読み!$A$2:$O$502,7,0)=0,\"\",VLOOKUP(N336,漢字読み!$A$2:$O$502,7,0)))","v":{"$error":"#N/A"}},{"$f":"IF(O336=\"\",\"\",IF(VLOOKUP(O336,漢字読み!$A$2:$O$502,7,0)=0,\"\",VLOOKUP(O336,漢字読み!$A$2:$O$502,7,0)))","v":{"$error":"#N/A"}},{"$f":"IF(P336=\"\",\"\",IF(VLOOKUP(P336,漢字読み!$A$2:$O$502,7,0)=0,\"\",VLOOKUP(P336,漢字読み!$A$2:$O$502,7,0)))","v":{"$error":"#N/A"}},{"$f":"IF(Q336=\"\",\"\",IF(VLOOKUP(Q336,漢字読み!$A$2:$O$502,7,0)=0,\"\",VLOOKUP(Q336,漢字読み!$A$2:$O$502,7,0)))","v":{"$error":"#N/A"}},{"$f":"IF(R336=\"\",\"\",IF(VLOOKUP(R336,漢字読み!$A$2:$O$502,7,0)=0,\"\",VLOOKUP(R336,漢字読み!$A$2:$O$502,7,0)))","v":{"$error":"#N/A"}},{"$f":"IF(S336=\"\",\"\",IF(VLOOKUP(S336,漢字読み!$A$2:$O$502,7,0)=0,\"\",VLOOKUP(S336,漢字読み!$A$2:$O$502,7,0)))","v":{"$error":"#N/A"}},{"$f":"IF(T336=\"\",\"\",IF(VLOOKUP(T336,漢字読み!$A$2:$O$502,7,0)=0,\"\",VLOOKUP(T336,漢字読み!$A$2:$O$502,7,0)))","v":{"$error":"#N/A"}},null,null,"和歌山県教育委員会"]
[{"$f":"INDIRECT(\"'関数（書き）'!C\" & COLUMN(B$1)+SUM($AD$2:$AD342))","v":0},{"$f":"INDIRECT(\"'関数（書き）'!C\" & COLUMN(C$1)+SUM($AD$2:$AD342))","v":0},{"$f":"INDIRECT(\"'関数（書き）'!C\" & COLUMN(D$1)+SUM($AD$2:$AD342))","v":0},{"$f":"INDIRECT(\"'関数（書き）'!C\" & COLUMN(E$1)+SUM($AD$2:$AD342))","v":0},{"$f":"INDIRECT(\"'関数（書き）'!C\" & COLUMN(F$1)+SUM($AD$2:$AD342))","v":0},{"$f":"INDIRECT(\"'関数（書き）'!C\" & COLUMN(G$1)+SUM($AD$2:$AD342))","v":0},{"$f":"INDIRECT(\"'関数（書き）'!C\" & COLUMN(H$1)+SUM($AD$2:$AD342))","v":0},{"$f":"INDIRECT(\"'関数（書き）'!C\" & COLUMN(I$1)+SUM($AD$2:$AD342))","v":0},{"$f":"INDIRECT(\"'関数（書き）'!C\" & COLUMN(J$1)+SUM($AD$2:$AD342))","v":0},{"$f":"INDIRECT(\"'関数（書き）'!C\" & COLUMN(K$1)+SUM($AD$2:$AD342))","v":0},{"$f":"INDIRECT(\"'関数（読み）'!C\" & COLUMN(B$1)+SUM($AD$2:$AD342))","v":0},{"$f":"INDIRECT(\"'関数（読み）'!C\" & COLUMN(C$1)+SUM($AD$2:$AD342))","v":0},{"$f":"INDIRECT(\"'関数（読み）'!C\" & COLUMN(D$1)+SUM($AD$2:$AD342))","v":0},{"$f":"INDIRECT(\"'関数（読み）'!C\" & COLUMN(E$1)+SUM($AD$2:$AD342))","v":0},{"$f":"INDIRECT(\"'関数（読み）'!C\" & COLUMN(F$1)+SUM($AD$2:$AD342))","v":0},{"$f":"INDIRECT(\"'関数（読み）'!C\" & COLUMN(G$1)+SUM($AD$2:$AD342))","v":0},{"$f":"INDIRECT(\"'関数（読み）'!C\" & COLUMN(H$1)+SUM($AD$2:$AD342))","v":0},{"$f":"INDIRECT(\"'関数（読み）'!C\" & COLUMN(I$1)+SUM($AD$2:$AD342))","v":0},{"$f":"INDIRECT(\"'関数（読み）'!C\" & COLUMN(J$1)+SUM($AD$2:$AD342))","v":0},{"$f":"INDIRECT(\"'関数（読み）'!C\" & COLUMN(K$1)+SUM($AD$2:$AD342))","v":0}]
["⑳","⑲","⑱","⑰","⑯","⑮","⑭","⑬","⑫","⑪","⑩","⑨","⑧","⑦","⑥","⑤","④","③","②","①","次の［　　　　］の部分の漢字には読みがなをひらがなで書き、カタカナは漢字に直しなさい。",11,"「漢字の博士検定試験」練習問題　",null,null,null,null,null,"←",10,"問",{"$f":"AH327+1","v":341},"～",{"$f":"SUM($AD$2:$AD342)+10","v":350},"問まで",{"$f":"COUNTIF($A$1:$T$200,T343)","v":5}]
[{"$f":"IF(A341=\"\",\"\",VLOOKUP(A341,漢字書き!$A$2:$N$506,6,0))","v":{"$error":"#N/A"}},{"$f":"IF(B341=\"\",\"\",VLOOKUP(B341,漢字書き!$A$2:$N$506,6,0))","v":{"$error":"#N/A"}},{"$f":"IF(C341=\"\",\"\",VLOOKUP(C341,漢字書き!$A$2:$N$506,6,0))","v":{"$error":"#N/A"}},{"$f":"IF(D341=\"\",\"\",VLOOKUP(D341,漢字書き!$A$2:$N$506,6,0))","v":{"$error":"#N/A"}},{"$f":"IF(E341=\"\",\"\",VLOOKUP(E341,漢字書き!$A$2:$N$506,6,0))","v":{"$error":"#N/A"}},{"$f":"IF(F341=\"\",\"\",VLOOKUP(F341,漢字書き!$A$2:$N$506,6,0))","v":{"$error":"#N/A"}},{"$f":"IF(G341=\"\",\"\",VLOOKUP(G341,漢字書き!$A$2:$N$506,6,0))","v":{"$error":"#N/A"}},{"$f":"IF(H341=\"\",\"\",VLOOKUP(H341,漢字書き!$A$2:$N$506,6,0))","v":{"$error":"#N/A"}},{"$f":"IF(I341=\"\",\"\",VLOOKUP(I341,漢字書き!$A$2:$N$506,6,0))","v":{"$error":"#N/A"}},{"$f":"IF(J341=\"\",\"\",VLOOKUP(J341,漢字書き!$A$2:$N$506,6,0))","v":{"$error":"#N/A"}},{"$f":"IF(K341=\"\",\"\",VLOOKUP(K341,漢字読み!$A$2:$O$506,6,0))","v":{"$error":"#N/A"}},{"$f":"IF(L341=\"\",\"\",VLOOKUP(L341,漢字読み!$A$2:$O$506,6,0))","v":{"$error":"#N/A"}},{"$f":"IF(M341=\"\",\"\",VLOOKUP(M341,漢字読み!$A$2:$O$506,6,0))","v":{"$error":"#N/A"}},{"$f":"IF(N341=\"\",\"\",VLOOKUP(N341,漢字読み!$A$2:$O$506,6,0))","v":{"$error":"#N/A"}},{"$f":"IF(O341=\"\",\"\",VLOOKUP(O341,漢字読み!$A$2:$O$506,6,0))","v":{"$error":"#N/A"}},{"$f":"IF(P341=\"\",\"\",VLOOKUP(P341,漢字読み!$A$2:$O$506,6,0))","v":{"$error":"#N/A"}},{"$f":"IF(Q341=\"\",\"\",VLOOKUP(Q341,漢字読み!$A$2:$O$506,6,0))","v":{"$error":"#N/A"}},{"$f":"IF(R341=\"\",\"\",VLOOKUP(R341,漢字読み!$A$2:$O$506,6,0))","v":{"$error":"#N/A"}},{"$f":"IF(S341=\"\",\"\",VLOOKUP(S341,漢字読み!$A$2:$O$506,6,0))","v":{"$error":"#N/A"}},{"$f":"IF(T341=\"\",\"\",VLOOKUP(T341,漢字読み!$A$2:$O$506,6,0))","v":{"$error":"#N/A"}},null,"級"]
[null,null,null,null,null,null,null,null,null,null,null,null,null,null,null,null,null,null,null,null,null,"名前"]
[{"$f":"IF(A341=\"\",\"\",IF(VLOOKUP(A341,漢字書き!$A$2:$N$502,7,0)=0,\"\",VLOOKUP(A341,漢字書き!$A$2:$N$502,7,0)))","v":{"$error":"#N/A"}},{"$f":"IF(B341=\"\",\"\",IF(VLOOKUP(B341,漢字書き!$A$2:$N$502,7,0)=0,\"\",VLOOKUP(B341,漢字書き!$A$2:$N$502,7,0)))","v":{"$error":"#N/A"}},{"$f":"IF(C341=\"\",\"\",IF(VLOOKUP(C341,漢字書き!$A$2:$N$502,7,0)=0,\"\",VLOOKUP(C341,漢字書き!$A$2:$N$502,7,0)))","v":{"$error":"#N/A"}},{"$f":"IF(D341=\"\",\"\",IF(VLOOKUP(D341,漢字書き!$A$2:$N$502,7,0)=0,\"\",VLOOKUP(D341,漢字書き!$A$2:$N$502,7,0)))","v":{"$error":"#N/A"}},{"$f":"IF(E341=\"\",\"\",IF(VLOOKUP(E341,漢字書き!$A$2:$N$502,7,0)=0,\"\",VLOOKUP(E341,漢字書き!$A$2:$N$502,7,0)))","v":{"$error":"#N/A"}},{"$f":"IF(F341=\"\",\"\",IF(VLOOKUP(F341,漢字書き!$A$2:$N$502,7,0)=0,\"\",VLOOKUP(F341,漢字書き!$A$2:$N$502,7,0)))","v":{"$error":"#N/A"}},{"$f":"IF(G341=\"\",\"\",IF(VLOOKUP(G341,漢字書き!$A$2:$N$502,7,0)=0,\"\",VLOOKUP(G341,漢字書き!$A$2:$N$502,7,0)))","v":{"$error":"#N/A"}},{"$f":"IF(H341=\"\",\"\",IF(VLOOKUP(H341,漢字書き!$A$2:$N$502,7,0)=0,\"\",VLOOKUP(H341,漢字書き!$A$2:$N$502,7,0)))","v":{"$error":"#N/A"}},{"$f":"IF(I341=\"\",\"\",IF(VLOOKUP(I341,漢字書き!$A$2:$N$502,7,0)=0,\"\",VLOOKUP(I341,漢字書き!$A$2:$N$502,7,0)))","v":{"$error":"#N/A"}},{"$f":"IF(J341=\"\",\"\",IF(VLOOKUP(J341,漢字書き!$A$2:$N$502,7,0)=0,\"\",VLOOKUP(J341,漢字書き!$A$2:$N$502,7,0)))","v":{"$error":"#N/A"}},{"$f":"IF(K341=\"\",\"\",IF(VLOOKUP(K341,漢字読み!$A$2:$O$502,7,0)=0,\"\",VLOOKUP(K341,漢字読み!$A$2:$O$502,7,0)))","v":{"$error":"#N/A"}},{"$f":"IF(L341=\"\",\"\",IF(VLOOKUP(L341,漢字読み!$A$2:$O$502,7,0)=0,\"\",VLOOKUP(L341,漢字読み!$A$2:$O$502,7,0)))","v":{"$error":"#N/A"}},{"$f":"IF(M341=\"\",\"\",IF(VLOOKUP(M341,漢字読み!$A$2:$O$502,7,0)=0,\"\",VLOOKUP(M341,漢字読み!$A$2:$O$502,7,0)))","v":{"$error":"#N/A"}},{"$f":"IF(N341=\"\",\"\",IF(VLOOKUP(N341,漢字読み!$A$2:$O$502,7,0)=0,\"\",VLOOKUP(N341,漢字読み!$A$2:$O$502,7,0)))","v":{"$error":"#N/A"}},{"$f":"IF(O341=\"\",\"\",IF(VLOOKUP(O341,漢字読み!$A$2:$O$502,7,0)=0,\"\",VLOOKUP(O341,漢字読み!$A$2:$O$502,7,0)))","v":{"$error":"#N/A"}},{"$f":"IF(P341=\"\",\"\",IF(VLOOKUP(P341,漢字読み!$A$2:$O$502,7,0)=0,\"\",VLOOKUP(P341,漢字読み!$A$2:$O$502,7,0)))","v":{"$error":"#N/A"}},{"$f":"IF(Q341=\"\",\"\",IF(VLOOKUP(Q341,漢字読み!$A$2:$O$502,7,0)=0,\"\",VLOOKUP(Q341,漢字読み!$A$2:$O$502,7,0)))","v":{"$error":"#N/A"}},{"$f":"IF(R341=\"\",\"\",IF(VLOOKUP(R341,漢字読み!$A$2:$O$502,7,0)=0,\"\",VLOOKUP(R341,漢字読み!$A$2:$O$502,7,0)))","v":{"$error":"#N/A"}},{"$f":"IF(S341=\"\",\"\",IF(VLOOKUP(S341,漢字読み!$A$2:$O$502,7,0)=0,\"\",VLOOKUP(S341,漢字読み!$A$2:$O$502,7,0)))","v":{"$error":"#N/A"}},{"$f":"IF(T341=\"\",\"\",IF(VLOOKUP(T341,漢字読み!$A$2:$O$502,7,0)=0,\"\",VLOOKUP(T341,漢字読み!$A$2:$O$502,7,0)))","v":{"$error":"#N/A"}},null,null,"和歌山県教育委員会"]
[{"$f":"INDIRECT(\"'関数（書き）'!C\" & COLUMN(B$1)+SUM($AD$2:$AD347))","v":0},{"$f":"INDIRECT(\"'関数（書き）'!C\" & COLUMN(C$1)+SUM($AD$2:$AD347))","v":0},{"$f":"INDIRECT(\"'関数（書き）'!C\" & COLUMN(D$1)+SUM($AD$2:$AD347))","v":0},{"$f":"INDIRECT(\"'関数（書き）'!C\" & COLUMN(E$1)+SUM($AD$2:$AD347))","v":0},{"$f":"INDIRECT(\"'関数（書き）'!C\" & COLUMN(F$1)+SUM($AD$2:$AD347))","v":0},{"$f":"INDIRECT(\"'関数（書き）'!C\" & COLUMN(G$1)+SUM($AD$2:$AD347))","v":0},{"$f":"INDIRECT(\"'関数（書き）'!C\" & COLUMN(H$1)+SUM($AD$2:$AD347))","v":0},{"$f":"INDIRECT(\"'関数（書き）'!C\" & COLUMN(I$1)+SUM($AD$2:$AD347))","v":0},{"$f":"INDIRECT(\"'関数（書き）'!C\" & COLUMN(J$1)+SUM($AD$2:$AD347))","v":0},{"$f":"INDIRECT(\"'関数（書き）'!C\" & COLUMN(K$1)+SUM($AD$2:$AD347))","v":0},{"$f":"INDIRECT(\"'関数（読み）'!C\" & COLUMN(B$1)+SUM($AD$2:$AD347))","v":0},{"$f":"INDIRECT(\"'関数（読み）'!C\" & COLUMN(C$1)+SUM($AD$2:$AD347))","v":0},{"$f":"INDIRECT(\"'関数（読み）'!C\" & COLUMN(D$1)+SUM($AD$2:$AD347))","v":0},{"$f":"INDIRECT(\"'関数（読み）'!C\" & COLUMN(E$1)+SUM($AD$2:$AD347))","v":0},{"$f":"INDIRECT(\"'関数（読み）'!C\" & COLUMN(F$1)+SUM($AD$2:$AD347))","v":0},{"$f":"INDIRECT(\"'関数（読み）'!C\" & COLUMN(G$1)+SUM($AD$2:$AD347))","v":0},{"$f":"INDIRECT(\"'関数（読み）'!C\" & COLUMN(H$1)+SUM($AD$2:$AD347))","v":0},{"$f":"INDIRECT(\"'関数（読み）'!C\" & COLUMN(I$1)+SUM($AD$2:$AD347))","v":0},{"$f":"INDIRECT(\"'関数（読み）'!C\" & COLUMN(J$1)+SUM($AD$2:$AD347))","v":0},{"$f":"INDIRECT(\"'関数（読み）'!C\" & COLUMN(K$1)+SUM($AD$2:$AD347))","v":0}]
["⑳","⑲","⑱","⑰","⑯","⑮","⑭","⑬","⑫","⑪","⑩","⑨","⑧","⑦","⑥","⑤","④","③","②","①","次の［　　　　］の部分の漢字には読みがなをひらがなで書き、カタカナは漢字に直しなさい。",11,"「漢字の博士検定試験」練習問題　",null,null,null,null,null,"←",10,"問",{"$f":"AH342+1","v":351},"～",{"$f":"SUM($AD$2:$AD347)+10","v":360},"問まで",{"$f":"COUNTIF($A$1:$T$200,T348)","v":5}]
[{"$f":"IF(A346=\"\",\"\",VLOOKUP(A346,漢字書き!$A$2:$N$506,6,0))","v":{"$error":"#N/A"}},{"$f":"IF(B346=\"\",\"\",VLOOKUP(B346,漢字書き!$A$2:$N$506,6,0))","v":{"$error":"#N/A"}},{"$f":"IF(C346=\"\",\"\",VLOOKUP(C346,漢字書き!$A$2:$N$506,6,0))","v":{"$error":"#N/A"}},{"$f":"IF(D346=\"\",\"\",VLOOKUP(D346,漢字書き!$A$2:$N$506,6,0))","v":{"$error":"#N/A"}},{"$f":"IF(E346=\"\",\"\",VLOOKUP(E346,漢字書き!$A$2:$N$506,6,0))","v":{"$error":"#N/A"}},{"$f":"IF(F346=\"\",\"\",VLOOKUP(F346,漢字書き!$A$2:$N$506,6,0))","v":{"$error":"#N/A"}},{"$f":"IF(G346=\"\",\"\",VLOOKUP(G346,漢字書き!$A$2:$N$506,6,0))","v":{"$error":"#N/A"}},{"$f":"IF(H346=\"\",\"\",VLOOKUP(H346,漢字書き!$A$2:$N$506,6,0))","v":{"$error":"#N/A"}},{"$f":"IF(I346=\"\",\"\",VLOOKUP(I346,漢字書き!$A$2:$N$506,6,0))","v":{"$error":"#N/A"}},{"$f":"IF(J346=\"\",\"\",VLOOKUP(J346,漢字書き!$A$2:$N$506,6,0))","v":{"$error":"#N/A"}},{"$f":"IF(K346=\"\",\"\",VLOOKUP(K346,漢字読み!$A$2:$O$506,6,0))","v":{"$error":"#N/A"}},{"$f":"IF(L346=\"\",\"\",VLOOKUP(L346,漢字読み!$A$2:$O$506,6,0))","v":{"$error":"#N/A"}},{"$f":"IF(M346=\"\",\"\",VLOOKUP(M346,漢字読み!$A$2:$O$506,6,0))","v":{"$error":"#N/A"}},{"$f":"IF(N346=\"\",\"\",VLOOKUP(N346,漢字読み!$A$2:$O$506,6,0))","v":{"$error":"#N/A"}},{"$f":"IF(O346=\"\",\"\",VLOOKUP(O346,漢字読み!$A$2:$O$506,6,0))","v":{"$error":"#N/A"}},{"$f":"IF(P346=\"\",\"\",VLOOKUP(P346,漢字読み!$A$2:$O$506,6,0))","v":{"$error":"#N/A"}},{"$f":"IF(Q346=\"\",\"\",VLOOKUP(Q346,漢字読み!$A$2:$O$506,6,0))","v":{"$error":"#N/A"}},{"$f":"IF(R346=\"\",\"\",VLOOKUP(R346,漢字読み!$A$2:$O$506,6,0))","v":{"$error":"#N/A"}},{"$f":"IF(S346=\"\",\"\",VLOOKUP(S346,漢字読み!$A$2:$O$506,6,0))","v":{"$error":"#N/A"}},{"$f":"IF(T346=\"\",\"\",VLOOKUP(T346,漢字読み!$A$2:$O$506,6,0))","v":{"$error":"#N/A"}},null,"級"]
[null,null,null,null,null,null,null,null,null,null,null,null,null,null,null,null,null,null,null,null,null,"名前"]
[{"$f":"IF(A346=\"\",\"\",IF(VLOOKUP(A346,漢字書き!$A$2:$N$502,7,0)=0,\"\",VLOOKUP(A346,漢字書き!$A$2:$N$502,7,0)))","v":{"$error":"#N/A"}},{"$f":"IF(B346=\"\",\"\",IF(VLOOKUP(B346,漢字書き!$A$2:$N$502,7,0)=0,\"\",VLOOKUP(B346,漢字書き!$A$2:$N$502,7,0)))","v":{"$error":"#N/A"}},{"$f":"IF(C346=\"\",\"\",IF(VLOOKUP(C346,漢字書き!$A$2:$N$502,7,0)=0,\"\",VLOOKUP(C346,漢字書き!$A$2:$N$502,7,0)))","v":{"$error":"#N/A"}},{"$f":"IF(D346=\"\",\"\",IF(VLOOKUP(D346,漢字書き!$A$2:$N$502,7,0)=0,\"\",VLOOKUP(D346,漢字書き!$A$2:$N$502,7,0)))","v":{"$error":"#N/A"}},{"$f":"IF(E346=\"\",\"\",IF(VLOOKUP(E346,漢字書き!$A$2:$N$502,7,0)=0,\"\",VLOOKUP(E346,漢字書き!$A$2:$N$502,7,0)))","v":{"$error":"#N/A"}},{"$f":"IF(F346=\"\",\"\",IF(VLOOKUP(F346,漢字書き!$A$2:$N$502,7,0)=0,\"\",VLOOKUP(F346,漢字書き!$A$2:$N$502,7,0)))","v":{"$error":"#N/A"}},{"$f":"IF(G346=\"\",\"\",IF(VLOOKUP(G346,漢字書き!$A$2:$N$502,7,0)=0,\"\",VLOOKUP(G346,漢字書き!$A$2:$N$502,7,0)))","v":{"$error":"#N/A"}},{"$f":"IF(H346=\"\",\"\",IF(VLOOKUP(H346,漢字書き!$A$2:$N$502,7,0)=0,\"\",VLOOKUP(H346,漢字書き!$A$2:$N$502,7,0)))","v":{"$error":"#N/A"}},{"$f":"IF(I346=\"\",\"\",IF(VLOOKUP(I346,漢字書き!$A$2:$N$502,7,0)=0,\"\",VLOOKUP(I346,漢字書き!$A$2:$N$502,7,0)))","v":{"$error":"#N/A"}},{"$f":"IF(J346=\"\",\"\",IF(VLOOKUP(J346,漢字書き!$A$2:$N$502,7,0)=0,\"\",VLOOKUP(J346,漢字書き!$A$2:$N$502,7,0)))","v":{"$error":"#N/A"}},{"$f":"IF(K346=\"\",\"\",IF(VLOOKUP(K346,漢字読み!$A$2:$O$502,7,0)=0,\"\",VLOOKUP(K346,漢字読み!$A$2:$O$502,7,0)))","v":{"$error":"#N/A"}},{"$f":"IF(L346=\"\",\"\",IF(VLOOKUP(L346,漢字読み!$A$2:$O$502,7,0)=0,\"\",VLOOKUP(L346,漢字読み!$A$2:$O$502,7,0)))","v":{"$error":"#N/A"}},{"$f":"IF(M346=\"\",\"\",IF(VLOOKUP(M346,漢字読み!$A$2:$O$502,7,0)=0,\"\",VLOOKUP(M346,漢字読み!$A$2:$O$502,7,0)))","v":{"$error":"#N/A"}},{"$f":"IF(N346=\"\",\"\",IF(VLOOKUP(N346,漢字読み!$A$2:$O$502,7,0)=0,\"\",VLOOKUP(N346,漢字読み!$A$2:$O$502,7,0)))","v":{"$error":"#N/A"}},{"$f":"IF(O346=\"\",\"\",IF(VLOOKUP(O346,漢字読み!$A$2:$O$502,7,0)=0,\"\",VLOOKUP(O346,漢字読み!$A$2:$O$502,7,0)))","v":{"$error":"#N/A"}},{"$f":"IF(P346=\"\",\"\",IF(VLOOKUP(P346,漢字読み!$A$2:$O$502,7,0)=0,\"\",VLOOKUP(P346,漢字読み!$A$2:$O$502,7,0)))","v":{"$error":"#N/A"}},{"$f":"IF(Q346=\"\",\"\",IF(VLOOKUP(Q346,漢字読み!$A$2:$O$502,7,0)=0,\"\",VLOOKUP(Q346,漢字読み!$A$2:$O$502,7,0)))","v":{"$error":"#N/A"}},{"$f":"IF(R346=\"\",\"\",IF(VLOOKUP(R346,漢字読み!$A$2:$O$502,7,0)=0,\"\",VLOOKUP(R346,漢字読み!$A$2:$O$502,7,0)))","v":{"$error":"#N/A"}},{"$f":"IF(S346=\"\",\"\",IF(VLOOKUP(S346,漢字読み!$A$2:$O$502,7,0)=0,\"\",VLOOKUP(S346,漢字読み!$A$2:$O$502,7,0)))","v":{"$error":"#N/A"}},{"$f":"IF(T346=\"\",\"\",IF(VLOOKUP(T346,漢字読み!$A$2:$O$502,7,0)=0,\"\",VLOOKUP(T346,漢字読み!$A$2:$O$502,7,0)))","v":{"$error":"#N/A"}},null,null,"和歌山県教育委員会"]
[{"$f":"A341","v":0},{"$f":"B341","v":0},{"$f":"C341","v":0},{"$f":"D341","v":0},{"$f":"E341","v":0},{"$f":"F341","v":0},{"$f":"G341","v":0},{"$f":"H341","v":0},{"$f":"I341","v":0},{"$f":"J341","v":0},{"$f":"K341","v":0},{"$f":"L341","v":0},{"$f":"M341","v":0},{"$f":"N341","v":0},{"$f":"O341","v":0},{"$f":"P341","v":0},{"$f":"Q341","v":0},{"$f":"R341","v":0},{"$f":"S341","v":0},{"$f":"T341","v":0}]
["⑳","⑲","⑱","⑰","⑯","⑮","⑭","⑬","⑫","⑪","⑩","⑨","⑧","⑦","⑥","⑤","④","③","②","①","次の［　　　　］の部分の漢字には読みがなをひらがなで書き、カタカナは漢字に直しなさい。",11,"「漢字の博士検定試験」練習問題　"]
[{"$f":"IF(A351=\"\",\"\",VLOOKUP(A351,漢字書き!$A$2:$N$506,6,0))","v":{"$error":"#N/A"}},{"$f":"IF(B351=\"\",\"\",VLOOKUP(B351,漢字書き!$A$2:$N$506,6,0))","v":{"$error":"#N/A"}},{"$f":"IF(C351=\"\",\"\",VLOOKUP(C351,漢字書き!$A$2:$N$506,6,0))","v":{"$error":"#N/A"}},{"$f":"IF(D351=\"\",\"\",VLOOKUP(D351,漢字書き!$A$2:$N$506,6,0))","v":{"$error":"#N/A"}},{"$f":"IF(E351=\"\",\"\",VLOOKUP(E351,漢字書き!$A$2:$N$506,6,0))","v":{"$error":"#N/A"}},{"$f":"IF(F351=\"\",\"\",VLOOKUP(F351,漢字書き!$A$2:$N$506,6,0))","v":{"$error":"#N/A"}},{"$f":"IF(G351=\"\",\"\",VLOOKUP(G351,漢字書き!$A$2:$N$506,6,0))","v":{"$error":"#N/A"}},{"$f":"IF(H351=\"\",\"\",VLOOKUP(H351,漢字書き!$A$2:$N$506,6,0))","v":{"$error":"#N/A"}},{"$f":"IF(I351=\"\",\"\",VLOOKUP(I351,漢字書き!$A$2:$N$506,6,0))","v":{"$error":"#N/A"}},{"$f":"IF(J351=\"\",\"\",VLOOKUP(J351,漢字書き!$A$2:$N$506,6,0))","v":{"$error":"#N/A"}},{"$f":"IF(K351=\"\",\"\",VLOOKUP(K351,漢字読み!$A$2:$O$506,6,0))","v":{"$error":"#N/A"}},{"$f":"IF(L351=\"\",\"\",VLOOKUP(L351,漢字読み!$A$2:$O$506,6,0))","v":{"$error":"#N/A"}},{"$f":"IF(M351=\"\",\"\",VLOOKUP(M351,漢字読み!$A$2:$O$506,6,0))","v":{"$error":"#N/A"}},{"$f":"IF(N351=\"\",\"\",VLOOKUP(N351,漢字読み!$A$2:$O$506,6,0))","v":{"$error":"#N/A"}},{"$f":"IF(O351=\"\",\"\",VLOOKUP(O351,漢字読み!$A$2:$O$506,6,0))","v":{"$error":"#N/A"}},{"$f":"IF(P351=\"\",\"\",VLOOKUP(P351,漢字読み!$A$2:$O$506,6,0))","v":{"$error":"#N/A"}},{"$f":"IF(Q351=\"\",\"\",VLOOKUP(Q351,漢字読み!$A$2:$O$506,6,0))","v":{"$error":"#N/A"}},{"$f":"IF(R351=\"\",\"\",VLOOKUP(R351,漢字読み!$A$2:$O$506,6,0))","v":{"$error":"#N/A"}},{"$f":"IF(S351=\"\",\"\",VLOOKUP(S351,漢字読み!$A$2:$O$506,6,0))","v":{"$error":"#N/A"}},{"$f":"IF(T351=\"\",\"\",VLOOKUP(T351,漢字読み!$A$2:$O$506,6,0))","v":{"$error":"#N/A"}},null,"級"]
[{"$f":"IF(A$11=\"\",\"\",VLOOKUP(A351,漢字書き!$A$2:$O$506,8,0))","v":{"$error":"#N/A"}},{"$f":"IF(B$11=\"\",\"\",VLOOKUP(B351,漢字書き!$A$2:$O$506,8,0))","v":{"$error":"#N/A"}},{"$f":"IF(C$11=\"\",\"\",VLOOKUP(C351,漢字書き!$A$2:$O$506,8,0))","v":{"$error":"#N/A"}},{"$f":"IF(D$11=\"\",\"\",VLOOKUP(D351,漢字書き!$A$2:$O$506,8,0))","v":{"$error":"#N/A"}},{"$f":"IF(E$11=\"\",\"\",VLOOKUP(E351,漢字書き!$A$2:$O$506,8,0))","v":{"$error":"#N/A"}},{"$f":"IF(F$11=\"\",\"\",VLOOKUP(F351,漢字書き!$A$2:$O$506,8,0))","v":{"$error":"#N/A"}},{"$f":"IF(G$11=\"\",\"\",VLOOKUP(G351,漢字書き!$A$2:$O$506,8,0))","v":{"$error":"#N/A"}},{"$f":"IF(H$11=\"\",\"\",VLOOKUP(H351,漢字書き!$A$2:$O$506,8,0))","v":{"$error":"#N/A"}},{"$f":"IF(I$11=\"\",\"\",VLOOKUP(I351,漢字書き!$A$2:$O$506,8,0))","v":{"$error":"#N/A"}},{"$f":"IF(J$11=\"\",\"\",VLOOKUP(J351,漢字書き!$A$2:$O$506,8,0))","v":{"$error":"#N/A"}},{"$f":"IF(K$11=\"\",\"\",VLOOKUP(K351,漢字読み!$A$2:$O$506,8,0))","v":{"$error":"#N/A"}},{"$f":"IF(L$11=\"\",\"\",VLOOKUP(L351,漢字読み!$A$2:$O$506,8,0))","v":{"$error":"#N/A"}},{"$f":"IF(M$11=\"\",\"\",VLOOKUP(M351,漢字読み!$A$2:$O$506,8,0))","v":{"$error":"#N/A"}},{"$f":"IF(N$11=\"\",\"\",VLOOKUP(N351,漢字読み!$A$2:$O$506,8,0))","v":{"$error":"#N/A"}},{"$f":"IF(O$11=\"\",\"\",VLOOKUP(O351,漢字読み!$A$2:$O$506,8,0))","v":{"$error":"#N/A"}},{"$f":"IF(P$11=\"\",\"\",VLOOKUP(P351,漢字読み!$A$2:$O$506,8,0))","v":{"$error":"#N/A"}},{"$f":"IF(Q$11=\"\",\"\",VLOOKUP(Q351,漢字読み!$A$2:$O$506,8,0))","v":{"$error":"#N/A"}},{"$f":"IF(R$11=\"\",\"\",VLOOKUP(R351,漢字読み!$A$2:$O$506,8,0))","v":{"$error":"#N/A"}},{"$f":"IF(S$11=\"\",\"\",VLOOKUP(S351,漢字読み!$A$2:$O$506,8,0))","v":{"$error":"#N/A"}},{"$f":"IF(T$11=\"\",\"\",VLOOKUP(T351,漢字読み!$A$2:$O$506,8,0))","v":{"$error":"#N/A"}},null,"名前"]
[{"$f":"IF(A351=\"\",\"\",IF(VLOOKUP(A351,漢字書き!$A$2:$N$502,7,0)=0,\"\",VLOOKUP(A351,漢字書き!$A$2:$N$502,7,0)))","v":{"$error":"#N/A"}},{"$f":"IF(B351=\"\",\"\",IF(VLOOKUP(B351,漢字書き!$A$2:$N$502,7,0)=0,\"\",VLOOKUP(B351,漢字書き!$A$2:$N$502,7,0)))","v":{"$error":"#N/A"}},{"$f":"IF(C351=\"\",\"\",IF(VLOOKUP(C351,漢字書き!$A$2:$N$502,7,0)=0,\"\",VLOOKUP(C351,漢字書き!$A$2:$N$502,7,0)))","v":{"$error":"#N/A"}},{"$f":"IF(D351=\"\",\"\",IF(VLOOKUP(D351,漢字書き!$A$2:$N$502,7,0)=0,\"\",VLOOKUP(D351,漢字書き!$A$2:$N$502,7,0)))","v":{"$error":"#N/A"}},{"$f":"IF(E351=\"\",\"\",IF(VLOOKUP(E351,漢字書き!$A$2:$N$502,7,0)=0,\"\",VLOOKUP(E351,漢字書き!$A$2:$N$502,7,0)))","v":{"$error":"#N/A"}},{"$f":"IF(F351=\"\",\"\",IF(VLOOKUP(F351,漢字書き!$A$2:$N$502,7,0)=0,\"\",VLOOKUP(F351,漢字書き!$A$2:$N$502,7,0)))","v":{"$error":"#N/A"}},{"$f":"IF(G351=\"\",\"\",IF(VLOOKUP(G351,漢字書き!$A$2:$N$502,7,0)=0,\"\",VLOOKUP(G351,漢字書き!$A$2:$N$502,7,0)))","v":{"$error":"#N/A"}},{"$f":"IF(H351=\"\",\"\",IF(VLOOKUP(H351,漢字書き!$A$2:$N$502,7,0)=0,\"\",VLOOKUP(H351,漢字書き!$A$2:$N$502,7,0)))","v":{"$error":"#N/A"}},{"$f":"IF(I351=\"\",\"\",IF(VLOOKUP(I351,漢字書き!$A$2:$N$502,7,0)=0,\"\",VLOOKUP(I351,漢字書き!$A$2:$N$502,7,0)))","v":{"$error":"#N/A"}},{"$f":"IF(J351=\"\",\"\",IF(VLOOKUP(J351,漢字書き!$A$2:$N$502,7,0)=0,\"\",VLOOKUP(J351,漢字書き!$A$2:$N$502,7,0)))","v":{"$error":"#N/A"}},{"$f":"IF(K351=\"\",\"\",IF(VLOOKUP(K351,漢字読み!$A$2:$O$502,7,0)=0,\"\",VLOOKUP(K351,漢字読み!$A$2:$O$502,7,0)))","v":{"$error":"#N/A"}},{"$f":"IF(L351=\"\",\"\",IF(VLOOKUP(L351,漢字読み!$A$2:$O$502,7,0)=0,\"\",VLOOKUP(L351,漢字読み!$A$2:$O$502,7,0)))","v":{"$error":"#N/A"}},{"$f":"IF(M351=\"\",\"\",IF(VLOOKUP(M351,漢字読み!$A$2:$O$502,7,0)=0,\"\",VLOOKUP(M351,漢字読み!$A$2:$O$502,7,0)))","v":{"$error":"#N/A"}},{"$f":"IF(N351=\"\",\"\",IF(VLOOKUP(N351,漢字読み!$A$2:$O$502,7,0)=0,\"\",VLOOKUP(N351,漢字読み!$A$2:$O$502,7,0)))","v":{"$error":"#N/A"}},{"$f":"IF(O351=\"\",\"\",IF(VLOOKUP(O351,漢字読み!$A$2:$O$502,7,0)=0,\"\",VLOOKUP(O351,漢字読み!$A$2:$O$502,7,0)))","v":{"$error":"#N/A"}},{"$f":"IF(P351=\"\",\"\",IF(VLOOKUP(P351,漢字読み!$A$2:$O$502,7,0)=0,\"\",VLOOKUP(P351,漢字読み!$A$2:$O$502,7,0)))","v":{"$error":"#N/A"}},{"$f":"IF(Q351=\"\",\"\",IF(VLOOKUP(Q351,漢字読み!$A$2:$O$502,7,0)=0,\"\",VLOOKUP(Q351,漢字読み!$A$2:$O$502,7,0)))","v":{"$error":"#N/A"}},{"$f":"IF(R351=\"\",\"\",IF(VLOOKUP(R351,漢字読み!$A$2:$O$502,7,0)=0,\"\",VLOOKUP(R351,漢字読み!$A$2:$O$502,7,0)))","v":{"$error":"#N/A"}},{"$f":"IF(S351=\"\",\"\",IF(VLOOKUP(S351,漢字読み!$A$2:$O$502,7,0)=0,\"\",VLOOKUP(S351,漢字読み!$A$2:$O$502,7,0)))","v":{"$error":"#N/A"}},{"$f":"IF(T351=\"\",\"\",IF(VLOOKUP(T351,漢字読み!$A$2:$O$502,7,0)=0,\"\",VLOOKUP(T351,漢字読み!$A$2:$O$502,7,0)))","v":{"$error":"#N/A"}},null,null,"和歌山県教育委員会"]
[{"$f":"A346","v":0},{"$f":"B346","v":0},{"$f":"C346","v":0},{"$f":"D346","v":0},{"$f":"E346","v":0},{"$f":"F346","v":0},{"$f":"G346","v":0},{"$f":"H346","v":0},{"$f":"I346","v":0},{"$f":"J346","v":0},{"$f":"K346","v":0},{"$f":"L346","v":0},{"$f":"M346","v":0},{"$f":"N346","v":0},{"$f":"O346","v":0},{"$f":"P346","v":0},{"$f":"Q346","v":0},{"$f":"R346","v":0},{"$f":"S346","v":0},{"$f":"T346","v":0}]
["⑳","⑲","⑱","⑰","⑯","⑮","⑭","⑬","⑫","⑪","⑩","⑨","⑧","⑦","⑥","⑤","④","③","②","①","次の［　　　　］の部分の漢字には読みがなをひらがなで書き、カタカナは漢字に直しなさい。",11,"「漢字の博士検定試験」練習問題　"]
[{"$f":"IF(A356=\"\",\"\",VLOOKUP(A356,漢字書き!$A$2:$N$506,6,0))","v":{"$error":"#N/A"}},{"$f":"IF(B356=\"\",\"\",VLOOKUP(B356,漢字書き!$A$2:$N$506,6,0))","v":{"$error":"#N/A"}},{"$f":"IF(C356=\"\",\"\",VLOOKUP(C356,漢字書き!$A$2:$N$506,6,0))","v":{"$error":"#N/A"}},{"$f":"IF(D356=\"\",\"\",VLOOKUP(D356,漢字書き!$A$2:$N$506,6,0))","v":{"$error":"#N/A"}},{"$f":"IF(E356=\"\",\"\",VLOOKUP(E356,漢字書き!$A$2:$N$506,6,0))","v":{"$error":"#N/A"}},{"$f":"IF(F356=\"\",\"\",VLOOKUP(F356,漢字書き!$A$2:$N$506,6,0))","v":{"$error":"#N/A"}},{"$f":"IF(G356=\"\",\"\",VLOOKUP(G356,漢字書き!$A$2:$N$506,6,0))","v":{"$error":"#N/A"}},{"$f":"IF(H356=\"\",\"\",VLOOKUP(H356,漢字書き!$A$2:$N$506,6,0))","v":{"$error":"#N/A"}},{"$f":"IF(I356=\"\",\"\",VLOOKUP(I356,漢字書き!$A$2:$N$506,6,0))","v":{"$error":"#N/A"}},{"$f":"IF(J356=\"\",\"\",VLOOKUP(J356,漢字書き!$A$2:$N$506,6,0))","v":{"$error":"#N/A"}},{"$f":"IF(K356=\"\",\"\",VLOOKUP(K356,漢字読み!$A$2:$O$506,6,0))","v":{"$error":"#N/A"}},{"$f":"IF(L356=\"\",\"\",VLOOKUP(L356,漢字読み!$A$2:$O$506,6,0))","v":{"$error":"#N/A"}},{"$f":"IF(M356=\"\",\"\",VLOOKUP(M356,漢字読み!$A$2:$O$506,6,0))","v":{"$error":"#N/A"}},{"$f":"IF(N356=\"\",\"\",VLOOKUP(N356,漢字読み!$A$2:$O$506,6,0))","v":{"$error":"#N/A"}},{"$f":"IF(O356=\"\",\"\",VLOOKUP(O356,漢字読み!$A$2:$O$506,6,0))","v":{"$error":"#N/A"}},{"$f":"IF(P356=\"\",\"\",VLOOKUP(P356,漢字読み!$A$2:$O$506,6,0))","v":{"$error":"#N/A"}},{"$f":"IF(Q356=\"\",\"\",VLOOKUP(Q356,漢字読み!$A$2:$O$506,6,0))","v":{"$error":"#N/A"}},{"$f":"IF(R356=\"\",\"\",VLOOKUP(R356,漢字読み!$A$2:$O$506,6,0))","v":{"$error":"#N/A"}},{"$f":"IF(S356=\"\",\"\",VLOOKUP(S356,漢字読み!$A$2:$O$506,6,0))","v":{"$error":"#N/A"}},{"$f":"IF(T356=\"\",\"\",VLOOKUP(T356,漢字読み!$A$2:$O$506,6,0))","v":{"$error":"#N/A"}},null,"級"]
[{"$f":"IF(A$16=\"\",\"\",VLOOKUP(A356,漢字書き!$A$2:$O$506,8,0))","v":{"$error":"#N/A"}},{"$f":"IF(B$16=\"\",\"\",VLOOKUP(B356,漢字書き!$A$2:$O$506,8,0))","v":{"$error":"#N/A"}},{"$f":"IF(C$16=\"\",\"\",VLOOKUP(C356,漢字書き!$A$2:$O$506,8,0))","v":{"$error":"#N/A"}},{"$f":"IF(D$16=\"\",\"\",VLOOKUP(D356,漢字書き!$A$2:$O$506,8,0))","v":{"$error":"#N/A"}},{"$f":"IF(E$16=\"\",\"\",VLOOKUP(E356,漢字書き!$A$2:$O$506,8,0))","v":{"$error":"#N/A"}},{"$f":"IF(F$16=\"\",\"\",VLOOKUP(F356,漢字書き!$A$2:$O$506,8,0))","v":{"$error":"#N/A"}},{"$f":"IF(G$16=\"\",\"\",VLOOKUP(G356,漢字書き!$A$2:$O$506,8,0))","v":{"$error":"#N/A"}},{"$f":"IF(H$16=\"\",\"\",VLOOKUP(H356,漢字書き!$A$2:$O$506,8,0))","v":{"$error":"#N/A"}},{"$f":"IF(I$16=\"\",\"\",VLOOKUP(I356,漢字書き!$A$2:$O$506,8,0))","v":{"$error":"#N/A"}},{"$f":"IF(J$16=\"\",\"\",VLOOKUP(J356,漢字書き!$A$2:$O$506,8,0))","v":{"$error":"#N/A"}},{"$f":"IF(K$16=\"\",\"\",VLOOKUP(K356,漢字読み!$A$2:$O$506,8,0))","v":{"$error":"#N/A"}},{"$f":"IF(L$16=\"\",\"\",VLOOKUP(L356,漢字読み!$A$2:$O$506,8,0))","v":{"$error":"#N/A"}},{"$f":"IF(M$16=\"\",\"\",VLOOKUP(M356,漢字読み!$A$2:$O$506,8,0))","v":{"$error":"#N/A"}},{"$f":"IF(N$16=\"\",\"\",VLOOKUP(N356,漢字読み!$A$2:$O$506,8,0))","v":{"$error":"#N/A"}},{"$f":"IF(O$16=\"\",\"\",VLOOKUP(O356,漢字読み!$A$2:$O$506,8,0))","v":{"$error":"#N/A"}},{"$f":"IF(P$16=\"\",\"\",VLOOKUP(P356,漢字読み!$A$2:$O$506,8,0))","v":{"$error":"#N/A"}},{"$f":"IF(Q$16=\"\",\"\",VLOOKUP(Q356,漢字読み!$A$2:$O$506,8,0))","v":{"$error":"#N/A"}},{"$f":"IF(R$16=\"\",\"\",VLOOKUP(R356,漢字読み!$A$2:$O$506,8,0))","v":{"$error":"#N/A"}},{"$f":"IF(S$16=\"\",\"\",VLOOKUP(S356,漢字読み!$A$2:$O$506,8,0))","v":{"$error":"#N/A"}},{"$f":"IF(T$16=\"\",\"\",VLOOKUP(T356,漢字読み!$A$2:$O$506,8,0))","v":{"$error":"#N/A"}},null,"名前"]
[{"$f":"IF(A356=\"\",\"\",IF(VLOOKUP(A356,漢字書き!$A$2:$N$502,7,0)=0,\"\",VLOOKUP(A356,漢字書き!$A$2:$N$502,7,0)))","v":{"$error":"#N/A"}},{"$f":"IF(B356=\"\",\"\",IF(VLOOKUP(B356,漢字書き!$A$2:$N$502,7,0)=0,\"\",VLOOKUP(B356,漢字書き!$A$2:$N$502,7,0)))","v":{"$error":"#N/A"}},{"$f":"IF(C356=\"\",\"\",IF(VLOOKUP(C356,漢字書き!$A$2:$N$502,7,0)=0,\"\",VLOOKUP(C356,漢字書き!$A$2:$N$502,7,0)))","v":{"$error":"#N/A"}},{"$f":"IF(D356=\"\",\"\",IF(VLOOKUP(D356,漢字書き!$A$2:$N$502,7,0)=0,\"\",VLOOKUP(D356,漢字書き!$A$2:$N$502,7,0)))","v":{"$error":"#N/A"}},{"$f":"IF(E356=\"\",\"\",IF(VLOOKUP(E356,漢字書き!$A$2:$N$502,7,0)=0,\"\",VLOOKUP(E356,漢字書き!$A$2:$N$502,7,0)))","v":{"$error":"#N/A"}},{"$f":"IF(F356=\"\",\"\",IF(VLOOKUP(F356,漢字書き!$A$2:$N$502,7,0)=0,\"\",VLOOKUP(F356,漢字書き!$A$2:$N$502,7,0)))","v":{"$error":"#N/A"}},{"$f":"IF(G356=\"\",\"\",IF(VLOOKUP(G356,漢字書き!$A$2:$N$502,7,0)=0,\"\",VLOOKUP(G356,漢字書き!$A$2:$N$502,7,0)))","v":{"$error":"#N/A"}},{"$f":"IF(H356=\"\",\"\",IF(VLOOKUP(H356,漢字書き!$A$2:$N$502,7,0)=0,\"\",VLOOKUP(H356,漢字書き!$A$2:$N$502,7,0)))","v":{"$error":"#N/A"}},{"$f":"IF(I356=\"\",\"\",IF(VLOOKUP(I356,漢字書き!$A$2:$N$502,7,0)=0,\"\",VLOOKUP(I356,漢字書き!$A$2:$N$502,7,0)))","v":{"$error":"#N/A"}},{"$f":"IF(J356=\"\",\"\",IF(VLOOKUP(J356,漢字書き!$A$2:$N$502,7,0)=0,\"\",VLOOKUP(J356,漢字書き!$A$2:$N$502,7,0)))","v":{"$error":"#N/A"}},{"$f":"IF(K356=\"\",\"\",IF(VLOOKUP(K356,漢字読み!$A$2:$O$502,7,0)=0,\"\",VLOOKUP(K356,漢字読み!$A$2:$O$502,7,0)))","v":{"$error":"#N/A"}},{"$f":"IF(L356=\"\",\"\",IF(VLOOKUP(L356,漢字読み!$A$2:$O$502,7,0)=0,\"\",VLOOKUP(L356,漢字読み!$A$2:$O$502,7,0)))","v":{"$error":"#N/A"}},{"$f":"IF(M356=\"\",\"\",IF(VLOOKUP(M356,漢字読み!$A$2:$O$502,7,0)=0,\"\",VLOOKUP(M356,漢字読み!$A$2:$O$502,7,0)))","v":{"$error":"#N/A"}},{"$f":"IF(N356=\"\",\"\",IF(VLOOKUP(N356,漢字読み!$A$2:$O$502,7,0)=0,\"\",VLOOKUP(N356,漢字読み!$A$2:$O$502,7,0)))","v":{"$error":"#N/A"}},{"$f":"IF(O356=\"\",\"\",IF(VLOOKUP(O356,漢字読み!$A$2:$O$502,7,0)=0,\"\",VLOOKUP(O356,漢字読み!$A$2:$O$502,7,0)))","v":{"$error":"#N/A"}},{"$f":"IF(P356=\"\",\"\",IF(VLOOKUP(P356,漢字読み!$A$2:$O$502,7,0)=0,\"\",VLOOKUP(P356,漢字読み!$A$2:$O$502,7,0)))","v":{"$error":"#N/A"}},{"$f":"IF(Q356=\"\",\"\",IF(VLOOKUP(Q356,漢字読み!$A$2:$O$502,7,0)=0,\"\",VLOOKUP(Q356,漢字読み!$A$2:$O$502,7,0)))","v":{"$error":"#N/A"}},{"$f":"IF(R356=\"\",\"\",IF(VLOOKUP(R356,漢字読み!$A$2:$O$502,7,0)=0,\"\",VLOOKUP(R356,漢字読み!$A$2:$O$502,7,0)))","v":{"$error":"#N/A"}},{"$f":"IF(S356=\"\",\"\",IF(VLOOKUP(S356,漢字読み!$A$2:$O$502,7,0)=0,\"\",VLOOKUP(S356,漢字読み!$A$2:$O$502,7,0)))","v":{"$error":"#N/A"}},{"$f":"IF(T356=\"\",\"\",IF(VLOOKUP(T356,漢字読み!$A$2:$O$502,7,0)=0,\"\",VLOOKUP(T356,漢字読み!$A$2:$O$502,7,0)))","v":{"$error":"#N/A"}},null,null,"和歌山県教育委員会"]
[{"$f":"INDIRECT(\"'関数（書き）'!C\" & COLUMN(B$1)+SUM($AD$2:$AD362))","v":0},{"$f":"INDIRECT(\"'関数（書き）'!C\" & COLUMN(C$1)+SUM($AD$2:$AD362))","v":0},{"$f":"INDIRECT(\"'関数（書き）'!C\" & COLUMN(D$1)+SUM($AD$2:$AD362))","v":0},{"$f":"INDIRECT(\"'関数（書き）'!C\" & COLUMN(E$1)+SUM($AD$2:$AD362))","v":0},{"$f":"INDIRECT(\"'関数（書き）'!C\" & COLUMN(F$1)+SUM($AD$2:$AD362))","v":0},{"$f":"INDIRECT(\"'関数（書き）'!C\" & COLUMN(G$1)+SUM($AD$2:$AD362))","v":0},{"$f":"INDIRECT(\"'関数（書き）'!C\" & COLUMN(H$1)+SUM($AD$2:$AD362))","v":0},{"$f":"INDIRECT(\"'関数（書き）'!C\" & COLUMN(I$1)+SUM($AD$2:$AD362))","v":0},{"$f":"INDIRECT(\"'関数（書き）'!C\" & COLUMN(J$1)+SUM($AD$2:$AD362))","v":0},{"$f":"INDIRECT(\"'関数（書き）'!C\" & COLUMN(K$1)+SUM($AD$2:$AD362))","v":0},{"$f":"INDIRECT(\"'関数（読み）'!C\" & COLUMN(B$1)+SUM($AD$2:$AD362))","v":0},{"$f":"INDIRECT(\"'関数（読み）'!C\" & COLUMN(C$1)+SUM($AD$2:$AD362))","v":0},{"$f":"INDIRECT(\"'関数（読み）'!C\" & COLUMN(D$1)+SUM($AD$2:$AD362))","v":0},{"$f":"INDIRECT(\"'関数（読み）'!C\" & COLUMN(E$1)+SUM($AD$2:$AD362))","v":0},{"$f":"INDIRECT(\"'関数（読み）'!C\" & COLUMN(F$1)+SUM($AD$2:$AD362))","v":0},{"$f":"INDIRECT(\"'関数（読み）'!C\" & COLUMN(G$1)+SUM($AD$2:$AD362))","v":0},{"$f":"INDIRECT(\"'関数（読み）'!C\" & COLUMN(H$1)+SUM($AD$2:$AD362))","v":0},{"$f":"INDIRECT(\"'関数（読み）'!C\" & COLUMN(I$1)+SUM($AD$2:$AD362))","v":0},{"$f":"INDIRECT(\"'関数（読み）'!C\" & COLUMN(J$1)+SUM($AD$2:$AD362))","v":0},{"$f":"INDIRECT(\"'関数（読み）'!C\" & COLUMN(K$1)+SUM($AD$2:$AD362))","v":0}]
["⑳","⑲","⑱","⑰","⑯","⑮","⑭","⑬","⑫","⑪","⑩","⑨","⑧","⑦","⑥","⑤","④","③","②","①","次の［　　　　］の部分の漢字には読みがなをひらがなで書き、カタカナは漢字に直しなさい。",11,"「漢字の博士検定試験」練習問題　",null,null,null,null,null,"←",10,"問",{"$f":"AH347+1","v":361},"～",{"$f":"SUM($AD$2:$AD362)+10","v":370},"問まで",{"$f":"COUNTIF($A$1:$T$200,T363)","v":5}]
[{"$f":"IF(A361=\"\",\"\",VLOOKUP(A361,漢字書き!$A$2:$N$506,6,0))","v":{"$error":"#N/A"}},{"$f":"IF(B361=\"\",\"\",VLOOKUP(B361,漢字書き!$A$2:$N$506,6,0))","v":{"$error":"#N/A"}},{"$f":"IF(C361=\"\",\"\",VLOOKUP(C361,漢字書き!$A$2:$N$506,6,0))","v":{"$error":"#N/A"}},{"$f":"IF(D361=\"\",\"\",VLOOKUP(D361,漢字書き!$A$2:$N$506,6,0))","v":{"$error":"#N/A"}},{"$f":"IF(E361=\"\",\"\",VLOOKUP(E361,漢字書き!$A$2:$N$506,6,0))","v":{"$error":"#N/A"}},{"$f":"IF(F361=\"\",\"\",VLOOKUP(F361,漢字書き!$A$2:$N$506,6,0))","v":{"$error":"#N/A"}},{"$f":"IF(G361=\"\",\"\",VLOOKUP(G361,漢字書き!$A$2:$N$506,6,0))","v":{"$error":"#N/A"}},{"$f":"IF(H361=\"\",\"\",VLOOKUP(H361,漢字書き!$A$2:$N$506,6,0))","v":{"$error":"#N/A"}},{"$f":"IF(I361=\"\",\"\",VLOOKUP(I361,漢字書き!$A$2:$N$506,6,0))","v":{"$error":"#N/A"}},{"$f":"IF(J361=\"\",\"\",VLOOKUP(J361,漢字書き!$A$2:$N$506,6,0))","v":{"$error":"#N/A"}},{"$f":"IF(K361=\"\",\"\",VLOOKUP(K361,漢字読み!$A$2:$O$506,6,0))","v":{"$error":"#N/A"}},{"$f":"IF(L361=\"\",\"\",VLOOKUP(L361,漢字読み!$A$2:$O$506,6,0))","v":{"$error":"#N/A"}},{"$f":"IF(M361=\"\",\"\",VLOOKUP(M361,漢字読み!$A$2:$O$506,6,0))","v":{"$error":"#N/A"}},{"$f":"IF(N361=\"\",\"\",VLOOKUP(N361,漢字読み!$A$2:$O$506,6,0))","v":{"$error":"#N/A"}},{"$f":"IF(O361=\"\",\"\",VLOOKUP(O361,漢字読み!$A$2:$O$506,6,0))","v":{"$error":"#N/A"}},{"$f":"IF(P361=\"\",\"\",VLOOKUP(P361,漢字読み!$A$2:$O$506,6,0))","v":{"$error":"#N/A"}},{"$f":"IF(Q361=\"\",\"\",VLOOKUP(Q361,漢字読み!$A$2:$O$506,6,0))","v":{"$error":"#N/A"}},{"$f":"IF(R361=\"\",\"\",VLOOKUP(R361,漢字読み!$A$2:$O$506,6,0))","v":{"$error":"#N/A"}},{"$f":"IF(S361=\"\",\"\",VLOOKUP(S361,漢字読み!$A$2:$O$506,6,0))","v":{"$error":"#N/A"}},{"$f":"IF(T361=\"\",\"\",VLOOKUP(T361,漢字読み!$A$2:$O$506,6,0))","v":{"$error":"#N/A"}},null,"級"]
[null,null,null,null,null,null,null,null,null,null,null,null,null,null,null,null,null,null,null,null,null,"名前"]
[{"$f":"IF(A361=\"\",\"\",IF(VLOOKUP(A361,漢字書き!$A$2:$N$502,7,0)=0,\"\",VLOOKUP(A361,漢字書き!$A$2:$N$502,7,0)))","v":{"$error":"#N/A"}},{"$f":"IF(B361=\"\",\"\",IF(VLOOKUP(B361,漢字書き!$A$2:$N$502,7,0)=0,\"\",VLOOKUP(B361,漢字書き!$A$2:$N$502,7,0)))","v":{"$error":"#N/A"}},{"$f":"IF(C361=\"\",\"\",IF(VLOOKUP(C361,漢字書き!$A$2:$N$502,7,0)=0,\"\",VLOOKUP(C361,漢字書き!$A$2:$N$502,7,0)))","v":{"$error":"#N/A"}},{"$f":"IF(D361=\"\",\"\",IF(VLOOKUP(D361,漢字書き!$A$2:$N$502,7,0)=0,\"\",VLOOKUP(D361,漢字書き!$A$2:$N$502,7,0)))","v":{"$error":"#N/A"}},{"$f":"IF(E361=\"\",\"\",IF(VLOOKUP(E361,漢字書き!$A$2:$N$502,7,0)=0,\"\",VLOOKUP(E361,漢字書き!$A$2:$N$502,7,0)))","v":{"$error":"#N/A"}},{"$f":"IF(F361=\"\",\"\",IF(VLOOKUP(F361,漢字書き!$A$2:$N$502,7,0)=0,\"\",VLOOKUP(F361,漢字書き!$A$2:$N$502,7,0)))","v":{"$error":"#N/A"}},{"$f":"IF(G361=\"\",\"\",IF(VLOOKUP(G361,漢字書き!$A$2:$N$502,7,0)=0,\"\",VLOOKUP(G361,漢字書き!$A$2:$N$502,7,0)))","v":{"$error":"#N/A"}},{"$f":"IF(H361=\"\",\"\",IF(VLOOKUP(H361,漢字書き!$A$2:$N$502,7,0)=0,\"\",VLOOKUP(H361,漢字書き!$A$2:$N$502,7,0)))","v":{"$error":"#N/A"}},{"$f":"IF(I361=\"\",\"\",IF(VLOOKUP(I361,漢字書き!$A$2:$N$502,7,0)=0,\"\",VLOOKUP(I361,漢字書き!$A$2:$N$502,7,0)))","v":{"$error":"#N/A"}},{"$f":"IF(J361=\"\",\"\",IF(VLOOKUP(J361,漢字書き!$A$2:$N$502,7,0)=0,\"\",VLOOKUP(J361,漢字書き!$A$2:$N$502,7,0)))","v":{"$error":"#N/A"}},{"$f":"IF(K361=\"\",\"\",IF(VLOOKUP(K361,漢字読み!$A$2:$O$502,7,0)=0,\"\",VLOOKUP(K361,漢字読み!$A$2:$O$502,7,0)))","v":{"$error":"#N/A"}},{"$f":"IF(L361=\"\",\"\",IF(VLOOKUP(L361,漢字読み!$A$2:$O$502,7,0)=0,\"\",VLOOKUP(L361,漢字読み!$A$2:$O$502,7,0)))","v":{"$error":"#N/A"}},{"$f":"IF(M361=\"\",\"\",IF(VLOOKUP(M361,漢字読み!$A$2:$O$502,7,0)=0,\"\",VLOOKUP(M361,漢字読み!$A$2:$O$502,7,0)))","v":{"$error":"#N/A"}},{"$f":"IF(N361=\"\",\"\",IF(VLOOKUP(N361,漢字読み!$A$2:$O$502,7,0)=0,\"\",VLOOKUP(N361,漢字読み!$A$2:$O$502,7,0)))","v":{"$error":"#N/A"}},{"$f":"IF(O361=\"\",\"\",IF(VLOOKUP(O361,漢字読み!$A$2:$O$502,7,0)=0,\"\",VLOOKUP(O361,漢字読み!$A$2:$O$502,7,0)))","v":{"$error":"#N/A"}},{"$f":"IF(P361=\"\",\"\",IF(VLOOKUP(P361,漢字読み!$A$2:$O$502,7,0)=0,\"\",VLOOKUP(P361,漢字読み!$A$2:$O$502,7,0)))","v":{"$error":"#N/A"}},{"$f":"IF(Q361=\"\",\"\",IF(VLOOKUP(Q361,漢字読み!$A$2:$O$502,7,0)=0,\"\",VLOOKUP(Q361,漢字読み!$A$2:$O$502,7,0)))","v":{"$error":"#N/A"}},{"$f":"IF(R361=\"\",\"\",IF(VLOOKUP(R361,漢字読み!$A$2:$O$502,7,0)=0,\"\",VLOOKUP(R361,漢字読み!$A$2:$O$502,7,0)))","v":{"$error":"#N/A"}},{"$f":"IF(S361=\"\",\"\",IF(VLOOKUP(S361,漢字読み!$A$2:$O$502,7,0)=0,\"\",VLOOKUP(S361,漢字読み!$A$2:$O$502,7,0)))","v":{"$error":"#N/A"}},{"$f":"IF(T361=\"\",\"\",IF(VLOOKUP(T361,漢字読み!$A$2:$O$502,7,0)=0,\"\",VLOOKUP(T361,漢字読み!$A$2:$O$502,7,0)))","v":{"$error":"#N/A"}},null,null,"和歌山県教育委員会"]
[{"$f":"INDIRECT(\"'関数（書き）'!C\" & COLUMN(B$1)+SUM($AD$2:$AD367))","v":0},{"$f":"INDIRECT(\"'関数（書き）'!C\" & COLUMN(C$1)+SUM($AD$2:$AD367))","v":0},{"$f":"INDIRECT(\"'関数（書き）'!C\" & COLUMN(D$1)+SUM($AD$2:$AD367))","v":0},{"$f":"INDIRECT(\"'関数（書き）'!C\" & COLUMN(E$1)+SUM($AD$2:$AD367))","v":0},{"$f":"INDIRECT(\"'関数（書き）'!C\" & COLUMN(F$1)+SUM($AD$2:$AD367))","v":0},{"$f":"INDIRECT(\"'関数（書き）'!C\" & COLUMN(G$1)+SUM($AD$2:$AD367))","v":0},{"$f":"INDIRECT(\"'関数（書き）'!C\" & COLUMN(H$1)+SUM($AD$2:$AD367))","v":0},{"$f":"INDIRECT(\"'関数（書き）'!C\" & COLUMN(I$1)+SUM($AD$2:$AD367))","v":0},{"$f":"INDIRECT(\"'関数（書き）'!C\" & COLUMN(J$1)+SUM($AD$2:$AD367))","v":0},{"$f":"INDIRECT(\"'関数（書き）'!C\" & COLUMN(K$1)+SUM($AD$2:$AD367))","v":0},{"$f":"INDIRECT(\"'関数（読み）'!C\" & COLUMN(B$1)+SUM($AD$2:$AD367))","v":0},{"$f":"INDIRECT(\"'関数（読み）'!C\" & COLUMN(C$1)+SUM($AD$2:$AD367))","v":0},{"$f":"INDIRECT(\"'関数（読み）'!C\" & COLUMN(D$1)+SUM($AD$2:$AD367))","v":0},{"$f":"INDIRECT(\"'関数（読み）'!C\" & COLUMN(E$1)+SUM($AD$2:$AD367))","v":0},{"$f":"INDIRECT(\"'関数（読み）'!C\" & COLUMN(F$1)+SUM($AD$2:$AD367))","v":0},{"$f":"INDIRECT(\"'関数（読み）'!C\" & COLUMN(G$1)+SUM($AD$2:$AD367))","v":0},{"$f":"INDIRECT(\"'関数（読み）'!C\" & COLUMN(H$1)+SUM($AD$2:$AD367))","v":0},{"$f":"INDIRECT(\"'関数（読み）'!C\" & COLUMN(I$1)+SUM($AD$2:$AD367))","v":0},{"$f":"INDIRECT(\"'関数（読み）'!C\" & COLUMN(J$1)+SUM($AD$2:$AD367))","v":0},{"$f":"INDIRECT(\"'関数（読み）'!C\" & COLUMN(K$1)+SUM($AD$2:$AD367))","v":0}]
["⑳","⑲","⑱","⑰","⑯","⑮","⑭","⑬","⑫","⑪","⑩","⑨","⑧","⑦","⑥","⑤","④","③","②","①","次の［　　　　］の部分の漢字には読みがなをひらがなで書き、カタカナは漢字に直しなさい。",11,"「漢字の博士検定試験」練習問題　",null,null,null,null,null,"←",10,"問",{"$f":"AH362+1","v":371},"～",{"$f":"SUM($AD$2:$AD367)+10","v":380},"問まで",{"$f":"COUNTIF($A$1:$T$200,T368)","v":5}]
[{"$f":"IF(A366=\"\",\"\",VLOOKUP(A366,漢字書き!$A$2:$N$506,6,0))","v":{"$error":"#N/A"}},{"$f":"IF(B366=\"\",\"\",VLOOKUP(B366,漢字書き!$A$2:$N$506,6,0))","v":{"$error":"#N/A"}},{"$f":"IF(C366=\"\",\"\",VLOOKUP(C366,漢字書き!$A$2:$N$506,6,0))","v":{"$error":"#N/A"}},{"$f":"IF(D366=\"\",\"\",VLOOKUP(D366,漢字書き!$A$2:$N$506,6,0))","v":{"$error":"#N/A"}},{"$f":"IF(E366=\"\",\"\",VLOOKUP(E366,漢字書き!$A$2:$N$506,6,0))","v":{"$error":"#N/A"}},{"$f":"IF(F366=\"\",\"\",VLOOKUP(F366,漢字書き!$A$2:$N$506,6,0))","v":{"$error":"#N/A"}},{"$f":"IF(G366=\"\",\"\",VLOOKUP(G366,漢字書き!$A$2:$N$506,6,0))","v":{"$error":"#N/A"}},{"$f":"IF(H366=\"\",\"\",VLOOKUP(H366,漢字書き!$A$2:$N$506,6,0))","v":{"$error":"#N/A"}},{"$f":"IF(I366=\"\",\"\",VLOOKUP(I366,漢字書き!$A$2:$N$506,6,0))","v":{"$error":"#N/A"}},{"$f":"IF(J366=\"\",\"\",VLOOKUP(J366,漢字書き!$A$2:$N$506,6,0))","v":{"$error":"#N/A"}},{"$f":"IF(K366=\"\",\"\",VLOOKUP(K366,漢字読み!$A$2:$O$506,6,0))","v":{"$error":"#N/A"}},{"$f":"IF(L366=\"\",\"\",VLOOKUP(L366,漢字読み!$A$2:$O$506,6,0))","v":{"$error":"#N/A"}},{"$f":"IF(M366=\"\",\"\",VLOOKUP(M366,漢字読み!$A$2:$O$506,6,0))","v":{"$error":"#N/A"}},{"$f":"IF(N366=\"\",\"\",VLOOKUP(N366,漢字読み!$A$2:$O$506,6,0))","v":{"$error":"#N/A"}},{"$f":"IF(O366=\"\",\"\",VLOOKUP(O366,漢字読み!$A$2:$O$506,6,0))","v":{"$error":"#N/A"}},{"$f":"IF(P366=\"\",\"\",VLOOKUP(P366,漢字読み!$A$2:$O$506,6,0))","v":{"$error":"#N/A"}},{"$f":"IF(Q366=\"\",\"\",VLOOKUP(Q366,漢字読み!$A$2:$O$506,6,0))","v":{"$error":"#N/A"}},{"$f":"IF(R366=\"\",\"\",VLOOKUP(R366,漢字読み!$A$2:$O$506,6,0))","v":{"$error":"#N/A"}},{"$f":"IF(S366=\"\",\"\",VLOOKUP(S366,漢字読み!$A$2:$O$506,6,0))","v":{"$error":"#N/A"}},{"$f":"IF(T366=\"\",\"\",VLOOKUP(T366,漢字読み!$A$2:$O$506,6,0))","v":{"$error":"#N/A"}},null,"級"]
[null,null,null,null,null,null,null,null,null,null,null,null,null,null,null,null,null,null,null,null,null,"名前"]
[{"$f":"IF(A366=\"\",\"\",IF(VLOOKUP(A366,漢字書き!$A$2:$N$502,7,0)=0,\"\",VLOOKUP(A366,漢字書き!$A$2:$N$502,7,0)))","v":{"$error":"#N/A"}},{"$f":"IF(B366=\"\",\"\",IF(VLOOKUP(B366,漢字書き!$A$2:$N$502,7,0)=0,\"\",VLOOKUP(B366,漢字書き!$A$2:$N$502,7,0)))","v":{"$error":"#N/A"}},{"$f":"IF(C366=\"\",\"\",IF(VLOOKUP(C366,漢字書き!$A$2:$N$502,7,0)=0,\"\",VLOOKUP(C366,漢字書き!$A$2:$N$502,7,0)))","v":{"$error":"#N/A"}},{"$f":"IF(D366=\"\",\"\",IF(VLOOKUP(D366,漢字書き!$A$2:$N$502,7,0)=0,\"\",VLOOKUP(D366,漢字書き!$A$2:$N$502,7,0)))","v":{"$error":"#N/A"}},{"$f":"IF(E366=\"\",\"\",IF(VLOOKUP(E366,漢字書き!$A$2:$N$502,7,0)=0,\"\",VLOOKUP(E366,漢字書き!$A$2:$N$502,7,0)))","v":{"$error":"#N/A"}},{"$f":"IF(F366=\"\",\"\",IF(VLOOKUP(F366,漢字書き!$A$2:$N$502,7,0)=0,\"\",VLOOKUP(F366,漢字書き!$A$2:$N$502,7,0)))","v":{"$error":"#N/A"}},{"$f":"IF(G366=\"\",\"\",IF(VLOOKUP(G366,漢字書き!$A$2:$N$502,7,0)=0,\"\",VLOOKUP(G366,漢字書き!$A$2:$N$502,7,0)))","v":{"$error":"#N/A"}},{"$f":"IF(H366=\"\",\"\",IF(VLOOKUP(H366,漢字書き!$A$2:$N$502,7,0)=0,\"\",VLOOKUP(H366,漢字書き!$A$2:$N$502,7,0)))","v":{"$error":"#N/A"}},{"$f":"IF(I366=\"\",\"\",IF(VLOOKUP(I366,漢字書き!$A$2:$N$502,7,0)=0,\"\",VLOOKUP(I366,漢字書き!$A$2:$N$502,7,0)))","v":{"$error":"#N/A"}},{"$f":"IF(J366=\"\",\"\",IF(VLOOKUP(J366,漢字書き!$A$2:$N$502,7,0)=0,\"\",VLOOKUP(J366,漢字書き!$A$2:$N$502,7,0)))","v":{"$error":"#N/A"}},{"$f":"IF(K366=\"\",\"\",IF(VLOOKUP(K366,漢字読み!$A$2:$O$502,7,0)=0,\"\",VLOOKUP(K366,漢字読み!$A$2:$O$502,7,0)))","v":{"$error":"#N/A"}},{"$f":"IF(L366=\"\",\"\",IF(VLOOKUP(L366,漢字読み!$A$2:$O$502,7,0)=0,\"\",VLOOKUP(L366,漢字読み!$A$2:$O$502,7,0)))","v":{"$error":"#N/A"}},{"$f":"IF(M366=\"\",\"\",IF(VLOOKUP(M366,漢字読み!$A$2:$O$502,7,0)=0,\"\",VLOOKUP(M366,漢字読み!$A$2:$O$502,7,0)))","v":{"$error":"#N/A"}},{"$f":"IF(N366=\"\",\"\",IF(VLOOKUP(N366,漢字読み!$A$2:$O$502,7,0)=0,\"\",VLOOKUP(N366,漢字読み!$A$2:$O$502,7,0)))","v":{"$error":"#N/A"}},{"$f":"IF(O366=\"\",\"\",IF(VLOOKUP(O366,漢字読み!$A$2:$O$502,7,0)=0,\"\",VLOOKUP(O366,漢字読み!$A$2:$O$502,7,0)))","v":{"$error":"#N/A"}},{"$f":"IF(P366=\"\",\"\",IF(VLOOKUP(P366,漢字読み!$A$2:$O$502,7,0)=0,\"\",VLOOKUP(P366,漢字読み!$A$2:$O$502,7,0)))","v":{"$error":"#N/A"}},{"$f":"IF(Q366=\"\",\"\",IF(VLOOKUP(Q366,漢字読み!$A$2:$O$502,7,0)=0,\"\",VLOOKUP(Q366,漢字読み!$A$2:$O$502,7,0)))","v":{"$error":"#N/A"}},{"$f":"IF(R366=\"\",\"\",IF(VLOOKUP(R366,漢字読み!$A$2:$O$502,7,0)=0,\"\",VLOOKUP(R366,漢字読み!$A$2:$O$502,7,0)))","v":{"$error":"#N/A"}},{"$f":"IF(S366=\"\",\"\",IF(VLOOKUP(S366,漢字読み!$A$2:$O$502,7,0)=0,\"\",VLOOKUP(S366,漢字読み!$A$2:$O$502,7,0)))","v":{"$error":"#N/A"}},{"$f":"IF(T366=\"\",\"\",IF(VLOOKUP(T366,漢字読み!$A$2:$O$502,7,0)=0,\"\",VLOOKUP(T366,漢字読み!$A$2:$O$502,7,0)))","v":{"$error":"#N/A"}},null,null,"和歌山県教育委員会"]
[{"$f":"A361","v":0},{"$f":"B361","v":0},{"$f":"C361","v":0},{"$f":"D361","v":0},{"$f":"E361","v":0},{"$f":"F361","v":0},{"$f":"G361","v":0},{"$f":"H361","v":0},{"$f":"I361","v":0},{"$f":"J361","v":0},{"$f":"K361","v":0},{"$f":"L361","v":0},{"$f":"M361","v":0},{"$f":"N361","v":0},{"$f":"O361","v":0},{"$f":"P361","v":0},{"$f":"Q361","v":0},{"$f":"R361","v":0},{"$f":"S361","v":0},{"$f":"T361","v":0}]
["⑳","⑲","⑱","⑰","⑯","⑮","⑭","⑬","⑫","⑪","⑩","⑨","⑧","⑦","⑥","⑤","④","③","②","①","次の［　　　　］の部分の漢字には読みがなをひらがなで書き、カタカナは漢字に直しなさい。",11,"「漢字の博士検定試験」練習問題　"]
[{"$f":"IF(A371=\"\",\"\",VLOOKUP(A371,漢字書き!$A$2:$N$506,6,0))","v":{"$error":"#N/A"}},{"$f":"IF(B371=\"\",\"\",VLOOKUP(B371,漢字書き!$A$2:$N$506,6,0))","v":{"$error":"#N/A"}},{"$f":"IF(C371=\"\",\"\",VLOOKUP(C371,漢字書き!$A$2:$N$506,6,0))","v":{"$error":"#N/A"}},{"$f":"IF(D371=\"\",\"\",VLOOKUP(D371,漢字書き!$A$2:$N$506,6,0))","v":{"$error":"#N/A"}},{"$f":"IF(E371=\"\",\"\",VLOOKUP(E371,漢字書き!$A$2:$N$506,6,0))","v":{"$error":"#N/A"}},{"$f":"IF(F371=\"\",\"\",VLOOKUP(F371,漢字書き!$A$2:$N$506,6,0))","v":{"$error":"#N/A"}},{"$f":"IF(G371=\"\",\"\",VLOOKUP(G371,漢字書き!$A$2:$N$506,6,0))","v":{"$error":"#N/A"}},{"$f":"IF(H371=\"\",\"\",VLOOKUP(H371,漢字書き!$A$2:$N$506,6,0))","v":{"$error":"#N/A"}},{"$f":"IF(I371=\"\",\"\",VLOOKUP(I371,漢字書き!$A$2:$N$506,6,0))","v":{"$error":"#N/A"}},{"$f":"IF(J371=\"\",\"\",VLOOKUP(J371,漢字書き!$A$2:$N$506,6,0))","v":{"$error":"#N/A"}},{"$f":"IF(K371=\"\",\"\",VLOOKUP(K371,漢字読み!$A$2:$O$506,6,0))","v":{"$error":"#N/A"}},{"$f":"IF(L371=\"\",\"\",VLOOKUP(L371,漢字読み!$A$2:$O$506,6,0))","v":{"$error":"#N/A"}},{"$f":"IF(M371=\"\",\"\",VLOOKUP(M371,漢字読み!$A$2:$O$506,6,0))","v":{"$error":"#N/A"}},{"$f":"IF(N371=\"\",\"\",VLOOKUP(N371,漢字読み!$A$2:$O$506,6,0))","v":{"$error":"#N/A"}},{"$f":"IF(O371=\"\",\"\",VLOOKUP(O371,漢字読み!$A$2:$O$506,6,0))","v":{"$error":"#N/A"}},{"$f":"IF(P371=\"\",\"\",VLOOKUP(P371,漢字読み!$A$2:$O$506,6,0))","v":{"$error":"#N/A"}},{"$f":"IF(Q371=\"\",\"\",VLOOKUP(Q371,漢字読み!$A$2:$O$506,6,0))","v":{"$error":"#N/A"}},{"$f":"IF(R371=\"\",\"\",VLOOKUP(R371,漢字読み!$A$2:$O$506,6,0))","v":{"$error":"#N/A"}},{"$f":"IF(S371=\"\",\"\",VLOOKUP(S371,漢字読み!$A$2:$O$506,6,0))","v":{"$error":"#N/A"}},{"$f":"IF(T371=\"\",\"\",VLOOKUP(T371,漢字読み!$A$2:$O$506,6,0))","v":{"$error":"#N/A"}},null,"級"]
[{"$f":"IF(A$11=\"\",\"\",VLOOKUP(A371,漢字書き!$A$2:$O$506,8,0))","v":{"$error":"#N/A"}},{"$f":"IF(B$11=\"\",\"\",VLOOKUP(B371,漢字書き!$A$2:$O$506,8,0))","v":{"$error":"#N/A"}},{"$f":"IF(C$11=\"\",\"\",VLOOKUP(C371,漢字書き!$A$2:$O$506,8,0))","v":{"$error":"#N/A"}},{"$f":"IF(D$11=\"\",\"\",VLOOKUP(D371,漢字書き!$A$2:$O$506,8,0))","v":{"$error":"#N/A"}},{"$f":"IF(E$11=\"\",\"\",VLOOKUP(E371,漢字書き!$A$2:$O$506,8,0))","v":{"$error":"#N/A"}},{"$f":"IF(F$11=\"\",\"\",VLOOKUP(F371,漢字書き!$A$2:$O$506,8,0))","v":{"$error":"#N/A"}},{"$f":"IF(G$11=\"\",\"\",VLOOKUP(G371,漢字書き!$A$2:$O$506,8,0))","v":{"$error":"#N/A"}},{"$f":"IF(H$11=\"\",\"\",VLOOKUP(H371,漢字書き!$A$2:$O$506,8,0))","v":{"$error":"#N/A"}},{"$f":"IF(I$11=\"\",\"\",VLOOKUP(I371,漢字書き!$A$2:$O$506,8,0))","v":{"$error":"#N/A"}},{"$f":"IF(J$11=\"\",\"\",VLOOKUP(J371,漢字書き!$A$2:$O$506,8,0))","v":{"$error":"#N/A"}},{"$f":"IF(K$11=\"\",\"\",VLOOKUP(K371,漢字読み!$A$2:$O$506,8,0))","v":{"$error":"#N/A"}},{"$f":"IF(L$11=\"\",\"\",VLOOKUP(L371,漢字読み!$A$2:$O$506,8,0))","v":{"$error":"#N/A"}},{"$f":"IF(M$11=\"\",\"\",VLOOKUP(M371,漢字読み!$A$2:$O$506,8,0))","v":{"$error":"#N/A"}},{"$f":"IF(N$11=\"\",\"\",VLOOKUP(N371,漢字読み!$A$2:$O$506,8,0))","v":{"$error":"#N/A"}},{"$f":"IF(O$11=\"\",\"\",VLOOKUP(O371,漢字読み!$A$2:$O$506,8,0))","v":{"$error":"#N/A"}},{"$f":"IF(P$11=\"\",\"\",VLOOKUP(P371,漢字読み!$A$2:$O$506,8,0))","v":{"$error":"#N/A"}},{"$f":"IF(Q$11=\"\",\"\",VLOOKUP(Q371,漢字読み!$A$2:$O$506,8,0))","v":{"$error":"#N/A"}},{"$f":"IF(R$11=\"\",\"\",VLOOKUP(R371,漢字読み!$A$2:$O$506,8,0))","v":{"$error":"#N/A"}},{"$f":"IF(S$11=\"\",\"\",VLOOKUP(S371,漢字読み!$A$2:$O$506,8,0))","v":{"$error":"#N/A"}},{"$f":"IF(T$11=\"\",\"\",VLOOKUP(T371,漢字読み!$A$2:$O$506,8,0))","v":{"$error":"#N/A"}},null,"名前"]
[{"$f":"IF(A371=\"\",\"\",IF(VLOOKUP(A371,漢字書き!$A$2:$N$502,7,0)=0,\"\",VLOOKUP(A371,漢字書き!$A$2:$N$502,7,0)))","v":{"$error":"#N/A"}},{"$f":"IF(B371=\"\",\"\",IF(VLOOKUP(B371,漢字書き!$A$2:$N$502,7,0)=0,\"\",VLOOKUP(B371,漢字書き!$A$2:$N$502,7,0)))","v":{"$error":"#N/A"}},{"$f":"IF(C371=\"\",\"\",IF(VLOOKUP(C371,漢字書き!$A$2:$N$502,7,0)=0,\"\",VLOOKUP(C371,漢字書き!$A$2:$N$502,7,0)))","v":{"$error":"#N/A"}},{"$f":"IF(D371=\"\",\"\",IF(VLOOKUP(D371,漢字書き!$A$2:$N$502,7,0)=0,\"\",VLOOKUP(D371,漢字書き!$A$2:$N$502,7,0)))","v":{"$error":"#N/A"}},{"$f":"IF(E371=\"\",\"\",IF(VLOOKUP(E371,漢字書き!$A$2:$N$502,7,0)=0,\"\",VLOOKUP(E371,漢字書き!$A$2:$N$502,7,0)))","v":{"$error":"#N/A"}},{"$f":"IF(F371=\"\",\"\",IF(VLOOKUP(F371,漢字書き!$A$2:$N$502,7,0)=0,\"\",VLOOKUP(F371,漢字書き!$A$2:$N$502,7,0)))","v":{"$error":"#N/A"}},{"$f":"IF(G371=\"\",\"\",IF(VLOOKUP(G371,漢字書き!$A$2:$N$502,7,0)=0,\"\",VLOOKUP(G371,漢字書き!$A$2:$N$502,7,0)))","v":{"$error":"#N/A"}},{"$f":"IF(H371=\"\",\"\",IF(VLOOKUP(H371,漢字書き!$A$2:$N$502,7,0)=0,\"\",VLOOKUP(H371,漢字書き!$A$2:$N$502,7,0)))","v":{"$error":"#N/A"}},{"$f":"IF(I371=\"\",\"\",IF(VLOOKUP(I371,漢字書き!$A$2:$N$502,7,0)=0,\"\",VLOOKUP(I371,漢字書き!$A$2:$N$502,7,0)))","v":{"$error":"#N/A"}},{"$f":"IF(J371=\"\",\"\",IF(VLOOKUP(J371,漢字書き!$A$2:$N$502,7,0)=0,\"\",VLOOKUP(J371,漢字書き!$A$2:$N$502,7,0)))","v":{"$error":"#N/A"}},{"$f":"IF(K371=\"\",\"\",IF(VLOOKUP(K371,漢字読み!$A$2:$O$502,7,0)=0,\"\",VLOOKUP(K371,漢字読み!$A$2:$O$502,7,0)))","v":{"$error":"#N/A"}},{"$f":"IF(L371=\"\",\"\",IF(VLOOKUP(L371,漢字読み!$A$2:$O$502,7,0)=0,\"\",VLOOKUP(L371,漢字読み!$A$2:$O$502,7,0)))","v":{"$error":"#N/A"}},{"$f":"IF(M371=\"\",\"\",IF(VLOOKUP(M371,漢字読み!$A$2:$O$502,7,0)=0,\"\",VLOOKUP(M371,漢字読み!$A$2:$O$502,7,0)))","v":{"$error":"#N/A"}},{"$f":"IF(N371=\"\",\"\",IF(VLOOKUP(N371,漢字読み!$A$2:$O$502,7,0)=0,\"\",VLOOKUP(N371,漢字読み!$A$2:$O$502,7,0)))","v":{"$error":"#N/A"}},{"$f":"IF(O371=\"\",\"\",IF(VLOOKUP(O371,漢字読み!$A$2:$O$502,7,0)=0,\"\",VLOOKUP(O371,漢字読み!$A$2:$O$502,7,0)))","v":{"$error":"#N/A"}},{"$f":"IF(P371=\"\",\"\",IF(VLOOKUP(P371,漢字読み!$A$2:$O$502,7,0)=0,\"\",VLOOKUP(P371,漢字読み!$A$2:$O$502,7,0)))","v":{"$error":"#N/A"}},{"$f":"IF(Q371=\"\",\"\",IF(VLOOKUP(Q371,漢字読み!$A$2:$O$502,7,0)=0,\"\",VLOOKUP(Q371,漢字読み!$A$2:$O$502,7,0)))","v":{"$error":"#N/A"}},{"$f":"IF(R371=\"\",\"\",IF(VLOOKUP(R371,漢字読み!$A$2:$O$502,7,0)=0,\"\",VLOOKUP(R371,漢字読み!$A$2:$O$502,7,0)))","v":{"$error":"#N/A"}},{"$f":"IF(S371=\"\",\"\",IF(VLOOKUP(S371,漢字読み!$A$2:$O$502,7,0)=0,\"\",VLOOKUP(S371,漢字読み!$A$2:$O$502,7,0)))","v":{"$error":"#N/A"}},{"$f":"IF(T371=\"\",\"\",IF(VLOOKUP(T371,漢字読み!$A$2:$O$502,7,0)=0,\"\",VLOOKUP(T371,漢字読み!$A$2:$O$502,7,0)))","v":{"$error":"#N/A"}},null,null,"和歌山県教育委員会"]
[{"$f":"A366","v":0},{"$f":"B366","v":0},{"$f":"C366","v":0},{"$f":"D366","v":0},{"$f":"E366","v":0},{"$f":"F366","v":0},{"$f":"G366","v":0},{"$f":"H366","v":0},{"$f":"I366","v":0},{"$f":"J366","v":0},{"$f":"K366","v":0},{"$f":"L366","v":0},{"$f":"M366","v":0},{"$f":"N366","v":0},{"$f":"O366","v":0},{"$f":"P366","v":0},{"$f":"Q366","v":0},{"$f":"R366","v":0},{"$f":"S366","v":0},{"$f":"T366","v":0}]
["⑳","⑲","⑱","⑰","⑯","⑮","⑭","⑬","⑫","⑪","⑩","⑨","⑧","⑦","⑥","⑤","④","③","②","①","次の［　　　　］の部分の漢字には読みがなをひらがなで書き、カタカナは漢字に直しなさい。",11,"「漢字の博士検定試験」練習問題　"]
[{"$f":"IF(A376=\"\",\"\",VLOOKUP(A376,漢字書き!$A$2:$N$506,6,0))","v":{"$error":"#N/A"}},{"$f":"IF(B376=\"\",\"\",VLOOKUP(B376,漢字書き!$A$2:$N$506,6,0))","v":{"$error":"#N/A"}},{"$f":"IF(C376=\"\",\"\",VLOOKUP(C376,漢字書き!$A$2:$N$506,6,0))","v":{"$error":"#N/A"}},{"$f":"IF(D376=\"\",\"\",VLOOKUP(D376,漢字書き!$A$2:$N$506,6,0))","v":{"$error":"#N/A"}},{"$f":"IF(E376=\"\",\"\",VLOOKUP(E376,漢字書き!$A$2:$N$506,6,0))","v":{"$error":"#N/A"}},{"$f":"IF(F376=\"\",\"\",VLOOKUP(F376,漢字書き!$A$2:$N$506,6,0))","v":{"$error":"#N/A"}},{"$f":"IF(G376=\"\",\"\",VLOOKUP(G376,漢字書き!$A$2:$N$506,6,0))","v":{"$error":"#N/A"}},{"$f":"IF(H376=\"\",\"\",VLOOKUP(H376,漢字書き!$A$2:$N$506,6,0))","v":{"$error":"#N/A"}},{"$f":"IF(I376=\"\",\"\",VLOOKUP(I376,漢字書き!$A$2:$N$506,6,0))","v":{"$error":"#N/A"}},{"$f":"IF(J376=\"\",\"\",VLOOKUP(J376,漢字書き!$A$2:$N$506,6,0))","v":{"$error":"#N/A"}},{"$f":"IF(K376=\"\",\"\",VLOOKUP(K376,漢字読み!$A$2:$O$506,6,0))","v":{"$error":"#N/A"}},{"$f":"IF(L376=\"\",\"\",VLOOKUP(L376,漢字読み!$A$2:$O$506,6,0))","v":{"$error":"#N/A"}},{"$f":"IF(M376=\"\",\"\",VLOOKUP(M376,漢字読み!$A$2:$O$506,6,0))","v":{"$error":"#N/A"}},{"$f":"IF(N376=\"\",\"\",VLOOKUP(N376,漢字読み!$A$2:$O$506,6,0))","v":{"$error":"#N/A"}},{"$f":"IF(O376=\"\",\"\",VLOOKUP(O376,漢字読み!$A$2:$O$506,6,0))","v":{"$error":"#N/A"}},{"$f":"IF(P376=\"\",\"\",VLOOKUP(P376,漢字読み!$A$2:$O$506,6,0))","v":{"$error":"#N/A"}},{"$f":"IF(Q376=\"\",\"\",VLOOKUP(Q376,漢字読み!$A$2:$O$506,6,0))","v":{"$error":"#N/A"}},{"$f":"IF(R376=\"\",\"\",VLOOKUP(R376,漢字読み!$A$2:$O$506,6,0))","v":{"$error":"#N/A"}},{"$f":"IF(S376=\"\",\"\",VLOOKUP(S376,漢字読み!$A$2:$O$506,6,0))","v":{"$error":"#N/A"}},{"$f":"IF(T376=\"\",\"\",VLOOKUP(T376,漢字読み!$A$2:$O$506,6,0))","v":{"$error":"#N/A"}},null,"級"]
[{"$f":"IF(A$16=\"\",\"\",VLOOKUP(A376,漢字書き!$A$2:$O$506,8,0))","v":{"$error":"#N/A"}},{"$f":"IF(B$16=\"\",\"\",VLOOKUP(B376,漢字書き!$A$2:$O$506,8,0))","v":{"$error":"#N/A"}},{"$f":"IF(C$16=\"\",\"\",VLOOKUP(C376,漢字書き!$A$2:$O$506,8,0))","v":{"$error":"#N/A"}},{"$f":"IF(D$16=\"\",\"\",VLOOKUP(D376,漢字書き!$A$2:$O$506,8,0))","v":{"$error":"#N/A"}},{"$f":"IF(E$16=\"\",\"\",VLOOKUP(E376,漢字書き!$A$2:$O$506,8,0))","v":{"$error":"#N/A"}},{"$f":"IF(F$16=\"\",\"\",VLOOKUP(F376,漢字書き!$A$2:$O$506,8,0))","v":{"$error":"#N/A"}},{"$f":"IF(G$16=\"\",\"\",VLOOKUP(G376,漢字書き!$A$2:$O$506,8,0))","v":{"$error":"#N/A"}},{"$f":"IF(H$16=\"\",\"\",VLOOKUP(H376,漢字書き!$A$2:$O$506,8,0))","v":{"$error":"#N/A"}},{"$f":"IF(I$16=\"\",\"\",VLOOKUP(I376,漢字書き!$A$2:$O$506,8,0))","v":{"$error":"#N/A"}},{"$f":"IF(J$16=\"\",\"\",VLOOKUP(J376,漢字書き!$A$2:$O$506,8,0))","v":{"$error":"#N/A"}},{"$f":"IF(K$16=\"\",\"\",VLOOKUP(K376,漢字読み!$A$2:$O$506,8,0))","v":{"$error":"#N/A"}},{"$f":"IF(L$16=\"\",\"\",VLOOKUP(L376,漢字読み!$A$2:$O$506,8,0))","v":{"$error":"#N/A"}},{"$f":"IF(M$16=\"\",\"\",VLOOKUP(M376,漢字読み!$A$2:$O$506,8,0))","v":{"$error":"#N/A"}},{"$f":"IF(N$16=\"\",\"\",VLOOKUP(N376,漢字読み!$A$2:$O$506,8,0))","v":{"$error":"#N/A"}},{"$f":"IF(O$16=\"\",\"\",VLOOKUP(O376,漢字読み!$A$2:$O$506,8,0))","v":{"$error":"#N/A"}},{"$f":"IF(P$16=\"\",\"\",VLOOKUP(P376,漢字読み!$A$2:$O$506,8,0))","v":{"$error":"#N/A"}},{"$f":"IF(Q$16=\"\",\"\",VLOOKUP(Q376,漢字読み!$A$2:$O$506,8,0))","v":{"$error":"#N/A"}},{"$f":"IF(R$16=\"\",\"\",VLOOKUP(R376,漢字読み!$A$2:$O$506,8,0))","v":{"$error":"#N/A"}},{"$f":"IF(S$16=\"\",\"\",VLOOKUP(S376,漢字読み!$A$2:$O$506,8,0))","v":{"$error":"#N/A"}},{"$f":"IF(T$16=\"\",\"\",VLOOKUP(T376,漢字読み!$A$2:$O$506,8,0))","v":{"$error":"#N/A"}},null,"名前"]
[{"$f":"IF(A376=\"\",\"\",IF(VLOOKUP(A376,漢字書き!$A$2:$N$502,7,0)=0,\"\",VLOOKUP(A376,漢字書き!$A$2:$N$502,7,0)))","v":{"$error":"#N/A"}},{"$f":"IF(B376=\"\",\"\",IF(VLOOKUP(B376,漢字書き!$A$2:$N$502,7,0)=0,\"\",VLOOKUP(B376,漢字書き!$A$2:$N$502,7,0)))","v":{"$error":"#N/A"}},{"$f":"IF(C376=\"\",\"\",IF(VLOOKUP(C376,漢字書き!$A$2:$N$502,7,0)=0,\"\",VLOOKUP(C376,漢字書き!$A$2:$N$502,7,0)))","v":{"$error":"#N/A"}},{"$f":"IF(D376=\"\",\"\",IF(VLOOKUP(D376,漢字書き!$A$2:$N$502,7,0)=0,\"\",VLOOKUP(D376,漢字書き!$A$2:$N$502,7,0)))","v":{"$error":"#N/A"}},{"$f":"IF(E376=\"\",\"\",IF(VLOOKUP(E376,漢字書き!$A$2:$N$502,7,0)=0,\"\",VLOOKUP(E376,漢字書き!$A$2:$N$502,7,0)))","v":{"$error":"#N/A"}},{"$f":"IF(F376=\"\",\"\",IF(VLOOKUP(F376,漢字書き!$A$2:$N$502,7,0)=0,\"\",VLOOKUP(F376,漢字書き!$A$2:$N$502,7,0)))","v":{"$error":"#N/A"}},{"$f":"IF(G376=\"\",\"\",IF(VLOOKUP(G376,漢字書き!$A$2:$N$502,7,0)=0,\"\",VLOOKUP(G376,漢字書き!$A$2:$N$502,7,0)))","v":{"$error":"#N/A"}},{"$f":"IF(H376=\"\",\"\",IF(VLOOKUP(H376,漢字書き!$A$2:$N$502,7,0)=0,\"\",VLOOKUP(H376,漢字書き!$A$2:$N$502,7,0)))","v":{"$error":"#N/A"}},{"$f":"IF(I376=\"\",\"\",IF(VLOOKUP(I376,漢字書き!$A$2:$N$502,7,0)=0,\"\",VLOOKUP(I376,漢字書き!$A$2:$N$502,7,0)))","v":{"$error":"#N/A"}},{"$f":"IF(J376=\"\",\"\",IF(VLOOKUP(J376,漢字書き!$A$2:$N$502,7,0)=0,\"\",VLOOKUP(J376,漢字書き!$A$2:$N$502,7,0)))","v":{"$error":"#N/A"}},{"$f":"IF(K376=\"\",\"\",IF(VLOOKUP(K376,漢字読み!$A$2:$O$502,7,0)=0,\"\",VLOOKUP(K376,漢字読み!$A$2:$O$502,7,0)))","v":{"$error":"#N/A"}},{"$f":"IF(L376=\"\",\"\",IF(VLOOKUP(L376,漢字読み!$A$2:$O$502,7,0)=0,\"\",VLOOKUP(L376,漢字読み!$A$2:$O$502,7,0)))","v":{"$error":"#N/A"}},{"$f":"IF(M376=\"\",\"\",IF(VLOOKUP(M376,漢字読み!$A$2:$O$502,7,0)=0,\"\",VLOOKUP(M376,漢字読み!$A$2:$O$502,7,0)))","v":{"$error":"#N/A"}},{"$f":"IF(N376=\"\",\"\",IF(VLOOKUP(N376,漢字読み!$A$2:$O$502,7,0)=0,\"\",VLOOKUP(N376,漢字読み!$A$2:$O$502,7,0)))","v":{"$error":"#N/A"}},{"$f":"IF(O376=\"\",\"\",IF(VLOOKUP(O376,漢字読み!$A$2:$O$502,7,0)=0,\"\",VLOOKUP(O376,漢字読み!$A$2:$O$502,7,0)))","v":{"$error":"#N/A"}},{"$f":"IF(P376=\"\",\"\",IF(VLOOKUP(P376,漢字読み!$A$2:$O$502,7,0)=0,\"\",VLOOKUP(P376,漢字読み!$A$2:$O$502,7,0)))","v":{"$error":"#N/A"}},{"$f":"IF(Q376=\"\",\"\",IF(VLOOKUP(Q376,漢字読み!$A$2:$O$502,7,0)=0,\"\",VLOOKUP(Q376,漢字読み!$A$2:$O$502,7,0)))","v":{"$error":"#N/A"}},{"$f":"IF(R376=\"\",\"\",IF(VLOOKUP(R376,漢字読み!$A$2:$O$502,7,0)=0,\"\",VLOOKUP(R376,漢字読み!$A$2:$O$502,7,0)))","v":{"$error":"#N/A"}},{"$f":"IF(S376=\"\",\"\",IF(VLOOKUP(S376,漢字読み!$A$2:$O$502,7,0)=0,\"\",VLOOKUP(S376,漢字読み!$A$2:$O$502,7,0)))","v":{"$error":"#N/A"}},{"$f":"IF(T376=\"\",\"\",IF(VLOOKUP(T376,漢字読み!$A$2:$O$502,7,0)=0,\"\",VLOOKUP(T376,漢字読み!$A$2:$O$502,7,0)))","v":{"$error":"#N/A"}},null,null,"和歌山県教育委員会"]
[{"$f":"INDIRECT(\"'関数（書き）'!C\" & COLUMN(B$1)+SUM($AD$2:$AD382))","v":0},{"$f":"INDIRECT(\"'関数（書き）'!C\" & COLUMN(C$1)+SUM($AD$2:$AD382))","v":0},{"$f":"INDIRECT(\"'関数（書き）'!C\" & COLUMN(D$1)+SUM($AD$2:$AD382))","v":0},{"$f":"INDIRECT(\"'関数（書き）'!C\" & COLUMN(E$1)+SUM($AD$2:$AD382))","v":0},{"$f":"INDIRECT(\"'関数（書き）'!C\" & COLUMN(F$1)+SUM($AD$2:$AD382))","v":0},{"$f":"INDIRECT(\"'関数（書き）'!C\" & COLUMN(G$1)+SUM($AD$2:$AD382))","v":0},{"$f":"INDIRECT(\"'関数（書き）'!C\" & COLUMN(H$1)+SUM($AD$2:$AD382))","v":0},{"$f":"INDIRECT(\"'関数（書き）'!C\" & COLUMN(I$1)+SUM($AD$2:$AD382))","v":0},{"$f":"INDIRECT(\"'関数（書き）'!C\" & COLUMN(J$1)+SUM($AD$2:$AD382))","v":0},{"$f":"INDIRECT(\"'関数（書き）'!C\" & COLUMN(K$1)+SUM($AD$2:$AD382))","v":0},{"$f":"INDIRECT(\"'関数（読み）'!C\" & COLUMN(B$1)+SUM($AD$2:$AD382))","v":0},{"$f":"INDIRECT(\"'関数（読み）'!C\" & COLUMN(C$1)+SUM($AD$2:$AD382))","v":0},{"$f":"INDIRECT(\"'関数（読み）'!C\" & COLUMN(D$1)+SUM($AD$2:$AD382))","v":0},{"$f":"INDIRECT(\"'関数（読み）'!C\" & COLUMN(E$1)+SUM($AD$2:$AD382))","v":0},{"$f":"INDIRECT(\"'関数（読み）'!C\" & COLUMN(F$1)+SUM($AD$2:$AD382))","v":0},{"$f":"INDIRECT(\"'関数（読み）'!C\" & COLUMN(G$1)+SUM($AD$2:$AD382))","v":0},{"$f":"INDIRECT(\"'関数（読み）'!C\" & COLUMN(H$1)+SUM($AD$2:$AD382))","v":0},{"$f":"INDIRECT(\"'関数（読み）'!C\" & COLUMN(I$1)+SUM($AD$2:$AD382))","v":0},{"$f":"INDIRECT(\"'関数（読み）'!C\" & COLUMN(J$1)+SUM($AD$2:$AD382))","v":0},{"$f":"INDIRECT(\"'関数（読み）'!C\" & COLUMN(K$1)+SUM($AD$2:$AD382))","v":0}]
["⑳","⑲","⑱","⑰","⑯","⑮","⑭","⑬","⑫","⑪","⑩","⑨","⑧","⑦","⑥","⑤","④","③","②","①","次の［　　　　］の部分の漢字には読みがなをひらがなで書き、カタカナは漢字に直しなさい。",11,"「漢字の博士検定試験」練習問題　",null,null,null,null,null,"←",10,"問",{"$f":"AH367+1","v":381},"～",{"$f":"SUM($AD$2:$AD382)+10","v":390},"問まで",{"$f":"COUNTIF($A$1:$T$200,T383)","v":5}]
[{"$f":"IF(A381=\"\",\"\",VLOOKUP(A381,漢字書き!$A$2:$N$506,6,0))","v":{"$error":"#N/A"}},{"$f":"IF(B381=\"\",\"\",VLOOKUP(B381,漢字書き!$A$2:$N$506,6,0))","v":{"$error":"#N/A"}},{"$f":"IF(C381=\"\",\"\",VLOOKUP(C381,漢字書き!$A$2:$N$506,6,0))","v":{"$error":"#N/A"}},{"$f":"IF(D381=\"\",\"\",VLOOKUP(D381,漢字書き!$A$2:$N$506,6,0))","v":{"$error":"#N/A"}},{"$f":"IF(E381=\"\",\"\",VLOOKUP(E381,漢字書き!$A$2:$N$506,6,0))","v":{"$error":"#N/A"}},{"$f":"IF(F381=\"\",\"\",VLOOKUP(F381,漢字書き!$A$2:$N$506,6,0))","v":{"$error":"#N/A"}},{"$f":"IF(G381=\"\",\"\",VLOOKUP(G381,漢字書き!$A$2:$N$506,6,0))","v":{"$error":"#N/A"}},{"$f":"IF(H381=\"\",\"\",VLOOKUP(H381,漢字書き!$A$2:$N$506,6,0))","v":{"$error":"#N/A"}},{"$f":"IF(I381=\"\",\"\",VLOOKUP(I381,漢字書き!$A$2:$N$506,6,0))","v":{"$error":"#N/A"}},{"$f":"IF(J381=\"\",\"\",VLOOKUP(J381,漢字書き!$A$2:$N$506,6,0))","v":{"$error":"#N/A"}},{"$f":"IF(K381=\"\",\"\",VLOOKUP(K381,漢字読み!$A$2:$O$506,6,0))","v":{"$error":"#N/A"}},{"$f":"IF(L381=\"\",\"\",VLOOKUP(L381,漢字読み!$A$2:$O$506,6,0))","v":{"$error":"#N/A"}},{"$f":"IF(M381=\"\",\"\",VLOOKUP(M381,漢字読み!$A$2:$O$506,6,0))","v":{"$error":"#N/A"}},{"$f":"IF(N381=\"\",\"\",VLOOKUP(N381,漢字読み!$A$2:$O$506,6,0))","v":{"$error":"#N/A"}},{"$f":"IF(O381=\"\",\"\",VLOOKUP(O381,漢字読み!$A$2:$O$506,6,0))","v":{"$error":"#N/A"}},{"$f":"IF(P381=\"\",\"\",VLOOKUP(P381,漢字読み!$A$2:$O$506,6,0))","v":{"$error":"#N/A"}},{"$f":"IF(Q381=\"\",\"\",VLOOKUP(Q381,漢字読み!$A$2:$O$506,6,0))","v":{"$error":"#N/A"}},{"$f":"IF(R381=\"\",\"\",VLOOKUP(R381,漢字読み!$A$2:$O$506,6,0))","v":{"$error":"#N/A"}},{"$f":"IF(S381=\"\",\"\",VLOOKUP(S381,漢字読み!$A$2:$O$506,6,0))","v":{"$error":"#N/A"}},{"$f":"IF(T381=\"\",\"\",VLOOKUP(T381,漢字読み!$A$2:$O$506,6,0))","v":{"$error":"#N/A"}},null,"級"]
[null,null,null,null,null,null,null,null,null,null,null,null,null,null,null,null,null,null,null,null,null,"名前"]
[{"$f":"IF(A381=\"\",\"\",IF(VLOOKUP(A381,漢字書き!$A$2:$N$502,7,0)=0,\"\",VLOOKUP(A381,漢字書き!$A$2:$N$502,7,0)))","v":{"$error":"#N/A"}},{"$f":"IF(B381=\"\",\"\",IF(VLOOKUP(B381,漢字書き!$A$2:$N$502,7,0)=0,\"\",VLOOKUP(B381,漢字書き!$A$2:$N$502,7,0)))","v":{"$error":"#N/A"}},{"$f":"IF(C381=\"\",\"\",IF(VLOOKUP(C381,漢字書き!$A$2:$N$502,7,0)=0,\"\",VLOOKUP(C381,漢字書き!$A$2:$N$502,7,0)))","v":{"$error":"#N/A"}},{"$f":"IF(D381=\"\",\"\",IF(VLOOKUP(D381,漢字書き!$A$2:$N$502,7,0)=0,\"\",VLOOKUP(D381,漢字書き!$A$2:$N$502,7,0)))","v":{"$error":"#N/A"}},{"$f":"IF(E381=\"\",\"\",IF(VLOOKUP(E381,漢字書き!$A$2:$N$502,7,0)=0,\"\",VLOOKUP(E381,漢字書き!$A$2:$N$502,7,0)))","v":{"$error":"#N/A"}},{"$f":"IF(F381=\"\",\"\",IF(VLOOKUP(F381,漢字書き!$A$2:$N$502,7,0)=0,\"\",VLOOKUP(F381,漢字書き!$A$2:$N$502,7,0)))","v":{"$error":"#N/A"}},{"$f":"IF(G381=\"\",\"\",IF(VLOOKUP(G381,漢字書き!$A$2:$N$502,7,0)=0,\"\",VLOOKUP(G381,漢字書き!$A$2:$N$502,7,0)))","v":{"$error":"#N/A"}},{"$f":"IF(H381=\"\",\"\",IF(VLOOKUP(H381,漢字書き!$A$2:$N$502,7,0)=0,\"\",VLOOKUP(H381,漢字書き!$A$2:$N$502,7,0)))","v":{"$error":"#N/A"}},{"$f":"IF(I381=\"\",\"\",IF(VLOOKUP(I381,漢字書き!$A$2:$N$502,7,0)=0,\"\",VLOOKUP(I381,漢字書き!$A$2:$N$502,7,0)))","v":{"$error":"#N/A"}},{"$f":"IF(J381=\"\",\"\",IF(VLOOKUP(J381,漢字書き!$A$2:$N$502,7,0)=0,\"\",VLOOKUP(J381,漢字書き!$A$2:$N$502,7,0)))","v":{"$error":"#N/A"}},{"$f":"IF(K381=\"\",\"\",IF(VLOOKUP(K381,漢字読み!$A$2:$O$502,7,0)=0,\"\",VLOOKUP(K381,漢字読み!$A$2:$O$502,7,0)))","v":{"$error":"#N/A"}},{"$f":"IF(L381=\"\",\"\",IF(VLOOKUP(L381,漢字読み!$A$2:$O$502,7,0)=0,\"\",VLOOKUP(L381,漢字読み!$A$2:$O$502,7,0)))","v":{"$error":"#N/A"}},{"$f":"IF(M381=\"\",\"\",IF(VLOOKUP(M381,漢字読み!$A$2:$O$502,7,0)=0,\"\",VLOOKUP(M381,漢字読み!$A$2:$O$502,7,0)))","v":{"$error":"#N/A"}},{"$f":"IF(N381=\"\",\"\",IF(VLOOKUP(N381,漢字読み!$A$2:$O$502,7,0)=0,\"\",VLOOKUP(N381,漢字読み!$A$2:$O$502,7,0)))","v":{"$error":"#N/A"}},{"$f":"IF(O381=\"\",\"\",IF(VLOOKUP(O381,漢字読み!$A$2:$O$502,7,0)=0,\"\",VLOOKUP(O381,漢字読み!$A$2:$O$502,7,0)))","v":{"$error":"#N/A"}},{"$f":"IF(P381=\"\",\"\",IF(VLOOKUP(P381,漢字読み!$A$2:$O$502,7,0)=0,\"\",VLOOKUP(P381,漢字読み!$A$2:$O$502,7,0)))","v":{"$error":"#N/A"}},{"$f":"IF(Q381=\"\",\"\",IF(VLOOKUP(Q381,漢字読み!$A$2:$O$502,7,0)=0,\"\",VLOOKUP(Q381,漢字読み!$A$2:$O$502,7,0)))","v":{"$error":"#N/A"}},{"$f":"IF(R381=\"\",\"\",IF(VLOOKUP(R381,漢字読み!$A$2:$O$502,7,0)=0,\"\",VLOOKUP(R381,漢字読み!$A$2:$O$502,7,0)))","v":{"$error":"#N/A"}},{"$f":"IF(S381=\"\",\"\",IF(VLOOKUP(S381,漢字読み!$A$2:$O$502,7,0)=0,\"\",VLOOKUP(S381,漢字読み!$A$2:$O$502,7,0)))","v":{"$error":"#N/A"}},{"$f":"IF(T381=\"\",\"\",IF(VLOOKUP(T381,漢字読み!$A$2:$O$502,7,0)=0,\"\",VLOOKUP(T381,漢字読み!$A$2:$O$502,7,0)))","v":{"$error":"#N/A"}},null,null,"和歌山県教育委員会"]
[{"$f":"INDIRECT(\"'関数（書き）'!C\" & COLUMN(B$1)+SUM($AD$2:$AD387))","v":0},{"$f":"INDIRECT(\"'関数（書き）'!C\" & COLUMN(C$1)+SUM($AD$2:$AD387))","v":0},{"$f":"INDIRECT(\"'関数（書き）'!C\" & COLUMN(D$1)+SUM($AD$2:$AD387))","v":0},{"$f":"INDIRECT(\"'関数（書き）'!C\" & COLUMN(E$1)+SUM($AD$2:$AD387))","v":0},{"$f":"INDIRECT(\"'関数（書き）'!C\" & COLUMN(F$1)+SUM($AD$2:$AD387))","v":0},{"$f":"INDIRECT(\"'関数（書き）'!C\" & COLUMN(G$1)+SUM($AD$2:$AD387))","v":0},{"$f":"INDIRECT(\"'関数（書き）'!C\" & COLUMN(H$1)+SUM($AD$2:$AD387))","v":0},{"$f":"INDIRECT(\"'関数（書き）'!C\" & COLUMN(I$1)+SUM($AD$2:$AD387))","v":0},{"$f":"INDIRECT(\"'関数（書き）'!C\" & COLUMN(J$1)+SUM($AD$2:$AD387))","v":0},{"$f":"INDIRECT(\"'関数（書き）'!C\" & COLUMN(K$1)+SUM($AD$2:$AD387))","v":0},{"$f":"INDIRECT(\"'関数（読み）'!C\" & COLUMN(B$1)+SUM($AD$2:$AD387))","v":0},{"$f":"INDIRECT(\"'関数（読み）'!C\" & COLUMN(C$1)+SUM($AD$2:$AD387))","v":0},{"$f":"INDIRECT(\"'関数（読み）'!C\" & COLUMN(D$1)+SUM($AD$2:$AD387))","v":0},{"$f":"INDIRECT(\"'関数（読み）'!C\" & COLUMN(E$1)+SUM($AD$2:$AD387))","v":0},{"$f":"INDIRECT(\"'関数（読み）'!C\" & COLUMN(F$1)+SUM($AD$2:$AD387))","v":0},{"$f":"INDIRECT(\"'関数（読み）'!C\" & COLUMN(G$1)+SUM($AD$2:$AD387))","v":0},{"$f":"INDIRECT(\"'関数（読み）'!C\" & COLUMN(H$1)+SUM($AD$2:$AD387))","v":0},{"$f":"INDIRECT(\"'関数（読み）'!C\" & COLUMN(I$1)+SUM($AD$2:$AD387))","v":0},{"$f":"INDIRECT(\"'関数（読み）'!C\" & COLUMN(J$1)+SUM($AD$2:$AD387))","v":0},{"$f":"INDIRECT(\"'関数（読み）'!C\" & COLUMN(K$1)+SUM($AD$2:$AD387))","v":0}]
["⑳","⑲","⑱","⑰","⑯","⑮","⑭","⑬","⑫","⑪","⑩","⑨","⑧","⑦","⑥","⑤","④","③","②","①","次の［　　　　］の部分の漢字には読みがなをひらがなで書き、カタカナは漢字に直しなさい。",11,"「漢字の博士検定試験」練習問題　",null,null,null,null,null,"←",10,"問",{"$f":"AH382+1","v":391},"～",{"$f":"SUM($AD$2:$AD387)+10","v":400},"問まで",{"$f":"COUNTIF($A$1:$T$200,T388)","v":5}]
[{"$f":"IF(A386=\"\",\"\",VLOOKUP(A386,漢字書き!$A$2:$N$506,6,0))","v":{"$error":"#N/A"}},{"$f":"IF(B386=\"\",\"\",VLOOKUP(B386,漢字書き!$A$2:$N$506,6,0))","v":{"$error":"#N/A"}},{"$f":"IF(C386=\"\",\"\",VLOOKUP(C386,漢字書き!$A$2:$N$506,6,0))","v":{"$error":"#N/A"}},{"$f":"IF(D386=\"\",\"\",VLOOKUP(D386,漢字書き!$A$2:$N$506,6,0))","v":{"$error":"#N/A"}},{"$f":"IF(E386=\"\",\"\",VLOOKUP(E386,漢字書き!$A$2:$N$506,6,0))","v":{"$error":"#N/A"}},{"$f":"IF(F386=\"\",\"\",VLOOKUP(F386,漢字書き!$A$2:$N$506,6,0))","v":{"$error":"#N/A"}},{"$f":"IF(G386=\"\",\"\",VLOOKUP(G386,漢字書き!$A$2:$N$506,6,0))","v":{"$error":"#N/A"}},{"$f":"IF(H386=\"\",\"\",VLOOKUP(H386,漢字書き!$A$2:$N$506,6,0))","v":{"$error":"#N/A"}},{"$f":"IF(I386=\"\",\"\",VLOOKUP(I386,漢字書き!$A$2:$N$506,6,0))","v":{"$error":"#N/A"}},{"$f":"IF(J386=\"\",\"\",VLOOKUP(J386,漢字書き!$A$2:$N$506,6,0))","v":{"$error":"#N/A"}},{"$f":"IF(K386=\"\",\"\",VLOOKUP(K386,漢字読み!$A$2:$O$506,6,0))","v":{"$error":"#N/A"}},{"$f":"IF(L386=\"\",\"\",VLOOKUP(L386,漢字読み!$A$2:$O$506,6,0))","v":{"$error":"#N/A"}},{"$f":"IF(M386=\"\",\"\",VLOOKUP(M386,漢字読み!$A$2:$O$506,6,0))","v":{"$error":"#N/A"}},{"$f":"IF(N386=\"\",\"\",VLOOKUP(N386,漢字読み!$A$2:$O$506,6,0))","v":{"$error":"#N/A"}},{"$f":"IF(O386=\"\",\"\",VLOOKUP(O386,漢字読み!$A$2:$O$506,6,0))","v":{"$error":"#N/A"}},{"$f":"IF(P386=\"\",\"\",VLOOKUP(P386,漢字読み!$A$2:$O$506,6,0))","v":{"$error":"#N/A"}},{"$f":"IF(Q386=\"\",\"\",VLOOKUP(Q386,漢字読み!$A$2:$O$506,6,0))","v":{"$error":"#N/A"}},{"$f":"IF(R386=\"\",\"\",VLOOKUP(R386,漢字読み!$A$2:$O$506,6,0))","v":{"$error":"#N/A"}},{"$f":"IF(S386=\"\",\"\",VLOOKUP(S386,漢字読み!$A$2:$O$506,6,0))","v":{"$error":"#N/A"}},{"$f":"IF(T386=\"\",\"\",VLOOKUP(T386,漢字読み!$A$2:$O$506,6,0))","v":{"$error":"#N/A"}},null,"級"]
[null,null,null,null,null,null,null,null,null,null,null,null,null,null,null,null,null,null,null,null,null,"名前"]
[{"$f":"IF(A386=\"\",\"\",IF(VLOOKUP(A386,漢字書き!$A$2:$N$502,7,0)=0,\"\",VLOOKUP(A386,漢字書き!$A$2:$N$502,7,0)))","v":{"$error":"#N/A"}},{"$f":"IF(B386=\"\",\"\",IF(VLOOKUP(B386,漢字書き!$A$2:$N$502,7,0)=0,\"\",VLOOKUP(B386,漢字書き!$A$2:$N$502,7,0)))","v":{"$error":"#N/A"}},{"$f":"IF(C386=\"\",\"\",IF(VLOOKUP(C386,漢字書き!$A$2:$N$502,7,0)=0,\"\",VLOOKUP(C386,漢字書き!$A$2:$N$502,7,0)))","v":{"$error":"#N/A"}},{"$f":"IF(D386=\"\",\"\",IF(VLOOKUP(D386,漢字書き!$A$2:$N$502,7,0)=0,\"\",VLOOKUP(D386,漢字書き!$A$2:$N$502,7,0)))","v":{"$error":"#N/A"}},{"$f":"IF(E386=\"\",\"\",IF(VLOOKUP(E386,漢字書き!$A$2:$N$502,7,0)=0,\"\",VLOOKUP(E386,漢字書き!$A$2:$N$502,7,0)))","v":{"$error":"#N/A"}},{"$f":"IF(F386=\"\",\"\",IF(VLOOKUP(F386,漢字書き!$A$2:$N$502,7,0)=0,\"\",VLOOKUP(F386,漢字書き!$A$2:$N$502,7,0)))","v":{"$error":"#N/A"}},{"$f":"IF(G386=\"\",\"\",IF(VLOOKUP(G386,漢字書き!$A$2:$N$502,7,0)=0,\"\",VLOOKUP(G386,漢字書き!$A$2:$N$502,7,0)))","v":{"$error":"#N/A"}},{"$f":"IF(H386=\"\",\"\",IF(VLOOKUP(H386,漢字書き!$A$2:$N$502,7,0)=0,\"\",VLOOKUP(H386,漢字書き!$A$2:$N$502,7,0)))","v":{"$error":"#N/A"}},{"$f":"IF(I386=\"\",\"\",IF(VLOOKUP(I386,漢字書き!$A$2:$N$502,7,0)=0,\"\",VLOOKUP(I386,漢字書き!$A$2:$N$502,7,0)))","v":{"$error":"#N/A"}},{"$f":"IF(J386=\"\",\"\",IF(VLOOKUP(J386,漢字書き!$A$2:$N$502,7,0)=0,\"\",VLOOKUP(J386,漢字書き!$A$2:$N$502,7,0)))","v":{"$error":"#N/A"}},{"$f":"IF(K386=\"\",\"\",IF(VLOOKUP(K386,漢字読み!$A$2:$O$502,7,0)=0,\"\",VLOOKUP(K386,漢字読み!$A$2:$O$502,7,0)))","v":{"$error":"#N/A"}},{"$f":"IF(L386=\"\",\"\",IF(VLOOKUP(L386,漢字読み!$A$2:$O$502,7,0)=0,\"\",VLOOKUP(L386,漢字読み!$A$2:$O$502,7,0)))","v":{"$error":"#N/A"}},{"$f":"IF(M386=\"\",\"\",IF(VLOOKUP(M386,漢字読み!$A$2:$O$502,7,0)=0,\"\",VLOOKUP(M386,漢字読み!$A$2:$O$502,7,0)))","v":{"$error":"#N/A"}},{"$f":"IF(N386=\"\",\"\",IF(VLOOKUP(N386,漢字読み!$A$2:$O$502,7,0)=0,\"\",VLOOKUP(N386,漢字読み!$A$2:$O$502,7,0)))","v":{"$error":"#N/A"}},{"$f":"IF(O386=\"\",\"\",IF(VLOOKUP(O386,漢字読み!$A$2:$O$502,7,0)=0,\"\",VLOOKUP(O386,漢字読み!$A$2:$O$502,7,0)))","v":{"$error":"#N/A"}},{"$f":"IF(P386=\"\",\"\",IF(VLOOKUP(P386,漢字読み!$A$2:$O$502,7,0)=0,\"\",VLOOKUP(P386,漢字読み!$A$2:$O$502,7,0)))","v":{"$error":"#N/A"}},{"$f":"IF(Q386=\"\",\"\",IF(VLOOKUP(Q386,漢字読み!$A$2:$O$502,7,0)=0,\"\",VLOOKUP(Q386,漢字読み!$A$2:$O$502,7,0)))","v":{"$error":"#N/A"}},{"$f":"IF(R386=\"\",\"\",IF(VLOOKUP(R386,漢字読み!$A$2:$O$502,7,0)=0,\"\",VLOOKUP(R386,漢字読み!$A$2:$O$502,7,0)))","v":{"$error":"#N/A"}},{"$f":"IF(S386=\"\",\"\",IF(VLOOKUP(S386,漢字読み!$A$2:$O$502,7,0)=0,\"\",VLOOKUP(S386,漢字読み!$A$2:$O$502,7,0)))","v":{"$error":"#N/A"}},{"$f":"IF(T386=\"\",\"\",IF(VLOOKUP(T386,漢字読み!$A$2:$O$502,7,0)=0,\"\",VLOOKUP(T386,漢字読み!$A$2:$O$502,7,0)))","v":{"$error":"#N/A"}},null,null,"和歌山県教育委員会"]
[{"$f":"A381","v":0},{"$f":"B381","v":0},{"$f":"C381","v":0},{"$f":"D381","v":0},{"$f":"E381","v":0},{"$f":"F381","v":0},{"$f":"G381","v":0},{"$f":"H381","v":0},{"$f":"I381","v":0},{"$f":"J381","v":0},{"$f":"K381","v":0},{"$f":"L381","v":0},{"$f":"M381","v":0},{"$f":"N381","v":0},{"$f":"O381","v":0},{"$f":"P381","v":0},{"$f":"Q381","v":0},{"$f":"R381","v":0},{"$f":"S381","v":0},{"$f":"T381","v":0}]
["⑳","⑲","⑱","⑰","⑯","⑮","⑭","⑬","⑫","⑪","⑩","⑨","⑧","⑦","⑥","⑤","④","③","②","①","次の［　　　　］の部分の漢字には読みがなをひらがなで書き、カタカナは漢字に直しなさい。",11,"「漢字の博士検定試験」練習問題　"]
[{"$f":"IF(A391=\"\",\"\",VLOOKUP(A391,漢字書き!$A$2:$N$506,6,0))","v":{"$error":"#N/A"}},{"$f":"IF(B391=\"\",\"\",VLOOKUP(B391,漢字書き!$A$2:$N$506,6,0))","v":{"$error":"#N/A"}},{"$f":"IF(C391=\"\",\"\",VLOOKUP(C391,漢字書き!$A$2:$N$506,6,0))","v":{"$error":"#N/A"}},{"$f":"IF(D391=\"\",\"\",VLOOKUP(D391,漢字書き!$A$2:$N$506,6,0))","v":{"$error":"#N/A"}},{"$f":"IF(E391=\"\",\"\",VLOOKUP(E391,漢字書き!$A$2:$N$506,6,0))","v":{"$error":"#N/A"}},{"$f":"IF(F391=\"\",\"\",VLOOKUP(F391,漢字書き!$A$2:$N$506,6,0))","v":{"$error":"#N/A"}},{"$f":"IF(G391=\"\",\"\",VLOOKUP(G391,漢字書き!$A$2:$N$506,6,0))","v":{"$error":"#N/A"}},{"$f":"IF(H391=\"\",\"\",VLOOKUP(H391,漢字書き!$A$2:$N$506,6,0))","v":{"$error":"#N/A"}},{"$f":"IF(I391=\"\",\"\",VLOOKUP(I391,漢字書き!$A$2:$N$506,6,0))","v":{"$error":"#N/A"}},{"$f":"IF(J391=\"\",\"\",VLOOKUP(J391,漢字書き!$A$2:$N$506,6,0))","v":{"$error":"#N/A"}},{"$f":"IF(K391=\"\",\"\",VLOOKUP(K391,漢字読み!$A$2:$O$506,6,0))","v":{"$error":"#N/A"}},{"$f":"IF(L391=\"\",\"\",VLOOKUP(L391,漢字読み!$A$2:$O$506,6,0))","v":{"$error":"#N/A"}},{"$f":"IF(M391=\"\",\"\",VLOOKUP(M391,漢字読み!$A$2:$O$506,6,0))","v":{"$error":"#N/A"}},{"$f":"IF(N391=\"\",\"\",VLOOKUP(N391,漢字読み!$A$2:$O$506,6,0))","v":{"$error":"#N/A"}},{"$f":"IF(O391=\"\",\"\",VLOOKUP(O391,漢字読み!$A$2:$O$506,6,0))","v":{"$error":"#N/A"}},{"$f":"IF(P391=\"\",\"\",VLOOKUP(P391,漢字読み!$A$2:$O$506,6,0))","v":{"$error":"#N/A"}},{"$f":"IF(Q391=\"\",\"\",VLOOKUP(Q391,漢字読み!$A$2:$O$506,6,0))","v":{"$error":"#N/A"}},{"$f":"IF(R391=\"\",\"\",VLOOKUP(R391,漢字読み!$A$2:$O$506,6,0))","v":{"$error":"#N/A"}},{"$f":"IF(S391=\"\",\"\",VLOOKUP(S391,漢字読み!$A$2:$O$506,6,0))","v":{"$error":"#N/A"}},{"$f":"IF(T391=\"\",\"\",VLOOKUP(T391,漢字読み!$A$2:$O$506,6,0))","v":{"$error":"#N/A"}},null,"級"]
[{"$f":"IF(A$11=\"\",\"\",VLOOKUP(A391,漢字書き!$A$2:$O$506,8,0))","v":{"$error":"#N/A"}},{"$f":"IF(B$11=\"\",\"\",VLOOKUP(B391,漢字書き!$A$2:$O$506,8,0))","v":{"$error":"#N/A"}},{"$f":"IF(C$11=\"\",\"\",VLOOKUP(C391,漢字書き!$A$2:$O$506,8,0))","v":{"$error":"#N/A"}},{"$f":"IF(D$11=\"\",\"\",VLOOKUP(D391,漢字書き!$A$2:$O$506,8,0))","v":{"$error":"#N/A"}},{"$f":"IF(E$11=\"\",\"\",VLOOKUP(E391,漢字書き!$A$2:$O$506,8,0))","v":{"$error":"#N/A"}},{"$f":"IF(F$11=\"\",\"\",VLOOKUP(F391,漢字書き!$A$2:$O$506,8,0))","v":{"$error":"#N/A"}},{"$f":"IF(G$11=\"\",\"\",VLOOKUP(G391,漢字書き!$A$2:$O$506,8,0))","v":{"$error":"#N/A"}},{"$f":"IF(H$11=\"\",\"\",VLOOKUP(H391,漢字書き!$A$2:$O$506,8,0))","v":{"$error":"#N/A"}},{"$f":"IF(I$11=\"\",\"\",VLOOKUP(I391,漢字書き!$A$2:$O$506,8,0))","v":{"$error":"#N/A"}},{"$f":"IF(J$11=\"\",\"\",VLOOKUP(J391,漢字書き!$A$2:$O$506,8,0))","v":{"$error":"#N/A"}},{"$f":"IF(K$11=\"\",\"\",VLOOKUP(K391,漢字読み!$A$2:$O$506,8,0))","v":{"$error":"#N/A"}},{"$f":"IF(L$11=\"\",\"\",VLOOKUP(L391,漢字読み!$A$2:$O$506,8,0))","v":{"$error":"#N/A"}},{"$f":"IF(M$11=\"\",\"\",VLOOKUP(M391,漢字読み!$A$2:$O$506,8,0))","v":{"$error":"#N/A"}},{"$f":"IF(N$11=\"\",\"\",VLOOKUP(N391,漢字読み!$A$2:$O$506,8,0))","v":{"$error":"#N/A"}},{"$f":"IF(O$11=\"\",\"\",VLOOKUP(O391,漢字読み!$A$2:$O$506,8,0))","v":{"$error":"#N/A"}},{"$f":"IF(P$11=\"\",\"\",VLOOKUP(P391,漢字読み!$A$2:$O$506,8,0))","v":{"$error":"#N/A"}},{"$f":"IF(Q$11=\"\",\"\",VLOOKUP(Q391,漢字読み!$A$2:$O$506,8,0))","v":{"$error":"#N/A"}},{"$f":"IF(R$11=\"\",\"\",VLOOKUP(R391,漢字読み!$A$2:$O$506,8,0))","v":{"$error":"#N/A"}},{"$f":"IF(S$11=\"\",\"\",VLOOKUP(S391,漢字読み!$A$2:$O$506,8,0))","v":{"$error":"#N/A"}},{"$f":"IF(T$11=\"\",\"\",VLOOKUP(T391,漢字読み!$A$2:$O$506,8,0))","v":{"$error":"#N/A"}},null,"名前"]
[{"$f":"IF(A391=\"\",\"\",IF(VLOOKUP(A391,漢字書き!$A$2:$N$502,7,0)=0,\"\",VLOOKUP(A391,漢字書き!$A$2:$N$502,7,0)))","v":{"$error":"#N/A"}},{"$f":"IF(B391=\"\",\"\",IF(VLOOKUP(B391,漢字書き!$A$2:$N$502,7,0)=0,\"\",VLOOKUP(B391,漢字書き!$A$2:$N$502,7,0)))","v":{"$error":"#N/A"}},{"$f":"IF(C391=\"\",\"\",IF(VLOOKUP(C391,漢字書き!$A$2:$N$502,7,0)=0,\"\",VLOOKUP(C391,漢字書き!$A$2:$N$502,7,0)))","v":{"$error":"#N/A"}},{"$f":"IF(D391=\"\",\"\",IF(VLOOKUP(D391,漢字書き!$A$2:$N$502,7,0)=0,\"\",VLOOKUP(D391,漢字書き!$A$2:$N$502,7,0)))","v":{"$error":"#N/A"}},{"$f":"IF(E391=\"\",\"\",IF(VLOOKUP(E391,漢字書き!$A$2:$N$502,7,0)=0,\"\",VLOOKUP(E391,漢字書き!$A$2:$N$502,7,0)))","v":{"$error":"#N/A"}},{"$f":"IF(F391=\"\",\"\",IF(VLOOKUP(F391,漢字書き!$A$2:$N$502,7,0)=0,\"\",VLOOKUP(F391,漢字書き!$A$2:$N$502,7,0)))","v":{"$error":"#N/A"}},{"$f":"IF(G391=\"\",\"\",IF(VLOOKUP(G391,漢字書き!$A$2:$N$502,7,0)=0,\"\",VLOOKUP(G391,漢字書き!$A$2:$N$502,7,0)))","v":{"$error":"#N/A"}},{"$f":"IF(H391=\"\",\"\",IF(VLOOKUP(H391,漢字書き!$A$2:$N$502,7,0)=0,\"\",VLOOKUP(H391,漢字書き!$A$2:$N$502,7,0)))","v":{"$error":"#N/A"}},{"$f":"IF(I391=\"\",\"\",IF(VLOOKUP(I391,漢字書き!$A$2:$N$502,7,0)=0,\"\",VLOOKUP(I391,漢字書き!$A$2:$N$502,7,0)))","v":{"$error":"#N/A"}},{"$f":"IF(J391=\"\",\"\",IF(VLOOKUP(J391,漢字書き!$A$2:$N$502,7,0)=0,\"\",VLOOKUP(J391,漢字書き!$A$2:$N$502,7,0)))","v":{"$error":"#N/A"}},{"$f":"IF(K391=\"\",\"\",IF(VLOOKUP(K391,漢字読み!$A$2:$O$502,7,0)=0,\"\",VLOOKUP(K391,漢字読み!$A$2:$O$502,7,0)))","v":{"$error":"#N/A"}},{"$f":"IF(L391=\"\",\"\",IF(VLOOKUP(L391,漢字読み!$A$2:$O$502,7,0)=0,\"\",VLOOKUP(L391,漢字読み!$A$2:$O$502,7,0)))","v":{"$error":"#N/A"}},{"$f":"IF(M391=\"\",\"\",IF(VLOOKUP(M391,漢字読み!$A$2:$O$502,7,0)=0,\"\",VLOOKUP(M391,漢字読み!$A$2:$O$502,7,0)))","v":{"$error":"#N/A"}},{"$f":"IF(N391=\"\",\"\",IF(VLOOKUP(N391,漢字読み!$A$2:$O$502,7,0)=0,\"\",VLOOKUP(N391,漢字読み!$A$2:$O$502,7,0)))","v":{"$error":"#N/A"}},{"$f":"IF(O391=\"\",\"\",IF(VLOOKUP(O391,漢字読み!$A$2:$O$502,7,0)=0,\"\",VLOOKUP(O391,漢字読み!$A$2:$O$502,7,0)))","v":{"$error":"#N/A"}},{"$f":"IF(P391=\"\",\"\",IF(VLOOKUP(P391,漢字読み!$A$2:$O$502,7,0)=0,\"\",VLOOKUP(P391,漢字読み!$A$2:$O$502,7,0)))","v":{"$error":"#N/A"}},{"$f":"IF(Q391=\"\",\"\",IF(VLOOKUP(Q391,漢字読み!$A$2:$O$502,7,0)=0,\"\",VLOOKUP(Q391,漢字読み!$A$2:$O$502,7,0)))","v":{"$error":"#N/A"}},{"$f":"IF(R391=\"\",\"\",IF(VLOOKUP(R391,漢字読み!$A$2:$O$502,7,0)=0,\"\",VLOOKUP(R391,漢字読み!$A$2:$O$502,7,0)))","v":{"$error":"#N/A"}},{"$f":"IF(S391=\"\",\"\",IF(VLOOKUP(S391,漢字読み!$A$2:$O$502,7,0)=0,\"\",VLOOKUP(S391,漢字読み!$A$2:$O$502,7,0)))","v":{"$error":"#N/A"}},{"$f":"IF(T391=\"\",\"\",IF(VLOOKUP(T391,漢字読み!$A$2:$O$502,7,0)=0,\"\",VLOOKUP(T391,漢字読み!$A$2:$O$502,7,0)))","v":{"$error":"#N/A"}},null,null,"和歌山県教育委員会"]
[{"$f":"A386","v":0},{"$f":"B386","v":0},{"$f":"C386","v":0},{"$f":"D386","v":0},{"$f":"E386","v":0},{"$f":"F386","v":0},{"$f":"G386","v":0},{"$f":"H386","v":0},{"$f":"I386","v":0},{"$f":"J386","v":0},{"$f":"K386","v":0},{"$f":"L386","v":0},{"$f":"M386","v":0},{"$f":"N386","v":0},{"$f":"O386","v":0},{"$f":"P386","v":0},{"$f":"Q386","v":0},{"$f":"R386","v":0},{"$f":"S386","v":0},{"$f":"T386","v":0}]
["⑳","⑲","⑱","⑰","⑯","⑮","⑭","⑬","⑫","⑪","⑩","⑨","⑧","⑦","⑥","⑤","④","③","②","①","次の［　　　　］の部分の漢字には読みがなをひらがなで書き、カタカナは漢字に直しなさい。",11,"「漢字の博士検定試験」練習問題　"]
[{"$f":"IF(A396=\"\",\"\",VLOOKUP(A396,漢字書き!$A$2:$N$506,6,0))","v":{"$error":"#N/A"}},{"$f":"IF(B396=\"\",\"\",VLOOKUP(B396,漢字書き!$A$2:$N$506,6,0))","v":{"$error":"#N/A"}},{"$f":"IF(C396=\"\",\"\",VLOOKUP(C396,漢字書き!$A$2:$N$506,6,0))","v":{"$error":"#N/A"}},{"$f":"IF(D396=\"\",\"\",VLOOKUP(D396,漢字書き!$A$2:$N$506,6,0))","v":{"$error":"#N/A"}},{"$f":"IF(E396=\"\",\"\",VLOOKUP(E396,漢字書き!$A$2:$N$506,6,0))","v":{"$error":"#N/A"}},{"$f":"IF(F396=\"\",\"\",VLOOKUP(F396,漢字書き!$A$2:$N$506,6,0))","v":{"$error":"#N/A"}},{"$f":"IF(G396=\"\",\"\",VLOOKUP(G396,漢字書き!$A$2:$N$506,6,0))","v":{"$error":"#N/A"}},{"$f":"IF(H396=\"\",\"\",VLOOKUP(H396,漢字書き!$A$2:$N$506,6,0))","v":{"$error":"#N/A"}},{"$f":"IF(I396=\"\",\"\",VLOOKUP(I396,漢字書き!$A$2:$N$506,6,0))","v":{"$error":"#N/A"}},{"$f":"IF(J396=\"\",\"\",VLOOKUP(J396,漢字書き!$A$2:$N$506,6,0))","v":{"$error":"#N/A"}},{"$f":"IF(K396=\"\",\"\",VLOOKUP(K396,漢字読み!$A$2:$O$506,6,0))","v":{"$error":"#N/A"}},{"$f":"IF(L396=\"\",\"\",VLOOKUP(L396,漢字読み!$A$2:$O$506,6,0))","v":{"$error":"#N/A"}},{"$f":"IF(M396=\"\",\"\",VLOOKUP(M396,漢字読み!$A$2:$O$506,6,0))","v":{"$error":"#N/A"}},{"$f":"IF(N396=\"\",\"\",VLOOKUP(N396,漢字読み!$A$2:$O$506,6,0))","v":{"$error":"#N/A"}},{"$f":"IF(O396=\"\",\"\",VLOOKUP(O396,漢字読み!$A$2:$O$506,6,0))","v":{"$error":"#N/A"}},{"$f":"IF(P396=\"\",\"\",VLOOKUP(P396,漢字読み!$A$2:$O$506,6,0))","v":{"$error":"#N/A"}},{"$f":"IF(Q396=\"\",\"\",VLOOKUP(Q396,漢字読み!$A$2:$O$506,6,0))","v":{"$error":"#N/A"}},{"$f":"IF(R396=\"\",\"\",VLOOKUP(R396,漢字読み!$A$2:$O$506,6,0))","v":{"$error":"#N/A"}},{"$f":"IF(S396=\"\",\"\",VLOOKUP(S396,漢字読み!$A$2:$O$506,6,0))","v":{"$error":"#N/A"}},{"$f":"IF(T396=\"\",\"\",VLOOKUP(T396,漢字読み!$A$2:$O$506,6,0))","v":{"$error":"#N/A"}},null,"級"]
[{"$f":"IF(A$16=\"\",\"\",VLOOKUP(A396,漢字書き!$A$2:$O$506,8,0))","v":{"$error":"#N/A"}},{"$f":"IF(B$16=\"\",\"\",VLOOKUP(B396,漢字書き!$A$2:$O$506,8,0))","v":{"$error":"#N/A"}},{"$f":"IF(C$16=\"\",\"\",VLOOKUP(C396,漢字書き!$A$2:$O$506,8,0))","v":{"$error":"#N/A"}},{"$f":"IF(D$16=\"\",\"\",VLOOKUP(D396,漢字書き!$A$2:$O$506,8,0))","v":{"$error":"#N/A"}},{"$f":"IF(E$16=\"\",\"\",VLOOKUP(E396,漢字書き!$A$2:$O$506,8,0))","v":{"$error":"#N/A"}},{"$f":"IF(F$16=\"\",\"\",VLOOKUP(F396,漢字書き!$A$2:$O$506,8,0))","v":{"$error":"#N/A"}},{"$f":"IF(G$16=\"\",\"\",VLOOKUP(G396,漢字書き!$A$2:$O$506,8,0))","v":{"$error":"#N/A"}},{"$f":"IF(H$16=\"\",\"\",VLOOKUP(H396,漢字書き!$A$2:$O$506,8,0))","v":{"$error":"#N/A"}},{"$f":"IF(I$16=\"\",\"\",VLOOKUP(I396,漢字書き!$A$2:$O$506,8,0))","v":{"$error":"#N/A"}},{"$f":"IF(J$16=\"\",\"\",VLOOKUP(J396,漢字書き!$A$2:$O$506,8,0))","v":{"$error":"#N/A"}},{"$f":"IF(K$16=\"\",\"\",VLOOKUP(K396,漢字読み!$A$2:$O$506,8,0))","v":{"$error":"#N/A"}},{"$f":"IF(L$16=\"\",\"\",VLOOKUP(L396,漢字読み!$A$2:$O$506,8,0))","v":{"$error":"#N/A"}},{"$f":"IF(M$16=\"\",\"\",VLOOKUP(M396,漢字読み!$A$2:$O$506,8,0))","v":{"$error":"#N/A"}},{"$f":"IF(N$16=\"\",\"\",VLOOKUP(N396,漢字読み!$A$2:$O$506,8,0))","v":{"$error":"#N/A"}},{"$f":"IF(O$16=\"\",\"\",VLOOKUP(O396,漢字読み!$A$2:$O$506,8,0))","v":{"$error":"#N/A"}},{"$f":"IF(P$16=\"\",\"\",VLOOKUP(P396,漢字読み!$A$2:$O$506,8,0))","v":{"$error":"#N/A"}},{"$f":"IF(Q$16=\"\",\"\",VLOOKUP(Q396,漢字読み!$A$2:$O$506,8,0))","v":{"$error":"#N/A"}},{"$f":"IF(R$16=\"\",\"\",VLOOKUP(R396,漢字読み!$A$2:$O$506,8,0))","v":{"$error":"#N/A"}},{"$f":"IF(S$16=\"\",\"\",VLOOKUP(S396,漢字読み!$A$2:$O$506,8,0))","v":{"$error":"#N/A"}},{"$f":"IF(T$16=\"\",\"\",VLOOKUP(T396,漢字読み!$A$2:$O$506,8,0))","v":{"$error":"#N/A"}},null,"名前"]
[{"$f":"IF(A396=\"\",\"\",IF(VLOOKUP(A396,漢字書き!$A$2:$N$502,7,0)=0,\"\",VLOOKUP(A396,漢字書き!$A$2:$N$502,7,0)))","v":{"$error":"#N/A"}},{"$f":"IF(B396=\"\",\"\",IF(VLOOKUP(B396,漢字書き!$A$2:$N$502,7,0)=0,\"\",VLOOKUP(B396,漢字書き!$A$2:$N$502,7,0)))","v":{"$error":"#N/A"}},{"$f":"IF(C396=\"\",\"\",IF(VLOOKUP(C396,漢字書き!$A$2:$N$502,7,0)=0,\"\",VLOOKUP(C396,漢字書き!$A$2:$N$502,7,0)))","v":{"$error":"#N/A"}},{"$f":"IF(D396=\"\",\"\",IF(VLOOKUP(D396,漢字書き!$A$2:$N$502,7,0)=0,\"\",VLOOKUP(D396,漢字書き!$A$2:$N$502,7,0)))","v":{"$error":"#N/A"}},{"$f":"IF(E396=\"\",\"\",IF(VLOOKUP(E396,漢字書き!$A$2:$N$502,7,0)=0,\"\",VLOOKUP(E396,漢字書き!$A$2:$N$502,7,0)))","v":{"$error":"#N/A"}},{"$f":"IF(F396=\"\",\"\",IF(VLOOKUP(F396,漢字書き!$A$2:$N$502,7,0)=0,\"\",VLOOKUP(F396,漢字書き!$A$2:$N$502,7,0)))","v":{"$error":"#N/A"}},{"$f":"IF(G396=\"\",\"\",IF(VLOOKUP(G396,漢字書き!$A$2:$N$502,7,0)=0,\"\",VLOOKUP(G396,漢字書き!$A$2:$N$502,7,0)))","v":{"$error":"#N/A"}},{"$f":"IF(H396=\"\",\"\",IF(VLOOKUP(H396,漢字書き!$A$2:$N$502,7,0)=0,\"\",VLOOKUP(H396,漢字書き!$A$2:$N$502,7,0)))","v":{"$error":"#N/A"}},{"$f":"IF(I396=\"\",\"\",IF(VLOOKUP(I396,漢字書き!$A$2:$N$502,7,0)=0,\"\",VLOOKUP(I396,漢字書き!$A$2:$N$502,7,0)))","v":{"$error":"#N/A"}},{"$f":"IF(J396=\"\",\"\",IF(VLOOKUP(J396,漢字書き!$A$2:$N$502,7,0)=0,\"\",VLOOKUP(J396,漢字書き!$A$2:$N$502,7,0)))","v":{"$error":"#N/A"}},{"$f":"IF(K396=\"\",\"\",IF(VLOOKUP(K396,漢字読み!$A$2:$O$502,7,0)=0,\"\",VLOOKUP(K396,漢字読み!$A$2:$O$502,7,0)))","v":{"$error":"#N/A"}},{"$f":"IF(L396=\"\",\"\",IF(VLOOKUP(L396,漢字読み!$A$2:$O$502,7,0)=0,\"\",VLOOKUP(L396,漢字読み!$A$2:$O$502,7,0)))","v":{"$error":"#N/A"}},{"$f":"IF(M396=\"\",\"\",IF(VLOOKUP(M396,漢字読み!$A$2:$O$502,7,0)=0,\"\",VLOOKUP(M396,漢字読み!$A$2:$O$502,7,0)))","v":{"$error":"#N/A"}},{"$f":"IF(N396=\"\",\"\",IF(VLOOKUP(N396,漢字読み!$A$2:$O$502,7,0)=0,\"\",VLOOKUP(N396,漢字読み!$A$2:$O$502,7,0)))","v":{"$error":"#N/A"}},{"$f":"IF(O396=\"\",\"\",IF(VLOOKUP(O396,漢字読み!$A$2:$O$502,7,0)=0,\"\",VLOOKUP(O396,漢字読み!$A$2:$O$502,7,0)))","v":{"$error":"#N/A"}},{"$f":"IF(P396=\"\",\"\",IF(VLOOKUP(P396,漢字読み!$A$2:$O$502,7,0)=0,\"\",VLOOKUP(P396,漢字読み!$A$2:$O$502,7,0)))","v":{"$error":"#N/A"}},{"$f":"IF(Q396=\"\",\"\",IF(VLOOKUP(Q396,漢字読み!$A$2:$O$502,7,0)=0,\"\",VLOOKUP(Q396,漢字読み!$A$2:$O$502,7,0)))","v":{"$error":"#N/A"}},{"$f":"IF(R396=\"\",\"\",IF(VLOOKUP(R396,漢字読み!$A$2:$O$502,7,0)=0,\"\",VLOOKUP(R396,漢字読み!$A$2:$O$502,7,0)))","v":{"$error":"#N/A"}},{"$f":"IF(S396=\"\",\"\",IF(VLOOKUP(S396,漢字読み!$A$2:$O$502,7,0)=0,\"\",VLOOKUP(S396,漢字読み!$A$2:$O$502,7,0)))","v":{"$error":"#N/A"}},{"$f":"IF(T396=\"\",\"\",IF(VLOOKUP(T396,漢字読み!$A$2:$O$502,7,0)=0,\"\",VLOOKUP(T396,漢字読み!$A$2:$O$502,7,0)))","v":{"$error":"#N/A"}},null,null,"和歌山県教育委員会"]
[{"$f":"INDIRECT(\"'関数（書き）'!C\" & COLUMN(B$1)+SUM($AD$2:$AD402))","v":0},{"$f":"INDIRECT(\"'関数（書き）'!C\" & COLUMN(C$1)+SUM($AD$2:$AD402))","v":0},{"$f":"INDIRECT(\"'関数（書き）'!C\" & COLUMN(D$1)+SUM($AD$2:$AD402))","v":0},{"$f":"INDIRECT(\"'関数（書き）'!C\" & COLUMN(E$1)+SUM($AD$2:$AD402))","v":0},{"$f":"INDIRECT(\"'関数（書き）'!C\" & COLUMN(F$1)+SUM($AD$2:$AD402))","v":0},{"$f":"INDIRECT(\"'関数（書き）'!C\" & COLUMN(G$1)+SUM($AD$2:$AD402))","v":0},{"$f":"INDIRECT(\"'関数（書き）'!C\" & COLUMN(H$1)+SUM($AD$2:$AD402))","v":0},{"$f":"INDIRECT(\"'関数（書き）'!C\" & COLUMN(I$1)+SUM($AD$2:$AD402))","v":0},{"$f":"INDIRECT(\"'関数（書き）'!C\" & COLUMN(J$1)+SUM($AD$2:$AD402))","v":0},{"$f":"INDIRECT(\"'関数（書き）'!C\" & COLUMN(K$1)+SUM($AD$2:$AD402))","v":0},{"$f":"INDIRECT(\"'関数（読み）'!C\" & COLUMN(B$1)+SUM($AD$2:$AD402))","v":0},{"$f":"INDIRECT(\"'関数（読み）'!C\" & COLUMN(C$1)+SUM($AD$2:$AD402))","v":0},{"$f":"INDIRECT(\"'関数（読み）'!C\" & COLUMN(D$1)+SUM($AD$2:$AD402))","v":0},{"$f":"INDIRECT(\"'関数（読み）'!C\" & COLUMN(E$1)+SUM($AD$2:$AD402))","v":0},{"$f":"INDIRECT(\"'関数（読み）'!C\" & COLUMN(F$1)+SUM($AD$2:$AD402))","v":0},{"$f":"INDIRECT(\"'関数（読み）'!C\" & COLUMN(G$1)+SUM($AD$2:$AD402))","v":0},{"$f":"INDIRECT(\"'関数（読み）'!C\" & COLUMN(H$1)+SUM($AD$2:$AD402))","v":0},{"$f":"INDIRECT(\"'関数（読み）'!C\" & COLUMN(I$1)+SUM($AD$2:$AD402))","v":0},{"$f":"INDIRECT(\"'関数（読み）'!C\" & COLUMN(J$1)+SUM($AD$2:$AD402))","v":0},{"$f":"INDIRECT(\"'関数（読み）'!C\" & COLUMN(K$1)+SUM($AD$2:$AD402))","v":0}]
["⑳","⑲","⑱","⑰","⑯","⑮","⑭","⑬","⑫","⑪","⑩","⑨","⑧","⑦","⑥","⑤","④","③","②","①","次の［　　　　］の部分の漢字には読みがなをひらがなで書き、カタカナは漢字に直しなさい。",11,"「漢字の博士検定試験」練習問題　",null,null,null,null,null,"←",10,"問",{"$f":"AH387+1","v":401},"～",{"$f":"SUM($AD$2:$AD402)+10","v":410},"問まで",{"$f":"COUNTIF($A$1:$T$200,T403)","v":5}]
[{"$f":"IF(A401=\"\",\"\",VLOOKUP(A401,漢字書き!$A$2:$N$506,6,0))","v":{"$error":"#N/A"}},{"$f":"IF(B401=\"\",\"\",VLOOKUP(B401,漢字書き!$A$2:$N$506,6,0))","v":{"$error":"#N/A"}},{"$f":"IF(C401=\"\",\"\",VLOOKUP(C401,漢字書き!$A$2:$N$506,6,0))","v":{"$error":"#N/A"}},{"$f":"IF(D401=\"\",\"\",VLOOKUP(D401,漢字書き!$A$2:$N$506,6,0))","v":{"$error":"#N/A"}},{"$f":"IF(E401=\"\",\"\",VLOOKUP(E401,漢字書き!$A$2:$N$506,6,0))","v":{"$error":"#N/A"}},{"$f":"IF(F401=\"\",\"\",VLOOKUP(F401,漢字書き!$A$2:$N$506,6,0))","v":{"$error":"#N/A"}},{"$f":"IF(G401=\"\",\"\",VLOOKUP(G401,漢字書き!$A$2:$N$506,6,0))","v":{"$error":"#N/A"}},{"$f":"IF(H401=\"\",\"\",VLOOKUP(H401,漢字書き!$A$2:$N$506,6,0))","v":{"$error":"#N/A"}},{"$f":"IF(I401=\"\",\"\",VLOOKUP(I401,漢字書き!$A$2:$N$506,6,0))","v":{"$error":"#N/A"}},{"$f":"IF(J401=\"\",\"\",VLOOKUP(J401,漢字書き!$A$2:$N$506,6,0))","v":{"$error":"#N/A"}},{"$f":"IF(K401=\"\",\"\",VLOOKUP(K401,漢字読み!$A$2:$O$506,6,0))","v":{"$error":"#N/A"}},{"$f":"IF(L401=\"\",\"\",VLOOKUP(L401,漢字読み!$A$2:$O$506,6,0))","v":{"$error":"#N/A"}},{"$f":"IF(M401=\"\",\"\",VLOOKUP(M401,漢字読み!$A$2:$O$506,6,0))","v":{"$error":"#N/A"}},{"$f":"IF(N401=\"\",\"\",VLOOKUP(N401,漢字読み!$A$2:$O$506,6,0))","v":{"$error":"#N/A"}},{"$f":"IF(O401=\"\",\"\",VLOOKUP(O401,漢字読み!$A$2:$O$506,6,0))","v":{"$error":"#N/A"}},{"$f":"IF(P401=\"\",\"\",VLOOKUP(P401,漢字読み!$A$2:$O$506,6,0))","v":{"$error":"#N/A"}},{"$f":"IF(Q401=\"\",\"\",VLOOKUP(Q401,漢字読み!$A$2:$O$506,6,0))","v":{"$error":"#N/A"}},{"$f":"IF(R401=\"\",\"\",VLOOKUP(R401,漢字読み!$A$2:$O$506,6,0))","v":{"$error":"#N/A"}},{"$f":"IF(S401=\"\",\"\",VLOOKUP(S401,漢字読み!$A$2:$O$506,6,0))","v":{"$error":"#N/A"}},{"$f":"IF(T401=\"\",\"\",VLOOKUP(T401,漢字読み!$A$2:$O$506,6,0))","v":{"$error":"#N/A"}},null,"級"]
[null,null,null,null,null,null,null,null,null,null,null,null,null,null,null,null,null,null,null,null,null,"名前"]
[{"$f":"IF(A401=\"\",\"\",IF(VLOOKUP(A401,漢字書き!$A$2:$N$502,7,0)=0,\"\",VLOOKUP(A401,漢字書き!$A$2:$N$502,7,0)))","v":{"$error":"#N/A"}},{"$f":"IF(B401=\"\",\"\",IF(VLOOKUP(B401,漢字書き!$A$2:$N$502,7,0)=0,\"\",VLOOKUP(B401,漢字書き!$A$2:$N$502,7,0)))","v":{"$error":"#N/A"}},{"$f":"IF(C401=\"\",\"\",IF(VLOOKUP(C401,漢字書き!$A$2:$N$502,7,0)=0,\"\",VLOOKUP(C401,漢字書き!$A$2:$N$502,7,0)))","v":{"$error":"#N/A"}},{"$f":"IF(D401=\"\",\"\",IF(VLOOKUP(D401,漢字書き!$A$2:$N$502,7,0)=0,\"\",VLOOKUP(D401,漢字書き!$A$2:$N$502,7,0)))","v":{"$error":"#N/A"}},{"$f":"IF(E401=\"\",\"\",IF(VLOOKUP(E401,漢字書き!$A$2:$N$502,7,0)=0,\"\",VLOOKUP(E401,漢字書き!$A$2:$N$502,7,0)))","v":{"$error":"#N/A"}},{"$f":"IF(F401=\"\",\"\",IF(VLOOKUP(F401,漢字書き!$A$2:$N$502,7,0)=0,\"\",VLOOKUP(F401,漢字書き!$A$2:$N$502,7,0)))","v":{"$error":"#N/A"}},{"$f":"IF(G401=\"\",\"\",IF(VLOOKUP(G401,漢字書き!$A$2:$N$502,7,0)=0,\"\",VLOOKUP(G401,漢字書き!$A$2:$N$502,7,0)))","v":{"$error":"#N/A"}},{"$f":"IF(H401=\"\",\"\",IF(VLOOKUP(H401,漢字書き!$A$2:$N$502,7,0)=0,\"\",VLOOKUP(H401,漢字書き!$A$2:$N$502,7,0)))","v":{"$error":"#N/A"}},{"$f":"IF(I401=\"\",\"\",IF(VLOOKUP(I401,漢字書き!$A$2:$N$502,7,0)=0,\"\",VLOOKUP(I401,漢字書き!$A$2:$N$502,7,0)))","v":{"$error":"#N/A"}},{"$f":"IF(J401=\"\",\"\",IF(VLOOKUP(J401,漢字書き!$A$2:$N$502,7,0)=0,\"\",VLOOKUP(J401,漢字書き!$A$2:$N$502,7,0)))","v":{"$error":"#N/A"}},{"$f":"IF(K401=\"\",\"\",IF(VLOOKUP(K401,漢字読み!$A$2:$O$502,7,0)=0,\"\",VLOOKUP(K401,漢字読み!$A$2:$O$502,7,0)))","v":{"$error":"#N/A"}},{"$f":"IF(L401=\"\",\"\",IF(VLOOKUP(L401,漢字読み!$A$2:$O$502,7,0)=0,\"\",VLOOKUP(L401,漢字読み!$A$2:$O$502,7,0)))","v":{"$error":"#N/A"}},{"$f":"IF(M401=\"\",\"\",IF(VLOOKUP(M401,漢字読み!$A$2:$O$502,7,0)=0,\"\",VLOOKUP(M401,漢字読み!$A$2:$O$502,7,0)))","v":{"$error":"#N/A"}},{"$f":"IF(N401=\"\",\"\",IF(VLOOKUP(N401,漢字読み!$A$2:$O$502,7,0)=0,\"\",VLOOKUP(N401,漢字読み!$A$2:$O$502,7,0)))","v":{"$error":"#N/A"}},{"$f":"IF(O401=\"\",\"\",IF(VLOOKUP(O401,漢字読み!$A$2:$O$502,7,0)=0,\"\",VLOOKUP(O401,漢字読み!$A$2:$O$502,7,0)))","v":{"$error":"#N/A"}},{"$f":"IF(P401=\"\",\"\",IF(VLOOKUP(P401,漢字読み!$A$2:$O$502,7,0)=0,\"\",VLOOKUP(P401,漢字読み!$A$2:$O$502,7,0)))","v":{"$error":"#N/A"}},{"$f":"IF(Q401=\"\",\"\",IF(VLOOKUP(Q401,漢字読み!$A$2:$O$502,7,0)=0,\"\",VLOOKUP(Q401,漢字読み!$A$2:$O$502,7,0)))","v":{"$error":"#N/A"}},{"$f":"IF(R401=\"\",\"\",IF(VLOOKUP(R401,漢字読み!$A$2:$O$502,7,0)=0,\"\",VLOOKUP(R401,漢字読み!$A$2:$O$502,7,0)))","v":{"$error":"#N/A"}},{"$f":"IF(S401=\"\",\"\",IF(VLOOKUP(S401,漢字読み!$A$2:$O$502,7,0)=0,\"\",VLOOKUP(S401,漢字読み!$A$2:$O$502,7,0)))","v":{"$error":"#N/A"}},{"$f":"IF(T401=\"\",\"\",IF(VLOOKUP(T401,漢字読み!$A$2:$O$502,7,0)=0,\"\",VLOOKUP(T401,漢字読み!$A$2:$O$502,7,0)))","v":{"$error":"#N/A"}},null,null,"和歌山県教育委員会"]
[{"$f":"INDIRECT(\"'関数（書き）'!C\" & COLUMN(B$1)+SUM($AD$2:$AD407))","v":0},{"$f":"INDIRECT(\"'関数（書き）'!C\" & COLUMN(C$1)+SUM($AD$2:$AD407))","v":0},{"$f":"INDIRECT(\"'関数（書き）'!C\" & COLUMN(D$1)+SUM($AD$2:$AD407))","v":0},{"$f":"INDIRECT(\"'関数（書き）'!C\" & COLUMN(E$1)+SUM($AD$2:$AD407))","v":0},{"$f":"INDIRECT(\"'関数（書き）'!C\" & COLUMN(F$1)+SUM($AD$2:$AD407))","v":0},{"$f":"INDIRECT(\"'関数（書き）'!C\" & COLUMN(G$1)+SUM($AD$2:$AD407))","v":0},{"$f":"INDIRECT(\"'関数（書き）'!C\" & COLUMN(H$1)+SUM($AD$2:$AD407))","v":0},{"$f":"INDIRECT(\"'関数（書き）'!C\" & COLUMN(I$1)+SUM($AD$2:$AD407))","v":0},{"$f":"INDIRECT(\"'関数（書き）'!C\" & COLUMN(J$1)+SUM($AD$2:$AD407))","v":0},{"$f":"INDIRECT(\"'関数（書き）'!C\" & COLUMN(K$1)+SUM($AD$2:$AD407))","v":0},{"$f":"INDIRECT(\"'関数（読み）'!C\" & COLUMN(B$1)+SUM($AD$2:$AD407))","v":0},{"$f":"INDIRECT(\"'関数（読み）'!C\" & COLUMN(C$1)+SUM($AD$2:$AD407))","v":0},{"$f":"INDIRECT(\"'関数（読み）'!C\" & COLUMN(D$1)+SUM($AD$2:$AD407))","v":0},{"$f":"INDIRECT(\"'関数（読み）'!C\" & COLUMN(E$1)+SUM($AD$2:$AD407))","v":0},{"$f":"INDIRECT(\"'関数（読み）'!C\" & COLUMN(F$1)+SUM($AD$2:$AD407))","v":0},{"$f":"INDIRECT(\"'関数（読み）'!C\" & COLUMN(G$1)+SUM($AD$2:$AD407))","v":0},{"$f":"INDIRECT(\"'関数（読み）'!C\" & COLUMN(H$1)+SUM($AD$2:$AD407))","v":0},{"$f":"INDIRECT(\"'関数（読み）'!C\" & COLUMN(I$1)+SUM($AD$2:$AD407))","v":0},{"$f":"INDIRECT(\"'関数（読み）'!C\" & COLUMN(J$1)+SUM($AD$2:$AD407))","v":0},{"$f":"INDIRECT(\"'関数（読み）'!C\" & COLUMN(K$1)+SUM($AD$2:$AD407))","v":0}]
["⑳","⑲","⑱","⑰","⑯","⑮","⑭","⑬","⑫","⑪","⑩","⑨","⑧","⑦","⑥","⑤","④","③","②","①","次の［　　　　］の部分の漢字には読みがなをひらがなで書き、カタカナは漢字に直しなさい。",11,"「漢字の博士検定試験」練習問題　",null,null,null,null,null,"←",10,"問",{"$f":"AH402+1","v":411},"～",{"$f":"SUM($AD$2:$AD407)+10","v":420},"問まで",{"$f":"COUNTIF($A$1:$T$200,T408)","v":5}]
[{"$f":"IF(A406=\"\",\"\",VLOOKUP(A406,漢字書き!$A$2:$N$506,6,0))","v":{"$error":"#N/A"}},{"$f":"IF(B406=\"\",\"\",VLOOKUP(B406,漢字書き!$A$2:$N$506,6,0))","v":{"$error":"#N/A"}},{"$f":"IF(C406=\"\",\"\",VLOOKUP(C406,漢字書き!$A$2:$N$506,6,0))","v":{"$error":"#N/A"}},{"$f":"IF(D406=\"\",\"\",VLOOKUP(D406,漢字書き!$A$2:$N$506,6,0))","v":{"$error":"#N/A"}},{"$f":"IF(E406=\"\",\"\",VLOOKUP(E406,漢字書き!$A$2:$N$506,6,0))","v":{"$error":"#N/A"}},{"$f":"IF(F406=\"\",\"\",VLOOKUP(F406,漢字書き!$A$2:$N$506,6,0))","v":{"$error":"#N/A"}},{"$f":"IF(G406=\"\",\"\",VLOOKUP(G406,漢字書き!$A$2:$N$506,6,0))","v":{"$error":"#N/A"}},{"$f":"IF(H406=\"\",\"\",VLOOKUP(H406,漢字書き!$A$2:$N$506,6,0))","v":{"$error":"#N/A"}},{"$f":"IF(I406=\"\",\"\",VLOOKUP(I406,漢字書き!$A$2:$N$506,6,0))","v":{"$error":"#N/A"}},{"$f":"IF(J406=\"\",\"\",VLOOKUP(J406,漢字書き!$A$2:$N$506,6,0))","v":{"$error":"#N/A"}},{"$f":"IF(K406=\"\",\"\",VLOOKUP(K406,漢字読み!$A$2:$O$506,6,0))","v":{"$error":"#N/A"}},{"$f":"IF(L406=\"\",\"\",VLOOKUP(L406,漢字読み!$A$2:$O$506,6,0))","v":{"$error":"#N/A"}},{"$f":"IF(M406=\"\",\"\",VLOOKUP(M406,漢字読み!$A$2:$O$506,6,0))","v":{"$error":"#N/A"}},{"$f":"IF(N406=\"\",\"\",VLOOKUP(N406,漢字読み!$A$2:$O$506,6,0))","v":{"$error":"#N/A"}},{"$f":"IF(O406=\"\",\"\",VLOOKUP(O406,漢字読み!$A$2:$O$506,6,0))","v":{"$error":"#N/A"}},{"$f":"IF(P406=\"\",\"\",VLOOKUP(P406,漢字読み!$A$2:$O$506,6,0))","v":{"$error":"#N/A"}},{"$f":"IF(Q406=\"\",\"\",VLOOKUP(Q406,漢字読み!$A$2:$O$506,6,0))","v":{"$error":"#N/A"}},{"$f":"IF(R406=\"\",\"\",VLOOKUP(R406,漢字読み!$A$2:$O$506,6,0))","v":{"$error":"#N/A"}},{"$f":"IF(S406=\"\",\"\",VLOOKUP(S406,漢字読み!$A$2:$O$506,6,0))","v":{"$error":"#N/A"}},{"$f":"IF(T406=\"\",\"\",VLOOKUP(T406,漢字読み!$A$2:$O$506,6,0))","v":{"$error":"#N/A"}},null,"級"]
[null,null,null,null,null,null,null,null,null,null,null,null,null,null,null,null,null,null,null,null,null,"名前"]
[{"$f":"IF(A406=\"\",\"\",IF(VLOOKUP(A406,漢字書き!$A$2:$N$502,7,0)=0,\"\",VLOOKUP(A406,漢字書き!$A$2:$N$502,7,0)))","v":{"$error":"#N/A"}},{"$f":"IF(B406=\"\",\"\",IF(VLOOKUP(B406,漢字書き!$A$2:$N$502,7,0)=0,\"\",VLOOKUP(B406,漢字書き!$A$2:$N$502,7,0)))","v":{"$error":"#N/A"}},{"$f":"IF(C406=\"\",\"\",IF(VLOOKUP(C406,漢字書き!$A$2:$N$502,7,0)=0,\"\",VLOOKUP(C406,漢字書き!$A$2:$N$502,7,0)))","v":{"$error":"#N/A"}},{"$f":"IF(D406=\"\",\"\",IF(VLOOKUP(D406,漢字書き!$A$2:$N$502,7,0)=0,\"\",VLOOKUP(D406,漢字書き!$A$2:$N$502,7,0)))","v":{"$error":"#N/A"}},{"$f":"IF(E406=\"\",\"\",IF(VLOOKUP(E406,漢字書き!$A$2:$N$502,7,0)=0,\"\",VLOOKUP(E406,漢字書き!$A$2:$N$502,7,0)))","v":{"$error":"#N/A"}},{"$f":"IF(F406=\"\",\"\",IF(VLOOKUP(F406,漢字書き!$A$2:$N$502,7,0)=0,\"\",VLOOKUP(F406,漢字書き!$A$2:$N$502,7,0)))","v":{"$error":"#N/A"}},{"$f":"IF(G406=\"\",\"\",IF(VLOOKUP(G406,漢字書き!$A$2:$N$502,7,0)=0,\"\",VLOOKUP(G406,漢字書き!$A$2:$N$502,7,0)))","v":{"$error":"#N/A"}},{"$f":"IF(H406=\"\",\"\",IF(VLOOKUP(H406,漢字書き!$A$2:$N$502,7,0)=0,\"\",VLOOKUP(H406,漢字書き!$A$2:$N$502,7,0)))","v":{"$error":"#N/A"}},{"$f":"IF(I406=\"\",\"\",IF(VLOOKUP(I406,漢字書き!$A$2:$N$502,7,0)=0,\"\",VLOOKUP(I406,漢字書き!$A$2:$N$502,7,0)))","v":{"$error":"#N/A"}},{"$f":"IF(J406=\"\",\"\",IF(VLOOKUP(J406,漢字書き!$A$2:$N$502,7,0)=0,\"\",VLOOKUP(J406,漢字書き!$A$2:$N$502,7,0)))","v":{"$error":"#N/A"}},{"$f":"IF(K406=\"\",\"\",IF(VLOOKUP(K406,漢字読み!$A$2:$O$502,7,0)=0,\"\",VLOOKUP(K406,漢字読み!$A$2:$O$502,7,0)))","v":{"$error":"#N/A"}},{"$f":"IF(L406=\"\",\"\",IF(VLOOKUP(L406,漢字読み!$A$2:$O$502,7,0)=0,\"\",VLOOKUP(L406,漢字読み!$A$2:$O$502,7,0)))","v":{"$error":"#N/A"}},{"$f":"IF(M406=\"\",\"\",IF(VLOOKUP(M406,漢字読み!$A$2:$O$502,7,0)=0,\"\",VLOOKUP(M406,漢字読み!$A$2:$O$502,7,0)))","v":{"$error":"#N/A"}},{"$f":"IF(N406=\"\",\"\",IF(VLOOKUP(N406,漢字読み!$A$2:$O$502,7,0)=0,\"\",VLOOKUP(N406,漢字読み!$A$2:$O$502,7,0)))","v":{"$error":"#N/A"}},{"$f":"IF(O406=\"\",\"\",IF(VLOOKUP(O406,漢字読み!$A$2:$O$502,7,0)=0,\"\",VLOOKUP(O406,漢字読み!$A$2:$O$502,7,0)))","v":{"$error":"#N/A"}},{"$f":"IF(P406=\"\",\"\",IF(VLOOKUP(P406,漢字読み!$A$2:$O$502,7,0)=0,\"\",VLOOKUP(P406,漢字読み!$A$2:$O$502,7,0)))","v":{"$error":"#N/A"}},{"$f":"IF(Q406=\"\",\"\",IF(VLOOKUP(Q406,漢字読み!$A$2:$O$502,7,0)=0,\"\",VLOOKUP(Q406,漢字読み!$A$2:$O$502,7,0)))","v":{"$error":"#N/A"}},{"$f":"IF(R406=\"\",\"\",IF(VLOOKUP(R406,漢字読み!$A$2:$O$502,7,0)=0,\"\",VLOOKUP(R406,漢字読み!$A$2:$O$502,7,0)))","v":{"$error":"#N/A"}},{"$f":"IF(S406=\"\",\"\",IF(VLOOKUP(S406,漢字読み!$A$2:$O$502,7,0)=0,\"\",VLOOKUP(S406,漢字読み!$A$2:$O$502,7,0)))","v":{"$error":"#N/A"}},{"$f":"IF(T406=\"\",\"\",IF(VLOOKUP(T406,漢字読み!$A$2:$O$502,7,0)=0,\"\",VLOOKUP(T406,漢字読み!$A$2:$O$502,7,0)))","v":{"$error":"#N/A"}},null,null,"和歌山県教育委員会"]
[{"$f":"A401","v":0},{"$f":"B401","v":0},{"$f":"C401","v":0},{"$f":"D401","v":0},{"$f":"E401","v":0},{"$f":"F401","v":0},{"$f":"G401","v":0},{"$f":"H401","v":0},{"$f":"I401","v":0},{"$f":"J401","v":0},{"$f":"K401","v":0},{"$f":"L401","v":0},{"$f":"M401","v":0},{"$f":"N401","v":0},{"$f":"O401","v":0},{"$f":"P401","v":0},{"$f":"Q401","v":0},{"$f":"R401","v":0},{"$f":"S401","v":0},{"$f":"T401","v":0}]
["⑳","⑲","⑱","⑰","⑯","⑮","⑭","⑬","⑫","⑪","⑩","⑨","⑧","⑦","⑥","⑤","④","③","②","①","次の［　　　　］の部分の漢字には読みがなをひらがなで書き、カタカナは漢字に直しなさい。",11,"「漢字の博士検定試験」練習問題　"]
[{"$f":"IF(A411=\"\",\"\",VLOOKUP(A411,漢字書き!$A$2:$N$506,6,0))","v":{"$error":"#N/A"}},{"$f":"IF(B411=\"\",\"\",VLOOKUP(B411,漢字書き!$A$2:$N$506,6,0))","v":{"$error":"#N/A"}},{"$f":"IF(C411=\"\",\"\",VLOOKUP(C411,漢字書き!$A$2:$N$506,6,0))","v":{"$error":"#N/A"}},{"$f":"IF(D411=\"\",\"\",VLOOKUP(D411,漢字書き!$A$2:$N$506,6,0))","v":{"$error":"#N/A"}},{"$f":"IF(E411=\"\",\"\",VLOOKUP(E411,漢字書き!$A$2:$N$506,6,0))","v":{"$error":"#N/A"}},{"$f":"IF(F411=\"\",\"\",VLOOKUP(F411,漢字書き!$A$2:$N$506,6,0))","v":{"$error":"#N/A"}},{"$f":"IF(G411=\"\",\"\",VLOOKUP(G411,漢字書き!$A$2:$N$506,6,0))","v":{"$error":"#N/A"}},{"$f":"IF(H411=\"\",\"\",VLOOKUP(H411,漢字書き!$A$2:$N$506,6,0))","v":{"$error":"#N/A"}},{"$f":"IF(I411=\"\",\"\",VLOOKUP(I411,漢字書き!$A$2:$N$506,6,0))","v":{"$error":"#N/A"}},{"$f":"IF(J411=\"\",\"\",VLOOKUP(J411,漢字書き!$A$2:$N$506,6,0))","v":{"$error":"#N/A"}},{"$f":"IF(K411=\"\",\"\",VLOOKUP(K411,漢字読み!$A$2:$O$506,6,0))","v":{"$error":"#N/A"}},{"$f":"IF(L411=\"\",\"\",VLOOKUP(L411,漢字読み!$A$2:$O$506,6,0))","v":{"$error":"#N/A"}},{"$f":"IF(M411=\"\",\"\",VLOOKUP(M411,漢字読み!$A$2:$O$506,6,0))","v":{"$error":"#N/A"}},{"$f":"IF(N411=\"\",\"\",VLOOKUP(N411,漢字読み!$A$2:$O$506,6,0))","v":{"$error":"#N/A"}},{"$f":"IF(O411=\"\",\"\",VLOOKUP(O411,漢字読み!$A$2:$O$506,6,0))","v":{"$error":"#N/A"}},{"$f":"IF(P411=\"\",\"\",VLOOKUP(P411,漢字読み!$A$2:$O$506,6,0))","v":{"$error":"#N/A"}},{"$f":"IF(Q411=\"\",\"\",VLOOKUP(Q411,漢字読み!$A$2:$O$506,6,0))","v":{"$error":"#N/A"}},{"$f":"IF(R411=\"\",\"\",VLOOKUP(R411,漢字読み!$A$2:$O$506,6,0))","v":{"$error":"#N/A"}},{"$f":"IF(S411=\"\",\"\",VLOOKUP(S411,漢字読み!$A$2:$O$506,6,0))","v":{"$error":"#N/A"}},{"$f":"IF(T411=\"\",\"\",VLOOKUP(T411,漢字読み!$A$2:$O$506,6,0))","v":{"$error":"#N/A"}},null,"級"]
[{"$f":"IF(A$11=\"\",\"\",VLOOKUP(A411,漢字書き!$A$2:$O$506,8,0))","v":{"$error":"#N/A"}},{"$f":"IF(B$11=\"\",\"\",VLOOKUP(B411,漢字書き!$A$2:$O$506,8,0))","v":{"$error":"#N/A"}},{"$f":"IF(C$11=\"\",\"\",VLOOKUP(C411,漢字書き!$A$2:$O$506,8,0))","v":{"$error":"#N/A"}},{"$f":"IF(D$11=\"\",\"\",VLOOKUP(D411,漢字書き!$A$2:$O$506,8,0))","v":{"$error":"#N/A"}},{"$f":"IF(E$11=\"\",\"\",VLOOKUP(E411,漢字書き!$A$2:$O$506,8,0))","v":{"$error":"#N/A"}},{"$f":"IF(F$11=\"\",\"\",VLOOKUP(F411,漢字書き!$A$2:$O$506,8,0))","v":{"$error":"#N/A"}},{"$f":"IF(G$11=\"\",\"\",VLOOKUP(G411,漢字書き!$A$2:$O$506,8,0))","v":{"$error":"#N/A"}},{"$f":"IF(H$11=\"\",\"\",VLOOKUP(H411,漢字書き!$A$2:$O$506,8,0))","v":{"$error":"#N/A"}},{"$f":"IF(I$11=\"\",\"\",VLOOKUP(I411,漢字書き!$A$2:$O$506,8,0))","v":{"$error":"#N/A"}},{"$f":"IF(J$11=\"\",\"\",VLOOKUP(J411,漢字書き!$A$2:$O$506,8,0))","v":{"$error":"#N/A"}},{"$f":"IF(K$11=\"\",\"\",VLOOKUP(K411,漢字読み!$A$2:$O$506,8,0))","v":{"$error":"#N/A"}},{"$f":"IF(L$11=\"\",\"\",VLOOKUP(L411,漢字読み!$A$2:$O$506,8,0))","v":{"$error":"#N/A"}},{"$f":"IF(M$11=\"\",\"\",VLOOKUP(M411,漢字読み!$A$2:$O$506,8,0))","v":{"$error":"#N/A"}},{"$f":"IF(N$11=\"\",\"\",VLOOKUP(N411,漢字読み!$A$2:$O$506,8,0))","v":{"$error":"#N/A"}},{"$f":"IF(O$11=\"\",\"\",VLOOKUP(O411,漢字読み!$A$2:$O$506,8,0))","v":{"$error":"#N/A"}},{"$f":"IF(P$11=\"\",\"\",VLOOKUP(P411,漢字読み!$A$2:$O$506,8,0))","v":{"$error":"#N/A"}},{"$f":"IF(Q$11=\"\",\"\",VLOOKUP(Q411,漢字読み!$A$2:$O$506,8,0))","v":{"$error":"#N/A"}},{"$f":"IF(R$11=\"\",\"\",VLOOKUP(R411,漢字読み!$A$2:$O$506,8,0))","v":{"$error":"#N/A"}},{"$f":"IF(S$11=\"\",\"\",VLOOKUP(S411,漢字読み!$A$2:$O$506,8,0))","v":{"$error":"#N/A"}},{"$f":"IF(T$11=\"\",\"\",VLOOKUP(T411,漢字読み!$A$2:$O$506,8,0))","v":{"$error":"#N/A"}},null,"名前"]
[{"$f":"IF(A411=\"\",\"\",IF(VLOOKUP(A411,漢字書き!$A$2:$N$502,7,0)=0,\"\",VLOOKUP(A411,漢字書き!$A$2:$N$502,7,0)))","v":{"$error":"#N/A"}},{"$f":"IF(B411=\"\",\"\",IF(VLOOKUP(B411,漢字書き!$A$2:$N$502,7,0)=0,\"\",VLOOKUP(B411,漢字書き!$A$2:$N$502,7,0)))","v":{"$error":"#N/A"}},{"$f":"IF(C411=\"\",\"\",IF(VLOOKUP(C411,漢字書き!$A$2:$N$502,7,0)=0,\"\",VLOOKUP(C411,漢字書き!$A$2:$N$502,7,0)))","v":{"$error":"#N/A"}},{"$f":"IF(D411=\"\",\"\",IF(VLOOKUP(D411,漢字書き!$A$2:$N$502,7,0)=0,\"\",VLOOKUP(D411,漢字書き!$A$2:$N$502,7,0)))","v":{"$error":"#N/A"}},{"$f":"IF(E411=\"\",\"\",IF(VLOOKUP(E411,漢字書き!$A$2:$N$502,7,0)=0,\"\",VLOOKUP(E411,漢字書き!$A$2:$N$502,7,0)))","v":{"$error":"#N/A"}},{"$f":"IF(F411=\"\",\"\",IF(VLOOKUP(F411,漢字書き!$A$2:$N$502,7,0)=0,\"\",VLOOKUP(F411,漢字書き!$A$2:$N$502,7,0)))","v":{"$error":"#N/A"}},{"$f":"IF(G411=\"\",\"\",IF(VLOOKUP(G411,漢字書き!$A$2:$N$502,7,0)=0,\"\",VLOOKUP(G411,漢字書き!$A$2:$N$502,7,0)))","v":{"$error":"#N/A"}},{"$f":"IF(H411=\"\",\"\",IF(VLOOKUP(H411,漢字書き!$A$2:$N$502,7,0)=0,\"\",VLOOKUP(H411,漢字書き!$A$2:$N$502,7,0)))","v":{"$error":"#N/A"}},{"$f":"IF(I411=\"\",\"\",IF(VLOOKUP(I411,漢字書き!$A$2:$N$502,7,0)=0,\"\",VLOOKUP(I411,漢字書き!$A$2:$N$502,7,0)))","v":{"$error":"#N/A"}},{"$f":"IF(J411=\"\",\"\",IF(VLOOKUP(J411,漢字書き!$A$2:$N$502,7,0)=0,\"\",VLOOKUP(J411,漢字書き!$A$2:$N$502,7,0)))","v":{"$error":"#N/A"}},{"$f":"IF(K411=\"\",\"\",IF(VLOOKUP(K411,漢字読み!$A$2:$O$502,7,0)=0,\"\",VLOOKUP(K411,漢字読み!$A$2:$O$502,7,0)))","v":{"$error":"#N/A"}},{"$f":"IF(L411=\"\",\"\",IF(VLOOKUP(L411,漢字読み!$A$2:$O$502,7,0)=0,\"\",VLOOKUP(L411,漢字読み!$A$2:$O$502,7,0)))","v":{"$error":"#N/A"}},{"$f":"IF(M411=\"\",\"\",IF(VLOOKUP(M411,漢字読み!$A$2:$O$502,7,0)=0,\"\",VLOOKUP(M411,漢字読み!$A$2:$O$502,7,0)))","v":{"$error":"#N/A"}},{"$f":"IF(N411=\"\",\"\",IF(VLOOKUP(N411,漢字読み!$A$2:$O$502,7,0)=0,\"\",VLOOKUP(N411,漢字読み!$A$2:$O$502,7,0)))","v":{"$error":"#N/A"}},{"$f":"IF(O411=\"\",\"\",IF(VLOOKUP(O411,漢字読み!$A$2:$O$502,7,0)=0,\"\",VLOOKUP(O411,漢字読み!$A$2:$O$502,7,0)))","v":{"$error":"#N/A"}},{"$f":"IF(P411=\"\",\"\",IF(VLOOKUP(P411,漢字読み!$A$2:$O$502,7,0)=0,\"\",VLOOKUP(P411,漢字読み!$A$2:$O$502,7,0)))","v":{"$error":"#N/A"}},{"$f":"IF(Q411=\"\",\"\",IF(VLOOKUP(Q411,漢字読み!$A$2:$O$502,7,0)=0,\"\",VLOOKUP(Q411,漢字読み!$A$2:$O$502,7,0)))","v":{"$error":"#N/A"}},{"$f":"IF(R411=\"\",\"\",IF(VLOOKUP(R411,漢字読み!$A$2:$O$502,7,0)=0,\"\",VLOOKUP(R411,漢字読み!$A$2:$O$502,7,0)))","v":{"$error":"#N/A"}},{"$f":"IF(S411=\"\",\"\",IF(VLOOKUP(S411,漢字読み!$A$2:$O$502,7,0)=0,\"\",VLOOKUP(S411,漢字読み!$A$2:$O$502,7,0)))","v":{"$error":"#N/A"}},{"$f":"IF(T411=\"\",\"\",IF(VLOOKUP(T411,漢字読み!$A$2:$O$502,7,0)=0,\"\",VLOOKUP(T411,漢字読み!$A$2:$O$502,7,0)))","v":{"$error":"#N/A"}},null,null,"和歌山県教育委員会"]
[{"$f":"A406","v":0},{"$f":"B406","v":0},{"$f":"C406","v":0},{"$f":"D406","v":0},{"$f":"E406","v":0},{"$f":"F406","v":0},{"$f":"G406","v":0},{"$f":"H406","v":0},{"$f":"I406","v":0},{"$f":"J406","v":0},{"$f":"K406","v":0},{"$f":"L406","v":0},{"$f":"M406","v":0},{"$f":"N406","v":0},{"$f":"O406","v":0},{"$f":"P406","v":0},{"$f":"Q406","v":0},{"$f":"R406","v":0},{"$f":"S406","v":0},{"$f":"T406","v":0}]
["⑳","⑲","⑱","⑰","⑯","⑮","⑭","⑬","⑫","⑪","⑩","⑨","⑧","⑦","⑥","⑤","④","③","②","①","次の［　　　　］の部分の漢字には読みがなをひらがなで書き、カタカナは漢字に直しなさい。",11,"「漢字の博士検定試験」練習問題　"]
[{"$f":"IF(A416=\"\",\"\",VLOOKUP(A416,漢字書き!$A$2:$N$506,6,0))","v":{"$error":"#N/A"}},{"$f":"IF(B416=\"\",\"\",VLOOKUP(B416,漢字書き!$A$2:$N$506,6,0))","v":{"$error":"#N/A"}},{"$f":"IF(C416=\"\",\"\",VLOOKUP(C416,漢字書き!$A$2:$N$506,6,0))","v":{"$error":"#N/A"}},{"$f":"IF(D416=\"\",\"\",VLOOKUP(D416,漢字書き!$A$2:$N$506,6,0))","v":{"$error":"#N/A"}},{"$f":"IF(E416=\"\",\"\",VLOOKUP(E416,漢字書き!$A$2:$N$506,6,0))","v":{"$error":"#N/A"}},{"$f":"IF(F416=\"\",\"\",VLOOKUP(F416,漢字書き!$A$2:$N$506,6,0))","v":{"$error":"#N/A"}},{"$f":"IF(G416=\"\",\"\",VLOOKUP(G416,漢字書き!$A$2:$N$506,6,0))","v":{"$error":"#N/A"}},{"$f":"IF(H416=\"\",\"\",VLOOKUP(H416,漢字書き!$A$2:$N$506,6,0))","v":{"$error":"#N/A"}},{"$f":"IF(I416=\"\",\"\",VLOOKUP(I416,漢字書き!$A$2:$N$506,6,0))","v":{"$error":"#N/A"}},{"$f":"IF(J416=\"\",\"\",VLOOKUP(J416,漢字書き!$A$2:$N$506,6,0))","v":{"$error":"#N/A"}},{"$f":"IF(K416=\"\",\"\",VLOOKUP(K416,漢字読み!$A$2:$O$506,6,0))","v":{"$error":"#N/A"}},{"$f":"IF(L416=\"\",\"\",VLOOKUP(L416,漢字読み!$A$2:$O$506,6,0))","v":{"$error":"#N/A"}},{"$f":"IF(M416=\"\",\"\",VLOOKUP(M416,漢字読み!$A$2:$O$506,6,0))","v":{"$error":"#N/A"}},{"$f":"IF(N416=\"\",\"\",VLOOKUP(N416,漢字読み!$A$2:$O$506,6,0))","v":{"$error":"#N/A"}},{"$f":"IF(O416=\"\",\"\",VLOOKUP(O416,漢字読み!$A$2:$O$506,6,0))","v":{"$error":"#N/A"}},{"$f":"IF(P416=\"\",\"\",VLOOKUP(P416,漢字読み!$A$2:$O$506,6,0))","v":{"$error":"#N/A"}},{"$f":"IF(Q416=\"\",\"\",VLOOKUP(Q416,漢字読み!$A$2:$O$506,6,0))","v":{"$error":"#N/A"}},{"$f":"IF(R416=\"\",\"\",VLOOKUP(R416,漢字読み!$A$2:$O$506,6,0))","v":{"$error":"#N/A"}},{"$f":"IF(S416=\"\",\"\",VLOOKUP(S416,漢字読み!$A$2:$O$506,6,0))","v":{"$error":"#N/A"}},{"$f":"IF(T416=\"\",\"\",VLOOKUP(T416,漢字読み!$A$2:$O$506,6,0))","v":{"$error":"#N/A"}},null,"級"]
[{"$f":"IF(A$16=\"\",\"\",VLOOKUP(A416,漢字書き!$A$2:$O$506,8,0))","v":{"$error":"#N/A"}},{"$f":"IF(B$16=\"\",\"\",VLOOKUP(B416,漢字書き!$A$2:$O$506,8,0))","v":{"$error":"#N/A"}},{"$f":"IF(C$16=\"\",\"\",VLOOKUP(C416,漢字書き!$A$2:$O$506,8,0))","v":{"$error":"#N/A"}},{"$f":"IF(D$16=\"\",\"\",VLOOKUP(D416,漢字書き!$A$2:$O$506,8,0))","v":{"$error":"#N/A"}},{"$f":"IF(E$16=\"\",\"\",VLOOKUP(E416,漢字書き!$A$2:$O$506,8,0))","v":{"$error":"#N/A"}},{"$f":"IF(F$16=\"\",\"\",VLOOKUP(F416,漢字書き!$A$2:$O$506,8,0))","v":{"$error":"#N/A"}},{"$f":"IF(G$16=\"\",\"\",VLOOKUP(G416,漢字書き!$A$2:$O$506,8,0))","v":{"$error":"#N/A"}},{"$f":"IF(H$16=\"\",\"\",VLOOKUP(H416,漢字書き!$A$2:$O$506,8,0))","v":{"$error":"#N/A"}},{"$f":"IF(I$16=\"\",\"\",VLOOKUP(I416,漢字書き!$A$2:$O$506,8,0))","v":{"$error":"#N/A"}},{"$f":"IF(J$16=\"\",\"\",VLOOKUP(J416,漢字書き!$A$2:$O$506,8,0))","v":{"$error":"#N/A"}},{"$f":"IF(K$16=\"\",\"\",VLOOKUP(K416,漢字読み!$A$2:$O$506,8,0))","v":{"$error":"#N/A"}},{"$f":"IF(L$16=\"\",\"\",VLOOKUP(L416,漢字読み!$A$2:$O$506,8,0))","v":{"$error":"#N/A"}},{"$f":"IF(M$16=\"\",\"\",VLOOKUP(M416,漢字読み!$A$2:$O$506,8,0))","v":{"$error":"#N/A"}},{"$f":"IF(N$16=\"\",\"\",VLOOKUP(N416,漢字読み!$A$2:$O$506,8,0))","v":{"$error":"#N/A"}},{"$f":"IF(O$16=\"\",\"\",VLOOKUP(O416,漢字読み!$A$2:$O$506,8,0))","v":{"$error":"#N/A"}},{"$f":"IF(P$16=\"\",\"\",VLOOKUP(P416,漢字読み!$A$2:$O$506,8,0))","v":{"$error":"#N/A"}},{"$f":"IF(Q$16=\"\",\"\",VLOOKUP(Q416,漢字読み!$A$2:$O$506,8,0))","v":{"$error":"#N/A"}},{"$f":"IF(R$16=\"\",\"\",VLOOKUP(R416,漢字読み!$A$2:$O$506,8,0))","v":{"$error":"#N/A"}},{"$f":"IF(S$16=\"\",\"\",VLOOKUP(S416,漢字読み!$A$2:$O$506,8,0))","v":{"$error":"#N/A"}},{"$f":"IF(T$16=\"\",\"\",VLOOKUP(T416,漢字読み!$A$2:$O$506,8,0))","v":{"$error":"#N/A"}},null,"名前"]
[{"$f":"IF(A416=\"\",\"\",IF(VLOOKUP(A416,漢字書き!$A$2:$N$502,7,0)=0,\"\",VLOOKUP(A416,漢字書き!$A$2:$N$502,7,0)))","v":{"$error":"#N/A"}},{"$f":"IF(B416=\"\",\"\",IF(VLOOKUP(B416,漢字書き!$A$2:$N$502,7,0)=0,\"\",VLOOKUP(B416,漢字書き!$A$2:$N$502,7,0)))","v":{"$error":"#N/A"}},{"$f":"IF(C416=\"\",\"\",IF(VLOOKUP(C416,漢字書き!$A$2:$N$502,7,0)=0,\"\",VLOOKUP(C416,漢字書き!$A$2:$N$502,7,0)))","v":{"$error":"#N/A"}},{"$f":"IF(D416=\"\",\"\",IF(VLOOKUP(D416,漢字書き!$A$2:$N$502,7,0)=0,\"\",VLOOKUP(D416,漢字書き!$A$2:$N$502,7,0)))","v":{"$error":"#N/A"}},{"$f":"IF(E416=\"\",\"\",IF(VLOOKUP(E416,漢字書き!$A$2:$N$502,7,0)=0,\"\",VLOOKUP(E416,漢字書き!$A$2:$N$502,7,0)))","v":{"$error":"#N/A"}},{"$f":"IF(F416=\"\",\"\",IF(VLOOKUP(F416,漢字書き!$A$2:$N$502,7,0)=0,\"\",VLOOKUP(F416,漢字書き!$A$2:$N$502,7,0)))","v":{"$error":"#N/A"}},{"$f":"IF(G416=\"\",\"\",IF(VLOOKUP(G416,漢字書き!$A$2:$N$502,7,0)=0,\"\",VLOOKUP(G416,漢字書き!$A$2:$N$502,7,0)))","v":{"$error":"#N/A"}},{"$f":"IF(H416=\"\",\"\",IF(VLOOKUP(H416,漢字書き!$A$2:$N$502,7,0)=0,\"\",VLOOKUP(H416,漢字書き!$A$2:$N$502,7,0)))","v":{"$error":"#N/A"}},{"$f":"IF(I416=\"\",\"\",IF(VLOOKUP(I416,漢字書き!$A$2:$N$502,7,0)=0,\"\",VLOOKUP(I416,漢字書き!$A$2:$N$502,7,0)))","v":{"$error":"#N/A"}},{"$f":"IF(J416=\"\",\"\",IF(VLOOKUP(J416,漢字書き!$A$2:$N$502,7,0)=0,\"\",VLOOKUP(J416,漢字書き!$A$2:$N$502,7,0)))","v":{"$error":"#N/A"}},{"$f":"IF(K416=\"\",\"\",IF(VLOOKUP(K416,漢字読み!$A$2:$O$502,7,0)=0,\"\",VLOOKUP(K416,漢字読み!$A$2:$O$502,7,0)))","v":{"$error":"#N/A"}},{"$f":"IF(L416=\"\",\"\",IF(VLOOKUP(L416,漢字読み!$A$2:$O$502,7,0)=0,\"\",VLOOKUP(L416,漢字読み!$A$2:$O$502,7,0)))","v":{"$error":"#N/A"}},{"$f":"IF(M416=\"\",\"\",IF(VLOOKUP(M416,漢字読み!$A$2:$O$502,7,0)=0,\"\",VLOOKUP(M416,漢字読み!$A$2:$O$502,7,0)))","v":{"$error":"#N/A"}},{"$f":"IF(N416=\"\",\"\",IF(VLOOKUP(N416,漢字読み!$A$2:$O$502,7,0)=0,\"\",VLOOKUP(N416,漢字読み!$A$2:$O$502,7,0)))","v":{"$error":"#N/A"}},{"$f":"IF(O416=\"\",\"\",IF(VLOOKUP(O416,漢字読み!$A$2:$O$502,7,0)=0,\"\",VLOOKUP(O416,漢字読み!$A$2:$O$502,7,0)))","v":{"$error":"#N/A"}},{"$f":"IF(P416=\"\",\"\",IF(VLOOKUP(P416,漢字読み!$A$2:$O$502,7,0)=0,\"\",VLOOKUP(P416,漢字読み!$A$2:$O$502,7,0)))","v":{"$error":"#N/A"}},{"$f":"IF(Q416=\"\",\"\",IF(VLOOKUP(Q416,漢字読み!$A$2:$O$502,7,0)=0,\"\",VLOOKUP(Q416,漢字読み!$A$2:$O$502,7,0)))","v":{"$error":"#N/A"}},{"$f":"IF(R416=\"\",\"\",IF(VLOOKUP(R416,漢字読み!$A$2:$O$502,7,0)=0,\"\",VLOOKUP(R416,漢字読み!$A$2:$O$502,7,0)))","v":{"$error":"#N/A"}},{"$f":"IF(S416=\"\",\"\",IF(VLOOKUP(S416,漢字読み!$A$2:$O$502,7,0)=0,\"\",VLOOKUP(S416,漢字読み!$A$2:$O$502,7,0)))","v":{"$error":"#N/A"}},{"$f":"IF(T416=\"\",\"\",IF(VLOOKUP(T416,漢字読み!$A$2:$O$502,7,0)=0,\"\",VLOOKUP(T416,漢字読み!$A$2:$O$502,7,0)))","v":{"$error":"#N/A"}},null,null,"和歌山県教育委員会"]

{"sheet":"漢字読み","index":2,"n_rows":214,"n_cols":8,"rows_kept":214,"cut":false,"hidden":false,"merged":[]}
["通し番号","問題番号","漢字","読み","音訓","問題","送り仮名","読み方"]
[1,1,"湯","トウ",1,"ねっ［湯］に気をつける",null,"とう"]
[2,1,"湯","トウ",2,"［湯］に水をまぜる",null,"ゆ"]
[3,1,"湯","トウ",2,"ふろの［湯］を入れる",null,"ゆ"]
[4,2,"登","トウ",1,"朝早く［登校］する","する","とうこう"]
[5,2,"登","トウ",1,"［登山］列車に乗る",null,"とざん"]
[6,2,"登","トウ",2,"山に［登］る","る","のぼ"]
[7,3,"等","トウ",1,"［平等］に分ける",null,"びょうどう"]
[8,3,"等","トウ",2,"三人に［等］しく分ける","しく","ひと"]
[9,4,"動","ドウ",1,"［動作］がはやい",null,"どうさ"]
[10,4,"動","ドウ",2,"すばやい［動］き","き","うご"]
[11,5,"童","ドウ",1,"［童話］を読む",null,"どうわ"]
[12,5,"童","ドウ",1,"[童心]にかえる",null,"どうしん"]
[13,6,"農","ノウ",1,"［農家］の庭先",null,"のうか"]
[14,6,"農","ノウ",1,"［農業］を始める",null,"のうぎょう"]
[15,7,"波","ハ",1,"［波長］が合う",null,"はちょう"]
[16,7,"波","ハ",1,"［音波］を計算する",null,"おんぱ"]
[17,7,"波","ハ",2,"［波］の音が聞こえる",null,"なみ"]
[18,7,"波","ハ",2,"高い［波］に気をつける",null,"なみ"]
[19,8,"配","ハイ",1,"新聞を［配達］する","する","はいたつ"]
[20,8,"配","ハイ",2,"気を［配］る","る","くば"]
[21,9,"倍","バイ",1,"長さを［倍］にする",null,"ばい"]
[22,9,"倍","バイ",1,"［倍速］でさい生する",null,"ばいそく"]
[23,10,"箱","はこ",2,"［箱］を開ける",null,"はこ"]
[24,10,"箱","はこ",2,"ノアの［箱船］",null,"はこぶね"]
[25,11,"畑","はた",2,"［田畑］をたがやす",null,"たはた"]
[26,11,"畑","はた",2,"［畑］で野さいをつくる",null,"はたけ"]
[27,12,"発","ハツ",1,"元気に声を［発］する","する","はっ"]
[28,12,"発","ハツ",1,"考えを［発表］する","する","はっぴょう"]
[29,13,"反","ハン",1,"右の［反対］は左",null,"はんたい"]
[30,13,"反","ハン",2,"むねを［反］らす","らす","そ"]
[31,14,"坂","ハン",2,"[坂道]を下る",null,"さかみち"]
[32,14,"坂","ハン",2,"急な［坂］にさしかかる",null,"さか"]
[33,15,"板","ハン",1,"［鉄板］でやいた肉",null,"てっぱん"]
[34,15,"板","ハン",2,"かんなで［板］をけずる",null,"いた"]
[35,16,"皮","ヒ",1,"［表皮］をけずる",null,"ひょうひ"]
[36,16,"皮","ヒ",2,"［毛皮］を着る",null,"けがわ"]
[37,17,"悲","ヒ",1,"［悲鳴］がきこえる",null,"ひめい"]
[38,17,"悲","ヒ",2,"［悲］しい日々","しい","かな"]
[39,18,"美","ビ",1,"有終の［美］をかざる",null,"び"]
[40,18,"美","ビ",2,"［美］しいけしき","しい","うつく"]
[41,19,"鼻","ビ",2,"[鼻水]が出る",null,"はなみず"]
[42,19,"鼻","ビ",2,"［鼻］がつまる",null,"はな"]
[43,20,"筆","ヒツ",1,"［筆者］の考え",null,"ひっしゃ"]
[44,20,"筆","ヒツ",1,"［毛筆］を使う",null,"もうひつ"]
[45,20,"筆","ヒツ",2,"［筆］を使う",null,"ふで"]
[46,21,"氷","ヒョウ",1,"［流氷］が動く",null,"りゅうひょう"]
[47,21,"氷","ヒョウ",2,"［氷］がとける",null,"こおり"]
[48,22,"表","ヒョウ",1,"当番［表］を見る",null,"ひょう"]
[49,22,"表","ヒョウ",2,"うらと［表］をたしかめる",null,"おもて"]
[50,22,"表","ヒョウ",2,"図やグラフで［表］す","す","あらわ"]
[51,23,"秒","ビョウ",1,"一分は六十［秒］",null,"びょう"]
[52,24,"病","ビョウ",1,"［病気］をなおす",null,"びょうき"]
[53,24,"病","ビョウ",1,"［病院］でみてもらう",null,"びょういん"]
[54,24,"病","ビョウ",2,"［病］にたおれる",null,"やまい"]
[55,25,"品","ヒン",1,"車の［部品］",null,"ぶひん"]
[56,25,"品","ヒン",1,"［上品］なおばあさん","な","じょうひん"]
[57,25,"品","ヒン",2,"かれは［手品］がうまい",null,"てじな"]
[58,26,"負","フ",1,"［勝負］にかける",null,"しょうぶ"]
[59,26,"負","フ",2,"リュックをせ［負］う","う","お"]
[60,26,"負","フ",2,"じゃんけんで［負］ける","ける","ま"]
[61,27,"部","ブ",1,"［全部］食べる",null,"ぜんぶ"]
[62,27,"部","ブ",1,"［部活動］がさかんだ",null,"ぶかつどう"]
[63,28,"服","フク",1,"［服］を着る",null,"ふく"]
[64,28,"服","フク",1,"薬を［服用］する","する","ふくよう"]
[65,29,"福","フク",1,"［七福神］をまつる",null,"しちふくじん"]
[66,29,"福","フク",1,"［福］をよぶ鳥",null,"ふく"]
[67,30,"物","ブツ",1,"［荷物］を運ぶ",null,"にもつ"]
[68,30,"物","ブツ",1,"わからない［物体］",null,"ぶったい"]
[69,30,"物","ブツ",2,"［品物］をならべる",null,"しなもの"]
[70,31,"平","ヘイ",1,"世界の［平和］",null,"へいわ"]
[71,31,"平","ヘイ",1,"人間は［平等］だ",null,"びょうどう"]
[72,31,"平","ヘイ",1,"［平日］のダイヤ",null,"へいじつ"]
[73,31,"平","ヘイ",2,"［平］らな土地","らな","たい"]
[74,31,"平","ヘイ",2,"［平］たい皿を買う","たい","ひら"]
[75,32,"返","ヘン",1,"気持ちのよい［返事］",null,"へんじ"]
[76,32,"返","ヘン",1,"［返答］を待つ",null,"へんとう"]
[77,32,"返","ヘン",2,"［返］すことばがない","す","かえ"]
[78,33,"勉","ベン",1,"［勉強］がすきだ",null,"べんきょう"]
[79,33,"勉","ベン",1,"［勉学］にはげむ",null,"べんがく"]
[80,34,"放","ホウ",1,"魚を［放流］する","する","ほうりゅう"]
[81,34,"放","ホウ",2,"ち魚を［放］す","す","はな"]
[82,34,"放","ホウ",2,"ボールを［放］る","る","ほう"]
[83,35,"味","ミ",1,"ことばの［意味］",null,"いみ"]
[84,35,"味","ミ",2,"［塩味］が強い",null,"しおあじ"]
[85,35,"味","ミ",2,"ゆっくり［味］わう","わう","あじ"]
[86,36,"命","メイ",1,"［命題］をあたえられる",null,"めいだい"]
[87,36,"命","メイ",2,"［命］の重さ",null,"いのち"]
[88,37,"面","メン",1,"月の［表面］の写真",null,"ひょうめん"]
[89,37,"面","メン",1,"［顔面］がこわばる",null,"がんめん"]
[90,37,"面","メン",1,"[面]と向かって言う",null,"めん"]
[91,37,"面","メン",1,"こんなんに[直面]する","する","ちょくめん"]
[92,38,"問","モン",1,"［問答］をする",null,"もんどう"]
[93,38,"問","モン",2,"［問］いに答える","い","と"]
[94,38,"問","モン",2,"［問］いつめる","い","と"]
[95,38,"問","モン",2,"魚のおろし［問屋］",null,"どんや"]
[96,39,"役","ヤク",1,"［役場］につとめる",null,"やくば"]
[97,39,"役","ヤク",1,"［役目］を果たす",null,"やくめ"]
[98,39,"役","ヤク",1,"［役者］になりたい",null,"やくしゃ"]
[99,40,"薬","ヤク",1,"［薬局］に立ちよる",null,"やっきょく"]
[100,40,"薬","ヤク",2,"［目薬］をさす",null,"めぐすり"]
[101,41,"由","ユ",1,"［自由］をうばわれる",null,"じゆう"]
[102,41,"由","ユ",1,"［由来］をたずねる",null,"ゆらい"]
[103,42,"油","ユ",1,"［油］がもれる",null,"あぶら"]
[104,42,"油","ユ",2,"火に［油］をそそぐ",null,"あぶら"]
[105,42,"油","ユ",1,"［油田］を見つける",null,"ゆでん"]
[106,43,"有","ユウ",1,"タバコは［有害］だ","だ","ゆうがい"]
[107,43,"有","ユウ",1,"温せんで［有名］な土地","な","ゆうめい"]
[108,43,"有","ユウ",2,"［有］るかないか調べる","るか","あ"]
[109,44,"遊","ユウ",1,"［遊園地］がにぎわう",null,"ゆうえんち"]
[110,44,"遊","ユウ",2,"［遊］びに行こう","び","あそ"]
[111,45,"予","ヨ",1,"夏休みの［予定］",null,"よてい"]
[112,46,"羊","ヨウ",1,"［羊毛］のセーター",null,"ようもう"]
[113,46,"羊","ヨウ",2,"［子羊］のむれ",null,"こひつじ"]
[114,46,"羊","ヨウ",2,"かわいい［羊］",null,"ひつじ"]
[115,47,"洋","ヨウ",1,"［西洋］の文化",null,"せいよう"]
[116,47,"洋","ヨウ",1,"［洋服］を買いにいく",null,"ようふく"]
[117,47,"洋","ヨウ",1,"［大西洋］の海",null,"たいせいよう"]
[118,48,"葉","ヨウ",1,"［落葉］する木","する","らくよう"]
[119,48,"葉","ヨウ",2,"モミジの［葉］のような手",null,"は"]
[120,49,"陽","ヨウ",1,"気持ちのいい［陽気］",null,"ようき"]
[121,49,"陽","ヨウ",1,"［陽光］がさす",null,"ようこう"]
[122,49,"陽","ヨウ",1,"［太陽］の光",null,"たいよう"]
[123,50,"様","ヨウ",1,"［様子］がわからない",null,"ようす"]
[124,50,"様","ヨウ",2,"田中［様］からお電話です",null,"さま"]
[125,50,"様","ヨウ",2,"［様］になっている",null,"さま"]
[126,51,"落","ラク",1,"［落石］に注意",null,"らくせき"]
[127,51,"落","ラク",1,"［落下］さんでおりる","さん","らっか"]
[128,51,"落","ラク",2,"よごれを［落］とす","とす","お"]
[129,52,"流","リュウ",1,"［上流］の水",null,"じょうりゅう"]
[130,52,"流","リュウ",2,"水に［流］す","す","なが"]
[131,52,"流","リュウ",2,"［流］れがかわる","れ","なが"]
[132,53,"旅","リョ",1,"［旅行］に行く",null,"りょこう"]
[133,53,"旅","リョ",1,"海外［旅行］",null,"りょこう"]
[134,53,"旅","リョ",2,"一人で［旅］をする",null,"たび"]
[135,54,"両","リョウ",1,"［両手］でつかむ",null,"りょうて"]
[136,55,"緑","リョク",1,"［緑地］公園に行く",null,"りょくち"]
[137,55,"緑","リョク",2,"山の［緑］がきれいだ",null,"みどり"]
[138,56,"礼","レイ",1,"［礼］を言う",null,"れい"]
[139,57,"列","レツ",1,"［列］にくわわる",null,"れつ"]
[140,58,"練","レン",1,"水泳の［練習］",null,"れんしゅう"]
[141,58,"練","レン",2,"考えを［練］る","る","ね"]
[142,59,"路","ロ",1,"汽車の［線路］",null,"せんろ"]
[143,59,"路","ロ",1,"［路線］が変わる",null,"ろせん"]
[144,59,"路","ロ",1,"［道路］を工事する",null,"どうろ"]
[145,60,"和","ワ",1,"［平和］な国","な","へいわ"]
[146,60,"和","ワ",1,"[和紙]でつつむ",null,"わし"]
[147,61,"愛","アイ",1,"家族から［愛］される","される","あい"]
[148,62,"案","アン",1,"それは［名案］だ",null,"めいあん"]
[149,62,"案","アン",1,"［案外］むずかしい",null,"あんがい"]
[150,63,"以","イ",1,"百万人［以上］の都市",null,"いじょう"]
[151,64,"衣","イ",1,"［衣服］をたたむ",null,"いふく"]
[152,64,"衣","イ",1,"[白衣]を着る",null,"はくい"]
[153,65,"位","イ",1,"［品位］が問われる",null,"ひんい"]
[154,65,"位","イ",2,"十の［位］",null,"くらい"]
[155,66,"媛","エン",1,"［愛媛県］に行く",null,"えひめけん"]
[156,67,"岡","オカ",1,"［岡山県］に帰る",null,"おかやまけん"]
[157,68,"印","イン",1,"［印字］された文","された","いんじ"]
[158,68,"印","イン",2,"［印］をつける",null,"しるし"]
[159,69,"英","エイ",1,"［英語］の時間",null,"えいご"]
[160,70,"栄","エイ",2,"国が［栄］える","える","さか"]
[161,70,"栄","エイ",1,"［栄］ようをとる","よう","えい"]
[162,71,"塩","エン",1,"［岩塩］をくだく",null,"がんえん"]
[163,71,"塩","エン",2,"てきに［塩］をおくる",null,"しお"]
[164,72,"億","オク",1,"［億万］長者になる","長者","おくまん"]
[165,73,"加","カ",2,"スープに塩を［加］える","える","くわ"]
[166,73,"加","カ",1,"ルールを［追加］する","する","ついか"]
[167,74,"果","カ",1,"［果実］のめぐみ",null,"かじつ"]
[168,74,"果","カ",2,"やくそくを［果］たす","たす","は"]
[169,75,"貨","カ",1,"［貨物］を運ぶ列車",null,"かもつ"]
[170,75,"貨","カ",1,"［銀貨］をもらう",null,"ぎんか"]
[171,76,"課","カ",1,"［課長］の仕事",null,"かちょう"]
[172,76,"課","カ",1,"せきにんを［課］す","す","か"]
[173,77,"芽","ガ",1,"［発芽］げん米を食べる",null,"はつが"]
[174,77,"芽","ガ",2,"木の［芽］がふくらむ",null,"め"]
[175,77,"芽","ガ",2,"草木が［芽生］える","える","めば"]
[176,78,"改","カイ",1,"悪人が［改心］する","する","かいしん"]
[177,78,"改","カイ",2,"心を［改］める","める","あらた"]
[178,79,"械","カイ",1,"［機械］を使う",null,"きかい"]
[179,80,"害","ガイ",1,"タバコは［有害］だ","だ","ゆうがい"]
[180,81,"街","ガイ",1,"［街道］ぞいの店","ぞい","かいどう"]
[181,81,"街","ガイ",2,"［街］の光が消える",null,"まち"]
[182,82,"各","カク",1,"［各自］で考える",null,"かくじ"]
[183,83,"覚","カク",1,"［自覚］がない",null,"じかく"]
[184,83,"覚","カク",2,"［目覚］まし時計が鳴る","まし","めざ"]
[185,83,"覚","カク",2,"かけ算を［覚］える","える","おぼ"]
[186,84,"完","カン",1,"［完全］に仕上げる",null,"かんぜん"]
[187,85,"官","カン",1,"けいさつ［官］になる",null,"かん"]
[188,85,"官","カン",1,"兄は［外交官］だ",null,"がいこうかん"]
[189,86,"管","カン",1,"体には［血管］がある",null,"けっかん"]
[190,86,"管","カン",2,"ゴムの［管］",null,"くだ"]
[191,87,"関","カン",1,"自分は［関係］ない","ない","かんけい"]
[192,87,"関","カン",2,"［関所］を通る",null,"せきしょ"]
[193,87,"関","カン",2,"［関］わりをさける","わり","かか"]
[194,88,"観","カン",1,"［観光］地をおとずれる","地","かんこう"]
[195,88,"観","カン",1,"たくさんの［観客］がいる",null,"かんきゃく"]
[196,89,"願","ガン",1,"［悲願］の一勝",null,"ひがん"]
[197,89,"願","ガン",2,"［願］いがかなう","い","ねが"]
[198,90,"希","キ",1,"平和を［希求］する","する","ききゅう"]
[199,91,"季","キ",1,"春夏秋冬の［季］せつ","せつ","き"]
[200,91,"季","キ",1,"日本の［四季］",null,"しき"]
[201,92,"賀","ガ",1,"［年賀］はがきを出す","はがき","ねんが"]
[202,93,"潟","ガタ",1,"［新潟県］の米づくり",null,"にいがたけん"]
[203,94,"旗","キ",1,"日本の［国旗］",null,"こっき"]
[204,94,"旗","キ",2,"［旗］をふる",null,"はた"]
[205,95,"器","キ",2,"木の［器］を使う",null,"うつわ"]
[206,95,"器","キ",1,"［食器］をあらう",null,"しょっき"]
[207,96,"機","キ",1,"［機械］がこわれる",null,"きかい"]
[208,97,"議","ギ",1,"［議会］が開かれる",null,"ぎかい"]
[209,98,"求","キュウ",1,"［求人］の広こく",null,"きゅうじん"]
[210,98,"求","キュウ",2,"助けを［求］める","める","もと"]
[211,99,"熊","クマ",1,"火山が有名な［熊本県］",null,"くまもとけん"]
[212,100,"富","フ",2,"［富山県］に行く",null,"とやまけん"]
[213,100,"富","フ",2,"［富］をたくわえる",null,"とみ"]

{"sheet":"漢字書き","index":3,"n_rows":437,"n_cols":8,"rows_kept":437,"cut":false,"hidden":false,"merged":[]}
["通し番号","問題番号","漢字","読み","音訓","問題","送り仮名","漢字"]
[1,1,"湯","トウ",1,"ねっ［トウ］をかける",null,"湯"]
[2,1,"湯","トウ",2,"［ユ］をわかす",null,"湯"]
[3,2,"登","ト",1,"［トザン］列車に乗る",null,"登山"]
[4,2,"登","ト",1,"［トウコウ］中の学生","中","登校"]
[5,2,"登","ト",2,"山に［ノボ］る","る","登"]
[6,3,"等","トウ",1,"ケーキを［トウブン］する","する","等分"]
[7,3,"等","トウ",1,"［ビョウドウ］にあつかう","に","平等"]
[8,3,"等","トウ",2,"［ヒト］しい長さ","しい","等"]
[9,4,"動","ドウ",1,"［ウンドウ］会に出る","会","運動"]
[10,4,"動","ドウ",1,"ゆっくりした［ドウサ］",null,"動作"]
[11,4,"動","ドウ",2,"気持ちが［ウゴ］く","く","動"]
[12,4,"動","ドウ",2,"気持ちを［ウゴ］かす","かす","動"]
[13,5,"童","ドウ",1,"日本の［ドウワ］を読む",null,"童話"]
[14,5,"童","ドウ",1,"［ドウ］ようを歌う","よう","童"]
[15,5,"童","ドウ",1,"じ[ドウ]会の役員","会","童"]
[16,6,"農","ノウ",1,"［ノウカ］の庭先",null,"農家"]
[17,7,"波","ハ",1,"［デンパ］がとどく",null,"電波"]
[18,7,"波","ハ",2,"［ナミ］が高い海",null,"波"]
[19,8,"配","ハイ",1,"新聞を［ハイタツ］する","する","配達"]
[20,8,"配","ハイ",1,"［シンパイ］をかける",null,"心配"]
[21,8,"配","ハイ",2,"きゅう食を［クバ］る","る","配"]
[22,9,"倍","バイ",1,"［ニバイ］の量になる",null,"二倍"]
[23,10,"箱","はこ",2,"ごみ［バコ］を用意する",null,"箱"]
[24,10,"箱","はこ",2,"大きな［ハコ］",null,"箱"]
[25,11,"畑","はたけ",2,"［ハタケ］の土",null,"畑"]
[26,11,"畑","はたけ",2,"［タハタ］をたがやす",null,"田畑"]
[27,12,"発","ハツ",1,"［ハッセイ］練習",null,"発声"]
[28,12,"発","ハツ",1,"新星を[ハッケン]する","する","発見"]
[29,12,"発","ハツ",1,"［ハッピョウ］会で歌を歌う","会","発表"]
[30,13,"反","ハン",1,"［ハンタイ］の意見",null,"反対"]
[31,13,"反","ハン",1,"親に［ハンパツ］する","する","反発"]
[32,13,"反","ハン",2,"体を［ソ］らす","らす","反"]
[33,13,"反","ハン",2,"表紙が［ソ］る","る","反"]
[34,14,"坂","バン",2,"急な［サカ］",null,"坂"]
[35,14,"坂","バン",2,"［サカミチ］を歩く",null,"坂道"]
[36,15,"板","バン",1,"［コクバン］に書く",null,"黒板"]
[37,15,"板","バン",1,"［テッパン］で肉をやく",null,"鉄板"]
[38,15,"板","バン",2,"立て［イタ］に水で話す",null,"板"]
[39,16,"皮","ヒ",1,"日にやけた［ヒ］ふ","ふ","皮"]
[40,16,"皮","ヒ",2,"りんごの［カワ］をむく",null,"皮"]
[41,16,"皮","ヒ",2,"［ケガワ］のコート",null,"毛皮"]
[42,16,"皮","ヒ",2,"みかんの［カワ］",null,"皮"]
[43,17,"悲","ヒ",1,"［ヒガン］のゆう勝",null,"悲願"]
[44,17,"悲","ヒ",2,"［カナ］しい気持ちになる","しい","悲"]
[45,18,"美","ビ",1,"母は［ビジン］だ","だ","美人"]
[46,18,"美","ビ",2,"夕日が［ウツク］しい","しい","美"]
[47,19,"鼻","ビ",2,"［ハナミズ］が出る",null,"鼻水"]
[48,20,"筆","ヒツ",1,"本の［ヒッシャ］",null,"筆者"]
[49,20,"筆","ヒツ",1,"［モウヒツ］の時間",null,"毛筆"]
[50,20,"筆","ヒツ",2,"［フデ］を使って書く",null,"筆者"]
[51,21,"氷","ヒョウ",1,"［ヒョウザン］の一角",null,"氷山"]
[52,21,"氷","ヒョウ",2,"つめたい［コオリ］",null,"氷"]
[53,21,"氷","ヒョウ",2,"［コオリ］がとける",null,"氷"]
[54,22,"表","ヒョウ",1,"［ヒョウシ］の写真",null,"表紙"]
[55,22,"表","ヒョウ",2,"［オモテ］とうら",null,"表"]
[56,23,"秒","ビョウ",1,"時計の［ビョウ］しん","しん","秒"]
[57,23,"秒","ビョウ",1,"［ジュウゴビョウ］の動画",null,"十五秒"]
[58,24,"病","ビョウ",1,"［ビョウイン］に通う",null,"病院"]
[59,24,"病","ビョウ",1,"[ビョウジャク]な人","な","病弱"]
[60,24,"病","ビョウ",2,"［ヤマイ］は気から",null,"病"]
[61,25,"品","ヒン",1,"［ジョウヒン］な母親","な","上品"]
[62,25,"品","ヒン",1,"［ヒン］がよい人",null,"品"]
[63,25,"品","ヒン",2,"［テジナ］は楽しい",null,"手品"]
[64,26,"負","フ",1,"［ショウブ］がつかない",null,"勝負"]
[65,26,"負","フ",2,"けがを［オ］う","う","負"]
[66,26,"負","フ",2,"妹に［マ］かされる","かされる","負"]
[67,26,"負","フ",2,"勝ったり［マ］けたりする","け","負"]
[68,27,"部","ブ",1,"［ブシツ］をそうじする",null,"部室"]
[69,27,"部","ブ",1,"かれのよわい［ブブン］",null,"部分"]
[70,27,"部","ブ",1,"［ヤキュウブ］の先ぱい",null,"野球部"]
[71,28,"服","フク",1,"［イフク］をそろえる",null,"衣服"]
[72,28,"服","フク",1,"薬を［フクヨウ］する","する","服用"]
[73,29,"福","フク",1,"［フク］は内おには外",null,"福"]
[74,29,"福","フク",1,"［コウフク］の王子",null,"幸福"]
[75,30,"物","ブツ",1,"たくさんの［ケンブツ］人","人","見物"]
[76,30,"物","ブツ",1,"［ニモツ］を運ぶ",null,"荷物"]
[77,30,"物","ブツ",2,"［シナモノ］をならべる",null,"品物"]
[78,30,"物","ブツ",2,"［モノガタリ］を読む",null,"物語"]
[79,31,"平","ヘイ",1,"［ヘイワ］な世の中","な","平和"]
[80,31,"平","ヘイ",1,"［ビョウドウ］にあつかう","に","平等"]
[81,31,"平","ヘイ",2,"［タイ］らな所におく","らな","平"]
[82,31,"平","ヘイ",2,"手の［ヒラ］を見つめる",null,"平"]
[83,32,"返","ヘン",1,"手紙の［ヘンジ］を書く",null,"返事"]
[84,32,"返","ヘン",2,"本を［カエ］す","す","返"]
[85,33,"勉","ベン",1,"よく［ベンキョウ］する","する","勉強"]
[86,34,"放","ホウ",1,"魚を［ホウリュウ］する","する","放流"]
[87,34,"放","ホウ",1,"学校を［カイホウ］する","する","開放"]
[88,34,"放","ホウ",2,"［ハナ］しがいにする","しがい","放"]
[89,34,"放","ホウ",2,"牛を［ハナ］す","す","放"]
[90,34,"放","ホウ",2,"［ホウ］っておけない物","って","放"]
[91,35,"味","ミ",1,"かぜ［ギミ］になっている",null,"気味"]
[92,35,"味","ミ",2,"うすい［アジ］",null,"味"]
[93,35,"味","ミ",2,"［アジ］のこい食べ物",null,"味"]
[94,36,"命","メイ",1,"［セイメイ］を守る",null,"生命"]
[95,36,"命","メイ",2,"［イノチ］を大切にする",null,"命"]
[96,36,"命","メイ",2,"［イノチ］の重さ",null,"命"]
[97,37,"面","メン",1,"テレビの［ガメン］",null,"画面"]
[98,37,"面","メン",1,"[ジメン]を強くける",null,"地面"]
[99,38,"問","モン",1,"［モンダイ］になる",null,"問題"]
[100,38,"問","モン",2,"かれに［ト］う","う","問"]
[101,38,"問","モン",2,"商品の［トンヤ］",null,"問屋"]
[102,39,"役","ヤク",1,"クラスの［ヤクイン］になる",null,"役員"]
[103,39,"役","ヤク",1,"［ヤクシャ］になる",null,"役者"]
[104,39,"役","ヤク",1,"［ヤクバ］につとめる",null,"役場"]
[105,40,"薬","ヤク",1,"［ヤクソウ］をさがす",null,"薬草"]
[106,40,"薬","ヤク",2,"［クスリ］を飲む",null,"薬"]
[107,41,"由","ユ",1,"［ユライ］をたずねる",null,"由来"]
[108,41,"由","ユ",1,"［ジユウ］な生活","な","自由"]
[109,42,"油","ユ",1,"石炭と［セキユ］",null,"石油"]
[110,42,"油","ユ",2,"［アブラ］がこぼれる",null,"油"]
[111,43,"有","ユウ",1,"［ユウリョク］なせん手","な","優良"]
[112,43,"有","ユウ",2,"［ア］るかないか調べる","る","有"]
[113,44,"遊","ユウ",1,"［ユウエンチ］に行く",null,"遊園地"]
[114,44,"遊","ユウ",2,"友だちと［アソ］ぶ","ぶ","遊"]
[115,44,"遊","ユウ",2,"昔の［アソ］び","び","遊"]
[116,45,"予","ヨ",1,"十年後を［ヨゲン］する","する","予言"]
[117,45,"予","ヨ",1,"［ヨテイ］がある",null,"予定"]
[118,46,"羊","ヨウ",1,"［ヨウモウ］のセーター",null,"羊毛"]
[119,46,"羊","ヨウ",2,"［ヒツジ］のむれ",null,"羊"]
[120,47,"洋","ヨウ",1,"［タイヘイヨウ］にうかぶ島",null,"太平洋"]
[121,48,"葉","ヨウ",1,"［ラクヨウ］のきせつ",null,"落葉"]
[122,48,"葉","ヨウ",2,"［コトバ］を集める",null,"言葉"]
[123,48,"葉","ヨウ",2,"木の［ハ］をひろう",null,"葉"]
[124,49,"陽","ヨウ",1,"明るい［タイヨウ］",null,"太陽"]
[125,49,"陽","ヨウ",1,"［ヨウキ］なせいかく","な","陽気"]
[126,50,"様","ヨウ",1,"まわりの［ヨウス］",null,"様子"]
[127,50,"様","ヨウ",2,"はだかの［オウサマ］",null,"王様"]
[128,51,"落","ラク",1,"［ラッカ］した所","した","落下"]
[129,51,"落","ラク",2,"水が［オ］ちる","ちる","落"]
[130,51,"落","ラク",2,"よごれを［オ］とす","とす","落"]
[131,52,"流","リュウ",1,"川の［カリュウ］",null,"下流"]
[132,52,"流","リュウ",2,"［ナガ］れの速い川","れ","流"]
[133,52,"流","リュウ",2,"急な［ナガ］れ","れ","流"]
[134,53,"旅","リョ",1,"［リョカン］にとまる",null,"旅館"]
[135,53,"旅","リョ",2,"［タビ］に出る",null,"旅"]
[136,54,"両","リョウ",1,"［リョウホウ］ともほしい",null,"両方"]
[137,54,"両","リョウ",1,"［リョウアシ］で立つ",null,"両足"]
[138,55,"緑","リョク",1,"［リョクチャ］を飲む",null,"緑茶"]
[139,55,"緑","リョク",2,"［ミドリ］の草原",null,"緑"]
[140,55,"緑","リョク",2,"［ミドリ］があざやかだ",null,"緑"]
[141,56,"礼","レイ",1,"［レイ］ぎ正しい人","ぎ","礼"]
[142,56,"礼","レイ",1,"お［レイ］を言う",null,"礼"]
[143,57,"列","レツ",1,"［レッシャ］に乗る",null,"列車"]
[144,57,"列","レツ",1,"［レツ］に加わる",null,"列"]
[145,58,"練","レン",1,"［レンシュウ］にはげむ",null,"練習"]
[146,58,"練","レン",1,"ピアノの［レンシュウ］",null,"練習"]
[147,58,"練","レン",2,"あんこを［ネ］る","る","練"]
[148,59,"路","ロ",1,"汽車の［センロ］",null,"線路"]
[149,59,"路","ロ",2,"［ロジ］うらのお店","うら","路地"]
[150,60,"和","ワ",1,"平安時代の［ワカ］を読む",null,"和歌"]
[151,60,"和","ワ",1,"[ワショク]をこのむ",null,"和食"]
[152,60,"和","ワ",1,"[ワカヤマ]市に住む","市","和歌山"]
[153,61,"愛","アイ",1,"［アイ］とゆう気",null,"愛"]
[154,61,"愛","アイ",1,"［アイチケン］の出身",null,"愛知県"]
[155,62,"案","アン",1,"［アンナイ］する","する","案内"]
[156,62,"案","アン",1,"みんなで［アン］を出す",null,"案"]
[157,63,"以","イ",1,"［イジョウ］で終わりです",null,"以上"]
[158,64,"衣","イ",1,"［イフク］を整える",null,"衣服"]
[159,64,"衣","イ",1,"夏物の[イ]るい","るい","衣"]
[160,65,"位","イ",1,"［ジョウイ］のせいせき",null,"上位"]
[161,65,"位","イ",2,"［クライ］をそろえる",null,"位"]
[162,66,"媛","エン",1,"［エヒメケン］に行く",null,"愛媛県"]
[163,67,"岡","オカ",1,"［オカヤマケン］の出身",null,"岡山県"]
[164,67,"岡","オカ",1,"［フクオカケン］に住む",null,"福岡県"]
[165,68,"印","イン",1,"［イン］さつされた文字","さつ","印"]
[166,68,"印","イン",2,"［シルシ］をつける",null,"印"]
[167,69,"英","エイ",1,"［エイゴ］を話す",null,"英語"]
[168,69,"英","エイ",1,"［エイ］ゆうになる","ゆう","英"]
[169,70,"栄","エイ",1,"［エイコウ］のかけ橋",null,"栄光"]
[170,70,"栄","エイ",2,"町が［サカ］える","える","栄"]
[171,71,"塩","エン",1,"［エンブン］の取りすぎ",null,"塩分"]
[172,71,"塩","エン",2,"［シオアジ］が足りない",null,"塩味"]
[173,71,"塩","エン",2,"さとうと［シオ］",null,"塩"]
[174,72,"億","オク",1,"［オクマン］長者","長者","億万"]
[175,72,"億","オク",1,"［イチオク］の人口",null,"一億"]
[176,73,"加","カ",1,"みんなでさん［カ］する","する","加"]
[177,73,"加","カ",2,"ゲームに［クワ］わる","わる","加"]
[178,74,"果","カ",1,"［カジツ］のしゅうかく",null,"果実"]
[179,74,"果","カ",2,"［ハ］てしなくつづく","て","果"]
[180,74,"果","カ",2,"役わりを［ハ］たす","たす","果"]
[181,75,"貨","カ",1,"［カモツ］列車",null,"貨物"]
[182,75,"貨","カ",1,"［キンカ］を手に入れる",null,"金貨"]
[183,76,"課","カ",1,"［ホウカ］後のやくそく","後","放課"]
[184,76,"課","カ",1,"［カダイ］をあたえられる",null,"課題"]
[185,77,"芽","ガ",1,"たねが［ハツガ］する","する","発芽"]
[186,77,"芽","ガ",2,"木の［メ］がふくらむ",null,"芽"]
[187,78,"改","カイ",1,"機械を［カイ］りょうする","りょう","改"]
[188,78,"改","カイ",2,"すなおに［アラタ］める","める","改"]
[189,78,"改","カイ",2,"気持ちが［アラタ］まる","まる","改"]
[190,79,"械","カイ",1,"［キカイ］をしゅう理する",null,"機械"]
[191,80,"害","ガイ",1,"［ガイ］のある食べ物",null,"害"]
[192,81,"街","ガイ",1,"商店［ガイ］を歩く",null,"街"]
[193,81,"街","ガイ",1,"［ガイロ］じゅの道","じゅ","街路"]
[194,82,"各","カク",1,"昼食は［カクジ］持ってくる",null,"各自"]
[195,83,"覚","カク",1,"［カンカク］がするどい",null,"感覚"]
[196,83,"覚","カク",2,"目を［サ］ます","ます","覚"]
[197,83,"覚","カク",2,"字を［オボ］える","える","覚"]
[198,84,"完","カン",1,"［カンゼン］に仕上げる",null,"完全"]
[199,85,"官","カン",1,"けいさつ［カン］になる",null,"官"]
[200,86,"管","カン",1,"公園の［カンリ］",null,"管理"]
[201,86,"管","カン",2,"［クダ］に水を通す",null,"管"]
[202,87,"関","カン",1,"親子の［カンケイ］",null,"関係"]
[203,87,"関","カン",1,"音楽に［カン］する本","する","関"]
[204,87,"関","カン",2,"［セキショ］を通る",null,"関所"]
[205,87,"関","カン",2,"［カカ］わりを持つ","わり","関"]
[206,88,"観","カン",1,"虫を［カン］さつする","さつ","観"]
[207,88,"観","カン",1,"［カンキャク］のはく手",null,"観客"]
[208,89,"願","ガン",1,"ゆう勝をき［ガン］する","する","願"]
[209,89,"願","ガン",2,"強く［ネガ］う","う","願"]
[210,89,"願","ガン",2,"［ネガ］いがかなう","い","願"]
[211,90,"希","キ",1,"［キ］ぼうをもつ","ぼう","希"]
[212,91,"季","キ",1,"日本には［シキ］がある",null,"四季"]
[213,92,"賀","ガ",1,"［ネンガ］はがきを書く","はがき","年賀"]
[214,93,"潟","ガタ",1,"［ニイガタケン］の米づくり",null,"新潟県"]
[215,94,"旗","キ",1,"日本の［コッキ］",null,"国旗"]
[216,94,"旗","キ",2,"［ハタ］をふる",null,"旗"]
[217,95,"器","キ",1,"手先が［キヨウ］だ","だ","器用"]
[218,95,"器","キ",1,"消火[キ]の使い方",null,"器"]
[219,95,"器","キ",1,"[ショッキ]をあらう",null,"食器"]
[220,96,"機","キ",1,"ぜっこうの［キカイ］",null,"機会"]
[221,96,"機","キ",1,"妹の[キ]げんが悪い","げん","機"]
[222,97,"議","ギ",1,"［カイギ］で話し合う",null,"会議"]
[223,98,"求","キュウ",1,"［キュウジン］の広こく",null,"求人"]
[224,98,"求","キュウ",2,"答えを［モト］める","める","求"]
[225,99,"熊","くま",2,"［クマ］を発見する",null,"熊"]
[226,99,"熊","くま",2,"［クマモトケン］への旅行",null,"熊本県"]
[227,100,"富","フ",2,"［トヤマケン］のおみやげ",null,"富山県"]
[228,100,"富","フ",1,"［フ］じ山に登る","じ山","富"]
[229,100,"富","フ",2,"［トミ］をたくわえる",null,"富"]
[230,100,"富","フ",2,"活動力に［ト］む","む","富"]
[]
[]
[]
[]
[]
[]
[]
[]
[]
[]
[]
[]
[]
[]
[]
[]
[]
[]
[]
[]
[]
[]
[]
[]
[]
[]
[]
[]
[]
[]
[]
[]
[]
[]
[]
[]
[]
[]
[]
[]
[]
[]
[]
[]
[]
[]
[]
[]
[]
[]
[]
[]
[]
[]
[]
[]
[]
[]
[]
[]
[]
[]
[]
[]
[]
[]
[]
[]
[]
[]
[]
[]
[]
[]
[]
[]
[]
[]
[]
[]
[]
[]
[]
[]
[]
[]
[]
[]
[]
[]
[]
[]
[]
[]
[]
[]
[]
[]
[]
[]
[]
[]
[]
[]
[]
[]
[]
[]
[]
[null,null,null,null,null,null,"　"]
[null,null,null,null,null,null,"　"]
[null,null,null,null,null,null,"　"]
[null,null,null,null,null,null,"　"]
[null,null,null,null,null,null,"　"]
[null,null,null,null,null,null,"　"]
[null,null,null,null,null,null,"　"]
[null,null,null,null,null,null,"　"]
[null,null,null,null,null,null,"　"]
[null,null,null,null,null,null,"　"]
[null,null,null,null,null,null,"　"]
[null,null,null,null,null,null,"　"]
[null,null,null,null,null,null,"　"]
[null,null,null,null,null,null,"　"]
[null,null,null,null,null,null,"　"]
[null,null,null,null,null,null,"　"]
[null,null,null,null,null,null,"　"]
[null,null,null,null,null,null,"　"]
[null,null,null,null,null,null,"　"]
[null,null,null,null,null,null,"　"]
[null,null,null,null,null,null,"　"]
[null,null,null,null,null,null,"　"]
[null,null,null,null,null,null,"　"]
[null,null,null,null,null,null,"　"]
[null,null,null,null,null,null,"　"]
[null,null,null,null,null,null,"　"]
[null,null,null,null,null,null,"　"]
[null,null,null,null,null,null,"　"]
[null,null,null,null,null,null,"　"]
[null,null,null,null,null,null,"　"]
[null,null,null,null,null,null,"　"]
[null,null,null,null,null,null,"　"]
[null,null,null,null,null,null,"　"]
[null,null,null,null,null,null,"　"]
[null,null,null,null,null,null,"　"]
[null,null,null,null,null,null,"　"]
[null,null,null,null,null,null,"　"]
[null,null,null,null,null,null,"　"]
[null,null,null,null,null,null,"　"]
[null,null,null,null,null,null,"　"]
[null,null,null,null,null,null,"　"]
[null,null,null,null,null,null,"　"]
[null,null,null,null,null,null,"　"]
[null,null,null,null,null,null,"　"]
[null,null,null,null,null,null,"　"]
[null,null,null,null,null,null,"　"]
[null,null,null,null,null,null,"　"]
[null,null,null,null,null,null,"　"]
[null,null,null,null,null,null,"　"]
[null,null,null,null,null,null,"　"]
[null,null,null,null,null,null,"　"]
[null,null,null,null,null,null,"　"]
[null,null,null,null,null,null,"　"]
[null,null,null,null,null,null,"　"]
[null,null,null,null,null,null,"　"]
[null,null,null,null,null,null,"　"]
[null,null,null,null,null,null,"　"]
[null,null,null,null,null,null,"　"]
[null,null,null,null,null,null,"　"]
[null,null,null,null,null,null,"　"]
[null,null,null,null,null,null,"　"]
[null,null,null,null,null,null,"　"]
[null,null,null,null,null,null,"　"]
[null,null,null,null,null,null,"　"]
[null,null,null,null,null,null,"　"]
[null,null,null,null,null,null,"　"]
[null,null,null,null,null,null,"　"]
[null,null,null,null,null,null,"　"]
[null,null,null,null,null,null,"　"]
[null,null,null,null,null,null,"　"]
[null,null,null,null,null,null,"　"]
[null,null,null,null,null,null,"　"]
[null,null,null,null,null,null,"　"]
[null,null,null,null,null,null,"　"]
[null,null,null,null,null,null,"　"]
[null,null,null,null,null,null,"　"]
[null,null,null,null,null,null,"　"]
[null,null,null,null,null,null,"　"]
[null,null,null,null,null,null,"　"]
[null,null,null,null,null,null,"　"]
[null,null,null,null,null,null,"　"]
[null,null,null,null,null,null,"　"]
[null,null,null,null,null,null,"　"]
[null,null,null,null,null,null,"　"]
[null,null,null,null,null,null,"　"]
[null,null,null,null,null,null,"　"]
[null,null,null,null,null,null,"　"]
[null,null,null,null,null,null,"　"]
[null,null,null,null,null,null,"　"]
[null,null,null,null,null,null,"　"]
[null,null,null,null,null,null,"　"]
[null,null,null,null,null,null,"　"]
[null,null,null,null,null,null,"　"]
[null,null,null,null,null,null,"　"]
[null,null,null,null,null,null,"　"]
[null,null,null,null,null,null,"　"]
[null,null,null,null,null,null,"　"]

{"sheet":"関数（読み）","index":4,"n_rows":214,"n_cols":3,"rows_kept":214,"cut":false,"hidden":false,"merged":[]}
["番号","ランダム","順位"]
[1,{"$f":"RAND()","v":0.27251164031747654},{"$f":"RANK(B2,$B$2:$B$214)","v":158}]
[2,{"$f":"RAND()","v":0.96387948289340175},{"$f":"RANK(B3,$B$2:$B$214)","v":5}]
[3,0.64404136413888668,87]
[4,0.10710242525086999,185]
[5,0.73286053035143583,65]
[6,0.68820942280171549,78]
[7,0.83138431124133572,42]
[8,0.89476639503611377,30]
[9,0.84572648512941684,37]
[10,0.17248878447020932,173]
[11,0.90242709416231059,27]
[12,0.20925374123753204,165]
[13,0.3216170076549556,149]
[14,5.423421577352483E-2,199]
[15,0.91430271807211927,22]
[16,0.93660486160418099,10]
[17,8.3830265954923711E-2,193]
[18,0.53745604664886992,106]
[19,0.74974298530747174,61]
[20,0.80260766643004244,49]
[21,0.92545248749984688,18]
[22,0.45964965979774453,123]
[23,0.84137691035247197,40]
[24,0.13159133765211439,181]
[25,0.67754910788202916,80]
[26,0.72126439672165144,69]
[27,0.98244479473115787,2]
[28,0.96213015759108533,6]
[29,1.4969062114232212E-2,210]
[30,0.50677636142390126,111]
[31,6.9621500345224296E-2,194]
[32,0.28733197269825006,156]
[33,0.3043596188412635,153]
[34,0.79116262295516737,53]
[35,0.92266004930458034,19]
[36,0.48551862786301714,118]
[37,0.92770756361599382,15]
[38,0.44432241014903617,130]
[39,0.77532617865720788,55]
[40,0.55919910664496086,104]
[41,0.79932269643197851,51]
[42,3.9335049563500202E-2,204]
[43,0.59394075090607201,92]
[44,0.93386961765429266,11]
[45,0.56424476134826473,102]
[46,0.43068836265041788,134]
[47,6.0436961502388642E-2,197]
[48,9.4733348758069602E-2,189]
[49,0.50569044756100179,112]
[50,0.91859986059159593,21]
[51,0.67273044532263804,82]
[52,0.32941393375557793,147]
[53,0.31902660520942028,151]
[54,0.86214773865791439,33]
[55,0.84465773889828255,38]
[56,0.25180129369740123,160]
[57,0.6940055653837377,75]
[58,0.89854616652345742,28]
[59,0.24873413471392614,161]
[60,0.18452203421762903,171]
[61,0.12325767495802675,183]
[62,0.1633313669473494,177]
[63,0.92210681212313639,20]
[64,0.94675646832563054,7]
[65,8.8124544165887775E-2,192]
[66,{"$f":"RAND()","v":0.72119156379211546},{"$f":"RANK(B67,$B$2:$B$214)","v":70}]
[67,5.1024497134866342E-2,200]
[68,0.86175126171826721,34]
[69,0.56985621126195729,99]
[70,0.83189950148036484,41]
[71,0.38854194413594811,139]
[72,0.5816619097276009,95]
[73,0.80495458967864708,48]
[74,0.1314860372606812,182]
[75,0.7972306641674799,52]
[76,0.53081211703181508,107]
[77,0.7553608387436278,59]
[78,0.34533206069900457,144]
[79,0.91287201629822068,24]
[80,0.68871960758853412,77]
[81,0.35058754596521435,143]
[82,0.3765462993448353,141]
[83,0.62147248906848773,88]
[84,0.85452541853201625,35]
[85,0.91252681734968588,25]
[86,0.76544379859203726,58]
[87,0.12107384723718684,184]
[88,0.85197534369996109,36]
[89,0.40010217669418768,136]
[90,0.36678068410192977,142]
[91,0.32979572110010125,146]
[92,0.23971646714431849,163]
[93,0.80189794374774048,50]
[94,0.434022901341651,133]
[95,5.0815951930930581E-2,201]
[96,0.82089402353995078,44]
[97,0.45610654049261201,126]
[98,0.15945199418972344,178]
[99,0.74360121145130154,63]
[100,0.57632734185471157,97]
[101,0.20451444378055605,168]
[102,0.94411436845638708,8]
[103,0.615643321374164,89]
[104,0.61131138604177448,90]
[105,0.78476252054740858,54]
[106,0.69639618300738182,74]
[107,0.76968085754283788,56]
[108,0.1388751474219635,180]
[109,0.33046426485192004,145]
[110,0.45777483493123816,125]
[111,0.51523144071900306,108]
[112,0.39821855724205257,137]
[113,0.72698235462481131,67]
[114,0.92799526350540817,14]
[115,0.48425702263181314,119]
[116,2.5971867693455941E-2,207]
[117,0.69877938479371793,73]
[118,0.5376290286710429,105]
[119,0.73479709289750639,64]
[120,0.49797836837334353,114]
[121,0.47664405799522558,120]
[122,9.7158014499441281E-2,187]
[123,0.67880488881766388,79]
[124,0.19253231904950896,169]
[125,0.67286163576946623,81]
[126,0.65215842303645633,84]
[127,0.56594358770929953,101]
[128,0.92680589404246927,16]
[129,0.10558282312105249,186]
[130,{"$f":"RAND()","v":0.48787096601145463},{"$f":"RANK(B131,$B$2:$B$214)","v":117}]
[131,0.39144352264228655,138]
[132,0.46744668071979634,121]
[133,0.45288248601758907,128]
[134,0.84230193815314192,39]
[135,0.92616417435152043,17]
[136,6.7892220934449798E-2,195]
[137,0.91411247987424415,23]
[138,0.6471092278920374,86]
[139,0.32027767349578062,150]
[140,0.7312516144099207,66]
[141,3.1826649453026601E-2,205]
[142,5.9818973001593889E-2,198]
[143,0.20518343261072791,167]
[144,0.76748724992558337,57]
[145,0.71219260194004375,72]
[146,0.2084294172294735,166]
[147,0.50774405463658023,110]
[148,0.90871064057208106,26]
[149,0.5789629653484818,96]
[150,1.5060792184945826E-2,209]
[151,9.1106394908008648E-2,191]
[152,4.8761414410167903E-2,202]
[153,0.87973184515623926,32]
[154,0.65088337317707912,85]
[155,0.17228046613810055,175]
[156,0.4626630571759599,122]
[157,0.4486388393043792,129]
[158,5.7546664185313956E-3,212]
[159,0.56076867642174777,103]
[160,0.27588147343478719,157]
[161,0.15770663258026452,179]
[162,0.94388963968819783,9]
[163,0.99989989517244082,1]
[164,6.7767500690324223E-2,196]
[165,0.45792130702638778,124]
[166,0.37834049573396722,140]
[167,0.19168343474111471,170]
[168,0.80915516545964283,47]
[169,0.74765389560853068,62]
[170,0.48873557210455376,116]
[171,0.89601845818422254,29]
[172,1.19429316723485E-4,213]
[173,0.58521412149401852,94]
[174,0.30566189344173378,152]
[175,0.60353958169324284,91]
[176,0.98164497809825668,3]
[177,0.45400597145001853,127]
[178,9.507151429570504E-2,188]
[179,0.5123857489207525,109]
[180,0.5041823290168691,113]
[181,0.83039694950318188,43]
[182,0.82029037397772253,45]
[183,2.748851954842757E-2,206]
[184,0.71467938294171762,71]
[185,0.58816553448707365,93]
[186,0.32576512215610864,148]
[187,0.57193063137660771,98]
[188,0.88177609975399462,31]
[189,0.68876277791941054,76]
[190,0.92849788336298911,13]
[191,8.6132609868461163E-3,211]
[192,0.97681716521013351,4]
[193,0.81625568583382768,46]
[194,{"$f":"RAND()","v":0.29069966094930955},{"$f":"RANK(B195,$B$2:$B$214)","v":155}]
[195,0.17333532132422536,172]
[196,0.75145275194681305,60]
[197,4.8309900328562749E-2,203]
[198,0.24620499916750105,162]
[199,0.3034656786164367,154]
[200,0.9335512474719545,12]
[201,0.41626354787461062,135]
[202,0.67049457814361391,83]
[203,0.48966245982970846,115]
[204,0.25441825113593375,159]
[205,0.56915384994721907,100]
[206,2.0220866765402579E-2,208]
[207,0.44416138500088265,131]
[208,0.72497508016498668,68]
[209,0.22240477407402204,164]
[210,0.44204908175121516,132]
[211,9.4119721884311724E-2,190]
[212,0.17228845778104318,174]
[213,0.16784662134605099,176]

{"sheet":"関数（書き）","index":5,"n_rows":232,"n_cols":3,"rows_kept":232,"cut":false,"hidden":false,"merged":[]}
["番号","ランダム","順位"]
[1,{"$f":"RAND()","v":0.24008454328240048},{"$f":"RANK(B2,$B$2:$B$232)","v":179}]
[2,{"$f":"RAND()","v":0.90748911803547005},{"$f":"RANK(B3,$B$2:$B$232)","v":20}]
[3,0.43668474928114531,130]
[4,0.73630840818248899,64]
[5,0.62918576581385133,89]
[6,0.35997221407239233,151]
[7,0.1645396958864207,193]
[8,0.79782426258686534,43]
[9,0.62234058788871383,93]
[10,0.90896070222929959,19]
[11,0.31199858703944194,164]
[12,0.87840683478037929,26]
[13,0.38701640882334998,140]
[14,8.6574161863848031E-2,213]
[15,0.9269858062948293,14]
[16,0.8395569615485009,32]
[17,8.8863929273451547E-2,212]
[18,0.34247821758366315,156]
[19,0.50224135276957071,116]
[20,0.94099228857577832,12]
[21,0.51305441955640818,113]
[22,0.32958821798960147,158]
[23,0.46554731445494657,125]
[24,0.97597243811785184,2]
[25,0.7090890832498381,72]
[26,4.5223688224432568E-2,224]
[27,3.9771930423961099E-2,225]
[28,0.31750103173828537,161]
[29,0.65930023050470821,81]
[30,0.45857732564443843,127]
[31,0.29240469239900302,171]
[32,0.24160244433820932,178]
[33,0.67740136196118161,78]
[34,0.70566052272686597,75]
[35,0.80149657199379987,42]
[36,0.21279958347810812,184]
[37,0.31294941248861463,163]
[38,0.15113852316807419,195]
[39,0.2972109774359456,168]
[40,0.14600134228965378,197]
[41,0.9622693851857369,6]
[42,0.2434818732066848,177]
[43,0.52394641384566232,108]
[44,0.76073244452043332,54]
[45,0.51175181776506151,115]
[46,0.40420326292818132,136]
[47,8.5772183046655348E-2,214]
[48,0.80744693286173641,40]
[49,0.29435237868347885,169]
[50,0.88296240289833539,23]
[51,0.56921020474805328,103]
[52,0.52377738013388209,109]
[53,7.4438210891046297E-2,218]
[54,0.29268343645351458,170]
[55,0.36960502216144986,146]
[56,0.71525808732313878,70]
[57,7.8679864773281816E-2,215]
[58,0.17623034901492074,188]
[59,3.6524605725598569E-3,231]
[60,0.34433364303545577,154]
[61,0.63318625676882212,87]
[62,0.40178746788474351,137]
[63,0.12061028870887514,205]
[64,0.46166457069293609,126]
[65,0.37548682351122287,144]
[66,{"$f":"RAND()","v":0.52783915572859097},{"$f":"RANK(B67,$B$2:$B$232)","v":107}]
[67,0.77546437447333738,49]
[68,0.33161666656488697,157]
[69,0.76788876142079343,52]
[70,0.82319109482193575,36]
[71,0.12683993969042406,204]
[72,0.82329082887683736,35]
[73,0.2765395918546506,172]
[74,0.8557327713060725,30]
[75,0.87416738985049125,28]
[76,0.41922258973378679,133]
[77,0.13332044704400059,202]
[78,0.71804708581845955,68]
[79,0.3003799538628088,165]
[80,0.92374694103205124,15]
[81,0.85217230800323396,31]
[82,0.94515373691469462,11]
[83,0.80597108755128699,41]
[84,0.34298358344020463,155]
[85,0.14226711996518282,199]
[86,0.63023277968793445,88]
[87,0.93633032411091943,13]
[88,0.62753441325082704,90]
[89,9.387978347199899E-2,211]
[90,0.78151518905076234,48]
[91,2.9038988582334557E-2,227]
[92,0.78332296582179783,47]
[93,0.83564916999796246,33]
[94,0.87670868965502979,27]
[95,0.73700056965337701,63]
[96,0.16706298872275083,192]
[97,0.26573189578128997,173]
[98,0.35466986188480487,153]
[99,0.2537150976508914,176]
[100,0.36496182175000225,148]
[101,0.35997990999393326,150]
[102,7.4684535170100319E-2,217]
[103,0.74882678233241218,58]
[104,0.13616821520754174,200]
[105,0.64762193793305389,84]
[106,0.77326153593597502,51]
[107,0.6980689163839936,76]
[108,0.17295470018554848,191]
[109,0.58434500554130364,100]
[110,0.36420258769504055,149]
[111,0.79082900264030598,44]
[112,0.70657128564979099,74]
[113,0.66078481450221005,80]
[114,0.20829587395627969,185]
[115,0.90464122269474401,21]
[116,0.74772930907999358,59]
[117,2.6470352889213844E-2,228]
[118,0.7558058296527711,56]
[119,8.5153016847646645E-3,230]
[120,0.92284731155876765,16]
[121,0.2257579527869501,182]
[122,0.68131549091202159,77]
[123,0.81458813764004956,39]
[124,0.32123917180931916,159]
[125,0.72652434423580114,67]
[126,5.4285399221767228E-2,222]
[127,0.51807933445892573,110]
[128,0.71322249599220988,71]
[129,0.74721974901613164,60]
[130,{"$f":"RAND()","v":0.75487964890254411},{"$f":"RANK(B131,$B$2:$B$232)","v":57}]
[131,0.26242019088287794,174]
[132,0.9621513985485145,7]
[133,0.44311424965617885,129]
[134,0.61187431928650593,95]
[135,0.82309587582966826,37]
[136,0.58308384548528369,101]
[137,0.99831152190410322,1]
[138,0.73321897227933264,66]
[139,0.31438965882224135,162]
[140,0.38072735929455936,143]
[141,0.65128972338097235,83]
[142,0.75740724214174149,55]
[143,0.17431809671790532,190]
[144,0.58237453537954254,102]
[145,0.88067625496279134,24]
[146,0.54973276332011844,105]
[147,0.49662718357484936,117]
[148,0.49560837168098415,118]
[149,5.9976370310982796E-2,220]
[150,0.26229676408468461,175]
[151,0.91639409335997102,18]
[152,0.78336820452477718,46]
[153,0.42987287482609715,132]
[154,6.8356317079873663E-2,219]
[155,0.87858337407666975,25]
[156,0.96460231506253524,4]
[157,0.39388377081010317,138]
[158,0.74060557015140638,62]
[159,1.2273361264142912E-2,229]
[160,0.36740748799342249,147]
[161,7.827160317049997E-2,216]
[162,3.3102402298215039E-2,226]
[163,0.23119658064839688,181]
[164,0.77352335721838539,50]
[165,0.60199851728726783,98]
[166,0.60939632602953653,96]
[167,0.39041234426424065,139]
[168,0.46903786379617307,124]
[169,0.51587963019233607,111]
[170,0.21822891735052863,183]
[171,0.49470981838626893,119]
[172,0.81650360563776392,38]
[173,0.76409598611801721,53]
[174,0.37149124103620645,145]
[175,0.38090791332267959,142]
[176,0.17694904008509182,187]
[177,0.23345699498908645,180]
[178,0.14417453421255155,198]
[179,0.8595008769544511,29]
[180,0.30028206145450664,166]
[181,0.48945484224059299,121]
[182,0.45511141345959549,128]
[183,0.54912542164499878,106]
[184,0.6254582333398061,91]
[185,0.88627806837588974,22]
[186,0.91861073408717031,17]
[187,0.43014823292027049,131]
[188,0.10108030851040195,209]
[189,0.95619549895218148,9]
[190,0.10486451309531941,207]
[191,0.14693300299104228,196]
[192,0.67595825373979268,79]
[193,0.60636217629713074,97]
[194,{"$f":"RAND()","v":0.97112576880945722},{"$f":"RANK(B195,$B$2:$B$232)","v":3}]
[195,0.13483144999955665,201]
[196,0.74603733858743682,61]
[197,0.47255133886082445,123]
[198,0.58465472451344958,99]
[199,0.31793094064215255,160]
[200,0.49449659643290145,120]
[201,0.5125602582457004,114]
[202,0.9638986367981649,5]
[203,0.70842390775898556,73]
[204,0.5140953137783435,112]
[205,0.29742950341333751,167]
[206,0.62509167469951676,92]
[207,0.10670967759790773,206]
[208,0.10063761238143998,210]
[209,0.95992849194501439,8]
[210,0.10183567777498825,208]
[211,0.41226107797950406,135]
[212,0.63374988000153543,86]
[213,0.20644275697300674,186]
[214,0.17612341079478289,189]
[215,0.35820367447170098,152]
[216,0.38132186838215909,141]
[217,0.41390876758952955,134]
[218,0.6189500719705604,94]
[219,0.95107690425120894,10]
[220,0.78878791514089952,45]
[221,0.55436569857774165,104]
[222,0.73520197829451606,65]
[223,0.71584571679628461,69]
[224,0.15575394465783843,194]
[225,0.12840928227772963,203]
[226,0.83436852932249095,34]
[227,5.0557206035381941E-2,223]
[228,0.47467318839941552,122]
[229,0.63952333607920109,85]
[230,5.4286789078799136E-2,221]
[231,0.65681048346634119,82]