{"text_format":"1","workbook":"xlsx","n_sheets":6,"sheets":["試験問題（関数）","網羅問題（関数） ","漢字読み","漢字書き","関数（読み）","関数（書き）"],"not_rendered":{"charts":0,"images":0,"macros":1,"external_links":1,"defined_names":7,"comments":1,"pivot_tables":0},"unopened":[],"bounds":{"document_bytes":16777216,"sheet_cells":100000,"rows_first":2000,"rows_last":500,"rows_between":2000,"halvings":0,"cell_chars":16384,"cell_head_chars":4096},"cells_cut":0,"cells_raw":0,"read":"whole","date_system":"1900"}

{"sheet":"試験問題（関数）","index":0,"n_rows":20,"n_cols":23,"rows_kept":20,"cut":false,"hidden":false,"merged":[[13,21,14,21],[16,20,19,20],[16,22,18,22],[18,21,19,21],[21,22,22,22],[22,21,23,21],[11,20,14,20],[11,22,13,22],[8,21,9,21],[1,20,4,20],[3,21,4,21],[6,20,9,20],[1,22,3,22],[6,22,8,22]]}
[{"$f":"'関数（書き）'!$C$2","v":13},{"$f":"'関数（書き）'!$C$3","v":182},{"$f":"'関数（書き）'!$C$4","v":26},{"$f":"'関数（書き）'!$C$5","v":191},{"$f":"'関数（書き）'!$C$6","v":159},{"$f":"'関数（書き）'!$C$7","v":74},{"$f":"'関数（書き）'!$C$8","v":181},{"$f":"'関数（書き）'!$C$9","v":58},{"$f":"'関数（書き）'!$C$10","v":24},{"$f":"'関数（書き）'!$C$11","v":107},{"$f":"'関数（読み）'!$C$2","v":167},{"$f":"'関数（読み）'!$C$3","v":240},{"$f":"'関数（読み）'!$C$4","v":215},{"$f":"'関数（読み）'!$C$5","v":198},{"$f":"'関数（読み）'!$C$6","v":143},{"$f":"'関数（読み）'!$C$7","v":207},{"$f":"'関数（読み）'!$C$8","v":184},{"$f":"'関数（読み）'!$C$9","v":235},{"$f":"'関数（読み）'!$C$10","v":224},{"$f":"'関数（読み）'!$C$11","v":146}]
["⑳","⑲","⑱","⑰","⑯","⑮","⑭","⑬","⑫","⑪","⑩","⑨","⑧","⑦","⑥","⑤","④","③","②","①","次の［　　　　］の部分の漢字には読みがなをひらがなで書き、カタカナは漢字に直しなさい。",12,"「漢字の博士検定試験」練習問題　"]
[{"$f":"IF(A1=\"\",\"\",VLOOKUP(A1,漢字書き!$A$2:$N$506,6,0))","v":"君とはかん［ケイ］ない"},{"$f":"IF(B1=\"\",\"\",VLOOKUP(B1,漢字書き!$A$2:$N$506,6,0))","v":"はん［タイ］の意見"},{"$f":"IF(C1=\"\",\"\",VLOOKUP(C1,漢字書き!$A$2:$N$506,6,0))","v":"[ケン]しゅうを受ける"},{"$f":"IF(D1=\"\",\"\",VLOOKUP(D1,漢字書き!$A$2:$N$506,6,0))","v":"［セキタン］をもやす"},{"$f":"IF(E1=\"\",\"\",VLOOKUP(E1,漢字書き!$A$2:$N$506,6,0))","v":"ふくそうを［トトノ］える"},{"$f":"IF(F1=\"\",\"\",VLOOKUP(F1,漢字書き!$A$2:$N$506,6,0))","v":"［ニュウガクシキ］に出る"},{"$f":"IF(G1=\"\",\"\",VLOOKUP(G1,漢字書き!$A$2:$N$506,6,0))","v":"ヒットを［ウ］つ"},{"$f":"IF(H1=\"\",\"\",VLOOKUP(H1,漢字書き!$A$2:$N$506,6,0))","v":"そうじを［ハジ］める"},{"$f":"IF(I1=\"\",\"\",VLOOKUP(I1,漢字書き!$A$2:$N$506,6,0))","v":"せきを［キ］める"},{"$f":"IF(J1=\"\",\"\",VLOOKUP(J1,漢字書き!$A$2:$N$506,6,0))","v":"空手を［ナラ］う"},{"$f":"IF(K1=\"\",\"\",VLOOKUP(K1,漢字読み!$A$2:$O$506,6,0))","v":"［息］をはく"},{"$f":"IF(L1=\"\",\"\",VLOOKUP(L1,漢字読み!$A$2:$O$506,6,0))","v":"［豆］ふを食べる"},{"$f":"IF(M1=\"\",\"\",VLOOKUP(M1,漢字読み!$A$2:$O$506,6,0))","v":"［定番］のおかず"},{"$f":"IF(N1=\"\",\"\",VLOOKUP(N1,漢字読み!$A$2:$O$506,6,0))","v":"駅に［着］く"},{"$f":"IF(O1=\"\",\"\",VLOOKUP(O1,漢字読み!$A$2:$O$506,6,0))","v":"［真］っ暗やみ"},{"$f":"IF(P1=\"\",\"\",VLOOKUP(P1,漢字読み!$A$2:$O$506,6,0))","v":"ほう[丁]で切る"},{"$f":"IF(Q1=\"\",\"\",VLOOKUP(Q1,漢字読み!$A$2:$O$506,6,0))","v":"［交代］をする"},{"$f":"IF(R1=\"\",\"\",VLOOKUP(R1,漢字読み!$A$2:$O$506,6,0))","v":"日本の［都］"},{"$f":"IF(S1=\"\",\"\",VLOOKUP(S1,漢字読み!$A$2:$O$506,6,0))","v":"［笛］の音"},{"$f":"IF(T1=\"\",\"\",VLOOKUP(T1,漢字読み!$A$2:$O$506,6,0))","v":"［深］い谷のそこ"},null,"級"]
[null,null,null,null,null,null,null,null,null,null,null,null,null,null,null,null,null,null,null,null,null,"名前"]
[{"$f":"IF(A1=\"\",\"\",IF(VLOOKUP(A1,漢字書き!$A$2:$N$502,7,0)=0,\"\",VLOOKUP(A1,漢字書き!$A$2:$N$502,7,0)))","v":"ない"},{"$f":"IF(B1=\"\",\"\",IF(VLOOKUP(B1,漢字書き!$A$2:$N$502,7,0)=0,\"\",VLOOKUP(B1,漢字書き!$A$2:$N$502,7,0)))","v":""},{"$f":"IF(C1=\"\",\"\",IF(VLOOKUP(C1,漢字書き!$A$2:$N$502,7,0)=0,\"\",VLOOKUP(C1,漢字書き!$A$2:$N$502,7,0)))","v":"しゅう"},{"$f":"IF(D1=\"\",\"\",IF(VLOOKUP(D1,漢字書き!$A$2:$N$502,7,0)=0,\"\",VLOOKUP(D1,漢字書き!$A$2:$N$502,7,0)))","v":""},{"$f":"IF(E1=\"\",\"\",IF(VLOOKUP(E1,漢字書き!$A$2:$N$502,7,0)=0,\"\",VLOOKUP(E1,漢字書き!$A$2:$N$502,7,0)))","v":"える"},{"$f":"IF(F1=\"\",\"\",IF(VLOOKUP(F1,漢字書き!$A$2:$N$502,7,0)=0,\"\",VLOOKUP(F1,漢字書き!$A$2:$N$502,7,0)))","v":""},{"$f":"IF(G1=\"\",\"\",IF(VLOOKUP(G1,漢字書き!$A$2:$N$502,7,0)=0,\"\",VLOOKUP(G1,漢字書き!$A$2:$N$502,7,0)))","v":"つ"},{"$f":"IF(H1=\"\",\"\",IF(VLOOKUP(H1,漢字書き!$A$2:$N$502,7,0)=0,\"\",VLOOKUP(H1,漢字書き!$A$2:$N$502,7,0)))","v":"める"},{"$f":"IF(I1=\"\",\"\",IF(VLOOKUP(I1,漢字書き!$A$2:$N$502,7,0)=0,\"\",VLOOKUP(I1,漢字書き!$A$2:$N$502,7,0)))","v":"める"},{"$f":"IF(J1=\"\",\"\",IF(VLOOKUP(J1,漢字書き!$A$2:$N$502,7,0)=0,\"\",VLOOKUP(J1,漢字書き!$A$2:$N$502,7,0)))","v":"う"},{"$f":"IF(K1=\"\",\"\",IF(VLOOKUP(K1,漢字読み!$A$2:$O$502,7,0)=0,\"\",VLOOKUP(K1,漢字読み!$A$2:$O$502,7,0)))","v":""},{"$f":"IF(L1=\"\",\"\",IF(VLOOKUP(L1,漢字読み!$A$2:$O$502,7,0)=0,\"\",VLOOKUP(L1,漢字読み!$A$2:$O$502,7,0)))","v":"ふ"},{"$f":"IF(M1=\"\",\"\",IF(VLOOKUP(M1,漢字読み!$A$2:$O$502,7,0)=0,\"\",VLOOKUP(M1,漢字読み!$A$2:$O$502,7,0)))","v":""},{"$f":"IF(N1=\"\",\"\",IF(VLOOKUP(N1,漢字読み!$A$2:$O$502,7,0)=0,\"\",VLOOKUP(N1,漢字読み!$A$2:$O$502,7,0)))","v":"く"},{"$f":"IF(O1=\"\",\"\",IF(VLOOKUP(O1,漢字読み!$A$2:$O$502,7,0)=0,\"\",VLOOKUP(O1,漢字読み!$A$2:$O$502,7,0)))","v":"っ暗"},{"$f":"IF(P1=\"\",\"\",IF(VLOOKUP(P1,漢字読み!$A$2:$O$502,7,0)=0,\"\",VLOOKUP(P1,漢字読み!$A$2:$O$502,7,0)))","v":""},{"$f":"IF(Q1=\"\",\"\",IF(VLOOKUP(Q1,漢字読み!$A$2:$O$502,7,0)=0,\"\",VLOOKUP(Q1,漢字読み!$A$2:$O$502,7,0)))","v":""},{"$f":"IF(R1=\"\",\"\",IF(VLOOKUP(R1,漢字読み!$A$2:$O$502,7,0)=0,\"\",VLOOKUP(R1,漢字読み!$A$2:$O$502,7,0)))","v":""},{"$f":"IF(S1=\"\",\"\",IF(VLOOKUP(S1,漢字読み!$A$2:$O$502,7,0)=0,\"\",VLOOKUP(S1,漢字読み!$A$2:$O$502,7,0)))","v":""},{"$f":"IF(T1=\"\",\"\",IF(VLOOKUP(T1,漢字読み!$A$2:$O$502,7,0)=0,\"\",VLOOKUP(T1,漢字読み!$A$2:$O$502,7,0)))","v":"い"},null,null,"和歌山県教育委員会"]
[{"$f":"'関数（書き）'!$C$12","v":93},{"$f":"'関数（書き）'!$C$13","v":78},{"$f":"'関数（書き）'!$C$14","v":194},{"$f":"'関数（書き）'!$C$15","v":196},{"$f":"'関数（書き）'!$C$16","v":85},{"$f":"'関数（書き）'!$C$17","v":170},{"$f":"'関数（書き）'!$C$18","v":193},{"$f":"'関数（書き）'!$C$19","v":178},{"$f":"'関数（書き）'!$C$20","v":79},{"$f":"'関数（書き）'!$C$21","v":184},{"$f":"'関数（読み）'!$C$12","v":162},{"$f":"'関数（読み）'!$C$13","v":177},{"$f":"'関数（読み）'!$C$14","v":2},{"$f":"'関数（読み）'!$C$15","v":179},{"$f":"'関数（読み）'!$C$16","v":148},{"$f":"'関数（読み）'!$C$17","v":160},{"$f":"'関数（読み）'!$C$18","v":71},{"$f":"'関数（読み）'!$C$19","v":107},{"$f":"'関数（読み）'!$C$20","v":55},{"$f":"'関数（読み）'!$C$21","v":174}]
["⑳","⑲","⑱","⑰","⑯","⑮","⑭","⑬","⑫","⑪","⑩","⑨","⑧","⑦","⑥","⑤","④","③","②","①","次の［　　　　］の部分の漢字には読みがなをひらがなで書き、カタカナは漢字に直しなさい。",12,"「漢字の博士検定試験」練習問題　"]
[{"$f":"IF(A6=\"\",\"\",VLOOKUP(A6,漢字書き!$A$2:$N$506,6,0))","v":"うめ［シュ］を作る"},{"$f":"IF(B6=\"\",\"\",VLOOKUP(B6,漢字書き!$A$2:$N$506,6,0))","v":"くだものの［ミ］がなる"},{"$f":"IF(C6=\"\",\"\",VLOOKUP(C6,漢字書き!$A$2:$N$506,6,0))","v":"長所と［タンショ］"},{"$f":"IF(D6=\"\",\"\",VLOOKUP(D6,漢字書き!$A$2:$N$506,6,0))","v":"［ダンワ］室に入る"},{"$f":"IF(E6=\"\",\"\",VLOOKUP(E6,漢字書き!$A$2:$N$506,6,0))","v":"［シュジン］にしたがう"},{"$f":"IF(F6=\"\",\"\",VLOOKUP(F6,漢字書き!$A$2:$N$506,6,0))","v":"［キュウソク］をとる"},{"$f":"IF(G6=\"\",\"\",VLOOKUP(G6,漢字書き!$A$2:$N$506,6,0))","v":"［スミビ］で魚をやく"},{"$f":"IF(H6=\"\",\"\",VLOOKUP(H6,漢字書き!$A$2:$N$506,6,0))","v":"その［タ］大ぜい"},{"$f":"IF(I6=\"\",\"\",VLOOKUP(I6,漢字書き!$A$2:$N$506,6,0))","v":"［ミノ］りの秋"},{"$f":"IF(J6=\"\",\"\",VLOOKUP(J6,漢字書き!$A$2:$N$506,6,0))","v":"［キタイ］をよせる"},{"$f":"IF(K6=\"\",\"\",VLOOKUP(K6,漢字読み!$A$2:$O$506,6,0))","v":"車で［送］げいしてもらう"},{"$f":"IF(L6=\"\",\"\",VLOOKUP(L6,漢字読み!$A$2:$O$506,6,0))","v":"３［対］１で勝つ"},{"$f":"IF(M6=\"\",\"\",VLOOKUP(M6,漢字読み!$A$2:$O$506,6,0))","v":"一めんの［銀世界］"},{"$f":"IF(N6=\"\",\"\",VLOOKUP(N6,漢字読み!$A$2:$O$506,6,0))","v":"［期待］して見守る"},{"$f":"IF(O6=\"\",\"\",VLOOKUP(O6,漢字読み!$A$2:$O$506,6,0))","v":"どんどん［進］む"},{"$f":"IF(P6=\"\",\"\",VLOOKUP(P6,漢字読み!$A$2:$O$506,6,0))","v":"グループで［相談］する"},{"$f":"IF(Q6=\"\",\"\",VLOOKUP(Q6,漢字読み!$A$2:$O$506,6,0))","v":"[次回]ちょうせんする"},{"$f":"IF(R6=\"\",\"\",VLOOKUP(R6,漢字読み!$A$2:$O$506,6,0))","v":"人がたくさん［集］まる"},{"$f":"IF(S6=\"\",\"\",VLOOKUP(S6,漢字読み!$A$2:$O$506,6,0))","v":"祭りの［使者］"},{"$f":"IF(T6=\"\",\"\",VLOOKUP(T6,漢字読み!$A$2:$O$506,6,0))","v":"［打開］さくを考える"},null,"級"]
[null,null,null,null,null,null,null,null,null,null,null,null,null,null,null,null,null,null,null,null,null,"名前"]
[{"$f":"IF(A6=\"\",\"\",IF(VLOOKUP(A6,漢字書き!$A$2:$N$502,7,0)=0,\"\",VLOOKUP(A6,漢字書き!$A$2:$N$502,7,0)))","v":""},{"$f":"IF(B6=\"\",\"\",IF(VLOOKUP(B6,漢字書き!$A$2:$N$502,7,0)=0,\"\",VLOOKUP(B6,漢字書き!$A$2:$N$502,7,0)))","v":""},{"$f":"IF(C6=\"\",\"\",IF(VLOOKUP(C6,漢字書き!$A$2:$N$502,7,0)=0,\"\",VLOOKUP(C6,漢字書き!$A$2:$N$502,7,0)))","v":""},{"$f":"IF(D6=\"\",\"\",IF(VLOOKUP(D6,漢字書き!$A$2:$N$502,7,0)=0,\"\",VLOOKUP(D6,漢字書き!$A$2:$N$502,7,0)))","v":"室"},{"$f":"IF(E6=\"\",\"\",IF(VLOOKUP(E6,漢字書き!$A$2:$N$502,7,0)=0,\"\",VLOOKUP(E6,漢字書き!$A$2:$N$502,7,0)))","v":""},{"$f":"IF(F6=\"\",\"\",IF(VLOOKUP(F6,漢字書き!$A$2:$N$502,7,0)=0,\"\",VLOOKUP(F6,漢字書き!$A$2:$N$502,7,0)))","v":""},{"$f":"IF(G6=\"\",\"\",IF(VLOOKUP(G6,漢字書き!$A$2:$N$502,7,0)=0,\"\",VLOOKUP(G6,漢字書き!$A$2:$N$502,7,0)))","v":""},{"$f":"IF(H6=\"\",\"\",IF(VLOOKUP(H6,漢字書き!$A$2:$N$502,7,0)=0,\"\",VLOOKUP(H6,漢字書き!$A$2:$N$502,7,0)))","v":""},{"$f":"IF(I6=\"\",\"\",IF(VLOOKUP(I6,漢字書き!$A$2:$N$502,7,0)=0,\"\",VLOOKUP(I6,漢字書き!$A$2:$N$502,7,0)))","v":"り"},{"$f":"IF(J6=\"\",\"\",IF(VLOOKUP(J6,漢字書き!$A$2:$N$502,7,0)=0,\"\",VLOOKUP(J6,漢字書き!$A$2:$N$502,7,0)))","v":""},{"$f":"IF(K6=\"\",\"\",IF(VLOOKUP(K6,漢字読み!$A$2:$O$502,7,0)=0,\"\",VLOOKUP(K6,漢字読み!$A$2:$O$502,7,0)))","v":"げい"},{"$f":"IF(L6=\"\",\"\",IF(VLOOKUP(L6,漢字読み!$A$2:$O$502,7,0)=0,\"\",VLOOKUP(L6,漢字読み!$A$2:$O$502,7,0)))","v":""},{"$f":"IF(M6=\"\",\"\",IF(VLOOKUP(M6,漢字読み!$A$2:$O$502,7,0)=0,\"\",VLOOKUP(M6,漢字読み!$A$2:$O$502,7,0)))","v":""},{"$f":"IF(N6=\"\",\"\",IF(VLOOKUP(N6,漢字読み!$A$2:$O$502,7,0)=0,\"\",VLOOKUP(N6,漢字読み!$A$2:$O$502,7,0)))","v":"して"},{"$f":"IF(O6=\"\",\"\",IF(VLOOKUP(O6,漢字読み!$A$2:$O$502,7,0)=0,\"\",VLOOKUP(O6,漢字読み!$A$2:$O$502,7,0)))","v":"む"},{"$f":"IF(P6=\"\",\"\",IF(VLOOKUP(P6,漢字読み!$A$2:$O$502,7,0)=0,\"\",VLOOKUP(P6,漢字読み!$A$2:$O$502,7,0)))","v":"する"},{"$f":"IF(Q6=\"\",\"\",IF(VLOOKUP(Q6,漢字読み!$A$2:$O$502,7,0)=0,\"\",VLOOKUP(Q6,漢字読み!$A$2:$O$502,7,0)))","v":""},{"$f":"IF(R6=\"\",\"\",IF(VLOOKUP(R6,漢字読み!$A$2:$O$502,7,0)=0,\"\",VLOOKUP(R6,漢字読み!$A$2:$O$502,7,0)))","v":"まる"},{"$f":"IF(S6=\"\",\"\",IF(VLOOKUP(S6,漢字読み!$A$2:$O$502,7,0)=0,\"\",VLOOKUP(S6,漢字読み!$A$2:$O$502,7,0)))","v":""},{"$f":"IF(T6=\"\",\"\",IF(VLOOKUP(T6,漢字読み!$A$2:$O$502,7,0)=0,\"\",VLOOKUP(T6,漢字読み!$A$2:$O$502,7,0)))","v":"さく"},null,null,"和歌山県教育委員会"]
[{"$f":"'関数（書き）'!$C$2","v":13},{"$f":"'関数（書き）'!$C$3","v":182},{"$f":"'関数（書き）'!$C$4","v":26},{"$f":"'関数（書き）'!$C$5","v":191},{"$f":"'関数（書き）'!$C$6","v":159},{"$f":"'関数（書き）'!$C$7","v":74},{"$f":"'関数（書き）'!$C$8","v":181},{"$f":"'関数（書き）'!$C$9","v":58},{"$f":"'関数（書き）'!$C$10","v":24},{"$f":"'関数（書き）'!$C$11","v":107},{"$f":"'関数（読み）'!$C$2","v":167},{"$f":"'関数（読み）'!$C$3","v":240},{"$f":"'関数（読み）'!$C$4","v":215},{"$f":"'関数（読み）'!$C$5","v":198},{"$f":"'関数（読み）'!$C$6","v":143},{"$f":"'関数（読み）'!$C$7","v":207},{"$f":"'関数（読み）'!$C$8","v":184},{"$f":"'関数（読み）'!$C$9","v":235},{"$f":"'関数（読み）'!$C$10","v":224},{"$f":"'関数（読み）'!$C$11","v":146}]
["⑳","⑲","⑱","⑰","⑯","⑮","⑭","⑬","⑫","⑪","⑩","⑨","⑧","⑦","⑥","⑤","④","③","②","①","次の［　　　　］の部分の漢字には読みがなをひらがなで書き、カタカナは漢字に直しなさい。",12,"「漢字の博士検定試験」練習問題　"]
[{"$f":"IF(A11=\"\",\"\",VLOOKUP(A11,漢字書き!$A$2:$N$506,6,0))","v":"君とはかん［ケイ］ない"},{"$f":"IF(B11=\"\",\"\",VLOOKUP(B11,漢字書き!$A$2:$N$506,6,0))","v":"はん［タイ］の意見"},{"$f":"IF(C11=\"\",\"\",VLOOKUP(C11,漢字書き!$A$2:$N$506,6,0))","v":"[ケン]しゅうを受ける"},{"$f":"IF(D11=\"\",\"\",VLOOKUP(D11,漢字書き!$A$2:$N$506,6,0))","v":"［セキタン］をもやす"},{"$f":"IF(E11=\"\",\"\",VLOOKUP(E11,漢字書き!$A$2:$N$506,6,0))","v":"ふくそうを［トトノ］える"},{"$f":"IF(F11=\"\",\"\",VLOOKUP(F11,漢字書き!$A$2:$N$506,6,0))","v":"［ニュウガクシキ］に出る"},{"$f":"IF(G11=\"\",\"\",VLOOKUP(G11,漢字書き!$A$2:$N$506,6,0))","v":"ヒットを［ウ］つ"},{"$f":"IF(H11=\"\",\"\",VLOOKUP(H11,漢字書き!$A$2:$N$506,6,0))","v":"そうじを［ハジ］める"},{"$f":"IF(I11=\"\",\"\",VLOOKUP(I11,漢字書き!$A$2:$N$506,6,0))","v":"せきを［キ］める"},{"$f":"IF(J11=\"\",\"\",VLOOKUP(J11,漢字書き!$A$2:$N$506,6,0))","v":"空手を［ナラ］う"},{"$f":"IF(K11=\"\",\"\",VLOOKUP(K11,漢字読み!$A$2:$O$506,6,0))","v":"［息］をはく"},{"$f":"IF(L11=\"\",\"\",VLOOKUP(L11,漢字読み!$A$2:$O$506,6,0))","v":"［豆］ふを食べる"},{"$f":"IF(M11=\"\",\"\",VLOOKUP(M11,漢字読み!$A$2:$O$506,6,0))","v":"［定番］のおかず"},{"$f":"IF(N11=\"\",\"\",VLOOKUP(N11,漢字読み!$A$2:$O$506,6,0))","v":"駅に［着］く"},{"$f":"IF(O11=\"\",\"\",VLOOKUP(O11,漢字読み!$A$2:$O$506,6,0))","v":"［真］っ暗やみ"},{"$f":"IF(P11=\"\",\"\",VLOOKUP(P11,漢字読み!$A$2:$O$506,6,0))","v":"ほう[丁]で切る"},{"$f":"IF(Q11=\"\",\"\",VLOOKUP(Q11,漢字読み!$A$2:$O$506,6,0))","v":"［交代］をする"},{"$f":"IF(R11=\"\",\"\",VLOOKUP(R11,漢字読み!$A$2:$O$506,6,0))","v":"日本の［都］"},{"$f":"IF(S11=\"\",\"\",VLOOKUP(S11,漢字読み!$A$2:$O$506,6,0))","v":"［笛］の音"},{"$f":"IF(T11=\"\",\"\",VLOOKUP(T11,漢字読み!$A$2:$O$506,6,0))","v":"［深］い谷のそこ"},null,"級"]
[{"$f":"IF(A11=\"\",\"\",VLOOKUP(A11,漢字書き!$A$2:$N$506,8,0))","v":"係"},{"$f":"IF(B11=\"\",\"\",VLOOKUP(B11,漢字書き!$A$2:$N$506,8,0))","v":"対"},{"$f":"IF(C11=\"\",\"\",VLOOKUP(C11,漢字書き!$A$2:$N$506,8,0))","v":"研"},{"$f":"IF(D11=\"\",\"\",VLOOKUP(D11,漢字書き!$A$2:$N$506,8,0))","v":"石炭"},{"$f":"IF(E11=\"\",\"\",VLOOKUP(E11,漢字書き!$A$2:$N$506,8,0))","v":"整"},{"$f":"IF(F11=\"\",\"\",VLOOKUP(F11,漢字書き!$A$2:$N$506,8,0))","v":"入学式"},{"$f":"IF(G11=\"\",\"\",VLOOKUP(G11,漢字書き!$A$2:$N$506,8,0))","v":"打"},{"$f":"IF(H11=\"\",\"\",VLOOKUP(H11,漢字書き!$A$2:$N$506,8,0))","v":"始"},{"$f":"IF(I11=\"\",\"\",VLOOKUP(I11,漢字書き!$A$2:$N$506,8,0))","v":"決"},{"$f":"IF(J11=\"\",\"\",VLOOKUP(J11,漢字書き!$A$2:$N$506,8,0))","v":"習"},{"$f":"IF(K11=\"\",\"\",VLOOKUP(K11,漢字読み!$A$2:$O$506,8,0))","v":"いき"},{"$f":"IF(L11=\"\",\"\",VLOOKUP(L11,漢字読み!$A$2:$O$506,8,0))","v":"とう"},{"$f":"IF(M11=\"\",\"\",VLOOKUP(M11,漢字読み!$A$2:$O$506,8,0))","v":"ていばん"},{"$f":"IF(N11=\"\",\"\",VLOOKUP(N11,漢字読み!$A$2:$O$506,8,0))","v":"つ"},{"$f":"IF(O11=\"\",\"\",VLOOKUP(O11,漢字読み!$A$2:$O$506,8,0))","v":"ま"},{"$f":"IF(P11=\"\",\"\",VLOOKUP(P11,漢字読み!$A$2:$O$506,8,0))","v":"ちょう"},{"$f":"IF(Q11=\"\",\"\",VLOOKUP(Q11,漢字読み!$A$2:$O$506,8,0))","v":"こうたい"},{"$f":"IF(R11=\"\",\"\",VLOOKUP(R11,漢字読み!$A$2:$O$506,8,0))","v":"みやこ"},{"$f":"IF(S11=\"\",\"\",VLOOKUP(S11,漢字読み!$A$2:$O$506,8,0))","v":"ふえ"},{"$f":"IF(T11=\"\",\"\",VLOOKUP(T11,漢字読み!$A$2:$O$506,8,0))","v":"ふか"},null,"名前"]
[{"$f":"IF(A11=\"\",\"\",IF(VLOOKUP(A11,漢字書き!$A$2:$N$502,7,0)=0,\"\",VLOOKUP(A11,漢字書き!$A$2:$N$502,7,0)))","v":"ない"},{"$f":"IF(B11=\"\",\"\",IF(VLOOKUP(B11,漢字書き!$A$2:$N$502,7,0)=0,\"\",VLOOKUP(B11,漢字書き!$A$2:$N$502,7,0)))","v":""},{"$f":"IF(C11=\"\",\"\",IF(VLOOKUP(C11,漢字書き!$A$2:$N$502,7,0)=0,\"\",VLOOKUP(C11,漢字書き!$A$2:$N$502,7,0)))","v":"しゅう"},{"$f":"IF(D11=\"\",\"\",IF(VLOOKUP(D11,漢字書き!$A$2:$N$502,7,0)=0,\"\",VLOOKUP(D11,漢字書き!$A$2:$N$502,7,0)))","v":""},{"$f":"IF(E11=\"\",\"\",IF(VLOOKUP(E11,漢字書き!$A$2:$N$502,7,0)=0,\"\",VLOOKUP(E11,漢字書き!$A$2:$N$502,7,0)))","v":"える"},{"$f":"IF(F11=\"\",\"\",IF(VLOOKUP(F11,漢字書き!$A$2:$N$502,7,0)=0,\"\",VLOOKUP(F11,漢字書き!$A$2:$N$502,7,0)))","v":""},{"$f":"IF(G11=\"\",\"\",IF(VLOOKUP(G11,漢字書き!$A$2:$N$502,7,0)=0,\"\",VLOOKUP(G11,漢字書き!$A$2:$N$502,7,0)))","v":"つ"},{"$f":"IF(H11=\"\",\"\",IF(VLOOKUP(H11,漢字書き!$A$2:$N$502,7,0)=0,\"\",VLOOKUP(H11,漢字書き!$A$2:$N$502,7,0)))","v":"める"},{"$f":"IF(I11=\"\",\"\",IF(VLOOKUP(I11,漢字書き!$A$2:$N$502,7,0)=0,\"\",VLOOKUP(I11,漢字書き!$A$2:$N$502,7,0)))","v":"める"},{"$f":"IF(J11=\"\",\"\",IF(VLOOKUP(J11,漢字書き!$A$2:$N$502,7,0)=0,\"\",VLOOKUP(J11,漢字書き!$A$2:$N$502,7,0)))","v":"う"},{"$f":"IF(K11=\"\",\"\",IF(VLOOKUP(K11,漢字読み!$A$2:$O$502,7,0)=0,\"\",VLOOKUP(K11,漢字読み!$A$2:$O$502,7,0)))","v":""},{"$f":"IF(L11=\"\",\"\",IF(VLOOKUP(L11,漢字読み!$A$2:$O$502,7,0)=0,\"\",VLOOKUP(L11,漢字読み!$A$2:$O$502,7,0)))","v":"ふ"},{"$f":"IF(M11=\"\",\"\",IF(VLOOKUP(M11,漢字読み!$A$2:$O$502,7,0)=0,\"\",VLOOKUP(M11,漢字読み!$A$2:$O$502,7,0)))","v":""},{"$f":"IF(N11=\"\",\"\",IF(VLOOKUP(N11,漢字読み!$A$2:$O$502,7,0)=0,\"\",VLOOKUP(N11,漢字読み!$A$2:$O$502,7,0)))","v":"く"},{"$f":"IF(O11=\"\",\"\",IF(VLOOKUP(O11,漢字読み!$A$2:$O$502,7,0)=0,\"\",VLOOKUP(O11,漢字読み!$A$2:$O$502,7,0)))","v":"っ暗"},{"$f":"IF(P11=\"\",\"\",IF(VLOOKUP(P11,漢字読み!$A$2:$O$502,7,0)=0,\"\",VLOOKUP(P11,漢字読み!$A$2:$O$502,7,0)))","v":""},{"$f":"IF(Q11=\"\",\"\",IF(VLOOKUP(Q11,漢字読み!$A$2:$O$502,7,0)=0,\"\",VLOOKUP(Q11,漢字読み!$A$2:$O$502,7,0)))","v":""},{"$f":"IF(R11=\"\",\"\",IF(VLOOKUP(R11,漢字読み!$A$2:$O$502,7,0)=0,\"\",VLOOKUP(R11,漢字読み!$A$2:$O$502,7,0)))","v":""},{"$f":"IF(S11=\"\",\"\",IF(VLOOKUP(S11,漢字読み!$A$2:$O$502,7,0)=0,\"\",VLOOKUP(S11,漢字読み!$A$2:$O$502,7,0)))","v":""},{"$f":"IF(T11=\"\",\"\",IF(VLOOKUP(T11,漢字読み!$A$2:$O$502,7,0)=0,\"\",VLOOKUP(T11,漢字読み!$A$2:$O$502,7,0)))","v":"い"},null,null,"和歌山県教育委員会"]
[{"$f":"'関数（書き）'!$C$12","v":93},{"$f":"'関数（書き）'!$C$13","v":78},{"$f":"'関数（書き）'!$C$14","v":194},{"$f":"'関数（書き）'!$C$15","v":196},{"$f":"'関数（書き）'!$C$16","v":85},{"$f":"'関数（書き）'!$C$17","v":170},{"$f":"'関数（書き）'!$C$18","v":193},{"$f":"'関数（書き）'!$C$19","v":178},{"$f":"'関数（書き）'!$C$20","v":79},{"$f":"'関数（書き）'!$C$21","v":184},{"$f":"'関数（読み）'!$C$12","v":162},{"$f":"'関数（読み）'!$C$13","v":177},{"$f":"'関数（読み）'!$C$14","v":2},{"$f":"'関数（読み）'!$C$15","v":179},{"$f":"'関数（読み）'!$C$16","v":148},{"$f":"'関数（読み）'!$C$17","v":160},{"$f":"'関数（読み）'!$C$18","v":71},{"$f":"'関数（読み）'!$C$19","v":107},{"$f":"'関数（読み）'!$C$20","v":55},{"$f":"'関数（読み）'!$C$21","v":174}]
["⑳","⑲","⑱","⑰","⑯","⑮","⑭","⑬","⑫","⑪","⑩","⑨","⑧","⑦","⑥","⑤","④","③","②","①","次の［　　　　］の部分の漢字には読みがなをひらがなで書き、カタカナは漢字に直しなさい。",12,"「漢字の博士検定試験」練習問題　"]
[{"$f":"IF(A16=\"\",\"\",VLOOKUP(A16,漢字書き!$A$2:$N$506,6,0))","v":"うめ［シュ］を作る"},{"$f":"IF(B16=\"\",\"\",VLOOKUP(B16,漢字書き!$A$2:$N$506,6,0))","v":"くだものの［ミ］がなる"},{"$f":"IF(C16=\"\",\"\",VLOOKUP(C16,漢字書き!$A$2:$N$506,6,0))","v":"長所と［タンショ］"},{"$f":"IF(D16=\"\",\"\",VLOOKUP(D16,漢字書き!$A$2:$N$506,6,0))","v":"［ダンワ］室に入る"},{"$f":"IF(E16=\"\",\"\",VLOOKUP(E16,漢字書き!$A$2:$N$506,6,0))","v":"［シュジン］にしたがう"},{"$f":"IF(F16=\"\",\"\",VLOOKUP(F16,漢字書き!$A$2:$N$506,6,0))","v":"［キュウソク］をとる"},{"$f":"IF(G16=\"\",\"\",VLOOKUP(G16,漢字書き!$A$2:$N$506,6,0))","v":"［スミビ］で魚をやく"},{"$f":"IF(H16=\"\",\"\",VLOOKUP(H16,漢字書き!$A$2:$N$506,6,0))","v":"その［タ］大ぜい"},{"$f":"IF(I16=\"\",\"\",VLOOKUP(I16,漢字書き!$A$2:$N$506,6,0))","v":"［ミノ］りの秋"},{"$f":"IF(J16=\"\",\"\",VLOOKUP(J16,漢字書き!$A$2:$N$506,6,0))","v":"［キタイ］をよせる"},{"$f":"IF(K16=\"\",\"\",VLOOKUP(K16,漢字読み!$A$2:$O$506,6,0))","v":"車で［送］げいしてもらう"},{"$f":"IF(L16=\"\",\"\",VLOOKUP(L16,漢字読み!$A$2:$O$506,6,0))","v":"３［対］１で勝つ"},{"$f":"IF(M16=\"\",\"\",VLOOKUP(M16,漢字読み!$A$2:$O$506,6,0))","v":"一めんの［銀世界］"},{"$f":"IF(N16=\"\",\"\",VLOOKUP(N16,漢字読み!$A$2:$O$506,6,0))","v":"［期待］して見守る"},{"$f":"IF(O16=\"\",\"\",VLOOKUP(O16,漢字読み!$A$2:$O$506,6,0))","v":"どんどん［進］む"},{"$f":"IF(P16=\"\",\"\",VLOOKUP(P16,漢字読み!$A$2:$O$506,6,0))","v":"グループで［相談］する"},{"$f":"IF(Q16=\"\",\"\",VLOOKUP(Q16,漢字読み!$A$2:$O$506,6,0))","v":"[次回]ちょうせんする"},{"$f":"IF(R16=\"\",\"\",VLOOKUP(R16,漢字読み!$A$2:$O$506,6,0))","v":"人がたくさん［集］まる"},{"$f":"IF(S16=\"\",\"\",VLOOKUP(S16,漢字読み!$A$2:$O$506,6,0))","v":"祭りの［使者］"},{"$f":"IF(T16=\"\",\"\",VLOOKUP(T16,漢字読み!$A$2:$O$506,6,0))","v":"［打開］さくを考える"},null,"級"]
[{"$f":"IF(A16=\"\",\"\",VLOOKUP(A16,漢字書き!$A$2:$O$506,8,0))","v":"酒"},{"$f":"IF(B16=\"\",\"\",VLOOKUP(B16,漢字書き!$A$2:$O$506,8,0))","v":"実"},{"$f":"IF(C16=\"\",\"\",VLOOKUP(C16,漢字書き!$A$2:$O$506,8,0))","v":"短所"},{"$f":"IF(D16=\"\",\"\",VLOOKUP(D16,漢字書き!$A$2:$O$506,8,0))","v":"談話"},{"$f":"IF(E16=\"\",\"\",VLOOKUP(E16,漢字書き!$A$2:$O$506,8,0))","v":"主人"},{"$f":"IF(F16=\"\",\"\",VLOOKUP(F16,漢字書き!$A$2:$O$506,8,0))","v":"休息"},{"$f":"IF(G16=\"\",\"\",VLOOKUP(G16,漢字書き!$A$2:$O$506,8,0))","v":"炭火"},{"$f":"IF(H16=\"\",\"\",VLOOKUP(H16,漢字書き!$A$2:$O$506,8,0))","v":"他"},{"$f":"IF(I16=\"\",\"\",VLOOKUP(I16,漢字書き!$A$2:$O$506,8,0))","v":"実"},{"$f":"IF(J16=\"\",\"\",VLOOKUP(J16,漢字書き!$A$2:$O$506,8,0))","v":"期待"},{"$f":"IF(K16=\"\",\"\",VLOOKUP(K16,漢字読み!$A$2:$O$506,8,0))","v":"そう"},{"$f":"IF(L16=\"\",\"\",VLOOKUP(L16,漢字読み!$A$2:$O$506,8,0))","v":"たい"},{"$f":"IF(M16=\"\",\"\",VLOOKUP(M16,漢字読み!$A$2:$O$506,8,0))","v":"ぎんせかい"},{"$f":"IF(N16=\"\",\"\",VLOOKUP(N16,漢字読み!$A$2:$O$506,8,0))","v":"きたい"},{"$f":"IF(O16=\"\",\"\",VLOOKUP(O16,漢字読み!$A$2:$O$506,8,0))","v":"すす"},{"$f":"IF(P16=\"\",\"\",VLOOKUP(P16,漢字読み!$A$2:$O$506,8,0))","v":"そうだん"},{"$f":"IF(Q16=\"\",\"\",VLOOKUP(Q16,漢字読み!$A$2:$O$506,8,0))","v":"じかい"},{"$f":"IF(R16=\"\",\"\",VLOOKUP(R16,漢字読み!$A$2:$O$506,8,0))","v":"あつ"},{"$f":"IF(S16=\"\",\"\",VLOOKUP(S16,漢字読み!$A$2:$O$506,8,0))","v":"ししゃ"},{"$f":"IF(T16=\"\",\"\",VLOOKUP(T16,漢字読み!$A$2:$O$506,8,0))","v":"だかい"},null,"名前"]
[{"$f":"IF(A16=\"\",\"\",IF(VLOOKUP(A16,漢字書き!$A$2:$N$502,7,0)=0,\"\",VLOOKUP(A16,漢字書き!$A$2:$N$502,7,0)))","v":""},{"$f":"IF(B16=\"\",\"\",IF(VLOOKUP(B16,漢字書き!$A$2:$N$502,7,0)=0,\"\",VLOOKUP(B16,漢字書き!$A$2:$N$502,7,0)))","v":""},{"$f":"IF(C16=\"\",\"\",IF(VLOOKUP(C16,漢字書き!$A$2:$N$502,7,0)=0,\"\",VLOOKUP(C16,漢字書き!$A$2:$N$502,7,0)))","v":""},{"$f":"IF(D16=\"\",\"\",IF(VLOOKUP(D16,漢字書き!$A$2:$N$502,7,0)=0,\"\",VLOOKUP(D16,漢字書き!$A$2:$N$502,7,0)))","v":"室"},{"$f":"IF(E16=\"\",\"\",IF(VLOOKUP(E16,漢字書き!$A$2:$N$502,7,0)=0,\"\",VLOOKUP(E16,漢字書き!$A$2:$N$502,7,0)))","v":""},{"$f":"IF(F16=\"\",\"\",IF(VLOOKUP(F16,漢字書き!$A$2:$N$502,7,0)=0,\"\",VLOOKUP(F16,漢字書き!$A$2:$N$502,7,0)))","v":""},{"$f":"IF(G16=\"\",\"\",IF(VLOOKUP(G16,漢字書き!$A$2:$N$502,7,0)=0,\"\",VLOOKUP(G16,漢字書き!$A$2:$N$502,7,0)))","v":""},{"$f":"IF(H16=\"\",\"\",IF(VLOOKUP(H16,漢字書き!$A$2:$N$502,7,0)=0,\"\",VLOOKUP(H16,漢字書き!$A$2:$N$502,7,0)))","v":""},{"$f":"IF(I16=\"\",\"\",IF(VLOOKUP(I16,漢字書き!$A$2:$N$502,7,0)=0,\"\",VLOOKUP(I16,漢字書き!$A$2:$N$502,7,0)))","v":"り"},{"$f":"IF(J16=\"\",\"\",IF(VLOOKUP(J16,漢字書き!$A$2:$N$502,7,0)=0,\"\",VLOOKUP(J16,漢字書き!$A$2:$N$502,7,0)))","v":""},{"$f":"IF(K16=\"\",\"\",IF(VLOOKUP(K16,漢字読み!$A$2:$O$502,7,0)=0,\"\",VLOOKUP(K16,漢字読み!$A$2:$O$502,7,0)))","v":"げい"},{"$f":"IF(L16=\"\",\"\",IF(VLOOKUP(L16,漢字読み!$A$2:$O$502,7,0)=0,\"\",VLOOKUP(L16,漢字読み!$A$2:$O$502,7,0)))","v":""},{"$f":"IF(M16=\"\",\"\",IF(VLOOKUP(M16,漢字読み!$A$2:$O$502,7,0)=0,\"\",VLOOKUP(M16,漢字読み!$A$2:$O$502,7,0)))","v":""},{"$f":"IF(N16=\"\",\"\",IF(VLOOKUP(N16,漢字読み!$A$2:$O$502,7,0)=0,\"\",VLOOKUP(N16,漢字読み!$A$2:$O$502,7,0)))","v":"して"},{"$f":"IF(O16=\"\",\"\",IF(VLOOKUP(O16,漢字読み!$A$2:$O$502,7,0)=0,\"\",VLOOKUP(O16,漢字読み!$A$2:$O$502,7,0)))","v":"む"},{"$f":"IF(P16=\"\",\"\",IF(VLOOKUP(P16,漢字読み!$A$2:$O$502,7,0)=0,\"\",VLOOKUP(P16,漢字読み!$A$2:$O$502,7,0)))","v":"する"},{"$f":"IF(Q16=\"\",\"\",IF(VLOOKUP(Q16,漢字読み!$A$2:$O$502,7,0)=0,\"\",VLOOKUP(Q16,漢字読み!$A$2:$O$502,7,0)))","v":""},{"$f":"IF(R16=\"\",\"\",IF(VLOOKUP(R16,漢字読み!$A$2:$O$502,7,0)=0,\"\",VLOOKUP(R16,漢字読み!$A$2:$O$502,7,0)))","v":"まる"},{"$f":"IF(S16=\"\",\"\",IF(VLOOKUP(S16,漢字読み!$A$2:$O$502,7,0)=0,\"\",VLOOKUP(S16,漢字読み!$A$2:$O$502,7,0)))","v":""},{"$f":"IF(T16=\"\",\"\",IF(VLOOKUP(T16,漢字読み!$A$2:$O$502,7,0)=0,\"\",VLOOKUP(T16,漢字読み!$A$2:$O$502,7,0)))","v":"さく"},null,null,"和歌山県教育委員会"]

{"sheet":"網羅問題（関数） ","index":1,"n_rows":420,"n_cols":36,"rows_kept":420,"cut":false,"hidden":false,"merged":[[11,20,14,20],[11,22,13,22],[13,21,14,21],[16,20,19,20],[16,22,18,22],[18,21,19,21],[1,20,4,20],[1,22,3,22],[3,21,4,21],[6,20,9,20],[6,22,8,22],[8,21,9,21],[31,20,34,20],[31,22,33,22],[33,21,34,21],[36,20,39,20],[36,22,38,22],[38,21,39,21],[21,20,24,20],[21,22,23,22],[23,21,24,21],[26,20,29,20],[26,22,28,22],[28,21,29,21],[51,20,54,20],[51,22,53,22],[53,21,54,21],[56,20,59,20],[56,22,58,22],[58,21,59,21],[41,20,44,20],[41,22,43,22],[43,21,44,21],[46,20,49,20],[46,22,48,22],[48,21,49,21],[71,20,74,20],[71,22,73,22],[73,21,74,21],[76,20,79,20],[76,22,78,22],[78,21,79,21],[61,20,64,20],[61,22,63,22],[63,21,64,21],[66,20,69,20],[66,22,68,22],[68,21,69,21],[91,20,94,20],[91,22,93,22],[93,21,94,21],[96,20,99,20],[96,22,98,22],[98,21,99,21],[81,20,84,20],[81,22,83,22],[83,21,84,21],[86,20,89,20],[86,22,88,22],[88,21,89,21],[111,20,114,20],[111,22,113,22],[113,21,114,21],[116,20,119,20],[116,22,118,22],[118,21,119,21],[101,20,104,20],[101,22,103,22],[103,21,104,21],[106,20,109,20],[106,22,108,22],[108,21,109,21],[131,20,134,20],[131,22,133,22],[133,21,134,21],[136,20,139,20],[136,22,138,22],[138,21,139,21],[121,20,124,20],[121,22,123,22],[123,21,124,21],[126,20,129,20],[126,22,128,22],[128,21,129,21],[151,20,154,20],[151,22,153,22],[153,21,154,21],[156,20,159,20],[156,22,158,22],[158,21,159,21],[141,20,144,20],[141,22,143,22],[143,21,144,21],[146,20,149,20],[146,22,148,22],[148,21,149,21],[171,20,174,20],[171,22,173,22],[173,21,174,21],[176,20,179,20],[176,22,178,22],[178,21,179,21],[161,20,164,20],[161,22,163,22],[163,21,164,21],[166,20,169,20],[166,22,168,22],[168,21,169,21],[191,20,194,20],[191,22,193,22],[193,21,194,21],[196,20,199,20],[196,22,198,22],[198,21,199,21],[181,20,184,20],[181,22,183,22],[183,21,184,21],[186,20,189,20],[186,22,188,22],[188,21,189,21],[211,20,214,20],[211,22,213,22],[213,21,214,21],[216,20,219,20],[216,22,218,22],[218,21,219,21],[201,20,204,20],[201,22,203,22],[203,21,204,21],[206,20,209,20],[206,22,208,22],[208,21,209,21],[231,20,234,20],[231,22,233,22],[233,21,234,21],[236,20,239,20],[236,22,238,22],[238,21,239,21],[221,20,224,20],[221,22,223,22],[223,21,224,21],[226,20,229,20],[226,22,228,22],[228,21,229,21],[251,20,254,20],[251,22,253,22],[253,21,254,21],[256,20,259,20],[256,22,258,22],[258,21,259,21],[241,20,244,20],[241,22,243,22],[243,21,244,21],[246,20,249,20],[246,22,248,22],[248,21,249,21],[271,20,274,20],[271,22,273,22],[273,21,274,21],[276,20,279,20],[276,22,278,22],[278,21,279,21],[261,20,264,20],[261,22,263,22],[263,21,264,21],[266,20,269,20],[266,22,268,22],[268,21,269,21],[291,20,294,20],[291,22,293,22],[293,21,294,21],[296,20,299,20],[296,22,298,22],[298,21,299,21],[281,20,284,20],[281,22,283,22],[283,21,284,21],[286,20,289,20],[286,22,288,22],[288,21,289,21],[311,20,314,20],[311,22,313,22],[313,21,314,21],[316,20,319,20],[316,22,318,22],[318,21,319,21],[301,20,304,20],[301,22,303,22],[303,21,304,21],[306,20,309,20],[306,22,308,22],[308,21,309,21],[331,20,334,20],[331,22,333,22],[333,21,334,21],[336,20,339,20],[336,22,338,22],[338,21,339,21],[321,20,324,20],[321,22,323,22],[323,21,324,21],[326,20,329,20],[326,22,328,22],[328,21,329,21],[351,20,354,20],[351,22,353,22],[353,21,354,21],[356,20,359,20],[356,22,358,22],[358,21,359,21],[341,20,344,20],[341,22,343,22],[343,21,344,21],[346,20,349,20],[346,22,348,22],[348,21,349,21],[371,20,374,20],[371,22,373,22],[373,21,374,21],[376,20,379,20],[376,22,378,22],[378,21,379,21],[361,20,364,20],[361,22,363,22],[363,21,364,21],[366,20,369,20],[366,22,368,22],[368,21,369,21],[391,20,394,20],[391,22,393,22],[393,21,394,21],[396,20,399,20],[396,22,398,22],[398,21,399,21],[381,20,384,20],[381,22,383,22],[383,21,384,21],[386,20,389,20],[386,22,388,22],[388,21,389,21],[411,20,414,20],[411,22,413,22],[413,21,414,21],[416,20,419,20],[416,22,418,22],[418,21,419,21],[401,20,404,20],[401,22,403,22],[403,21,404,21],[406,20,409,20],[406,22,408,22],[408,21,409,21]]}
[{"$f":"INDIRECT(\"'関数（書き）'!C\" & COLUMN(B$1)+SUM($AD$2:$AD2))","v":13},{"$f":"INDIRECT(\"'関数（書き）'!C\" & COLUMN(C$1)+SUM($AD$2:$AD2))","v":182},{"$f":"INDIRECT(\"'関数（書き）'!C\" & COLUMN(D$1)+SUM($AD$2:$AD2))","v":26},{"$f":"INDIRECT(\"'関数（書き）'!C\" & COLUMN(E$1)+SUM($AD$2:$AD2))","v":191},{"$f":"INDIRECT(\"'関数（書き）'!C\" & COLUMN(F$1)+SUM($AD$2:$AD2))","v":159},{"$f":"INDIRECT(\"'関数（書き）'!C\" & COLUMN(G$1)+SUM($AD$2:$AD2))","v":74},{"$f":"INDIRECT(\"'関数（書き）'!C\" & COLUMN(H$1)+SUM($AD$2:$AD2))","v":181},{"$f":"INDIRECT(\"'関数（書き）'!C\" & COLUMN(I$1)+SUM($AD$2:$AD2))","v":58},{"$f":"INDIRECT(\"'関数（書き）'!C\" & COLUMN(J$1)+SUM($AD$2:$AD2))","v":24},{"$f":"INDIRECT(\"'関数（書き）'!C\" & COLUMN(K$1)+SUM($AD$2:$AD2))","v":107},{"$f":"INDIRECT(\"'関数（読み）'!C\" & COLUMN(B$1)+SUM($AD$2:$AD2))","v":167},{"$f":"INDIRECT(\"'関数（読み）'!C\" & COLUMN(C$1)+SUM($AD$2:$AD2))","v":240},{"$f":"INDIRECT(\"'関数（読み）'!C\" & COLUMN(D$1)+SUM($AD$2:$AD2))","v":215},{"$f":"INDIRECT(\"'関数（読み）'!C\" & COLUMN(E$1)+SUM($AD$2:$AD2))","v":198},{"$f":"INDIRECT(\"'関数（読み）'!C\" & COLUMN(F$1)+SUM($AD$2:$AD2))","v":143},{"$f":"INDIRECT(\"'関数（読み）'!C\" & COLUMN(G$1)+SUM($AD$2:$AD2))","v":207},{"$f":"INDIRECT(\"'関数（読み）'!C\" & COLUMN(H$1)+SUM($AD$2:$AD2))","v":184},{"$f":"INDIRECT(\"'関数（読み）'!C\" & COLUMN(I$1)+SUM($AD$2:$AD2))","v":235},{"$f":"INDIRECT(\"'関数（読み）'!C\" & COLUMN(J$1)+SUM($AD$2:$AD2))","v":224},{"$f":"INDIRECT(\"'関数（読み）'!C\" & COLUMN(K$1)+SUM($AD$2:$AD2))","v":146}]
["⑳","⑲","⑱","⑰","⑯","⑮","⑭","⑬","⑫","⑪","⑩","⑨","⑧","⑦","⑥","⑤","④","③","②","①","次の［　　　　］の部分の漢字には読みがなをひらがなで書き、カタカナは漢字に直しなさい。",12,"「漢字の博士検定試験」練習問題　",null,null,null,null,null,null,0,"問",1,"～",{"$f":"SUM($AD$2:$AD2)+10","v":10},"問まで",{"$f":"COUNTIF($A$1:$T$200,T3)","v":2}]
[{"$f":"IF(A1=\"\",\"\",VLOOKUP(A1,漢字書き!$A$2:$N$506,6,0))","v":"君とはかん［ケイ］ない"},{"$f":"IF(B1=\"\",\"\",VLOOKUP(B1,漢字書き!$A$2:$N$506,6,0))","v":"はん［タイ］の意見"},{"$f":"IF(C1=\"\",\"\",VLOOKUP(C1,漢字書き!$A$2:$N$506,6,0))","v":"[ケン]しゅうを受ける"},{"$f":"IF(D1=\"\",\"\",VLOOKUP(D1,漢字書き!$A$2:$N$506,6,0))","v":"［セキタン］をもやす"},{"$f":"IF(E1=\"\",\"\",VLOOKUP(E1,漢字書き!$A$2:$N$506,6,0))","v":"ふくそうを［トトノ］える"},{"$f":"IF(F1=\"\",\"\",VLOOKUP(F1,漢字書き!$A$2:$N$506,6,0))","v":"［ニュウガクシキ］に出る"},{"$f":"IF(G1=\"\",\"\",VLOOKUP(G1,漢字書き!$A$2:$N$506,6,0))","v":"ヒットを［ウ］つ"},{"$f":"IF(H1=\"\",\"\",VLOOKUP(H1,漢字書き!$A$2:$N$506,6,0))","v":"そうじを［ハジ］める"},{"$f":"IF(I1=\"\",\"\",VLOOKUP(I1,漢字書き!$A$2:$N$506,6,0))","v":"せきを［キ］める"},{"$f":"IF(J1=\"\",\"\",VLOOKUP(J1,漢字書き!$A$2:$N$506,6,0))","v":"空手を［ナラ］う"},{"$f":"IF(K1=\"\",\"\",VLOOKUP(K1,漢字読み!$A$2:$O$506,6,0))","v":"［息］をはく"},{"$f":"IF(L1=\"\",\"\",VLOOKUP(L1,漢字読み!$A$2:$O$506,6,0))","v":"［豆］ふを食べる"},{"$f":"IF(M1=\"\",\"\",VLOOKUP(M1,漢字読み!$A$2:$O$506,6,0))","v":"［定番］のおかず"},{"$f":"IF(N1=\"\",\"\",VLOOKUP(N1,漢字読み!$A$2:$O$506,6,0))","v":"駅に［着］く"},{"$f":"IF(O1=\"\",\"\",VLOOKUP(O1,漢字読み!$A$2:$O$506,6,0))","v":"［真］っ暗やみ"},{"$f":"IF(P1=\"\",\"\",VLOOKUP(P1,漢字読み!$A$2:$O$506,6,0))","v":"ほう[丁]で切る"},{"$f":"IF(Q1=\"\",\"\",VLOOKUP(Q1,漢字読み!$A$2:$O$506,6,0))","v":"［交代］をする"},{"$f":"IF(R1=\"\",\"\",VLOOKUP(R1,漢字読み!$A$2:$O$506,6,0))","v":"日本の［都］"},{"$f":"IF(S1=\"\",\"\",VLOOKUP(S1,漢字読み!$A$2:$O$506,6,0))","v":"［笛］の音"},{"$f":"IF(T1=\"\",\"\",VLOOKUP(T1,漢字読み!$A$2:$O$506,6,0))","v":"［深］い谷のそこ"},null,"級"]
[null,null,null,null,null,null,null,null,null,null,null,null,null,null,null,null,null,null,null,null,null,"名前"]
[{"$f":"IF(A1=\"\",\"\",IF(VLOOKUP(A1,漢字書き!$A$2:$N$502,7,0)=0,\"\",VLOOKUP(A1,漢字書き!$A$2:$N$502,7,0)))","v":"ない"},{"$f":"IF(B1=\"\",\"\",IF(VLOOKUP(B1,漢字書き!$A$2:$N$502,7,0)=0,\"\",VLOOKUP(B1,漢字書き!$A$2:$N$502,7,0)))","v":""},{"$f":"IF(C1=\"\",\"\",IF(VLOOKUP(C1,漢字書き!$A$2:$N$502,7,0)=0,\"\",VLOOKUP(C1,漢字書き!$A$2:$N$502,7,0)))","v":"しゅう"},{"$f":"IF(D1=\"\",\"\",IF(VLOOKUP(D1,漢字書き!$A$2:$N$502,7,0)=0,\"\",VLOOKUP(D1,漢字書き!$A$2:$N$502,7,0)))","v":""},{"$f":"IF(E1=\"\",\"\",IF(VLOOKUP(E1,漢字書き!$A$2:$N$502,7,0)=0,\"\",VLOOKUP(E1,漢字書き!$A$2:$N$502,7,0)))","v":"える"},{"$f":"IF(F1=\"\",\"\",IF(VLOOKUP(F1,漢字書き!$A$2:$N$502,7,0)=0,\"\",VLOOKUP(F1,漢字書き!$A$2:$N$502,7,0)))","v":""},{"$f":"IF(G1=\"\",\"\",IF(VLOOKUP(G1,漢字書き!$A$2:$N$502,7,0)=0,\"\",VLOOKUP(G1,漢字書き!$A$2:$N$502,7,0)))","v":"つ"},{"$f":"IF(H1=\"\",\"\",IF(VLOOKUP(H1,漢字書き!$A$2:$N$502,7,0)=0,\"\",VLOOKUP(H1,漢字書き!$A$2:$N$502,7,0)))","v":"める"},{"$f":"IF(I1=\"\",\"\",IF(VLOOKUP(I1,漢字書き!$A$2:$N$502,7,0)=0,\"\",VLOOKUP(I1,漢字書き!$A$2:$N$502,7,0)))","v":"める"},{"$f":"IF(J1=\"\",\"\",IF(VLOOKUP(J1,漢字書き!$A$2:$N$502,7,0)=0,\"\",VLOOKUP(J1,漢字書き!$A$2:$N$502,7,0)))","v":"う"},{"$f":"IF(K1=\"\",\"\",IF(VLOOKUP(K1,漢字読み!$A$2:$O$502,7,0)=0,\"\",VLOOKUP(K1,漢字読み!$A$2:$O$502,7,0)))","v":""},{"$f":"IF(L1=\"\",\"\",IF(VLOOKUP(L1,漢字読み!$A$2:$O$502,7,0)=0,\"\",VLOOKUP(L1,漢字読み!$A$2:$O$502,7,0)))","v":"ふ"},{"$f":"IF(M1=\"\",\"\",IF(VLOOKUP(M1,漢字読み!$A$2:$O$502,7,0)=0,\"\",VLOOKUP(M1,漢字読み!$A$2:$O$502,7,0)))","v":""},{"$f":"IF(N1=\"\",\"\",IF(VLOOKUP(N1,漢字読み!$A$2:$O$502,7,0)=0,\"\",VLOOKUP(N1,漢字読み!$A$2:$O$502,7,0)))","v":"く"},{"$f":"IF(O1=\"\",\"\",IF(VLOOKUP(O1,漢字読み!$A$2:$O$502,7,0)=0,\"\",VLOOKUP(O1,漢字読み!$A$2:$O$502,7,0)))","v":"っ暗"},{"$f":"IF(P1=\"\",\"\",IF(VLOOKUP(P1,漢字読み!$A$2:$O$502,7,0)=0,\"\",VLOOKUP(P1,漢字読み!$A$2:$O$502,7,0)))","v":""},{"$f":"IF(Q1=\"\",\"\",IF(VLOOKUP(Q1,漢字読み!$A$2:$O$502,7,0)=0,\"\",VLOOKUP(Q1,漢字読み!$A$2:$O$502,7,0)))","v":""},{"$f":"IF(R1=\"\",\"\",IF(VLOOKUP(R1,漢字読み!$A$2:$O$502,7,0)=0,\"\",VLOOKUP(R1,漢字読み!$A$2:$O$502,7,0)))","v":""},{"$f":"IF(S1=\"\",\"\",IF(VLOOKUP(S1,漢字読み!$A$2:$O$502,7,0)=0,\"\",VLOOKUP(S1,漢字読み!$A$2:$O$502,7,0)))","v":""},{"$f":"IF(T1=\"\",\"\",IF(VLOOKUP(T1,漢字読み!$A$2:$O$502,7,0)=0,\"\",VLOOKUP(T1,漢字読み!$A$2:$O$502,7,0)))","v":"い"},null,null,"和歌山県教育委員会"]
[{"$f":"INDIRECT(\"'関数（書き）'!C\" & COLUMN(B$1)+SUM($AD$2:$AD7))","v":93},{"$f":"INDIRECT(\"'関数（書き）'!C\" & COLUMN(C$1)+SUM($AD$2:$AD7))","v":78},{"$f":"INDIRECT(\"'関数（書き）'!C\" & COLUMN(D$1)+SUM($AD$2:$AD7))","v":194},{"$f":"INDIRECT(\"'関数（書き）'!C\" & COLUMN(E$1)+SUM($AD$2:$AD7))","v":196},{"$f":"INDIRECT(\"'関数（書き）'!C\" & COLUMN(F$1)+SUM($AD$2:$AD7))","v":85},{"$f":"INDIRECT(\"'関数（書き）'!C\" & COLUMN(G$1)+SUM($AD$2:$AD7))","v":170},{"$f":"INDIRECT(\"'関数（書き）'!C\" & COLUMN(H$1)+SUM($AD$2:$AD7))","v":193},{"$f":"INDIRECT(\"'関数（書き）'!C\" & COLUMN(I$1)+SUM($AD$2:$AD7))","v":178},{"$f":"INDIRECT(\"'関数（書き）'!C\" & COLUMN(J$1)+SUM($AD$2:$AD7))","v":79},{"$f":"INDIRECT(\"'関数（書き）'!C\" & COLUMN(K$1)+SUM($AD$2:$AD7))","v":184},{"$f":"INDIRECT(\"'関数（読み）'!C\" & COLUMN(B$1)+SUM($AD$2:$AD7))","v":162},{"$f":"INDIRECT(\"'関数（読み）'!C\" & COLUMN(C$1)+SUM($AD$2:$AD7))","v":177},{"$f":"INDIRECT(\"'関数（読み）'!C\" & COLUMN(D$1)+SUM($AD$2:$AD7))","v":2},{"$f":"INDIRECT(\"'関数（読み）'!C\" & COLUMN(E$1)+SUM($AD$2:$AD7))","v":179},{"$f":"INDIRECT(\"'関数（読み）'!C\" & COLUMN(F$1)+SUM($AD$2:$AD7))","v":148},{"$f":"INDIRECT(\"'関数（読み）'!C\" & COLUMN(G$1)+SUM($AD$2:$AD7))","v":160},{"$f":"INDIRECT(\"'関数（読み）'!C\" & COLUMN(H$1)+SUM($AD$2:$AD7))","v":71},{"$f":"INDIRECT(\"'関数（読み）'!C\" & COLUMN(I$1)+SUM($AD$2:$AD7))","v":107},{"$f":"INDIRECT(\"'関数（読み）'!C\" & COLUMN(J$1)+SUM($AD$2:$AD7))","v":55},{"$f":"INDIRECT(\"'関数（読み）'!C\" & COLUMN(K$1)+SUM($AD$2:$AD7))","v":174}]
["⑳","⑲","⑱","⑰","⑯","⑮","⑭","⑬","⑫","⑪","⑩","⑨","⑧","⑦","⑥","⑤","④","③","②","①","次の［　　　　］の部分の漢字には読みがなをひらがなで書き、カタカナは漢字に直しなさい。",12,"「漢字の博士検定試験」練習問題　",null,null,null,null,null,"←",10,"問",{"$f":"AH2+1","v":11},"～",{"$f":"SUM($AD$2:$AD7)+10","v":20},"問まで",{"$f":"COUNTIF($A$1:$T$200,T8)","v":2}]
[{"$f":"IF(A6=\"\",\"\",VLOOKUP(A6,漢字書き!$A$2:$N$506,6,0))","v":"うめ［シュ］を作る"},{"$f":"IF(B6=\"\",\"\",VLOOKUP(B6,漢字書き!$A$2:$N$506,6,0))","v":"くだものの［ミ］がなる"},{"$f":"IF(C6=\"\",\"\",VLOOKUP(C6,漢字書き!$A$2:$N$506,6,0))","v":"長所と［タンショ］"},{"$f":"IF(D6=\"\",\"\",VLOOKUP(D6,漢字書き!$A$2:$N$506,6,0))","v":"［ダンワ］室に入る"},{"$f":"IF(E6=\"\",\"\",VLOOKUP(E6,漢字書き!$A$2:$N$506,6,0))","v":"［シュジン］にしたがう"},{"$f":"IF(F6=\"\",\"\",VLOOKUP(F6,漢字書き!$A$2:$N$506,6,0))","v":"［キュウソク］をとる"},{"$f":"IF(G6=\"\",\"\",VLOOKUP(G6,漢字書き!$A$2:$N$506,6,0))","v":"［スミビ］で魚をやく"},{"$f":"IF(H6=\"\",\"\",VLOOKUP(H6,漢字書き!$A$2:$N$506,6,0))","v":"その［タ］大ぜい"},{"$f":"IF(I6=\"\",\"\",VLOOKUP(I6,漢字書き!$A$2:$N$506,6,0))","v":"［ミノ］りの秋"},{"$f":"IF(J6=\"\",\"\",VLOOKUP(J6,漢字書き!$A$2:$N$506,6,0))","v":"［キタイ］をよせる"},{"$f":"IF(K6=\"\",\"\",VLOOKUP(K6,漢字読み!$A$2:$O$506,6,0))","v":"車で［送］げいしてもらう"},{"$f":"IF(L6=\"\",\"\",VLOOKUP(L6,漢字読み!$A$2:$O$506,6,0))","v":"３［対］１で勝つ"},{"$f":"IF(M6=\"\",\"\",VLOOKUP(M6,漢字読み!$A$2:$O$506,6,0))","v":"一めんの［銀世界］"},{"$f":"IF(N6=\"\",\"\",VLOOKUP(N6,漢字読み!$A$2:$O$506,6,0))","v":"［期待］して見守る"},{"$f":"IF(O6=\"\",\"\",VLOOKUP(O6,漢字読み!$A$2:$O$506,6,0))","v":"どんどん［進］む"},{"$f":"IF(P6=\"\",\"\",VLOOKUP(P6,漢字読み!$A$2:$O$506,6,0))","v":"グループで［相談］する"},{"$f":"IF(Q6=\"\",\"\",VLOOKUP(Q6,漢字読み!$A$2:$O$506,6,0))","v":"[次回]ちょうせんする"},{"$f":"IF(R6=\"\",\"\",VLOOKUP(R6,漢字読み!$A$2:$O$506,6,0))","v":"人がたくさん［集］まる"},{"$f":"IF(S6=\"\",\"\",VLOOKUP(S6,漢字読み!$A$2:$O$506,6,0))","v":"祭りの［使者］"},{"$f":"IF(T6=\"\",\"\",VLOOKUP(T6,漢字読み!$A$2:$O$506,6,0))","v":"［打開］さくを考える"},null,"級"]
[null,null,null,null,null,null,null,null,null,null,null,null,null,null,null,null,null,null,null,null,null,"名前"]
[{"$f":"IF(A6=\"\",\"\",IF(VLOOKUP(A6,漢字書き!$A$2:$N$502,7,0)=0,\"\",VLOOKUP(A6,漢字書き!$A$2:$N$502,7,0)))","v":""},{"$f":"IF(B6=\"\",\"\",IF(VLOOKUP(B6,漢字書き!$A$2:$N$502,7,0)=0,\"\",VLOOKUP(B6,漢字書き!$A$2:$N$502,7,0)))","v":""},{"$f":"IF(C6=\"\",\"\",IF(VLOOKUP(C6,漢字書き!$A$2:$N$502,7,0)=0,\"\",VLOOKUP(C6,漢字書き!$A$2:$N$502,7,0)))","v":""},{"$f":"IF(D6=\"\",\"\",IF(VLOOKUP(D6,漢字書き!$A$2:$N$502,7,0)=0,\"\",VLOOKUP(D6,漢字書き!$A$2:$N$502,7,0)))","v":"室"},{"$f":"IF(E6=\"\",\"\",IF(VLOOKUP(E6,漢字書き!$A$2:$N$502,7,0)=0,\"\",VLOOKUP(E6,漢字書き!$A$2:$N$502,7,0)))","v":""},{"$f":"IF(F6=\"\",\"\",IF(VLOOKUP(F6,漢字書き!$A$2:$N$502,7,0)=0,\"\",VLOOKUP(F6,漢字書き!$A$2:$N$502,7,0)))","v":""},{"$f":"IF(G6=\"\",\"\",IF(VLOOKUP(G6,漢字書き!$A$2:$N$502,7,0)=0,\"\",VLOOKUP(G6,漢字書き!$A$2:$N$502,7,0)))","v":""},{"$f":"IF(H6=\"\",\"\",IF(VLOOKUP(H6,漢字書き!$A$2:$N$502,7,0)=0,\"\",VLOOKUP(H6,漢字書き!$A$2:$N$502,7,0)))","v":""},{"$f":"IF(I6=\"\",\"\",IF(VLOOKUP(I6,漢字書き!$A$2:$N$502,7,0)=0,\"\",VLOOKUP(I6,漢字書き!$A$2:$N$502,7,0)))","v":"り"},{"$f":"IF(J6=\"\",\"\",IF(VLOOKUP(J6,漢字書き!$A$2:$N$502,7,0)=0,\"\",VLOOKUP(J6,漢字書き!$A$2:$N$502,7,0)))","v":""},{"$f":"IF(K6=\"\",\"\",IF(VLOOKUP(K6,漢字読み!$A$2:$O$502,7,0)=0,\"\",VLOOKUP(K6,漢字読み!$A$2:$O$502,7,0)))","v":"げい"},{"$f":"IF(L6=\"\",\"\",IF(VLOOKUP(L6,漢字読み!$A$2:$O$502,7,0)=0,\"\",VLOOKUP(L6,漢字読み!$A$2:$O$502,7,0)))","v":""},{"$f":"IF(M6=\"\",\"\",IF(VLOOKUP(M6,漢字読み!$A$2:$O$502,7,0)=0,\"\",VLOOKUP(M6,漢字読み!$A$2:$O$502,7,0)))","v":""},{"$f":"IF(N6=\"\",\"\",IF(VLOOKUP(N6,漢字読み!$A$2:$O$502,7,0)=0,\"\",VLOOKUP(N6,漢字読み!$A$2:$O$502,7,0)))","v":"して"},{"$f":"IF(O6=\"\",\"\",IF(VLOOKUP(O6,漢字読み!$A$2:$O$502,7,0)=0,\"\",VLOOKUP(O6,漢字読み!$A$2:$O$502,7,0)))","v":"む"},{"$f":"IF(P6=\"\",\"\",IF(VLOOKUP(P6,漢字読み!$A$2:$O$502,7,0)=0,\"\",VLOOKUP(P6,漢字読み!$A$2:$O$502,7,0)))","v":"する"},{"$f":"IF(Q6=\"\",\"\",IF(VLOOKUP(Q6,漢字読み!$A$2:$O$502,7,0)=0,\"\",VLOOKUP(Q6,漢字読み!$A$2:$O$502,7,0)))","v":""},{"$f":"IF(R6=\"\",\"\",IF(VLOOKUP(R6,漢字読み!$A$2:$O$502,7,0)=0,\"\",VLOOKUP(R6,漢字読み!$A$2:$O$502,7,0)))","v":"まる"},{"$f":"IF(S6=\"\",\"\",IF(VLOOKUP(S6,漢字読み!$A$2:$O$502,7,0)=0,\"\",VLOOKUP(S6,漢字読み!$A$2:$O$502,7,0)))","v":""},{"$f":"IF(T6=\"\",\"\",IF(VLOOKUP(T6,漢字読み!$A$2:$O$502,7,0)=0,\"\",VLOOKUP(T6,漢字読み!$A$2:$O$502,7,0)))","v":"さく"},null,null,"和歌山県教育委員会"]
[{"$f":"A1","v":13},182,26,191,159,74,181,58,24,107,167,240,215,198,143,207,184,235,224,146]
["⑳","⑲","⑱","⑰","⑯","⑮","⑭","⑬","⑫","⑪","⑩","⑨","⑧","⑦","⑥","⑤","④","③","②","①","次の［　　　　］の部分の漢字には読みがなをひらがなで書き、カタカナは漢字に直しなさい。",12,"「漢字の博士検定試験」練習問題　"]
[{"$f":"IF(A11=\"\",\"\",VLOOKUP(A11,漢字書き!$A$2:$N$506,6,0))","v":"君とはかん［ケイ］ない"},{"$f":"IF(B11=\"\",\"\",VLOOKUP(B11,漢字書き!$A$2:$N$506,6,0))","v":"はん［タイ］の意見"},{"$f":"IF(C11=\"\",\"\",VLOOKUP(C11,漢字書き!$A$2:$N$506,6,0))","v":"[ケン]しゅうを受ける"},{"$f":"IF(D11=\"\",\"\",VLOOKUP(D11,漢字書き!$A$2:$N$506,6,0))","v":"［セキタン］をもやす"},{"$f":"IF(E11=\"\",\"\",VLOOKUP(E11,漢字書き!$A$2:$N$506,6,0))","v":"ふくそうを［トトノ］える"},{"$f":"IF(F11=\"\",\"\",VLOOKUP(F11,漢字書き!$A$2:$N$506,6,0))","v":"［ニュウガクシキ］に出る"},{"$f":"IF(G11=\"\",\"\",VLOOKUP(G11,漢字書き!$A$2:$N$506,6,0))","v":"ヒットを［ウ］つ"},{"$f":"IF(H11=\"\",\"\",VLOOKUP(H11,漢字書き!$A$2:$N$506,6,0))","v":"そうじを［ハジ］める"},{"$f":"IF(I11=\"\",\"\",VLOOKUP(I11,漢字書き!$A$2:$N$506,6,0))","v":"せきを［キ］める"},{"$f":"IF(J11=\"\",\"\",VLOOKUP(J11,漢字書き!$A$2:$N$506,6,0))","v":"空手を［ナラ］う"},{"$f":"IF(K11=\"\",\"\",VLOOKUP(K11,漢字読み!$A$2:$O$506,6,0))","v":"［息］をはく"},{"$f":"IF(L11=\"\",\"\",VLOOKUP(L11,漢字読み!$A$2:$O$506,6,0))","v":"［豆］ふを食べる"},{"$f":"IF(M11=\"\",\"\",VLOOKUP(M11,漢字読み!$A$2:$O$506,6,0))","v":"［定番］のおかず"},{"$f":"IF(N11=\"\",\"\",VLOOKUP(N11,漢字読み!$A$2:$O$506,6,0))","v":"駅に［着］く"},{"$f":"IF(O11=\"\",\"\",VLOOKUP(O11,漢字読み!$A$2:$O$506,6,0))","v":"［真］っ暗やみ"},{"$f":"IF(P11=\"\",\"\",VLOOKUP(P11,漢字読み!$A$2:$O$506,6,0))","v":"ほう[丁]で切る"},{"$f":"IF(Q11=\"\",\"\",VLOOKUP(Q11,漢字読み!$A$2:$O$506,6,0))","v":"［交代］をする"},{"$f":"IF(R11=\"\",\"\",VLOOKUP(R11,漢字読み!$A$2:$O$506,6,0))","v":"日本の［都］"},{"$f":"IF(S11=\"\",\"\",VLOOKUP(S11,漢字読み!$A$2:$O$506,6,0))","v":"［笛］の音"},{"$f":"IF(T11=\"\",\"\",VLOOKUP(T11,漢字読み!$A$2:$O$506,6,0))","v":"［深］い谷のそこ"},null,"級"]
[{"$f":"IF(A$11=\"\",\"\",VLOOKUP(A11,漢字書き!$A$2:$O$506,8,0))","v":"係"},{"$f":"IF(B$11=\"\",\"\",VLOOKUP(B11,漢字書き!$A$2:$O$506,8,0))","v":"対"},{"$f":"IF(C$11=\"\",\"\",VLOOKUP(C11,漢字書き!$A$2:$O$506,8,0))","v":"研"},{"$f":"IF(D$11=\"\",\"\",VLOOKUP(D11,漢字書き!$A$2:$O$506,8,0))","v":"石炭"},{"$f":"IF(E$11=\"\",\"\",VLOOKUP(E11,漢字書き!$A$2:$O$506,8,0))","v":"整"},{"$f":"IF(F$11=\"\",\"\",VLOOKUP(F11,漢字書き!$A$2:$O$506,8,0))","v":"入学式"},{"$f":"IF(G$11=\"\",\"\",VLOOKUP(G11,漢字書き!$A$2:$O$506,8,0))","v":"打"},{"$f":"IF(H$11=\"\",\"\",VLOOKUP(H11,漢字書き!$A$2:$O$506,8,0))","v":"始"},{"$f":"IF(I$11=\"\",\"\",VLOOKUP(I11,漢字書き!$A$2:$O$506,8,0))","v":"決"},{"$f":"IF(J$11=\"\",\"\",VLOOKUP(J11,漢字書き!$A$2:$O$506,8,0))","v":"習"},{"$f":"IF(K$11=\"\",\"\",VLOOKUP(K11,漢字読み!$A$2:$O$506,8,0))","v":"いき"},{"$f":"IF(L$11=\"\",\"\",VLOOKUP(L11,漢字読み!$A$2:$O$506,8,0))","v":"とう"},{"$f":"IF(M$11=\"\",\"\",VLOOKUP(M11,漢字読み!$A$2:$O$506,8,0))","v":"ていばん"},{"$f":"IF(N$11=\"\",\"\",VLOOKUP(N11,漢字読み!$A$2:$O$506,8,0))","v":"つ"},{"$f":"IF(O$11=\"\",\"\",VLOOKUP(O11,漢字読み!$A$2:$O$506,8,0))","v":"ま"},{"$f":"IF(P$11=\"\",\"\",VLOOKUP(P11,漢字読み!$A$2:$O$506,8,0))","v":"ちょう"},{"$f":"IF(Q$11=\"\",\"\",VLOOKUP(Q11,漢字読み!$A$2:$O$506,8,0))","v":"こうたい"},{"$f":"IF(R$11=\"\",\"\",VLOOKUP(R11,漢字読み!$A$2:$O$506,8,0))","v":"みやこ"},{"$f":"IF(S$11=\"\",\"\",VLOOKUP(S11,漢字読み!$A$2:$O$506,8,0))","v":"ふえ"},{"$f":"IF(T$11=\"\",\"\",VLOOKUP(T11,漢字読み!$A$2:$O$506,8,0))","v":"ふか"},null,"名前"]
[{"$f":"IF(A11=\"\",\"\",IF(VLOOKUP(A11,漢字書き!$A$2:$N$502,7,0)=0,\"\",VLOOKUP(A11,漢字書き!$A$2:$N$502,7,0)))","v":"ない"},{"$f":"IF(B11=\"\",\"\",IF(VLOOKUP(B11,漢字書き!$A$2:$N$502,7,0)=0,\"\",VLOOKUP(B11,漢字書き!$A$2:$N$502,7,0)))","v":""},{"$f":"IF(C11=\"\",\"\",IF(VLOOKUP(C11,漢字書き!$A$2:$N$502,7,0)=0,\"\",VLOOKUP(C11,漢字書き!$A$2:$N$502,7,0)))","v":"しゅう"},{"$f":"IF(D11=\"\",\"\",IF(VLOOKUP(D11,漢字書き!$A$2:$N$502,7,0)=0,\"\",VLOOKUP(D11,漢字書き!$A$2:$N$502,7,0)))","v":""},{"$f":"IF(E11=\"\",\"\",IF(VLOOKUP(E11,漢字書き!$A$2:$N$502,7,0)=0,\"\",VLOOKUP(E11,漢字書き!$A$2:$N$502,7,0)))","v":"える"},{"$f":"IF(F11=\"\",\"\",IF(VLOOKUP(F11,漢字書き!$A$2:$N$502,7,0)=0,\"\",VLOOKUP(F11,漢字書き!$A$2:$N$502,7,0)))","v":""},{"$f":"IF(G11=\"\",\"\",IF(VLOOKUP(G11,漢字書き!$A$2:$N$502,7,0)=0,\"\",VLOOKUP(G11,漢字書き!$A$2:$N$502,7,0)))","v":"つ"},{"$f":"IF(H11=\"\",\"\",IF(VLOOKUP(H11,漢字書き!$A$2:$N$502,7,0)=0,\"\",VLOOKUP(H11,漢字書き!$A$2:$N$502,7,0)))","v":"める"},{"$f":"IF(I11=\"\",\"\",IF(VLOOKUP(I11,漢字書き!$A$2:$N$502,7,0)=0,\"\",VLOOKUP(I11,漢字書き!$A$2:$N$502,7,0)))","v":"める"},{"$f":"IF(J11=\"\",\"\",IF(VLOOKUP(J11,漢字書き!$A$2:$N$502,7,0)=0,\"\",VLOOKUP(J11,漢字書き!$A$2:$N$502,7,0)))","v":"う"},{"$f":"IF(K11=\"\",\"\",IF(VLOOKUP(K11,漢字読み!$A$2:$O$502,7,0)=0,\"\",VLOOKUP(K11,漢字読み!$A$2:$O$502,7,0)))","v":""},{"$f":"IF(L11=\"\",\"\",IF(VLOOKUP(L11,漢字読み!$A$2:$O$502,7,0)=0,\"\",VLOOKUP(L11,漢字読み!$A$2:$O$502,7,0)))","v":"ふ"},{"$f":"IF(M11=\"\",\"\",IF(VLOOKUP(M11,漢字読み!$A$2:$O$502,7,0)=0,\"\",VLOOKUP(M11,漢字読み!$A$2:$O$502,7,0)))","v":""},{"$f":"IF(N11=\"\",\"\",IF(VLOOKUP(N11,漢字読み!$A$2:$O$502,7,0)=0,\"\",VLOOKUP(N11,漢字読み!$A$2:$O$502,7,0)))","v":"く"},{"$f":"IF(O11=\"\",\"\",IF(VLOOKUP(O11,漢字読み!$A$2:$O$502,7,0)=0,\"\",VLOOKUP(O11,漢字読み!$A$2:$O$502,7,0)))","v":"っ暗"},{"$f":"IF(P11=\"\",\"\",IF(VLOOKUP(P11,漢字読み!$A$2:$O$502,7,0)=0,\"\",VLOOKUP(P11,漢字読み!$A$2:$O$502,7,0)))","v":""},{"$f":"IF(Q11=\"\",\"\",IF(VLOOKUP(Q11,漢字読み!$A$2:$O$502,7,0)=0,\"\",VLOOKUP(Q11,漢字読み!$A$2:$O$502,7,0)))","v":""},{"$f":"IF(R11=\"\",\"\",IF(VLOOKUP(R11,漢字読み!$A$2:$O$502,7,0)=0,\"\",VLOOKUP(R11,漢字読み!$A$2:$O$502,7,0)))","v":""},{"$f":"IF(S11=\"\",\"\",IF(VLOOKUP(S11,漢字読み!$A$2:$O$502,7,0)=0,\"\",VLOOKUP(S11,漢字読み!$A$2:$O$502,7,0)))","v":""},{"$f":"IF(T11=\"\",\"\",IF(VLOOKUP(T11,漢字読み!$A$2:$O$502,7,0)=0,\"\",VLOOKUP(T11,漢字読み!$A$2:$O$502,7,0)))","v":"い"},null,null,"和歌山県教育委員会"]
[{"$f":"A6","v":93},78,194,196,85,170,193,178,79,184,162,177,2,179,148,160,71,107,55,174]
["⑳","⑲","⑱","⑰","⑯","⑮","⑭","⑬","⑫","⑪","⑩","⑨","⑧","⑦","⑥","⑤","④","③","②","①","次の［　　　　］の部分の漢字には読みがなをひらがなで書き、カタカナは漢字に直しなさい。",12,"「漢字の博士検定試験」練習問題　"]
[{"$f":"IF(A16=\"\",\"\",VLOOKUP(A16,漢字書き!$A$2:$N$506,6,0))","v":"うめ［シュ］を作る"},{"$f":"IF(B16=\"\",\"\",VLOOKUP(B16,漢字書き!$A$2:$N$506,6,0))","v":"くだものの［ミ］がなる"},{"$f":"IF(C16=\"\",\"\",VLOOKUP(C16,漢字書き!$A$2:$N$506,6,0))","v":"長所と［タンショ］"},{"$f":"IF(D16=\"\",\"\",VLOOKUP(D16,漢字書き!$A$2:$N$506,6,0))","v":"［ダンワ］室に入る"},{"$f":"IF(E16=\"\",\"\",VLOOKUP(E16,漢字書き!$A$2:$N$506,6,0))","v":"［シュジン］にしたがう"},{"$f":"IF(F16=\"\",\"\",VLOOKUP(F16,漢字書き!$A$2:$N$506,6,0))","v":"［キュウソク］をとる"},{"$f":"IF(G16=\"\",\"\",VLOOKUP(G16,漢字書き!$A$2:$N$506,6,0))","v":"［スミビ］で魚をやく"},{"$f":"IF(H16=\"\",\"\",VLOOKUP(H16,漢字書き!$A$2:$N$506,6,0))","v":"その［タ］大ぜい"},{"$f":"IF(I16=\"\",\"\",VLOOKUP(I16,漢字書き!$A$2:$N$506,6,0))","v":"［ミノ］りの秋"},{"$f":"IF(J16=\"\",\"\",VLOOKUP(J16,漢字書き!$A$2:$N$506,6,0))","v":"［キタイ］をよせる"},{"$f":"IF(K16=\"\",\"\",VLOOKUP(K16,漢字読み!$A$2:$O$506,6,0))","v":"車で［送］げいしてもらう"},{"$f":"IF(L16=\"\",\"\",VLOOKUP(L16,漢字読み!$A$2:$O$506,6,0))","v":"３［対］１で勝つ"},{"$f":"IF(M16=\"\",\"\",VLOOKUP(M16,漢字読み!$A$2:$O$506,6,0))","v":"一めんの［銀世界］"},{"$f":"IF(N16=\"\",\"\",VLOOKUP(N16,漢字読み!$A$2:$O$506,6,0))","v":"［期待］して見守る"},{"$f":"IF(O16=\"\",\"\",VLOOKUP(O16,漢字読み!$A$2:$O$506,6,0))","v":"どんどん［進］む"},{"$f":"IF(P16=\"\",\"\",VLOOKUP(P16,漢字読み!$A$2:$O$506,6,0))","v":"グループで［相談］する"},{"$f":"IF(Q16=\"\",\"\",VLOOKUP(Q16,漢字読み!$A$2:$O$506,6,0))","v":"[次回]ちょうせんする"},{"$f":"IF(R16=\"\",\"\",VLOOKUP(R16,漢字読み!$A$2:$O$506,6,0))","v":"人がたくさん［集］まる"},{"$f":"IF(S16=\"\",\"\",VLOOKUP(S16,漢字読み!$A$2:$O$506,6,0))","v":"祭りの［使者］"},{"$f":"IF(T16=\"\",\"\",VLOOKUP(T16,漢字読み!$A$2:$O$506,6,0))","v":"［打開］さくを考える"},null,"級"]
[{"$f":"IF(A$16=\"\",\"\",VLOOKUP(A16,漢字書き!$A$2:$O$506,8,0))","v":"酒"},{"$f":"IF(B$16=\"\",\"\",VLOOKUP(B16,漢字書き!$A$2:$O$506,8,0))","v":"実"},{"$f":"IF(C$16=\"\",\"\",VLOOKUP(C16,漢字書き!$A$2:$O$506,8,0))","v":"短所"},{"$f":"IF(D$16=\"\",\"\",VLOOKUP(D16,漢字書き!$A$2:$O$506,8,0))","v":"談話"},{"$f":"IF(E$16=\"\",\"\",VLOOKUP(E16,漢字書き!$A$2:$O$506,8,0))","v":"主人"},{"$f":"IF(F$16=\"\",\"\",VLOOKUP(F16,漢字書き!$A$2:$O$506,8,0))","v":"休息"},{"$f":"IF(G$16=\"\",\"\",VLOOKUP(G16,漢字書き!$A$2:$O$506,8,0))","v":"炭火"},{"$f":"IF(H$16=\"\",\"\",VLOOKUP(H16,漢字書き!$A$2:$O$506,8,0))","v":"他"},{"$f":"IF(I$16=\"\",\"\",VLOOKUP(I16,漢字書き!$A$2:$O$506,8,0))","v":"実"},{"$f":"IF(J$16=\"\",\"\",VLOOKUP(J16,漢字書き!$A$2:$O$506,8,0))","v":"期待"},{"$f":"IF(K$16=\"\",\"\",VLOOKUP(K16,漢字読み!$A$2:$O$506,8,0))","v":"そう"},{"$f":"IF(L$16=\"\",\"\",VLOOKUP(L16,漢字読み!$A$2:$O$506,8,0))","v":"たい"},{"$f":"IF(M$16=\"\",\"\",VLOOKUP(M16,漢字読み!$A$2:$O$506,8,0))","v":"ぎんせかい"},{"$f":"IF(N$16=\"\",\"\",VLOOKUP(N16,漢字読み!$A$2:$O$506,8,0))","v":"きたい"},{"$f":"IF(O$16=\"\",\"\",VLOOKUP(O16,漢字読み!$A$2:$O$506,8,0))","v":"すす"},{"$f":"IF(P$16=\"\",\"\",VLOOKUP(P16,漢字読み!$A$2:$O$506,8,0))","v":"そうだん"},{"$f":"IF(Q$16=\"\",\"\",VLOOKUP(Q16,漢字読み!$A$2:$O$506,8,0))","v":"じかい"},{"$f":"IF(R$16=\"\",\"\",VLOOKUP(R16,漢字読み!$A$2:$O$506,8,0))","v":"あつ"},{"$f":"IF(S$16=\"\",\"\",VLOOKUP(S16,漢字読み!$A$2:$O$506,8,0))","v":"ししゃ"},{"$f":"IF(T$16=\"\",\"\",VLOOKUP(T16,漢字読み!$A$2:$O$506,8,0))","v":"だかい"},null,"名前"]
[{"$f":"IF(A16=\"\",\"\",IF(VLOOKUP(A16,漢字書き!$A$2:$N$502,7,0)=0,\"\",VLOOKUP(A16,漢字書き!$A$2:$N$502,7,0)))","v":""},{"$f":"IF(B16=\"\",\"\",IF(VLOOKUP(B16,漢字書き!$A$2:$N$502,7,0)=0,\"\",VLOOKUP(B16,漢字書き!$A$2:$N$502,7,0)))","v":""},{"$f":"IF(C16=\"\",\"\",IF(VLOOKUP(C16,漢字書き!$A$2:$N$502,7,0)=0,\"\",VLOOKUP(C16,漢字書き!$A$2:$N$502,7,0)))","v":""},{"$f":"IF(D16=\"\",\"\",IF(VLOOKUP(D16,漢字書き!$A$2:$N$502,7,0)=0,\"\",VLOOKUP(D16,漢字書き!$A$2:$N$502,7,0)))","v":"室"},{"$f":"IF(E16=\"\",\"\",IF(VLOOKUP(E16,漢字書き!$A$2:$N$502,7,0)=0,\"\",VLOOKUP(E16,漢字書き!$A$2:$N$502,7,0)))","v":""},{"$f":"IF(F16=\"\",\"\",IF(VLOOKUP(F16,漢字書き!$A$2:$N$502,7,0)=0,\"\",VLOOKUP(F16,漢字書き!$A$2:$N$502,7,0)))","v":""},{"$f":"IF(G16=\"\",\"\",IF(VLOOKUP(G16,漢字書き!$A$2:$N$502,7,0)=0,\"\",VLOOKUP(G16,漢字書き!$A$2:$N$502,7,0)))","v":""},{"$f":"IF(H16=\"\",\"\",IF(VLOOKUP(H16,漢字書き!$A$2:$N$502,7,0)=0,\"\",VLOOKUP(H16,漢字書き!$A$2:$N$502,7,0)))","v":""},{"$f":"IF(I16=\"\",\"\",IF(VLOOKUP(I16,漢字書き!$A$2:$N$502,7,0)=0,\"\",VLOOKUP(I16,漢字書き!$A$2:$N$502,7,0)))","v":"り"},{"$f":"IF(J16=\"\",\"\",IF(VLOOKUP(J16,漢字書き!$A$2:$N$502,7,0)=0,\"\",VLOOKUP(J16,漢字書き!$A$2:$N$502,7,0)))","v":""},{"$f":"IF(K16=\"\",\"\",IF(VLOOKUP(K16,漢字読み!$A$2:$O$502,7,0)=0,\"\",VLOOKUP(K16,漢字読み!$A$2:$O$502,7,0)))","v":"げい"},{"$f":"IF(L16=\"\",\"\",IF(VLOOKUP(L16,漢字読み!$A$2:$O$502,7,0)=0,\"\",VLOOKUP(L16,漢字読み!$A$2:$O$502,7,0)))","v":""},{"$f":"IF(M16=\"\",\"\",IF(VLOOKUP(M16,漢字読み!$A$2:$O$502,7,0)=0,\"\",VLOOKUP(M16,漢字読み!$A$2:$O$502,7,0)))","v":""},{"$f":"IF(N16=\"\",\"\",IF(VLOOKUP(N16,漢字読み!$A$2:$O$502,7,0)=0,\"\",VLOOKUP(N16,漢字読み!$A$2:$O$502,7,0)))","v":"して"},{"$f":"IF(O16=\"\",\"\",IF(VLOOKUP(O16,漢字読み!$A$2:$O$502,7,0)=0,\"\",VLOOKUP(O16,漢字読み!$A$2:$O$502,7,0)))","v":"む"},{"$f":"IF(P16=\"\",\"\",IF(VLOOKUP(P16,漢字読み!$A$2:$O$502,7,0)=0,\"\",VLOOKUP(P16,漢字読み!$A$2:$O$502,7,0)))","v":"する"},{"$f":"IF(Q16=\"\",\"\",IF(VLOOKUP(Q16,漢字読み!$A$2:$O$502,7,0)=0,\"\",VLOOKUP(Q16,漢字読み!$A$2:$O$502,7,0)))","v":""},{"$f":"IF(R16=\"\",\"\",IF(VLOOKUP(R16,漢字読み!$A$2:$O$502,7,0)=0,\"\",VLOOKUP(R16,漢字読み!$A$2:$O$502,7,0)))","v":"まる"},{"$f":"IF(S16=\"\",\"\",IF(VLOOKUP(S16,漢字読み!$A$2:$O$502,7,0)=0,\"\",VLOOKUP(S16,漢字読み!$A$2:$O$502,7,0)))","v":""},{"$f":"IF(T16=\"\",\"\",IF(VLOOKUP(T16,漢字読み!$A$2:$O$502,7,0)=0,\"\",VLOOKUP(T16,漢字読み!$A$2:$O$502,7,0)))","v":"さく"},null,null,"和歌山県教育委員会"]
[{"$f":"INDIRECT(\"'関数（書き）'!C\" & COLUMN(B$1)+SUM($AD$2:$AD22))","v":207},{"$f":"INDIRECT(\"'関数（書き）'!C\" & COLUMN(C$1)+SUM($AD$2:$AD22))","v":138},{"$f":"INDIRECT(\"'関数（書き）'!C\" & COLUMN(D$1)+SUM($AD$2:$AD22))","v":66},{"$f":"INDIRECT(\"'関数（書き）'!C\" & COLUMN(E$1)+SUM($AD$2:$AD22))","v":141},{"$f":"INDIRECT(\"'関数（書き）'!C\" & COLUMN(F$1)+SUM($AD$2:$AD22))","v":100},{"$f":"INDIRECT(\"'関数（書き）'!C\" & COLUMN(G$1)+SUM($AD$2:$AD22))","v":118},{"$f":"INDIRECT(\"'関数（書き）'!C\" & COLUMN(H$1)+SUM($AD$2:$AD22))","v":211},{"$f":"INDIRECT(\"'関数（書き）'!C\" & COLUMN(I$1)+SUM($AD$2:$AD22))","v":96},{"$f":"INDIRECT(\"'関数（書き）'!C\" & COLUMN(J$1)+SUM($AD$2:$AD22))","v":168},{"$f":"INDIRECT(\"'関数（書き）'!C\" & COLUMN(K$1)+SUM($AD$2:$AD22))","v":189},{"$f":"INDIRECT(\"'関数（読み）'!C\" & COLUMN(B$1)+SUM($AD$2:$AD22))","v":66},{"$f":"INDIRECT(\"'関数（読み）'!C\" & COLUMN(C$1)+SUM($AD$2:$AD22))","v":236},{"$f":"INDIRECT(\"'関数（読み）'!C\" & COLUMN(D$1)+SUM($AD$2:$AD22))","v":208},{"$f":"INDIRECT(\"'関数（読み）'!C\" & COLUMN(E$1)+SUM($AD$2:$AD22))","v":172},{"$f":"INDIRECT(\"'関数（読み）'!C\" & COLUMN(F$1)+SUM($AD$2:$AD22))","v":18},{"$f":"INDIRECT(\"'関数（読み）'!C\" & COLUMN(G$1)+SUM($AD$2:$AD22))","v":152},{"$f":"INDIRECT(\"'関数（読み）'!C\" & COLUMN(H$1)+SUM($AD$2:$AD22))","v":33},{"$f":"INDIRECT(\"'関数（読み）'!C\" & COLUMN(I$1)+SUM($AD$2:$AD22))","v":97},{"$f":"INDIRECT(\"'関数（読み）'!C\" & COLUMN(J$1)+SUM($AD$2:$AD22))","v":213},{"$f":"INDIRECT(\"'関数（読み）'!C\" & COLUMN(K$1)+SUM($AD$2:$AD22))","v":121}]
["⑳","⑲","⑱","⑰","⑯","⑮","⑭","⑬","⑫","⑪","⑩","⑨","⑧","⑦","⑥","⑤","④","③","②","①","次の［　　　　］の部分の漢字には読みがなをひらがなで書き、カタカナは漢字に直しなさい。",12,"「漢字の博士検定試験」練習問題　",null,null,null,null,null,"←",10,"問",{"$f":"AH7+1","v":21},"～",{"$f":"SUM($AD$2:$AD22)+10","v":30},"問まで",{"$f":"COUNTIF($A$1:$T$200,T23)","v":2}]
[{"$f":"IF(A21=\"\",\"\",VLOOKUP(A21,漢字書き!$A$2:$N$506,6,0))","v":"太い［ハシラ］"},{"$f":"IF(B21=\"\",\"\",VLOOKUP(B21,漢字書き!$A$2:$N$506,6,0))","v":"［ショクブツ］が育つ"},{"$f":"IF(C21=\"\",\"\",VLOOKUP(C21,漢字書き!$A$2:$N$506,6,0))","v":"［シ］を書く"},{"$f":"IF(D21=\"\",\"\",VLOOKUP(D21,漢字書き!$A$2:$N$506,6,0))","v":"［シンチョウ］がのびる"},{"$f":"IF(E21=\"\",\"\",VLOOKUP(E21,漢字書き!$A$2:$N$506,6,0))","v":"[ホンシュウ]にわたる"},{"$f":"IF(F21=\"\",\"\",VLOOKUP(F21,漢字書き!$A$2:$N$506,6,0))","v":"［ヤド］で一休みする"},{"$f":"IF(G21=\"\",\"\",VLOOKUP(G21,漢字書き!$A$2:$N$506,6,0))","v":"［タイチョウ］が悪い"},{"$f":"IF(H21=\"\",\"\",VLOOKUP(H21,漢字書き!$A$2:$N$506,6,0))","v":"書るいを［ジュリ］する"},{"$f":"IF(I21=\"\",\"\",VLOOKUP(I21,漢字書き!$A$2:$N$506,6,0))","v":"駅まで［オク］る"},{"$f":"IF(J21=\"\",\"\",VLOOKUP(J21,漢字書き!$A$2:$N$506,6,0))","v":"［ダイ］一回の大会"},{"$f":"IF(K21=\"\",\"\",VLOOKUP(K21,漢字読み!$A$2:$O$506,6,0))","v":"［歯医者］に行く"},{"$f":"IF(L21=\"\",\"\",VLOOKUP(L21,漢字読み!$A$2:$O$506,6,0))","v":"［度］をこえた出来事"},{"$f":"IF(M21=\"\",\"\",VLOOKUP(M21,漢字読み!$A$2:$O$506,6,0))","v":"三［丁目］にいる"},{"$f":"IF(N21=\"\",\"\",VLOOKUP(N21,漢字読み!$A$2:$O$506,6,0))","v":"その［他］の意見"},{"$f":"IF(O21=\"\",\"\",VLOOKUP(O21,漢字読み!$A$2:$O$506,6,0))","v":"［軽］いかばん"},{"$f":"IF(P21=\"\",\"\",VLOOKUP(P21,漢字読み!$A$2:$O$506,6,0))","v":"本を［整］える"},{"$f":"IF(Q21=\"\",\"\",VLOOKUP(Q21,漢字読み!$A$2:$O$506,6,0))","v":"意よくの［向上］"},{"$f":"IF(R21=\"\",\"\",VLOOKUP(R21,漢字読み!$A$2:$O$506,6,0))","v":"［九州］のいとこ"},{"$f":"IF(S21=\"\",\"\",VLOOKUP(S21,漢字読み!$A$2:$O$506,6,0))","v":"真実を［追究］する"},{"$f":"IF(T21=\"\",\"\",VLOOKUP(T21,漢字読み!$A$2:$O$506,6,0))","v":"［助］けをもとめる"},null,"級"]
[null,null,null,null,null,null,null,null,null,null,null,null,null,null,null,null,null,null,null,null,null,"名前"]
[{"$f":"IF(A21=\"\",\"\",IF(VLOOKUP(A21,漢字書き!$A$2:$N$502,7,0)=0,\"\",VLOOKUP(A21,漢字書き!$A$2:$N$502,7,0)))","v":""},{"$f":"IF(B21=\"\",\"\",IF(VLOOKUP(B21,漢字書き!$A$2:$N$502,7,0)=0,\"\",VLOOKUP(B21,漢字書き!$A$2:$N$502,7,0)))","v":""},{"$f":"IF(C21=\"\",\"\",IF(VLOOKUP(C21,漢字書き!$A$2:$N$502,7,0)=0,\"\",VLOOKUP(C21,漢字書き!$A$2:$N$502,7,0)))","v":""},{"$f":"IF(D21=\"\",\"\",IF(VLOOKUP(D21,漢字書き!$A$2:$N$502,7,0)=0,\"\",VLOOKUP(D21,漢字書き!$A$2:$N$502,7,0)))","v":""},{"$f":"IF(E21=\"\",\"\",IF(VLOOKUP(E21,漢字書き!$A$2:$N$502,7,0)=0,\"\",VLOOKUP(E21,漢字書き!$A$2:$N$502,7,0)))","v":""},{"$f":"IF(F21=\"\",\"\",IF(VLOOKUP(F21,漢字書き!$A$2:$N$502,7,0)=0,\"\",VLOOKUP(F21,漢字書き!$A$2:$N$502,7,0)))","v":""},{"$f":"IF(G21=\"\",\"\",IF(VLOOKUP(G21,漢字書き!$A$2:$N$502,7,0)=0,\"\",VLOOKUP(G21,漢字書き!$A$2:$N$502,7,0)))","v":""},{"$f":"IF(H21=\"\",\"\",IF(VLOOKUP(H21,漢字書き!$A$2:$N$502,7,0)=0,\"\",VLOOKUP(H21,漢字書き!$A$2:$N$502,7,0)))","v":"する"},{"$f":"IF(I21=\"\",\"\",IF(VLOOKUP(I21,漢字書き!$A$2:$N$502,7,0)=0,\"\",VLOOKUP(I21,漢字書き!$A$2:$N$502,7,0)))","v":"る"},{"$f":"IF(J21=\"\",\"\",IF(VLOOKUP(J21,漢字書き!$A$2:$N$502,7,0)=0,\"\",VLOOKUP(J21,漢字書き!$A$2:$N$502,7,0)))","v":"一回"},{"$f":"IF(K21=\"\",\"\",IF(VLOOKUP(K21,漢字読み!$A$2:$O$502,7,0)=0,\"\",VLOOKUP(K21,漢字読み!$A$2:$O$502,7,0)))","v":""},{"$f":"IF(L21=\"\",\"\",IF(VLOOKUP(L21,漢字読み!$A$2:$O$502,7,0)=0,\"\",VLOOKUP(L21,漢字読み!$A$2:$O$502,7,0)))","v":""},{"$f":"IF(M21=\"\",\"\",IF(VLOOKUP(M21,漢字読み!$A$2:$O$502,7,0)=0,\"\",VLOOKUP(M21,漢字読み!$A$2:$O$502,7,0)))","v":""},{"$f":"IF(N21=\"\",\"\",IF(VLOOKUP(N21,漢字読み!$A$2:$O$502,7,0)=0,\"\",VLOOKUP(N21,漢字読み!$A$2:$O$502,7,0)))","v":""},{"$f":"IF(O21=\"\",\"\",IF(VLOOKUP(O21,漢字読み!$A$2:$O$502,7,0)=0,\"\",VLOOKUP(O21,漢字読み!$A$2:$O$502,7,0)))","v":"い"},{"$f":"IF(P21=\"\",\"\",IF(VLOOKUP(P21,漢字読み!$A$2:$O$502,7,0)=0,\"\",VLOOKUP(P21,漢字読み!$A$2:$O$502,7,0)))","v":"える"},{"$f":"IF(Q21=\"\",\"\",IF(VLOOKUP(Q21,漢字読み!$A$2:$O$502,7,0)=0,\"\",VLOOKUP(Q21,漢字読み!$A$2:$O$502,7,0)))","v":""},{"$f":"IF(R21=\"\",\"\",IF(VLOOKUP(R21,漢字読み!$A$2:$O$502,7,0)=0,\"\",VLOOKUP(R21,漢字読み!$A$2:$O$502,7,0)))","v":""},{"$f":"IF(S21=\"\",\"\",IF(VLOOKUP(S21,漢字読み!$A$2:$O$502,7,0)=0,\"\",VLOOKUP(S21,漢字読み!$A$2:$O$502,7,0)))","v":"する"},{"$f":"IF(T21=\"\",\"\",IF(VLOOKUP(T21,漢字読み!$A$2:$O$502,7,0)=0,\"\",VLOOKUP(T21,漢字読み!$A$2:$O$502,7,0)))","v":"け"},null,null,"和歌山県教育委員会"]
[{"$f":"INDIRECT(\"'関数（書き）'!C\" & COLUMN(B$1)+SUM($AD$2:$AD27))","v":86},{"$f":"INDIRECT(\"'関数（書き）'!C\" & COLUMN(C$1)+SUM($AD$2:$AD27))","v":228},{"$f":"INDIRECT(\"'関数（書き）'!C\" & COLUMN(D$1)+SUM($AD$2:$AD27))","v":95},{"$f":"INDIRECT(\"'関数（書き）'!C\" & COLUMN(E$1)+SUM($AD$2:$AD27))","v":224},{"$f":"INDIRECT(\"'関数（書き）'!C\" & COLUMN(F$1)+SUM($AD$2:$AD27))","v":156},{"$f":"INDIRECT(\"'関数（書き）'!C\" & COLUMN(G$1)+SUM($AD$2:$AD27))","v":179},{"$f":"INDIRECT(\"'関数（書き）'!C\" & COLUMN(H$1)+SUM($AD$2:$AD27))","v":123},{"$f":"INDIRECT(\"'関数（書き）'!C\" & COLUMN(I$1)+SUM($AD$2:$AD27))","v":216},{"$f":"INDIRECT(\"'関数（書き）'!C\" & COLUMN(J$1)+SUM($AD$2:$AD27))","v":190},{"$f":"INDIRECT(\"'関数（書き）'!C\" & COLUMN(K$1)+SUM($AD$2:$AD27))","v":101},{"$f":"INDIRECT(\"'関数（読み）'!C\" & COLUMN(B$1)+SUM($AD$2:$AD27))","v":108},{"$f":"INDIRECT(\"'関数（読み）'!C\" & COLUMN(C$1)+SUM($AD$2:$AD27))","v":225},{"$f":"INDIRECT(\"'関数（読み）'!C\" & COLUMN(D$1)+SUM($AD$2:$AD27))","v":222},{"$f":"INDIRECT(\"'関数（読み）'!C\" & COLUMN(E$1)+SUM($AD$2:$AD27))","v":163},{"$f":"INDIRECT(\"'関数（読み）'!C\" & COLUMN(F$1)+SUM($AD$2:$AD27))","v":28},{"$f":"INDIRECT(\"'関数（読み）'!C\" & COLUMN(G$1)+SUM($AD$2:$AD27))","v":25},{"$f":"INDIRECT(\"'関数（読み）'!C\" & COLUMN(H$1)+SUM($AD$2:$AD27))","v":31},{"$f":"INDIRECT(\"'関数（読み）'!C\" & COLUMN(I$1)+SUM($AD$2:$AD27))","v":114},{"$f":"INDIRECT(\"'関数（読み）'!C\" & COLUMN(J$1)+SUM($AD$2:$AD27))","v":243},{"$f":"INDIRECT(\"'関数（読み）'!C\" & COLUMN(K$1)+SUM($AD$2:$AD27))","v":197}]
["⑳","⑲","⑱","⑰","⑯","⑮","⑭","⑬","⑫","⑪","⑩","⑨","⑧","⑦","⑥","⑤","④","③","②","①","次の［　　　　］の部分の漢字には読みがなをひらがなで書き、カタカナは漢字に直しなさい。",12,"「漢字の博士検定試験」練習問題　",null,null,null,null,null,"←",10,"問",{"$f":"AH22+1","v":31},"～",{"$f":"SUM($AD$2:$AD27)+10","v":40},"問まで",{"$f":"COUNTIF($A$1:$T$200,T28)","v":2}]
[{"$f":"IF(A26=\"\",\"\",VLOOKUP(A26,漢字書き!$A$2:$N$506,6,0))","v":"［オモ］な仕事"},{"$f":"IF(B26=\"\",\"\",VLOOKUP(B26,漢字書き!$A$2:$N$506,6,0))","v":"［トカイ］ではくらせない"},{"$f":"IF(C26=\"\",\"\",VLOOKUP(C26,漢字書き!$A$2:$N$506,6,0))","v":"［サカヤ］に買いに行く"},{"$f":"IF(D26=\"\",\"\",VLOOKUP(D26,漢字書き!$A$2:$N$506,6,0))","v":"［テツ］ぼうがとく意"},{"$f":"IF(E26=\"\",\"\",VLOOKUP(E26,漢字書き!$A$2:$N$506,6,0))","v":"［セカイ］いさん"},{"$f":"IF(F26=\"\",\"\",VLOOKUP(F26,漢字書き!$A$2:$N$506,6,0))","v":"［ホカ］の考えを聞く"},{"$f":"IF(G26=\"\",\"\",VLOOKUP(G26,漢字書き!$A$2:$N$506,6,0))","v":"［アツ］い日がつづく"},{"$f":"IF(H26=\"\",\"\",VLOOKUP(H26,漢字書き!$A$2:$N$506,6,0))","v":"魚を［オ］う"},{"$f":"IF(I26=\"\",\"\",VLOOKUP(I26,漢字書き!$A$2:$N$506,6,0))","v":"作文の［ダイメイ］"},{"$f":"IF(J26=\"\",\"\",VLOOKUP(J26,漢字書き!$A$2:$N$506,6,0))","v":"ごみを［ヒロ］う"},{"$f":"IF(K26=\"\",\"\",VLOOKUP(K26,漢字読み!$A$2:$O$506,6,0))","v":"文学[全集]を買う"},{"$f":"IF(L26=\"\",\"\",VLOOKUP(L26,漢字読み!$A$2:$O$506,6,0))","v":"たて［笛］をふく"},{"$f":"IF(M26=\"\",\"\",VLOOKUP(M26,漢字読み!$A$2:$O$506,6,0))","v":"［中庭］に集まる"},{"$f":"IF(N26=\"\",\"\",VLOOKUP(N26,漢字読み!$A$2:$O$506,6,0))","v":"プレゼントを［送］る"},{"$f":"IF(O26=\"\",\"\",VLOOKUP(O26,漢字読み!$A$2:$O$506,6,0))","v":"［車庫］に入れる"},{"$f":"IF(P26=\"\",\"\",VLOOKUP(P26,漢字読み!$A$2:$O$506,6,0))","v":"[研]しゅうを受ける"},{"$f":"IF(Q26=\"\",\"\",VLOOKUP(Q26,漢字読み!$A$2:$O$506,6,0))","v":"大きな［湖］"},{"$f":"IF(R26=\"\",\"\",VLOOKUP(R26,漢字読み!$A$2:$O$506,6,0))","v":"［宿］にとまる"},{"$f":"IF(S26=\"\",\"\",VLOOKUP(S26,漢字読み!$A$2:$O$506,6,0))","v":"日本は［島国］だ"},{"$f":"IF(T26=\"\",\"\",VLOOKUP(T26,漢字読み!$A$2:$O$506,6,0))","v":"上手に［着地］する"},null,"級"]
[null,null,null,null,null,null,null,null,null,null,null,null,null,null,null,null,null,null,null,null,null,"名前"]
[{"$f":"IF(A26=\"\",\"\",IF(VLOOKUP(A26,漢字書き!$A$2:$N$502,7,0)=0,\"\",VLOOKUP(A26,漢字書き!$A$2:$N$502,7,0)))","v":"な"},{"$f":"IF(B26=\"\",\"\",IF(VLOOKUP(B26,漢字書き!$A$2:$N$502,7,0)=0,\"\",VLOOKUP(B26,漢字書き!$A$2:$N$502,7,0)))","v":""},{"$f":"IF(C26=\"\",\"\",IF(VLOOKUP(C26,漢字書き!$A$2:$N$502,7,0)=0,\"\",VLOOKUP(C26,漢字書き!$A$2:$N$502,7,0)))","v":""},{"$f":"IF(D26=\"\",\"\",IF(VLOOKUP(D26,漢字書き!$A$2:$N$502,7,0)=0,\"\",VLOOKUP(D26,漢字書き!$A$2:$N$502,7,0)))","v":"ぼう"},{"$f":"IF(E26=\"\",\"\",IF(VLOOKUP(E26,漢字書き!$A$2:$N$502,7,0)=0,\"\",VLOOKUP(E26,漢字書き!$A$2:$N$502,7,0)))","v":""},{"$f":"IF(F26=\"\",\"\",IF(VLOOKUP(F26,漢字書き!$A$2:$N$502,7,0)=0,\"\",VLOOKUP(F26,漢字書き!$A$2:$N$502,7,0)))","v":""},{"$f":"IF(G26=\"\",\"\",IF(VLOOKUP(G26,漢字書き!$A$2:$N$502,7,0)=0,\"\",VLOOKUP(G26,漢字書き!$A$2:$N$502,7,0)))","v":"い"},{"$f":"IF(H26=\"\",\"\",IF(VLOOKUP(H26,漢字書き!$A$2:$N$502,7,0)=0,\"\",VLOOKUP(H26,漢字書き!$A$2:$N$502,7,0)))","v":"う"},{"$f":"IF(I26=\"\",\"\",IF(VLOOKUP(I26,漢字書き!$A$2:$N$502,7,0)=0,\"\",VLOOKUP(I26,漢字書き!$A$2:$N$502,7,0)))","v":""},{"$f":"IF(J26=\"\",\"\",IF(VLOOKUP(J26,漢字書き!$A$2:$N$502,7,0)=0,\"\",VLOOKUP(J26,漢字書き!$A$2:$N$502,7,0)))","v":"う"},{"$f":"IF(K26=\"\",\"\",IF(VLOOKUP(K26,漢字読み!$A$2:$O$502,7,0)=0,\"\",VLOOKUP(K26,漢字読み!$A$2:$O$502,7,0)))","v":""},{"$f":"IF(L26=\"\",\"\",IF(VLOOKUP(L26,漢字読み!$A$2:$O$502,7,0)=0,\"\",VLOOKUP(L26,漢字読み!$A$2:$O$502,7,0)))","v":""},{"$f":"IF(M26=\"\",\"\",IF(VLOOKUP(M26,漢字読み!$A$2:$O$502,7,0)=0,\"\",VLOOKUP(M26,漢字読み!$A$2:$O$502,7,0)))","v":""},{"$f":"IF(N26=\"\",\"\",IF(VLOOKUP(N26,漢字読み!$A$2:$O$502,7,0)=0,\"\",VLOOKUP(N26,漢字読み!$A$2:$O$502,7,0)))","v":"る"},{"$f":"IF(O26=\"\",\"\",IF(VLOOKUP(O26,漢字読み!$A$2:$O$502,7,0)=0,\"\",VLOOKUP(O26,漢字読み!$A$2:$O$502,7,0)))","v":""},{"$f":"IF(P26=\"\",\"\",IF(VLOOKUP(P26,漢字読み!$A$2:$O$502,7,0)=0,\"\",VLOOKUP(P26,漢字読み!$A$2:$O$502,7,0)))","v":"しゅう"},{"$f":"IF(Q26=\"\",\"\",IF(VLOOKUP(Q26,漢字読み!$A$2:$O$502,7,0)=0,\"\",VLOOKUP(Q26,漢字読み!$A$2:$O$502,7,0)))","v":""},{"$f":"IF(R26=\"\",\"\",IF(VLOOKUP(R26,漢字読み!$A$2:$O$502,7,0)=0,\"\",VLOOKUP(R26,漢字読み!$A$2:$O$502,7,0)))","v":""},{"$f":"IF(S26=\"\",\"\",IF(VLOOKUP(S26,漢字読み!$A$2:$O$502,7,0)=0,\"\",VLOOKUP(S26,漢字読み!$A$2:$O$502,7,0)))","v":""},{"$f":"IF(T26=\"\",\"\",IF(VLOOKUP(T26,漢字読み!$A$2:$O$502,7,0)=0,\"\",VLOOKUP(T26,漢字読み!$A$2:$O$502,7,0)))","v":"する"},null,null,"和歌山県教育委員会"]
[{"$f":"A21","v":207},138,66,141,100,118,211,96,168,189,66,236,208,172,18,152,33,97,213,121]
["⑳","⑲","⑱","⑰","⑯","⑮","⑭","⑬","⑫","⑪","⑩","⑨","⑧","⑦","⑥","⑤","④","③","②","①","次の［　　　　］の部分の漢字には読みがなをひらがなで書き、カタカナは漢字に直しなさい。",12,"「漢字の博士検定試験」練習問題　"]
[{"$f":"IF(A31=\"\",\"\",VLOOKUP(A31,漢字書き!$A$2:$N$506,6,0))","v":"太い［ハシラ］"},{"$f":"IF(B31=\"\",\"\",VLOOKUP(B31,漢字書き!$A$2:$N$506,6,0))","v":"［ショクブツ］が育つ"},{"$f":"IF(C31=\"\",\"\",VLOOKUP(C31,漢字書き!$A$2:$N$506,6,0))","v":"［シ］を書く"},{"$f":"IF(D31=\"\",\"\",VLOOKUP(D31,漢字書き!$A$2:$N$506,6,0))","v":"［シンチョウ］がのびる"},{"$f":"IF(E31=\"\",\"\",VLOOKUP(E31,漢字書き!$A$2:$N$506,6,0))","v":"[ホンシュウ]にわたる"},{"$f":"IF(F31=\"\",\"\",VLOOKUP(F31,漢字書き!$A$2:$N$506,6,0))","v":"［ヤド］で一休みする"},{"$f":"IF(G31=\"\",\"\",VLOOKUP(G31,漢字書き!$A$2:$N$506,6,0))","v":"［タイチョウ］が悪い"},{"$f":"IF(H31=\"\",\"\",VLOOKUP(H31,漢字書き!$A$2:$N$506,6,0))","v":"書るいを［ジュリ］する"},{"$f":"IF(I31=\"\",\"\",VLOOKUP(I31,漢字書き!$A$2:$N$506,6,0))","v":"駅まで［オク］る"},{"$f":"IF(J31=\"\",\"\",VLOOKUP(J31,漢字書き!$A$2:$N$506,6,0))","v":"［ダイ］一回の大会"},{"$f":"IF(K31=\"\",\"\",VLOOKUP(K31,漢字読み!$A$2:$O$506,6,0))","v":"［歯医者］に行く"},{"$f":"IF(L31=\"\",\"\",VLOOKUP(L31,漢字読み!$A$2:$O$506,6,0))","v":"［度］をこえた出来事"},{"$f":"IF(M31=\"\",\"\",VLOOKUP(M31,漢字読み!$A$2:$O$506,6,0))","v":"三［丁目］にいる"},{"$f":"IF(N31=\"\",\"\",VLOOKUP(N31,漢字読み!$A$2:$O$506,6,0))","v":"その［他］の意見"},{"$f":"IF(O31=\"\",\"\",VLOOKUP(O31,漢字読み!$A$2:$O$506,6,0))","v":"［軽］いかばん"},{"$f":"IF(P31=\"\",\"\",VLOOKUP(P31,漢字読み!$A$2:$O$506,6,0))","v":"本を［整］える"},{"$f":"IF(Q31=\"\",\"\",VLOOKUP(Q31,漢字読み!$A$2:$O$506,6,0))","v":"意よくの［向上］"},{"$f":"IF(R31=\"\",\"\",VLOOKUP(R31,漢字読み!$A$2:$O$506,6,0))","v":"［九州］のいとこ"},{"$f":"IF(S31=\"\",\"\",VLOOKUP(S31,漢字読み!$A$2:$O$506,6,0))","v":"真実を［追究］する"},{"$f":"IF(T31=\"\",\"\",VLOOKUP(T31,漢字読み!$A$2:$O$506,6,0))","v":"［助］けをもとめる"},null,"級"]
[{"$f":"IF(A$11=\"\",\"\",VLOOKUP(A31,漢字書き!$A$2:$O$506,8,0))","v":"柱"},{"$f":"IF(B$11=\"\",\"\",VLOOKUP(B31,漢字書き!$A$2:$O$506,8,0))","v":"植物"},{"$f":"IF(C$11=\"\",\"\",VLOOKUP(C31,漢字書き!$A$2:$O$506,8,0))","v":"詩"},{"$f":"IF(D$11=\"\",\"\",VLOOKUP(D31,漢字書き!$A$2:$O$506,8,0))","v":"身長"},{"$f":"IF(E$11=\"\",\"\",VLOOKUP(E31,漢字書き!$A$2:$O$506,8,0))","v":"本州"},{"$f":"IF(F$11=\"\",\"\",VLOOKUP(F31,漢字書き!$A$2:$O$506,8,0))","v":"宿"},{"$f":"IF(G$11=\"\",\"\",VLOOKUP(G31,漢字書き!$A$2:$O$506,8,0))","v":"体調"},{"$f":"IF(H$11=\"\",\"\",VLOOKUP(H31,漢字書き!$A$2:$O$506,8,0))","v":"受理"},{"$f":"IF(I$11=\"\",\"\",VLOOKUP(I31,漢字書き!$A$2:$O$506,8,0))","v":"送"},{"$f":"IF(J$11=\"\",\"\",VLOOKUP(J31,漢字書き!$A$2:$O$506,8,0))","v":"第"},{"$f":"IF(K$11=\"\",\"\",VLOOKUP(K31,漢字読み!$A$2:$O$506,8,0))","v":"はいしゃ"},{"$f":"IF(L$11=\"\",\"\",VLOOKUP(L31,漢字読み!$A$2:$O$506,8,0))","v":"ど"},{"$f":"IF(M$11=\"\",\"\",VLOOKUP(M31,漢字読み!$A$2:$O$506,8,0))","v":"ちょうめ"},{"$f":"IF(N$11=\"\",\"\",VLOOKUP(N31,漢字読み!$A$2:$O$506,8,0))","v":"た"},{"$f":"IF(O$11=\"\",\"\",VLOOKUP(O31,漢字読み!$A$2:$O$506,8,0))","v":"かる"},{"$f":"IF(P$11=\"\",\"\",VLOOKUP(P31,漢字読み!$A$2:$O$506,8,0))","v":"ととの"},{"$f":"IF(Q$11=\"\",\"\",VLOOKUP(Q31,漢字読み!$A$2:$O$506,8,0))","v":"こうじょう"},{"$f":"IF(R$11=\"\",\"\",VLOOKUP(R31,漢字読み!$A$2:$O$506,8,0))","v":"きゅうしゅう"},{"$f":"IF(S$11=\"\",\"\",VLOOKUP(S31,漢字読み!$A$2:$O$506,8,0))","v":"ついきゅう"},{"$f":"IF(T$11=\"\",\"\",VLOOKUP(T31,漢字読み!$A$2:$O$506,8,0))","v":"たす"},null,"名前"]
[{"$f":"IF(A31=\"\",\"\",IF(VLOOKUP(A31,漢字書き!$A$2:$N$502,7,0)=0,\"\",VLOOKUP(A31,漢字書き!$A$2:$N$502,7,0)))","v":""},{"$f":"IF(B31=\"\",\"\",IF(VLOOKUP(B31,漢字書き!$A$2:$N$502,7,0)=0,\"\",VLOOKUP(B31,漢字書き!$A$2:$N$502,7,0)))","v":""},{"$f":"IF(C31=\"\",\"\",IF(VLOOKUP(C31,漢字書き!$A$2:$N$502,7,0)=0,\"\",VLOOKUP(C31,漢字書き!$A$2:$N$502,7,0)))","v":""},{"$f":"IF(D31=\"\",\"\",IF(VLOOKUP(D31,漢字書き!$A$2:$N$502,7,0)=0,\"\",VLOOKUP(D31,漢字書き!$A$2:$N$502,7,0)))","v":""},{"$f":"IF(E31=\"\",\"\",IF(VLOOKUP(E31,漢字書き!$A$2:$N$502,7,0)=0,\"\",VLOOKUP(E31,漢字書き!$A$2:$N$502,7,0)))","v":""},{"$f":"IF(F31=\"\",\"\",IF(VLOOKUP(F31,漢字書き!$A$2:$N$502,7,0)=0,\"\",VLOOKUP(F31,漢字書き!$A$2:$N$502,7,0)))","v":""},{"$f":"IF(G31=\"\",\"\",IF(VLOOKUP(G31,漢字書き!$A$2:$N$502,7,0)=0,\"\",VLOOKUP(G31,漢字書き!$A$2:$N$502,7,0)))","v":""},{"$f":"IF(H31=\"\",\"\",IF(VLOOKUP(H31,漢字書き!$A$2:$N$502,7,0)=0,\"\",VLOOKUP(H31,漢字書き!$A$2:$N$502,7,0)))","v":"する"},{"$f":"IF(I31=\"\",\"\",IF(VLOOKUP(I31,漢字書き!$A$2:$N$502,7,0)=0,\"\",VLOOKUP(I31,漢字書き!$A$2:$N$502,7,0)))","v":"る"},{"$f":"IF(J31=\"\",\"\",IF(VLOOKUP(J31,漢字書き!$A$2:$N$502,7,0)=0,\"\",VLOOKUP(J31,漢字書き!$A$2:$N$502,7,0)))","v":"一回"},{"$f":"IF(K31=\"\",\"\",IF(VLOOKUP(K31,漢字読み!$A$2:$O$502,7,0)=0,\"\",VLOOKUP(K31,漢字読み!$A$2:$O$502,7,0)))","v":""},{"$f":"IF(L31=\"\",\"\",IF(VLOOKUP(L31,漢字読み!$A$2:$O$502,7,0)=0,\"\",VLOOKUP(L31,漢字読み!$A$2:$O$502,7,0)))","v":""},{"$f":"IF(M31=\"\",\"\",IF(VLOOKUP(M31,漢字読み!$A$2:$O$502,7,0)=0,\"\",VLOOKUP(M31,漢字読み!$A$2:$O$502,7,0)))","v":""},{"$f":"IF(N31=\"\",\"\",IF(VLOOKUP(N31,漢字読み!$A$2:$O$502,7,0)=0,\"\",VLOOKUP(N31,漢字読み!$A$2:$O$502,7,0)))","v":""},{"$f":"IF(O31=\"\",\"\",IF(VLOOKUP(O31,漢字読み!$A$2:$O$502,7,0)=0,\"\",VLOOKUP(O31,漢字読み!$A$2:$O$502,7,0)))","v":"い"},{"$f":"IF(P31=\"\",\"\",IF(VLOOKUP(P31,漢字読み!$A$2:$O$502,7,0)=0,\"\",VLOOKUP(P31,漢字読み!$A$2:$O$502,7,0)))","v":"える"},{"$f":"IF(Q31=\"\",\"\",IF(VLOOKUP(Q31,漢字読み!$A$2:$O$502,7,0)=0,\"\",VLOOKUP(Q31,漢字読み!$A$2:$O$502,7,0)))","v":""},{"$f":"IF(R31=\"\",\"\",IF(VLOOKUP(R31,漢字読み!$A$2:$O$502,7,0)=0,\"\",VLOOKUP(R31,漢字読み!$A$2:$O$502,7,0)))","v":""},{"$f":"IF(S31=\"\",\"\",IF(VLOOKUP(S31,漢字読み!$A$2:$O$502,7,0)=0,\"\",VLOOKUP(S31,漢字読み!$A$2:$O$502,7,0)))","v":"する"},{"$f":"IF(T31=\"\",\"\",IF(VLOOKUP(T31,漢字読み!$A$2:$O$502,7,0)=0,\"\",VLOOKUP(T31,漢字読み!$A$2:$O$502,7,0)))","v":"け"},null,null,"和歌山県教育委員会"]
[{"$f":"A26","v":86},228,95,224,156,179,123,216,190,101,108,225,222,163,28,25,31,114,243,197]
["⑳","⑲","⑱","⑰","⑯","⑮","⑭","⑬","⑫","⑪","⑩","⑨","⑧","⑦","⑥","⑤","④","③","②","①","次の［　　　　］の部分の漢字には読みがなをひらがなで書き、カタカナは漢字に直しなさい。",12,"「漢字の博士検定試験」練習問題　"]
[{"$f":"IF(A36=\"\",\"\",VLOOKUP(A36,漢字書き!$A$2:$N$506,6,0))","v":"［オモ］な仕事"},{"$f":"IF(B36=\"\",\"\",VLOOKUP(B36,漢字書き!$A$2:$N$506,6,0))","v":"［トカイ］ではくらせない"},{"$f":"IF(C36=\"\",\"\",VLOOKUP(C36,漢字書き!$A$2:$N$506,6,0))","v":"［サカヤ］に買いに行く"},{"$f":"IF(D36=\"\",\"\",VLOOKUP(D36,漢字書き!$A$2:$N$506,6,0))","v":"［テツ］ぼうがとく意"},{"$f":"IF(E36=\"\",\"\",VLOOKUP(E36,漢字書き!$A$2:$N$506,6,0))","v":"［セカイ］いさん"},{"$f":"IF(F36=\"\",\"\",VLOOKUP(F36,漢字書き!$A$2:$N$506,6,0))","v":"［ホカ］の考えを聞く"},{"$f":"IF(G36=\"\",\"\",VLOOKUP(G36,漢字書き!$A$2:$N$506,6,0))","v":"［アツ］い日がつづく"},{"$f":"IF(H36=\"\",\"\",VLOOKUP(H36,漢字書き!$A$2:$N$506,6,0))","v":"魚を［オ］う"},{"$f":"IF(I36=\"\",\"\",VLOOKUP(I36,漢字書き!$A$2:$N$506,6,0))","v":"作文の［ダイメイ］"},{"$f":"IF(J36=\"\",\"\",VLOOKUP(J36,漢字書き!$A$2:$N$506,6,0))","v":"ごみを［ヒロ］う"},{"$f":"IF(K36=\"\",\"\",VLOOKUP(K36,漢字読み!$A$2:$O$506,6,0))","v":"文学[全集]を買う"},{"$f":"IF(L36=\"\",\"\",VLOOKUP(L36,漢字読み!$A$2:$O$506,6,0))","v":"たて［笛］をふく"},{"$f":"IF(M36=\"\",\"\",VLOOKUP(M36,漢字読み!$A$2:$O$506,6,0))","v":"［中庭］に集まる"},{"$f":"IF(N36=\"\",\"\",VLOOKUP(N36,漢字読み!$A$2:$O$506,6,0))","v":"プレゼントを［送］る"},{"$f":"IF(O36=\"\",\"\",VLOOKUP(O36,漢字読み!$A$2:$O$506,6,0))","v":"［車庫］に入れる"},{"$f":"IF(P36=\"\",\"\",VLOOKUP(P36,漢字読み!$A$2:$O$506,6,0))","v":"[研]しゅうを受ける"},{"$f":"IF(Q36=\"\",\"\",VLOOKUP(Q36,漢字読み!$A$2:$O$506,6,0))","v":"大きな［湖］"},{"$f":"IF(R36=\"\",\"\",VLOOKUP(R36,漢字読み!$A$2:$O$506,6,0))","v":"［宿］にとまる"},{"$f":"IF(S36=\"\",\"\",VLOOKUP(S36,漢字読み!$A$2:$O$506,6,0))","v":"日本は［島国］だ"},{"$f":"IF(T36=\"\",\"\",VLOOKUP(T36,漢字読み!$A$2:$O$506,6,0))","v":"上手に［着地］する"},null,"級"]
[{"$f":"IF(A$16=\"\",\"\",VLOOKUP(A36,漢字書き!$A$2:$O$506,8,0))","v":"主"},{"$f":"IF(B$16=\"\",\"\",VLOOKUP(B36,漢字書き!$A$2:$O$506,8,0))","v":"都会"},{"$f":"IF(C$16=\"\",\"\",VLOOKUP(C36,漢字書き!$A$2:$O$506,8,0))","v":"酒屋"},{"$f":"IF(D$16=\"\",\"\",VLOOKUP(D36,漢字書き!$A$2:$O$506,8,0))","v":"鉄"},{"$f":"IF(E$16=\"\",\"\",VLOOKUP(E36,漢字書き!$A$2:$O$506,8,0))","v":"世界"},{"$f":"IF(F$16=\"\",\"\",VLOOKUP(F36,漢字書き!$A$2:$O$506,8,0))","v":"他"},{"$f":"IF(G$16=\"\",\"\",VLOOKUP(G36,漢字書き!$A$2:$O$506,8,0))","v":"暑"},{"$f":"IF(H$16=\"\",\"\",VLOOKUP(H36,漢字書き!$A$2:$O$506,8,0))","v":"追"},{"$f":"IF(I$16=\"\",\"\",VLOOKUP(I36,漢字書き!$A$2:$O$506,8,0))","v":"題名"},{"$f":"IF(J$16=\"\",\"\",VLOOKUP(J36,漢字書き!$A$2:$O$506,8,0))","v":"拾"},{"$f":"IF(K$16=\"\",\"\",VLOOKUP(K36,漢字読み!$A$2:$O$506,8,0))","v":"ぜんしゅう"},{"$f":"IF(L$16=\"\",\"\",VLOOKUP(L36,漢字読み!$A$2:$O$506,8,0))","v":"ぶえ"},{"$f":"IF(M$16=\"\",\"\",VLOOKUP(M36,漢字読み!$A$2:$O$506,8,0))","v":"なかにわ"},{"$f":"IF(N$16=\"\",\"\",VLOOKUP(N36,漢字読み!$A$2:$O$506,8,0))","v":"おく"},{"$f":"IF(O$16=\"\",\"\",VLOOKUP(O36,漢字読み!$A$2:$O$506,8,0))","v":"しゃこ"},{"$f":"IF(P$16=\"\",\"\",VLOOKUP(P36,漢字読み!$A$2:$O$506,8,0))","v":"けん"},{"$f":"IF(Q$16=\"\",\"\",VLOOKUP(Q36,漢字読み!$A$2:$O$506,8,0))","v":"みずうみ"},{"$f":"IF(R$16=\"\",\"\",VLOOKUP(R36,漢字読み!$A$2:$O$506,8,0))","v":"やど"},{"$f":"IF(S$16=\"\",\"\",VLOOKUP(S36,漢字読み!$A$2:$O$506,8,0))","v":"しまぐに"},{"$f":"IF(T$16=\"\",\"\",VLOOKUP(T36,漢字読み!$A$2:$O$506,8,0))","v":"ちゃくち"},null,"名前"]
[{"$f":"IF(A36=\"\",\"\",IF(VLOOKUP(A36,漢字書き!$A$2:$N$502,7,0)=0,\"\",VLOOKUP(A36,漢字書き!$A$2:$N$502,7,0)))","v":"な"},{"$f":"IF(B36=\"\",\"\",IF(VLOOKUP(B36,漢字書き!$A$2:$N$502,7,0)=0,\"\",VLOOKUP(B36,漢字書き!$A$2:$N$502,7,0)))","v":""},{"$f":"IF(C36=\"\",\"\",IF(VLOOKUP(C36,漢字書き!$A$2:$N$502,7,0)=0,\"\",VLOOKUP(C36,漢字書き!$A$2:$N$502,7,0)))","v":""},{"$f":"IF(D36=\"\",\"\",IF(VLOOKUP(D36,漢字書き!$A$2:$N$502,7,0)=0,\"\",VLOOKUP(D36,漢字書き!$A$2:$N$502,7,0)))","v":"ぼう"},{"$f":"IF(E36=\"\",\"\",IF(VLOOKUP(E36,漢字書き!$A$2:$N$502,7,0)=0,\"\",VLOOKUP(E36,漢字書き!$A$2:$N$502,7,0)))","v":""},{"$f":"IF(F36=\"\",\"\",IF(VLOOKUP(F36,漢字書き!$A$2:$N$502,7,0)=0,\"\",VLOOKUP(F36,漢字書き!$A$2:$N$502,7,0)))","v":""},{"$f":"IF(G36=\"\",\"\",IF(VLOOKUP(G36,漢字書き!$A$2:$N$502,7,0)=0,\"\",VLOOKUP(G36,漢字書き!$A$2:$N$502,7,0)))","v":"い"},{"$f":"IF(H36=\"\",\"\",IF(VLOOKUP(H36,漢字書き!$A$2:$N$502,7,0)=0,\"\",VLOOKUP(H36,漢字書き!$A$2:$N$502,7,0)))","v":"う"},{"$f":"IF(I36=\"\",\"\",IF(VLOOKUP(I36,漢字書き!$A$2:$N$502,7,0)=0,\"\",VLOOKUP(I36,漢字書き!$A$2:$N$502,7,0)))","v":""},{"$f":"IF(J36=\"\",\"\",IF(VLOOKUP(J36,漢字書き!$A$2:$N$502,7,0)=0,\"\",VLOOKUP(J36,漢字書き!$A$2:$N$502,7,0)))","v":"う"},{"$f":"IF(K36=\"\",\"\",IF(VLOOKUP(K36,漢字読み!$A$2:$O$502,7,0)=0,\"\",VLOOKUP(K36,漢字読み!$A$2:$O$502,7,0)))","v":""},{"$f":"IF(L36=\"\",\"\",IF(VLOOKUP(L36,漢字読み!$A$2:$O$502,7,0)=0,\"\",VLOOKUP(L36,漢字読み!$A$2:$O$502,7,0)))","v":""},{"$f":"IF(M36=\"\",\"\",IF(VLOOKUP(M36,漢字読み!$A$2:$O$502,7,0)=0,\"\",VLOOKUP(M36,漢字読み!$A$2:$O$502,7,0)))","v":""},{"$f":"IF(N36=\"\",\"\",IF(VLOOKUP(N36,漢字読み!$A$2:$O$502,7,0)=0,\"\",VLOOKUP(N36,漢字読み!$A$2:$O$502,7,0)))","v":"る"},{"$f":"IF(O36=\"\",\"\",IF(VLOOKUP(O36,漢字読み!$A$2:$O$502,7,0)=0,\"\",VLOOKUP(O36,漢字読み!$A$2:$O$502,7,0)))","v":""},{"$f":"IF(P36=\"\",\"\",IF(VLOOKUP(P36,漢字読み!$A$2:$O$502,7,0)=0,\"\",VLOOKUP(P36,漢字読み!$A$2:$O$502,7,0)))","v":"しゅう"},{"$f":"IF(Q36=\"\",\"\",IF(VLOOKUP(Q36,漢字読み!$A$2:$O$502,7,0)=0,\"\",VLOOKUP(Q36,漢字読み!$A$2:$O$502,7,0)))","v":""},{"$f":"IF(R36=\"\",\"\",IF(VLOOKUP(R36,漢字読み!$A$2:$O$502,7,0)=0,\"\",VLOOKUP(R36,漢字読み!$A$2:$O$502,7,0)))","v":""},{"$f":"IF(S36=\"\",\"\",IF(VLOOKUP(S36,漢字読み!$A$2:$O$502,7,0)=0,\"\",VLOOKUP(S36,漢字読み!$A$2:$O$502,7,0)))","v":""},{"$f":"IF(T36=\"\",\"\",IF(VLOOKUP(T36,漢字読み!$A$2:$O$502,7,0)=0,\"\",VLOOKUP(T36,漢字読み!$A$2:$O$502,7,0)))","v":"する"},null,null,"和歌山県教育委員会"]
[{"$f":"INDIRECT(\"'関数（書き）'!C\" & COLUMN(B$1)+SUM($AD$2:$AD42))","v":201},{"$f":"INDIRECT(\"'関数（書き）'!C\" & COLUMN(C$1)+SUM($AD$2:$AD42))","v":39},{"$f":"INDIRECT(\"'関数（書き）'!C\" & COLUMN(D$1)+SUM($AD$2:$AD42))","v":70},{"$f":"INDIRECT(\"'関数（書き）'!C\" & COLUMN(E$1)+SUM($AD$2:$AD42))","v":5},{"$f":"INDIRECT(\"'関数（書き）'!C\" & COLUMN(F$1)+SUM($AD$2:$AD42))","v":214},{"$f":"INDIRECT(\"'関数（書き）'!C\" & COLUMN(G$1)+SUM($AD$2:$AD42))","v":14},{"$f":"INDIRECT(\"'関数（書き）'!C\" & COLUMN(H$1)+SUM($AD$2:$AD42))","v":52},{"$f":"INDIRECT(\"'関数（書き）'!C\" & COLUMN(I$1)+SUM($AD$2:$AD42))","v":68},{"$f":"INDIRECT(\"'関数（書き）'!C\" & COLUMN(J$1)+SUM($AD$2:$AD42))","v":75},{"$f":"INDIRECT(\"'関数（書き）'!C\" & COLUMN(K$1)+SUM($AD$2:$AD42))","v":202},{"$f":"INDIRECT(\"'関数（読み）'!C\" & COLUMN(B$1)+SUM($AD$2:$AD42))","v":195},{"$f":"INDIRECT(\"'関数（読み）'!C\" & COLUMN(C$1)+SUM($AD$2:$AD42))","v":200},{"$f":"INDIRECT(\"'関数（読み）'!C\" & COLUMN(D$1)+SUM($AD$2:$AD42))","v":136},{"$f":"INDIRECT(\"'関数（読み）'!C\" & COLUMN(E$1)+SUM($AD$2:$AD42))","v":126},{"$f":"INDIRECT(\"'関数（読み）'!C\" & COLUMN(F$1)+SUM($AD$2:$AD42))","v":124},{"$f":"INDIRECT(\"'関数（読み）'!C\" & COLUMN(G$1)+SUM($AD$2:$AD42))","v":201},{"$f":"INDIRECT(\"'関数（読み）'!C\" & COLUMN(H$1)+SUM($AD$2:$AD42))","v":233},{"$f":"INDIRECT(\"'関数（読み）'!C\" & COLUMN(I$1)+SUM($AD$2:$AD42))","v":144},{"$f":"INDIRECT(\"'関数（読み）'!C\" & COLUMN(J$1)+SUM($AD$2:$AD42))","v":40},{"$f":"INDIRECT(\"'関数（読み）'!C\" & COLUMN(K$1)+SUM($AD$2:$AD42))","v":157}]
["⑳","⑲","⑱","⑰","⑯","⑮","⑭","⑬","⑫","⑪","⑩","⑨","⑧","⑦","⑥","⑤","④","③","②","①","次の［　　　　］の部分の漢字には読みがなをひらがなで書き、カタカナは漢字に直しなさい。",12,"「漢字の博士検定試験」練習問題　",null,null,null,null,null,"←",10,"問",{"$f":"AH27+1","v":41},"～",{"$f":"SUM($AD$2:$AD42)+10","v":50},"問まで",{"$f":"COUNTIF($A$1:$T$200,T43)","v":2}]
[{"$f":"IF(A41=\"\",\"\",VLOOKUP(A41,漢字書き!$A$2:$N$506,6,0))","v":"駅に［ツ］く"},{"$f":"IF(B41=\"\",\"\",VLOOKUP(B41,漢字書き!$A$2:$N$506,6,0))","v":"船が［シュッコウ］する"},{"$f":"IF(C41=\"\",\"\",VLOOKUP(C41,漢字書き!$A$2:$N$506,6,0))","v":"県［チジ］をつとめる"},{"$f":"IF(D41=\"\",\"\",VLOOKUP(D41,漢字書き!$A$2:$N$506,6,0))","v":"［チク］の会合に出る"},{"$f":"IF(E41=\"\",\"\",VLOOKUP(E41,漢字書き!$A$2:$N$506,6,0))","v":"アンケート[チョウ]さ"},{"$f":"IF(F41=\"\",\"\",VLOOKUP(F41,漢字書き!$A$2:$N$506,6,0))","v":"教科の［カカリ］を決める"},{"$f":"IF(G41=\"\",\"\",VLOOKUP(G41,漢字書き!$A$2:$N$506,6,0))","v":"火事で［シシャ］が出る"},{"$f":"IF(H41=\"\",\"\",VLOOKUP(H41,漢字書き!$A$2:$N$506,6,0))","v":"［ツギ］の人をよぶ"},{"$f":"IF(I41=\"\",\"\",VLOOKUP(I41,漢字書き!$A$2:$N$506,6,0))","v":"わり算の［シキ］"},{"$f":"IF(J41=\"\",\"\",VLOOKUP(J41,漢字書き!$A$2:$N$506,6,0))","v":"［キ］せかえ人形"},{"$f":"IF(K41=\"\",\"\",VLOOKUP(K41,漢字読み!$A$2:$O$506,6,0))","v":"［短］いひも"},{"$f":"IF(L41=\"\",\"\",VLOOKUP(L41,漢字読み!$A$2:$O$506,6,0))","v":"［上着］をかける"},{"$f":"IF(M41=\"\",\"\",VLOOKUP(M41,漢字読み!$A$2:$O$506,6,0))","v":"入会を［申］しこむ"},{"$f":"IF(N41=\"\",\"\",VLOOKUP(N41,漢字読み!$A$2:$O$506,6,0))","v":"［商売］をする"},{"$f":"IF(O41=\"\",\"\",VLOOKUP(O41,漢字読み!$A$2:$O$506,6,0))","v":"火が［消］える"},{"$f":"IF(P41=\"\",\"\",VLOOKUP(P41,漢字読み!$A$2:$O$506,6,0))","v":"ジュースを［注文］する"},{"$f":"IF(Q41=\"\",\"\",VLOOKUP(Q41,漢字読み!$A$2:$O$506,6,0))","v":"［都合］が悪い"},{"$f":"IF(R41=\"\",\"\",VLOOKUP(R41,漢字読み!$A$2:$O$506,6,0))","v":"［真心］をこめる"},{"$f":"IF(S41=\"\",\"\",VLOOKUP(S41,漢字読み!$A$2:$O$506,6,0))","v":"［港町］の人々"},{"$f":"IF(T41=\"\",\"\",VLOOKUP(T41,漢字読み!$A$2:$O$506,6,0))","v":"クラス［全員］"},null,"級"]
[null,null,null,null,null,null,null,null,null,null,null,null,null,null,null,null,null,null,null,null,null,"名前"]
[{"$f":"IF(A41=\"\",\"\",IF(VLOOKUP(A41,漢字書き!$A$2:$N$502,7,0)=0,\"\",VLOOKUP(A41,漢字書き!$A$2:$N$502,7,0)))","v":"く"},{"$f":"IF(B41=\"\",\"\",IF(VLOOKUP(B41,漢字書き!$A$2:$N$502,7,0)=0,\"\",VLOOKUP(B41,漢字書き!$A$2:$N$502,7,0)))","v":"する"},{"$f":"IF(C41=\"\",\"\",IF(VLOOKUP(C41,漢字書き!$A$2:$N$502,7,0)=0,\"\",VLOOKUP(C41,漢字書き!$A$2:$N$502,7,0)))","v":""},{"$f":"IF(D41=\"\",\"\",IF(VLOOKUP(D41,漢字書き!$A$2:$N$502,7,0)=0,\"\",VLOOKUP(D41,漢字書き!$A$2:$N$502,7,0)))","v":""},{"$f":"IF(E41=\"\",\"\",IF(VLOOKUP(E41,漢字書き!$A$2:$N$502,7,0)=0,\"\",VLOOKUP(E41,漢字書き!$A$2:$N$502,7,0)))","v":"さ"},{"$f":"IF(F41=\"\",\"\",IF(VLOOKUP(F41,漢字書き!$A$2:$N$502,7,0)=0,\"\",VLOOKUP(F41,漢字書き!$A$2:$N$502,7,0)))","v":""},{"$f":"IF(G41=\"\",\"\",IF(VLOOKUP(G41,漢字書き!$A$2:$N$502,7,0)=0,\"\",VLOOKUP(G41,漢字書き!$A$2:$N$502,7,0)))","v":""},{"$f":"IF(H41=\"\",\"\",IF(VLOOKUP(H41,漢字書き!$A$2:$N$502,7,0)=0,\"\",VLOOKUP(H41,漢字書き!$A$2:$N$502,7,0)))","v":""},{"$f":"IF(I41=\"\",\"\",IF(VLOOKUP(I41,漢字書き!$A$2:$N$502,7,0)=0,\"\",VLOOKUP(I41,漢字書き!$A$2:$N$502,7,0)))","v":""},{"$f":"IF(J41=\"\",\"\",IF(VLOOKUP(J41,漢字書き!$A$2:$N$502,7,0)=0,\"\",VLOOKUP(J41,漢字書き!$A$2:$N$502,7,0)))","v":"せかえ"},{"$f":"IF(K41=\"\",\"\",IF(VLOOKUP(K41,漢字読み!$A$2:$O$502,7,0)=0,\"\",VLOOKUP(K41,漢字読み!$A$2:$O$502,7,0)))","v":"い"},{"$f":"IF(L41=\"\",\"\",IF(VLOOKUP(L41,漢字読み!$A$2:$O$502,7,0)=0,\"\",VLOOKUP(L41,漢字読み!$A$2:$O$502,7,0)))","v":""},{"$f":"IF(M41=\"\",\"\",IF(VLOOKUP(M41,漢字読み!$A$2:$O$502,7,0)=0,\"\",VLOOKUP(M41,漢字読み!$A$2:$O$502,7,0)))","v":"しこむ"},{"$f":"IF(N41=\"\",\"\",IF(VLOOKUP(N41,漢字読み!$A$2:$O$502,7,0)=0,\"\",VLOOKUP(N41,漢字読み!$A$2:$O$502,7,0)))","v":""},{"$f":"IF(O41=\"\",\"\",IF(VLOOKUP(O41,漢字読み!$A$2:$O$502,7,0)=0,\"\",VLOOKUP(O41,漢字読み!$A$2:$O$502,7,0)))","v":"える"},{"$f":"IF(P41=\"\",\"\",IF(VLOOKUP(P41,漢字読み!$A$2:$O$502,7,0)=0,\"\",VLOOKUP(P41,漢字読み!$A$2:$O$502,7,0)))","v":"する"},{"$f":"IF(Q41=\"\",\"\",IF(VLOOKUP(Q41,漢字読み!$A$2:$O$502,7,0)=0,\"\",VLOOKUP(Q41,漢字読み!$A$2:$O$502,7,0)))","v":""},{"$f":"IF(R41=\"\",\"\",IF(VLOOKUP(R41,漢字読み!$A$2:$O$502,7,0)=0,\"\",VLOOKUP(R41,漢字読み!$A$2:$O$502,7,0)))","v":""},{"$f":"IF(S41=\"\",\"\",IF(VLOOKUP(S41,漢字読み!$A$2:$O$502,7,0)=0,\"\",VLOOKUP(S41,漢字読み!$A$2:$O$502,7,0)))","v":""},{"$f":"IF(T41=\"\",\"\",IF(VLOOKUP(T41,漢字読み!$A$2:$O$502,7,0)=0,\"\",VLOOKUP(T41,漢字読み!$A$2:$O$502,7,0)))","v":""},null,null,"和歌山県教育委員会"]
[{"$f":"INDIRECT(\"'関数（書き）'!C\" & COLUMN(B$1)+SUM($AD$2:$AD47))","v":226},{"$f":"INDIRECT(\"'関数（書き）'!C\" & COLUMN(C$1)+SUM($AD$2:$AD47))","v":144},{"$f":"INDIRECT(\"'関数（書き）'!C\" & COLUMN(D$1)+SUM($AD$2:$AD47))","v":150},{"$f":"INDIRECT(\"'関数（書き）'!C\" & COLUMN(E$1)+SUM($AD$2:$AD47))","v":11},{"$f":"INDIRECT(\"'関数（書き）'!C\" & COLUMN(F$1)+SUM($AD$2:$AD47))","v":183},{"$f":"INDIRECT(\"'関数（書き）'!C\" & COLUMN(G$1)+SUM($AD$2:$AD47))","v":30},{"$f":"INDIRECT(\"'関数（書き）'!C\" & COLUMN(H$1)+SUM($AD$2:$AD47))","v":40},{"$f":"INDIRECT(\"'関数（書き）'!C\" & COLUMN(I$1)+SUM($AD$2:$AD47))","v":84},{"$f":"INDIRECT(\"'関数（書き）'!C\" & COLUMN(J$1)+SUM($AD$2:$AD47))","v":21},{"$f":"INDIRECT(\"'関数（書き）'!C\" & COLUMN(K$1)+SUM($AD$2:$AD47))","v":166},{"$f":"INDIRECT(\"'関数（読み）'!C\" & COLUMN(B$1)+SUM($AD$2:$AD47))","v":153},{"$f":"INDIRECT(\"'関数（読み）'!C\" & COLUMN(C$1)+SUM($AD$2:$AD47))","v":138},{"$f":"INDIRECT(\"'関数（読み）'!C\" & COLUMN(D$1)+SUM($AD$2:$AD47))","v":223},{"$f":"INDIRECT(\"'関数（読み）'!C\" & COLUMN(E$1)+SUM($AD$2:$AD47))","v":82},{"$f":"INDIRECT(\"'関数（読み）'!C\" & COLUMN(F$1)+SUM($AD$2:$AD47))","v":91},{"$f":"INDIRECT(\"'関数（読み）'!C\" & COLUMN(G$1)+SUM($AD$2:$AD47))","v":59},{"$f":"INDIRECT(\"'関数（読み）'!C\" & COLUMN(H$1)+SUM($AD$2:$AD47))","v":239},{"$f":"INDIRECT(\"'関数（読み）'!C\" & COLUMN(I$1)+SUM($AD$2:$AD47))","v":49},{"$f":"INDIRECT(\"'関数（読み）'!C\" & COLUMN(J$1)+SUM($AD$2:$AD47))","v":76},{"$f":"INDIRECT(\"'関数（読み）'!C\" & COLUMN(K$1)+SUM($AD$2:$AD47))","v":226}]
["⑳","⑲","⑱","⑰","⑯","⑮","⑭","⑬","⑫","⑪","⑩","⑨","⑧","⑦","⑥","⑤","④","③","②","①","次の［　　　　］の部分の漢字には読みがなをひらがなで書き、カタカナは漢字に直しなさい。",12,"「漢字の博士検定試験」練習問題　",null,null,null,null,null,"←",10,"問",{"$f":"AH42+1","v":51},"～",{"$f":"SUM($AD$2:$AD47)+10","v":60},"問まで",{"$f":"COUNTIF($A$1:$T$200,T48)","v":2}]
[{"$f":"IF(A46=\"\",\"\",VLOOKUP(A46,漢字書き!$A$2:$N$506,6,0))","v":"［ジテンシャ］に乗る"},{"$f":"IF(B46=\"\",\"\",VLOOKUP(B46,漢字書き!$A$2:$N$506,6,0))","v":"［ジンジャ］にまいる"},{"$f":"IF(C46=\"\",\"\",VLOOKUP(C46,漢字書き!$A$2:$N$506,6,0))","v":"友じょうを［フカ］める"},{"$f":"IF(D46=\"\",\"\",VLOOKUP(D46,漢字書き!$A$2:$N$506,6,0))","v":"［クンシュ］せいの国"},{"$f":"IF(E46=\"\",\"\",VLOOKUP(E46,漢字書き!$A$2:$N$506,6,0))","v":"親子の［タイワ］"},{"$f":"IF(F46=\"\",\"\",VLOOKUP(F46,漢字書き!$A$2:$N$506,6,0))","v":"日本さい大のびわ［コ］"},{"$f":"IF(G46=\"\",\"\",VLOOKUP(G46,漢字書き!$A$2:$N$506,6,0))","v":"［ミナト］めぐり"},{"$f":"IF(H46=\"\",\"\",VLOOKUP(H46,漢字書き!$A$2:$N$506,6,0))","v":"あわて［モノ］だ"},{"$f":"IF(I46=\"\",\"\",VLOOKUP(I46,漢字書き!$A$2:$N$506,6,0))","v":"けがで［シュッケツ］する"},{"$f":"IF(J46=\"\",\"\",VLOOKUP(J46,漢字書き!$A$2:$N$506,6,0))","v":"［アイテ］の名前"},{"$f":"IF(K46=\"\",\"\",VLOOKUP(K46,漢字読み!$A$2:$O$506,6,0))","v":"じゅんびが［整］う"},{"$f":"IF(L46=\"\",\"\",VLOOKUP(L46,漢字読み!$A$2:$O$506,6,0))","v":"［身］の上話"},{"$f":"IF(M46=\"\",\"\",VLOOKUP(M46,漢字読み!$A$2:$O$506,6,0))","v":"［汽笛］が鳴る"},{"$f":"IF(N46=\"\",\"\",VLOOKUP(N46,漢字読み!$A$2:$O$506,6,0))","v":"［実］がなる"},{"$f":"IF(O46=\"\",\"\",VLOOKUP(O46,漢字読み!$A$2:$O$506,6,0))","v":"決まりを［守］る"},{"$f":"IF(P46=\"\",\"\",VLOOKUP(P46,漢字読み!$A$2:$O$506,6,0))","v":"工場が［始動］する"},{"$f":"IF(Q46=\"\",\"\",VLOOKUP(Q46,漢字読み!$A$2:$O$506,6,0))","v":"ボールを［投］げる"},{"$f":"IF(R46=\"\",\"\",VLOOKUP(R46,漢字読み!$A$2:$O$506,6,0))","v":"スープ［皿］"},{"$f":"IF(S46=\"\",\"\",VLOOKUP(S46,漢字読み!$A$2:$O$506,6,0))","v":"入学［式］のあいさつ"},{"$f":"IF(T46=\"\",\"\",VLOOKUP(T46,漢字読み!$A$2:$O$506,6,0))","v":"［鉄］のとびら"},null,"級"]
[null,null,null,null,null,null,null,null,null,null,null,null,null,null,null,null,null,null,null,null,null,"名前"]
[{"$f":"IF(A46=\"\",\"\",IF(VLOOKUP(A46,漢字書き!$A$2:$N$502,7,0)=0,\"\",VLOOKUP(A46,漢字書き!$A$2:$N$502,7,0)))","v":""},{"$f":"IF(B46=\"\",\"\",IF(VLOOKUP(B46,漢字書き!$A$2:$N$502,7,0)=0,\"\",VLOOKUP(B46,漢字書き!$A$2:$N$502,7,0)))","v":""},{"$f":"IF(C46=\"\",\"\",IF(VLOOKUP(C46,漢字書き!$A$2:$N$502,7,0)=0,\"\",VLOOKUP(C46,漢字書き!$A$2:$N$502,7,0)))","v":"める"},{"$f":"IF(D46=\"\",\"\",IF(VLOOKUP(D46,漢字書き!$A$2:$N$502,7,0)=0,\"\",VLOOKUP(D46,漢字書き!$A$2:$N$502,7,0)))","v":"せい"},{"$f":"IF(E46=\"\",\"\",IF(VLOOKUP(E46,漢字書き!$A$2:$N$502,7,0)=0,\"\",VLOOKUP(E46,漢字書き!$A$2:$N$502,7,0)))","v":""},{"$f":"IF(F46=\"\",\"\",IF(VLOOKUP(F46,漢字書き!$A$2:$N$502,7,0)=0,\"\",VLOOKUP(F46,漢字書き!$A$2:$N$502,7,0)))","v":""},{"$f":"IF(G46=\"\",\"\",IF(VLOOKUP(G46,漢字書き!$A$2:$N$502,7,0)=0,\"\",VLOOKUP(G46,漢字書き!$A$2:$N$502,7,0)))","v":""},{"$f":"IF(H46=\"\",\"\",IF(VLOOKUP(H46,漢字書き!$A$2:$N$502,7,0)=0,\"\",VLOOKUP(H46,漢字書き!$A$2:$N$502,7,0)))","v":""},{"$f":"IF(I46=\"\",\"\",IF(VLOOKUP(I46,漢字書き!$A$2:$N$502,7,0)=0,\"\",VLOOKUP(I46,漢字書き!$A$2:$N$502,7,0)))","v":"する"},{"$f":"IF(J46=\"\",\"\",IF(VLOOKUP(J46,漢字書き!$A$2:$N$502,7,0)=0,\"\",VLOOKUP(J46,漢字書き!$A$2:$N$502,7,0)))","v":""},{"$f":"IF(K46=\"\",\"\",IF(VLOOKUP(K46,漢字読み!$A$2:$O$502,7,0)=0,\"\",VLOOKUP(K46,漢字読み!$A$2:$O$502,7,0)))","v":"う"},{"$f":"IF(L46=\"\",\"\",IF(VLOOKUP(L46,漢字読み!$A$2:$O$502,7,0)=0,\"\",VLOOKUP(L46,漢字読み!$A$2:$O$502,7,0)))","v":"の上"},{"$f":"IF(M46=\"\",\"\",IF(VLOOKUP(M46,漢字読み!$A$2:$O$502,7,0)=0,\"\",VLOOKUP(M46,漢字読み!$A$2:$O$502,7,0)))","v":""},{"$f":"IF(N46=\"\",\"\",IF(VLOOKUP(N46,漢字読み!$A$2:$O$502,7,0)=0,\"\",VLOOKUP(N46,漢字読み!$A$2:$O$502,7,0)))","v":""},{"$f":"IF(O46=\"\",\"\",IF(VLOOKUP(O46,漢字読み!$A$2:$O$502,7,0)=0,\"\",VLOOKUP(O46,漢字読み!$A$2:$O$502,7,0)))","v":"る"},{"$f":"IF(P46=\"\",\"\",IF(VLOOKUP(P46,漢字読み!$A$2:$O$502,7,0)=0,\"\",VLOOKUP(P46,漢字読み!$A$2:$O$502,7,0)))","v":"する"},{"$f":"IF(Q46=\"\",\"\",IF(VLOOKUP(Q46,漢字読み!$A$2:$O$502,7,0)=0,\"\",VLOOKUP(Q46,漢字読み!$A$2:$O$502,7,0)))","v":"げる"},{"$f":"IF(R46=\"\",\"\",IF(VLOOKUP(R46,漢字読み!$A$2:$O$502,7,0)=0,\"\",VLOOKUP(R46,漢字読み!$A$2:$O$502,7,0)))","v":""},{"$f":"IF(S46=\"\",\"\",IF(VLOOKUP(S46,漢字読み!$A$2:$O$502,7,0)=0,\"\",VLOOKUP(S46,漢字読み!$A$2:$O$502,7,0)))","v":""},{"$f":"IF(T46=\"\",\"\",IF(VLOOKUP(T46,漢字読み!$A$2:$O$502,7,0)=0,\"\",VLOOKUP(T46,漢字読み!$A$2:$O$502,7,0)))","v":""},null,null,"和歌山県教育委員会"]
[{"$f":"A41","v":201},39,70,5,214,14,52,68,75,202,195,200,136,126,124,201,233,144,40,157]
["⑳","⑲","⑱","⑰","⑯","⑮","⑭","⑬","⑫","⑪","⑩","⑨","⑧","⑦","⑥","⑤","④","③","②","①","次の［　　　　］の部分の漢字には読みがなをひらがなで書き、カタカナは漢字に直しなさい。",12,"「漢字の博士検定試験」練習問題　"]
[{"$f":"IF(A51=\"\",\"\",VLOOKUP(A51,漢字書き!$A$2:$N$506,6,0))","v":"駅に［ツ］く"},{"$f":"IF(B51=\"\",\"\",VLOOKUP(B51,漢字書き!$A$2:$N$506,6,0))","v":"船が［シュッコウ］する"},{"$f":"IF(C51=\"\",\"\",VLOOKUP(C51,漢字書き!$A$2:$N$506,6,0))","v":"県［チジ］をつとめる"},{"$f":"IF(D51=\"\",\"\",VLOOKUP(D51,漢字書き!$A$2:$N$506,6,0))","v":"［チク］の会合に出る"},{"$f":"IF(E51=\"\",\"\",VLOOKUP(E51,漢字書き!$A$2:$N$506,6,0))","v":"アンケート[チョウ]さ"},{"$f":"IF(F51=\"\",\"\",VLOOKUP(F51,漢字書き!$A$2:$N$506,6,0))","v":"教科の［カカリ］を決める"},{"$f":"IF(G51=\"\",\"\",VLOOKUP(G51,漢字書き!$A$2:$N$506,6,0))","v":"火事で［シシャ］が出る"},{"$f":"IF(H51=\"\",\"\",VLOOKUP(H51,漢字書き!$A$2:$N$506,6,0))","v":"［ツギ］の人をよぶ"},{"$f":"IF(I51=\"\",\"\",VLOOKUP(I51,漢字書き!$A$2:$N$506,6,0))","v":"わり算の［シキ］"},{"$f":"IF(J51=\"\",\"\",VLOOKUP(J51,漢字書き!$A$2:$N$506,6,0))","v":"［キ］せかえ人形"},{"$f":"IF(K51=\"\",\"\",VLOOKUP(K51,漢字読み!$A$2:$O$506,6,0))","v":"［短］いひも"},{"$f":"IF(L51=\"\",\"\",VLOOKUP(L51,漢字読み!$A$2:$O$506,6,0))","v":"［上着］をかける"},{"$f":"IF(M51=\"\",\"\",VLOOKUP(M51,漢字読み!$A$2:$O$506,6,0))","v":"入会を［申］しこむ"},{"$f":"IF(N51=\"\",\"\",VLOOKUP(N51,漢字読み!$A$2:$O$506,6,0))","v":"［商売］をする"},{"$f":"IF(O51=\"\",\"\",VLOOKUP(O51,漢字読み!$A$2:$O$506,6,0))","v":"火が［消］える"},{"$f":"IF(P51=\"\",\"\",VLOOKUP(P51,漢字読み!$A$2:$O$506,6,0))","v":"ジュースを［注文］する"},{"$f":"IF(Q51=\"\",\"\",VLOOKUP(Q51,漢字読み!$A$2:$O$506,6,0))","v":"［都合］が悪い"},{"$f":"IF(R51=\"\",\"\",VLOOKUP(R51,漢字読み!$A$2:$O$506,6,0))","v":"［真心］をこめる"},{"$f":"IF(S51=\"\",\"\",VLOOKUP(S51,漢字読み!$A$2:$O$506,6,0))","v":"［港町］の人々"},{"$f":"IF(T51=\"\",\"\",VLOOKUP(T51,漢字読み!$A$2:$O$506,6,0))","v":"クラス［全員］"},null,"級"]
[{"$f":"IF(A$11=\"\",\"\",VLOOKUP(A51,漢字書き!$A$2:$O$506,8,0))","v":"着"},{"$f":"IF(B$11=\"\",\"\",VLOOKUP(B51,漢字書き!$A$2:$O$506,8,0))","v":"出航"},{"$f":"IF(C$11=\"\",\"\",VLOOKUP(C51,漢字書き!$A$2:$O$506,8,0))","v":"知事"},{"$f":"IF(D$11=\"\",\"\",VLOOKUP(D51,漢字書き!$A$2:$O$506,8,0))","v":"地区"},{"$f":"IF(E$11=\"\",\"\",VLOOKUP(E51,漢字書き!$A$2:$O$506,8,0))","v":"調"},{"$f":"IF(F$11=\"\",\"\",VLOOKUP(F51,漢字書き!$A$2:$O$506,8,0))","v":"係"},{"$f":"IF(G$11=\"\",\"\",VLOOKUP(G51,漢字書き!$A$2:$O$506,8,0))","v":"死者"},{"$f":"IF(H$11=\"\",\"\",VLOOKUP(H51,漢字書き!$A$2:$O$506,8,0))","v":"次"},{"$f":"IF(I$11=\"\",\"\",VLOOKUP(I51,漢字書き!$A$2:$O$506,8,0))","v":"式"},{"$f":"IF(J$11=\"\",\"\",VLOOKUP(J51,漢字書き!$A$2:$O$506,8,0))","v":"着"},{"$f":"IF(K$11=\"\",\"\",VLOOKUP(K51,漢字読み!$A$2:$O$506,8,0))","v":"みじか"},{"$f":"IF(L$11=\"\",\"\",VLOOKUP(L51,漢字読み!$A$2:$O$506,8,0))","v":"うわぎ"},{"$f":"IF(M$11=\"\",\"\",VLOOKUP(M51,漢字読み!$A$2:$O$506,8,0))","v":"もう"},{"$f":"IF(N$11=\"\",\"\",VLOOKUP(N51,漢字読み!$A$2:$O$506,8,0))","v":"しょうばい"},{"$f":"IF(O$11=\"\",\"\",VLOOKUP(O51,漢字読み!$A$2:$O$506,8,0))","v":"き"},{"$f":"IF(P$11=\"\",\"\",VLOOKUP(P51,漢字読み!$A$2:$O$506,8,0))","v":"ちゅうもん"},{"$f":"IF(Q$11=\"\",\"\",VLOOKUP(Q51,漢字読み!$A$2:$O$506,8,0))","v":"つごう"},{"$f":"IF(R$11=\"\",\"\",VLOOKUP(R51,漢字読み!$A$2:$O$506,8,0))","v":"まごころ"},{"$f":"IF(S$11=\"\",\"\",VLOOKUP(S51,漢字読み!$A$2:$O$506,8,0))","v":"みなとまち"},{"$f":"IF(T$11=\"\",\"\",VLOOKUP(T51,漢字読み!$A$2:$O$506,8,0))","v":"ぜんいん"},null,"名前"]
[{"$f":"IF(A51=\"\",\"\",IF(VLOOKUP(A51,漢字書き!$A$2:$N$502,7,0)=0,\"\",VLOOKUP(A51,漢字書き!$A$2:$N$502,7,0)))","v":"く"},{"$f":"IF(B51=\"\",\"\",IF(VLOOKUP(B51,漢字書き!$A$2:$N$502,7,0)=0,\"\",VLOOKUP(B51,漢字書き!$A$2:$N$502,7,0)))","v":"する"},{"$f":"IF(C51=\"\",\"\",IF(VLOOKUP(C51,漢字書き!$A$2:$N$502,7,0)=0,\"\",VLOOKUP(C51,漢字書き!$A$2:$N$502,7,0)))","v":""},{"$f":"IF(D51=\"\",\"\",IF(VLOOKUP(D51,漢字書き!$A$2:$N$502,7,0)=0,\"\",VLOOKUP(D51,漢字書き!$A$2:$N$502,7,0)))","v":""},{"$f":"IF(E51=\"\",\"\",IF(VLOOKUP(E51,漢字書き!$A$2:$N$502,7,0)=0,\"\",VLOOKUP(E51,漢字書き!$A$2:$N$502,7,0)))","v":"さ"},{"$f":"IF(F51=\"\",\"\",IF(VLOOKUP(F51,漢字書き!$A$2:$N$502,7,0)=0,\"\",VLOOKUP(F51,漢字書き!$A$2:$N$502,7,0)))","v":""},{"$f":"IF(G51=\"\",\"\",IF(VLOOKUP(G51,漢字書き!$A$2:$N$502,7,0)=0,\"\",VLOOKUP(G51,漢字書き!$A$2:$N$502,7,0)))","v":""},{"$f":"IF(H51=\"\",\"\",IF(VLOOKUP(H51,漢字書き!$A$2:$N$502,7,0)=0,\"\",VLOOKUP(H51,漢字書き!$A$2:$N$502,7,0)))","v":""},{"$f":"IF(I51=\"\",\"\",IF(VLOOKUP(I51,漢字書き!$A$2:$N$502,7,0)=0,\"\",VLOOKUP(I51,漢字書き!$A$2:$N$502,7,0)))","v":""},{"$f":"IF(J51=\"\",\"\",IF(VLOOKUP(J51,漢字書き!$A$2:$N$502,7,0)=0,\"\",VLOOKUP(J51,漢字書き!$A$2:$N$502,7,0)))","v":"せかえ"},{"$f":"IF(K51=\"\",\"\",IF(VLOOKUP(K51,漢字読み!$A$2:$O$502,7,0)=0,\"\",VLOOKUP(K51,漢字読み!$A$2:$O$502,7,0)))","v":"い"},{"$f":"IF(L51=\"\",\"\",IF(VLOOKUP(L51,漢字読み!$A$2:$O$502,7,0)=0,\"\",VLOOKUP(L51,漢字読み!$A$2:$O$502,7,0)))","v":""},{"$f":"IF(M51=\"\",\"\",IF(VLOOKUP(M51,漢字読み!$A$2:$O$502,7,0)=0,\"\",VLOOKUP(M51,漢字読み!$A$2:$O$502,7,0)))","v":"しこむ"},{"$f":"IF(N51=\"\",\"\",IF(VLOOKUP(N51,漢字読み!$A$2:$O$502,7,0)=0,\"\",VLOOKUP(N51,漢字読み!$A$2:$O$502,7,0)))","v":""},{"$f":"IF(O51=\"\",\"\",IF(VLOOKUP(O51,漢字読み!$A$2:$O$502,7,0)=0,\"\",VLOOKUP(O51,漢字読み!$A$2:$O$502,7,0)))","v":"える"},{"$f":"IF(P51=\"\",\"\",IF(VLOOKUP(P51,漢字読み!$A$2:$O$502,7,0)=0,\"\",VLOOKUP(P51,漢字読み!$A$2:$O$502,7,0)))","v":"する"},{"$f":"IF(Q51=\"\",\"\",IF(VLOOKUP(Q51,漢字読み!$A$2:$O$502,7,0)=0,\"\",VLOOKUP(Q51,漢字読み!$A$2:$O$502,7,0)))","v":""},{"$f":"IF(R51=\"\",\"\",IF(VLOOKUP(R51,漢字読み!$A$2:$O$502,7,0)=0,\"\",VLOOKUP(R51,漢字読み!$A$2:$O$502,7,0)))","v":""},{"$f":"IF(S51=\"\",\"\",IF(VLOOKUP(S51,漢字読み!$A$2:$O$502,7,0)=0,\"\",VLOOKUP(S51,漢字読み!$A$2:$O$502,7,0)))","v":""},{"$f":"IF(T51=\"\",\"\",IF(VLOOKUP(T51,漢字読み!$A$2:$O$502,7,0)=0,\"\",VLOOKUP(T51,漢字読み!$A$2:$O$502,7,0)))","v":""},null,null,"和歌山県教育委員会"]
[{"$f":"A46","v":226},144,150,11,183,30,40,84,21,166,153,138,223,82,91,59,239,49,76,226]
["⑳","⑲","⑱","⑰","⑯","⑮","⑭","⑬","⑫","⑪","⑩","⑨","⑧","⑦","⑥","⑤","④","③","②","①","次の［　　　　］の部分の漢字には読みがなをひらがなで書き、カタカナは漢字に直しなさい。",12,"「漢字の博士検定試験」練習問題　"]
[{"$f":"IF(A56=\"\",\"\",VLOOKUP(A56,漢字書き!$A$2:$N$506,6,0))","v":"［ジテンシャ］に乗る"},{"$f":"IF(B56=\"\",\"\",VLOOKUP(B56,漢字書き!$A$2:$N$506,6,0))","v":"［ジンジャ］にまいる"},{"$f":"IF(C56=\"\",\"\",VLOOKUP(C56,漢字書き!$A$2:$N$506,6,0))","v":"友じょうを［フカ］める"},{"$f":"IF(D56=\"\",\"\",VLOOKUP(D56,漢字書き!$A$2:$N$506,6,0))","v":"［クンシュ］せいの国"},{"$f":"IF(E56=\"\",\"\",VLOOKUP(E56,漢字書き!$A$2:$N$506,6,0))","v":"親子の［タイワ］"},{"$f":"IF(F56=\"\",\"\",VLOOKUP(F56,漢字書き!$A$2:$N$506,6,0))","v":"日本さい大のびわ［コ］"},{"$f":"IF(G56=\"\",\"\",VLOOKUP(G56,漢字書き!$A$2:$N$506,6,0))","v":"［ミナト］めぐり"},{"$f":"IF(H56=\"\",\"\",VLOOKUP(H56,漢字書き!$A$2:$N$506,6,0))","v":"あわて［モノ］だ"},{"$f":"IF(I56=\"\",\"\",VLOOKUP(I56,漢字書き!$A$2:$N$506,6,0))","v":"けがで［シュッケツ］する"},{"$f":"IF(J56=\"\",\"\",VLOOKUP(J56,漢字書き!$A$2:$N$506,6,0))","v":"［アイテ］の名前"},{"$f":"IF(K56=\"\",\"\",VLOOKUP(K56,漢字読み!$A$2:$O$506,6,0))","v":"じゅんびが［整］う"},{"$f":"IF(L56=\"\",\"\",VLOOKUP(L56,漢字読み!$A$2:$O$506,6,0))","v":"［身］の上話"},{"$f":"IF(M56=\"\",\"\",VLOOKUP(M56,漢字読み!$A$2:$O$506,6,0))","v":"［汽笛］が鳴る"},{"$f":"IF(N56=\"\",\"\",VLOOKUP(N56,漢字読み!$A$2:$O$506,6,0))","v":"［実］がなる"},{"$f":"IF(O56=\"\",\"\",VLOOKUP(O56,漢字読み!$A$2:$O$506,6,0))","v":"決まりを［守］る"},{"$f":"IF(P56=\"\",\"\",VLOOKUP(P56,漢字読み!$A$2:$O$506,6,0))","v":"工場が［始動］する"},{"$f":"IF(Q56=\"\",\"\",VLOOKUP(Q56,漢字読み!$A$2:$O$506,6,0))","v":"ボールを［投］げる"},{"$f":"IF(R56=\"\",\"\",VLOOKUP(R56,漢字読み!$A$2:$O$506,6,0))","v":"スープ［皿］"},{"$f":"IF(S56=\"\",\"\",VLOOKUP(S56,漢字読み!$A$2:$O$506,6,0))","v":"入学［式］のあいさつ"},{"$f":"IF(T56=\"\",\"\",VLOOKUP(T56,漢字読み!$A$2:$O$506,6,0))","v":"［鉄］のとびら"},null,"級"]
[{"$f":"IF(A$16=\"\",\"\",VLOOKUP(A56,漢字書き!$A$2:$O$506,8,0))","v":"自転車"},{"$f":"IF(B$16=\"\",\"\",VLOOKUP(B56,漢字書き!$A$2:$O$506,8,0))","v":"神社"},{"$f":"IF(C$16=\"\",\"\",VLOOKUP(C56,漢字書き!$A$2:$O$506,8,0))","v":"深"},{"$f":"IF(D$16=\"\",\"\",VLOOKUP(D56,漢字書き!$A$2:$O$506,8,0))","v":"君主"},{"$f":"IF(E$16=\"\",\"\",VLOOKUP(E56,漢字書き!$A$2:$O$506,8,0))","v":"対話"},{"$f":"IF(F$16=\"\",\"\",VLOOKUP(F56,漢字書き!$A$2:$O$506,8,0))","v":"湖"},{"$f":"IF(G$16=\"\",\"\",VLOOKUP(G56,漢字書き!$A$2:$O$506,8,0))","v":"港"},{"$f":"IF(H$16=\"\",\"\",VLOOKUP(H56,漢字書き!$A$2:$O$506,8,0))","v":"者"},{"$f":"IF(I$16=\"\",\"\",VLOOKUP(I56,漢字書き!$A$2:$O$506,8,0))","v":"出血"},{"$f":"IF(J$16=\"\",\"\",VLOOKUP(J56,漢字書き!$A$2:$O$506,8,0))","v":"相手"},{"$f":"IF(K$16=\"\",\"\",VLOOKUP(K56,漢字読み!$A$2:$O$506,8,0))","v":"ととの"},{"$f":"IF(L$16=\"\",\"\",VLOOKUP(L56,漢字読み!$A$2:$O$506,8,0))","v":"み"},{"$f":"IF(M$16=\"\",\"\",VLOOKUP(M56,漢字読み!$A$2:$O$506,8,0))","v":"きてき"},{"$f":"IF(N$16=\"\",\"\",VLOOKUP(N56,漢字読み!$A$2:$O$506,8,0))","v":"み"},{"$f":"IF(O$16=\"\",\"\",VLOOKUP(O56,漢字読み!$A$2:$O$506,8,0))","v":"まも"},{"$f":"IF(P$16=\"\",\"\",VLOOKUP(P56,漢字読み!$A$2:$O$506,8,0))","v":"しどう"},{"$f":"IF(Q$16=\"\",\"\",VLOOKUP(Q56,漢字読み!$A$2:$O$506,8,0))","v":"な"},{"$f":"IF(R$16=\"\",\"\",VLOOKUP(R56,漢字読み!$A$2:$O$506,8,0))","v":"ざら"},{"$f":"IF(S$16=\"\",\"\",VLOOKUP(S56,漢字読み!$A$2:$O$506,8,0))","v":"しき"},{"$f":"IF(T$16=\"\",\"\",VLOOKUP(T56,漢字読み!$A$2:$O$506,8,0))","v":"てつ"},null,"名前"]
[{"$f":"IF(A56=\"\",\"\",IF(VLOOKUP(A56,漢字書き!$A$2:$N$502,7,0)=0,\"\",VLOOKUP(A56,漢字書き!$A$2:$N$502,7,0)))","v":""},{"$f":"IF(B56=\"\",\"\",IF(VLOOKUP(B56,漢字書き!$A$2:$N$502,7,0)=0,\"\",VLOOKUP(B56,漢字書き!$A$2:$N$502,7,0)))","v":""},{"$f":"IF(C56=\"\",\"\",IF(VLOOKUP(C56,漢字書き!$A$2:$N$502,7,0)=0,\"\",VLOOKUP(C56,漢字書き!$A$2:$N$502,7,0)))","v":"める"},{"$f":"IF(D56=\"\",\"\",IF(VLOOKUP(D56,漢字書き!$A$2:$N$502,7,0)=0,\"\",VLOOKUP(D56,漢字書き!$A$2:$N$502,7,0)))","v":"せい"},{"$f":"IF(E56=\"\",\"\",IF(VLOOKUP(E56,漢字書き!$A$2:$N$502,7,0)=0,\"\",VLOOKUP(E56,漢字書き!$A$2:$N$502,7,0)))","v":""},{"$f":"IF(F56=\"\",\"\",IF(VLOOKUP(F56,漢字書き!$A$2:$N$502,7,0)=0,\"\",VLOOKUP(F56,漢字書き!$A$2:$N$502,7,0)))","v":""},{"$f":"IF(G56=\"\",\"\",IF(VLOOKUP(G56,漢字書き!$A$2:$N$502,7,0)=0,\"\",VLOOKUP(G56,漢字書き!$A$2:$N$502,7,0)))","v":""},{"$f":"IF(H56=\"\",\"\",IF(VLOOKUP(H56,漢字書き!$A$2:$N$502,7,0)=0,\"\",VLOOKUP(H56,漢字書き!$A$2:$N$502,7,0)))","v":""},{"$f":"IF(I56=\"\",\"\",IF(VLOOKUP(I56,漢字書き!$A$2:$N$502,7,0)=0,\"\",VLOOKUP(I56,漢字書き!$A$2:$N$502,7,0)))","v":"する"},{"$f":"IF(J56=\"\",\"\",IF(VLOOKUP(J56,漢字書き!$A$2:$N$502,7,0)=0,\"\",VLOOKUP(J56,漢字書き!$A$2:$N$502,7,0)))","v":""},{"$f":"IF(K56=\"\",\"\",IF(VLOOKUP(K56,漢字読み!$A$2:$O$502,7,0)=0,\"\",VLOOKUP(K56,漢字読み!$A$2:$O$502,7,0)))","v":"う"},{"$f":"IF(L56=\"\",\"\",IF(VLOOKUP(L56,漢字読み!$A$2:$O$502,7,0)=0,\"\",VLOOKUP(L56,漢字読み!$A$2:$O$502,7,0)))","v":"の上"},{"$f":"IF(M56=\"\",\"\",IF(VLOOKUP(M56,漢字読み!$A$2:$O$502,7,0)=0,\"\",VLOOKUP(M56,漢字読み!$A$2:$O$502,7,0)))","v":""},{"$f":"IF(N56=\"\",\"\",IF(VLOOKUP(N56,漢字読み!$A$2:$O$502,7,0)=0,\"\",VLOOKUP(N56,漢字読み!$A$2:$O$502,7,0)))","v":""},{"$f":"IF(O56=\"\",\"\",IF(VLOOKUP(O56,漢字読み!$A$2:$O$502,7,0)=0,\"\",VLOOKUP(O56,漢字読み!$A$2:$O$502,7,0)))","v":"る"},{"$f":"IF(P56=\"\",\"\",IF(VLOOKUP(P56,漢字読み!$A$2:$O$502,7,0)=0,\"\",VLOOKUP(P56,漢字読み!$A$2:$O$502,7,0)))","v":"する"},{"$f":"IF(Q56=\"\",\"\",IF(VLOOKUP(Q56,漢字読み!$A$2:$O$502,7,0)=0,\"\",VLOOKUP(Q56,漢字読み!$A$2:$O$502,7,0)))","v":"げる"},{"$f":"IF(R56=\"\",\"\",IF(VLOOKUP(R56,漢字読み!$A$2:$O$502,7,0)=0,\"\",VLOOKUP(R56,漢字読み!$A$2:$O$502,7,0)))","v":""},{"$f":"IF(S56=\"\",\"\",IF(VLOOKUP(S56,漢字読み!$A$2:$O$502,7,0)=0,\"\",VLOOKUP(S56,漢字読み!$A$2:$O$502,7,0)))","v":""},{"$f":"IF(T56=\"\",\"\",IF(VLOOKUP(T56,漢字読み!$A$2:$O$502,7,0)=0,\"\",VLOOKUP(T56,漢字読み!$A$2:$O$502,7,0)))","v":""},null,null,"和歌山県教育委員会"]
[{"$f":"INDIRECT(\"'関数（書き）'!C\" & COLUMN(B$1)+SUM($AD$2:$AD62))","v":43},{"$f":"INDIRECT(\"'関数（書き）'!C\" & COLUMN(C$1)+SUM($AD$2:$AD62))","v":15},{"$f":"INDIRECT(\"'関数（書き）'!C\" & COLUMN(D$1)+SUM($AD$2:$AD62))","v":69},{"$f":"INDIRECT(\"'関数（書き）'!C\" & COLUMN(E$1)+SUM($AD$2:$AD62))","v":25},{"$f":"INDIRECT(\"'関数（書き）'!C\" & COLUMN(F$1)+SUM($AD$2:$AD62))","v":6},{"$f":"INDIRECT(\"'関数（書き）'!C\" & COLUMN(G$1)+SUM($AD$2:$AD62))","v":73},{"$f":"INDIRECT(\"'関数（書き）'!C\" & COLUMN(H$1)+SUM($AD$2:$AD62))","v":232},{"$f":"INDIRECT(\"'関数（書き）'!C\" & COLUMN(I$1)+SUM($AD$2:$AD62))","v":215},{"$f":"INDIRECT(\"'関数（書き）'!C\" & COLUMN(J$1)+SUM($AD$2:$AD62))","v":217},{"$f":"INDIRECT(\"'関数（書き）'!C\" & COLUMN(K$1)+SUM($AD$2:$AD62))","v":94},{"$f":"INDIRECT(\"'関数（読み）'!C\" & COLUMN(B$1)+SUM($AD$2:$AD62))","v":14},{"$f":"INDIRECT(\"'関数（読み）'!C\" & COLUMN(C$1)+SUM($AD$2:$AD62))","v":196},{"$f":"INDIRECT(\"'関数（読み）'!C\" & COLUMN(D$1)+SUM($AD$2:$AD62))","v":7},{"$f":"INDIRECT(\"'関数（読み）'!C\" & COLUMN(E$1)+SUM($AD$2:$AD62))","v":238},{"$f":"INDIRECT(\"'関数（読み）'!C\" & COLUMN(F$1)+SUM($AD$2:$AD62))","v":34},{"$f":"INDIRECT(\"'関数（読み）'!C\" & COLUMN(G$1)+SUM($AD$2:$AD62))","v":211},{"$f":"INDIRECT(\"'関数（読み）'!C\" & COLUMN(H$1)+SUM($AD$2:$AD62))","v":202},{"$f":"INDIRECT(\"'関数（読み）'!C\" & COLUMN(I$1)+SUM($AD$2:$AD62))","v":104},{"$f":"INDIRECT(\"'関数（読み）'!C\" & COLUMN(J$1)+SUM($AD$2:$AD62))","v":183},{"$f":"INDIRECT(\"'関数（読み）'!C\" & COLUMN(K$1)+SUM($AD$2:$AD62))","v":145}]
["⑳","⑲","⑱","⑰","⑯","⑮","⑭","⑬","⑫","⑪","⑩","⑨","⑧","⑦","⑥","⑤","④","③","②","①","次の［　　　　］の部分の漢字には読みがなをひらがなで書き、カタカナは漢字に直しなさい。",12,"「漢字の博士検定試験」練習問題　",null,null,null,null,null,"←",10,"問",{"$f":"AH47+1","v":61},"～",{"$f":"SUM($AD$2:$AD62)+10","v":70},"問まで",{"$f":"COUNTIF($A$1:$T$200,T63)","v":2}]
[{"$f":"IF(A61=\"\",\"\",VLOOKUP(A61,漢字書き!$A$2:$N$506,6,0))","v":"台風三［ゴウ］が来る"},{"$f":"IF(B61=\"\",\"\",VLOOKUP(B61,漢字書き!$A$2:$N$506,6,0))","v":"安全に［カカ］る"},{"$f":"IF(C61=\"\",\"\",VLOOKUP(C61,漢字書き!$A$2:$N$506,6,0))","v":"去年に［ツ］ぐ出場"},{"$f":"IF(D61=\"\",\"\",VLOOKUP(D61,漢字書き!$A$2:$N$506,6,0))","v":"自由［ケンキュウ］をする"},{"$f":"IF(E61=\"\",\"\",VLOOKUP(E61,漢字書き!$A$2:$N$506,6,0))","v":"［クシン］して作る"},{"$f":"IF(F61=\"\",\"\",VLOOKUP(F61,漢字書き!$A$2:$N$506,6,0))","v":"にもつを［モ］つ"},{"$f":"IF(G61=\"\",\"\",VLOOKUP(G61,漢字書き!$A$2:$N$506,6,0))","v":"ボールを［ナ］げる"},{"$f":"IF(H61=\"\",\"\",VLOOKUP(H61,漢字書き!$A$2:$N$506,6,0))","v":"注文を［ツイ］かする"},{"$f":"IF(I61=\"\",\"\",VLOOKUP(I61,漢字書き!$A$2:$N$506,6,0))","v":"生活が［アンテイ］する"},{"$f":"IF(J61=\"\",\"\",VLOOKUP(J61,漢字書き!$A$2:$N$506,6,0))","v":"お［サケ］を飲む"},{"$f":"IF(K61=\"\",\"\",VLOOKUP(K61,漢字読み!$A$2:$O$506,6,0))","v":"自分にかん［係］ない"},{"$f":"IF(L61=\"\",\"\",VLOOKUP(L61,漢字読み!$A$2:$O$506,6,0))","v":"先生に［相談］をする"},{"$f":"IF(M61=\"\",\"\",VLOOKUP(M61,漢字読み!$A$2:$O$506,6,0))","v":"息が［苦］しい"},{"$f":"IF(N61=\"\",\"\",VLOOKUP(N61,漢字読み!$A$2:$O$506,6,0))","v":"［投手］の活やく"},{"$f":"IF(O61=\"\",\"\",VLOOKUP(O61,漢字読み!$A$2:$O$506,6,0))","v":"［向］かい風の中"},{"$f":"IF(P61=\"\",\"\",VLOOKUP(P61,漢字読み!$A$2:$O$506,6,0))","v":"［調子］が悪い"},{"$f":"IF(Q61=\"\",\"\",VLOOKUP(Q61,漢字読み!$A$2:$O$506,6,0))","v":"先生に［注目］する"},{"$f":"IF(R61=\"\",\"\",VLOOKUP(R61,漢字読み!$A$2:$O$506,6,0))","v":"土地の［習］わし"},{"$f":"IF(S61=\"\",\"\",VLOOKUP(S61,漢字読み!$A$2:$O$506,6,0))","v":"［世代］がちがう"},{"$f":"IF(T61=\"\",\"\",VLOOKUP(T61,漢字読み!$A$2:$O$506,6,0))","v":"［深夜］の町"},null,"級"]
[null,null,null,null,null,null,null,null,null,null,null,null,null,null,null,null,null,null,null,null,null,"名前"]
[{"$f":"IF(A61=\"\",\"\",IF(VLOOKUP(A61,漢字書き!$A$2:$N$502,7,0)=0,\"\",VLOOKUP(A61,漢字書き!$A$2:$N$502,7,0)))","v":""},{"$f":"IF(B61=\"\",\"\",IF(VLOOKUP(B61,漢字書き!$A$2:$N$502,7,0)=0,\"\",VLOOKUP(B61,漢字書き!$A$2:$N$502,7,0)))","v":"る"},{"$f":"IF(C61=\"\",\"\",IF(VLOOKUP(C61,漢字書き!$A$2:$N$502,7,0)=0,\"\",VLOOKUP(C61,漢字書き!$A$2:$N$502,7,0)))","v":"ぐ"},{"$f":"IF(D61=\"\",\"\",IF(VLOOKUP(D61,漢字書き!$A$2:$N$502,7,0)=0,\"\",VLOOKUP(D61,漢字書き!$A$2:$N$502,7,0)))","v":""},{"$f":"IF(E61=\"\",\"\",IF(VLOOKUP(E61,漢字書き!$A$2:$N$502,7,0)=0,\"\",VLOOKUP(E61,漢字書き!$A$2:$N$502,7,0)))","v":"して"},{"$f":"IF(F61=\"\",\"\",IF(VLOOKUP(F61,漢字書き!$A$2:$N$502,7,0)=0,\"\",VLOOKUP(F61,漢字書き!$A$2:$N$502,7,0)))","v":"つ"},{"$f":"IF(G61=\"\",\"\",IF(VLOOKUP(G61,漢字書き!$A$2:$N$502,7,0)=0,\"\",VLOOKUP(G61,漢字書き!$A$2:$N$502,7,0)))","v":"げる"},{"$f":"IF(H61=\"\",\"\",IF(VLOOKUP(H61,漢字書き!$A$2:$N$502,7,0)=0,\"\",VLOOKUP(H61,漢字書き!$A$2:$N$502,7,0)))","v":"か"},{"$f":"IF(I61=\"\",\"\",IF(VLOOKUP(I61,漢字書き!$A$2:$N$502,7,0)=0,\"\",VLOOKUP(I61,漢字書き!$A$2:$N$502,7,0)))","v":"する"},{"$f":"IF(J61=\"\",\"\",IF(VLOOKUP(J61,漢字書き!$A$2:$N$502,7,0)=0,\"\",VLOOKUP(J61,漢字書き!$A$2:$N$502,7,0)))","v":""},{"$f":"IF(K61=\"\",\"\",IF(VLOOKUP(K61,漢字読み!$A$2:$O$502,7,0)=0,\"\",VLOOKUP(K61,漢字読み!$A$2:$O$502,7,0)))","v":"ない"},{"$f":"IF(L61=\"\",\"\",IF(VLOOKUP(L61,漢字読み!$A$2:$O$502,7,0)=0,\"\",VLOOKUP(L61,漢字読み!$A$2:$O$502,7,0)))","v":""},{"$f":"IF(M61=\"\",\"\",IF(VLOOKUP(M61,漢字読み!$A$2:$O$502,7,0)=0,\"\",VLOOKUP(M61,漢字読み!$A$2:$O$502,7,0)))","v":"しい"},{"$f":"IF(N61=\"\",\"\",IF(VLOOKUP(N61,漢字読み!$A$2:$O$502,7,0)=0,\"\",VLOOKUP(N61,漢字読み!$A$2:$O$502,7,0)))","v":""},{"$f":"IF(O61=\"\",\"\",IF(VLOOKUP(O61,漢字読み!$A$2:$O$502,7,0)=0,\"\",VLOOKUP(O61,漢字読み!$A$2:$O$502,7,0)))","v":"かい"},{"$f":"IF(P61=\"\",\"\",IF(VLOOKUP(P61,漢字読み!$A$2:$O$502,7,0)=0,\"\",VLOOKUP(P61,漢字読み!$A$2:$O$502,7,0)))","v":""},{"$f":"IF(Q61=\"\",\"\",IF(VLOOKUP(Q61,漢字読み!$A$2:$O$502,7,0)=0,\"\",VLOOKUP(Q61,漢字読み!$A$2:$O$502,7,0)))","v":"する"},{"$f":"IF(R61=\"\",\"\",IF(VLOOKUP(R61,漢字読み!$A$2:$O$502,7,0)=0,\"\",VLOOKUP(R61,漢字読み!$A$2:$O$502,7,0)))","v":"わし"},{"$f":"IF(S61=\"\",\"\",IF(VLOOKUP(S61,漢字読み!$A$2:$O$502,7,0)=0,\"\",VLOOKUP(S61,漢字読み!$A$2:$O$502,7,0)))","v":""},{"$f":"IF(T61=\"\",\"\",IF(VLOOKUP(T61,漢字読み!$A$2:$O$502,7,0)=0,\"\",VLOOKUP(T61,漢字読み!$A$2:$O$502,7,0)))","v":""},null,null,"和歌山県教育委員会"]
[{"$f":"INDIRECT(\"'関数（書き）'!C\" & COLUMN(B$1)+SUM($AD$2:$AD67))","v":162},{"$f":"INDIRECT(\"'関数（書き）'!C\" & COLUMN(C$1)+SUM($AD$2:$AD67))","v":44},{"$f":"INDIRECT(\"'関数（書き）'!C\" & COLUMN(D$1)+SUM($AD$2:$AD67))","v":167},{"$f":"INDIRECT(\"'関数（書き）'!C\" & COLUMN(E$1)+SUM($AD$2:$AD67))","v":154},{"$f":"INDIRECT(\"'関数（書き）'!C\" & COLUMN(F$1)+SUM($AD$2:$AD67))","v":116},{"$f":"INDIRECT(\"'関数（書き）'!C\" & COLUMN(G$1)+SUM($AD$2:$AD67))","v":174},{"$f":"INDIRECT(\"'関数（書き）'!C\" & COLUMN(H$1)+SUM($AD$2:$AD67))","v":145},{"$f":"INDIRECT(\"'関数（書き）'!C\" & COLUMN(I$1)+SUM($AD$2:$AD67))","v":113},{"$f":"INDIRECT(\"'関数（書き）'!C\" & COLUMN(J$1)+SUM($AD$2:$AD67))","v":231},{"$f":"INDIRECT(\"'関数（書き）'!C\" & COLUMN(K$1)+SUM($AD$2:$AD67))","v":80},{"$f":"INDIRECT(\"'関数（読み）'!C\" & COLUMN(B$1)+SUM($AD$2:$AD67))","v":171},{"$f":"INDIRECT(\"'関数（読み）'!C\" & COLUMN(C$1)+SUM($AD$2:$AD67))","v":123},{"$f":"INDIRECT(\"'関数（読み）'!C\" & COLUMN(D$1)+SUM($AD$2:$AD67))","v":221},{"$f":"INDIRECT(\"'関数（読み）'!C\" & COLUMN(E$1)+SUM($AD$2:$AD67))","v":230},{"$f":"INDIRECT(\"'関数（読み）'!C\" & COLUMN(F$1)+SUM($AD$2:$AD67))","v":180},{"$f":"INDIRECT(\"'関数（読み）'!C\" & COLUMN(G$1)+SUM($AD$2:$AD67))","v":26},{"$f":"INDIRECT(\"'関数（読み）'!C\" & COLUMN(H$1)+SUM($AD$2:$AD67))","v":168},{"$f":"INDIRECT(\"'関数（読み）'!C\" & COLUMN(I$1)+SUM($AD$2:$AD67))","v":86},{"$f":"INDIRECT(\"'関数（読み）'!C\" & COLUMN(J$1)+SUM($AD$2:$AD67))","v":147},{"$f":"INDIRECT(\"'関数（読み）'!C\" & COLUMN(K$1)+SUM($AD$2:$AD67))","v":16}]
["⑳","⑲","⑱","⑰","⑯","⑮","⑭","⑬","⑫","⑪","⑩","⑨","⑧","⑦","⑥","⑤","④","③","②","①","次の［　　　　］の部分の漢字には読みがなをひらがなで書き、カタカナは漢字に直しなさい。",12,"「漢字の博士検定試験」練習問題　",null,null,null,null,null,"←",10,"問",{"$f":"AH62+1","v":71},"～",{"$f":"SUM($AD$2:$AD67)+10","v":80},"問まで",{"$f":"COUNTIF($A$1:$T$200,T68)","v":2}]
[{"$f":"IF(A66=\"\",\"\",VLOOKUP(A66,漢字書き!$A$2:$N$506,6,0))","v":"［ゼンタイ］を考える"},{"$f":"IF(B66=\"\",\"\",VLOOKUP(B66,漢字書き!$A$2:$N$506,6,0))","v":"花の［キュウコン］"},{"$f":"IF(C66=\"\",\"\",VLOOKUP(C66,漢字書き!$A$2:$N$506,6,0))","v":"メールを［ソウ］しんする"},{"$f":"IF(D66=\"\",\"\",VLOOKUP(D66,漢字書き!$A$2:$N$506,6,0))","v":"話を［スス］める"},{"$f":"IF(E66=\"\",\"\",VLOOKUP(E66,漢字書き!$A$2:$N$506,6,0))","v":"茶わんを［カサ］ねる"},{"$f":"IF(F66=\"\",\"\",VLOOKUP(F66,漢字書き!$A$2:$N$506,6,0))","v":"スピードが［ハヤ］まる"},{"$f":"IF(G66=\"\",\"\",VLOOKUP(G66,漢字書き!$A$2:$N$506,6,0))","v":"［カミ］さまをおがむ"},{"$f":"IF(H66=\"\",\"\",VLOOKUP(H66,漢字書き!$A$2:$N$506,6,0))","v":"［タイジュウ］をはかる"},{"$f":"IF(I66=\"\",\"\",VLOOKUP(I66,漢字書き!$A$2:$N$506,6,0))","v":"野きゅうの［トウシュ］"},{"$f":"IF(J66=\"\",\"\",VLOOKUP(J66,漢字書き!$A$2:$N$506,6,0))","v":"記ねん［シャシン］"},{"$f":"IF(K66=\"\",\"\",VLOOKUP(K66,漢字読み!$A$2:$O$506,6,0))","v":"［水族館］に行く"},{"$f":"IF(L66=\"\",\"\",VLOOKUP(L66,漢字読み!$A$2:$O$506,6,0))","v":"早く［消火］する"},{"$f":"IF(M66=\"\",\"\",VLOOKUP(M66,漢字読み!$A$2:$O$506,6,0))","v":"［庭］の草をぬく"},{"$f":"IF(N66=\"\",\"\",VLOOKUP(N66,漢字読み!$A$2:$O$506,6,0))","v":"［回転］木馬"},{"$f":"IF(O66=\"\",\"\",VLOOKUP(O66,漢字読み!$A$2:$O$506,6,0))","v":"［待］ちぼうけをくらう"},{"$f":"IF(P66=\"\",\"\",VLOOKUP(P66,漢字読み!$A$2:$O$506,6,0))","v":"［県］の公園"},{"$f":"IF(Q66=\"\",\"\",VLOOKUP(Q66,漢字読み!$A$2:$O$506,6,0))","v":"［時速］六十キロ"},{"$f":"IF(R66=\"\",\"\",VLOOKUP(R66,漢字読み!$A$2:$O$506,6,0))","v":"［何者］かがいる"},{"$f":"IF(S66=\"\",\"\",VLOOKUP(S66,漢字読み!$A$2:$O$506,6,0))","v":"日々［進歩］する"},{"$f":"IF(T66=\"\",\"\",VLOOKUP(T66,漢字読み!$A$2:$O$506,6,0))","v":"この語は下の語に［係］る"},null,"級"]
[null,null,null,null,null,null,null,null,null,null,null,null,null,null,null,null,null,null,null,null,null,"名前"]
[{"$f":"IF(A66=\"\",\"\",IF(VLOOKUP(A66,漢字書き!$A$2:$N$502,7,0)=0,\"\",VLOOKUP(A66,漢字書き!$A$2:$N$502,7,0)))","v":""},{"$f":"IF(B66=\"\",\"\",IF(VLOOKUP(B66,漢字書き!$A$2:$N$502,7,0)=0,\"\",VLOOKUP(B66,漢字書き!$A$2:$N$502,7,0)))","v":""},{"$f":"IF(C66=\"\",\"\",IF(VLOOKUP(C66,漢字書き!$A$2:$N$502,7,0)=0,\"\",VLOOKUP(C66,漢字書き!$A$2:$N$502,7,0)))","v":"しん"},{"$f":"IF(D66=\"\",\"\",IF(VLOOKUP(D66,漢字書き!$A$2:$N$502,7,0)=0,\"\",VLOOKUP(D66,漢字書き!$A$2:$N$502,7,0)))","v":"める"},{"$f":"IF(E66=\"\",\"\",IF(VLOOKUP(E66,漢字書き!$A$2:$N$502,7,0)=0,\"\",VLOOKUP(E66,漢字書き!$A$2:$N$502,7,0)))","v":"ねる"},{"$f":"IF(F66=\"\",\"\",IF(VLOOKUP(F66,漢字書き!$A$2:$N$502,7,0)=0,\"\",VLOOKUP(F66,漢字書き!$A$2:$N$502,7,0)))","v":"まる"},{"$f":"IF(G66=\"\",\"\",IF(VLOOKUP(G66,漢字書き!$A$2:$N$502,7,0)=0,\"\",VLOOKUP(G66,漢字書き!$A$2:$N$502,7,0)))","v":"さま"},{"$f":"IF(H66=\"\",\"\",IF(VLOOKUP(H66,漢字書き!$A$2:$N$502,7,0)=0,\"\",VLOOKUP(H66,漢字書き!$A$2:$N$502,7,0)))","v":""},{"$f":"IF(I66=\"\",\"\",IF(VLOOKUP(I66,漢字書き!$A$2:$N$502,7,0)=0,\"\",VLOOKUP(I66,漢字書き!$A$2:$N$502,7,0)))","v":""},{"$f":"IF(J66=\"\",\"\",IF(VLOOKUP(J66,漢字書き!$A$2:$N$502,7,0)=0,\"\",VLOOKUP(J66,漢字書き!$A$2:$N$502,7,0)))","v":""},{"$f":"IF(K66=\"\",\"\",IF(VLOOKUP(K66,漢字読み!$A$2:$O$502,7,0)=0,\"\",VLOOKUP(K66,漢字読み!$A$2:$O$502,7,0)))","v":""},{"$f":"IF(L66=\"\",\"\",IF(VLOOKUP(L66,漢字読み!$A$2:$O$502,7,0)=0,\"\",VLOOKUP(L66,漢字読み!$A$2:$O$502,7,0)))","v":"する"},{"$f":"IF(M66=\"\",\"\",IF(VLOOKUP(M66,漢字読み!$A$2:$O$502,7,0)=0,\"\",VLOOKUP(M66,漢字読み!$A$2:$O$502,7,0)))","v":""},{"$f":"IF(N66=\"\",\"\",IF(VLOOKUP(N66,漢字読み!$A$2:$O$502,7,0)=0,\"\",VLOOKUP(N66,漢字読み!$A$2:$O$502,7,0)))","v":""},{"$f":"IF(O66=\"\",\"\",IF(VLOOKUP(O66,漢字読み!$A$2:$O$502,7,0)=0,\"\",VLOOKUP(O66,漢字読み!$A$2:$O$502,7,0)))","v":"ち"},{"$f":"IF(P66=\"\",\"\",IF(VLOOKUP(P66,漢字読み!$A$2:$O$502,7,0)=0,\"\",VLOOKUP(P66,漢字読み!$A$2:$O$502,7,0)))","v":""},{"$f":"IF(Q66=\"\",\"\",IF(VLOOKUP(Q66,漢字読み!$A$2:$O$502,7,0)=0,\"\",VLOOKUP(Q66,漢字読み!$A$2:$O$502,7,0)))","v":""},{"$f":"IF(R66=\"\",\"\",IF(VLOOKUP(R66,漢字読み!$A$2:$O$502,7,0)=0,\"\",VLOOKUP(R66,漢字読み!$A$2:$O$502,7,0)))","v":""},{"$f":"IF(S66=\"\",\"\",IF(VLOOKUP(S66,漢字読み!$A$2:$O$502,7,0)=0,\"\",VLOOKUP(S66,漢字読み!$A$2:$O$502,7,0)))","v":"する"},{"$f":"IF(T66=\"\",\"\",IF(VLOOKUP(T66,漢字読み!$A$2:$O$502,7,0)=0,\"\",VLOOKUP(T66,漢字読み!$A$2:$O$502,7,0)))","v":"る"},null,null,"和歌山県教育委員会"]
[{"$f":"A61","v":43},15,69,25,6,73,232,215,217,94,14,196,7,238,34,211,202,104,183,145]
["⑳","⑲","⑱","⑰","⑯","⑮","⑭","⑬","⑫","⑪","⑩","⑨","⑧","⑦","⑥","⑤","④","③","②","①","次の［　　　　］の部分の漢字には読みがなをひらがなで書き、カタカナは漢字に直しなさい。",12,"「漢字の博士検定試験」練習問題　"]
[{"$f":"IF(A71=\"\",\"\",VLOOKUP(A71,漢字書き!$A$2:$N$506,6,0))","v":"台風三［ゴウ］が来る"},{"$f":"IF(B71=\"\",\"\",VLOOKUP(B71,漢字書き!$A$2:$N$506,6,0))","v":"安全に［カカ］る"},{"$f":"IF(C71=\"\",\"\",VLOOKUP(C71,漢字書き!$A$2:$N$506,6,0))","v":"去年に［ツ］ぐ出場"},{"$f":"IF(D71=\"\",\"\",VLOOKUP(D71,漢字書き!$A$2:$N$506,6,0))","v":"自由［ケンキュウ］をする"},{"$f":"IF(E71=\"\",\"\",VLOOKUP(E71,漢字書き!$A$2:$N$506,6,0))","v":"［クシン］して作る"},{"$f":"IF(F71=\"\",\"\",VLOOKUP(F71,漢字書き!$A$2:$N$506,6,0))","v":"にもつを［モ］つ"},{"$f":"IF(G71=\"\",\"\",VLOOKUP(G71,漢字書き!$A$2:$N$506,6,0))","v":"ボールを［ナ］げる"},{"$f":"IF(H71=\"\",\"\",VLOOKUP(H71,漢字書き!$A$2:$N$506,6,0))","v":"注文を［ツイ］かする"},{"$f":"IF(I71=\"\",\"\",VLOOKUP(I71,漢字書き!$A$2:$N$506,6,0))","v":"生活が［アンテイ］する"},{"$f":"IF(J71=\"\",\"\",VLOOKUP(J71,漢字書き!$A$2:$N$506,6,0))","v":"お［サケ］を飲む"},{"$f":"IF(K71=\"\",\"\",VLOOKUP(K71,漢字読み!$A$2:$O$506,6,0))","v":"自分にかん［係］ない"},{"$f":"IF(L71=\"\",\"\",VLOOKUP(L71,漢字読み!$A$2:$O$506,6,0))","v":"先生に［相談］をする"},{"$f":"IF(M71=\"\",\"\",VLOOKUP(M71,漢字読み!$A$2:$O$506,6,0))","v":"息が［苦］しい"},{"$f":"IF(N71=\"\",\"\",VLOOKUP(N71,漢字読み!$A$2:$O$506,6,0))","v":"［投手］の活やく"},{"$f":"IF(O71=\"\",\"\",VLOOKUP(O71,漢字読み!$A$2:$O$506,6,0))","v":"［向］かい風の中"},{"$f":"IF(P71=\"\",\"\",VLOOKUP(P71,漢字読み!$A$2:$O$506,6,0))","v":"［調子］が悪い"},{"$f":"IF(Q71=\"\",\"\",VLOOKUP(Q71,漢字読み!$A$2:$O$506,6,0))","v":"先生に［注目］する"},{"$f":"IF(R71=\"\",\"\",VLOOKUP(R71,漢字読み!$A$2:$O$506,6,0))","v":"土地の［習］わし"},{"$f":"IF(S71=\"\",\"\",VLOOKUP(S71,漢字読み!$A$2:$O$506,6,0))","v":"［世代］がちがう"},{"$f":"IF(T71=\"\",\"\",VLOOKUP(T71,漢字読み!$A$2:$O$506,6,0))","v":"［深夜］の町"},null,"級"]
[{"$f":"IF(A$11=\"\",\"\",VLOOKUP(A71,漢字書き!$A$2:$O$506,8,0))","v":"号"},{"$f":"IF(B$11=\"\",\"\",VLOOKUP(B71,漢字書き!$A$2:$O$506,8,0))","v":"係"},{"$f":"IF(C$11=\"\",\"\",VLOOKUP(C71,漢字書き!$A$2:$O$506,8,0))","v":"次"},{"$f":"IF(D$11=\"\",\"\",VLOOKUP(D71,漢字書き!$A$2:$O$506,8,0))","v":"研究"},{"$f":"IF(E$11=\"\",\"\",VLOOKUP(E71,漢字書き!$A$2:$O$506,8,0))","v":"苦心"},{"$f":"IF(F$11=\"\",\"\",VLOOKUP(F71,漢字書き!$A$2:$O$506,8,0))","v":"持"},{"$f":"IF(G$11=\"\",\"\",VLOOKUP(G71,漢字書き!$A$2:$O$506,8,0))","v":"投"},{"$f":"IF(H$11=\"\",\"\",VLOOKUP(H71,漢字書き!$A$2:$O$506,8,0))","v":"追"},{"$f":"IF(I$11=\"\",\"\",VLOOKUP(I71,漢字書き!$A$2:$O$506,8,0))","v":"安定"},{"$f":"IF(J$11=\"\",\"\",VLOOKUP(J71,漢字書き!$A$2:$O$506,8,0))","v":"酒"},{"$f":"IF(K$11=\"\",\"\",VLOOKUP(K71,漢字読み!$A$2:$O$506,8,0))","v":"けい"},{"$f":"IF(L$11=\"\",\"\",VLOOKUP(L71,漢字読み!$A$2:$O$506,8,0))","v":"そうだん"},{"$f":"IF(M$11=\"\",\"\",VLOOKUP(M71,漢字読み!$A$2:$O$506,8,0))","v":"くる"},{"$f":"IF(N$11=\"\",\"\",VLOOKUP(N71,漢字読み!$A$2:$O$506,8,0))","v":"とうしゅ"},{"$f":"IF(O$11=\"\",\"\",VLOOKUP(O71,漢字読み!$A$2:$O$506,8,0))","v":"む"},{"$f":"IF(P$11=\"\",\"\",VLOOKUP(P71,漢字読み!$A$2:$O$506,8,0))","v":"ちょうし"},{"$f":"IF(Q$11=\"\",\"\",VLOOKUP(Q71,漢字読み!$A$2:$O$506,8,0))","v":"ちゅうもく"},{"$f":"IF(R$11=\"\",\"\",VLOOKUP(R71,漢字読み!$A$2:$O$506,8,0))","v":"なら"},{"$f":"IF(S$11=\"\",\"\",VLOOKUP(S71,漢字読み!$A$2:$O$506,8,0))","v":"せだい"},{"$f":"IF(T$11=\"\",\"\",VLOOKUP(T71,漢字読み!$A$2:$O$506,8,0))","v":"しんや"},null,"名前"]
[{"$f":"IF(A71=\"\",\"\",IF(VLOOKUP(A71,漢字書き!$A$2:$N$502,7,0)=0,\"\",VLOOKUP(A71,漢字書き!$A$2:$N$502,7,0)))","v":""},{"$f":"IF(B71=\"\",\"\",IF(VLOOKUP(B71,漢字書き!$A$2:$N$502,7,0)=0,\"\",VLOOKUP(B71,漢字書き!$A$2:$N$502,7,0)))","v":"る"},{"$f":"IF(C71=\"\",\"\",IF(VLOOKUP(C71,漢字書き!$A$2:$N$502,7,0)=0,\"\",VLOOKUP(C71,漢字書き!$A$2:$N$502,7,0)))","v":"ぐ"},{"$f":"IF(D71=\"\",\"\",IF(VLOOKUP(D71,漢字書き!$A$2:$N$502,7,0)=0,\"\",VLOOKUP(D71,漢字書き!$A$2:$N$502,7,0)))","v":""},{"$f":"IF(E71=\"\",\"\",IF(VLOOKUP(E71,漢字書き!$A$2:$N$502,7,0)=0,\"\",VLOOKUP(E71,漢字書き!$A$2:$N$502,7,0)))","v":"して"},{"$f":"IF(F71=\"\",\"\",IF(VLOOKUP(F71,漢字書き!$A$2:$N$502,7,0)=0,\"\",VLOOKUP(F71,漢字書き!$A$2:$N$502,7,0)))","v":"つ"},{"$f":"IF(G71=\"\",\"\",IF(VLOOKUP(G71,漢字書き!$A$2:$N$502,7,0)=0,\"\",VLOOKUP(G71,漢字書き!$A$2:$N$502,7,0)))","v":"げる"},{"$f":"IF(H71=\"\",\"\",IF(VLOOKUP(H71,漢字書き!$A$2:$N$502,7,0)=0,\"\",VLOOKUP(H71,漢字書き!$A$2:$N$502,7,0)))","v":"か"},{"$f":"IF(I71=\"\",\"\",IF(VLOOKUP(I71,漢字書き!$A$2:$N$502,7,0)=0,\"\",VLOOKUP(I71,漢字書き!$A$2:$N$502,7,0)))","v":"する"},{"$f":"IF(J71=\"\",\"\",IF(VLOOKUP(J71,漢字書き!$A$2:$N$502,7,0)=0,\"\",VLOOKUP(J71,漢字書き!$A$2:$N$502,7,0)))","v":""},{"$f":"IF(K71=\"\",\"\",IF(VLOOKUP(K71,漢字読み!$A$2:$O$502,7,0)=0,\"\",VLOOKUP(K71,漢字読み!$A$2:$O$502,7,0)))","v":"ない"},{"$f":"IF(L71=\"\",\"\",IF(VLOOKUP(L71,漢字読み!$A$2:$O$502,7,0)=0,\"\",VLOOKUP(L71,漢字読み!$A$2:$O$502,7,0)))","v":""},{"$f":"IF(M71=\"\",\"\",IF(VLOOKUP(M71,漢字読み!$A$2:$O$502,7,0)=0,\"\",VLOOKUP(M71,漢字読み!$A$2:$O$502,7,0)))","v":"しい"},{"$f":"IF(N71=\"\",\"\",IF(VLOOKUP(N71,漢字読み!$A$2:$O$502,7,0)=0,\"\",VLOOKUP(N71,漢字読み!$A$2:$O$502,7,0)))","v":""},{"$f":"IF(O71=\"\",\"\",IF(VLOOKUP(O71,漢字読み!$A$2:$O$502,7,0)=0,\"\",VLOOKUP(O71,漢字読み!$A$2:$O$502,7,0)))","v":"かい"},{"$f":"IF(P71=\"\",\"\",IF(VLOOKUP(P71,漢字読み!$A$2:$O$502,7,0)=0,\"\",VLOOKUP(P71,漢字読み!$A$2:$O$502,7,0)))","v":""},{"$f":"IF(Q71=\"\",\"\",IF(VLOOKUP(Q71,漢字読み!$A$2:$O$502,7,0)=0,\"\",VLOOKUP(Q71,漢字読み!$A$2:$O$502,7,0)))","v":"する"},{"$f":"IF(R71=\"\",\"\",IF(VLOOKUP(R71,漢字読み!$A$2:$O$502,7,0)=0,\"\",VLOOKUP(R71,漢字読み!$A$2:$O$502,7,0)))","v":"わし"},{"$f":"IF(S71=\"\",\"\",IF(VLOOKUP(S71,漢字読み!$A$2:$O$502,7,0)=0,\"\",VLOOKUP(S71,漢字読み!$A$2:$O$502,7,0)))","v":""},{"$f":"IF(T71=\"\",\"\",IF(VLOOKUP(T71,漢字読み!$A$2:$O$502,7,0)=0,\"\",VLOOKUP(T71,漢字読み!$A$2:$O$502,7,0)))","v":""},null,null,"和歌山県教育委員会"]
[{"$f":"A66","v":162},44,167,154,116,174,145,113,231,80,171,123,221,230,180,26,168,86,147,16]
["⑳","⑲","⑱","⑰","⑯","⑮","⑭","⑬","⑫","⑪","⑩","⑨","⑧","⑦","⑥","⑤","④","③","②","①","次の［　　　　］の部分の漢字には読みがなをひらがなで書き、カタカナは漢字に直しなさい。",12,"「漢字の博士検定試験」練習問題　"]
[{"$f":"IF(A76=\"\",\"\",VLOOKUP(A76,漢字書き!$A$2:$N$506,6,0))","v":"［ゼンタイ］を考える"},{"$f":"IF(B76=\"\",\"\",VLOOKUP(B76,漢字書き!$A$2:$N$506,6,0))","v":"花の［キュウコン］"},{"$f":"IF(C76=\"\",\"\",VLOOKUP(C76,漢字書き!$A$2:$N$506,6,0))","v":"メールを［ソウ］しんする"},{"$f":"IF(D76=\"\",\"\",VLOOKUP(D76,漢字書き!$A$2:$N$506,6,0))","v":"話を［スス］める"},{"$f":"IF(E76=\"\",\"\",VLOOKUP(E76,漢字書き!$A$2:$N$506,6,0))","v":"茶わんを［カサ］ねる"},{"$f":"IF(F76=\"\",\"\",VLOOKUP(F76,漢字書き!$A$2:$N$506,6,0))","v":"スピードが［ハヤ］まる"},{"$f":"IF(G76=\"\",\"\",VLOOKUP(G76,漢字書き!$A$2:$N$506,6,0))","v":"［カミ］さまをおがむ"},{"$f":"IF(H76=\"\",\"\",VLOOKUP(H76,漢字書き!$A$2:$N$506,6,0))","v":"［タイジュウ］をはかる"},{"$f":"IF(I76=\"\",\"\",VLOOKUP(I76,漢字書き!$A$2:$N$506,6,0))","v":"野きゅうの［トウシュ］"},{"$f":"IF(J76=\"\",\"\",VLOOKUP(J76,漢字書き!$A$2:$N$506,6,0))","v":"記ねん［シャシン］"},{"$f":"IF(K76=\"\",\"\",VLOOKUP(K76,漢字読み!$A$2:$O$506,6,0))","v":"［水族館］に行く"},{"$f":"IF(L76=\"\",\"\",VLOOKUP(L76,漢字読み!$A$2:$O$506,6,0))","v":"早く［消火］する"},{"$f":"IF(M76=\"\",\"\",VLOOKUP(M76,漢字読み!$A$2:$O$506,6,0))","v":"［庭］の草をぬく"},{"$f":"IF(N76=\"\",\"\",VLOOKUP(N76,漢字読み!$A$2:$O$506,6,0))","v":"［回転］木馬"},{"$f":"IF(O76=\"\",\"\",VLOOKUP(O76,漢字読み!$A$2:$O$506,6,0))","v":"［待］ちぼうけをくらう"},{"$f":"IF(P76=\"\",\"\",VLOOKUP(P76,漢字読み!$A$2:$O$506,6,0))","v":"［県］の公園"},{"$f":"IF(Q76=\"\",\"\",VLOOKUP(Q76,漢字読み!$A$2:$O$506,6,0))","v":"［時速］六十キロ"},{"$f":"IF(R76=\"\",\"\",VLOOKUP(R76,漢字読み!$A$2:$O$506,6,0))","v":"［何者］かがいる"},{"$f":"IF(S76=\"\",\"\",VLOOKUP(S76,漢字読み!$A$2:$O$506,6,0))","v":"日々［進歩］する"},{"$f":"IF(T76=\"\",\"\",VLOOKUP(T76,漢字読み!$A$2:$O$506,6,0))","v":"この語は下の語に［係］る"},null,"級"]
[{"$f":"IF(A$16=\"\",\"\",VLOOKUP(A76,漢字書き!$A$2:$O$506,8,0))","v":"全体"},{"$f":"IF(B$16=\"\",\"\",VLOOKUP(B76,漢字書き!$A$2:$O$506,8,0))","v":"球根"},{"$f":"IF(C$16=\"\",\"\",VLOOKUP(C76,漢字書き!$A$2:$O$506,8,0))","v":"送"},{"$f":"IF(D$16=\"\",\"\",VLOOKUP(D76,漢字書き!$A$2:$O$506,8,0))","v":"進"},{"$f":"IF(E$16=\"\",\"\",VLOOKUP(E76,漢字書き!$A$2:$O$506,8,0))","v":"重"},{"$f":"IF(F$16=\"\",\"\",VLOOKUP(F76,漢字書き!$A$2:$O$506,8,0))","v":"速"},{"$f":"IF(G$16=\"\",\"\",VLOOKUP(G76,漢字書き!$A$2:$O$506,8,0))","v":"神"},{"$f":"IF(H$16=\"\",\"\",VLOOKUP(H76,漢字書き!$A$2:$O$506,8,0))","v":"体重"},{"$f":"IF(I$16=\"\",\"\",VLOOKUP(I76,漢字書き!$A$2:$O$506,8,0))","v":"投手"},{"$f":"IF(J$16=\"\",\"\",VLOOKUP(J76,漢字書き!$A$2:$O$506,8,0))","v":"写真"},{"$f":"IF(K$16=\"\",\"\",VLOOKUP(K76,漢字読み!$A$2:$O$506,8,0))","v":"すいぞくかん"},{"$f":"IF(L$16=\"\",\"\",VLOOKUP(L76,漢字読み!$A$2:$O$506,8,0))","v":"しょうか"},{"$f":"IF(M$16=\"\",\"\",VLOOKUP(M76,漢字読み!$A$2:$O$506,8,0))","v":"にわ"},{"$f":"IF(N$16=\"\",\"\",VLOOKUP(N76,漢字読み!$A$2:$O$506,8,0))","v":"かいてん"},{"$f":"IF(O$16=\"\",\"\",VLOOKUP(O76,漢字読み!$A$2:$O$506,8,0))","v":"ま"},{"$f":"IF(P$16=\"\",\"\",VLOOKUP(P76,漢字読み!$A$2:$O$506,8,0))","v":"けん"},{"$f":"IF(Q$16=\"\",\"\",VLOOKUP(Q76,漢字読み!$A$2:$O$506,8,0))","v":"じそく"},{"$f":"IF(R$16=\"\",\"\",VLOOKUP(R76,漢字読み!$A$2:$O$506,8,0))","v":"なにもの"},{"$f":"IF(S$16=\"\",\"\",VLOOKUP(S76,漢字読み!$A$2:$O$506,8,0))","v":"しんぽ"},{"$f":"IF(T$16=\"\",\"\",VLOOKUP(T76,漢字読み!$A$2:$O$506,8,0))","v":"かか"},null,"名前"]
[{"$f":"IF(A76=\"\",\"\",IF(VLOOKUP(A76,漢字書き!$A$2:$N$502,7,0)=0,\"\",VLOOKUP(A76,漢字書き!$A$2:$N$502,7,0)))","v":""},{"$f":"IF(B76=\"\",\"\",IF(VLOOKUP(B76,漢字書き!$A$2:$N$502,7,0)=0,\"\",VLOOKUP(B76,漢字書き!$A$2:$N$502,7,0)))","v":""},{"$f":"IF(C76=\"\",\"\",IF(VLOOKUP(C76,漢字書き!$A$2:$N$502,7,0)=0,\"\",VLOOKUP(C76,漢字書き!$A$2:$N$502,7,0)))","v":"しん"},{"$f":"IF(D76=\"\",\"\",IF(VLOOKUP(D76,漢字書き!$A$2:$N$502,7,0)=0,\"\",VLOOKUP(D76,漢字書き!$A$2:$N$502,7,0)))","v":"める"},{"$f":"IF(E76=\"\",\"\",IF(VLOOKUP(E76,漢字書き!$A$2:$N$502,7,0)=0,\"\",VLOOKUP(E76,漢字書き!$A$2:$N$502,7,0)))","v":"ねる"},{"$f":"IF(F76=\"\",\"\",IF(VLOOKUP(F76,漢字書き!$A$2:$N$502,7,0)=0,\"\",VLOOKUP(F76,漢字書き!$A$2:$N$502,7,0)))","v":"まる"},{"$f":"IF(G76=\"\",\"\",IF(VLOOKUP(G76,漢字書き!$A$2:$N$502,7,0)=0,\"\",VLOOKUP(G76,漢字書き!$A$2:$N$502,7,0)))","v":"さま"},{"$f":"IF(H76=\"\",\"\",IF(VLOOKUP(H76,漢字書き!$A$2:$N$502,7,0)=0,\"\",VLOOKUP(H76,漢字書き!$A$2:$N$502,7,0)))","v":""},{"$f":"IF(I76=\"\",\"\",IF(VLOOKUP(I76,漢字書き!$A$2:$N$502,7,0)=0,\"\",VLOOKUP(I76,漢字書き!$A$2:$N$502,7,0)))","v":""},{"$f":"IF(J76=\"\",\"\",IF(VLOOKUP(J76,漢字書き!$A$2:$N$502,7,0)=0,\"\",VLOOKUP(J76,漢字書き!$A$2:$N$502,7,0)))","v":""},{"$f":"IF(K76=\"\",\"\",IF(VLOOKUP(K76,漢字読み!$A$2:$O$502,7,0)=0,\"\",VLOOKUP(K76,漢字読み!$A$2:$O$502,7,0)))","v":""},{"$f":"IF(L76=\"\",\"\",IF(VLOOKUP(L76,漢字読み!$A$2:$O$502,7,0)=0,\"\",VLOOKUP(L76,漢字読み!$A$2:$O$502,7,0)))","v":"する"},{"$f":"IF(M76=\"\",\"\",IF(VLOOKUP(M76,漢字読み!$A$2:$O$502,7,0)=0,\"\",VLOOKUP(M76,漢字読み!$A$2:$O$502,7,0)))","v":""},{"$f":"IF(N76=\"\",\"\",IF(VLOOKUP(N76,漢字読み!$A$2:$O$502,7,0)=0,\"\",VLOOKUP(N76,漢字読み!$A$2:$O$502,7,0)))","v":""},{"$f":"IF(O76=\"\",\"\",IF(VLOOKUP(O76,漢字読み!$A$2:$O$502,7,0)=0,\"\",VLOOKUP(O76,漢字読み!$A$2:$O$502,7,0)))","v":"ち"},{"$f":"IF(P76=\"\",\"\",IF(VLOOKUP(P76,漢字読み!$A$2:$O$502,7,0)=0,\"\",VLOOKUP(P76,漢字読み!$A$2:$O$502,7,0)))","v":""},{"$f":"IF(Q76=\"\",\"\",IF(VLOOKUP(Q76,漢字読み!$A$2:$O$502,7,0)=0,\"\",VLOOKUP(Q76,漢字読み!$A$2:$O$502,7,0)))","v":""},{"$f":"IF(R76=\"\",\"\",IF(VLOOKUP(R76,漢字読み!$A$2:$O$502,7,0)=0,\"\",VLOOKUP(R76,漢字読み!$A$2:$O$502,7,0)))","v":""},{"$f":"IF(S76=\"\",\"\",IF(VLOOKUP(S76,漢字読み!$A$2:$O$502,7,0)=0,\"\",VLOOKUP(S76,漢字読み!$A$2:$O$502,7,0)))","v":"する"},{"$f":"IF(T76=\"\",\"\",IF(VLOOKUP(T76,漢字読み!$A$2:$O$502,7,0)=0,\"\",VLOOKUP(T76,漢字読み!$A$2:$O$502,7,0)))","v":"る"},null,null,"和歌山県教育委員会"]
[{"$f":"INDIRECT(\"'関数（書き）'!C\" & COLUMN(B$1)+SUM($AD$2:$AD82))","v":18},{"$f":"INDIRECT(\"'関数（書き）'!C\" & COLUMN(C$1)+SUM($AD$2:$AD82))","v":221},{"$f":"INDIRECT(\"'関数（書き）'!C\" & COLUMN(D$1)+SUM($AD$2:$AD82))","v":175},{"$f":"INDIRECT(\"'関数（書き）'!C\" & COLUMN(E$1)+SUM($AD$2:$AD82))","v":33},{"$f":"INDIRECT(\"'関数（書き）'!C\" & COLUMN(F$1)+SUM($AD$2:$AD82))","v":195},{"$f":"INDIRECT(\"'関数（書き）'!C\" & COLUMN(G$1)+SUM($AD$2:$AD82))","v":148},{"$f":"INDIRECT(\"'関数（書き）'!C\" & COLUMN(H$1)+SUM($AD$2:$AD82))","v":111},{"$f":"INDIRECT(\"'関数（書き）'!C\" & COLUMN(I$1)+SUM($AD$2:$AD82))","v":53},{"$f":"INDIRECT(\"'関数（書き）'!C\" & COLUMN(J$1)+SUM($AD$2:$AD82))","v":122},{"$f":"INDIRECT(\"'関数（書き）'!C\" & COLUMN(K$1)+SUM($AD$2:$AD82))","v":8},{"$f":"INDIRECT(\"'関数（読み）'!C\" & COLUMN(B$1)+SUM($AD$2:$AD82))","v":43},{"$f":"INDIRECT(\"'関数（読み）'!C\" & COLUMN(C$1)+SUM($AD$2:$AD82))","v":237},{"$f":"INDIRECT(\"'関数（読み）'!C\" & COLUMN(D$1)+SUM($AD$2:$AD82))","v":48},{"$f":"INDIRECT(\"'関数（読み）'!C\" & COLUMN(E$1)+SUM($AD$2:$AD82))","v":74},{"$f":"INDIRECT(\"'関数（読み）'!C\" & COLUMN(F$1)+SUM($AD$2:$AD82))","v":13},{"$f":"INDIRECT(\"'関数（読み）'!C\" & COLUMN(G$1)+SUM($AD$2:$AD82))","v":218},{"$f":"INDIRECT(\"'関数（読み）'!C\" & COLUMN(H$1)+SUM($AD$2:$AD82))","v":47},{"$f":"INDIRECT(\"'関数（読み）'!C\" & COLUMN(I$1)+SUM($AD$2:$AD82))","v":64},{"$f":"INDIRECT(\"'関数（読み）'!C\" & COLUMN(J$1)+SUM($AD$2:$AD82))","v":81},{"$f":"INDIRECT(\"'関数（読み）'!C\" & COLUMN(K$1)+SUM($AD$2:$AD82))","v":129}]
["⑳","⑲","⑱","⑰","⑯","⑮","⑭","⑬","⑫","⑪","⑩","⑨","⑧","⑦","⑥","⑤","④","③","②","①","次の［　　　　］の部分の漢字には読みがなをひらがなで書き、カタカナは漢字に直しなさい。",12,"「漢字の博士検定試験」練習問題　",null,null,null,null,null,"←",10,"問",{"$f":"AH67+1","v":81},"～",{"$f":"SUM($AD$2:$AD82)+10","v":90},"問まで",{"$f":"COUNTIF($A$1:$T$200,T83)","v":2}]
[{"$f":"IF(A81=\"\",\"\",VLOOKUP(A81,漢字書き!$A$2:$N$506,6,0))","v":"［カル］く考えすぎた"},{"$f":"IF(B81=\"\",\"\",VLOOKUP(B81,漢字書き!$A$2:$N$506,6,0))","v":"船の［キテキ］がひびく"},{"$f":"IF(C81=\"\",\"\",VLOOKUP(C81,漢字書き!$A$2:$N$506,6,0))","v":"［カゾク］で出かける"},{"$f":"IF(D81=\"\",\"\",VLOOKUP(D81,漢字書き!$A$2:$N$506,6,0))","v":"学力の［コウジョウ］"},{"$f":"IF(E81=\"\",\"\",VLOOKUP(E81,漢字書き!$A$2:$N$506,6,0))","v":"［ミジカ］いえんぴつ"},{"$f":"IF(F81=\"\",\"\",VLOOKUP(F81,漢字書き!$A$2:$N$506,6,0))","v":"［マゴコロ］がつたわる"},{"$f":"IF(G81=\"\",\"\",VLOOKUP(G81,漢字書き!$A$2:$N$506,6,0))","v":"［ジュウショ］を書く"},{"$f":"IF(H81=\"\",\"\",VLOOKUP(H81,漢字書き!$A$2:$N$506,6,0))","v":"ひっ［シ］で走る"},{"$f":"IF(I81=\"\",\"\",VLOOKUP(I81,漢字書き!$A$2:$N$506,6,0))","v":"［トコロ］によって雨"},{"$f":"IF(J81=\"\",\"\",VLOOKUP(J81,漢字書き!$A$2:$N$506,6,0))","v":"［ニガ］いくすり"},{"$f":"IF(K81=\"\",\"\",VLOOKUP(K81,漢字読み!$A$2:$O$506,6,0))","v":"チューリップの［球根］"},{"$f":"IF(L81=\"\",\"\",VLOOKUP(L81,漢字読み!$A$2:$O$506,6,0))","v":"［感度］を上げる"},{"$f":"IF(M81=\"\",\"\",VLOOKUP(M81,漢字読み!$A$2:$O$506,6,0))","v":"［皿］をわる"},{"$f":"IF(N81=\"\",\"\",VLOOKUP(N81,漢字読み!$A$2:$O$506,6,0))","v":"先生の［仕事］"},{"$f":"IF(O81=\"\",\"\",VLOOKUP(O81,漢字読み!$A$2:$O$506,6,0))","v":"［君］のとなり"},{"$f":"IF(P81=\"\",\"\",VLOOKUP(P81,漢字読み!$A$2:$O$506,6,0))","v":"本当か［定］かではない"},{"$f":"IF(Q81=\"\",\"\",VLOOKUP(Q81,漢字読み!$A$2:$O$506,6,0))","v":"［祭］りばやし"},{"$f":"IF(R81=\"\",\"\",VLOOKUP(R81,漢字読み!$A$2:$O$506,6,0))","v":"コンパスが北を［指］す"},{"$f":"IF(S81=\"\",\"\",VLOOKUP(S81,漢字読み!$A$2:$O$506,6,0))","v":"木の［実］をとる"},{"$f":"IF(T81=\"\",\"\",VLOOKUP(T81,漢字読み!$A$2:$O$506,6,0))","v":"［全勝］をする"},null,"級"]
[null,null,null,null,null,null,null,null,null,null,null,null,null,null,null,null,null,null,null,null,null,"名前"]
[{"$f":"IF(A81=\"\",\"\",IF(VLOOKUP(A81,漢字書き!$A$2:$N$502,7,0)=0,\"\",VLOOKUP(A81,漢字書き!$A$2:$N$502,7,0)))","v":"く"},{"$f":"IF(B81=\"\",\"\",IF(VLOOKUP(B81,漢字書き!$A$2:$N$502,7,0)=0,\"\",VLOOKUP(B81,漢字書き!$A$2:$N$502,7,0)))","v":""},{"$f":"IF(C81=\"\",\"\",IF(VLOOKUP(C81,漢字書き!$A$2:$N$502,7,0)=0,\"\",VLOOKUP(C81,漢字書き!$A$2:$N$502,7,0)))","v":""},{"$f":"IF(D81=\"\",\"\",IF(VLOOKUP(D81,漢字書き!$A$2:$N$502,7,0)=0,\"\",VLOOKUP(D81,漢字書き!$A$2:$N$502,7,0)))","v":""},{"$f":"IF(E81=\"\",\"\",IF(VLOOKUP(E81,漢字書き!$A$2:$N$502,7,0)=0,\"\",VLOOKUP(E81,漢字書き!$A$2:$N$502,7,0)))","v":"い"},{"$f":"IF(F81=\"\",\"\",IF(VLOOKUP(F81,漢字書き!$A$2:$N$502,7,0)=0,\"\",VLOOKUP(F81,漢字書き!$A$2:$N$502,7,0)))","v":""},{"$f":"IF(G81=\"\",\"\",IF(VLOOKUP(G81,漢字書き!$A$2:$N$502,7,0)=0,\"\",VLOOKUP(G81,漢字書き!$A$2:$N$502,7,0)))","v":""},{"$f":"IF(H81=\"\",\"\",IF(VLOOKUP(H81,漢字書き!$A$2:$N$502,7,0)=0,\"\",VLOOKUP(H81,漢字書き!$A$2:$N$502,7,0)))","v":""},{"$f":"IF(I81=\"\",\"\",IF(VLOOKUP(I81,漢字書き!$A$2:$N$502,7,0)=0,\"\",VLOOKUP(I81,漢字書き!$A$2:$N$502,7,0)))","v":""},{"$f":"IF(J81=\"\",\"\",IF(VLOOKUP(J81,漢字書き!$A$2:$N$502,7,0)=0,\"\",VLOOKUP(J81,漢字書き!$A$2:$N$502,7,0)))","v":"い"},{"$f":"IF(K81=\"\",\"\",IF(VLOOKUP(K81,漢字読み!$A$2:$O$502,7,0)=0,\"\",VLOOKUP(K81,漢字読み!$A$2:$O$502,7,0)))","v":""},{"$f":"IF(L81=\"\",\"\",IF(VLOOKUP(L81,漢字読み!$A$2:$O$502,7,0)=0,\"\",VLOOKUP(L81,漢字読み!$A$2:$O$502,7,0)))","v":""},{"$f":"IF(M81=\"\",\"\",IF(VLOOKUP(M81,漢字読み!$A$2:$O$502,7,0)=0,\"\",VLOOKUP(M81,漢字読み!$A$2:$O$502,7,0)))","v":""},{"$f":"IF(N81=\"\",\"\",IF(VLOOKUP(N81,漢字読み!$A$2:$O$502,7,0)=0,\"\",VLOOKUP(N81,漢字読み!$A$2:$O$502,7,0)))","v":""},{"$f":"IF(O81=\"\",\"\",IF(VLOOKUP(O81,漢字読み!$A$2:$O$502,7,0)=0,\"\",VLOOKUP(O81,漢字読み!$A$2:$O$502,7,0)))","v":""},{"$f":"IF(P81=\"\",\"\",IF(VLOOKUP(P81,漢字読み!$A$2:$O$502,7,0)=0,\"\",VLOOKUP(P81,漢字読み!$A$2:$O$502,7,0)))","v":"か"},{"$f":"IF(Q81=\"\",\"\",IF(VLOOKUP(Q81,漢字読み!$A$2:$O$502,7,0)=0,\"\",VLOOKUP(Q81,漢字読み!$A$2:$O$502,7,0)))","v":"り"},{"$f":"IF(R81=\"\",\"\",IF(VLOOKUP(R81,漢字読み!$A$2:$O$502,7,0)=0,\"\",VLOOKUP(R81,漢字読み!$A$2:$O$502,7,0)))","v":"す"},{"$f":"IF(S81=\"\",\"\",IF(VLOOKUP(S81,漢字読み!$A$2:$O$502,7,0)=0,\"\",VLOOKUP(S81,漢字読み!$A$2:$O$502,7,0)))","v":""},{"$f":"IF(T81=\"\",\"\",IF(VLOOKUP(T81,漢字読み!$A$2:$O$502,7,0)=0,\"\",VLOOKUP(T81,漢字読み!$A$2:$O$502,7,0)))","v":""},null,null,"和歌山県教育委員会"]
[{"$f":"INDIRECT(\"'関数（書き）'!C\" & COLUMN(B$1)+SUM($AD$2:$AD87))","v":22},{"$f":"INDIRECT(\"'関数（書き）'!C\" & COLUMN(C$1)+SUM($AD$2:$AD87))","v":134},{"$f":"INDIRECT(\"'関数（書き）'!C\" & COLUMN(D$1)+SUM($AD$2:$AD87))","v":177},{"$f":"INDIRECT(\"'関数（書き）'!C\" & COLUMN(E$1)+SUM($AD$2:$AD87))","v":36},{"$f":"INDIRECT(\"'関数（書き）'!C\" & COLUMN(F$1)+SUM($AD$2:$AD87))","v":29},{"$f":"INDIRECT(\"'関数（書き）'!C\" & COLUMN(G$1)+SUM($AD$2:$AD87))","v":20},{"$f":"INDIRECT(\"'関数（書き）'!C\" & COLUMN(H$1)+SUM($AD$2:$AD87))","v":165},{"$f":"INDIRECT(\"'関数（書き）'!C\" & COLUMN(I$1)+SUM($AD$2:$AD87))","v":136},{"$f":"INDIRECT(\"'関数（書き）'!C\" & COLUMN(J$1)+SUM($AD$2:$AD87))","v":126},{"$f":"INDIRECT(\"'関数（書き）'!C\" & COLUMN(K$1)+SUM($AD$2:$AD87))","v":157},{"$f":"INDIRECT(\"'関数（読み）'!C\" & COLUMN(B$1)+SUM($AD$2:$AD87))","v":169},{"$f":"INDIRECT(\"'関数（読み）'!C\" & COLUMN(C$1)+SUM($AD$2:$AD87))","v":75},{"$f":"INDIRECT(\"'関数（読み）'!C\" & COLUMN(D$1)+SUM($AD$2:$AD87))","v":115},{"$f":"INDIRECT(\"'関数（読み）'!C\" & COLUMN(E$1)+SUM($AD$2:$AD87))","v":52},{"$f":"INDIRECT(\"'関数（読み）'!C\" & COLUMN(F$1)+SUM($AD$2:$AD87))","v":151},{"$f":"INDIRECT(\"'関数（読み）'!C\" & COLUMN(G$1)+SUM($AD$2:$AD87))","v":189},{"$f":"INDIRECT(\"'関数（読み）'!C\" & COLUMN(H$1)+SUM($AD$2:$AD87))","v":29},{"$f":"INDIRECT(\"'関数（読み）'!C\" & COLUMN(I$1)+SUM($AD$2:$AD87))","v":120},{"$f":"INDIRECT(\"'関数（読み）'!C\" & COLUMN(J$1)+SUM($AD$2:$AD87))","v":176},{"$f":"INDIRECT(\"'関数（読み）'!C\" & COLUMN(K$1)+SUM($AD$2:$AD87))","v":149}]
["⑳","⑲","⑱","⑰","⑯","⑮","⑭","⑬","⑫","⑪","⑩","⑨","⑧","⑦","⑥","⑤","④","③","②","①","次の［　　　　］の部分の漢字には読みがなをひらがなで書き、カタカナは漢字に直しなさい。",12,"「漢字の博士検定試験」練習問題　",null,null,null,null,null,"←",10,"問",{"$f":"AH82+1","v":91},"～",{"$f":"SUM($AD$2:$AD87)+10","v":100},"問まで",{"$f":"COUNTIF($A$1:$T$200,T88)","v":2}]
[{"$f":"IF(A86=\"\",\"\",VLOOKUP(A86,漢字書き!$A$2:$N$506,6,0))","v":"けがで［チ］が出る"},{"$f":"IF(B86=\"\",\"\",VLOOKUP(B86,漢字書き!$A$2:$N$506,6,0))","v":"ジャンケンに［カ］つ"},{"$f":"IF(C86=\"\",\"\",VLOOKUP(C86,漢字書き!$A$2:$N$506,6,0))","v":"赤の［タニン］"},{"$f":"IF(D86=\"\",\"\",VLOOKUP(D86,漢字書き!$A$2:$N$506,6,0))","v":"学校に［ム］かう"},{"$f":"IF(E86=\"\",\"\",VLOOKUP(E86,漢字書き!$A$2:$N$506,6,0))","v":"そう［コ］にかたづける"},{"$f":"IF(F86=\"\",\"\",VLOOKUP(F86,漢字書き!$A$2:$N$506,6,0))","v":"[テガル]に持ち運ぶ"},{"$f":"IF(G86=\"\",\"\",VLOOKUP(G86,漢字書き!$A$2:$N$506,6,0))","v":"［テソウ］を見てうらなう"},{"$f":"IF(H86=\"\",\"\",VLOOKUP(H86,漢字書き!$A$2:$N$506,6,0))","v":"バスに［ノ］る"},{"$f":"IF(I86=\"\",\"\",VLOOKUP(I86,漢字書き!$A$2:$N$506,6,0))","v":"［ジョソウ］をつける"},{"$f":"IF(J86=\"\",\"\",VLOOKUP(J86,漢字書き!$A$2:$N$506,6,0))","v":"［ヨ］の中の仕組み"},{"$f":"IF(K86=\"\",\"\",VLOOKUP(K86,漢字読み!$A$2:$O$506,6,0))","v":"［速］く走る"},{"$f":"IF(L86=\"\",\"\",VLOOKUP(L86,漢字読み!$A$2:$O$506,6,0))","v":"新しい［事］がら"},{"$f":"IF(M86=\"\",\"\",VLOOKUP(M86,漢字読み!$A$2:$O$506,6,0))","v":"［所定］の場所におく"},{"$f":"IF(N86=\"\",\"\",VLOOKUP(N86,漢字読み!$A$2:$O$506,6,0))","v":"［生死］のさかいめ"},{"$f":"IF(O86=\"\",\"\",VLOOKUP(O86,漢字読み!$A$2:$O$506,6,0))","v":"本の［整理］をする"},{"$f":"IF(P86=\"\",\"\",VLOOKUP(P86,漢字読み!$A$2:$O$506,6,0))","v":"［宿題］をする"},{"$f":"IF(Q86=\"\",\"\",VLOOKUP(Q86,漢字読み!$A$2:$O$506,6,0))","v":"学級［文庫］"},{"$f":"IF(R86=\"\",\"\",VLOOKUP(R86,漢字読み!$A$2:$O$506,6,0))","v":"友だちを［助］ける"},{"$f":"IF(S86=\"\",\"\",VLOOKUP(S86,漢字読み!$A$2:$O$506,6,0))","v":"［対立］した意見"},{"$f":"IF(T86=\"\",\"\",VLOOKUP(T86,漢字読み!$A$2:$O$506,6,0))","v":"［世］の中に出る"},null,"級"]
[null,null,null,null,null,null,null,null,null,null,null,null,null,null,null,null,null,null,null,null,null,"名前"]
[{"$f":"IF(A86=\"\",\"\",IF(VLOOKUP(A86,漢字書き!$A$2:$N$502,7,0)=0,\"\",VLOOKUP(A86,漢字書き!$A$2:$N$502,7,0)))","v":""},{"$f":"IF(B86=\"\",\"\",IF(VLOOKUP(B86,漢字書き!$A$2:$N$502,7,0)=0,\"\",VLOOKUP(B86,漢字書き!$A$2:$N$502,7,0)))","v":"つ"},{"$f":"IF(C86=\"\",\"\",IF(VLOOKUP(C86,漢字書き!$A$2:$N$502,7,0)=0,\"\",VLOOKUP(C86,漢字書き!$A$2:$N$502,7,0)))","v":""},{"$f":"IF(D86=\"\",\"\",IF(VLOOKUP(D86,漢字書き!$A$2:$N$502,7,0)=0,\"\",VLOOKUP(D86,漢字書き!$A$2:$N$502,7,0)))","v":"かう"},{"$f":"IF(E86=\"\",\"\",IF(VLOOKUP(E86,漢字書き!$A$2:$N$502,7,0)=0,\"\",VLOOKUP(E86,漢字書き!$A$2:$N$502,7,0)))","v":""},{"$f":"IF(F86=\"\",\"\",IF(VLOOKUP(F86,漢字書き!$A$2:$N$502,7,0)=0,\"\",VLOOKUP(F86,漢字書き!$A$2:$N$502,7,0)))","v":"に"},{"$f":"IF(G86=\"\",\"\",IF(VLOOKUP(G86,漢字書き!$A$2:$N$502,7,0)=0,\"\",VLOOKUP(G86,漢字書き!$A$2:$N$502,7,0)))","v":""},{"$f":"IF(H86=\"\",\"\",IF(VLOOKUP(H86,漢字書き!$A$2:$N$502,7,0)=0,\"\",VLOOKUP(H86,漢字書き!$A$2:$N$502,7,0)))","v":"る"},{"$f":"IF(I86=\"\",\"\",IF(VLOOKUP(I86,漢字書き!$A$2:$N$502,7,0)=0,\"\",VLOOKUP(I86,漢字書き!$A$2:$N$502,7,0)))","v":""},{"$f":"IF(J86=\"\",\"\",IF(VLOOKUP(J86,漢字書き!$A$2:$N$502,7,0)=0,\"\",VLOOKUP(J86,漢字書き!$A$2:$N$502,7,0)))","v":"の中"},{"$f":"IF(K86=\"\",\"\",IF(VLOOKUP(K86,漢字読み!$A$2:$O$502,7,0)=0,\"\",VLOOKUP(K86,漢字読み!$A$2:$O$502,7,0)))","v":"く"},{"$f":"IF(L86=\"\",\"\",IF(VLOOKUP(L86,漢字読み!$A$2:$O$502,7,0)=0,\"\",VLOOKUP(L86,漢字読み!$A$2:$O$502,7,0)))","v":"がら"},{"$f":"IF(M86=\"\",\"\",IF(VLOOKUP(M86,漢字読み!$A$2:$O$502,7,0)=0,\"\",VLOOKUP(M86,漢字読み!$A$2:$O$502,7,0)))","v":""},{"$f":"IF(N86=\"\",\"\",IF(VLOOKUP(N86,漢字読み!$A$2:$O$502,7,0)=0,\"\",VLOOKUP(N86,漢字読み!$A$2:$O$502,7,0)))","v":""},{"$f":"IF(O86=\"\",\"\",IF(VLOOKUP(O86,漢字読み!$A$2:$O$502,7,0)=0,\"\",VLOOKUP(O86,漢字読み!$A$2:$O$502,7,0)))","v":""},{"$f":"IF(P86=\"\",\"\",IF(VLOOKUP(P86,漢字読み!$A$2:$O$502,7,0)=0,\"\",VLOOKUP(P86,漢字読み!$A$2:$O$502,7,0)))","v":""},{"$f":"IF(Q86=\"\",\"\",IF(VLOOKUP(Q86,漢字読み!$A$2:$O$502,7,0)=0,\"\",VLOOKUP(Q86,漢字読み!$A$2:$O$502,7,0)))","v":""},{"$f":"IF(R86=\"\",\"\",IF(VLOOKUP(R86,漢字読み!$A$2:$O$502,7,0)=0,\"\",VLOOKUP(R86,漢字読み!$A$2:$O$502,7,0)))","v":"ける"},{"$f":"IF(S86=\"\",\"\",IF(VLOOKUP(S86,漢字読み!$A$2:$O$502,7,0)=0,\"\",VLOOKUP(S86,漢字読み!$A$2:$O$502,7,0)))","v":"した"},{"$f":"IF(T86=\"\",\"\",IF(VLOOKUP(T86,漢字読み!$A$2:$O$502,7,0)=0,\"\",VLOOKUP(T86,漢字読み!$A$2:$O$502,7,0)))","v":"の中"},null,null,"和歌山県教育委員会"]
[{"$f":"A81","v":18},221,175,33,195,148,111,53,122,8,43,237,48,74,13,218,47,64,81,129]
["⑳","⑲","⑱","⑰","⑯","⑮","⑭","⑬","⑫","⑪","⑩","⑨","⑧","⑦","⑥","⑤","④","③","②","①","次の［　　　　］の部分の漢字には読みがなをひらがなで書き、カタカナは漢字に直しなさい。",12,"「漢字の博士検定試験」練習問題　"]
[{"$f":"IF(A91=\"\",\"\",VLOOKUP(A91,漢字書き!$A$2:$N$506,6,0))","v":"［カル］く考えすぎた"},{"$f":"IF(B91=\"\",\"\",VLOOKUP(B91,漢字書き!$A$2:$N$506,6,0))","v":"船の［キテキ］がひびく"},{"$f":"IF(C91=\"\",\"\",VLOOKUP(C91,漢字書き!$A$2:$N$506,6,0))","v":"［カゾク］で出かける"},{"$f":"IF(D91=\"\",\"\",VLOOKUP(D91,漢字書き!$A$2:$N$506,6,0))","v":"学力の［コウジョウ］"},{"$f":"IF(E91=\"\",\"\",VLOOKUP(E91,漢字書き!$A$2:$N$506,6,0))","v":"［ミジカ］いえんぴつ"},{"$f":"IF(F91=\"\",\"\",VLOOKUP(F91,漢字書き!$A$2:$N$506,6,0))","v":"［マゴコロ］がつたわる"},{"$f":"IF(G91=\"\",\"\",VLOOKUP(G91,漢字書き!$A$2:$N$506,6,0))","v":"［ジュウショ］を書く"},{"$f":"IF(H91=\"\",\"\",VLOOKUP(H91,漢字書き!$A$2:$N$506,6,0))","v":"ひっ［シ］で走る"},{"$f":"IF(I91=\"\",\"\",VLOOKUP(I91,漢字書き!$A$2:$N$506,6,0))","v":"［トコロ］によって雨"},{"$f":"IF(J91=\"\",\"\",VLOOKUP(J91,漢字書き!$A$2:$N$506,6,0))","v":"［ニガ］いくすり"},{"$f":"IF(K91=\"\",\"\",VLOOKUP(K91,漢字読み!$A$2:$O$506,6,0))","v":"チューリップの［球根］"},{"$f":"IF(L91=\"\",\"\",VLOOKUP(L91,漢字読み!$A$2:$O$506,6,0))","v":"［感度］を上げる"},{"$f":"IF(M91=\"\",\"\",VLOOKUP(M91,漢字読み!$A$2:$O$506,6,0))","v":"［皿］をわる"},{"$f":"IF(N91=\"\",\"\",VLOOKUP(N91,漢字読み!$A$2:$O$506,6,0))","v":"先生の［仕事］"},{"$f":"IF(O91=\"\",\"\",VLOOKUP(O91,漢字読み!$A$2:$O$506,6,0))","v":"［君］のとなり"},{"$f":"IF(P91=\"\",\"\",VLOOKUP(P91,漢字読み!$A$2:$O$506,6,0))","v":"本当か［定］かではない"},{"$f":"IF(Q91=\"\",\"\",VLOOKUP(Q91,漢字読み!$A$2:$O$506,6,0))","v":"［祭］りばやし"},{"$f":"IF(R91=\"\",\"\",VLOOKUP(R91,漢字読み!$A$2:$O$506,6,0))","v":"コンパスが北を［指］す"},{"$f":"IF(S91=\"\",\"\",VLOOKUP(S91,漢字読み!$A$2:$O$506,6,0))","v":"木の［実］をとる"},{"$f":"IF(T91=\"\",\"\",VLOOKUP(T91,漢字読み!$A$2:$O$506,6,0))","v":"［全勝］をする"},null,"級"]
[{"$f":"IF(A$11=\"\",\"\",VLOOKUP(A91,漢字書き!$A$2:$O$506,8,0))","v":"軽"},{"$f":"IF(B$11=\"\",\"\",VLOOKUP(B91,漢字書き!$A$2:$O$506,8,0))","v":"汽笛"},{"$f":"IF(C$11=\"\",\"\",VLOOKUP(C91,漢字書き!$A$2:$O$506,8,0))","v":"家族"},{"$f":"IF(D$11=\"\",\"\",VLOOKUP(D91,漢字書き!$A$2:$O$506,8,0))","v":"向上"},{"$f":"IF(E$11=\"\",\"\",VLOOKUP(E91,漢字書き!$A$2:$O$506,8,0))","v":"短"},{"$f":"IF(F$11=\"\",\"\",VLOOKUP(F91,漢字書き!$A$2:$O$506,8,0))","v":"真心"},{"$f":"IF(G$11=\"\",\"\",VLOOKUP(G91,漢字書き!$A$2:$O$506,8,0))","v":"住所"},{"$f":"IF(H$11=\"\",\"\",VLOOKUP(H91,漢字書き!$A$2:$O$506,8,0))","v":"死"},{"$f":"IF(I$11=\"\",\"\",VLOOKUP(I91,漢字書き!$A$2:$O$506,8,0))","v":"所"},{"$f":"IF(J$11=\"\",\"\",VLOOKUP(J91,漢字書き!$A$2:$O$506,8,0))","v":"苦"},{"$f":"IF(K$11=\"\",\"\",VLOOKUP(K91,漢字読み!$A$2:$O$506,8,0))","v":"きゅうこん"},{"$f":"IF(L$11=\"\",\"\",VLOOKUP(L91,漢字読み!$A$2:$O$506,8,0))","v":"かんど"},{"$f":"IF(M$11=\"\",\"\",VLOOKUP(M91,漢字読み!$A$2:$O$506,8,0))","v":"さら"},{"$f":"IF(N$11=\"\",\"\",VLOOKUP(N91,漢字読み!$A$2:$O$506,8,0))","v":"しごと"},{"$f":"IF(O$11=\"\",\"\",VLOOKUP(O91,漢字読み!$A$2:$O$506,8,0))","v":"きみ"},{"$f":"IF(P$11=\"\",\"\",VLOOKUP(P91,漢字読み!$A$2:$O$506,8,0))","v":"さだ"},{"$f":"IF(Q$11=\"\",\"\",VLOOKUP(Q91,漢字読み!$A$2:$O$506,8,0))","v":"まつ"},{"$f":"IF(R$11=\"\",\"\",VLOOKUP(R91,漢字読み!$A$2:$O$506,8,0))","v":"さ"},{"$f":"IF(S$11=\"\",\"\",VLOOKUP(S91,漢字読み!$A$2:$O$506,8,0))","v":"み"},{"$f":"IF(T$11=\"\",\"\",VLOOKUP(T91,漢字読み!$A$2:$O$506,8,0))","v":"ぜんしょう"},null,"名前"]
[{"$f":"IF(A91=\"\",\"\",IF(VLOOKUP(A91,漢字書き!$A$2:$N$502,7,0)=0,\"\",VLOOKUP(A91,漢字書き!$A$2:$N$502,7,0)))","v":"く"},{"$f":"IF(B91=\"\",\"\",IF(VLOOKUP(B91,漢字書き!$A$2:$N$502,7,0)=0,\"\",VLOOKUP(B91,漢字書き!$A$2:$N$502,7,0)))","v":""},{"$f":"IF(C91=\"\",\"\",IF(VLOOKUP(C91,漢字書き!$A$2:$N$502,7,0)=0,\"\",VLOOKUP(C91,漢字書き!$A$2:$N$502,7,0)))","v":""},{"$f":"IF(D91=\"\",\"\",IF(VLOOKUP(D91,漢字書き!$A$2:$N$502,7,0)=0,\"\",VLOOKUP(D91,漢字書き!$A$2:$N$502,7,0)))","v":""},{"$f":"IF(E91=\"\",\"\",IF(VLOOKUP(E91,漢字書き!$A$2:$N$502,7,0)=0,\"\",VLOOKUP(E91,漢字書き!$A$2:$N$502,7,0)))","v":"い"},{"$f":"IF(F91=\"\",\"\",IF(VLOOKUP(F91,漢字書き!$A$2:$N$502,7,0)=0,\"\",VLOOKUP(F91,漢字書き!$A$2:$N$502,7,0)))","v":""},{"$f":"IF(G91=\"\",\"\",IF(VLOOKUP(G91,漢字書き!$A$2:$N$502,7,0)=0,\"\",VLOOKUP(G91,漢字書き!$A$2:$N$502,7,0)))","v":""},{"$f":"IF(H91=\"\",\"\",IF(VLOOKUP(H91,漢字書き!$A$2:$N$502,7,0)=0,\"\",VLOOKUP(H91,漢字書き!$A$2:$N$502,7,0)))","v":""},{"$f":"IF(I91=\"\",\"\",IF(VLOOKUP(I91,漢字書き!$A$2:$N$502,7,0)=0,\"\",VLOOKUP(I91,漢字書き!$A$2:$N$502,7,0)))","v":""},{"$f":"IF(J91=\"\",\"\",IF(VLOOKUP(J91,漢字書き!$A$2:$N$502,7,0)=0,\"\",VLOOKUP(J91,漢字書き!$A$2:$N$502,7,0)))","v":"い"},{"$f":"IF(K91=\"\",\"\",IF(VLOOKUP(K91,漢字読み!$A$2:$O$502,7,0)=0,\"\",VLOOKUP(K91,漢字読み!$A$2:$O$502,7,0)))","v":""},{"$f":"IF(L91=\"\",\"\",IF(VLOOKUP(L91,漢字読み!$A$2:$O$502,7,0)=0,\"\",VLOOKUP(L91,漢字読み!$A$2:$O$502,7,0)))","v":""},{"$f":"IF(M91=\"\",\"\",IF(VLOOKUP(M91,漢字読み!$A$2:$O$502,7,0)=0,\"\",VLOOKUP(M91,漢字読み!$A$2:$O$502,7,0)))","v":""},{"$f":"IF(N91=\"\",\"\",IF(VLOOKUP(N91,漢字読み!$A$2:$O$502,7,0)=0,\"\",VLOOKUP(N91,漢字読み!$A$2:$O$502,7,0)))","v":""},{"$f":"IF(O91=\"\",\"\",IF(VLOOKUP(O91,漢字読み!$A$2:$O$502,7,0)=0,\"\",VLOOKUP(O91,漢字読み!$A$2:$O$502,7,0)))","v":""},{"$f":"IF(P91=\"\",\"\",IF(VLOOKUP(P91,漢字読み!$A$2:$O$502,7,0)=0,\"\",VLOOKUP(P91,漢字読み!$A$2:$O$502,7,0)))","v":"か"},{"$f":"IF(Q91=\"\",\"\",IF(VLOOKUP(Q91,漢字読み!$A$2:$O$502,7,0)=0,\"\",VLOOKUP(Q91,漢字読み!$A$2:$O$502,7,0)))","v":"り"},{"$f":"IF(R91=\"\",\"\",IF(VLOOKUP(R91,漢字読み!$A$2:$O$502,7,0)=0,\"\",VLOOKUP(R91,漢字読み!$A$2:$O$502,7,0)))","v":"す"},{"$f":"IF(S91=\"\",\"\",IF(VLOOKUP(S91,漢字読み!$A$2:$O$502,7,0)=0,\"\",VLOOKUP(S91,漢字読み!$A$2:$O$502,7,0)))","v":""},{"$f":"IF(T91=\"\",\"\",IF(VLOOKUP(T91,漢字読み!$A$2:$O$502,7,0)=0,\"\",VLOOKUP(T91,漢字読み!$A$2:$O$502,7,0)))","v":""},null,null,"和歌山県教育委員会"]
[{"$f":"A86","v":22},134,177,36,29,20,165,136,126,157,169,75,115,52,151,189,29,120,176,149]
["⑳","⑲","⑱","⑰","⑯","⑮","⑭","⑬","⑫","⑪","⑩","⑨","⑧","⑦","⑥","⑤","④","③","②","①","次の［　　　　］の部分の漢字には読みがなをひらがなで書き、カタカナは漢字に直しなさい。",12,"「漢字の博士検定試験」練習問題　"]
[{"$f":"IF(A96=\"\",\"\",VLOOKUP(A96,漢字書き!$A$2:$N$506,6,0))","v":"けがで［チ］が出る"},{"$f":"IF(B96=\"\",\"\",VLOOKUP(B96,漢字書き!$A$2:$N$506,6,0))","v":"ジャンケンに［カ］つ"},{"$f":"IF(C96=\"\",\"\",VLOOKUP(C96,漢字書き!$A$2:$N$506,6,0))","v":"赤の［タニン］"},{"$f":"IF(D96=\"\",\"\",VLOOKUP(D96,漢字書き!$A$2:$N$506,6,0))","v":"学校に［ム］かう"},{"$f":"IF(E96=\"\",\"\",VLOOKUP(E96,漢字書き!$A$2:$N$506,6,0))","v":"そう［コ］にかたづける"},{"$f":"IF(F96=\"\",\"\",VLOOKUP(F96,漢字書き!$A$2:$N$506,6,0))","v":"[テガル]に持ち運ぶ"},{"$f":"IF(G96=\"\",\"\",VLOOKUP(G96,漢字書き!$A$2:$N$506,6,0))","v":"［テソウ］を見てうらなう"},{"$f":"IF(H96=\"\",\"\",VLOOKUP(H96,漢字書き!$A$2:$N$506,6,0))","v":"バスに［ノ］る"},{"$f":"IF(I96=\"\",\"\",VLOOKUP(I96,漢字書き!$A$2:$N$506,6,0))","v":"［ジョソウ］をつける"},{"$f":"IF(J96=\"\",\"\",VLOOKUP(J96,漢字書き!$A$2:$N$506,6,0))","v":"［ヨ］の中の仕組み"},{"$f":"IF(K96=\"\",\"\",VLOOKUP(K96,漢字読み!$A$2:$O$506,6,0))","v":"［速］く走る"},{"$f":"IF(L96=\"\",\"\",VLOOKUP(L96,漢字読み!$A$2:$O$506,6,0))","v":"新しい［事］がら"},{"$f":"IF(M96=\"\",\"\",VLOOKUP(M96,漢字読み!$A$2:$O$506,6,0))","v":"［所定］の場所におく"},{"$f":"IF(N96=\"\",\"\",VLOOKUP(N96,漢字読み!$A$2:$O$506,6,0))","v":"［生死］のさかいめ"},{"$f":"IF(O96=\"\",\"\",VLOOKUP(O96,漢字読み!$A$2:$O$506,6,0))","v":"本の［整理］をする"},{"$f":"IF(P96=\"\",\"\",VLOOKUP(P96,漢字読み!$A$2:$O$506,6,0))","v":"［宿題］をする"},{"$f":"IF(Q96=\"\",\"\",VLOOKUP(Q96,漢字読み!$A$2:$O$506,6,0))","v":"学級［文庫］"},{"$f":"IF(R96=\"\",\"\",VLOOKUP(R96,漢字読み!$A$2:$O$506,6,0))","v":"友だちを［助］ける"},{"$f":"IF(S96=\"\",\"\",VLOOKUP(S96,漢字読み!$A$2:$O$506,6,0))","v":"［対立］した意見"},{"$f":"IF(T96=\"\",\"\",VLOOKUP(T96,漢字読み!$A$2:$O$506,6,0))","v":"［世］の中に出る"},null,"級"]
[{"$f":"IF(A$16=\"\",\"\",VLOOKUP(A96,漢字書き!$A$2:$O$506,8,0))","v":"血"},{"$f":"IF(B$16=\"\",\"\",VLOOKUP(B96,漢字書き!$A$2:$O$506,8,0))","v":"勝"},{"$f":"IF(C$16=\"\",\"\",VLOOKUP(C96,漢字書き!$A$2:$O$506,8,0))","v":"他人"},{"$f":"IF(D$16=\"\",\"\",VLOOKUP(D96,漢字書き!$A$2:$O$506,8,0))","v":"向"},{"$f":"IF(E$16=\"\",\"\",VLOOKUP(E96,漢字書き!$A$2:$O$506,8,0))","v":"庫"},{"$f":"IF(F$16=\"\",\"\",VLOOKUP(F96,漢字書き!$A$2:$O$506,8,0))","v":"手軽"},{"$f":"IF(G$16=\"\",\"\",VLOOKUP(G96,漢字書き!$A$2:$O$506,8,0))","v":"手相"},{"$f":"IF(H$16=\"\",\"\",VLOOKUP(H96,漢字書き!$A$2:$O$506,8,0))","v":"乗"},{"$f":"IF(I$16=\"\",\"\",VLOOKUP(I96,漢字書き!$A$2:$O$506,8,0))","v":"助走"},{"$f":"IF(J$16=\"\",\"\",VLOOKUP(J96,漢字書き!$A$2:$O$506,8,0))","v":"世"},{"$f":"IF(K$16=\"\",\"\",VLOOKUP(K96,漢字読み!$A$2:$O$506,8,0))","v":"はや"},{"$f":"IF(L$16=\"\",\"\",VLOOKUP(L96,漢字読み!$A$2:$O$506,8,0))","v":"こと"},{"$f":"IF(M$16=\"\",\"\",VLOOKUP(M96,漢字読み!$A$2:$O$506,8,0))","v":"しょてい"},{"$f":"IF(N$16=\"\",\"\",VLOOKUP(N96,漢字読み!$A$2:$O$506,8,0))","v":"せいし"},{"$f":"IF(O$16=\"\",\"\",VLOOKUP(O96,漢字読み!$A$2:$O$506,8,0))","v":"せいり"},{"$f":"IF(P$16=\"\",\"\",VLOOKUP(P96,漢字読み!$A$2:$O$506,8,0))","v":"しゅくだい"},{"$f":"IF(Q$16=\"\",\"\",VLOOKUP(Q96,漢字読み!$A$2:$O$506,8,0))","v":"ぶんこ"},{"$f":"IF(R$16=\"\",\"\",VLOOKUP(R96,漢字読み!$A$2:$O$506,8,0))","v":"たす"},{"$f":"IF(S$16=\"\",\"\",VLOOKUP(S96,漢字読み!$A$2:$O$506,8,0))","v":"たいりつ"},{"$f":"IF(T$16=\"\",\"\",VLOOKUP(T96,漢字読み!$A$2:$O$506,8,0))","v":"よ"},null,"名前"]
[{"$f":"IF(A96=\"\",\"\",IF(VLOOKUP(A96,漢字書き!$A$2:$N$502,7,0)=0,\"\",VLOOKUP(A96,漢字書き!$A$2:$N$502,7,0)))","v":""},{"$f":"IF(B96=\"\",\"\",IF(VLOOKUP(B96,漢字書き!$A$2:$N$502,7,0)=0,\"\",VLOOKUP(B96,漢字書き!$A$2:$N$502,7,0)))","v":"つ"},{"$f":"IF(C96=\"\",\"\",IF(VLOOKUP(C96,漢字書き!$A$2:$N$502,7,0)=0,\"\",VLOOKUP(C96,漢字書き!$A$2:$N$502,7,0)))","v":""},{"$f":"IF(D96=\"\",\"\",IF(VLOOKUP(D96,漢字書き!$A$2:$N$502,7,0)=0,\"\",VLOOKUP(D96,漢字書き!$A$2:$N$502,7,0)))","v":"かう"},{"$f":"IF(E96=\"\",\"\",IF(VLOOKUP(E96,漢字書き!$A$2:$N$502,7,0)=0,\"\",VLOOKUP(E96,漢字書き!$A$2:$N$502,7,0)))","v":""},{"$f":"IF(F96=\"\",\"\",IF(VLOOKUP(F96,漢字書き!$A$2:$N$502,7,0)=0,\"\",VLOOKUP(F96,漢字書き!$A$2:$N$502,7,0)))","v":"に"},{"$f":"IF(G96=\"\",\"\",IF(VLOOKUP(G96,漢字書き!$A$2:$N$502,7,0)=0,\"\",VLOOKUP(G96,漢字書き!$A$2:$N$502,7,0)))","v":""},{"$f":"IF(H96=\"\",\"\",IF(VLOOKUP(H96,漢字書き!$A$2:$N$502,7,0)=0,\"\",VLOOKUP(H96,漢字書き!$A$2:$N$502,7,0)))","v":"る"},{"$f":"IF(I96=\"\",\"\",IF(VLOOKUP(I96,漢字書き!$A$2:$N$502,7,0)=0,\"\",VLOOKUP(I96,漢字書き!$A$2:$N$502,7,0)))","v":""},{"$f":"IF(J96=\"\",\"\",IF(VLOOKUP(J96,漢字書き!$A$2:$N$502,7,0)=0,\"\",VLOOKUP(J96,漢字書き!$A$2:$N$502,7,0)))","v":"の中"},{"$f":"IF(K96=\"\",\"\",IF(VLOOKUP(K96,漢字読み!$A$2:$O$502,7,0)=0,\"\",VLOOKUP(K96,漢字読み!$A$2:$O$502,7,0)))","v":"く"},{"$f":"IF(L96=\"\",\"\",IF(VLOOKUP(L96,漢字読み!$A$2:$O$502,7,0)=0,\"\",VLOOKUP(L96,漢字読み!$A$2:$O$502,7,0)))","v":"がら"},{"$f":"IF(M96=\"\",\"\",IF(VLOOKUP(M96,漢字読み!$A$2:$O$502,7,0)=0,\"\",VLOOKUP(M96,漢字読み!$A$2:$O$502,7,0)))","v":""},{"$f":"IF(N96=\"\",\"\",IF(VLOOKUP(N96,漢字読み!$A$2:$O$502,7,0)=0,\"\",VLOOKUP(N96,漢字読み!$A$2:$O$502,7,0)))","v":""},{"$f":"IF(O96=\"\",\"\",IF(VLOOKUP(O96,漢字読み!$A$2:$O$502,7,0)=0,\"\",VLOOKUP(O96,漢字読み!$A$2:$O$502,7,0)))","v":""},{"$f":"IF(P96=\"\",\"\",IF(VLOOKUP(P96,漢字読み!$A$2:$O$502,7,0)=0,\"\",VLOOKUP(P96,漢字読み!$A$2:$O$502,7,0)))","v":""},{"$f":"IF(Q96=\"\",\"\",IF(VLOOKUP(Q96,漢字読み!$A$2:$O$502,7,0)=0,\"\",VLOOKUP(Q96,漢字読み!$A$2:$O$502,7,0)))","v":""},{"$f":"IF(R96=\"\",\"\",IF(VLOOKUP(R96,漢字読み!$A$2:$O$502,7,0)=0,\"\",VLOOKUP(R96,漢字読み!$A$2:$O$502,7,0)))","v":"ける"},{"$f":"IF(S96=\"\",\"\",IF(VLOOKUP(S96,漢字読み!$A$2:$O$502,7,0)=0,\"\",VLOOKUP(S96,漢字読み!$A$2:$O$502,7,0)))","v":"した"},{"$f":"IF(T96=\"\",\"\",IF(VLOOKUP(T96,漢字読み!$A$2:$O$502,7,0)=0,\"\",VLOOKUP(T96,漢字読み!$A$2:$O$502,7,0)))","v":"の中"},null,null,"和歌山県教育委員会"]
[{"$f":"INDIRECT(\"'関数（書き）'!C\" & COLUMN(B$1)+SUM($AD$2:$AD102))","v":227},{"$f":"INDIRECT(\"'関数（書き）'!C\" & COLUMN(C$1)+SUM($AD$2:$AD102))","v":77},{"$f":"INDIRECT(\"'関数（書き）'!C\" & COLUMN(D$1)+SUM($AD$2:$AD102))","v":45},{"$f":"INDIRECT(\"'関数（書き）'!C\" & COLUMN(E$1)+SUM($AD$2:$AD102))","v":7},{"$f":"INDIRECT(\"'関数（書き）'!C\" & COLUMN(F$1)+SUM($AD$2:$AD102))","v":236},{"$f":"INDIRECT(\"'関数（書き）'!C\" & COLUMN(G$1)+SUM($AD$2:$AD102))","v":108},{"$f":"INDIRECT(\"'関数（書き）'!C\" & COLUMN(H$1)+SUM($AD$2:$AD102))","v":125},{"$f":"INDIRECT(\"'関数（書き）'!C\" & COLUMN(I$1)+SUM($AD$2:$AD102))","v":143},{"$f":"INDIRECT(\"'関数（書き）'!C\" & COLUMN(J$1)+SUM($AD$2:$AD102))","v":176},{"$f":"INDIRECT(\"'関数（書き）'!C\" & COLUMN(K$1)+SUM($AD$2:$AD102))","v":222},{"$f":"INDIRECT(\"'関数（読み）'!C\" & COLUMN(B$1)+SUM($AD$2:$AD102))","v":39},{"$f":"INDIRECT(\"'関数（読み）'!C\" & COLUMN(C$1)+SUM($AD$2:$AD102))","v":232},{"$f":"INDIRECT(\"'関数（読み）'!C\" & COLUMN(D$1)+SUM($AD$2:$AD102))","v":206},{"$f":"INDIRECT(\"'関数（読み）'!C\" & COLUMN(E$1)+SUM($AD$2:$AD102))","v":139},{"$f":"INDIRECT(\"'関数（読み）'!C\" & COLUMN(F$1)+SUM($AD$2:$AD102))","v":164},{"$f":"INDIRECT(\"'関数（読み）'!C\" & COLUMN(G$1)+SUM($AD$2:$AD102))","v":203},{"$f":"INDIRECT(\"'関数（読み）'!C\" & COLUMN(H$1)+SUM($AD$2:$AD102))","v":210},{"$f":"INDIRECT(\"'関数（読み）'!C\" & COLUMN(I$1)+SUM($AD$2:$AD102))","v":119},{"$f":"INDIRECT(\"'関数（読み）'!C\" & COLUMN(J$1)+SUM($AD$2:$AD102))","v":102},{"$f":"INDIRECT(\"'関数（読み）'!C\" & COLUMN(K$1)+SUM($AD$2:$AD102))","v":192}]
["⑳","⑲","⑱","⑰","⑯","⑮","⑭","⑬","⑫","⑪","⑩","⑨","⑧","⑦","⑥","⑤","④","③","②","①","次の［　　　　］の部分の漢字には読みがなをひらがなで書き、カタカナは漢字に直しなさい。",12,"「漢字の博士検定試験」練習問題　",null,null,null,null,null,"←",10,"問",{"$f":"AH87+1","v":101},"～",{"$f":"SUM($AD$2:$AD102)+10","v":110},"問まで",{"$f":"COUNTIF($A$1:$T$200,T103)","v":2}]
[{"$f":"IF(A101=\"\",\"\",VLOOKUP(A101,漢字書き!$A$2:$N$506,6,0))","v":"つまずいて［コロ］ぶ"},{"$f":"IF(B101=\"\",\"\",VLOOKUP(B101,漢字書き!$A$2:$N$506,6,0))","v":"［ジツリョク］を出し切る"},{"$f":"IF(C101=\"\",\"\",VLOOKUP(C101,漢字書き!$A$2:$N$506,6,0))","v":"［ネモト］のざっ草をぬく"},{"$f":"IF(D101=\"\",\"\",VLOOKUP(D101,漢字書き!$A$2:$N$506,6,0))","v":"［クル］しい思いをする"},{"$f":"IF(E101=\"\",\"\",VLOOKUP(E101,漢字書き!$A$2:$N$506,6,0))","v":"たからの［シマ］をさがす"},{"$f":"IF(F101=\"\",\"\",VLOOKUP(F101,漢字書き!$A$2:$N$506,6,0))","v":"［テナラ］いをする"},{"$f":"IF(G101=\"\",\"\",VLOOKUP(G101,漢字書き!$A$2:$N$506,6,0))","v":"妹を［タス］ける"},{"$f":"IF(H101=\"\",\"\",VLOOKUP(H101,漢字書き!$A$2:$N$506,6,0))","v":"［シンワ］を読む"},{"$f":"IF(I101=\"\",\"\",VLOOKUP(I101,漢字書き!$A$2:$N$506,6,0))","v":"同じ［イチゾク］"},{"$f":"IF(J101=\"\",\"\",VLOOKUP(J101,漢字書き!$A$2:$N$506,6,0))","v":"［フエ］の音"},{"$f":"IF(K101=\"\",\"\",VLOOKUP(K101,漢字読み!$A$2:$O$506,6,0))","v":"［空港］につく"},{"$f":"IF(L101=\"\",\"\",VLOOKUP(L101,漢字読み!$A$2:$O$506,6,0))","v":"つまづいて［転］ぶ"},{"$f":"IF(M101=\"\",\"\",VLOOKUP(M101,漢字読み!$A$2:$O$506,6,0))","v":"［柱］にしるしをつける"},{"$f":"IF(N101=\"\",\"\",VLOOKUP(N101,漢字読み!$A$2:$O$506,6,0))","v":"ギリシア［神話］"},{"$f":"IF(O101=\"\",\"\",VLOOKUP(O101,漢字読み!$A$2:$O$506,6,0))","v":"［感想］をのべる"},{"$f":"IF(P101=\"\",\"\",VLOOKUP(P101,漢字読み!$A$2:$O$506,6,0))","v":"［注］しゃする"},{"$f":"IF(Q101=\"\",\"\",VLOOKUP(Q101,漢字読み!$A$2:$O$506,6,0))","v":"［手帳］に書きこむ"},{"$f":"IF(R101=\"\",\"\",VLOOKUP(R101,漢字読み!$A$2:$O$506,6,0))","v":"［助手］が来る"},{"$f":"IF(S101=\"\",\"\",VLOOKUP(S101,漢字読み!$A$2:$O$506,6,0))","v":"毎日の［習］かん"},{"$f":"IF(T101=\"\",\"\",VLOOKUP(T101,漢字読み!$A$2:$O$506,6,0))","v":"［石炭］をもやす"},null,"級"]
[null,null,null,null,null,null,null,null,null,null,null,null,null,null,null,null,null,null,null,null,null,"名前"]
[{"$f":"IF(A101=\"\",\"\",IF(VLOOKUP(A101,漢字書き!$A$2:$N$502,7,0)=0,\"\",VLOOKUP(A101,漢字書き!$A$2:$N$502,7,0)))","v":"ぶ"},{"$f":"IF(B101=\"\",\"\",IF(VLOOKUP(B101,漢字書き!$A$2:$N$502,7,0)=0,\"\",VLOOKUP(B101,漢字書き!$A$2:$N$502,7,0)))","v":""},{"$f":"IF(C101=\"\",\"\",IF(VLOOKUP(C101,漢字書き!$A$2:$N$502,7,0)=0,\"\",VLOOKUP(C101,漢字書き!$A$2:$N$502,7,0)))","v":""},{"$f":"IF(D101=\"\",\"\",IF(VLOOKUP(D101,漢字書き!$A$2:$N$502,7,0)=0,\"\",VLOOKUP(D101,漢字書き!$A$2:$N$502,7,0)))","v":"しい"},{"$f":"IF(E101=\"\",\"\",IF(VLOOKUP(E101,漢字書き!$A$2:$N$502,7,0)=0,\"\",VLOOKUP(E101,漢字書き!$A$2:$N$502,7,0)))","v":""},{"$f":"IF(F101=\"\",\"\",IF(VLOOKUP(F101,漢字書き!$A$2:$N$502,7,0)=0,\"\",VLOOKUP(F101,漢字書き!$A$2:$N$502,7,0)))","v":"い"},{"$f":"IF(G101=\"\",\"\",IF(VLOOKUP(G101,漢字書き!$A$2:$N$502,7,0)=0,\"\",VLOOKUP(G101,漢字書き!$A$2:$N$502,7,0)))","v":"ける"},{"$f":"IF(H101=\"\",\"\",IF(VLOOKUP(H101,漢字書き!$A$2:$N$502,7,0)=0,\"\",VLOOKUP(H101,漢字書き!$A$2:$N$502,7,0)))","v":""},{"$f":"IF(I101=\"\",\"\",IF(VLOOKUP(I101,漢字書き!$A$2:$N$502,7,0)=0,\"\",VLOOKUP(I101,漢字書き!$A$2:$N$502,7,0)))","v":""},{"$f":"IF(J101=\"\",\"\",IF(VLOOKUP(J101,漢字書き!$A$2:$N$502,7,0)=0,\"\",VLOOKUP(J101,漢字書き!$A$2:$N$502,7,0)))","v":""},{"$f":"IF(K101=\"\",\"\",IF(VLOOKUP(K101,漢字読み!$A$2:$O$502,7,0)=0,\"\",VLOOKUP(K101,漢字読み!$A$2:$O$502,7,0)))","v":""},{"$f":"IF(L101=\"\",\"\",IF(VLOOKUP(L101,漢字読み!$A$2:$O$502,7,0)=0,\"\",VLOOKUP(L101,漢字読み!$A$2:$O$502,7,0)))","v":"ぶ"},{"$f":"IF(M101=\"\",\"\",IF(VLOOKUP(M101,漢字読み!$A$2:$O$502,7,0)=0,\"\",VLOOKUP(M101,漢字読み!$A$2:$O$502,7,0)))","v":""},{"$f":"IF(N101=\"\",\"\",IF(VLOOKUP(N101,漢字読み!$A$2:$O$502,7,0)=0,\"\",VLOOKUP(N101,漢字読み!$A$2:$O$502,7,0)))","v":""},{"$f":"IF(O101=\"\",\"\",IF(VLOOKUP(O101,漢字読み!$A$2:$O$502,7,0)=0,\"\",VLOOKUP(O101,漢字読み!$A$2:$O$502,7,0)))","v":""},{"$f":"IF(P101=\"\",\"\",IF(VLOOKUP(P101,漢字読み!$A$2:$O$502,7,0)=0,\"\",VLOOKUP(P101,漢字読み!$A$2:$O$502,7,0)))","v":"しゃ"},{"$f":"IF(Q101=\"\",\"\",IF(VLOOKUP(Q101,漢字読み!$A$2:$O$502,7,0)=0,\"\",VLOOKUP(Q101,漢字読み!$A$2:$O$502,7,0)))","v":""},{"$f":"IF(R101=\"\",\"\",IF(VLOOKUP(R101,漢字読み!$A$2:$O$502,7,0)=0,\"\",VLOOKUP(R101,漢字読み!$A$2:$O$502,7,0)))","v":""},{"$f":"IF(S101=\"\",\"\",IF(VLOOKUP(S101,漢字読み!$A$2:$O$502,7,0)=0,\"\",VLOOKUP(S101,漢字読み!$A$2:$O$502,7,0)))","v":"かん"},{"$f":"IF(T101=\"\",\"\",IF(VLOOKUP(T101,漢字読み!$A$2:$O$502,7,0)=0,\"\",VLOOKUP(T101,漢字読み!$A$2:$O$502,7,0)))","v":""},null,null,"和歌山県教育委員会"]
[{"$f":"INDIRECT(\"'関数（書き）'!C\" & COLUMN(B$1)+SUM($AD$2:$AD107))","v":180},{"$f":"INDIRECT(\"'関数（書き）'!C\" & COLUMN(C$1)+SUM($AD$2:$AD107))","v":187},{"$f":"INDIRECT(\"'関数（書き）'!C\" & COLUMN(D$1)+SUM($AD$2:$AD107))","v":204},{"$f":"INDIRECT(\"'関数（書き）'!C\" & COLUMN(E$1)+SUM($AD$2:$AD107))","v":188},{"$f":"INDIRECT(\"'関数（書き）'!C\" & COLUMN(F$1)+SUM($AD$2:$AD107))","v":59},{"$f":"INDIRECT(\"'関数（書き）'!C\" & COLUMN(G$1)+SUM($AD$2:$AD107))","v":67},{"$f":"INDIRECT(\"'関数（書き）'!C\" & COLUMN(H$1)+SUM($AD$2:$AD107))","v":212},{"$f":"INDIRECT(\"'関数（書き）'!C\" & COLUMN(I$1)+SUM($AD$2:$AD107))","v":9},{"$f":"INDIRECT(\"'関数（書き）'!C\" & COLUMN(J$1)+SUM($AD$2:$AD107))","v":205},{"$f":"INDIRECT(\"'関数（書き）'!C\" & COLUMN(K$1)+SUM($AD$2:$AD107))","v":12},{"$f":"INDIRECT(\"'関数（読み）'!C\" & COLUMN(B$1)+SUM($AD$2:$AD107))","v":77},{"$f":"INDIRECT(\"'関数（読み）'!C\" & COLUMN(C$1)+SUM($AD$2:$AD107))","v":92},{"$f":"INDIRECT(\"'関数（読み）'!C\" & COLUMN(D$1)+SUM($AD$2:$AD107))","v":106},{"$f":"INDIRECT(\"'関数（読み）'!C\" & COLUMN(E$1)+SUM($AD$2:$AD107))","v":219},{"$f":"INDIRECT(\"'関数（読み）'!C\" & COLUMN(F$1)+SUM($AD$2:$AD107))","v":216},{"$f":"INDIRECT(\"'関数（読み）'!C\" & COLUMN(G$1)+SUM($AD$2:$AD107))","v":94},{"$f":"INDIRECT(\"'関数（読み）'!C\" & COLUMN(H$1)+SUM($AD$2:$AD107))","v":96},{"$f":"INDIRECT(\"'関数（読み）'!C\" & COLUMN(I$1)+SUM($AD$2:$AD107))","v":178},{"$f":"INDIRECT(\"'関数（読み）'!C\" & COLUMN(J$1)+SUM($AD$2:$AD107))","v":61},{"$f":"INDIRECT(\"'関数（読み）'!C\" & COLUMN(K$1)+SUM($AD$2:$AD107))","v":5}]
["⑳","⑲","⑱","⑰","⑯","⑮","⑭","⑬","⑫","⑪","⑩","⑨","⑧","⑦","⑥","⑤","④","③","②","①","次の［　　　　］の部分の漢字には読みがなをひらがなで書き、カタカナは漢字に直しなさい。",12,"「漢字の博士検定試験」練習問題　",null,null,null,null,null,"←",10,"問",{"$f":"AH102+1","v":111},"～",{"$f":"SUM($AD$2:$AD107)+10","v":120},"問まで",{"$f":"COUNTIF($A$1:$T$200,T108)","v":2}]
[{"$f":"IF(A106=\"\",\"\",VLOOKUP(A106,漢字書き!$A$2:$N$506,6,0))","v":"［ダシャ］が交代する"},{"$f":"IF(B106=\"\",\"\",VLOOKUP(B106,漢字書き!$A$2:$N$506,6,0))","v":"クラスの［ダイヒョウ］"},{"$f":"IF(C106=\"\",\"\",VLOOKUP(C106,漢字書き!$A$2:$N$506,6,0))","v":"先生が［チュウイ］をする"},{"$f":"IF(D106=\"\",\"\",VLOOKUP(D106,漢字書き!$A$2:$N$506,6,0))","v":"友だちの［カ］わり"},{"$f":"IF(E106=\"\",\"\",VLOOKUP(E106,漢字書き!$A$2:$N$506,6,0))","v":"ゲームが［ハジ］まる"},{"$f":"IF(F106=\"\",\"\",VLOOKUP(F106,漢字書き!$A$2:$N$506,6,0))","v":"［ジキ］会長になる"},{"$f":"IF(G106=\"\",\"\",VLOOKUP(G106,漢字書き!$A$2:$N$506,6,0))","v":"［チョウシ］よくしゃべる"},{"$f":"IF(H106=\"\",\"\",VLOOKUP(H106,漢字書き!$A$2:$N$506,6,0))","v":"［ドウグ］を大切にする"},{"$f":"IF(I106=\"\",\"\",VLOOKUP(I106,漢字書き!$A$2:$N$506,6,0))","v":"お茶を［ソソ］ぐ"},{"$f":"IF(J106=\"\",\"\",VLOOKUP(J106,漢字書き!$A$2:$N$506,6,0))","v":"［キミ］も来ないか"},{"$f":"IF(K106=\"\",\"\",VLOOKUP(K106,漢字読み!$A$2:$O$506,6,0))","v":"かけ算の［式］"},{"$f":"IF(L106=\"\",\"\",VLOOKUP(L106,漢字読み!$A$2:$O$506,6,0))","v":"お[守]りを持つ"},{"$f":"IF(M106=\"\",\"\",VLOOKUP(M106,漢字読み!$A$2:$O$506,6,0))","v":"プルタブを［集］める"},{"$f":"IF(N106=\"\",\"\",VLOOKUP(N106,漢字読み!$A$2:$O$506,6,0))","v":"［定］まった場所におく"},{"$f":"IF(O106=\"\",\"\",VLOOKUP(O106,漢字読み!$A$2:$O$506,6,0))","v":"三角［定］ぎを使う"},{"$f":"IF(P106=\"\",\"\",VLOOKUP(P106,漢字読み!$A$2:$O$506,6,0))","v":"おもちゃを［取］る"},{"$f":"IF(Q106=\"\",\"\",VLOOKUP(Q106,漢字読み!$A$2:$O$506,6,0))","v":"［酒］のさかな"},{"$f":"IF(R106=\"\",\"\",VLOOKUP(R106,漢字読み!$A$2:$O$506,6,0))","v":"はん[対]の意見"},{"$f":"IF(S106=\"\",\"\",VLOOKUP(S106,漢字読み!$A$2:$O$506,6,0))","v":"オーケストラの［指］き"},{"$f":"IF(T106=\"\",\"\",VLOOKUP(T106,漢字読み!$A$2:$O$506,6,0))","v":"［区切］りがよい"},null,"級"]
[null,null,null,null,null,null,null,null,null,null,null,null,null,null,null,null,null,null,null,null,null,"名前"]
[{"$f":"IF(A106=\"\",\"\",IF(VLOOKUP(A106,漢字書き!$A$2:$N$502,7,0)=0,\"\",VLOOKUP(A106,漢字書き!$A$2:$N$502,7,0)))","v":""},{"$f":"IF(B106=\"\",\"\",IF(VLOOKUP(B106,漢字書き!$A$2:$N$502,7,0)=0,\"\",VLOOKUP(B106,漢字書き!$A$2:$N$502,7,0)))","v":""},{"$f":"IF(C106=\"\",\"\",IF(VLOOKUP(C106,漢字書き!$A$2:$N$502,7,0)=0,\"\",VLOOKUP(C106,漢字書き!$A$2:$N$502,7,0)))","v":""},{"$f":"IF(D106=\"\",\"\",IF(VLOOKUP(D106,漢字書き!$A$2:$N$502,7,0)=0,\"\",VLOOKUP(D106,漢字書き!$A$2:$N$502,7,0)))","v":"わり"},{"$f":"IF(E106=\"\",\"\",IF(VLOOKUP(E106,漢字書き!$A$2:$N$502,7,0)=0,\"\",VLOOKUP(E106,漢字書き!$A$2:$N$502,7,0)))","v":"まる"},{"$f":"IF(F106=\"\",\"\",IF(VLOOKUP(F106,漢字書き!$A$2:$N$502,7,0)=0,\"\",VLOOKUP(F106,漢字書き!$A$2:$N$502,7,0)))","v":"会長"},{"$f":"IF(G106=\"\",\"\",IF(VLOOKUP(G106,漢字書き!$A$2:$N$502,7,0)=0,\"\",VLOOKUP(G106,漢字書き!$A$2:$N$502,7,0)))","v":""},{"$f":"IF(H106=\"\",\"\",IF(VLOOKUP(H106,漢字書き!$A$2:$N$502,7,0)=0,\"\",VLOOKUP(H106,漢字書き!$A$2:$N$502,7,0)))","v":""},{"$f":"IF(I106=\"\",\"\",IF(VLOOKUP(I106,漢字書き!$A$2:$N$502,7,0)=0,\"\",VLOOKUP(I106,漢字書き!$A$2:$N$502,7,0)))","v":"ぐ"},{"$f":"IF(J106=\"\",\"\",IF(VLOOKUP(J106,漢字書き!$A$2:$N$502,7,0)=0,\"\",VLOOKUP(J106,漢字書き!$A$2:$N$502,7,0)))","v":""},{"$f":"IF(K106=\"\",\"\",IF(VLOOKUP(K106,漢字読み!$A$2:$O$502,7,0)=0,\"\",VLOOKUP(K106,漢字読み!$A$2:$O$502,7,0)))","v":""},{"$f":"IF(L106=\"\",\"\",IF(VLOOKUP(L106,漢字読み!$A$2:$O$502,7,0)=0,\"\",VLOOKUP(L106,漢字読み!$A$2:$O$502,7,0)))","v":"り"},{"$f":"IF(M106=\"\",\"\",IF(VLOOKUP(M106,漢字読み!$A$2:$O$502,7,0)=0,\"\",VLOOKUP(M106,漢字読み!$A$2:$O$502,7,0)))","v":"める"},{"$f":"IF(N106=\"\",\"\",IF(VLOOKUP(N106,漢字読み!$A$2:$O$502,7,0)=0,\"\",VLOOKUP(N106,漢字読み!$A$2:$O$502,7,0)))","v":"まった"},{"$f":"IF(O106=\"\",\"\",IF(VLOOKUP(O106,漢字読み!$A$2:$O$502,7,0)=0,\"\",VLOOKUP(O106,漢字読み!$A$2:$O$502,7,0)))","v":"ぎ"},{"$f":"IF(P106=\"\",\"\",IF(VLOOKUP(P106,漢字読み!$A$2:$O$502,7,0)=0,\"\",VLOOKUP(P106,漢字読み!$A$2:$O$502,7,0)))","v":"る"},{"$f":"IF(Q106=\"\",\"\",IF(VLOOKUP(Q106,漢字読み!$A$2:$O$502,7,0)=0,\"\",VLOOKUP(Q106,漢字読み!$A$2:$O$502,7,0)))","v":""},{"$f":"IF(R106=\"\",\"\",IF(VLOOKUP(R106,漢字読み!$A$2:$O$502,7,0)=0,\"\",VLOOKUP(R106,漢字読み!$A$2:$O$502,7,0)))","v":""},{"$f":"IF(S106=\"\",\"\",IF(VLOOKUP(S106,漢字読み!$A$2:$O$502,7,0)=0,\"\",VLOOKUP(S106,漢字読み!$A$2:$O$502,7,0)))","v":"き"},{"$f":"IF(T106=\"\",\"\",IF(VLOOKUP(T106,漢字読み!$A$2:$O$502,7,0)=0,\"\",VLOOKUP(T106,漢字読み!$A$2:$O$502,7,0)))","v":"り"},null,null,"和歌山県教育委員会"]
[{"$f":"A101","v":227},77,45,7,236,108,125,143,176,222,39,232,206,139,164,203,210,119,102,192]
["⑳","⑲","⑱","⑰","⑯","⑮","⑭","⑬","⑫","⑪","⑩","⑨","⑧","⑦","⑥","⑤","④","③","②","①","次の［　　　　］の部分の漢字には読みがなをひらがなで書き、カタカナは漢字に直しなさい。",12,"「漢字の博士検定試験」練習問題　"]
[{"$f":"IF(A111=\"\",\"\",VLOOKUP(A111,漢字書き!$A$2:$N$506,6,0))","v":"つまずいて［コロ］ぶ"},{"$f":"IF(B111=\"\",\"\",VLOOKUP(B111,漢字書き!$A$2:$N$506,6,0))","v":"［ジツリョク］を出し切る"},{"$f":"IF(C111=\"\",\"\",VLOOKUP(C111,漢字書き!$A$2:$N$506,6,0))","v":"［ネモト］のざっ草をぬく"},{"$f":"IF(D111=\"\",\"\",VLOOKUP(D111,漢字書き!$A$2:$N$506,6,0))","v":"［クル］しい思いをする"},{"$f":"IF(E111=\"\",\"\",VLOOKUP(E111,漢字書き!$A$2:$N$506,6,0))","v":"たからの［シマ］をさがす"},{"$f":"IF(F111=\"\",\"\",VLOOKUP(F111,漢字書き!$A$2:$N$506,6,0))","v":"［テナラ］いをする"},{"$f":"IF(G111=\"\",\"\",VLOOKUP(G111,漢字書き!$A$2:$N$506,6,0))","v":"妹を［タス］ける"},{"$f":"IF(H111=\"\",\"\",VLOOKUP(H111,漢字書き!$A$2:$N$506,6,0))","v":"［シンワ］を読む"},{"$f":"IF(I111=\"\",\"\",VLOOKUP(I111,漢字書き!$A$2:$N$506,6,0))","v":"同じ［イチゾク］"},{"$f":"IF(J111=\"\",\"\",VLOOKUP(J111,漢字書き!$A$2:$N$506,6,0))","v":"［フエ］の音"},{"$f":"IF(K111=\"\",\"\",VLOOKUP(K111,漢字読み!$A$2:$O$506,6,0))","v":"［空港］につく"},{"$f":"IF(L111=\"\",\"\",VLOOKUP(L111,漢字読み!$A$2:$O$506,6,0))","v":"つまづいて［転］ぶ"},{"$f":"IF(M111=\"\",\"\",VLOOKUP(M111,漢字読み!$A$2:$O$506,6,0))","v":"［柱］にしるしをつける"},{"$f":"IF(N111=\"\",\"\",VLOOKUP(N111,漢字読み!$A$2:$O$506,6,0))","v":"ギリシア［神話］"},{"$f":"IF(O111=\"\",\"\",VLOOKUP(O111,漢字読み!$A$2:$O$506,6,0))","v":"［感想］をのべる"},{"$f":"IF(P111=\"\",\"\",VLOOKUP(P111,漢字読み!$A$2:$O$506,6,0))","v":"［注］しゃする"},{"$f":"IF(Q111=\"\",\"\",VLOOKUP(Q111,漢字読み!$A$2:$O$506,6,0))","v":"［手帳］に書きこむ"},{"$f":"IF(R111=\"\",\"\",VLOOKUP(R111,漢字読み!$A$2:$O$506,6,0))","v":"［助手］が来る"},{"$f":"IF(S111=\"\",\"\",VLOOKUP(S111,漢字読み!$A$2:$O$506,6,0))","v":"毎日の［習］かん"},{"$f":"IF(T111=\"\",\"\",VLOOKUP(T111,漢字読み!$A$2:$O$506,6,0))","v":"［石炭］をもやす"},null,"級"]
[{"$f":"IF(A$11=\"\",\"\",VLOOKUP(A111,漢字書き!$A$2:$O$506,8,0))","v":"転"},{"$f":"IF(B$11=\"\",\"\",VLOOKUP(B111,漢字書き!$A$2:$O$506,8,0))","v":"実力"},{"$f":"IF(C$11=\"\",\"\",VLOOKUP(C111,漢字書き!$A$2:$O$506,8,0))","v":"根元"},{"$f":"IF(D$11=\"\",\"\",VLOOKUP(D111,漢字書き!$A$2:$O$506,8,0))","v":"苦"},{"$f":"IF(E$11=\"\",\"\",VLOOKUP(E111,漢字書き!$A$2:$O$506,8,0))","v":"島"},{"$f":"IF(F$11=\"\",\"\",VLOOKUP(F111,漢字書き!$A$2:$O$506,8,0))","v":"手習"},{"$f":"IF(G$11=\"\",\"\",VLOOKUP(G111,漢字書き!$A$2:$O$506,8,0))","v":"助"},{"$f":"IF(H$11=\"\",\"\",VLOOKUP(H111,漢字書き!$A$2:$O$506,8,0))","v":"神話"},{"$f":"IF(I$11=\"\",\"\",VLOOKUP(I111,漢字書き!$A$2:$O$506,8,0))","v":"一族"},{"$f":"IF(J$11=\"\",\"\",VLOOKUP(J111,漢字書き!$A$2:$O$506,8,0))","v":"笛"},{"$f":"IF(K$11=\"\",\"\",VLOOKUP(K111,漢字読み!$A$2:$O$506,8,0))","v":"くうこう"},{"$f":"IF(L$11=\"\",\"\",VLOOKUP(L111,漢字読み!$A$2:$O$506,8,0))","v":"ころ"},{"$f":"IF(M$11=\"\",\"\",VLOOKUP(M111,漢字読み!$A$2:$O$506,8,0))","v":"はしら"},{"$f":"IF(N$11=\"\",\"\",VLOOKUP(N111,漢字読み!$A$2:$O$506,8,0))","v":"しんわ"},{"$f":"IF(O$11=\"\",\"\",VLOOKUP(O111,漢字読み!$A$2:$O$506,8,0))","v":"かんそう"},{"$f":"IF(P$11=\"\",\"\",VLOOKUP(P111,漢字読み!$A$2:$O$506,8,0))","v":"ちゅう"},{"$f":"IF(Q$11=\"\",\"\",VLOOKUP(Q111,漢字読み!$A$2:$O$506,8,0))","v":"てちょう"},{"$f":"IF(R$11=\"\",\"\",VLOOKUP(R111,漢字読み!$A$2:$O$506,8,0))","v":"じょしゅ"},{"$f":"IF(S$11=\"\",\"\",VLOOKUP(S111,漢字読み!$A$2:$O$506,8,0))","v":"しゅう"},{"$f":"IF(T$11=\"\",\"\",VLOOKUP(T111,漢字読み!$A$2:$O$506,8,0))","v":"せきたん"},null,"名前"]
[{"$f":"IF(A111=\"\",\"\",IF(VLOOKUP(A111,漢字書き!$A$2:$N$502,7,0)=0,\"\",VLOOKUP(A111,漢字書き!$A$2:$N$502,7,0)))","v":"ぶ"},{"$f":"IF(B111=\"\",\"\",IF(VLOOKUP(B111,漢字書き!$A$2:$N$502,7,0)=0,\"\",VLOOKUP(B111,漢字書き!$A$2:$N$502,7,0)))","v":""},{"$f":"IF(C111=\"\",\"\",IF(VLOOKUP(C111,漢字書き!$A$2:$N$502,7,0)=0,\"\",VLOOKUP(C111,漢字書き!$A$2:$N$502,7,0)))","v":""},{"$f":"IF(D111=\"\",\"\",IF(VLOOKUP(D111,漢字書き!$A$2:$N$502,7,0)=0,\"\",VLOOKUP(D111,漢字書き!$A$2:$N$502,7,0)))","v":"しい"},{"$f":"IF(E111=\"\",\"\",IF(VLOOKUP(E111,漢字書き!$A$2:$N$502,7,0)=0,\"\",VLOOKUP(E111,漢字書き!$A$2:$N$502,7,0)))","v":""},{"$f":"IF(F111=\"\",\"\",IF(VLOOKUP(F111,漢字書き!$A$2:$N$502,7,0)=0,\"\",VLOOKUP(F111,漢字書き!$A$2:$N$502,7,0)))","v":"い"},{"$f":"IF(G111=\"\",\"\",IF(VLOOKUP(G111,漢字書き!$A$2:$N$502,7,0)=0,\"\",VLOOKUP(G111,漢字書き!$A$2:$N$502,7,0)))","v":"ける"},{"$f":"IF(H111=\"\",\"\",IF(VLOOKUP(H111,漢字書き!$A$2:$N$502,7,0)=0,\"\",VLOOKUP(H111,漢字書き!$A$2:$N$502,7,0)))","v":""},{"$f":"IF(I111=\"\",\"\",IF(VLOOKUP(I111,漢字書き!$A$2:$N$502,7,0)=0,\"\",VLOOKUP(I111,漢字書き!$A$2:$N$502,7,0)))","v":""},{"$f":"IF(J111=\"\",\"\",IF(VLOOKUP(J111,漢字書き!$A$2:$N$502,7,0)=0,\"\",VLOOKUP(J111,漢字書き!$A$2:$N$502,7,0)))","v":""},{"$f":"IF(K111=\"\",\"\",IF(VLOOKUP(K111,漢字読み!$A$2:$O$502,7,0)=0,\"\",VLOOKUP(K111,漢字読み!$A$2:$O$502,7,0)))","v":""},{"$f":"IF(L111=\"\",\"\",IF(VLOOKUP(L111,漢字読み!$A$2:$O$502,7,0)=0,\"\",VLOOKUP(L111,漢字読み!$A$2:$O$502,7,0)))","v":"ぶ"},{"$f":"IF(M111=\"\",\"\",IF(VLOOKUP(M111,漢字読み!$A$2:$O$502,7,0)=0,\"\",VLOOKUP(M111,漢字読み!$A$2:$O$502,7,0)))","v":""},{"$f":"IF(N111=\"\",\"\",IF(VLOOKUP(N111,漢字読み!$A$2:$O$502,7,0)=0,\"\",VLOOKUP(N111,漢字読み!$A$2:$O$502,7,0)))","v":""},{"$f":"IF(O111=\"\",\"\",IF(VLOOKUP(O111,漢字読み!$A$2:$O$502,7,0)=0,\"\",VLOOKUP(O111,漢字読み!$A$2:$O$502,7,0)))","v":""},{"$f":"IF(P111=\"\",\"\",IF(VLOOKUP(P111,漢字読み!$A$2:$O$502,7,0)=0,\"\",VLOOKUP(P111,漢字読み!$A$2:$O$502,7,0)))","v":"しゃ"},{"$f":"IF(Q111=\"\",\"\",IF(VLOOKUP(Q111,漢字読み!$A$2:$O$502,7,0)=0,\"\",VLOOKUP(Q111,漢字読み!$A$2:$O$502,7,0)))","v":""},{"$f":"IF(R111=\"\",\"\",IF(VLOOKUP(R111,漢字読み!$A$2:$O$502,7,0)=0,\"\",VLOOKUP(R111,漢字読み!$A$2:$O$502,7,0)))","v":""},{"$f":"IF(S111=\"\",\"\",IF(VLOOKUP(S111,漢字読み!$A$2:$O$502,7,0)=0,\"\",VLOOKUP(S111,漢字読み!$A$2:$O$502,7,0)))","v":"かん"},{"$f":"IF(T111=\"\",\"\",IF(VLOOKUP(T111,漢字読み!$A$2:$O$502,7,0)=0,\"\",VLOOKUP(T111,漢字読み!$A$2:$O$502,7,0)))","v":""},null,null,"和歌山県教育委員会"]
[{"$f":"A106","v":180},187,204,188,59,67,212,9,205,12,77,92,106,219,216,94,96,178,61,5]
["⑳","⑲","⑱","⑰","⑯","⑮","⑭","⑬","⑫","⑪","⑩","⑨","⑧","⑦","⑥","⑤","④","③","②","①","次の［　　　　］の部分の漢字には読みがなをひらがなで書き、カタカナは漢字に直しなさい。",12,"「漢字の博士検定試験」練習問題　"]
[{"$f":"IF(A116=\"\",\"\",VLOOKUP(A116,漢字書き!$A$2:$N$506,6,0))","v":"［ダシャ］が交代する"},{"$f":"IF(B116=\"\",\"\",VLOOKUP(B116,漢字書き!$A$2:$N$506,6,0))","v":"クラスの［ダイヒョウ］"},{"$f":"IF(C116=\"\",\"\",VLOOKUP(C116,漢字書き!$A$2:$N$506,6,0))","v":"先生が［チュウイ］をする"},{"$f":"IF(D116=\"\",\"\",VLOOKUP(D116,漢字書き!$A$2:$N$506,6,0))","v":"友だちの［カ］わり"},{"$f":"IF(E116=\"\",\"\",VLOOKUP(E116,漢字書き!$A$2:$N$506,6,0))","v":"ゲームが［ハジ］まる"},{"$f":"IF(F116=\"\",\"\",VLOOKUP(F116,漢字書き!$A$2:$N$506,6,0))","v":"［ジキ］会長になる"},{"$f":"IF(G116=\"\",\"\",VLOOKUP(G116,漢字書き!$A$2:$N$506,6,0))","v":"［チョウシ］よくしゃべる"},{"$f":"IF(H116=\"\",\"\",VLOOKUP(H116,漢字書き!$A$2:$N$506,6,0))","v":"［ドウグ］を大切にする"},{"$f":"IF(I116=\"\",\"\",VLOOKUP(I116,漢字書き!$A$2:$N$506,6,0))","v":"お茶を［ソソ］ぐ"},{"$f":"IF(J116=\"\",\"\",VLOOKUP(J116,漢字書き!$A$2:$N$506,6,0))","v":"［キミ］も来ないか"},{"$f":"IF(K116=\"\",\"\",VLOOKUP(K116,漢字読み!$A$2:$O$506,6,0))","v":"かけ算の［式］"},{"$f":"IF(L116=\"\",\"\",VLOOKUP(L116,漢字読み!$A$2:$O$506,6,0))","v":"お[守]りを持つ"},{"$f":"IF(M116=\"\",\"\",VLOOKUP(M116,漢字読み!$A$2:$O$506,6,0))","v":"プルタブを［集］める"},{"$f":"IF(N116=\"\",\"\",VLOOKUP(N116,漢字読み!$A$2:$O$506,6,0))","v":"［定］まった場所におく"},{"$f":"IF(O116=\"\",\"\",VLOOKUP(O116,漢字読み!$A$2:$O$506,6,0))","v":"三角［定］ぎを使う"},{"$f":"IF(P116=\"\",\"\",VLOOKUP(P116,漢字読み!$A$2:$O$506,6,0))","v":"おもちゃを［取］る"},{"$f":"IF(Q116=\"\",\"\",VLOOKUP(Q116,漢字読み!$A$2:$O$506,6,0))","v":"［酒］のさかな"},{"$f":"IF(R116=\"\",\"\",VLOOKUP(R116,漢字読み!$A$2:$O$506,6,0))","v":"はん[対]の意見"},{"$f":"IF(S116=\"\",\"\",VLOOKUP(S116,漢字読み!$A$2:$O$506,6,0))","v":"オーケストラの［指］き"},{"$f":"IF(T116=\"\",\"\",VLOOKUP(T116,漢字読み!$A$2:$O$506,6,0))","v":"［区切］りがよい"},null,"級"]
[{"$f":"IF(A$16=\"\",\"\",VLOOKUP(A116,漢字書き!$A$2:$O$506,8,0))","v":"打者"},{"$f":"IF(B$16=\"\",\"\",VLOOKUP(B116,漢字書き!$A$2:$O$506,8,0))","v":"代表"},{"$f":"IF(C$16=\"\",\"\",VLOOKUP(C116,漢字書き!$A$2:$O$506,8,0))","v":"注意"},{"$f":"IF(D$16=\"\",\"\",VLOOKUP(D116,漢字書き!$A$2:$O$506,8,0))","v":"代"},{"$f":"IF(E$16=\"\",\"\",VLOOKUP(E116,漢字書き!$A$2:$O$506,8,0))","v":"始"},{"$f":"IF(F$16=\"\",\"\",VLOOKUP(F116,漢字書き!$A$2:$O$506,8,0))","v":"次期"},{"$f":"IF(G$16=\"\",\"\",VLOOKUP(G116,漢字書き!$A$2:$O$506,8,0))","v":"調子"},{"$f":"IF(H$16=\"\",\"\",VLOOKUP(H116,漢字書き!$A$2:$O$506,8,0))","v":"道具"},{"$f":"IF(I$16=\"\",\"\",VLOOKUP(I116,漢字書き!$A$2:$O$506,8,0))","v":"注"},{"$f":"IF(J$16=\"\",\"\",VLOOKUP(J116,漢字書き!$A$2:$O$506,8,0))","v":"君"},{"$f":"IF(K$16=\"\",\"\",VLOOKUP(K116,漢字読み!$A$2:$O$506,8,0))","v":"しき"},{"$f":"IF(L$16=\"\",\"\",VLOOKUP(L116,漢字読み!$A$2:$O$506,8,0))","v":"まも"},{"$f":"IF(M$16=\"\",\"\",VLOOKUP(M116,漢字読み!$A$2:$O$506,8,0))","v":"あつ"},{"$f":"IF(N$16=\"\",\"\",VLOOKUP(N116,漢字読み!$A$2:$O$506,8,0))","v":"さだ"},{"$f":"IF(O$16=\"\",\"\",VLOOKUP(O116,漢字読み!$A$2:$O$506,8,0))","v":"じょう"},{"$f":"IF(P$16=\"\",\"\",VLOOKUP(P116,漢字読み!$A$2:$O$506,8,0))","v":"と"},{"$f":"IF(Q$16=\"\",\"\",VLOOKUP(Q116,漢字読み!$A$2:$O$506,8,0))","v":"さけ"},{"$f":"IF(R$16=\"\",\"\",VLOOKUP(R116,漢字読み!$A$2:$O$506,8,0))","v":"たい"},{"$f":"IF(S$16=\"\",\"\",VLOOKUP(S116,漢字読み!$A$2:$O$506,8,0))","v":"し"},{"$f":"IF(T$16=\"\",\"\",VLOOKUP(T116,漢字読み!$A$2:$O$506,8,0))","v":"くぎ"},null,"名前"]
[{"$f":"IF(A116=\"\",\"\",IF(VLOOKUP(A116,漢字書き!$A$2:$N$502,7,0)=0,\"\",VLOOKUP(A116,漢字書き!$A$2:$N$502,7,0)))","v":""},{"$f":"IF(B116=\"\",\"\",IF(VLOOKUP(B116,漢字書き!$A$2:$N$502,7,0)=0,\"\",VLOOKUP(B116,漢字書き!$A$2:$N$502,7,0)))","v":""},{"$f":"IF(C116=\"\",\"\",IF(VLOOKUP(C116,漢字書き!$A$2:$N$502,7,0)=0,\"\",VLOOKUP(C116,漢字書き!$A$2:$N$502,7,0)))","v":""},{"$f":"IF(D116=\"\",\"\",IF(VLOOKUP(D116,漢字書き!$A$2:$N$502,7,0)=0,\"\",VLOOKUP(D116,漢字書き!$A$2:$N$502,7,0)))","v":"わり"},{"$f":"IF(E116=\"\",\"\",IF(VLOOKUP(E116,漢字書き!$A$2:$N$502,7,0)=0,\"\",VLOOKUP(E116,漢字書き!$A$2:$N$502,7,0)))","v":"まる"},{"$f":"IF(F116=\"\",\"\",IF(VLOOKUP(F116,漢字書き!$A$2:$N$502,7,0)=0,\"\",VLOOKUP(F116,漢字書き!$A$2:$N$502,7,0)))","v":"会長"},{"$f":"IF(G116=\"\",\"\",IF(VLOOKUP(G116,漢字書き!$A$2:$N$502,7,0)=0,\"\",VLOOKUP(G116,漢字書き!$A$2:$N$502,7,0)))","v":""},{"$f":"IF(H116=\"\",\"\",IF(VLOOKUP(H116,漢字書き!$A$2:$N$502,7,0)=0,\"\",VLOOKUP(H116,漢字書き!$A$2:$N$502,7,0)))","v":""},{"$f":"IF(I116=\"\",\"\",IF(VLOOKUP(I116,漢字書き!$A$2:$N$502,7,0)=0,\"\",VLOOKUP(I116,漢字書き!$A$2:$N$502,7,0)))","v":"ぐ"},{"$f":"IF(J116=\"\",\"\",IF(VLOOKUP(J116,漢字書き!$A$2:$N$502,7,0)=0,\"\",VLOOKUP(J116,漢字書き!$A$2:$N$502,7,0)))","v":""},{"$f":"IF(K116=\"\",\"\",IF(VLOOKUP(K116,漢字読み!$A$2:$O$502,7,0)=0,\"\",VLOOKUP(K116,漢字読み!$A$2:$O$502,7,0)))","v":""},{"$f":"IF(L116=\"\",\"\",IF(VLOOKUP(L116,漢字読み!$A$2:$O$502,7,0)=0,\"\",VLOOKUP(L116,漢字読み!$A$2:$O$502,7,0)))","v":"り"},{"$f":"IF(M116=\"\",\"\",IF(VLOOKUP(M116,漢字読み!$A$2:$O$502,7,0)=0,\"\",VLOOKUP(M116,漢字読み!$A$2:$O$502,7,0)))","v":"める"},{"$f":"IF(N116=\"\",\"\",IF(VLOOKUP(N116,漢字読み!$A$2:$O$502,7,0)=0,\"\",VLOOKUP(N116,漢字読み!$A$2:$O$502,7,0)))","v":"まった"},{"$f":"IF(O116=\"\",\"\",IF(VLOOKUP(O116,漢字読み!$A$2:$O$502,7,0)=0,\"\",VLOOKUP(O116,漢字読み!$A$2:$O$502,7,0)))","v":"ぎ"},{"$f":"IF(P116=\"\",\"\",IF(VLOOKUP(P116,漢字読み!$A$2:$O$502,7,0)=0,\"\",VLOOKUP(P116,漢字読み!$A$2:$O$502,7,0)))","v":"る"},{"$f":"IF(Q116=\"\",\"\",IF(VLOOKUP(Q116,漢字読み!$A$2:$O$502,7,0)=0,\"\",VLOOKUP(Q116,漢字読み!$A$2:$O$502,7,0)))","v":""},{"$f":"IF(R116=\"\",\"\",IF(VLOOKUP(R116,漢字読み!$A$2:$O$502,7,0)=0,\"\",VLOOKUP(R116,漢字読み!$A$2:$O$502,7,0)))","v":""},{"$f":"IF(S116=\"\",\"\",IF(VLOOKUP(S116,漢字読み!$A$2:$O$502,7,0)=0,\"\",VLOOKUP(S116,漢字読み!$A$2:$O$502,7,0)))","v":"き"},{"$f":"IF(T116=\"\",\"\",IF(VLOOKUP(T116,漢字読み!$A$2:$O$502,7,0)=0,\"\",VLOOKUP(T116,漢字読み!$A$2:$O$502,7,0)))","v":"り"},null,null,"和歌山県教育委員会"]
[{"$f":"INDIRECT(\"'関数（書き）'!C\" & COLUMN(B$1)+SUM($AD$2:$AD122))","v":90},{"$f":"INDIRECT(\"'関数（書き）'!C\" & COLUMN(C$1)+SUM($AD$2:$AD122))","v":76},{"$f":"INDIRECT(\"'関数（書き）'!C\" & COLUMN(D$1)+SUM($AD$2:$AD122))","v":234},{"$f":"INDIRECT(\"'関数（書き）'!C\" & COLUMN(E$1)+SUM($AD$2:$AD122))","v":158},{"$f":"INDIRECT(\"'関数（書き）'!C\" & COLUMN(F$1)+SUM($AD$2:$AD122))","v":229},{"$f":"INDIRECT(\"'関数（書き）'!C\" & COLUMN(G$1)+SUM($AD$2:$AD122))","v":146},{"$f":"INDIRECT(\"'関数（書き）'!C\" & COLUMN(H$1)+SUM($AD$2:$AD122))","v":147},{"$f":"INDIRECT(\"'関数（書き）'!C\" & COLUMN(I$1)+SUM($AD$2:$AD122))","v":105},{"$f":"INDIRECT(\"'関数（書き）'!C\" & COLUMN(J$1)+SUM($AD$2:$AD122))","v":223},{"$f":"INDIRECT(\"'関数（書き）'!C\" & COLUMN(K$1)+SUM($AD$2:$AD122))","v":186},{"$f":"INDIRECT(\"'関数（読み）'!C\" & COLUMN(B$1)+SUM($AD$2:$AD122))","v":170},{"$f":"INDIRECT(\"'関数（読み）'!C\" & COLUMN(C$1)+SUM($AD$2:$AD122))","v":17},{"$f":"INDIRECT(\"'関数（読み）'!C\" & COLUMN(D$1)+SUM($AD$2:$AD122))","v":32},{"$f":"INDIRECT(\"'関数（読み）'!C\" & COLUMN(E$1)+SUM($AD$2:$AD122))","v":113},{"$f":"INDIRECT(\"'関数（読み）'!C\" & COLUMN(F$1)+SUM($AD$2:$AD122))","v":166},{"$f":"INDIRECT(\"'関数（読み）'!C\" & COLUMN(G$1)+SUM($AD$2:$AD122))","v":134},{"$f":"INDIRECT(\"'関数（読み）'!C\" & COLUMN(H$1)+SUM($AD$2:$AD122))","v":100},{"$f":"INDIRECT(\"'関数（読み）'!C\" & COLUMN(I$1)+SUM($AD$2:$AD122))","v":214},{"$f":"INDIRECT(\"'関数（読み）'!C\" & COLUMN(J$1)+SUM($AD$2:$AD122))","v":188},{"$f":"INDIRECT(\"'関数（読み）'!C\" & COLUMN(K$1)+SUM($AD$2:$AD122))","v":204}]
["⑳","⑲","⑱","⑰","⑯","⑮","⑭","⑬","⑫","⑪","⑩","⑨","⑧","⑦","⑥","⑤","④","③","②","①","次の［　　　　］の部分の漢字には読みがなをひらがなで書き、カタカナは漢字に直しなさい。",12,"「漢字の博士検定試験」練習問題　",null,null,null,null,null,"←",10,"問",{"$f":"AH107+1","v":121},"～",{"$f":"SUM($AD$2:$AD122)+10","v":130},"問まで",{"$f":"COUNTIF($A$1:$T$200,T123)","v":2}]
[{"$f":"IF(A121=\"\",\"\",VLOOKUP(A121,漢字書き!$A$2:$N$506,6,0))","v":"お［マモ]りをつける"},{"$f":"IF(B121=\"\",\"\",VLOOKUP(B121,漢字書き!$A$2:$N$506,6,0))","v":"［シキジョウ］に入る"},{"$f":"IF(C121=\"\",\"\",VLOOKUP(C121,漢字書き!$A$2:$N$506,6,0))","v":"［マメ］をまく"},{"$f":"IF(D121=\"\",\"\",VLOOKUP(D121,漢字書き!$A$2:$N$506,6,0))","v":"つくえを［セイ］とんする"},{"$f":"IF(E121=\"\",\"\",VLOOKUP(E121,漢字書き!$A$2:$N$506,6,0))","v":"［キョウト］へ行く"},{"$f":"IF(F121=\"\",\"\",VLOOKUP(F121,漢字書き!$A$2:$N$506,6,0))","v":"苦しい時の[カミ]だのみ"},{"$f":"IF(G121=\"\",\"\",VLOOKUP(G121,漢字書き!$A$2:$N$506,6,0))","v":"［シンジツ］を知る"},{"$f":"IF(H121=\"\",\"\",VLOOKUP(H121,漢字書き!$A$2:$N$506,6,0))","v":"［シュウジ］の手本"},{"$f":"IF(I121=\"\",\"\",VLOOKUP(I121,漢字書き!$A$2:$N$506,6,0))","v":"［クチブエ］をふく"},{"$f":"IF(J121=\"\",\"\",VLOOKUP(J121,漢字書き!$A$2:$N$506,6,0))","v":"［ダイキン］をはらう"},{"$f":"IF(K121=\"\",\"\",VLOOKUP(K121,漢字読み!$A$2:$O$506,6,0))","v":"［家族］と出かける"},{"$f":"IF(L121=\"\",\"\",VLOOKUP(L121,漢字読み!$A$2:$O$506,6,0))","v":"［軽音楽］を聞く"},{"$f":"IF(M121=\"\",\"\",VLOOKUP(M121,漢字読み!$A$2:$O$506,6,0))","v":"［湖］のほとり"},{"$f":"IF(N121=\"\",\"\",VLOOKUP(N121,漢字読み!$A$2:$O$506,6,0))","v":"［宿］はく先をさがす"},{"$f":"IF(O121=\"\",\"\",VLOOKUP(O121,漢字読み!$A$2:$O$506,6,0))","v":"［安息］日をとる"},{"$f":"IF(P121=\"\",\"\",VLOOKUP(P121,漢字読み!$A$2:$O$506,6,0))","v":"木を［植］える"},{"$f":"IF(Q121=\"\",\"\",VLOOKUP(Q121,漢字読み!$A$2:$O$506,6,0))","v":"［終点］まで行く"},{"$f":"IF(R121=\"\",\"\",VLOOKUP(R121,漢字読み!$A$2:$O$506,6,0))","v":"はん人を［追］う"},{"$f":"IF(S121=\"\",\"\",VLOOKUP(S121,漢字読み!$A$2:$O$506,6,0))","v":"［第一号］のホームラン"},{"$f":"IF(T121=\"\",\"\",VLOOKUP(T121,漢字読み!$A$2:$O$506,6,0))","v":"火にあぶらを［注］ぐ"},null,"級"]
[null,null,null,null,null,null,null,null,null,null,null,null,null,null,null,null,null,null,null,null,null,"名前"]
[{"$f":"IF(A121=\"\",\"\",IF(VLOOKUP(A121,漢字書き!$A$2:$N$502,7,0)=0,\"\",VLOOKUP(A121,漢字書き!$A$2:$N$502,7,0)))","v":"り"},{"$f":"IF(B121=\"\",\"\",IF(VLOOKUP(B121,漢字書き!$A$2:$N$502,7,0)=0,\"\",VLOOKUP(B121,漢字書き!$A$2:$N$502,7,0)))","v":""},{"$f":"IF(C121=\"\",\"\",IF(VLOOKUP(C121,漢字書き!$A$2:$N$502,7,0)=0,\"\",VLOOKUP(C121,漢字書き!$A$2:$N$502,7,0)))","v":""},{"$f":"IF(D121=\"\",\"\",IF(VLOOKUP(D121,漢字書き!$A$2:$N$502,7,0)=0,\"\",VLOOKUP(D121,漢字書き!$A$2:$N$502,7,0)))","v":"とん"},{"$f":"IF(E121=\"\",\"\",IF(VLOOKUP(E121,漢字書き!$A$2:$N$502,7,0)=0,\"\",VLOOKUP(E121,漢字書き!$A$2:$N$502,7,0)))","v":""},{"$f":"IF(F121=\"\",\"\",IF(VLOOKUP(F121,漢字書き!$A$2:$N$502,7,0)=0,\"\",VLOOKUP(F121,漢字書き!$A$2:$N$502,7,0)))","v":"だのみ"},{"$f":"IF(G121=\"\",\"\",IF(VLOOKUP(G121,漢字書き!$A$2:$N$502,7,0)=0,\"\",VLOOKUP(G121,漢字書き!$A$2:$N$502,7,0)))","v":""},{"$f":"IF(H121=\"\",\"\",IF(VLOOKUP(H121,漢字書き!$A$2:$N$502,7,0)=0,\"\",VLOOKUP(H121,漢字書き!$A$2:$N$502,7,0)))","v":""},{"$f":"IF(I121=\"\",\"\",IF(VLOOKUP(I121,漢字書き!$A$2:$N$502,7,0)=0,\"\",VLOOKUP(I121,漢字書き!$A$2:$N$502,7,0)))","v":""},{"$f":"IF(J121=\"\",\"\",IF(VLOOKUP(J121,漢字書き!$A$2:$N$502,7,0)=0,\"\",VLOOKUP(J121,漢字書き!$A$2:$N$502,7,0)))","v":""},{"$f":"IF(K121=\"\",\"\",IF(VLOOKUP(K121,漢字読み!$A$2:$O$502,7,0)=0,\"\",VLOOKUP(K121,漢字読み!$A$2:$O$502,7,0)))","v":""},{"$f":"IF(L121=\"\",\"\",IF(VLOOKUP(L121,漢字読み!$A$2:$O$502,7,0)=0,\"\",VLOOKUP(L121,漢字読み!$A$2:$O$502,7,0)))","v":""},{"$f":"IF(M121=\"\",\"\",IF(VLOOKUP(M121,漢字読み!$A$2:$O$502,7,0)=0,\"\",VLOOKUP(M121,漢字読み!$A$2:$O$502,7,0)))","v":""},{"$f":"IF(N121=\"\",\"\",IF(VLOOKUP(N121,漢字読み!$A$2:$O$502,7,0)=0,\"\",VLOOKUP(N121,漢字読み!$A$2:$O$502,7,0)))","v":"はく"},{"$f":"IF(O121=\"\",\"\",IF(VLOOKUP(O121,漢字読み!$A$2:$O$502,7,0)=0,\"\",VLOOKUP(O121,漢字読み!$A$2:$O$502,7,0)))","v":"日"},{"$f":"IF(P121=\"\",\"\",IF(VLOOKUP(P121,漢字読み!$A$2:$O$502,7,0)=0,\"\",VLOOKUP(P121,漢字読み!$A$2:$O$502,7,0)))","v":"える"},{"$f":"IF(Q121=\"\",\"\",IF(VLOOKUP(Q121,漢字読み!$A$2:$O$502,7,0)=0,\"\",VLOOKUP(Q121,漢字読み!$A$2:$O$502,7,0)))","v":""},{"$f":"IF(R121=\"\",\"\",IF(VLOOKUP(R121,漢字読み!$A$2:$O$502,7,0)=0,\"\",VLOOKUP(R121,漢字読み!$A$2:$O$502,7,0)))","v":"う"},{"$f":"IF(S121=\"\",\"\",IF(VLOOKUP(S121,漢字読み!$A$2:$O$502,7,0)=0,\"\",VLOOKUP(S121,漢字読み!$A$2:$O$502,7,0)))","v":""},{"$f":"IF(T121=\"\",\"\",IF(VLOOKUP(T121,漢字読み!$A$2:$O$502,7,0)=0,\"\",VLOOKUP(T121,漢字読み!$A$2:$O$502,7,0)))","v":"ぐ"},null,null,"和歌山県教育委員会"]
[{"$f":"INDIRECT(\"'関数（書き）'!C\" & COLUMN(B$1)+SUM($AD$2:$AD127))","v":218},{"$f":"INDIRECT(\"'関数（書き）'!C\" & COLUMN(C$1)+SUM($AD$2:$AD127))","v":233},{"$f":"INDIRECT(\"'関数（書き）'!C\" & COLUMN(D$1)+SUM($AD$2:$AD127))","v":127},{"$f":"INDIRECT(\"'関数（書き）'!C\" & COLUMN(E$1)+SUM($AD$2:$AD127))","v":37},{"$f":"INDIRECT(\"'関数（書き）'!C\" & COLUMN(F$1)+SUM($AD$2:$AD127))","v":142},{"$f":"INDIRECT(\"'関数（書き）'!C\" & COLUMN(G$1)+SUM($AD$2:$AD127))","v":169},{"$f":"INDIRECT(\"'関数（書き）'!C\" & COLUMN(H$1)+SUM($AD$2:$AD127))","v":99},{"$f":"INDIRECT(\"'関数（書き）'!C\" & COLUMN(I$1)+SUM($AD$2:$AD127))","v":164},{"$f":"INDIRECT(\"'関数（書き）'!C\" & COLUMN(J$1)+SUM($AD$2:$AD127))","v":112},{"$f":"INDIRECT(\"'関数（書き）'!C\" & COLUMN(K$1)+SUM($AD$2:$AD127))","v":213},{"$f":"INDIRECT(\"'関数（読み）'!C\" & COLUMN(B$1)+SUM($AD$2:$AD127))","v":35},{"$f":"INDIRECT(\"'関数（読み）'!C\" & COLUMN(C$1)+SUM($AD$2:$AD127))","v":141},{"$f":"INDIRECT(\"'関数（読み）'!C\" & COLUMN(D$1)+SUM($AD$2:$AD127))","v":60},{"$f":"INDIRECT(\"'関数（読み）'!C\" & COLUMN(E$1)+SUM($AD$2:$AD127))","v":127},{"$f":"INDIRECT(\"'関数（読み）'!C\" & COLUMN(F$1)+SUM($AD$2:$AD127))","v":89},{"$f":"INDIRECT(\"'関数（読み）'!C\" & COLUMN(G$1)+SUM($AD$2:$AD127))","v":95},{"$f":"INDIRECT(\"'関数（読み）'!C\" & COLUMN(H$1)+SUM($AD$2:$AD127))","v":8},{"$f":"INDIRECT(\"'関数（読み）'!C\" & COLUMN(I$1)+SUM($AD$2:$AD127))","v":187},{"$f":"INDIRECT(\"'関数（読み）'!C\" & COLUMN(J$1)+SUM($AD$2:$AD127))","v":10},{"$f":"INDIRECT(\"'関数（読み）'!C\" & COLUMN(K$1)+SUM($AD$2:$AD127))","v":11}]
["⑳","⑲","⑱","⑰","⑯","⑮","⑭","⑬","⑫","⑪","⑩","⑨","⑧","⑦","⑥","⑤","④","③","②","①","次の［　　　　］の部分の漢字には読みがなをひらがなで書き、カタカナは漢字に直しなさい。",12,"「漢字の博士検定試験」練習問題　",null,null,null,null,null,"←",10,"問",{"$f":"AH122+1","v":131},"～",{"$f":"SUM($AD$2:$AD127)+10","v":140},"問まで",{"$f":"COUNTIF($A$1:$T$200,T128)","v":2}]
[{"$f":"IF(A126=\"\",\"\",VLOOKUP(A126,漢字書き!$A$2:$N$506,6,0))","v":"ルールを［サダ］める"},{"$f":"IF(B126=\"\",\"\",VLOOKUP(B126,漢字書き!$A$2:$N$506,6,0))","v":"なっ［トウ］を食べる"},{"$f":"IF(C126=\"\",\"\",VLOOKUP(C126,漢字書き!$A$2:$N$506,6,0))","v":"［ショウ］わ生まれ"},{"$f":"IF(D126=\"\",\"\",VLOOKUP(D126,漢字書き!$A$2:$N$506,6,0))","v":"［コウ］ふくをまねくネコ"},{"$f":"IF(E126=\"\",\"\",VLOOKUP(E126,漢字書き!$A$2:$N$506,6,0))","v":"［ミ］をすくめる"},{"$f":"IF(F126=\"\",\"\",VLOOKUP(F126,漢字書き!$A$2:$N$506,6,0))","v":"いろいろな［クウソウ］"},{"$f":"IF(G126=\"\",\"\",VLOOKUP(G126,漢字書き!$A$2:$N$506,6,0))","v":"［キュウシュウ］地方"},{"$f":"IF(H126=\"\",\"\",VLOOKUP(H126,漢字書き!$A$2:$N$506,6,0))","v":"［マッタ］くわからない"},{"$f":"IF(I126=\"\",\"\",VLOOKUP(I126,漢字書き!$A$2:$N$506,6,0))","v":"町に［ス］む"},{"$f":"IF(J126=\"\",\"\",VLOOKUP(J126,漢字書き!$A$2:$N$506,6,0))","v":"じてんで［シラ］べる"},{"$f":"IF(K126=\"\",\"\",VLOOKUP(K126,漢字読み!$A$2:$O$506,6,0))","v":"そっぽを［向］く"},{"$f":"IF(L126=\"\",\"\",VLOOKUP(L126,漢字読み!$A$2:$O$506,6,0))","v":"トイレの［神］さま"},{"$f":"IF(M126=\"\",\"\",VLOOKUP(M126,漢字読み!$A$2:$O$506,6,0))","v":"じゅぎょうを［始］める"},{"$f":"IF(N126=\"\",\"\",VLOOKUP(N126,漢字読み!$A$2:$O$506,6,0))","v":"[商人]に会う"},{"$f":"IF(O126=\"\",\"\",VLOOKUP(O126,漢字読み!$A$2:$O$506,6,0))","v":"池の［主］の大ナマズ"},{"$f":"IF(P126=\"\",\"\",VLOOKUP(P126,漢字読み!$A$2:$O$506,6,0))","v":"うめ［酒］を飲む"},{"$f":"IF(Q126=\"\",\"\",VLOOKUP(Q126,漢字読み!$A$2:$O$506,6,0))","v":"［苦］いくすり"},{"$f":"IF(R126=\"\",\"\",VLOOKUP(R126,漢字読み!$A$2:$O$506,6,0))","v":"［代］わりに行きます"},{"$f":"IF(S126=\"\",\"\",VLOOKUP(S126,漢字読み!$A$2:$O$506,6,0))","v":"［雨具］を使う"},{"$f":"IF(T126=\"\",\"\",VLOOKUP(T126,漢字読み!$A$2:$O$506,6,0))","v":"［家具］を買う"},null,"級"]
[null,null,null,null,null,null,null,null,null,null,null,null,null,null,null,null,null,null,null,null,null,"名前"]
[{"$f":"IF(A126=\"\",\"\",IF(VLOOKUP(A126,漢字書き!$A$2:$N$502,7,0)=0,\"\",VLOOKUP(A126,漢字書き!$A$2:$N$502,7,0)))","v":"める"},{"$f":"IF(B126=\"\",\"\",IF(VLOOKUP(B126,漢字書き!$A$2:$N$502,7,0)=0,\"\",VLOOKUP(B126,漢字書き!$A$2:$N$502,7,0)))","v":""},{"$f":"IF(C126=\"\",\"\",IF(VLOOKUP(C126,漢字書き!$A$2:$N$502,7,0)=0,\"\",VLOOKUP(C126,漢字書き!$A$2:$N$502,7,0)))","v":"わ"},{"$f":"IF(D126=\"\",\"\",IF(VLOOKUP(D126,漢字書き!$A$2:$N$502,7,0)=0,\"\",VLOOKUP(D126,漢字書き!$A$2:$N$502,7,0)))","v":"ふく"},{"$f":"IF(E126=\"\",\"\",IF(VLOOKUP(E126,漢字書き!$A$2:$N$502,7,0)=0,\"\",VLOOKUP(E126,漢字書き!$A$2:$N$502,7,0)))","v":""},{"$f":"IF(F126=\"\",\"\",IF(VLOOKUP(F126,漢字書き!$A$2:$N$502,7,0)=0,\"\",VLOOKUP(F126,漢字書き!$A$2:$N$502,7,0)))","v":""},{"$f":"IF(G126=\"\",\"\",IF(VLOOKUP(G126,漢字書き!$A$2:$N$502,7,0)=0,\"\",VLOOKUP(G126,漢字書き!$A$2:$N$502,7,0)))","v":""},{"$f":"IF(H126=\"\",\"\",IF(VLOOKUP(H126,漢字書き!$A$2:$N$502,7,0)=0,\"\",VLOOKUP(H126,漢字書き!$A$2:$N$502,7,0)))","v":"く"},{"$f":"IF(I126=\"\",\"\",IF(VLOOKUP(I126,漢字書き!$A$2:$N$502,7,0)=0,\"\",VLOOKUP(I126,漢字書き!$A$2:$N$502,7,0)))","v":"む"},{"$f":"IF(J126=\"\",\"\",IF(VLOOKUP(J126,漢字書き!$A$2:$N$502,7,0)=0,\"\",VLOOKUP(J126,漢字書き!$A$2:$N$502,7,0)))","v":"べる"},{"$f":"IF(K126=\"\",\"\",IF(VLOOKUP(K126,漢字読み!$A$2:$O$502,7,0)=0,\"\",VLOOKUP(K126,漢字読み!$A$2:$O$502,7,0)))","v":"く"},{"$f":"IF(L126=\"\",\"\",IF(VLOOKUP(L126,漢字読み!$A$2:$O$502,7,0)=0,\"\",VLOOKUP(L126,漢字読み!$A$2:$O$502,7,0)))","v":"さま"},{"$f":"IF(M126=\"\",\"\",IF(VLOOKUP(M126,漢字読み!$A$2:$O$502,7,0)=0,\"\",VLOOKUP(M126,漢字読み!$A$2:$O$502,7,0)))","v":"める"},{"$f":"IF(N126=\"\",\"\",IF(VLOOKUP(N126,漢字読み!$A$2:$O$502,7,0)=0,\"\",VLOOKUP(N126,漢字読み!$A$2:$O$502,7,0)))","v":""},{"$f":"IF(O126=\"\",\"\",IF(VLOOKUP(O126,漢字読み!$A$2:$O$502,7,0)=0,\"\",VLOOKUP(O126,漢字読み!$A$2:$O$502,7,0)))","v":""},{"$f":"IF(P126=\"\",\"\",IF(VLOOKUP(P126,漢字読み!$A$2:$O$502,7,0)=0,\"\",VLOOKUP(P126,漢字読み!$A$2:$O$502,7,0)))","v":""},{"$f":"IF(Q126=\"\",\"\",IF(VLOOKUP(Q126,漢字読み!$A$2:$O$502,7,0)=0,\"\",VLOOKUP(Q126,漢字読み!$A$2:$O$502,7,0)))","v":"い"},{"$f":"IF(R126=\"\",\"\",IF(VLOOKUP(R126,漢字読み!$A$2:$O$502,7,0)=0,\"\",VLOOKUP(R126,漢字読み!$A$2:$O$502,7,0)))","v":"わり"},{"$f":"IF(S126=\"\",\"\",IF(VLOOKUP(S126,漢字読み!$A$2:$O$502,7,0)=0,\"\",VLOOKUP(S126,漢字読み!$A$2:$O$502,7,0)))","v":""},{"$f":"IF(T126=\"\",\"\",IF(VLOOKUP(T126,漢字読み!$A$2:$O$502,7,0)=0,\"\",VLOOKUP(T126,漢字読み!$A$2:$O$502,7,0)))","v":""},null,null,"和歌山県教育委員会"]
[{"$f":"A121","v":90},76,234,158,229,146,147,105,223,186,170,17,32,113,166,134,100,214,188,204]
["⑳","⑲","⑱","⑰","⑯","⑮","⑭","⑬","⑫","⑪","⑩","⑨","⑧","⑦","⑥","⑤","④","③","②","①","次の［　　　　］の部分の漢字には読みがなをひらがなで書き、カタカナは漢字に直しなさい。",12,"「漢字の博士検定試験」練習問題　"]
[{"$f":"IF(A131=\"\",\"\",VLOOKUP(A131,漢字書き!$A$2:$N$506,6,0))","v":"お［マモ]りをつける"},{"$f":"IF(B131=\"\",\"\",VLOOKUP(B131,漢字書き!$A$2:$N$506,6,0))","v":"［シキジョウ］に入る"},{"$f":"IF(C131=\"\",\"\",VLOOKUP(C131,漢字書き!$A$2:$N$506,6,0))","v":"［マメ］をまく"},{"$f":"IF(D131=\"\",\"\",VLOOKUP(D131,漢字書き!$A$2:$N$506,6,0))","v":"つくえを［セイ］とんする"},{"$f":"IF(E131=\"\",\"\",VLOOKUP(E131,漢字書き!$A$2:$N$506,6,0))","v":"［キョウト］へ行く"},{"$f":"IF(F131=\"\",\"\",VLOOKUP(F131,漢字書き!$A$2:$N$506,6,0))","v":"苦しい時の[カミ]だのみ"},{"$f":"IF(G131=\"\",\"\",VLOOKUP(G131,漢字書き!$A$2:$N$506,6,0))","v":"［シンジツ］を知る"},{"$f":"IF(H131=\"\",\"\",VLOOKUP(H131,漢字書き!$A$2:$N$506,6,0))","v":"［シュウジ］の手本"},{"$f":"IF(I131=\"\",\"\",VLOOKUP(I131,漢字書き!$A$2:$N$506,6,0))","v":"［クチブエ］をふく"},{"$f":"IF(J131=\"\",\"\",VLOOKUP(J131,漢字書き!$A$2:$N$506,6,0))","v":"［ダイキン］をはらう"},{"$f":"IF(K131=\"\",\"\",VLOOKUP(K131,漢字読み!$A$2:$O$506,6,0))","v":"［家族］と出かける"},{"$f":"IF(L131=\"\",\"\",VLOOKUP(L131,漢字読み!$A$2:$O$506,6,0))","v":"［軽音楽］を聞く"},{"$f":"IF(M131=\"\",\"\",VLOOKUP(M131,漢字読み!$A$2:$O$506,6,0))","v":"［湖］のほとり"},{"$f":"IF(N131=\"\",\"\",VLOOKUP(N131,漢字読み!$A$2:$O$506,6,0))","v":"［宿］はく先をさがす"},{"$f":"IF(O131=\"\",\"\",VLOOKUP(O131,漢字読み!$A$2:$O$506,6,0))","v":"［安息］日をとる"},{"$f":"IF(P131=\"\",\"\",VLOOKUP(P131,漢字読み!$A$2:$O$506,6,0))","v":"木を［植］える"},{"$f":"IF(Q131=\"\",\"\",VLOOKUP(Q131,漢字読み!$A$2:$O$506,6,0))","v":"［終点］まで行く"},{"$f":"IF(R131=\"\",\"\",VLOOKUP(R131,漢字読み!$A$2:$O$506,6,0))","v":"はん人を［追］う"},{"$f":"IF(S131=\"\",\"\",VLOOKUP(S131,漢字読み!$A$2:$O$506,6,0))","v":"［第一号］のホームラン"},{"$f":"IF(T131=\"\",\"\",VLOOKUP(T131,漢字読み!$A$2:$O$506,6,0))","v":"火にあぶらを［注］ぐ"},null,"級"]
[{"$f":"IF(A$11=\"\",\"\",VLOOKUP(A131,漢字書き!$A$2:$O$506,8,0))","v":"守"},{"$f":"IF(B$11=\"\",\"\",VLOOKUP(B131,漢字書き!$A$2:$O$506,8,0))","v":"式場"},{"$f":"IF(C$11=\"\",\"\",VLOOKUP(C131,漢字書き!$A$2:$O$506,8,0))","v":"豆"},{"$f":"IF(D$11=\"\",\"\",VLOOKUP(D131,漢字書き!$A$2:$O$506,8,0))","v":"整"},{"$f":"IF(E$11=\"\",\"\",VLOOKUP(E131,漢字書き!$A$2:$O$506,8,0))","v":"京都"},{"$f":"IF(F$11=\"\",\"\",VLOOKUP(F131,漢字書き!$A$2:$O$506,8,0))","v":"神"},{"$f":"IF(G$11=\"\",\"\",VLOOKUP(G131,漢字書き!$A$2:$O$506,8,0))","v":"真実"},{"$f":"IF(H$11=\"\",\"\",VLOOKUP(H131,漢字書き!$A$2:$O$506,8,0))","v":"習字"},{"$f":"IF(I$11=\"\",\"\",VLOOKUP(I131,漢字書き!$A$2:$O$506,8,0))","v":"口笛"},{"$f":"IF(J$11=\"\",\"\",VLOOKUP(J131,漢字書き!$A$2:$O$506,8,0))","v":"代金"},{"$f":"IF(K$11=\"\",\"\",VLOOKUP(K131,漢字読み!$A$2:$O$506,8,0))","v":"かぞく"},{"$f":"IF(L$11=\"\",\"\",VLOOKUP(L131,漢字読み!$A$2:$O$506,8,0))","v":"けいおんがく"},{"$f":"IF(M$11=\"\",\"\",VLOOKUP(M131,漢字読み!$A$2:$O$506,8,0))","v":"みずうみ"},{"$f":"IF(N$11=\"\",\"\",VLOOKUP(N131,漢字読み!$A$2:$O$506,8,0))","v":"しゅく"},{"$f":"IF(O$11=\"\",\"\",VLOOKUP(O131,漢字読み!$A$2:$O$506,8,0))","v":"あんそく"},{"$f":"IF(P$11=\"\",\"\",VLOOKUP(P131,漢字読み!$A$2:$O$506,8,0))","v":"う"},{"$f":"IF(Q$11=\"\",\"\",VLOOKUP(Q131,漢字読み!$A$2:$O$506,8,0))","v":"しゅうてん"},{"$f":"IF(R$11=\"\",\"\",VLOOKUP(R131,漢字読み!$A$2:$O$506,8,0))","v":"お"},{"$f":"IF(S$11=\"\",\"\",VLOOKUP(S131,漢字読み!$A$2:$O$506,8,0))","v":"だいいちごう"},{"$f":"IF(T$11=\"\",\"\",VLOOKUP(T131,漢字読み!$A$2:$O$506,8,0))","v":"そそ"},null,"名前"]
[{"$f":"IF(A131=\"\",\"\",IF(VLOOKUP(A131,漢字書き!$A$2:$N$502,7,0)=0,\"\",VLOOKUP(A131,漢字書き!$A$2:$N$502,7,0)))","v":"り"},{"$f":"IF(B131=\"\",\"\",IF(VLOOKUP(B131,漢字書き!$A$2:$N$502,7,0)=0,\"\",VLOOKUP(B131,漢字書き!$A$2:$N$502,7,0)))","v":""},{"$f":"IF(C131=\"\",\"\",IF(VLOOKUP(C131,漢字書き!$A$2:$N$502,7,0)=0,\"\",VLOOKUP(C131,漢字書き!$A$2:$N$502,7,0)))","v":""},{"$f":"IF(D131=\"\",\"\",IF(VLOOKUP(D131,漢字書き!$A$2:$N$502,7,0)=0,\"\",VLOOKUP(D131,漢字書き!$A$2:$N$502,7,0)))","v":"とん"},{"$f":"IF(E131=\"\",\"\",IF(VLOOKUP(E131,漢字書き!$A$2:$N$502,7,0)=0,\"\",VLOOKUP(E131,漢字書き!$A$2:$N$502,7,0)))","v":""},{"$f":"IF(F131=\"\",\"\",IF(VLOOKUP(F131,漢字書き!$A$2:$N$502,7,0)=0,\"\",VLOOKUP(F131,漢字書き!$A$2:$N$502,7,0)))","v":"だのみ"},{"$f":"IF(G131=\"\",\"\",IF(VLOOKUP(G131,漢字書き!$A$2:$N$502,7,0)=0,\"\",VLOOKUP(G131,漢字書き!$A$2:$N$502,7,0)))","v":""},{"$f":"IF(H131=\"\",\"\",IF(VLOOKUP(H131,漢字書き!$A$2:$N$502,7,0)=0,\"\",VLOOKUP(H131,漢字書き!$A$2:$N$502,7,0)))","v":""},{"$f":"IF(I131=\"\",\"\",IF(VLOOKUP(I131,漢字書き!$A$2:$N$502,7,0)=0,\"\",VLOOKUP(I131,漢字書き!$A$2:$N$502,7,0)))","v":""},{"$f":"IF(J131=\"\",\"\",IF(VLOOKUP(J131,漢字書き!$A$2:$N$502,7,0)=0,\"\",VLOOKUP(J131,漢字書き!$A$2:$N$502,7,0)))","v":""},{"$f":"IF(K131=\"\",\"\",IF(VLOOKUP(K131,漢字読み!$A$2:$O$502,7,0)=0,\"\",VLOOKUP(K131,漢字読み!$A$2:$O$502,7,0)))","v":""},{"$f":"IF(L131=\"\",\"\",IF(VLOOKUP(L131,漢字読み!$A$2:$O$502,7,0)=0,\"\",VLOOKUP(L131,漢字読み!$A$2:$O$502,7,0)))","v":""},{"$f":"IF(M131=\"\",\"\",IF(VLOOKUP(M131,漢字読み!$A$2:$O$502,7,0)=0,\"\",VLOOKUP(M131,漢字読み!$A$2:$O$502,7,0)))","v":""},{"$f":"IF(N131=\"\",\"\",IF(VLOOKUP(N131,漢字読み!$A$2:$O$502,7,0)=0,\"\",VLOOKUP(N131,漢字読み!$A$2:$O$502,7,0)))","v":"はく"},{"$f":"IF(O131=\"\",\"\",IF(VLOOKUP(O131,漢字読み!$A$2:$O$502,7,0)=0,\"\",VLOOKUP(O131,漢字読み!$A$2:$O$502,7,0)))","v":"日"},{"$f":"IF(P131=\"\",\"\",IF(VLOOKUP(P131,漢字読み!$A$2:$O$502,7,0)=0,\"\",VLOOKUP(P131,漢字読み!$A$2:$O$502,7,0)))","v":"える"},{"$f":"IF(Q131=\"\",\"\",IF(VLOOKUP(Q131,漢字読み!$A$2:$O$502,7,0)=0,\"\",VLOOKUP(Q131,漢字読み!$A$2:$O$502,7,0)))","v":""},{"$f":"IF(R131=\"\",\"\",IF(VLOOKUP(R131,漢字読み!$A$2:$O$502,7,0)=0,\"\",VLOOKUP(R131,漢字読み!$A$2:$O$502,7,0)))","v":"う"},{"$f":"IF(S131=\"\",\"\",IF(VLOOKUP(S131,漢字読み!$A$2:$O$502,7,0)=0,\"\",VLOOKUP(S131,漢字読み!$A$2:$O$502,7,0)))","v":""},{"$f":"IF(T131=\"\",\"\",IF(VLOOKUP(T131,漢字読み!$A$2:$O$502,7,0)=0,\"\",VLOOKUP(T131,漢字読み!$A$2:$O$502,7,0)))","v":"ぐ"},null,null,"和歌山県教育委員会"]
[{"$f":"A126","v":218},233,127,37,142,169,99,164,112,213,35,141,60,127,89,95,8,187,10,11]
["⑳","⑲","⑱","⑰","⑯","⑮","⑭","⑬","⑫","⑪","⑩","⑨","⑧","⑦","⑥","⑤","④","③","②","①","次の［　　　　］の部分の漢字には読みがなをひらがなで書き、カタカナは漢字に直しなさい。",12,"「漢字の博士検定試験」練習問題　"]
[{"$f":"IF(A136=\"\",\"\",VLOOKUP(A136,漢字書き!$A$2:$N$506,6,0))","v":"ルールを［サダ］める"},{"$f":"IF(B136=\"\",\"\",VLOOKUP(B136,漢字書き!$A$2:$N$506,6,0))","v":"なっ［トウ］を食べる"},{"$f":"IF(C136=\"\",\"\",VLOOKUP(C136,漢字書き!$A$2:$N$506,6,0))","v":"［ショウ］わ生まれ"},{"$f":"IF(D136=\"\",\"\",VLOOKUP(D136,漢字書き!$A$2:$N$506,6,0))","v":"［コウ］ふくをまねくネコ"},{"$f":"IF(E136=\"\",\"\",VLOOKUP(E136,漢字書き!$A$2:$N$506,6,0))","v":"［ミ］をすくめる"},{"$f":"IF(F136=\"\",\"\",VLOOKUP(F136,漢字書き!$A$2:$N$506,6,0))","v":"いろいろな［クウソウ］"},{"$f":"IF(G136=\"\",\"\",VLOOKUP(G136,漢字書き!$A$2:$N$506,6,0))","v":"［キュウシュウ］地方"},{"$f":"IF(H136=\"\",\"\",VLOOKUP(H136,漢字書き!$A$2:$N$506,6,0))","v":"［マッタ］くわからない"},{"$f":"IF(I136=\"\",\"\",VLOOKUP(I136,漢字書き!$A$2:$N$506,6,0))","v":"町に［ス］む"},{"$f":"IF(J136=\"\",\"\",VLOOKUP(J136,漢字書き!$A$2:$N$506,6,0))","v":"じてんで［シラ］べる"},{"$f":"IF(K136=\"\",\"\",VLOOKUP(K136,漢字読み!$A$2:$O$506,6,0))","v":"そっぽを［向］く"},{"$f":"IF(L136=\"\",\"\",VLOOKUP(L136,漢字読み!$A$2:$O$506,6,0))","v":"トイレの［神］さま"},{"$f":"IF(M136=\"\",\"\",VLOOKUP(M136,漢字読み!$A$2:$O$506,6,0))","v":"じゅぎょうを［始］める"},{"$f":"IF(N136=\"\",\"\",VLOOKUP(N136,漢字読み!$A$2:$O$506,6,0))","v":"[商人]に会う"},{"$f":"IF(O136=\"\",\"\",VLOOKUP(O136,漢字読み!$A$2:$O$506,6,0))","v":"池の［主］の大ナマズ"},{"$f":"IF(P136=\"\",\"\",VLOOKUP(P136,漢字読み!$A$2:$O$506,6,0))","v":"うめ［酒］を飲む"},{"$f":"IF(Q136=\"\",\"\",VLOOKUP(Q136,漢字読み!$A$2:$O$506,6,0))","v":"［苦］いくすり"},{"$f":"IF(R136=\"\",\"\",VLOOKUP(R136,漢字読み!$A$2:$O$506,6,0))","v":"［代］わりに行きます"},{"$f":"IF(S136=\"\",\"\",VLOOKUP(S136,漢字読み!$A$2:$O$506,6,0))","v":"［雨具］を使う"},{"$f":"IF(T136=\"\",\"\",VLOOKUP(T136,漢字読み!$A$2:$O$506,6,0))","v":"［家具］を買う"},null,"級"]
[{"$f":"IF(A$16=\"\",\"\",VLOOKUP(A136,漢字書き!$A$2:$O$506,8,0))","v":"定"},{"$f":"IF(B$16=\"\",\"\",VLOOKUP(B136,漢字書き!$A$2:$O$506,8,0))","v":"豆"},{"$f":"IF(C$16=\"\",\"\",VLOOKUP(C136,漢字書き!$A$2:$O$506,8,0))","v":"昭"},{"$f":"IF(D$16=\"\",\"\",VLOOKUP(D136,漢字書き!$A$2:$O$506,8,0))","v":"幸"},{"$f":"IF(E$16=\"\",\"\",VLOOKUP(E136,漢字書き!$A$2:$O$506,8,0))","v":"身"},{"$f":"IF(F$16=\"\",\"\",VLOOKUP(F136,漢字書き!$A$2:$O$506,8,0))","v":"空想"},{"$f":"IF(G$16=\"\",\"\",VLOOKUP(G136,漢字書き!$A$2:$O$506,8,0))","v":"九州"},{"$f":"IF(H$16=\"\",\"\",VLOOKUP(H136,漢字書き!$A$2:$O$506,8,0))","v":"全"},{"$f":"IF(I$16=\"\",\"\",VLOOKUP(I136,漢字書き!$A$2:$O$506,8,0))","v":"住"},{"$f":"IF(J$16=\"\",\"\",VLOOKUP(J136,漢字書き!$A$2:$O$506,8,0))","v":"調"},{"$f":"IF(K$16=\"\",\"\",VLOOKUP(K136,漢字読み!$A$2:$O$506,8,0))","v":"む"},{"$f":"IF(L$16=\"\",\"\",VLOOKUP(L136,漢字読み!$A$2:$O$506,8,0))","v":"かみ"},{"$f":"IF(M$16=\"\",\"\",VLOOKUP(M136,漢字読み!$A$2:$O$506,8,0))","v":"はじ"},{"$f":"IF(N$16=\"\",\"\",VLOOKUP(N136,漢字読み!$A$2:$O$506,8,0))","v":"しょうにん"},{"$f":"IF(O$16=\"\",\"\",VLOOKUP(O136,漢字読み!$A$2:$O$506,8,0))","v":"ぬし"},{"$f":"IF(P$16=\"\",\"\",VLOOKUP(P136,漢字読み!$A$2:$O$506,8,0))","v":"しゅ"},{"$f":"IF(Q$16=\"\",\"\",VLOOKUP(Q136,漢字読み!$A$2:$O$506,8,0))","v":"にが"},{"$f":"IF(R$16=\"\",\"\",VLOOKUP(R136,漢字読み!$A$2:$O$506,8,0))","v":"か"},{"$f":"IF(S$16=\"\",\"\",VLOOKUP(S136,漢字読み!$A$2:$O$506,8,0))","v":"あまぐ"},{"$f":"IF(T$16=\"\",\"\",VLOOKUP(T136,漢字読み!$A$2:$O$506,8,0))","v":"かぐ"},null,"名前"]
[{"$f":"IF(A136=\"\",\"\",IF(VLOOKUP(A136,漢字書き!$A$2:$N$502,7,0)=0,\"\",VLOOKUP(A136,漢字書き!$A$2:$N$502,7,0)))","v":"める"},{"$f":"IF(B136=\"\",\"\",IF(VLOOKUP(B136,漢字書き!$A$2:$N$502,7,0)=0,\"\",VLOOKUP(B136,漢字書き!$A$2:$N$502,7,0)))","v":""},{"$f":"IF(C136=\"\",\"\",IF(VLOOKUP(C136,漢字書き!$A$2:$N$502,7,0)=0,\"\",VLOOKUP(C136,漢字書き!$A$2:$N$502,7,0)))","v":"わ"},{"$f":"IF(D136=\"\",\"\",IF(VLOOKUP(D136,漢字書き!$A$2:$N$502,7,0)=0,\"\",VLOOKUP(D136,漢字書き!$A$2:$N$502,7,0)))","v":"ふく"},{"$f":"IF(E136=\"\",\"\",IF(VLOOKUP(E136,漢字書き!$A$2:$N$502,7,0)=0,\"\",VLOOKUP(E136,漢字書き!$A$2:$N$502,7,0)))","v":""},{"$f":"IF(F136=\"\",\"\",IF(VLOOKUP(F136,漢字書き!$A$2:$N$502,7,0)=0,\"\",VLOOKUP(F136,漢字書き!$A$2:$N$502,7,0)))","v":""},{"$f":"IF(G136=\"\",\"\",IF(VLOOKUP(G136,漢字書き!$A$2:$N$502,7,0)=0,\"\",VLOOKUP(G136,漢字書き!$A$2:$N$502,7,0)))","v":""},{"$f":"IF(H136=\"\",\"\",IF(VLOOKUP(H136,漢字書き!$A$2:$N$502,7,0)=0,\"\",VLOOKUP(H136,漢字書き!$A$2:$N$502,7,0)))","v":"く"},{"$f":"IF(I136=\"\",\"\",IF(VLOOKUP(I136,漢字書き!$A$2:$N$502,7,0)=0,\"\",VLOOKUP(I136,漢字書き!$A$2:$N$502,7,0)))","v":"む"},{"$f":"IF(J136=\"\",\"\",IF(VLOOKUP(J136,漢字書き!$A$2:$N$502,7,0)=0,\"\",VLOOKUP(J136,漢字書き!$A$2:$N$502,7,0)))","v":"べる"},{"$f":"IF(K136=\"\",\"\",IF(VLOOKUP(K136,漢字読み!$A$2:$O$502,7,0)=0,\"\",VLOOKUP(K136,漢字読み!$A$2:$O$502,7,0)))","v":"く"},{"$f":"IF(L136=\"\",\"\",IF(VLOOKUP(L136,漢字読み!$A$2:$O$502,7,0)=0,\"\",VLOOKUP(L136,漢字読み!$A$2:$O$502,7,0)))","v":"さま"},{"$f":"IF(M136=\"\",\"\",IF(VLOOKUP(M136,漢字読み!$A$2:$O$502,7,0)=0,\"\",VLOOKUP(M136,漢字読み!$A$2:$O$502,7,0)))","v":"める"},{"$f":"IF(N136=\"\",\"\",IF(VLOOKUP(N136,漢字読み!$A$2:$O$502,7,0)=0,\"\",VLOOKUP(N136,漢字読み!$A$2:$O$502,7,0)))","v":""},{"$f":"IF(O136=\"\",\"\",IF(VLOOKUP(O136,漢字読み!$A$2:$O$502,7,0)=0,\"\",VLOOKUP(O136,漢字読み!$A$2:$O$502,7,0)))","v":""},{"$f":"IF(P136=\"\",\"\",IF(VLOOKUP(P136,漢字読み!$A$2:$O$502,7,0)=0,\"\",VLOOKUP(P136,漢字読み!$A$2:$O$502,7,0)))","v":""},{"$f":"IF(Q136=\"\",\"\",IF(VLOOKUP(Q136,漢字読み!$A$2:$O$502,7,0)=0,\"\",VLOOKUP(Q136,漢字読み!$A$2:$O$502,7,0)))","v":"い"},{"$f":"IF(R136=\"\",\"\",IF(VLOOKUP(R136,漢字読み!$A$2:$O$502,7,0)=0,\"\",VLOOKUP(R136,漢字読み!$A$2:$O$502,7,0)))","v":"わり"},{"$f":"IF(S136=\"\",\"\",IF(VLOOKUP(S136,漢字読み!$A$2:$O$502,7,0)=0,\"\",VLOOKUP(S136,漢字読み!$A$2:$O$502,7,0)))","v":""},{"$f":"IF(T136=\"\",\"\",IF(VLOOKUP(T136,漢字読み!$A$2:$O$502,7,0)=0,\"\",VLOOKUP(T136,漢字読み!$A$2:$O$502,7,0)))","v":""},null,null,"和歌山県教育委員会"]
[{"$f":"INDIRECT(\"'関数（書き）'!C\" & COLUMN(B$1)+SUM($AD$2:$AD142))","v":152},{"$f":"INDIRECT(\"'関数（書き）'!C\" & COLUMN(C$1)+SUM($AD$2:$AD142))","v":119},{"$f":"INDIRECT(\"'関数（書き）'!C\" & COLUMN(D$1)+SUM($AD$2:$AD142))","v":54},{"$f":"INDIRECT(\"'関数（書き）'!C\" & COLUMN(E$1)+SUM($AD$2:$AD142))","v":49},{"$f":"INDIRECT(\"'関数（書き）'!C\" & COLUMN(F$1)+SUM($AD$2:$AD142))","v":63},{"$f":"INDIRECT(\"'関数（書き）'!C\" & COLUMN(G$1)+SUM($AD$2:$AD142))","v":97},{"$f":"INDIRECT(\"'関数（書き）'!C\" & COLUMN(H$1)+SUM($AD$2:$AD142))","v":131},{"$f":"INDIRECT(\"'関数（書き）'!C\" & COLUMN(I$1)+SUM($AD$2:$AD142))","v":160},{"$f":"INDIRECT(\"'関数（書き）'!C\" & COLUMN(J$1)+SUM($AD$2:$AD142))","v":42},{"$f":"INDIRECT(\"'関数（書き）'!C\" & COLUMN(K$1)+SUM($AD$2:$AD142))","v":132},{"$f":"INDIRECT(\"'関数（読み）'!C\" & COLUMN(B$1)+SUM($AD$2:$AD142))","v":217},{"$f":"INDIRECT(\"'関数（読み）'!C\" & COLUMN(C$1)+SUM($AD$2:$AD142))","v":128},{"$f":"INDIRECT(\"'関数（読み）'!C\" & COLUMN(D$1)+SUM($AD$2:$AD142))","v":23},{"$f":"INDIRECT(\"'関数（読み）'!C\" & COLUMN(E$1)+SUM($AD$2:$AD142))","v":209},{"$f":"INDIRECT(\"'関数（読み）'!C\" & COLUMN(F$1)+SUM($AD$2:$AD142))","v":98},{"$f":"INDIRECT(\"'関数（読み）'!C\" & COLUMN(G$1)+SUM($AD$2:$AD142))","v":140},{"$f":"INDIRECT(\"'関数（読み）'!C\" & COLUMN(H$1)+SUM($AD$2:$AD142))","v":84},{"$f":"INDIRECT(\"'関数（読み）'!C\" & COLUMN(I$1)+SUM($AD$2:$AD142))","v":159},{"$f":"INDIRECT(\"'関数（読み）'!C\" & COLUMN(J$1)+SUM($AD$2:$AD142))","v":242},{"$f":"INDIRECT(\"'関数（読み）'!C\" & COLUMN(K$1)+SUM($AD$2:$AD142))","v":79}]
["⑳","⑲","⑱","⑰","⑯","⑮","⑭","⑬","⑫","⑪","⑩","⑨","⑧","⑦","⑥","⑤","④","③","②","①","次の［　　　　］の部分の漢字には読みがなをひらがなで書き、カタカナは漢字に直しなさい。",12,"「漢字の博士検定試験」練習問題　",null,null,null,null,null,"←",10,"問",{"$f":"AH127+1","v":141},"～",{"$f":"SUM($AD$2:$AD142)+10","v":150},"問まで",{"$f":"COUNTIF($A$1:$T$200,T143)","v":2}]
[{"$f":"IF(A141=\"\",\"\",VLOOKUP(A141,漢字書き!$A$2:$N$506,6,0))","v":"［フカ］い海のそこ"},{"$f":"IF(B141=\"\",\"\",VLOOKUP(B141,漢字書き!$A$2:$N$506,6,0))","v":"［ヤド］り木に鳥がとまる"},{"$f":"IF(C141=\"\",\"\",VLOOKUP(C141,漢字書き!$A$2:$N$506,6,0))","v":"［シ］に水を取る"},{"$f":"IF(D141=\"\",\"\",VLOOKUP(D141,漢字書き!$A$2:$N$506,6,0))","v":"［サラ］回しの曲げい"},{"$f":"IF(E141=\"\",\"\",VLOOKUP(E141,漢字書き!$A$2:$N$506,6,0))","v":"にゅう［シ］がぬける"},{"$f":"IF(F141=\"\",\"\",VLOOKUP(F141,漢字書き!$A$2:$N$506,6,0))","v":"しけんに［ウ］かる"},{"$f":"IF(G141=\"\",\"\",VLOOKUP(G141,漢字書き!$A$2:$N$506,6,0))","v":"うつくしい［ブンショウ］"},{"$f":"IF(H141=\"\",\"\",VLOOKUP(H141,漢字書き!$A$2:$N$506,6,0))","v":"すきな［ムカシバナシ］"},{"$f":"IF(I141=\"\",\"\",VLOOKUP(I141,漢字書き!$A$2:$N$506,6,0))","v":"［ゴウ］れいをかける"},{"$f":"IF(J141=\"\",\"\",VLOOKUP(J141,漢字書き!$A$2:$N$506,6,0))","v":"［ショウ］ぶをつける"},{"$f":"IF(K141=\"\",\"\",VLOOKUP(K141,漢字読み!$A$2:$O$506,6,0))","v":"目ひょうを［定］める"},{"$f":"IF(L141=\"\",\"\",VLOOKUP(L141,漢字読み!$A$2:$O$506,6,0))","v":"お話のさい終［章］"},{"$f":"IF(M141=\"\",\"\",VLOOKUP(M141,漢字読み!$A$2:$O$506,6,0))","v":"［決］まりを守る"},{"$f":"IF(N141=\"\",\"\",VLOOKUP(N141,漢字読み!$A$2:$O$506,6,0))","v":"れんらく［帳］"},{"$f":"IF(O141=\"\",\"\",VLOOKUP(O141,漢字読み!$A$2:$O$506,6,0))","v":"[本州]へわたる"},{"$f":"IF(P141=\"\",\"\",VLOOKUP(P141,漢字読み!$A$2:$O$506,6,0))","v":"［神社］にまいる"},{"$f":"IF(Q141=\"\",\"\",VLOOKUP(Q141,漢字読み!$A$2:$O$506,6,0))","v":"書き［写］した文字"},{"$f":"IF(R141=\"\",\"\",VLOOKUP(R141,漢字読み!$A$2:$O$506,6,0))","v":"［全］て手ばなす"},{"$f":"IF(S141=\"\",\"\",VLOOKUP(S141,漢字読み!$A$2:$O$506,6,0))","v":"［島］へわたる"},{"$f":"IF(T141=\"\",\"\",VLOOKUP(T141,漢字読み!$A$2:$O$506,6,0))","v":"［事実］をたしかめる"},null,"級"]
[null,null,null,null,null,null,null,null,null,null,null,null,null,null,null,null,null,null,null,null,null,"名前"]
[{"$f":"IF(A141=\"\",\"\",IF(VLOOKUP(A141,漢字書き!$A$2:$N$502,7,0)=0,\"\",VLOOKUP(A141,漢字書き!$A$2:$N$502,7,0)))","v":"い"},{"$f":"IF(B141=\"\",\"\",IF(VLOOKUP(B141,漢字書き!$A$2:$N$502,7,0)=0,\"\",VLOOKUP(B141,漢字書き!$A$2:$N$502,7,0)))","v":"り木"},{"$f":"IF(C141=\"\",\"\",IF(VLOOKUP(C141,漢字書き!$A$2:$N$502,7,0)=0,\"\",VLOOKUP(C141,漢字書き!$A$2:$N$502,7,0)))","v":"に水"},{"$f":"IF(D141=\"\",\"\",IF(VLOOKUP(D141,漢字書き!$A$2:$N$502,7,0)=0,\"\",VLOOKUP(D141,漢字書き!$A$2:$N$502,7,0)))","v":"回し"},{"$f":"IF(E141=\"\",\"\",IF(VLOOKUP(E141,漢字書き!$A$2:$N$502,7,0)=0,\"\",VLOOKUP(E141,漢字書き!$A$2:$N$502,7,0)))","v":""},{"$f":"IF(F141=\"\",\"\",IF(VLOOKUP(F141,漢字書き!$A$2:$N$502,7,0)=0,\"\",VLOOKUP(F141,漢字書き!$A$2:$N$502,7,0)))","v":"かる"},{"$f":"IF(G141=\"\",\"\",IF(VLOOKUP(G141,漢字書き!$A$2:$N$502,7,0)=0,\"\",VLOOKUP(G141,漢字書き!$A$2:$N$502,7,0)))","v":""},{"$f":"IF(H141=\"\",\"\",IF(VLOOKUP(H141,漢字書き!$A$2:$N$502,7,0)=0,\"\",VLOOKUP(H141,漢字書き!$A$2:$N$502,7,0)))","v":""},{"$f":"IF(I141=\"\",\"\",IF(VLOOKUP(I141,漢字書き!$A$2:$N$502,7,0)=0,\"\",VLOOKUP(I141,漢字書き!$A$2:$N$502,7,0)))","v":"れい"},{"$f":"IF(J141=\"\",\"\",IF(VLOOKUP(J141,漢字書き!$A$2:$N$502,7,0)=0,\"\",VLOOKUP(J141,漢字書き!$A$2:$N$502,7,0)))","v":"ぶ"},{"$f":"IF(K141=\"\",\"\",IF(VLOOKUP(K141,漢字読み!$A$2:$O$502,7,0)=0,\"\",VLOOKUP(K141,漢字読み!$A$2:$O$502,7,0)))","v":"める"},{"$f":"IF(L141=\"\",\"\",IF(VLOOKUP(L141,漢字読み!$A$2:$O$502,7,0)=0,\"\",VLOOKUP(L141,漢字読み!$A$2:$O$502,7,0)))","v":""},{"$f":"IF(M141=\"\",\"\",IF(VLOOKUP(M141,漢字読み!$A$2:$O$502,7,0)=0,\"\",VLOOKUP(M141,漢字読み!$A$2:$O$502,7,0)))","v":"まり"},{"$f":"IF(N141=\"\",\"\",IF(VLOOKUP(N141,漢字読み!$A$2:$O$502,7,0)=0,\"\",VLOOKUP(N141,漢字読み!$A$2:$O$502,7,0)))","v":""},{"$f":"IF(O141=\"\",\"\",IF(VLOOKUP(O141,漢字読み!$A$2:$O$502,7,0)=0,\"\",VLOOKUP(O141,漢字読み!$A$2:$O$502,7,0)))","v":""},{"$f":"IF(P141=\"\",\"\",IF(VLOOKUP(P141,漢字読み!$A$2:$O$502,7,0)=0,\"\",VLOOKUP(P141,漢字読み!$A$2:$O$502,7,0)))","v":""},{"$f":"IF(Q141=\"\",\"\",IF(VLOOKUP(Q141,漢字読み!$A$2:$O$502,7,0)=0,\"\",VLOOKUP(Q141,漢字読み!$A$2:$O$502,7,0)))","v":"した"},{"$f":"IF(R141=\"\",\"\",IF(VLOOKUP(R141,漢字読み!$A$2:$O$502,7,0)=0,\"\",VLOOKUP(R141,漢字読み!$A$2:$O$502,7,0)))","v":"て"},{"$f":"IF(S141=\"\",\"\",IF(VLOOKUP(S141,漢字読み!$A$2:$O$502,7,0)=0,\"\",VLOOKUP(S141,漢字読み!$A$2:$O$502,7,0)))","v":""},{"$f":"IF(T141=\"\",\"\",IF(VLOOKUP(T141,漢字読み!$A$2:$O$502,7,0)=0,\"\",VLOOKUP(T141,漢字読み!$A$2:$O$502,7,0)))","v":""},null,null,"和歌山県教育委員会"]
[{"$f":"INDIRECT(\"'関数（書き）'!C\" & COLUMN(B$1)+SUM($AD$2:$AD147))","v":139},{"$f":"INDIRECT(\"'関数（書き）'!C\" & COLUMN(C$1)+SUM($AD$2:$AD147))","v":199},{"$f":"INDIRECT(\"'関数（書き）'!C\" & COLUMN(D$1)+SUM($AD$2:$AD147))","v":2},{"$f":"INDIRECT(\"'関数（書き）'!C\" & COLUMN(E$1)+SUM($AD$2:$AD147))","v":57},{"$f":"INDIRECT(\"'関数（書き）'!C\" & COLUMN(F$1)+SUM($AD$2:$AD147))","v":16},{"$f":"INDIRECT(\"'関数（書き）'!C\" & COLUMN(G$1)+SUM($AD$2:$AD147))","v":203},{"$f":"INDIRECT(\"'関数（書き）'!C\" & COLUMN(H$1)+SUM($AD$2:$AD147))","v":31},{"$f":"INDIRECT(\"'関数（書き）'!C\" & COLUMN(I$1)+SUM($AD$2:$AD147))","v":219},{"$f":"INDIRECT(\"'関数（書き）'!C\" & COLUMN(J$1)+SUM($AD$2:$AD147))","v":149},{"$f":"INDIRECT(\"'関数（書き）'!C\" & COLUMN(K$1)+SUM($AD$2:$AD147))","v":4},{"$f":"INDIRECT(\"'関数（読み）'!C\" & COLUMN(B$1)+SUM($AD$2:$AD147))","v":194},{"$f":"INDIRECT(\"'関数（読み）'!C\" & COLUMN(C$1)+SUM($AD$2:$AD147))","v":205},{"$f":"INDIRECT(\"'関数（読み）'!C\" & COLUMN(D$1)+SUM($AD$2:$AD147))","v":38},{"$f":"INDIRECT(\"'関数（読み）'!C\" & COLUMN(E$1)+SUM($AD$2:$AD147))","v":111},{"$f":"INDIRECT(\"'関数（読み）'!C\" & COLUMN(F$1)+SUM($AD$2:$AD147))","v":36},{"$f":"INDIRECT(\"'関数（読み）'!C\" & COLUMN(G$1)+SUM($AD$2:$AD147))","v":156},{"$f":"INDIRECT(\"'関数（読み）'!C\" & COLUMN(H$1)+SUM($AD$2:$AD147))","v":137},{"$f":"INDIRECT(\"'関数（読み）'!C\" & COLUMN(I$1)+SUM($AD$2:$AD147))","v":3},{"$f":"INDIRECT(\"'関数（読み）'!C\" & COLUMN(J$1)+SUM($AD$2:$AD147))","v":88},{"$f":"INDIRECT(\"'関数（読み）'!C\" & COLUMN(K$1)+SUM($AD$2:$AD147))","v":68}]
["⑳","⑲","⑱","⑰","⑯","⑮","⑭","⑬","⑫","⑪","⑩","⑨","⑧","⑦","⑥","⑤","④","③","②","①","次の［　　　　］の部分の漢字には読みがなをひらがなで書き、カタカナは漢字に直しなさい。",12,"「漢字の博士検定試験」練習問題　",null,null,null,null,null,"←",10,"問",{"$f":"AH142+1","v":151},"～",{"$f":"SUM($AD$2:$AD147)+10","v":160},"問まで",{"$f":"COUNTIF($A$1:$T$200,T148)","v":2}]
[{"$f":"IF(A146=\"\",\"\",VLOOKUP(A146,漢字書き!$A$2:$N$506,6,0))","v":"たねを［ウ］える"},{"$f":"IF(B146=\"\",\"\",VLOOKUP(B146,漢字書き!$A$2:$N$506,6,0))","v":"［イッチャク］でゴールだ"},{"$f":"IF(C146=\"\",\"\",VLOOKUP(C146,漢字書き!$A$2:$N$506,6,0))","v":"［ギン］のスプーン"},{"$f":"IF(D146=\"\",\"\",VLOOKUP(D146,漢字書き!$A$2:$N$506,6,0))","v":"作業を［カイシ］する"},{"$f":"IF(E146=\"\",\"\",VLOOKUP(E146,漢字書き!$A$2:$N$506,6,0))","v":"［ケイ］自どう車"},{"$f":"IF(F146=\"\",\"\",VLOOKUP(F146,漢字書き!$A$2:$N$506,6,0))","v":"［チュウモク］をあびる"},{"$f":"IF(G146=\"\",\"\",VLOOKUP(G146,漢字書き!$A$2:$N$506,6,0))","v":"［ミズウミ］にうかぶ島"},{"$f":"IF(H146=\"\",\"\",VLOOKUP(H146,漢字書き!$A$2:$N$506,6,0))","v":"［ニワ］の草を引く"},{"$f":"IF(I146=\"\",\"\",VLOOKUP(I146,漢字書き!$A$2:$N$506,6,0))","v":"［シンカイ］にすむ魚"},{"$f":"IF(J146=\"\",\"\",VLOOKUP(J146,漢字書き!$A$2:$N$506,6,0))","v":"［クギ］りをつける"},{"$f":"IF(K146=\"\",\"\",VLOOKUP(K146,漢字読み!$A$2:$O$506,6,0))","v":"一長［一短］ある"},{"$f":"IF(L146=\"\",\"\",VLOOKUP(L146,漢字読み!$A$2:$O$506,6,0))","v":"［電柱］のかげ"},{"$f":"IF(M146=\"\",\"\",VLOOKUP(M146,漢字読み!$A$2:$O$506,6,0))","v":"船が［入港］する"},{"$f":"IF(N146=\"\",\"\",VLOOKUP(N146,漢字読み!$A$2:$O$506,6,0))","v":"［体重］をはかる"},{"$f":"IF(O146=\"\",\"\",VLOOKUP(O146,漢字読み!$A$2:$O$506,6,0))","v":"ふ幸中の［幸］いだ"},{"$f":"IF(P146=\"\",\"\",VLOOKUP(P146,漢字読み!$A$2:$O$506,6,0))","v":"［全体］にわたる"},{"$f":"IF(Q146=\"\",\"\",VLOOKUP(Q146,漢字読み!$A$2:$O$506,6,0))","v":"［長身］の人"},{"$f":"IF(R146=\"\",\"\",VLOOKUP(R146,漢字読み!$A$2:$O$506,6,0))","v":"［金銀］のメダル"},{"$f":"IF(S146=\"\",\"\",VLOOKUP(S146,漢字読み!$A$2:$O$506,6,0))","v":"［主］な生きもの"},{"$f":"IF(T146=\"\",\"\",VLOOKUP(T146,漢字読み!$A$2:$O$506,6,0))","v":"［歯］がいたむ"},null,"級"]
[null,null,null,null,null,null,null,null,null,null,null,null,null,null,null,null,null,null,null,null,null,"名前"]
[{"$f":"IF(A146=\"\",\"\",IF(VLOOKUP(A146,漢字書き!$A$2:$N$502,7,0)=0,\"\",VLOOKUP(A146,漢字書き!$A$2:$N$502,7,0)))","v":"える"},{"$f":"IF(B146=\"\",\"\",IF(VLOOKUP(B146,漢字書き!$A$2:$N$502,7,0)=0,\"\",VLOOKUP(B146,漢字書き!$A$2:$N$502,7,0)))","v":""},{"$f":"IF(C146=\"\",\"\",IF(VLOOKUP(C146,漢字書き!$A$2:$N$502,7,0)=0,\"\",VLOOKUP(C146,漢字書き!$A$2:$N$502,7,0)))","v":""},{"$f":"IF(D146=\"\",\"\",IF(VLOOKUP(D146,漢字書き!$A$2:$N$502,7,0)=0,\"\",VLOOKUP(D146,漢字書き!$A$2:$N$502,7,0)))","v":"する"},{"$f":"IF(E146=\"\",\"\",IF(VLOOKUP(E146,漢字書き!$A$2:$N$502,7,0)=0,\"\",VLOOKUP(E146,漢字書き!$A$2:$N$502,7,0)))","v":""},{"$f":"IF(F146=\"\",\"\",IF(VLOOKUP(F146,漢字書き!$A$2:$N$502,7,0)=0,\"\",VLOOKUP(F146,漢字書き!$A$2:$N$502,7,0)))","v":""},{"$f":"IF(G146=\"\",\"\",IF(VLOOKUP(G146,漢字書き!$A$2:$N$502,7,0)=0,\"\",VLOOKUP(G146,漢字書き!$A$2:$N$502,7,0)))","v":""},{"$f":"IF(H146=\"\",\"\",IF(VLOOKUP(H146,漢字書き!$A$2:$N$502,7,0)=0,\"\",VLOOKUP(H146,漢字書き!$A$2:$N$502,7,0)))","v":""},{"$f":"IF(I146=\"\",\"\",IF(VLOOKUP(I146,漢字書き!$A$2:$N$502,7,0)=0,\"\",VLOOKUP(I146,漢字書き!$A$2:$N$502,7,0)))","v":""},{"$f":"IF(J146=\"\",\"\",IF(VLOOKUP(J146,漢字書き!$A$2:$N$502,7,0)=0,\"\",VLOOKUP(J146,漢字書き!$A$2:$N$502,7,0)))","v":"り"},{"$f":"IF(K146=\"\",\"\",IF(VLOOKUP(K146,漢字読み!$A$2:$O$502,7,0)=0,\"\",VLOOKUP(K146,漢字読み!$A$2:$O$502,7,0)))","v":""},{"$f":"IF(L146=\"\",\"\",IF(VLOOKUP(L146,漢字読み!$A$2:$O$502,7,0)=0,\"\",VLOOKUP(L146,漢字読み!$A$2:$O$502,7,0)))","v":""},{"$f":"IF(M146=\"\",\"\",IF(VLOOKUP(M146,漢字読み!$A$2:$O$502,7,0)=0,\"\",VLOOKUP(M146,漢字読み!$A$2:$O$502,7,0)))","v":"する"},{"$f":"IF(N146=\"\",\"\",IF(VLOOKUP(N146,漢字読み!$A$2:$O$502,7,0)=0,\"\",VLOOKUP(N146,漢字読み!$A$2:$O$502,7,0)))","v":""},{"$f":"IF(O146=\"\",\"\",IF(VLOOKUP(O146,漢字読み!$A$2:$O$502,7,0)=0,\"\",VLOOKUP(O146,漢字読み!$A$2:$O$502,7,0)))","v":"い"},{"$f":"IF(P146=\"\",\"\",IF(VLOOKUP(P146,漢字読み!$A$2:$O$502,7,0)=0,\"\",VLOOKUP(P146,漢字読み!$A$2:$O$502,7,0)))","v":""},{"$f":"IF(Q146=\"\",\"\",IF(VLOOKUP(Q146,漢字読み!$A$2:$O$502,7,0)=0,\"\",VLOOKUP(Q146,漢字読み!$A$2:$O$502,7,0)))","v":""},{"$f":"IF(R146=\"\",\"\",IF(VLOOKUP(R146,漢字読み!$A$2:$O$502,7,0)=0,\"\",VLOOKUP(R146,漢字読み!$A$2:$O$502,7,0)))","v":""},{"$f":"IF(S146=\"\",\"\",IF(VLOOKUP(S146,漢字読み!$A$2:$O$502,7,0)=0,\"\",VLOOKUP(S146,漢字読み!$A$2:$O$502,7,0)))","v":"な"},{"$f":"IF(T146=\"\",\"\",IF(VLOOKUP(T146,漢字読み!$A$2:$O$502,7,0)=0,\"\",VLOOKUP(T146,漢字読み!$A$2:$O$502,7,0)))","v":""},null,null,"和歌山県教育委員会"]
[{"$f":"A141","v":152},119,54,49,63,97,131,160,42,132,217,128,23,209,98,140,84,159,242,79]
["⑳","⑲","⑱","⑰","⑯","⑮","⑭","⑬","⑫","⑪","⑩","⑨","⑧","⑦","⑥","⑤","④","③","②","①","次の［　　　　］の部分の漢字には読みがなをひらがなで書き、カタカナは漢字に直しなさい。",12,"「漢字の博士検定試験」練習問題　"]
[{"$f":"IF(A151=\"\",\"\",VLOOKUP(A151,漢字書き!$A$2:$N$506,6,0))","v":"［フカ］い海のそこ"},{"$f":"IF(B151=\"\",\"\",VLOOKUP(B151,漢字書き!$A$2:$N$506,6,0))","v":"［ヤド］り木に鳥がとまる"},{"$f":"IF(C151=\"\",\"\",VLOOKUP(C151,漢字書き!$A$2:$N$506,6,0))","v":"［シ］に水を取る"},{"$f":"IF(D151=\"\",\"\",VLOOKUP(D151,漢字書き!$A$2:$N$506,6,0))","v":"［サラ］回しの曲げい"},{"$f":"IF(E151=\"\",\"\",VLOOKUP(E151,漢字書き!$A$2:$N$506,6,0))","v":"にゅう［シ］がぬける"},{"$f":"IF(F151=\"\",\"\",VLOOKUP(F151,漢字書き!$A$2:$N$506,6,0))","v":"しけんに［ウ］かる"},{"$f":"IF(G151=\"\",\"\",VLOOKUP(G151,漢字書き!$A$2:$N$506,6,0))","v":"うつくしい［ブンショウ］"},{"$f":"IF(H151=\"\",\"\",VLOOKUP(H151,漢字書き!$A$2:$N$506,6,0))","v":"すきな［ムカシバナシ］"},{"$f":"IF(I151=\"\",\"\",VLOOKUP(I151,漢字書き!$A$2:$N$506,6,0))","v":"［ゴウ］れいをかける"},{"$f":"IF(J151=\"\",\"\",VLOOKUP(J151,漢字書き!$A$2:$N$506,6,0))","v":"［ショウ］ぶをつける"},{"$f":"IF(K151=\"\",\"\",VLOOKUP(K151,漢字読み!$A$2:$O$506,6,0))","v":"目ひょうを［定］める"},{"$f":"IF(L151=\"\",\"\",VLOOKUP(L151,漢字読み!$A$2:$O$506,6,0))","v":"お話のさい終［章］"},{"$f":"IF(M151=\"\",\"\",VLOOKUP(M151,漢字読み!$A$2:$O$506,6,0))","v":"［決］まりを守る"},{"$f":"IF(N151=\"\",\"\",VLOOKUP(N151,漢字読み!$A$2:$O$506,6,0))","v":"れんらく［帳］"},{"$f":"IF(O151=\"\",\"\",VLOOKUP(O151,漢字読み!$A$2:$O$506,6,0))","v":"[本州]へわたる"},{"$f":"IF(P151=\"\",\"\",VLOOKUP(P151,漢字読み!$A$2:$O$506,6,0))","v":"［神社］にまいる"},{"$f":"IF(Q151=\"\",\"\",VLOOKUP(Q151,漢字読み!$A$2:$O$506,6,0))","v":"書き［写］した文字"},{"$f":"IF(R151=\"\",\"\",VLOOKUP(R151,漢字読み!$A$2:$O$506,6,0))","v":"［全］て手ばなす"},{"$f":"IF(S151=\"\",\"\",VLOOKUP(S151,漢字読み!$A$2:$O$506,6,0))","v":"［島］へわたる"},{"$f":"IF(T151=\"\",\"\",VLOOKUP(T151,漢字読み!$A$2:$O$506,6,0))","v":"［事実］をたしかめる"},null,"級"]
[{"$f":"IF(A$11=\"\",\"\",VLOOKUP(A151,漢字書き!$A$2:$O$506,8,0))","v":"深"},{"$f":"IF(B$11=\"\",\"\",VLOOKUP(B151,漢字書き!$A$2:$O$506,8,0))","v":"宿"},{"$f":"IF(C$11=\"\",\"\",VLOOKUP(C151,漢字書き!$A$2:$O$506,8,0))","v":"死"},{"$f":"IF(D$11=\"\",\"\",VLOOKUP(D151,漢字書き!$A$2:$O$506,8,0))","v":"皿"},{"$f":"IF(E$11=\"\",\"\",VLOOKUP(E151,漢字書き!$A$2:$O$506,8,0))","v":"歯"},{"$f":"IF(F$11=\"\",\"\",VLOOKUP(F151,漢字書き!$A$2:$O$506,8,0))","v":"受"},{"$f":"IF(G$11=\"\",\"\",VLOOKUP(G151,漢字書き!$A$2:$O$506,8,0))","v":"文章"},{"$f":"IF(H$11=\"\",\"\",VLOOKUP(H151,漢字書き!$A$2:$O$506,8,0))","v":"昔話"},{"$f":"IF(I$11=\"\",\"\",VLOOKUP(I151,漢字書き!$A$2:$O$506,8,0))","v":"号"},{"$f":"IF(J$11=\"\",\"\",VLOOKUP(J151,漢字書き!$A$2:$O$506,8,0))","v":"勝"},{"$f":"IF(K$11=\"\",\"\",VLOOKUP(K151,漢字読み!$A$2:$O$506,8,0))","v":"さだ"},{"$f":"IF(L$11=\"\",\"\",VLOOKUP(L151,漢字読み!$A$2:$O$506,8,0))","v":"しょう"},{"$f":"IF(M$11=\"\",\"\",VLOOKUP(M151,漢字読み!$A$2:$O$506,8,0))","v":"き"},{"$f":"IF(N$11=\"\",\"\",VLOOKUP(N151,漢字読み!$A$2:$O$506,8,0))","v":"ちょう"},{"$f":"IF(O$11=\"\",\"\",VLOOKUP(O151,漢字読み!$A$2:$O$506,8,0))","v":"ほんしゅう"},{"$f":"IF(P$11=\"\",\"\",VLOOKUP(P151,漢字読み!$A$2:$O$506,8,0))","v":"じんじゃ"},{"$f":"IF(Q$11=\"\",\"\",VLOOKUP(Q151,漢字読み!$A$2:$O$506,8,0))","v":"うつ"},{"$f":"IF(R$11=\"\",\"\",VLOOKUP(R151,漢字読み!$A$2:$O$506,8,0))","v":"すべ"},{"$f":"IF(S$11=\"\",\"\",VLOOKUP(S151,漢字読み!$A$2:$O$506,8,0))","v":"しま"},{"$f":"IF(T$11=\"\",\"\",VLOOKUP(T151,漢字読み!$A$2:$O$506,8,0))","v":"じじつ"},null,"名前"]
[{"$f":"IF(A151=\"\",\"\",IF(VLOOKUP(A151,漢字書き!$A$2:$N$502,7,0)=0,\"\",VLOOKUP(A151,漢字書き!$A$2:$N$502,7,0)))","v":"い"},{"$f":"IF(B151=\"\",\"\",IF(VLOOKUP(B151,漢字書き!$A$2:$N$502,7,0)=0,\"\",VLOOKUP(B151,漢字書き!$A$2:$N$502,7,0)))","v":"り木"},{"$f":"IF(C151=\"\",\"\",IF(VLOOKUP(C151,漢字書き!$A$2:$N$502,7,0)=0,\"\",VLOOKUP(C151,漢字書き!$A$2:$N$502,7,0)))","v":"に水"},{"$f":"IF(D151=\"\",\"\",IF(VLOOKUP(D151,漢字書き!$A$2:$N$502,7,0)=0,\"\",VLOOKUP(D151,漢字書き!$A$2:$N$502,7,0)))","v":"回し"},{"$f":"IF(E151=\"\",\"\",IF(VLOOKUP(E151,漢字書き!$A$2:$N$502,7,0)=0,\"\",VLOOKUP(E151,漢字書き!$A$2:$N$502,7,0)))","v":""},{"$f":"IF(F151=\"\",\"\",IF(VLOOKUP(F151,漢字書き!$A$2:$N$502,7,0)=0,\"\",VLOOKUP(F151,漢字書き!$A$2:$N$502,7,0)))","v":"かる"},{"$f":"IF(G151=\"\",\"\",IF(VLOOKUP(G151,漢字書き!$A$2:$N$502,7,0)=0,\"\",VLOOKUP(G151,漢字書き!$A$2:$N$502,7,0)))","v":""},{"$f":"IF(H151=\"\",\"\",IF(VLOOKUP(H151,漢字書き!$A$2:$N$502,7,0)=0,\"\",VLOOKUP(H151,漢字書き!$A$2:$N$502,7,0)))","v":""},{"$f":"IF(I151=\"\",\"\",IF(VLOOKUP(I151,漢字書き!$A$2:$N$502,7,0)=0,\"\",VLOOKUP(I151,漢字書き!$A$2:$N$502,7,0)))","v":"れい"},{"$f":"IF(J151=\"\",\"\",IF(VLOOKUP(J151,漢字書き!$A$2:$N$502,7,0)=0,\"\",VLOOKUP(J151,漢字書き!$A$2:$N$502,7,0)))","v":"ぶ"},{"$f":"IF(K151=\"\",\"\",IF(VLOOKUP(K151,漢字読み!$A$2:$O$502,7,0)=0,\"\",VLOOKUP(K151,漢字読み!$A$2:$O$502,7,0)))","v":"める"},{"$f":"IF(L151=\"\",\"\",IF(VLOOKUP(L151,漢字読み!$A$2:$O$502,7,0)=0,\"\",VLOOKUP(L151,漢字読み!$A$2:$O$502,7,0)))","v":""},{"$f":"IF(M151=\"\",\"\",IF(VLOOKUP(M151,漢字読み!$A$2:$O$502,7,0)=0,\"\",VLOOKUP(M151,漢字読み!$A$2:$O$502,7,0)))","v":"まり"},{"$f":"IF(N151=\"\",\"\",IF(VLOOKUP(N151,漢字読み!$A$2:$O$502,7,0)=0,\"\",VLOOKUP(N151,漢字読み!$A$2:$O$502,7,0)))","v":""},{"$f":"IF(O151=\"\",\"\",IF(VLOOKUP(O151,漢字読み!$A$2:$O$502,7,0)=0,\"\",VLOOKUP(O151,漢字読み!$A$2:$O$502,7,0)))","v":""},{"$f":"IF(P151=\"\",\"\",IF(VLOOKUP(P151,漢字読み!$A$2:$O$502,7,0)=0,\"\",VLOOKUP(P151,漢字読み!$A$2:$O$502,7,0)))","v":""},{"$f":"IF(Q151=\"\",\"\",IF(VLOOKUP(Q151,漢字読み!$A$2:$O$502,7,0)=0,\"\",VLOOKUP(Q151,漢字読み!$A$2:$O$502,7,0)))","v":"した"},{"$f":"IF(R151=\"\",\"\",IF(VLOOKUP(R151,漢字読み!$A$2:$O$502,7,0)=0,\"\",VLOOKUP(R151,漢字読み!$A$2:$O$502,7,0)))","v":"て"},{"$f":"IF(S151=\"\",\"\",IF(VLOOKUP(S151,漢字読み!$A$2:$O$502,7,0)=0,\"\",VLOOKUP(S151,漢字読み!$A$2:$O$502,7,0)))","v":""},{"$f":"IF(T151=\"\",\"\",IF(VLOOKUP(T151,漢字読み!$A$2:$O$502,7,0)=0,\"\",VLOOKUP(T151,漢字読み!$A$2:$O$502,7,0)))","v":""},null,null,"和歌山県教育委員会"]
[{"$f":"A146","v":139},199,2,57,16,203,31,219,149,4,194,205,38,111,36,156,137,3,88,68]
["⑳","⑲","⑱","⑰","⑯","⑮","⑭","⑬","⑫","⑪","⑩","⑨","⑧","⑦","⑥","⑤","④","③","②","①","次の［　　　　］の部分の漢字には読みがなをひらがなで書き、カタカナは漢字に直しなさい。",12,"「漢字の博士検定試験」練習問題　"]
[{"$f":"IF(A156=\"\",\"\",VLOOKUP(A156,漢字書き!$A$2:$N$506,6,0))","v":"たねを［ウ］える"},{"$f":"IF(B156=\"\",\"\",VLOOKUP(B156,漢字書き!$A$2:$N$506,6,0))","v":"［イッチャク］でゴールだ"},{"$f":"IF(C156=\"\",\"\",VLOOKUP(C156,漢字書き!$A$2:$N$506,6,0))","v":"［ギン］のスプーン"},{"$f":"IF(D156=\"\",\"\",VLOOKUP(D156,漢字書き!$A$2:$N$506,6,0))","v":"作業を［カイシ］する"},{"$f":"IF(E156=\"\",\"\",VLOOKUP(E156,漢字書き!$A$2:$N$506,6,0))","v":"［ケイ］自どう車"},{"$f":"IF(F156=\"\",\"\",VLOOKUP(F156,漢字書き!$A$2:$N$506,6,0))","v":"［チュウモク］をあびる"},{"$f":"IF(G156=\"\",\"\",VLOOKUP(G156,漢字書き!$A$2:$N$506,6,0))","v":"［ミズウミ］にうかぶ島"},{"$f":"IF(H156=\"\",\"\",VLOOKUP(H156,漢字書き!$A$2:$N$506,6,0))","v":"［ニワ］の草を引く"},{"$f":"IF(I156=\"\",\"\",VLOOKUP(I156,漢字書き!$A$2:$N$506,6,0))","v":"［シンカイ］にすむ魚"},{"$f":"IF(J156=\"\",\"\",VLOOKUP(J156,漢字書き!$A$2:$N$506,6,0))","v":"［クギ］りをつける"},{"$f":"IF(K156=\"\",\"\",VLOOKUP(K156,漢字読み!$A$2:$O$506,6,0))","v":"一長［一短］ある"},{"$f":"IF(L156=\"\",\"\",VLOOKUP(L156,漢字読み!$A$2:$O$506,6,0))","v":"［電柱］のかげ"},{"$f":"IF(M156=\"\",\"\",VLOOKUP(M156,漢字読み!$A$2:$O$506,6,0))","v":"船が［入港］する"},{"$f":"IF(N156=\"\",\"\",VLOOKUP(N156,漢字読み!$A$2:$O$506,6,0))","v":"［体重］をはかる"},{"$f":"IF(O156=\"\",\"\",VLOOKUP(O156,漢字読み!$A$2:$O$506,6,0))","v":"ふ幸中の［幸］いだ"},{"$f":"IF(P156=\"\",\"\",VLOOKUP(P156,漢字読み!$A$2:$O$506,6,0))","v":"［全体］にわたる"},{"$f":"IF(Q156=\"\",\"\",VLOOKUP(Q156,漢字読み!$A$2:$O$506,6,0))","v":"［長身］の人"},{"$f":"IF(R156=\"\",\"\",VLOOKUP(R156,漢字読み!$A$2:$O$506,6,0))","v":"［金銀］のメダル"},{"$f":"IF(S156=\"\",\"\",VLOOKUP(S156,漢字読み!$A$2:$O$506,6,0))","v":"［主］な生きもの"},{"$f":"IF(T156=\"\",\"\",VLOOKUP(T156,漢字読み!$A$2:$O$506,6,0))","v":"［歯］がいたむ"},null,"級"]
[{"$f":"IF(A$16=\"\",\"\",VLOOKUP(A156,漢字書き!$A$2:$O$506,8,0))","v":"植"},{"$f":"IF(B$16=\"\",\"\",VLOOKUP(B156,漢字書き!$A$2:$O$506,8,0))","v":"一着"},{"$f":"IF(C$16=\"\",\"\",VLOOKUP(C156,漢字書き!$A$2:$O$506,8,0))","v":"銀"},{"$f":"IF(D$16=\"\",\"\",VLOOKUP(D156,漢字書き!$A$2:$O$506,8,0))","v":"開始"},{"$f":"IF(E$16=\"\",\"\",VLOOKUP(E156,漢字書き!$A$2:$O$506,8,0))","v":"軽"},{"$f":"IF(F$16=\"\",\"\",VLOOKUP(F156,漢字書き!$A$2:$O$506,8,0))","v":"注目"},{"$f":"IF(G$16=\"\",\"\",VLOOKUP(G156,漢字書き!$A$2:$O$506,8,0))","v":"湖"},{"$f":"IF(H$16=\"\",\"\",VLOOKUP(H156,漢字書き!$A$2:$O$506,8,0))","v":"庭"},{"$f":"IF(I$16=\"\",\"\",VLOOKUP(I156,漢字書き!$A$2:$O$506,8,0))","v":"深海"},{"$f":"IF(J$16=\"\",\"\",VLOOKUP(J156,漢字書き!$A$2:$O$506,8,0))","v":"区切"},{"$f":"IF(K$16=\"\",\"\",VLOOKUP(K156,漢字読み!$A$2:$O$506,8,0))","v":"いったん"},{"$f":"IF(L$16=\"\",\"\",VLOOKUP(L156,漢字読み!$A$2:$O$506,8,0))","v":"でんちゅう"},{"$f":"IF(M$16=\"\",\"\",VLOOKUP(M156,漢字読み!$A$2:$O$506,8,0))","v":"にゅうこう"},{"$f":"IF(N$16=\"\",\"\",VLOOKUP(N156,漢字読み!$A$2:$O$506,8,0))","v":"たいじゅう"},{"$f":"IF(O$16=\"\",\"\",VLOOKUP(O156,漢字読み!$A$2:$O$506,8,0))","v":"さいわ"},{"$f":"IF(P$16=\"\",\"\",VLOOKUP(P156,漢字読み!$A$2:$O$506,8,0))","v":"ぜんたい"},{"$f":"IF(Q$16=\"\",\"\",VLOOKUP(Q156,漢字読み!$A$2:$O$506,8,0))","v":"ちょうしん"},{"$f":"IF(R$16=\"\",\"\",VLOOKUP(R156,漢字読み!$A$2:$O$506,8,0))","v":"きんぎん"},{"$f":"IF(S$16=\"\",\"\",VLOOKUP(S156,漢字読み!$A$2:$O$506,8,0))","v":"おも"},{"$f":"IF(T$16=\"\",\"\",VLOOKUP(T156,漢字読み!$A$2:$O$506,8,0))","v":"は"},null,"名前"]
[{"$f":"IF(A156=\"\",\"\",IF(VLOOKUP(A156,漢字書き!$A$2:$N$502,7,0)=0,\"\",VLOOKUP(A156,漢字書き!$A$2:$N$502,7,0)))","v":"える"},{"$f":"IF(B156=\"\",\"\",IF(VLOOKUP(B156,漢字書き!$A$2:$N$502,7,0)=0,\"\",VLOOKUP(B156,漢字書き!$A$2:$N$502,7,0)))","v":""},{"$f":"IF(C156=\"\",\"\",IF(VLOOKUP(C156,漢字書き!$A$2:$N$502,7,0)=0,\"\",VLOOKUP(C156,漢字書き!$A$2:$N$502,7,0)))","v":""},{"$f":"IF(D156=\"\",\"\",IF(VLOOKUP(D156,漢字書き!$A$2:$N$502,7,0)=0,\"\",VLOOKUP(D156,漢字書き!$A$2:$N$502,7,0)))","v":"する"},{"$f":"IF(E156=\"\",\"\",IF(VLOOKUP(E156,漢字書き!$A$2:$N$502,7,0)=0,\"\",VLOOKUP(E156,漢字書き!$A$2:$N$502,7,0)))","v":""},{"$f":"IF(F156=\"\",\"\",IF(VLOOKUP(F156,漢字書き!$A$2:$N$502,7,0)=0,\"\",VLOOKUP(F156,漢字書き!$A$2:$N$502,7,0)))","v":""},{"$f":"IF(G156=\"\",\"\",IF(VLOOKUP(G156,漢字書き!$A$2:$N$502,7,0)=0,\"\",VLOOKUP(G156,漢字書き!$A$2:$N$502,7,0)))","v":""},{"$f":"IF(H156=\"\",\"\",IF(VLOOKUP(H156,漢字書き!$A$2:$N$502,7,0)=0,\"\",VLOOKUP(H156,漢字書き!$A$2:$N$502,7,0)))","v":""},{"$f":"IF(I156=\"\",\"\",IF(VLOOKUP(I156,漢字書き!$A$2:$N$502,7,0)=0,\"\",VLOOKUP(I156,漢字書き!$A$2:$N$502,7,0)))","v":""},{"$f":"IF(J156=\"\",\"\",IF(VLOOKUP(J156,漢字書き!$A$2:$N$502,7,0)=0,\"\",VLOOKUP(J156,漢字書き!$A$2:$N$502,7,0)))","v":"り"},{"$f":"IF(K156=\"\",\"\",IF(VLOOKUP(K156,漢字読み!$A$2:$O$502,7,0)=0,\"\",VLOOKUP(K156,漢字読み!$A$2:$O$502,7,0)))","v":""},{"$f":"IF(L156=\"\",\"\",IF(VLOOKUP(L156,漢字読み!$A$2:$O$502,7,0)=0,\"\",VLOOKUP(L156,漢字読み!$A$2:$O$502,7,0)))","v":""},{"$f":"IF(M156=\"\",\"\",IF(VLOOKUP(M156,漢字読み!$A$2:$O$502,7,0)=0,\"\",VLOOKUP(M156,漢字読み!$A$2:$O$502,7,0)))","v":"する"},{"$f":"IF(N156=\"\",\"\",IF(VLOOKUP(N156,漢字読み!$A$2:$O$502,7,0)=0,\"\",VLOOKUP(N156,漢字読み!$A$2:$O$502,7,0)))","v":""},{"$f":"IF(O156=\"\",\"\",IF(VLOOKUP(O156,漢字読み!$A$2:$O$502,7,0)=0,\"\",VLOOKUP(O156,漢字読み!$A$2:$O$502,7,0)))","v":"い"},{"$f":"IF(P156=\"\",\"\",IF(VLOOKUP(P156,漢字読み!$A$2:$O$502,7,0)=0,\"\",VLOOKUP(P156,漢字読み!$A$2:$O$502,7,0)))","v":""},{"$f":"IF(Q156=\"\",\"\",IF(VLOOKUP(Q156,漢字読み!$A$2:$O$502,7,0)=0,\"\",VLOOKUP(Q156,漢字読み!$A$2:$O$502,7,0)))","v":""},{"$f":"IF(R156=\"\",\"\",IF(VLOOKUP(R156,漢字読み!$A$2:$O$502,7,0)=0,\"\",VLOOKUP(R156,漢字読み!$A$2:$O$502,7,0)))","v":""},{"$f":"IF(S156=\"\",\"\",IF(VLOOKUP(S156,漢字読み!$A$2:$O$502,7,0)=0,\"\",VLOOKUP(S156,漢字読み!$A$2:$O$502,7,0)))","v":"な"},{"$f":"IF(T156=\"\",\"\",IF(VLOOKUP(T156,漢字読み!$A$2:$O$502,7,0)=0,\"\",VLOOKUP(T156,漢字読み!$A$2:$O$502,7,0)))","v":""},null,null,"和歌山県教育委員会"]
[{"$f":"INDIRECT(\"'関数（書き）'!C\" & COLUMN(B$1)+SUM($AD$2:$AD162))","v":34},{"$f":"INDIRECT(\"'関数（書き）'!C\" & COLUMN(C$1)+SUM($AD$2:$AD162))","v":109},{"$f":"INDIRECT(\"'関数（書き）'!C\" & COLUMN(D$1)+SUM($AD$2:$AD162))","v":88},{"$f":"INDIRECT(\"'関数（書き）'!C\" & COLUMN(E$1)+SUM($AD$2:$AD162))","v":198},{"$f":"INDIRECT(\"'関数（書き）'!C\" & COLUMN(F$1)+SUM($AD$2:$AD162))","v":17},{"$f":"INDIRECT(\"'関数（書き）'!C\" & COLUMN(G$1)+SUM($AD$2:$AD162))","v":140},{"$f":"INDIRECT(\"'関数（書き）'!C\" & COLUMN(H$1)+SUM($AD$2:$AD162))","v":210},{"$f":"INDIRECT(\"'関数（書き）'!C\" & COLUMN(I$1)+SUM($AD$2:$AD162))","v":129},{"$f":"INDIRECT(\"'関数（書き）'!C\" & COLUMN(J$1)+SUM($AD$2:$AD162))","v":62},{"$f":"INDIRECT(\"'関数（書き）'!C\" & COLUMN(K$1)+SUM($AD$2:$AD162))","v":151},{"$f":"INDIRECT(\"'関数（読み）'!C\" & COLUMN(B$1)+SUM($AD$2:$AD162))","v":42},{"$f":"INDIRECT(\"'関数（読み）'!C\" & COLUMN(C$1)+SUM($AD$2:$AD162))","v":12},{"$f":"INDIRECT(\"'関数（読み）'!C\" & COLUMN(D$1)+SUM($AD$2:$AD162))","v":58},{"$f":"INDIRECT(\"'関数（読み）'!C\" & COLUMN(E$1)+SUM($AD$2:$AD162))","v":112},{"$f":"INDIRECT(\"'関数（読み）'!C\" & COLUMN(F$1)+SUM($AD$2:$AD162))","v":155},{"$f":"INDIRECT(\"'関数（読み）'!C\" & COLUMN(G$1)+SUM($AD$2:$AD162))","v":234},{"$f":"INDIRECT(\"'関数（読み）'!C\" & COLUMN(H$1)+SUM($AD$2:$AD162))","v":6},{"$f":"INDIRECT(\"'関数（読み）'!C\" & COLUMN(I$1)+SUM($AD$2:$AD162))","v":72},{"$f":"INDIRECT(\"'関数（読み）'!C\" & COLUMN(J$1)+SUM($AD$2:$AD162))","v":51},{"$f":"INDIRECT(\"'関数（読み）'!C\" & COLUMN(K$1)+SUM($AD$2:$AD162))","v":22}]
["⑳","⑲","⑱","⑰","⑯","⑮","⑭","⑬","⑫","⑪","⑩","⑨","⑧","⑦","⑥","⑤","④","③","②","①","次の［　　　　］の部分の漢字には読みがなをひらがなで書き、カタカナは漢字に直しなさい。",12,"「漢字の博士検定試験」練習問題　",null,null,null,null,null,"←",10,"問",{"$f":"AH147+1","v":161},"～",{"$f":"SUM($AD$2:$AD162)+10","v":170},"問まで",{"$f":"COUNTIF($A$1:$T$200,T163)","v":2}]
[{"$f":"IF(A161=\"\",\"\",VLOOKUP(A161,漢字書き!$A$2:$N$506,6,0))","v":"北を［ム］く"},{"$f":"IF(B161=\"\",\"\",VLOOKUP(B161,漢字書き!$A$2:$N$506,6,0))","v":"［シュウゴウ］する場所"},{"$f":"IF(C161=\"\",\"\",VLOOKUP(C161,漢字書き!$A$2:$N$506,6,0))","v":"宝を［シシュ］する"},{"$f":"IF(D161=\"\",\"\",VLOOKUP(D161,漢字書き!$A$2:$N$506,6,0))","v":"じょう［ダン］を言う"},{"$f":"IF(E161=\"\",\"\",VLOOKUP(E161,漢字書き!$A$2:$N$506,6,0))","v":"［ケイ］かいなステップ"},{"$f":"IF(F161=\"\",\"\",VLOOKUP(F161,漢字書き!$A$2:$N$506,6,0))","v":"［モウ］しこみ用紙"},{"$f":"IF(G161=\"\",\"\",VLOOKUP(G161,漢字書き!$A$2:$N$506,6,0))","v":"れんらく［チョウ］"},{"$f":"IF(H161=\"\",\"\",VLOOKUP(H161,漢字書き!$A$2:$N$506,6,0))","v":"火が［キ］える"},{"$f":"IF(I161=\"\",\"\",VLOOKUP(I161,漢字書き!$A$2:$N$506,6,0))","v":"南を［サ］す"},{"$f":"IF(J161=\"\",\"\",VLOOKUP(J161,漢字書き!$A$2:$N$506,6,0))","v":"うたがいが［フカ］まる"},{"$f":"IF(K161=\"\",\"\",VLOOKUP(K161,漢字読み!$A$2:$O$506,6,0))","v":"メイフラワー［号］に乗る"},{"$f":"IF(L161=\"\",\"\",VLOOKUP(L161,漢字読み!$A$2:$O$506,6,0))","v":"国家の［君主］"},{"$f":"IF(M161=\"\",\"\",VLOOKUP(M161,漢字読み!$A$2:$O$506,6,0))","v":"テストを［開始］する"},{"$f":"IF(N161=\"\",\"\",VLOOKUP(N161,漢字読み!$A$2:$O$506,6,0))","v":"行事が［重］なる"},{"$f":"IF(O161=\"\",\"\",VLOOKUP(O161,漢字読み!$A$2:$O$506,6,0))","v":"［昔］のくらし"},{"$f":"IF(P161=\"\",\"\",VLOOKUP(P161,漢字読み!$A$2:$O$506,6,0))","v":"［都会］でくらす"},{"$f":"IF(Q161=\"\",\"\",VLOOKUP(Q161,漢字読み!$A$2:$O$506,6,0))","v":"［苦］は楽のたね"},{"$f":"IF(R161=\"\",\"\",VLOOKUP(R161,漢字読み!$A$2:$O$506,6,0))","v":"［目次］からさがす"},{"$f":"IF(S161=\"\",\"\",VLOOKUP(S161,漢字読み!$A$2:$O$506,6,0))","v":"王さまに［仕］える"},{"$f":"IF(T161=\"\",\"\",VLOOKUP(T161,漢字読み!$A$2:$O$506,6,0))","v":"新年の［決意］"},null,"級"]
[null,null,null,null,null,null,null,null,null,null,null,null,null,null,null,null,null,null,null,null,null,"名前"]
[{"$f":"IF(A161=\"\",\"\",IF(VLOOKUP(A161,漢字書き!$A$2:$N$502,7,0)=0,\"\",VLOOKUP(A161,漢字書き!$A$2:$N$502,7,0)))","v":"く"},{"$f":"IF(B161=\"\",\"\",IF(VLOOKUP(B161,漢字書き!$A$2:$N$502,7,0)=0,\"\",VLOOKUP(B161,漢字書き!$A$2:$N$502,7,0)))","v":"する"},{"$f":"IF(C161=\"\",\"\",IF(VLOOKUP(C161,漢字書き!$A$2:$N$502,7,0)=0,\"\",VLOOKUP(C161,漢字書き!$A$2:$N$502,7,0)))","v":"する"},{"$f":"IF(D161=\"\",\"\",IF(VLOOKUP(D161,漢字書き!$A$2:$N$502,7,0)=0,\"\",VLOOKUP(D161,漢字書き!$A$2:$N$502,7,0)))","v":""},{"$f":"IF(E161=\"\",\"\",IF(VLOOKUP(E161,漢字書き!$A$2:$N$502,7,0)=0,\"\",VLOOKUP(E161,漢字書き!$A$2:$N$502,7,0)))","v":"かいな"},{"$f":"IF(F161=\"\",\"\",IF(VLOOKUP(F161,漢字書き!$A$2:$N$502,7,0)=0,\"\",VLOOKUP(F161,漢字書き!$A$2:$N$502,7,0)))","v":"しこみ"},{"$f":"IF(G161=\"\",\"\",IF(VLOOKUP(G161,漢字書き!$A$2:$N$502,7,0)=0,\"\",VLOOKUP(G161,漢字書き!$A$2:$N$502,7,0)))","v":""},{"$f":"IF(H161=\"\",\"\",IF(VLOOKUP(H161,漢字書き!$A$2:$N$502,7,0)=0,\"\",VLOOKUP(H161,漢字書き!$A$2:$N$502,7,0)))","v":"える"},{"$f":"IF(I161=\"\",\"\",IF(VLOOKUP(I161,漢字書き!$A$2:$N$502,7,0)=0,\"\",VLOOKUP(I161,漢字書き!$A$2:$N$502,7,0)))","v":"す"},{"$f":"IF(J161=\"\",\"\",IF(VLOOKUP(J161,漢字書き!$A$2:$N$502,7,0)=0,\"\",VLOOKUP(J161,漢字書き!$A$2:$N$502,7,0)))","v":"まる"},{"$f":"IF(K161=\"\",\"\",IF(VLOOKUP(K161,漢字読み!$A$2:$O$502,7,0)=0,\"\",VLOOKUP(K161,漢字読み!$A$2:$O$502,7,0)))","v":""},{"$f":"IF(L161=\"\",\"\",IF(VLOOKUP(L161,漢字読み!$A$2:$O$502,7,0)=0,\"\",VLOOKUP(L161,漢字読み!$A$2:$O$502,7,0)))","v":""},{"$f":"IF(M161=\"\",\"\",IF(VLOOKUP(M161,漢字読み!$A$2:$O$502,7,0)=0,\"\",VLOOKUP(M161,漢字読み!$A$2:$O$502,7,0)))","v":"する"},{"$f":"IF(N161=\"\",\"\",IF(VLOOKUP(N161,漢字読み!$A$2:$O$502,7,0)=0,\"\",VLOOKUP(N161,漢字読み!$A$2:$O$502,7,0)))","v":"なる"},{"$f":"IF(O161=\"\",\"\",IF(VLOOKUP(O161,漢字読み!$A$2:$O$502,7,0)=0,\"\",VLOOKUP(O161,漢字読み!$A$2:$O$502,7,0)))","v":""},{"$f":"IF(P161=\"\",\"\",IF(VLOOKUP(P161,漢字読み!$A$2:$O$502,7,0)=0,\"\",VLOOKUP(P161,漢字読み!$A$2:$O$502,7,0)))","v":""},{"$f":"IF(Q161=\"\",\"\",IF(VLOOKUP(Q161,漢字読み!$A$2:$O$502,7,0)=0,\"\",VLOOKUP(Q161,漢字読み!$A$2:$O$502,7,0)))","v":""},{"$f":"IF(R161=\"\",\"\",IF(VLOOKUP(R161,漢字読み!$A$2:$O$502,7,0)=0,\"\",VLOOKUP(R161,漢字読み!$A$2:$O$502,7,0)))","v":""},{"$f":"IF(S161=\"\",\"\",IF(VLOOKUP(S161,漢字読み!$A$2:$O$502,7,0)=0,\"\",VLOOKUP(S161,漢字読み!$A$2:$O$502,7,0)))","v":"える"},{"$f":"IF(T161=\"\",\"\",IF(VLOOKUP(T161,漢字読み!$A$2:$O$502,7,0)=0,\"\",VLOOKUP(T161,漢字読み!$A$2:$O$502,7,0)))","v":""},null,null,"和歌山県教育委員会"]
[{"$f":"INDIRECT(\"'関数（書き）'!C\" & COLUMN(B$1)+SUM($AD$2:$AD167))","v":230},{"$f":"INDIRECT(\"'関数（書き）'!C\" & COLUMN(C$1)+SUM($AD$2:$AD167))","v":172},{"$f":"INDIRECT(\"'関数（書き）'!C\" & COLUMN(D$1)+SUM($AD$2:$AD167))","v":83},{"$f":"INDIRECT(\"'関数（書き）'!C\" & COLUMN(E$1)+SUM($AD$2:$AD167))","v":81},{"$f":"INDIRECT(\"'関数（書き）'!C\" & COLUMN(F$1)+SUM($AD$2:$AD167))","v":56},{"$f":"INDIRECT(\"'関数（書き）'!C\" & COLUMN(G$1)+SUM($AD$2:$AD167))","v":23},{"$f":"INDIRECT(\"'関数（書き）'!C\" & COLUMN(H$1)+SUM($AD$2:$AD167))","v":209},{"$f":"INDIRECT(\"'関数（書き）'!C\" & COLUMN(I$1)+SUM($AD$2:$AD167))","v":61},{"$f":"INDIRECT(\"'関数（書き）'!C\" & COLUMN(J$1)+SUM($AD$2:$AD167))","v":163},{"$f":"INDIRECT(\"'関数（書き）'!C\" & COLUMN(K$1)+SUM($AD$2:$AD167))","v":115},{"$f":"INDIRECT(\"'関数（読み）'!C\" & COLUMN(B$1)+SUM($AD$2:$AD167))","v":65},{"$f":"INDIRECT(\"'関数（読み）'!C\" & COLUMN(C$1)+SUM($AD$2:$AD167))","v":4},{"$f":"INDIRECT(\"'関数（読み）'!C\" & COLUMN(D$1)+SUM($AD$2:$AD167))","v":101},{"$f":"INDIRECT(\"'関数（読み）'!C\" & COLUMN(E$1)+SUM($AD$2:$AD167))","v":46},{"$f":"INDIRECT(\"'関数（読み）'!C\" & COLUMN(F$1)+SUM($AD$2:$AD167))","v":118},{"$f":"INDIRECT(\"'関数（読み）'!C\" & COLUMN(G$1)+SUM($AD$2:$AD167))","v":132},{"$f":"INDIRECT(\"'関数（読み）'!C\" & COLUMN(H$1)+SUM($AD$2:$AD167))","v":191},{"$f":"INDIRECT(\"'関数（読み）'!C\" & COLUMN(I$1)+SUM($AD$2:$AD167))","v":69},{"$f":"INDIRECT(\"'関数（読み）'!C\" & COLUMN(J$1)+SUM($AD$2:$AD167))","v":21},{"$f":"INDIRECT(\"'関数（読み）'!C\" & COLUMN(K$1)+SUM($AD$2:$AD167))","v":116}]
["⑳","⑲","⑱","⑰","⑯","⑮","⑭","⑬","⑫","⑪","⑩","⑨","⑧","⑦","⑥","⑤","④","③","②","①","次の［　　　　］の部分の漢字には読みがなをひらがなで書き、カタカナは漢字に直しなさい。",12,"「漢字の博士検定試験」練習問題　",null,null,null,null,null,"←",10,"問",{"$f":"AH162+1","v":171},"～",{"$f":"SUM($AD$2:$AD167)+10","v":180},"問まで",{"$f":"COUNTIF($A$1:$T$200,T168)","v":2}]
[{"$f":"IF(A166=\"\",\"\",VLOOKUP(A166,漢字書き!$A$2:$N$506,6,0))","v":"花の［ミヤコ］、パリ"},{"$f":"IF(B166=\"\",\"\",VLOOKUP(B166,漢字書き!$A$2:$N$506,6,0))","v":"車の［ソクド］"},{"$f":"IF(C166=\"\",\"\",VLOOKUP(C166,漢字書き!$A$2:$N$506,6,0))","v":"［ガクシャ］になる"},{"$f":"IF(D166=\"\",\"\",VLOOKUP(D166,漢字書き!$A$2:$N$506,6,0))","v":"［ショシャ］の時間"},{"$f":"IF(E166=\"\",\"\",VLOOKUP(E166,漢字書き!$A$2:$N$506,6,0))","v":"道具を［ツカ］う"},{"$f":"IF(F166=\"\",\"\",VLOOKUP(F166,漢字書き!$A$2:$N$506,6,0))","v":"やめようと［ケツイ］する"},{"$f":"IF(G166=\"\",\"\",VLOOKUP(G166,漢字書き!$A$2:$N$506,6,0))","v":"ほう［チョウ］で切る"},{"$f":"IF(H166=\"\",\"\",VLOOKUP(H166,漢字書き!$A$2:$N$506,6,0))","v":"［オヤユビ］ひめ"},{"$f":"IF(I166=\"\",\"\",VLOOKUP(I166,漢字書き!$A$2:$N$506,6,0))","v":"［スベ］てなくなる"},{"$f":"IF(J166=\"\",\"\",VLOOKUP(J166,漢字書き!$A$2:$N$506,6,0))","v":"［オモ］たいかばん"},{"$f":"IF(K166=\"\",\"\",VLOOKUP(K166,漢字読み!$A$2:$O$506,6,0))","v":"［歯科］けんしんの時間"},{"$f":"IF(L166=\"\",\"\",VLOOKUP(L166,漢字読み!$A$2:$O$506,6,0))","v":"［地区］のそうじ"},{"$f":"IF(M166=\"\",\"\",VLOOKUP(M166,漢字読み!$A$2:$O$506,6,0))","v":"宿題を［終］える"},{"$f":"IF(N166=\"\",\"\",VLOOKUP(N166,漢字読み!$A$2:$O$506,6,0))","v":"［体育祭］の行事"},{"$f":"IF(O166=\"\",\"\",VLOOKUP(O166,漢字読み!$A$2:$O$506,6,0))","v":"たえられない［暑］さ"},{"$f":"IF(P166=\"\",\"\",VLOOKUP(P166,漢字読み!$A$2:$O$506,6,0))","v":"船に［乗］る"},{"$f":"IF(Q166=\"\",\"\",VLOOKUP(Q166,漢字読み!$A$2:$O$506,6,0))","v":"［問題］がむずかしい"},{"$f":"IF(R166=\"\",\"\",VLOOKUP(R166,漢字読み!$A$2:$O$506,6,0))","v":"長い［詩］を読む"},{"$f":"IF(S166=\"\",\"\",VLOOKUP(S166,漢字読み!$A$2:$O$506,6,0))","v":"［決心］をする"},{"$f":"IF(T166=\"\",\"\",VLOOKUP(T166,漢字読み!$A$2:$O$506,6,0))","v":" すてきな［台所］"},null,"級"]
[null,null,null,null,null,null,null,null,null,null,null,null,null,null,null,null,null,null,null,null,null,"名前"]
[{"$f":"IF(A166=\"\",\"\",IF(VLOOKUP(A166,漢字書き!$A$2:$N$502,7,0)=0,\"\",VLOOKUP(A166,漢字書き!$A$2:$N$502,7,0)))","v":""},{"$f":"IF(B166=\"\",\"\",IF(VLOOKUP(B166,漢字書き!$A$2:$N$502,7,0)=0,\"\",VLOOKUP(B166,漢字書き!$A$2:$N$502,7,0)))","v":""},{"$f":"IF(C166=\"\",\"\",IF(VLOOKUP(C166,漢字書き!$A$2:$N$502,7,0)=0,\"\",VLOOKUP(C166,漢字書き!$A$2:$N$502,7,0)))","v":""},{"$f":"IF(D166=\"\",\"\",IF(VLOOKUP(D166,漢字書き!$A$2:$N$502,7,0)=0,\"\",VLOOKUP(D166,漢字書き!$A$2:$N$502,7,0)))","v":""},{"$f":"IF(E166=\"\",\"\",IF(VLOOKUP(E166,漢字書き!$A$2:$N$502,7,0)=0,\"\",VLOOKUP(E166,漢字書き!$A$2:$N$502,7,0)))","v":"う"},{"$f":"IF(F166=\"\",\"\",IF(VLOOKUP(F166,漢字書き!$A$2:$N$502,7,0)=0,\"\",VLOOKUP(F166,漢字書き!$A$2:$N$502,7,0)))","v":"する"},{"$f":"IF(G166=\"\",\"\",IF(VLOOKUP(G166,漢字書き!$A$2:$N$502,7,0)=0,\"\",VLOOKUP(G166,漢字書き!$A$2:$N$502,7,0)))","v":""},{"$f":"IF(H166=\"\",\"\",IF(VLOOKUP(H166,漢字書き!$A$2:$N$502,7,0)=0,\"\",VLOOKUP(H166,漢字書き!$A$2:$N$502,7,0)))","v":"ひめ"},{"$f":"IF(I166=\"\",\"\",IF(VLOOKUP(I166,漢字書き!$A$2:$N$502,7,0)=0,\"\",VLOOKUP(I166,漢字書き!$A$2:$N$502,7,0)))","v":"て"},{"$f":"IF(J166=\"\",\"\",IF(VLOOKUP(J166,漢字書き!$A$2:$N$502,7,0)=0,\"\",VLOOKUP(J166,漢字書き!$A$2:$N$502,7,0)))","v":"たい"},{"$f":"IF(K166=\"\",\"\",IF(VLOOKUP(K166,漢字読み!$A$2:$O$502,7,0)=0,\"\",VLOOKUP(K166,漢字読み!$A$2:$O$502,7,0)))","v":""},{"$f":"IF(L166=\"\",\"\",IF(VLOOKUP(L166,漢字読み!$A$2:$O$502,7,0)=0,\"\",VLOOKUP(L166,漢字読み!$A$2:$O$502,7,0)))","v":""},{"$f":"IF(M166=\"\",\"\",IF(VLOOKUP(M166,漢字読み!$A$2:$O$502,7,0)=0,\"\",VLOOKUP(M166,漢字読み!$A$2:$O$502,7,0)))","v":"える"},{"$f":"IF(N166=\"\",\"\",IF(VLOOKUP(N166,漢字読み!$A$2:$O$502,7,0)=0,\"\",VLOOKUP(N166,漢字読み!$A$2:$O$502,7,0)))","v":""},{"$f":"IF(O166=\"\",\"\",IF(VLOOKUP(O166,漢字読み!$A$2:$O$502,7,0)=0,\"\",VLOOKUP(O166,漢字読み!$A$2:$O$502,7,0)))","v":"さ"},{"$f":"IF(P166=\"\",\"\",IF(VLOOKUP(P166,漢字読み!$A$2:$O$502,7,0)=0,\"\",VLOOKUP(P166,漢字読み!$A$2:$O$502,7,0)))","v":"る"},{"$f":"IF(Q166=\"\",\"\",IF(VLOOKUP(Q166,漢字読み!$A$2:$O$502,7,0)=0,\"\",VLOOKUP(Q166,漢字読み!$A$2:$O$502,7,0)))","v":""},{"$f":"IF(R166=\"\",\"\",IF(VLOOKUP(R166,漢字読み!$A$2:$O$502,7,0)=0,\"\",VLOOKUP(R166,漢字読み!$A$2:$O$502,7,0)))","v":""},{"$f":"IF(S166=\"\",\"\",IF(VLOOKUP(S166,漢字読み!$A$2:$O$502,7,0)=0,\"\",VLOOKUP(S166,漢字読み!$A$2:$O$502,7,0)))","v":""},{"$f":"IF(T166=\"\",\"\",IF(VLOOKUP(T166,漢字読み!$A$2:$O$502,7,0)=0,\"\",VLOOKUP(T166,漢字読み!$A$2:$O$502,7,0)))","v":""},null,null,"和歌山県教育委員会"]
[{"$f":"A161","v":34},109,88,198,17,140,210,129,62,151,42,12,58,112,155,234,6,72,51,22]
["⑳","⑲","⑱","⑰","⑯","⑮","⑭","⑬","⑫","⑪","⑩","⑨","⑧","⑦","⑥","⑤","④","③","②","①","次の［　　　　］の部分の漢字には読みがなをひらがなで書き、カタカナは漢字に直しなさい。",12,"「漢字の博士検定試験」練習問題　"]
[{"$f":"IF(A171=\"\",\"\",VLOOKUP(A171,漢字書き!$A$2:$N$506,6,0))","v":"北を［ム］く"},{"$f":"IF(B171=\"\",\"\",VLOOKUP(B171,漢字書き!$A$2:$N$506,6,0))","v":"［シュウゴウ］する場所"},{"$f":"IF(C171=\"\",\"\",VLOOKUP(C171,漢字書き!$A$2:$N$506,6,0))","v":"宝を［シシュ］する"},{"$f":"IF(D171=\"\",\"\",VLOOKUP(D171,漢字書き!$A$2:$N$506,6,0))","v":"じょう［ダン］を言う"},{"$f":"IF(E171=\"\",\"\",VLOOKUP(E171,漢字書き!$A$2:$N$506,6,0))","v":"［ケイ］かいなステップ"},{"$f":"IF(F171=\"\",\"\",VLOOKUP(F171,漢字書き!$A$2:$N$506,6,0))","v":"［モウ］しこみ用紙"},{"$f":"IF(G171=\"\",\"\",VLOOKUP(G171,漢字書き!$A$2:$N$506,6,0))","v":"れんらく［チョウ］"},{"$f":"IF(H171=\"\",\"\",VLOOKUP(H171,漢字書き!$A$2:$N$506,6,0))","v":"火が［キ］える"},{"$f":"IF(I171=\"\",\"\",VLOOKUP(I171,漢字書き!$A$2:$N$506,6,0))","v":"南を［サ］す"},{"$f":"IF(J171=\"\",\"\",VLOOKUP(J171,漢字書き!$A$2:$N$506,6,0))","v":"うたがいが［フカ］まる"},{"$f":"IF(K171=\"\",\"\",VLOOKUP(K171,漢字読み!$A$2:$O$506,6,0))","v":"メイフラワー［号］に乗る"},{"$f":"IF(L171=\"\",\"\",VLOOKUP(L171,漢字読み!$A$2:$O$506,6,0))","v":"国家の［君主］"},{"$f":"IF(M171=\"\",\"\",VLOOKUP(M171,漢字読み!$A$2:$O$506,6,0))","v":"テストを［開始］する"},{"$f":"IF(N171=\"\",\"\",VLOOKUP(N171,漢字読み!$A$2:$O$506,6,0))","v":"行事が［重］なる"},{"$f":"IF(O171=\"\",\"\",VLOOKUP(O171,漢字読み!$A$2:$O$506,6,0))","v":"［昔］のくらし"},{"$f":"IF(P171=\"\",\"\",VLOOKUP(P171,漢字読み!$A$2:$O$506,6,0))","v":"［都会］でくらす"},{"$f":"IF(Q171=\"\",\"\",VLOOKUP(Q171,漢字読み!$A$2:$O$506,6,0))","v":"［苦］は楽のたね"},{"$f":"IF(R171=\"\",\"\",VLOOKUP(R171,漢字読み!$A$2:$O$506,6,0))","v":"［目次］からさがす"},{"$f":"IF(S171=\"\",\"\",VLOOKUP(S171,漢字読み!$A$2:$O$506,6,0))","v":"王さまに［仕］える"},{"$f":"IF(T171=\"\",\"\",VLOOKUP(T171,漢字読み!$A$2:$O$506,6,0))","v":"新年の［決意］"},null,"級"]
[{"$f":"IF(A$11=\"\",\"\",VLOOKUP(A171,漢字書き!$A$2:$O$506,8,0))","v":"向"},{"$f":"IF(B$11=\"\",\"\",VLOOKUP(B171,漢字書き!$A$2:$O$506,8,0))","v":"集合"},{"$f":"IF(C$11=\"\",\"\",VLOOKUP(C171,漢字書き!$A$2:$O$506,8,0))","v":"死守"},{"$f":"IF(D$11=\"\",\"\",VLOOKUP(D171,漢字書き!$A$2:$O$506,8,0))","v":"談"},{"$f":"IF(E$11=\"\",\"\",VLOOKUP(E171,漢字書き!$A$2:$O$506,8,0))","v":"軽"},{"$f":"IF(F$11=\"\",\"\",VLOOKUP(F171,漢字書き!$A$2:$O$506,8,0))","v":"申"},{"$f":"IF(G$11=\"\",\"\",VLOOKUP(G171,漢字書き!$A$2:$O$506,8,0))","v":"帳"},{"$f":"IF(H$11=\"\",\"\",VLOOKUP(H171,漢字書き!$A$2:$O$506,8,0))","v":"消"},{"$f":"IF(I$11=\"\",\"\",VLOOKUP(I171,漢字書き!$A$2:$O$506,8,0))","v":"指"},{"$f":"IF(J$11=\"\",\"\",VLOOKUP(J171,漢字書き!$A$2:$O$506,8,0))","v":"深"},{"$f":"IF(K$11=\"\",\"\",VLOOKUP(K171,漢字読み!$A$2:$O$506,8,0))","v":"ごう"},{"$f":"IF(L$11=\"\",\"\",VLOOKUP(L171,漢字読み!$A$2:$O$506,8,0))","v":"くんしゅ"},{"$f":"IF(M$11=\"\",\"\",VLOOKUP(M171,漢字読み!$A$2:$O$506,8,0))","v":"かいし"},{"$f":"IF(N$11=\"\",\"\",VLOOKUP(N171,漢字読み!$A$2:$O$506,8,0))","v":"かさ"},{"$f":"IF(O$11=\"\",\"\",VLOOKUP(O171,漢字読み!$A$2:$O$506,8,0))","v":"むかし"},{"$f":"IF(P$11=\"\",\"\",VLOOKUP(P171,漢字読み!$A$2:$O$506,8,0))","v":"とかい"},{"$f":"IF(Q$11=\"\",\"\",VLOOKUP(Q171,漢字読み!$A$2:$O$506,8,0))","v":"く"},{"$f":"IF(R$11=\"\",\"\",VLOOKUP(R171,漢字読み!$A$2:$O$506,8,0))","v":"もくじ"},{"$f":"IF(S$11=\"\",\"\",VLOOKUP(S171,漢字読み!$A$2:$O$506,8,0))","v":"つか"},{"$f":"IF(T$11=\"\",\"\",VLOOKUP(T171,漢字読み!$A$2:$O$506,8,0))","v":"けつい"},null,"名前"]
[{"$f":"IF(A171=\"\",\"\",IF(VLOOKUP(A171,漢字書き!$A$2:$N$502,7,0)=0,\"\",VLOOKUP(A171,漢字書き!$A$2:$N$502,7,0)))","v":"く"},{"$f":"IF(B171=\"\",\"\",IF(VLOOKUP(B171,漢字書き!$A$2:$N$502,7,0)=0,\"\",VLOOKUP(B171,漢字書き!$A$2:$N$502,7,0)))","v":"する"},{"$f":"IF(C171=\"\",\"\",IF(VLOOKUP(C171,漢字書き!$A$2:$N$502,7,0)=0,\"\",VLOOKUP(C171,漢字書き!$A$2:$N$502,7,0)))","v":"する"},{"$f":"IF(D171=\"\",\"\",IF(VLOOKUP(D171,漢字書き!$A$2:$N$502,7,0)=0,\"\",VLOOKUP(D171,漢字書き!$A$2:$N$502,7,0)))","v":""},{"$f":"IF(E171=\"\",\"\",IF(VLOOKUP(E171,漢字書き!$A$2:$N$502,7,0)=0,\"\",VLOOKUP(E171,漢字書き!$A$2:$N$502,7,0)))","v":"かいな"},{"$f":"IF(F171=\"\",\"\",IF(VLOOKUP(F171,漢字書き!$A$2:$N$502,7,0)=0,\"\",VLOOKUP(F171,漢字書き!$A$2:$N$502,7,0)))","v":"しこみ"},{"$f":"IF(G171=\"\",\"\",IF(VLOOKUP(G171,漢字書き!$A$2:$N$502,7,0)=0,\"\",VLOOKUP(G171,漢字書き!$A$2:$N$502,7,0)))","v":""},{"$f":"IF(H171=\"\",\"\",IF(VLOOKUP(H171,漢字書き!$A$2:$N$502,7,0)=0,\"\",VLOOKUP(H171,漢字書き!$A$2:$N$502,7,0)))","v":"える"},{"$f":"IF(I171=\"\",\"\",IF(VLOOKUP(I171,漢字書き!$A$2:$N$502,7,0)=0,\"\",VLOOKUP(I171,漢字書き!$A$2:$N$502,7,0)))","v":"す"},{"$f":"IF(J171=\"\",\"\",IF(VLOOKUP(J171,漢字書き!$A$2:$N$502,7,0)=0,\"\",VLOOKUP(J171,漢字書き!$A$2:$N$502,7,0)))","v":"まる"},{"$f":"IF(K171=\"\",\"\",IF(VLOOKUP(K171,漢字読み!$A$2:$O$502,7,0)=0,\"\",VLOOKUP(K171,漢字読み!$A$2:$O$502,7,0)))","v":""},{"$f":"IF(L171=\"\",\"\",IF(VLOOKUP(L171,漢字読み!$A$2:$O$502,7,0)=0,\"\",VLOOKUP(L171,漢字読み!$A$2:$O$502,7,0)))","v":""},{"$f":"IF(M171=\"\",\"\",IF(VLOOKUP(M171,漢字読み!$A$2:$O$502,7,0)=0,\"\",VLOOKUP(M171,漢字読み!$A$2:$O$502,7,0)))","v":"する"},{"$f":"IF(N171=\"\",\"\",IF(VLOOKUP(N171,漢字読み!$A$2:$O$502,7,0)=0,\"\",VLOOKUP(N171,漢字読み!$A$2:$O$502,7,0)))","v":"なる"},{"$f":"IF(O171=\"\",\"\",IF(VLOOKUP(O171,漢字読み!$A$2:$O$502,7,0)=0,\"\",VLOOKUP(O171,漢字読み!$A$2:$O$502,7,0)))","v":""},{"$f":"IF(P171=\"\",\"\",IF(VLOOKUP(P171,漢字読み!$A$2:$O$502,7,0)=0,\"\",VLOOKUP(P171,漢字読み!$A$2:$O$502,7,0)))","v":""},{"$f":"IF(Q171=\"\",\"\",IF(VLOOKUP(Q171,漢字読み!$A$2:$O$502,7,0)=0,\"\",VLOOKUP(Q171,漢字読み!$A$2:$O$502,7,0)))","v":""},{"$f":"IF(R171=\"\",\"\",IF(VLOOKUP(R171,漢字読み!$A$2:$O$502,7,0)=0,\"\",VLOOKUP(R171,漢字読み!$A$2:$O$502,7,0)))","v":""},{"$f":"IF(S171=\"\",\"\",IF(VLOOKUP(S171,漢字読み!$A$2:$O$502,7,0)=0,\"\",VLOOKUP(S171,漢字読み!$A$2:$O$502,7,0)))","v":"える"},{"$f":"IF(T171=\"\",\"\",IF(VLOOKUP(T171,漢字読み!$A$2:$O$502,7,0)=0,\"\",VLOOKUP(T171,漢字読み!$A$2:$O$502,7,0)))","v":""},null,null,"和歌山県教育委員会"]
[{"$f":"A166","v":230},172,83,81,56,23,209,61,163,115,65,4,101,46,118,132,191,69,21,116]
["⑳","⑲","⑱","⑰","⑯","⑮","⑭","⑬","⑫","⑪","⑩","⑨","⑧","⑦","⑥","⑤","④","③","②","①","次の［　　　　］の部分の漢字には読みがなをひらがなで書き、カタカナは漢字に直しなさい。",12,"「漢字の博士検定試験」練習問題　"]
[{"$f":"IF(A176=\"\",\"\",VLOOKUP(A176,漢字書き!$A$2:$N$506,6,0))","v":"花の［ミヤコ］、パリ"},{"$f":"IF(B176=\"\",\"\",VLOOKUP(B176,漢字書き!$A$2:$N$506,6,0))","v":"車の［ソクド］"},{"$f":"IF(C176=\"\",\"\",VLOOKUP(C176,漢字書き!$A$2:$N$506,6,0))","v":"［ガクシャ］になる"},{"$f":"IF(D176=\"\",\"\",VLOOKUP(D176,漢字書き!$A$2:$N$506,6,0))","v":"［ショシャ］の時間"},{"$f":"IF(E176=\"\",\"\",VLOOKUP(E176,漢字書き!$A$2:$N$506,6,0))","v":"道具を［ツカ］う"},{"$f":"IF(F176=\"\",\"\",VLOOKUP(F176,漢字書き!$A$2:$N$506,6,0))","v":"やめようと［ケツイ］する"},{"$f":"IF(G176=\"\",\"\",VLOOKUP(G176,漢字書き!$A$2:$N$506,6,0))","v":"ほう［チョウ］で切る"},{"$f":"IF(H176=\"\",\"\",VLOOKUP(H176,漢字書き!$A$2:$N$506,6,0))","v":"［オヤユビ］ひめ"},{"$f":"IF(I176=\"\",\"\",VLOOKUP(I176,漢字書き!$A$2:$N$506,6,0))","v":"［スベ］てなくなる"},{"$f":"IF(J176=\"\",\"\",VLOOKUP(J176,漢字書き!$A$2:$N$506,6,0))","v":"［オモ］たいかばん"},{"$f":"IF(K176=\"\",\"\",VLOOKUP(K176,漢字読み!$A$2:$O$506,6,0))","v":"［歯科］けんしんの時間"},{"$f":"IF(L176=\"\",\"\",VLOOKUP(L176,漢字読み!$A$2:$O$506,6,0))","v":"［地区］のそうじ"},{"$f":"IF(M176=\"\",\"\",VLOOKUP(M176,漢字読み!$A$2:$O$506,6,0))","v":"宿題を［終］える"},{"$f":"IF(N176=\"\",\"\",VLOOKUP(N176,漢字読み!$A$2:$O$506,6,0))","v":"［体育祭］の行事"},{"$f":"IF(O176=\"\",\"\",VLOOKUP(O176,漢字読み!$A$2:$O$506,6,0))","v":"たえられない［暑］さ"},{"$f":"IF(P176=\"\",\"\",VLOOKUP(P176,漢字読み!$A$2:$O$506,6,0))","v":"船に［乗］る"},{"$f":"IF(Q176=\"\",\"\",VLOOKUP(Q176,漢字読み!$A$2:$O$506,6,0))","v":"［問題］がむずかしい"},{"$f":"IF(R176=\"\",\"\",VLOOKUP(R176,漢字読み!$A$2:$O$506,6,0))","v":"長い［詩］を読む"},{"$f":"IF(S176=\"\",\"\",VLOOKUP(S176,漢字読み!$A$2:$O$506,6,0))","v":"［決心］をする"},{"$f":"IF(T176=\"\",\"\",VLOOKUP(T176,漢字読み!$A$2:$O$506,6,0))","v":" すてきな［台所］"},null,"級"]
[{"$f":"IF(A$16=\"\",\"\",VLOOKUP(A176,漢字書き!$A$2:$O$506,8,0))","v":"都"},{"$f":"IF(B$16=\"\",\"\",VLOOKUP(B176,漢字書き!$A$2:$O$506,8,0))","v":"速度"},{"$f":"IF(C$16=\"\",\"\",VLOOKUP(C176,漢字書き!$A$2:$O$506,8,0))","v":"学者"},{"$f":"IF(D$16=\"\",\"\",VLOOKUP(D176,漢字書き!$A$2:$O$506,8,0))","v":"書写"},{"$f":"IF(E$16=\"\",\"\",VLOOKUP(E176,漢字書き!$A$2:$O$506,8,0))","v":"使"},{"$f":"IF(F$16=\"\",\"\",VLOOKUP(F176,漢字書き!$A$2:$O$506,8,0))","v":"決意"},{"$f":"IF(G$16=\"\",\"\",VLOOKUP(G176,漢字書き!$A$2:$O$506,8,0))","v":"丁"},{"$f":"IF(H$16=\"\",\"\",VLOOKUP(H176,漢字書き!$A$2:$O$506,8,0))","v":"親指"},{"$f":"IF(I$16=\"\",\"\",VLOOKUP(I176,漢字書き!$A$2:$O$506,8,0))","v":"全"},{"$f":"IF(J$16=\"\",\"\",VLOOKUP(J176,漢字書き!$A$2:$O$506,8,0))","v":"重"},{"$f":"IF(K$16=\"\",\"\",VLOOKUP(K176,漢字読み!$A$2:$O$506,8,0))","v":"しか"},{"$f":"IF(L$16=\"\",\"\",VLOOKUP(L176,漢字読み!$A$2:$O$506,8,0))","v":"ちく"},{"$f":"IF(M$16=\"\",\"\",VLOOKUP(M176,漢字読み!$A$2:$O$506,8,0))","v":"お"},{"$f":"IF(N$16=\"\",\"\",VLOOKUP(N176,漢字読み!$A$2:$O$506,8,0))","v":"たいいくさい"},{"$f":"IF(O$16=\"\",\"\",VLOOKUP(O176,漢字読み!$A$2:$O$506,8,0))","v":"あつ"},{"$f":"IF(P$16=\"\",\"\",VLOOKUP(P176,漢字読み!$A$2:$O$506,8,0))","v":"の"},{"$f":"IF(Q$16=\"\",\"\",VLOOKUP(Q176,漢字読み!$A$2:$O$506,8,0))","v":"もんだい"},{"$f":"IF(R$16=\"\",\"\",VLOOKUP(R176,漢字読み!$A$2:$O$506,8,0))","v":"し"},{"$f":"IF(S$16=\"\",\"\",VLOOKUP(S176,漢字読み!$A$2:$O$506,8,0))","v":"けっしん"},{"$f":"IF(T$16=\"\",\"\",VLOOKUP(T176,漢字読み!$A$2:$O$506,8,0))","v":"だいどころ"},null,"名前"]
[{"$f":"IF(A176=\"\",\"\",IF(VLOOKUP(A176,漢字書き!$A$2:$N$502,7,0)=0,\"\",VLOOKUP(A176,漢字書き!$A$2:$N$502,7,0)))","v":""},{"$f":"IF(B176=\"\",\"\",IF(VLOOKUP(B176,漢字書き!$A$2:$N$502,7,0)=0,\"\",VLOOKUP(B176,漢字書き!$A$2:$N$502,7,0)))","v":""},{"$f":"IF(C176=\"\",\"\",IF(VLOOKUP(C176,漢字書き!$A$2:$N$502,7,0)=0,\"\",VLOOKUP(C176,漢字書き!$A$2:$N$502,7,0)))","v":""},{"$f":"IF(D176=\"\",\"\",IF(VLOOKUP(D176,漢字書き!$A$2:$N$502,7,0)=0,\"\",VLOOKUP(D176,漢字書き!$A$2:$N$502,7,0)))","v":""},{"$f":"IF(E176=\"\",\"\",IF(VLOOKUP(E176,漢字書き!$A$2:$N$502,7,0)=0,\"\",VLOOKUP(E176,漢字書き!$A$2:$N$502,7,0)))","v":"う"},{"$f":"IF(F176=\"\",\"\",IF(VLOOKUP(F176,漢字書き!$A$2:$N$502,7,0)=0,\"\",VLOOKUP(F176,漢字書き!$A$2:$N$502,7,0)))","v":"する"},{"$f":"IF(G176=\"\",\"\",IF(VLOOKUP(G176,漢字書き!$A$2:$N$502,7,0)=0,\"\",VLOOKUP(G176,漢字書き!$A$2:$N$502,7,0)))","v":""},{"$f":"IF(H176=\"\",\"\",IF(VLOOKUP(H176,漢字書き!$A$2:$N$502,7,0)=0,\"\",VLOOKUP(H176,漢字書き!$A$2:$N$502,7,0)))","v":"ひめ"},{"$f":"IF(I176=\"\",\"\",IF(VLOOKUP(I176,漢字書き!$A$2:$N$502,7,0)=0,\"\",VLOOKUP(I176,漢字書き!$A$2:$N$502,7,0)))","v":"て"},{"$f":"IF(J176=\"\",\"\",IF(VLOOKUP(J176,漢字書き!$A$2:$N$502,7,0)=0,\"\",VLOOKUP(J176,漢字書き!$A$2:$N$502,7,0)))","v":"たい"},{"$f":"IF(K176=\"\",\"\",IF(VLOOKUP(K176,漢字読み!$A$2:$O$502,7,0)=0,\"\",VLOOKUP(K176,漢字読み!$A$2:$O$502,7,0)))","v":""},{"$f":"IF(L176=\"\",\"\",IF(VLOOKUP(L176,漢字読み!$A$2:$O$502,7,0)=0,\"\",VLOOKUP(L176,漢字読み!$A$2:$O$502,7,0)))","v":""},{"$f":"IF(M176=\"\",\"\",IF(VLOOKUP(M176,漢字読み!$A$2:$O$502,7,0)=0,\"\",VLOOKUP(M176,漢字読み!$A$2:$O$502,7,0)))","v":"える"},{"$f":"IF(N176=\"\",\"\",IF(VLOOKUP(N176,漢字読み!$A$2:$O$502,7,0)=0,\"\",VLOOKUP(N176,漢字読み!$A$2:$O$502,7,0)))","v":""},{"$f":"IF(O176=\"\",\"\",IF(VLOOKUP(O176,漢字読み!$A$2:$O$502,7,0)=0,\"\",VLOOKUP(O176,漢字読み!$A$2:$O$502,7,0)))","v":"さ"},{"$f":"IF(P176=\"\",\"\",IF(VLOOKUP(P176,漢字読み!$A$2:$O$502,7,0)=0,\"\",VLOOKUP(P176,漢字読み!$A$2:$O$502,7,0)))","v":"る"},{"$f":"IF(Q176=\"\",\"\",IF(VLOOKUP(Q176,漢字読み!$A$2:$O$502,7,0)=0,\"\",VLOOKUP(Q176,漢字読み!$A$2:$O$502,7,0)))","v":""},{"$f":"IF(R176=\"\",\"\",IF(VLOOKUP(R176,漢字読み!$A$2:$O$502,7,0)=0,\"\",VLOOKUP(R176,漢字読み!$A$2:$O$502,7,0)))","v":""},{"$f":"IF(S176=\"\",\"\",IF(VLOOKUP(S176,漢字読み!$A$2:$O$502,7,0)=0,\"\",VLOOKUP(S176,漢字読み!$A$2:$O$502,7,0)))","v":""},{"$f":"IF(T176=\"\",\"\",IF(VLOOKUP(T176,漢字読み!$A$2:$O$502,7,0)=0,\"\",VLOOKUP(T176,漢字読み!$A$2:$O$502,7,0)))","v":""},null,null,"和歌山県教育委員会"]
[{"$f":"INDIRECT(\"'関数（書き）'!C\" & COLUMN(B$1)+SUM($AD$2:$AD182))","v":120},{"$f":"INDIRECT(\"'関数（書き）'!C\" & COLUMN(C$1)+SUM($AD$2:$AD182))","v":121},{"$f":"INDIRECT(\"'関数（書き）'!C\" & COLUMN(D$1)+SUM($AD$2:$AD182))","v":235},{"$f":"INDIRECT(\"'関数（書き）'!C\" & COLUMN(E$1)+SUM($AD$2:$AD182))","v":3},{"$f":"INDIRECT(\"'関数（書き）'!C\" & COLUMN(F$1)+SUM($AD$2:$AD182))","v":38},{"$f":"INDIRECT(\"'関数（書き）'!C\" & COLUMN(G$1)+SUM($AD$2:$AD182))","v":89},{"$f":"INDIRECT(\"'関数（書き）'!C\" & COLUMN(H$1)+SUM($AD$2:$AD182))","v":91},{"$f":"INDIRECT(\"'関数（書き）'!C\" & COLUMN(I$1)+SUM($AD$2:$AD182))","v":124},{"$f":"INDIRECT(\"'関数（書き）'!C\" & COLUMN(J$1)+SUM($AD$2:$AD182))","v":106},{"$f":"INDIRECT(\"'関数（書き）'!C\" & COLUMN(K$1)+SUM($AD$2:$AD182))","v":28},{"$f":"INDIRECT(\"'関数（読み）'!C\" & COLUMN(B$1)+SUM($AD$2:$AD182))","v":80},{"$f":"INDIRECT(\"'関数（読み）'!C\" & COLUMN(C$1)+SUM($AD$2:$AD182))","v":85},{"$f":"INDIRECT(\"'関数（読み）'!C\" & COLUMN(D$1)+SUM($AD$2:$AD182))","v":53},{"$f":"INDIRECT(\"'関数（読み）'!C\" & COLUMN(E$1)+SUM($AD$2:$AD182))","v":229},{"$f":"INDIRECT(\"'関数（読み）'!C\" & COLUMN(F$1)+SUM($AD$2:$AD182))","v":1},{"$f":"INDIRECT(\"'関数（読み）'!C\" & COLUMN(G$1)+SUM($AD$2:$AD182))","v":50},{"$f":"INDIRECT(\"'関数（読み）'!C\" & COLUMN(H$1)+SUM($AD$2:$AD182))","v":83},{"$f":"INDIRECT(\"'関数（読み）'!C\" & COLUMN(I$1)+SUM($AD$2:$AD182))","v":56},{"$f":"INDIRECT(\"'関数（読み）'!C\" & COLUMN(J$1)+SUM($AD$2:$AD182))","v":45},{"$f":"INDIRECT(\"'関数（読み）'!C\" & COLUMN(K$1)+SUM($AD$2:$AD182))","v":78}]
["⑳","⑲","⑱","⑰","⑯","⑮","⑭","⑬","⑫","⑪","⑩","⑨","⑧","⑦","⑥","⑤","④","③","②","①","次の［　　　　］の部分の漢字には読みがなをひらがなで書き、カタカナは漢字に直しなさい。",12,"「漢字の博士検定試験」練習問題　",null,null,null,null,null,"←",10,"問",{"$f":"AH167+1","v":181},"～",{"$f":"SUM($AD$2:$AD182)+10","v":190},"問まで",{"$f":"COUNTIF($A$1:$T$200,T183)","v":2}]
[{"$f":"IF(A181=\"\",\"\",VLOOKUP(A181,漢字書き!$A$2:$N$506,6,0))","v":"わたしの［チョウショ］"},{"$f":"IF(B181=\"\",\"\",VLOOKUP(B181,漢字書き!$A$2:$N$506,6,0))","v":"［バショ］が悪い"},{"$f":"IF(C181=\"\",\"\",VLOOKUP(C181,漢字書き!$A$2:$N$506,6,0))","v":"日本れっ［トウ］"},{"$f":"IF(D181=\"\",\"\",VLOOKUP(D181,漢字書き!$A$2:$N$506,6,0))","v":"［ギンコウ］の前"},{"$f":"IF(E181=\"\",\"\",VLOOKUP(E181,漢字書き!$A$2:$N$506,6,0))","v":"［シアワ］せな人"},{"$f":"IF(F181=\"\",\"\",VLOOKUP(F181,漢字書き!$A$2:$N$506,6,0))","v":"妹を［マモ］る"},{"$f":"IF(G181=\"\",\"\",VLOOKUP(G181,漢字書き!$A$2:$N$506,6,0))","v":"テレビの［シュ］ざい"},{"$f":"IF(H181=\"\",\"\",VLOOKUP(H181,漢字書き!$A$2:$N$506,6,0))","v":"［ジョソウ］をつけてとぶ"},{"$f":"IF(I181=\"\",\"\",VLOOKUP(I181,漢字書き!$A$2:$N$506,6,0))","v":"教科のふく［シュウ］"},{"$f":"IF(J181=\"\",\"\",VLOOKUP(J181,漢字書き!$A$2:$N$506,6,0))","v":"学級［ブンコ］"},{"$f":"IF(K181=\"\",\"\",VLOOKUP(K181,漢字読み!$A$2:$O$506,6,0))","v":"［実］けんはおもしろい"},{"$f":"IF(L181=\"\",\"\",VLOOKUP(L181,漢字読み!$A$2:$O$506,6,0))","v":"［学者］の考え"},{"$f":"IF(M181=\"\",\"\",VLOOKUP(M181,漢字読み!$A$2:$O$506,6,0))","v":"ペットが［死］ぬ"},{"$f":"IF(N181=\"\",\"\",VLOOKUP(N181,漢字読み!$A$2:$O$506,6,0))","v":"［転校］した友人"},{"$f":"IF(O181=\"\",\"\",VLOOKUP(O181,漢字読み!$A$2:$O$506,6,0))","v":"［銀］メダルをとる"},{"$f":"IF(P181=\"\",\"\",VLOOKUP(P181,漢字読み!$A$2:$O$506,6,0))","v":"［仕事］を決める"},{"$f":"IF(Q181=\"\",\"\",VLOOKUP(Q181,漢字読み!$A$2:$O$506,6,0))","v":"［写真］をとる"},{"$f":"IF(R181=\"\",\"\",VLOOKUP(R181,漢字読み!$A$2:$O$506,6,0))","v":"神の［使］い"},{"$f":"IF(S181=\"\",\"\",VLOOKUP(S181,漢字読み!$A$2:$O$506,6,0))","v":"［根強］い人気"},{"$f":"IF(T181=\"\",\"\",VLOOKUP(T181,漢字読み!$A$2:$O$506,6,0))","v":"新しい［方式］"},null,"級"]
[null,null,null,null,null,null,null,null,null,null,null,null,null,null,null,null,null,null,null,null,null,"名前"]
[{"$f":"IF(A181=\"\",\"\",IF(VLOOKUP(A181,漢字書き!$A$2:$N$502,7,0)=0,\"\",VLOOKUP(A181,漢字書き!$A$2:$N$502,7,0)))","v":""},{"$f":"IF(B181=\"\",\"\",IF(VLOOKUP(B181,漢字書き!$A$2:$N$502,7,0)=0,\"\",VLOOKUP(B181,漢字書き!$A$2:$N$502,7,0)))","v":""},{"$f":"IF(C181=\"\",\"\",IF(VLOOKUP(C181,漢字書き!$A$2:$N$502,7,0)=0,\"\",VLOOKUP(C181,漢字書き!$A$2:$N$502,7,0)))","v":""},{"$f":"IF(D181=\"\",\"\",IF(VLOOKUP(D181,漢字書き!$A$2:$N$502,7,0)=0,\"\",VLOOKUP(D181,漢字書き!$A$2:$N$502,7,0)))","v":""},{"$f":"IF(E181=\"\",\"\",IF(VLOOKUP(E181,漢字書き!$A$2:$N$502,7,0)=0,\"\",VLOOKUP(E181,漢字書き!$A$2:$N$502,7,0)))","v":"せな"},{"$f":"IF(F181=\"\",\"\",IF(VLOOKUP(F181,漢字書き!$A$2:$N$502,7,0)=0,\"\",VLOOKUP(F181,漢字書き!$A$2:$N$502,7,0)))","v":"る"},{"$f":"IF(G181=\"\",\"\",IF(VLOOKUP(G181,漢字書き!$A$2:$N$502,7,0)=0,\"\",VLOOKUP(G181,漢字書き!$A$2:$N$502,7,0)))","v":"ざい"},{"$f":"IF(H181=\"\",\"\",IF(VLOOKUP(H181,漢字書き!$A$2:$N$502,7,0)=0,\"\",VLOOKUP(H181,漢字書き!$A$2:$N$502,7,0)))","v":""},{"$f":"IF(I181=\"\",\"\",IF(VLOOKUP(I181,漢字書き!$A$2:$N$502,7,0)=0,\"\",VLOOKUP(I181,漢字書き!$A$2:$N$502,7,0)))","v":""},{"$f":"IF(J181=\"\",\"\",IF(VLOOKUP(J181,漢字書き!$A$2:$N$502,7,0)=0,\"\",VLOOKUP(J181,漢字書き!$A$2:$N$502,7,0)))","v":""},{"$f":"IF(K181=\"\",\"\",IF(VLOOKUP(K181,漢字読み!$A$2:$O$502,7,0)=0,\"\",VLOOKUP(K181,漢字読み!$A$2:$O$502,7,0)))","v":"けん"},{"$f":"IF(L181=\"\",\"\",IF(VLOOKUP(L181,漢字読み!$A$2:$O$502,7,0)=0,\"\",VLOOKUP(L181,漢字読み!$A$2:$O$502,7,0)))","v":""},{"$f":"IF(M181=\"\",\"\",IF(VLOOKUP(M181,漢字読み!$A$2:$O$502,7,0)=0,\"\",VLOOKUP(M181,漢字読み!$A$2:$O$502,7,0)))","v":"ぬ"},{"$f":"IF(N181=\"\",\"\",IF(VLOOKUP(N181,漢字読み!$A$2:$O$502,7,0)=0,\"\",VLOOKUP(N181,漢字読み!$A$2:$O$502,7,0)))","v":"した"},{"$f":"IF(O181=\"\",\"\",IF(VLOOKUP(O181,漢字読み!$A$2:$O$502,7,0)=0,\"\",VLOOKUP(O181,漢字読み!$A$2:$O$502,7,0)))","v":""},{"$f":"IF(P181=\"\",\"\",IF(VLOOKUP(P181,漢字読み!$A$2:$O$502,7,0)=0,\"\",VLOOKUP(P181,漢字読み!$A$2:$O$502,7,0)))","v":""},{"$f":"IF(Q181=\"\",\"\",IF(VLOOKUP(Q181,漢字読み!$A$2:$O$502,7,0)=0,\"\",VLOOKUP(Q181,漢字読み!$A$2:$O$502,7,0)))","v":""},{"$f":"IF(R181=\"\",\"\",IF(VLOOKUP(R181,漢字読み!$A$2:$O$502,7,0)=0,\"\",VLOOKUP(R181,漢字読み!$A$2:$O$502,7,0)))","v":"い"},{"$f":"IF(S181=\"\",\"\",IF(VLOOKUP(S181,漢字読み!$A$2:$O$502,7,0)=0,\"\",VLOOKUP(S181,漢字読み!$A$2:$O$502,7,0)))","v":"い"},{"$f":"IF(T181=\"\",\"\",IF(VLOOKUP(T181,漢字読み!$A$2:$O$502,7,0)=0,\"\",VLOOKUP(T181,漢字読み!$A$2:$O$502,7,0)))","v":""},null,null,"和歌山県教育委員会"]
[{"$f":"INDIRECT(\"'関数（書き）'!C\" & COLUMN(B$1)+SUM($AD$2:$AD187))","v":192},{"$f":"INDIRECT(\"'関数（書き）'!C\" & COLUMN(C$1)+SUM($AD$2:$AD187))","v":55},{"$f":"INDIRECT(\"'関数（書き）'!C\" & COLUMN(D$1)+SUM($AD$2:$AD187))","v":135},{"$f":"INDIRECT(\"'関数（書き）'!C\" & COLUMN(E$1)+SUM($AD$2:$AD187))","v":161},{"$f":"INDIRECT(\"'関数（書き）'!C\" & COLUMN(F$1)+SUM($AD$2:$AD187))","v":41},{"$f":"INDIRECT(\"'関数（書き）'!C\" & COLUMN(G$1)+SUM($AD$2:$AD187))","v":104},{"$f":"INDIRECT(\"'関数（書き）'!C\" & COLUMN(H$1)+SUM($AD$2:$AD187))","v":64},{"$f":"INDIRECT(\"'関数（書き）'!C\" & COLUMN(I$1)+SUM($AD$2:$AD187))","v":82},{"$f":"INDIRECT(\"'関数（書き）'!C\" & COLUMN(J$1)+SUM($AD$2:$AD187))","v":51},{"$f":"INDIRECT(\"'関数（書き）'!C\" & COLUMN(K$1)+SUM($AD$2:$AD187))","v":200},{"$f":"INDIRECT(\"'関数（読み）'!C\" & COLUMN(B$1)+SUM($AD$2:$AD187))","v":241},{"$f":"INDIRECT(\"'関数（読み）'!C\" & COLUMN(C$1)+SUM($AD$2:$AD187))","v":182},{"$f":"INDIRECT(\"'関数（読み）'!C\" & COLUMN(D$1)+SUM($AD$2:$AD187))","v":161},{"$f":"INDIRECT(\"'関数（読み）'!C\" & COLUMN(E$1)+SUM($AD$2:$AD187))","v":131},{"$f":"INDIRECT(\"'関数（読み）'!C\" & COLUMN(F$1)+SUM($AD$2:$AD187))","v":125},{"$f":"INDIRECT(\"'関数（読み）'!C\" & COLUMN(G$1)+SUM($AD$2:$AD187))","v":154},{"$f":"INDIRECT(\"'関数（読み）'!C\" & COLUMN(H$1)+SUM($AD$2:$AD187))","v":117},{"$f":"INDIRECT(\"'関数（読み）'!C\" & COLUMN(I$1)+SUM($AD$2:$AD187))","v":190},{"$f":"INDIRECT(\"'関数（読み）'!C\" & COLUMN(J$1)+SUM($AD$2:$AD187))","v":90},{"$f":"INDIRECT(\"'関数（読み）'!C\" & COLUMN(K$1)+SUM($AD$2:$AD187))","v":212}]
["⑳","⑲","⑱","⑰","⑯","⑮","⑭","⑬","⑫","⑪","⑩","⑨","⑧","⑦","⑥","⑤","④","③","②","①","次の［　　　　］の部分の漢字には読みがなをひらがなで書き、カタカナは漢字に直しなさい。",12,"「漢字の博士検定試験」練習問題　",null,null,null,null,null,"←",10,"問",{"$f":"AH182+1","v":191},"～",{"$f":"SUM($AD$2:$AD187)+10","v":200},"問まで",{"$f":"COUNTIF($A$1:$T$200,T188)","v":2}]
[{"$f":"IF(A186=\"\",\"\",VLOOKUP(A186,漢字書き!$A$2:$N$506,6,0))","v":"［スミ］を買う"},{"$f":"IF(B186=\"\",\"\",VLOOKUP(B186,漢字書き!$A$2:$N$506,6,0))","v":"運どう場を［シヨウ］する"},{"$f":"IF(C186=\"\",\"\",VLOOKUP(C186,漢字書き!$A$2:$N$506,6,0))","v":"バスに［ジョウシャ］する"},{"$f":"IF(D186=\"\",\"\",VLOOKUP(D186,漢字書き!$A$2:$N$506,6,0))","v":"今と［ムカシ］のちがい"},{"$f":"IF(E186=\"\",\"\",VLOOKUP(E186,漢字書き!$A$2:$N$506,6,0))","v":"船が［ミナト］に着く"},{"$f":"IF(F186=\"\",\"\",VLOOKUP(F186,漢字書き!$A$2:$N$506,6,0))","v":"やっと［オ］わった"},{"$f":"IF(G186=\"\",\"\",VLOOKUP(G186,漢字書き!$A$2:$N$506,6,0))","v":"［ハ］がいたい"},{"$f":"IF(H186=\"\",\"\",VLOOKUP(H186,漢字書き!$A$2:$N$506,6,0))","v":"文字を書き［ウツ］す"},{"$f":"IF(I186=\"\",\"\",VLOOKUP(I186,漢字書き!$A$2:$N$506,6,0))","v":"父母の［シゴト］"},{"$f":"IF(J186=\"\",\"\",VLOOKUP(J186,漢字書き!$A$2:$N$506,6,0))","v":"ユニフォームを［キ］る"},{"$f":"IF(K186=\"\",\"\",VLOOKUP(K186,漢字読み!$A$2:$O$506,6,0))","v":"［豆］の木"},{"$f":"IF(L186=\"\",\"\",VLOOKUP(L186,漢字読み!$A$2:$O$506,6,0))","v":"母親の［代理］"},{"$f":"IF(M186=\"\",\"\",VLOOKUP(M186,漢字読み!$A$2:$O$506,6,0))","v":"［相手］にしない"},{"$f":"IF(N186=\"\",\"\",VLOOKUP(N186,漢字読み!$A$2:$O$506,6,0))","v":"［乗馬］をたのしむ"},{"$f":"IF(O186=\"\",\"\",VLOOKUP(O186,漢字読み!$A$2:$O$506,6,0))","v":"［商店］がいへ行く"},{"$f":"IF(P186=\"\",\"\",VLOOKUP(P186,漢字読み!$A$2:$O$506,6,0))","v":"[昔話]を聞く"},{"$f":"IF(Q186=\"\",\"\",VLOOKUP(Q186,漢字読み!$A$2:$O$506,6,0))","v":"［暑中］見まい"},{"$f":"IF(R186=\"\",\"\",VLOOKUP(R186,漢字読み!$A$2:$O$506,6,0))","v":"すきな本の［題名］"},{"$f":"IF(S186=\"\",\"\",VLOOKUP(S186,漢字読み!$A$2:$O$506,6,0))","v":"ボールを［死守］する"},{"$f":"IF(T186=\"\",\"\",VLOOKUP(T186,漢字読み!$A$2:$O$506,6,0))","v":"［温度］を調べる"},null,"級"]
[null,null,null,null,null,null,null,null,null,null,null,null,null,null,null,null,null,null,null,null,null,"名前"]
[{"$f":"IF(A186=\"\",\"\",IF(VLOOKUP(A186,漢字書き!$A$2:$N$502,7,0)=0,\"\",VLOOKUP(A186,漢字書き!$A$2:$N$502,7,0)))","v":""},{"$f":"IF(B186=\"\",\"\",IF(VLOOKUP(B186,漢字書き!$A$2:$N$502,7,0)=0,\"\",VLOOKUP(B186,漢字書き!$A$2:$N$502,7,0)))","v":"する"},{"$f":"IF(C186=\"\",\"\",IF(VLOOKUP(C186,漢字書き!$A$2:$N$502,7,0)=0,\"\",VLOOKUP(C186,漢字書き!$A$2:$N$502,7,0)))","v":"する"},{"$f":"IF(D186=\"\",\"\",IF(VLOOKUP(D186,漢字書き!$A$2:$N$502,7,0)=0,\"\",VLOOKUP(D186,漢字書き!$A$2:$N$502,7,0)))","v":""},{"$f":"IF(E186=\"\",\"\",IF(VLOOKUP(E186,漢字書き!$A$2:$N$502,7,0)=0,\"\",VLOOKUP(E186,漢字書き!$A$2:$N$502,7,0)))","v":""},{"$f":"IF(F186=\"\",\"\",IF(VLOOKUP(F186,漢字書き!$A$2:$N$502,7,0)=0,\"\",VLOOKUP(F186,漢字書き!$A$2:$N$502,7,0)))","v":"わった"},{"$f":"IF(G186=\"\",\"\",IF(VLOOKUP(G186,漢字書き!$A$2:$N$502,7,0)=0,\"\",VLOOKUP(G186,漢字書き!$A$2:$N$502,7,0)))","v":""},{"$f":"IF(H186=\"\",\"\",IF(VLOOKUP(H186,漢字書き!$A$2:$N$502,7,0)=0,\"\",VLOOKUP(H186,漢字書き!$A$2:$N$502,7,0)))","v":"す"},{"$f":"IF(I186=\"\",\"\",IF(VLOOKUP(I186,漢字書き!$A$2:$N$502,7,0)=0,\"\",VLOOKUP(I186,漢字書き!$A$2:$N$502,7,0)))","v":""},{"$f":"IF(J186=\"\",\"\",IF(VLOOKUP(J186,漢字書き!$A$2:$N$502,7,0)=0,\"\",VLOOKUP(J186,漢字書き!$A$2:$N$502,7,0)))","v":"る"},{"$f":"IF(K186=\"\",\"\",IF(VLOOKUP(K186,漢字読み!$A$2:$O$502,7,0)=0,\"\",VLOOKUP(K186,漢字読み!$A$2:$O$502,7,0)))","v":""},{"$f":"IF(L186=\"\",\"\",IF(VLOOKUP(L186,漢字読み!$A$2:$O$502,7,0)=0,\"\",VLOOKUP(L186,漢字読み!$A$2:$O$502,7,0)))","v":""},{"$f":"IF(M186=\"\",\"\",IF(VLOOKUP(M186,漢字読み!$A$2:$O$502,7,0)=0,\"\",VLOOKUP(M186,漢字読み!$A$2:$O$502,7,0)))","v":""},{"$f":"IF(N186=\"\",\"\",IF(VLOOKUP(N186,漢字読み!$A$2:$O$502,7,0)=0,\"\",VLOOKUP(N186,漢字読み!$A$2:$O$502,7,0)))","v":""},{"$f":"IF(O186=\"\",\"\",IF(VLOOKUP(O186,漢字読み!$A$2:$O$502,7,0)=0,\"\",VLOOKUP(O186,漢字読み!$A$2:$O$502,7,0)))","v":"がい"},{"$f":"IF(P186=\"\",\"\",IF(VLOOKUP(P186,漢字読み!$A$2:$O$502,7,0)=0,\"\",VLOOKUP(P186,漢字読み!$A$2:$O$502,7,0)))","v":""},{"$f":"IF(Q186=\"\",\"\",IF(VLOOKUP(Q186,漢字読み!$A$2:$O$502,7,0)=0,\"\",VLOOKUP(Q186,漢字読み!$A$2:$O$502,7,0)))","v":""},{"$f":"IF(R186=\"\",\"\",IF(VLOOKUP(R186,漢字読み!$A$2:$O$502,7,0)=0,\"\",VLOOKUP(R186,漢字読み!$A$2:$O$502,7,0)))","v":""},{"$f":"IF(S186=\"\",\"\",IF(VLOOKUP(S186,漢字読み!$A$2:$O$502,7,0)=0,\"\",VLOOKUP(S186,漢字読み!$A$2:$O$502,7,0)))","v":"する"},{"$f":"IF(T186=\"\",\"\",IF(VLOOKUP(T186,漢字読み!$A$2:$O$502,7,0)=0,\"\",VLOOKUP(T186,漢字読み!$A$2:$O$502,7,0)))","v":""},null,null,"和歌山県教育委員会"]
[{"$f":"A181","v":120},121,235,3,38,89,91,124,106,28,80,85,53,229,1,50,83,56,45,78]
["⑳","⑲","⑱","⑰","⑯","⑮","⑭","⑬","⑫","⑪","⑩","⑨","⑧","⑦","⑥","⑤","④","③","②","①","次の［　　　　］の部分の漢字には読みがなをひらがなで書き、カタカナは漢字に直しなさい。",12,"「漢字の博士検定試験」練習問題　"]
[{"$f":"IF(A191=\"\",\"\",VLOOKUP(A191,漢字書き!$A$2:$N$506,6,0))","v":"わたしの［チョウショ］"},{"$f":"IF(B191=\"\",\"\",VLOOKUP(B191,漢字書き!$A$2:$N$506,6,0))","v":"［バショ］が悪い"},{"$f":"IF(C191=\"\",\"\",VLOOKUP(C191,漢字書き!$A$2:$N$506,6,0))","v":"日本れっ［トウ］"},{"$f":"IF(D191=\"\",\"\",VLOOKUP(D191,漢字書き!$A$2:$N$506,6,0))","v":"［ギンコウ］の前"},{"$f":"IF(E191=\"\",\"\",VLOOKUP(E191,漢字書き!$A$2:$N$506,6,0))","v":"［シアワ］せな人"},{"$f":"IF(F191=\"\",\"\",VLOOKUP(F191,漢字書き!$A$2:$N$506,6,0))","v":"妹を［マモ］る"},{"$f":"IF(G191=\"\",\"\",VLOOKUP(G191,漢字書き!$A$2:$N$506,6,0))","v":"テレビの［シュ］ざい"},{"$f":"IF(H191=\"\",\"\",VLOOKUP(H191,漢字書き!$A$2:$N$506,6,0))","v":"［ジョソウ］をつけてとぶ"},{"$f":"IF(I191=\"\",\"\",VLOOKUP(I191,漢字書き!$A$2:$N$506,6,0))","v":"教科のふく［シュウ］"},{"$f":"IF(J191=\"\",\"\",VLOOKUP(J191,漢字書き!$A$2:$N$506,6,0))","v":"学級［ブンコ］"},{"$f":"IF(K191=\"\",\"\",VLOOKUP(K191,漢字読み!$A$2:$O$506,6,0))","v":"［実］けんはおもしろい"},{"$f":"IF(L191=\"\",\"\",VLOOKUP(L191,漢字読み!$A$2:$O$506,6,0))","v":"［学者］の考え"},{"$f":"IF(M191=\"\",\"\",VLOOKUP(M191,漢字読み!$A$2:$O$506,6,0))","v":"ペットが［死］ぬ"},{"$f":"IF(N191=\"\",\"\",VLOOKUP(N191,漢字読み!$A$2:$O$506,6,0))","v":"［転校］した友人"},{"$f":"IF(O191=\"\",\"\",VLOOKUP(O191,漢字読み!$A$2:$O$506,6,0))","v":"［銀］メダルをとる"},{"$f":"IF(P191=\"\",\"\",VLOOKUP(P191,漢字読み!$A$2:$O$506,6,0))","v":"［仕事］を決める"},{"$f":"IF(Q191=\"\",\"\",VLOOKUP(Q191,漢字読み!$A$2:$O$506,6,0))","v":"［写真］をとる"},{"$f":"IF(R191=\"\",\"\",VLOOKUP(R191,漢字読み!$A$2:$O$506,6,0))","v":"神の［使］い"},{"$f":"IF(S191=\"\",\"\",VLOOKUP(S191,漢字読み!$A$2:$O$506,6,0))","v":"［根強］い人気"},{"$f":"IF(T191=\"\",\"\",VLOOKUP(T191,漢字読み!$A$2:$O$506,6,0))","v":"新しい［方式］"},null,"級"]
[{"$f":"IF(A$11=\"\",\"\",VLOOKUP(A191,漢字書き!$A$2:$O$506,8,0))","v":"長所"},{"$f":"IF(B$11=\"\",\"\",VLOOKUP(B191,漢字書き!$A$2:$O$506,8,0))","v":"場所"},{"$f":"IF(C$11=\"\",\"\",VLOOKUP(C191,漢字書き!$A$2:$O$506,8,0))","v":"島"},{"$f":"IF(D$11=\"\",\"\",VLOOKUP(D191,漢字書き!$A$2:$O$506,8,0))","v":"銀行"},{"$f":"IF(E$11=\"\",\"\",VLOOKUP(E191,漢字書き!$A$2:$O$506,8,0))","v":"幸"},{"$f":"IF(F$11=\"\",\"\",VLOOKUP(F191,漢字書き!$A$2:$O$506,8,0))","v":"守"},{"$f":"IF(G$11=\"\",\"\",VLOOKUP(G191,漢字書き!$A$2:$O$506,8,0))","v":"取"},{"$f":"IF(H$11=\"\",\"\",VLOOKUP(H191,漢字書き!$A$2:$O$506,8,0))","v":"助走"},{"$f":"IF(I$11=\"\",\"\",VLOOKUP(I191,漢字書き!$A$2:$O$506,8,0))","v":"習"},{"$f":"IF(J$11=\"\",\"\",VLOOKUP(J191,漢字書き!$A$2:$O$506,8,0))","v":"文庫"},{"$f":"IF(K$11=\"\",\"\",VLOOKUP(K191,漢字読み!$A$2:$O$506,8,0))","v":"じっ"},{"$f":"IF(L$11=\"\",\"\",VLOOKUP(L191,漢字読み!$A$2:$O$506,8,0))","v":"がくしゃ"},{"$f":"IF(M$11=\"\",\"\",VLOOKUP(M191,漢字読み!$A$2:$O$506,8,0))","v":"し"},{"$f":"IF(N$11=\"\",\"\",VLOOKUP(N191,漢字読み!$A$2:$O$506,8,0))","v":"てんこう"},{"$f":"IF(O$11=\"\",\"\",VLOOKUP(O191,漢字読み!$A$2:$O$506,8,0))","v":"ぎん"},{"$f":"IF(P$11=\"\",\"\",VLOOKUP(P191,漢字読み!$A$2:$O$506,8,0))","v":"しごと"},{"$f":"IF(Q$11=\"\",\"\",VLOOKUP(Q191,漢字読み!$A$2:$O$506,8,0))","v":"しゃしん"},{"$f":"IF(R$11=\"\",\"\",VLOOKUP(R191,漢字読み!$A$2:$O$506,8,0))","v":"つか"},{"$f":"IF(S$11=\"\",\"\",VLOOKUP(S191,漢字読み!$A$2:$O$506,8,0))","v":"ねづよ"},{"$f":"IF(T$11=\"\",\"\",VLOOKUP(T191,漢字読み!$A$2:$O$506,8,0))","v":"ほうしき"},null,"名前"]
[{"$f":"IF(A191=\"\",\"\",IF(VLOOKUP(A191,漢字書き!$A$2:$N$502,7,0)=0,\"\",VLOOKUP(A191,漢字書き!$A$2:$N$502,7,0)))","v":""},{"$f":"IF(B191=\"\",\"\",IF(VLOOKUP(B191,漢字書き!$A$2:$N$502,7,0)=0,\"\",VLOOKUP(B191,漢字書き!$A$2:$N$502,7,0)))","v":""},{"$f":"IF(C191=\"\",\"\",IF(VLOOKUP(C191,漢字書き!$A$2:$N$502,7,0)=0,\"\",VLOOKUP(C191,漢字書き!$A$2:$N$502,7,0)))","v":""},{"$f":"IF(D191=\"\",\"\",IF(VLOOKUP(D191,漢字書き!$A$2:$N$502,7,0)=0,\"\",VLOOKUP(D191,漢字書き!$A$2:$N$502,7,0)))","v":""},{"$f":"IF(E191=\"\",\"\",IF(VLOOKUP(E191,漢字書き!$A$2:$N$502,7,0)=0,\"\",VLOOKUP(E191,漢字書き!$A$2:$N$502,7,0)))","v":"せな"},{"$f":"IF(F191=\"\",\"\",IF(VLOOKUP(F191,漢字書き!$A$2:$N$502,7,0)=0,\"\",VLOOKUP(F191,漢字書き!$A$2:$N$502,7,0)))","v":"る"},{"$f":"IF(G191=\"\",\"\",IF(VLOOKUP(G191,漢字書き!$A$2:$N$502,7,0)=0,\"\",VLOOKUP(G191,漢字書き!$A$2:$N$502,7,0)))","v":"ざい"},{"$f":"IF(H191=\"\",\"\",IF(VLOOKUP(H191,漢字書き!$A$2:$N$502,7,0)=0,\"\",VLOOKUP(H191,漢字書き!$A$2:$N$502,7,0)))","v":""},{"$f":"IF(I191=\"\",\"\",IF(VLOOKUP(I191,漢字書き!$A$2:$N$502,7,0)=0,\"\",VLOOKUP(I191,漢字書き!$A$2:$N$502,7,0)))","v":""},{"$f":"IF(J191=\"\",\"\",IF(VLOOKUP(J191,漢字書き!$A$2:$N$502,7,0)=0,\"\",VLOOKUP(J191,漢字書き!$A$2:$N$502,7,0)))","v":""},{"$f":"IF(K191=\"\",\"\",IF(VLOOKUP(K191,漢字読み!$A$2:$O$502,7,0)=0,\"\",VLOOKUP(K191,漢字読み!$A$2:$O$502,7,0)))","v":"けん"},{"$f":"IF(L191=\"\",\"\",IF(VLOOKUP(L191,漢字読み!$A$2:$O$502,7,0)=0,\"\",VLOOKUP(L191,漢字読み!$A$2:$O$502,7,0)))","v":""},{"$f":"IF(M191=\"\",\"\",IF(VLOOKUP(M191,漢字読み!$A$2:$O$502,7,0)=0,\"\",VLOOKUP(M191,漢字読み!$A$2:$O$502,7,0)))","v":"ぬ"},{"$f":"IF(N191=\"\",\"\",IF(VLOOKUP(N191,漢字読み!$A$2:$O$502,7,0)=0,\"\",VLOOKUP(N191,漢字読み!$A$2:$O$502,7,0)))","v":"した"},{"$f":"IF(O191=\"\",\"\",IF(VLOOKUP(O191,漢字読み!$A$2:$O$502,7,0)=0,\"\",VLOOKUP(O191,漢字読み!$A$2:$O$502,7,0)))","v":""},{"$f":"IF(P191=\"\",\"\",IF(VLOOKUP(P191,漢字読み!$A$2:$O$502,7,0)=0,\"\",VLOOKUP(P191,漢字読み!$A$2:$O$502,7,0)))","v":""},{"$f":"IF(Q191=\"\",\"\",IF(VLOOKUP(Q191,漢字読み!$A$2:$O$502,7,0)=0,\"\",VLOOKUP(Q191,漢字読み!$A$2:$O$502,7,0)))","v":""},{"$f":"IF(R191=\"\",\"\",IF(VLOOKUP(R191,漢字読み!$A$2:$O$502,7,0)=0,\"\",VLOOKUP(R191,漢字読み!$A$2:$O$502,7,0)))","v":"い"},{"$f":"IF(S191=\"\",\"\",IF(VLOOKUP(S191,漢字読み!$A$2:$O$502,7,0)=0,\"\",VLOOKUP(S191,漢字読み!$A$2:$O$502,7,0)))","v":"い"},{"$f":"IF(T191=\"\",\"\",IF(VLOOKUP(T191,漢字読み!$A$2:$O$502,7,0)=0,\"\",VLOOKUP(T191,漢字読み!$A$2:$O$502,7,0)))","v":""},null,null,"和歌山県教育委員会"]
[{"$f":"A186","v":192},55,135,161,41,104,64,82,51,200,241,182,161,131,125,154,117,190,90,212]
["⑳","⑲","⑱","⑰","⑯","⑮","⑭","⑬","⑫","⑪","⑩","⑨","⑧","⑦","⑥","⑤","④","③","②","①","次の［　　　　］の部分の漢字には読みがなをひらがなで書き、カタカナは漢字に直しなさい。",12,"「漢字の博士検定試験」練習問題　"]
[{"$f":"IF(A196=\"\",\"\",VLOOKUP(A196,漢字書き!$A$2:$N$506,6,0))","v":"［スミ］を買う"},{"$f":"IF(B196=\"\",\"\",VLOOKUP(B196,漢字書き!$A$2:$N$506,6,0))","v":"運どう場を［シヨウ］する"},{"$f":"IF(C196=\"\",\"\",VLOOKUP(C196,漢字書き!$A$2:$N$506,6,0))","v":"バスに［ジョウシャ］する"},{"$f":"IF(D196=\"\",\"\",VLOOKUP(D196,漢字書き!$A$2:$N$506,6,0))","v":"今と［ムカシ］のちがい"},{"$f":"IF(E196=\"\",\"\",VLOOKUP(E196,漢字書き!$A$2:$N$506,6,0))","v":"船が［ミナト］に着く"},{"$f":"IF(F196=\"\",\"\",VLOOKUP(F196,漢字書き!$A$2:$N$506,6,0))","v":"やっと［オ］わった"},{"$f":"IF(G196=\"\",\"\",VLOOKUP(G196,漢字書き!$A$2:$N$506,6,0))","v":"［ハ］がいたい"},{"$f":"IF(H196=\"\",\"\",VLOOKUP(H196,漢字書き!$A$2:$N$506,6,0))","v":"文字を書き［ウツ］す"},{"$f":"IF(I196=\"\",\"\",VLOOKUP(I196,漢字書き!$A$2:$N$506,6,0))","v":"父母の［シゴト］"},{"$f":"IF(J196=\"\",\"\",VLOOKUP(J196,漢字書き!$A$2:$N$506,6,0))","v":"ユニフォームを［キ］る"},{"$f":"IF(K196=\"\",\"\",VLOOKUP(K196,漢字読み!$A$2:$O$506,6,0))","v":"［豆］の木"},{"$f":"IF(L196=\"\",\"\",VLOOKUP(L196,漢字読み!$A$2:$O$506,6,0))","v":"母親の［代理］"},{"$f":"IF(M196=\"\",\"\",VLOOKUP(M196,漢字読み!$A$2:$O$506,6,0))","v":"［相手］にしない"},{"$f":"IF(N196=\"\",\"\",VLOOKUP(N196,漢字読み!$A$2:$O$506,6,0))","v":"［乗馬］をたのしむ"},{"$f":"IF(O196=\"\",\"\",VLOOKUP(O196,漢字読み!$A$2:$O$506,6,0))","v":"［商店］がいへ行く"},{"$f":"IF(P196=\"\",\"\",VLOOKUP(P196,漢字読み!$A$2:$O$506,6,0))","v":"[昔話]を聞く"},{"$f":"IF(Q196=\"\",\"\",VLOOKUP(Q196,漢字読み!$A$2:$O$506,6,0))","v":"［暑中］見まい"},{"$f":"IF(R196=\"\",\"\",VLOOKUP(R196,漢字読み!$A$2:$O$506,6,0))","v":"すきな本の［題名］"},{"$f":"IF(S196=\"\",\"\",VLOOKUP(S196,漢字読み!$A$2:$O$506,6,0))","v":"ボールを［死守］する"},{"$f":"IF(T196=\"\",\"\",VLOOKUP(T196,漢字読み!$A$2:$O$506,6,0))","v":"［温度］を調べる"},null,"級"]
[{"$f":"IF(A$16=\"\",\"\",VLOOKUP(A196,漢字書き!$A$2:$O$506,8,0))","v":"炭"},{"$f":"IF(B$16=\"\",\"\",VLOOKUP(B196,漢字書き!$A$2:$O$506,8,0))","v":"使用"},{"$f":"IF(C$16=\"\",\"\",VLOOKUP(C196,漢字書き!$A$2:$O$506,8,0))","v":"乗車"},{"$f":"IF(D$16=\"\",\"\",VLOOKUP(D196,漢字書き!$A$2:$O$506,8,0))","v":"昔"},{"$f":"IF(E$16=\"\",\"\",VLOOKUP(E196,漢字書き!$A$2:$O$506,8,0))","v":"港"},{"$f":"IF(F$16=\"\",\"\",VLOOKUP(F196,漢字書き!$A$2:$O$506,8,0))","v":"終"},{"$f":"IF(G$16=\"\",\"\",VLOOKUP(G196,漢字書き!$A$2:$O$506,8,0))","v":"歯"},{"$f":"IF(H$16=\"\",\"\",VLOOKUP(H196,漢字書き!$A$2:$O$506,8,0))","v":"写"},{"$f":"IF(I$16=\"\",\"\",VLOOKUP(I196,漢字書き!$A$2:$O$506,8,0))","v":"仕事"},{"$f":"IF(J$16=\"\",\"\",VLOOKUP(J196,漢字書き!$A$2:$O$506,8,0))","v":"着"},{"$f":"IF(K$16=\"\",\"\",VLOOKUP(K196,漢字読み!$A$2:$O$506,8,0))","v":"まめ"},{"$f":"IF(L$16=\"\",\"\",VLOOKUP(L196,漢字読み!$A$2:$O$506,8,0))","v":"だいり"},{"$f":"IF(M$16=\"\",\"\",VLOOKUP(M196,漢字読み!$A$2:$O$506,8,0))","v":"あいて"},{"$f":"IF(N$16=\"\",\"\",VLOOKUP(N196,漢字読み!$A$2:$O$506,8,0))","v":"じょうば"},{"$f":"IF(O$16=\"\",\"\",VLOOKUP(O196,漢字読み!$A$2:$O$506,8,0))","v":"しょうてん"},{"$f":"IF(P$16=\"\",\"\",VLOOKUP(P196,漢字読み!$A$2:$O$506,8,0))","v":"むかしばなし"},{"$f":"IF(Q$16=\"\",\"\",VLOOKUP(Q196,漢字読み!$A$2:$O$506,8,0))","v":"しょちゅう"},{"$f":"IF(R$16=\"\",\"\",VLOOKUP(R196,漢字読み!$A$2:$O$506,8,0))","v":"だいめい"},{"$f":"IF(S$16=\"\",\"\",VLOOKUP(S196,漢字読み!$A$2:$O$506,8,0))","v":"ししゅ"},{"$f":"IF(T$16=\"\",\"\",VLOOKUP(T196,漢字読み!$A$2:$O$506,8,0))","v":"おんど"},null,"名前"]
[{"$f":"IF(A196=\"\",\"\",IF(VLOOKUP(A196,漢字書き!$A$2:$N$502,7,0)=0,\"\",VLOOKUP(A196,漢字書き!$A$2:$N$502,7,0)))","v":""},{"$f":"IF(B196=\"\",\"\",IF(VLOOKUP(B196,漢字書き!$A$2:$N$502,7,0)=0,\"\",VLOOKUP(B196,漢字書き!$A$2:$N$502,7,0)))","v":"する"},{"$f":"IF(C196=\"\",\"\",IF(VLOOKUP(C196,漢字書き!$A$2:$N$502,7,0)=0,\"\",VLOOKUP(C196,漢字書き!$A$2:$N$502,7,0)))","v":"する"},{"$f":"IF(D196=\"\",\"\",IF(VLOOKUP(D196,漢字書き!$A$2:$N$502,7,0)=0,\"\",VLOOKUP(D196,漢字書き!$A$2:$N$502,7,0)))","v":""},{"$f":"IF(E196=\"\",\"\",IF(VLOOKUP(E196,漢字書き!$A$2:$N$502,7,0)=0,\"\",VLOOKUP(E196,漢字書き!$A$2:$N$502,7,0)))","v":""},{"$f":"IF(F196=\"\",\"\",IF(VLOOKUP(F196,漢字書き!$A$2:$N$502,7,0)=0,\"\",VLOOKUP(F196,漢字書き!$A$2:$N$502,7,0)))","v":"わった"},{"$f":"IF(G196=\"\",\"\",IF(VLOOKUP(G196,漢字書き!$A$2:$N$502,7,0)=0,\"\",VLOOKUP(G196,漢字書き!$A$2:$N$502,7,0)))","v":""},{"$f":"IF(H196=\"\",\"\",IF(VLOOKUP(H196,漢字書き!$A$2:$N$502,7,0)=0,\"\",VLOOKUP(H196,漢字書き!$A$2:$N$502,7,0)))","v":"す"},{"$f":"IF(I196=\"\",\"\",IF(VLOOKUP(I196,漢字書き!$A$2:$N$502,7,0)=0,\"\",VLOOKUP(I196,漢字書き!$A$2:$N$502,7,0)))","v":""},{"$f":"IF(J196=\"\",\"\",IF(VLOOKUP(J196,漢字書き!$A$2:$N$502,7,0)=0,\"\",VLOOKUP(J196,漢字書き!$A$2:$N$502,7,0)))","v":"る"},{"$f":"IF(K196=\"\",\"\",IF(VLOOKUP(K196,漢字読み!$A$2:$O$502,7,0)=0,\"\",VLOOKUP(K196,漢字読み!$A$2:$O$502,7,0)))","v":""},{"$f":"IF(L196=\"\",\"\",IF(VLOOKUP(L196,漢字読み!$A$2:$O$502,7,0)=0,\"\",VLOOKUP(L196,漢字読み!$A$2:$O$502,7,0)))","v":""},{"$f":"IF(M196=\"\",\"\",IF(VLOOKUP(M196,漢字読み!$A$2:$O$502,7,0)=0,\"\",VLOOKUP(M196,漢字読み!$A$2:$O$502,7,0)))","v":""},{"$f":"IF(N196=\"\",\"\",IF(VLOOKUP(N196,漢字読み!$A$2:$O$502,7,0)=0,\"\",VLOOKUP(N196,漢字読み!$A$2:$O$502,7,0)))","v":""},{"$f":"IF(O196=\"\",\"\",IF(VLOOKUP(O196,漢字読み!$A$2:$O$502,7,0)=0,\"\",VLOOKUP(O196,漢字読み!$A$2:$O$502,7,0)))","v":"がい"},{"$f":"IF(P196=\"\",\"\",IF(VLOOKUP(P196,漢字読み!$A$2:$O$502,7,0)=0,\"\",VLOOKUP(P196,漢字読み!$A$2:$O$502,7,0)))","v":""},{"$f":"IF(Q196=\"\",\"\",IF(VLOOKUP(Q196,漢字読み!$A$2:$O$502,7,0)=0,\"\",VLOOKUP(Q196,漢字読み!$A$2:$O$502,7,0)))","v":""},{"$f":"IF(R196=\"\",\"\",IF(VLOOKUP(R196,漢字読み!$A$2:$O$502,7,0)=0,\"\",VLOOKUP(R196,漢字読み!$A$2:$O$502,7,0)))","v":""},{"$f":"IF(S196=\"\",\"\",IF(VLOOKUP(S196,漢字読み!$A$2:$O$502,7,0)=0,\"\",VLOOKUP(S196,漢字読み!$A$2:$O$502,7,0)))","v":"する"},{"$f":"IF(T196=\"\",\"\",IF(VLOOKUP(T196,漢字読み!$A$2:$O$502,7,0)=0,\"\",VLOOKUP(T196,漢字読み!$A$2:$O$502,7,0)))","v":""},null,null,"和歌山県教育委員会"]
[{"$f":"INDIRECT(\"'関数（書き）'!C\" & COLUMN(B$1)+SUM($AD$2:$AD202))","v":130},{"$f":"INDIRECT(\"'関数（書き）'!C\" & COLUMN(C$1)+SUM($AD$2:$AD202))","v":114},{"$f":"INDIRECT(\"'関数（書き）'!C\" & COLUMN(D$1)+SUM($AD$2:$AD202))","v":35},{"$f":"INDIRECT(\"'関数（書き）'!C\" & COLUMN(E$1)+SUM($AD$2:$AD202))","v":220},{"$f":"INDIRECT(\"'関数（書き）'!C\" & COLUMN(F$1)+SUM($AD$2:$AD202))","v":171},{"$f":"INDIRECT(\"'関数（書き）'!C\" & COLUMN(G$1)+SUM($AD$2:$AD202))","v":153},{"$f":"INDIRECT(\"'関数（書き）'!C\" & COLUMN(H$1)+SUM($AD$2:$AD202))","v":155},{"$f":"INDIRECT(\"'関数（書き）'!C\" & COLUMN(I$1)+SUM($AD$2:$AD202))","v":133},{"$f":"INDIRECT(\"'関数（書き）'!C\" & COLUMN(J$1)+SUM($AD$2:$AD202))","v":19},{"$f":"INDIRECT(\"'関数（書き）'!C\" & COLUMN(K$1)+SUM($AD$2:$AD202))","v":103},{"$f":"INDIRECT(\"'関数（読み）'!C\" & COLUMN(B$1)+SUM($AD$2:$AD202))","v":193},{"$f":"INDIRECT(\"'関数（読み）'!C\" & COLUMN(C$1)+SUM($AD$2:$AD202))","v":142},{"$f":"INDIRECT(\"'関数（読み）'!C\" & COLUMN(D$1)+SUM($AD$2:$AD202))","v":105},{"$f":"INDIRECT(\"'関数（読み）'!C\" & COLUMN(E$1)+SUM($AD$2:$AD202))","v":73},{"$f":"INDIRECT(\"'関数（読み）'!C\" & COLUMN(F$1)+SUM($AD$2:$AD202))","v":130},{"$f":"INDIRECT(\"'関数（読み）'!C\" & COLUMN(G$1)+SUM($AD$2:$AD202))","v":175},{"$f":"INDIRECT(\"'関数（読み）'!C\" & COLUMN(H$1)+SUM($AD$2:$AD202))","v":199},{"$f":"INDIRECT(\"'関数（読み）'!C\" & COLUMN(I$1)+SUM($AD$2:$AD202))","v":70},{"$f":"INDIRECT(\"'関数（読み）'!C\" & COLUMN(J$1)+SUM($AD$2:$AD202))","v":19},{"$f":"INDIRECT(\"'関数（読み）'!C\" & COLUMN(K$1)+SUM($AD$2:$AD202))","v":37}]
["⑳","⑲","⑱","⑰","⑯","⑮","⑭","⑬","⑫","⑪","⑩","⑨","⑧","⑦","⑥","⑤","④","③","②","①","次の［　　　　］の部分の漢字には読みがなをひらがなで書き、カタカナは漢字に直しなさい。",12,"「漢字の博士検定試験」練習問題　",null,null,null,null,null,"←",10,"問",{"$f":"AH187+1","v":201},"～",{"$f":"SUM($AD$2:$AD202)+10","v":210},"問まで",{"$f":"COUNTIF($A$1:$T$200,T203)","v":0}]
[{"$f":"IF(A201=\"\",\"\",VLOOKUP(A201,漢字書き!$A$2:$N$506,6,0))","v":"［ショウバイ］がうまくいく"},{"$f":"IF(B201=\"\",\"\",VLOOKUP(B201,漢字書き!$A$2:$N$506,6,0))","v":"［オモ］い石を持つ"},{"$f":"IF(C201=\"\",\"\",VLOOKUP(C201,漢字書き!$A$2:$N$506,6,0))","v":"せを［ム］ける"},{"$f":"IF(D201=\"\",\"\",VLOOKUP(D201,漢字書き!$A$2:$N$506,6,0))","v":"［コウテイ］を走る"},{"$f":"IF(E201=\"\",\"\",VLOOKUP(E201,漢字書き!$A$2:$N$506,6,0))","v":"［イキ］がはずむ"},{"$f":"IF(F201=\"\",\"\",VLOOKUP(F201,漢字書き!$A$2:$N$506,6,0))","v":"科学が［シンポ］する"},{"$f":"IF(G201=\"\",\"\",VLOOKUP(G201,漢字書き!$A$2:$N$506,6,0))","v":"前に［スス］む"},{"$f":"IF(H201=\"\",\"\",VLOOKUP(H201,漢字書き!$A$2:$N$506,6,0))","v":"まけるが[カ]ち"},{"$f":"IF(I201=\"\",\"\",VLOOKUP(I201,漢字書き!$A$2:$N$506,6,0))","v":"［カル］い運どう"},{"$f":"IF(J201=\"\",\"\",VLOOKUP(J201,漢字書き!$A$2:$N$506,6,0))","v":"［シュウテン］の駅"},{"$f":"IF(K201=\"\",\"\",VLOOKUP(K201,漢字読み!$A$2:$O$506,6,0))","v":"［炭］をやく"},{"$f":"IF(L201=\"\",\"\",VLOOKUP(L201,漢字読み!$A$2:$O$506,6,0))","v":"［真］けんにがんばる"},{"$f":"IF(M201=\"\",\"\",VLOOKUP(M201,漢字読み!$A$2:$O$506,6,0))","v":"［集合］場所を決める"},{"$f":"IF(N201=\"\",\"\",VLOOKUP(N201,漢字読み!$A$2:$O$506,6,0))","v":"［次］のページ"},{"$f":"IF(O201=\"\",\"\",VLOOKUP(O201,漢字読み!$A$2:$O$506,6,0))","v":"大会で［勝］つ"},{"$f":"IF(P201=\"\",\"\",VLOOKUP(P201,漢字読み!$A$2:$O$506,6,0))","v":"くぎを［打］つ"},{"$f":"IF(Q201=\"\",\"\",VLOOKUP(Q201,漢字読み!$A$2:$O$506,6,0))","v":"ふくを［着］る"},{"$f":"IF(R201=\"\",\"\",VLOOKUP(R201,漢字読み!$A$2:$O$506,6,0))","v":"［詩］を書く"},{"$f":"IF(S201=\"\",\"\",VLOOKUP(S201,漢字読み!$A$2:$O$506,6,0))","v":"けがで［出血］する"},{"$f":"IF(T201=\"\",\"\",VLOOKUP(T201,漢字読み!$A$2:$O$506,6,0))","v":"［幸］せにくらす"},null,"級"]
[null,null,null,null,null,null,null,null,null,null,null,null,null,null,null,null,null,null,null,null,null,"名前"]
[{"$f":"IF(A201=\"\",\"\",IF(VLOOKUP(A201,漢字書き!$A$2:$N$502,7,0)=0,\"\",VLOOKUP(A201,漢字書き!$A$2:$N$502,7,0)))","v":""},{"$f":"IF(B201=\"\",\"\",IF(VLOOKUP(B201,漢字書き!$A$2:$N$502,7,0)=0,\"\",VLOOKUP(B201,漢字書き!$A$2:$N$502,7,0)))","v":"い"},{"$f":"IF(C201=\"\",\"\",IF(VLOOKUP(C201,漢字書き!$A$2:$N$502,7,0)=0,\"\",VLOOKUP(C201,漢字書き!$A$2:$N$502,7,0)))","v":"ける"},{"$f":"IF(D201=\"\",\"\",IF(VLOOKUP(D201,漢字書き!$A$2:$N$502,7,0)=0,\"\",VLOOKUP(D201,漢字書き!$A$2:$N$502,7,0)))","v":""},{"$f":"IF(E201=\"\",\"\",IF(VLOOKUP(E201,漢字書き!$A$2:$N$502,7,0)=0,\"\",VLOOKUP(E201,漢字書き!$A$2:$N$502,7,0)))","v":""},{"$f":"IF(F201=\"\",\"\",IF(VLOOKUP(F201,漢字書き!$A$2:$N$502,7,0)=0,\"\",VLOOKUP(F201,漢字書き!$A$2:$N$502,7,0)))","v":"する"},{"$f":"IF(G201=\"\",\"\",IF(VLOOKUP(G201,漢字書き!$A$2:$N$502,7,0)=0,\"\",VLOOKUP(G201,漢字書き!$A$2:$N$502,7,0)))","v":"む"},{"$f":"IF(H201=\"\",\"\",IF(VLOOKUP(H201,漢字書き!$A$2:$N$502,7,0)=0,\"\",VLOOKUP(H201,漢字書き!$A$2:$N$502,7,0)))","v":"ち"},{"$f":"IF(I201=\"\",\"\",IF(VLOOKUP(I201,漢字書き!$A$2:$N$502,7,0)=0,\"\",VLOOKUP(I201,漢字書き!$A$2:$N$502,7,0)))","v":"い"},{"$f":"IF(J201=\"\",\"\",IF(VLOOKUP(J201,漢字書き!$A$2:$N$502,7,0)=0,\"\",VLOOKUP(J201,漢字書き!$A$2:$N$502,7,0)))","v":""},{"$f":"IF(K201=\"\",\"\",IF(VLOOKUP(K201,漢字読み!$A$2:$O$502,7,0)=0,\"\",VLOOKUP(K201,漢字読み!$A$2:$O$502,7,0)))","v":""},{"$f":"IF(L201=\"\",\"\",IF(VLOOKUP(L201,漢字読み!$A$2:$O$502,7,0)=0,\"\",VLOOKUP(L201,漢字読み!$A$2:$O$502,7,0)))","v":"けん"},{"$f":"IF(M201=\"\",\"\",IF(VLOOKUP(M201,漢字読み!$A$2:$O$502,7,0)=0,\"\",VLOOKUP(M201,漢字読み!$A$2:$O$502,7,0)))","v":""},{"$f":"IF(N201=\"\",\"\",IF(VLOOKUP(N201,漢字読み!$A$2:$O$502,7,0)=0,\"\",VLOOKUP(N201,漢字読み!$A$2:$O$502,7,0)))","v":""},{"$f":"IF(O201=\"\",\"\",IF(VLOOKUP(O201,漢字読み!$A$2:$O$502,7,0)=0,\"\",VLOOKUP(O201,漢字読み!$A$2:$O$502,7,0)))","v":"つ"},{"$f":"IF(P201=\"\",\"\",IF(VLOOKUP(P201,漢字読み!$A$2:$O$502,7,0)=0,\"\",VLOOKUP(P201,漢字読み!$A$2:$O$502,7,0)))","v":"つ"},{"$f":"IF(Q201=\"\",\"\",IF(VLOOKUP(Q201,漢字読み!$A$2:$O$502,7,0)=0,\"\",VLOOKUP(Q201,漢字読み!$A$2:$O$502,7,0)))","v":"る"},{"$f":"IF(R201=\"\",\"\",IF(VLOOKUP(R201,漢字読み!$A$2:$O$502,7,0)=0,\"\",VLOOKUP(R201,漢字読み!$A$2:$O$502,7,0)))","v":""},{"$f":"IF(S201=\"\",\"\",IF(VLOOKUP(S201,漢字読み!$A$2:$O$502,7,0)=0,\"\",VLOOKUP(S201,漢字読み!$A$2:$O$502,7,0)))","v":"する"},{"$f":"IF(T201=\"\",\"\",IF(VLOOKUP(T201,漢字読み!$A$2:$O$502,7,0)=0,\"\",VLOOKUP(T201,漢字読み!$A$2:$O$502,7,0)))","v":"せ"},null,null,"和歌山県教育委員会"]
[{"$f":"INDIRECT(\"'関数（書き）'!C\" & COLUMN(B$1)+SUM($AD$2:$AD207))","v":10},{"$f":"INDIRECT(\"'関数（書き）'!C\" & COLUMN(C$1)+SUM($AD$2:$AD207))","v":128},{"$f":"INDIRECT(\"'関数（書き）'!C\" & COLUMN(D$1)+SUM($AD$2:$AD207))","v":98},{"$f":"INDIRECT(\"'関数（書き）'!C\" & COLUMN(E$1)+SUM($AD$2:$AD207))","v":50},{"$f":"INDIRECT(\"'関数（書き）'!C\" & COLUMN(F$1)+SUM($AD$2:$AD207))","v":185},{"$f":"INDIRECT(\"'関数（書き）'!C\" & COLUMN(G$1)+SUM($AD$2:$AD207))","v":72},{"$f":"INDIRECT(\"'関数（書き）'!C\" & COLUMN(H$1)+SUM($AD$2:$AD207))","v":110},{"$f":"INDIRECT(\"'関数（書き）'!C\" & COLUMN(I$1)+SUM($AD$2:$AD207))","v":102},{"$f":"INDIRECT(\"'関数（書き）'!C\" & COLUMN(J$1)+SUM($AD$2:$AD207))","v":65},{"$f":"INDIRECT(\"'関数（書き）'!C\" & COLUMN(K$1)+SUM($AD$2:$AD207))","v":208},{"$f":"INDIRECT(\"'関数（読み）'!C\" & COLUMN(B$1)+SUM($AD$2:$AD207))","v":20},{"$f":"INDIRECT(\"'関数（読み）'!C\" & COLUMN(C$1)+SUM($AD$2:$AD207))","v":227},{"$f":"INDIRECT(\"'関数（読み）'!C\" & COLUMN(D$1)+SUM($AD$2:$AD207))","v":122},{"$f":"INDIRECT(\"'関数（読み）'!C\" & COLUMN(E$1)+SUM($AD$2:$AD207))","v":220},{"$f":"INDIRECT(\"'関数（読み）'!C\" & COLUMN(F$1)+SUM($AD$2:$AD207))","v":173},{"$f":"INDIRECT(\"'関数（読み）'!C\" & COLUMN(G$1)+SUM($AD$2:$AD207))","v":87},{"$f":"INDIRECT(\"'関数（読み）'!C\" & COLUMN(H$1)+SUM($AD$2:$AD207))","v":181},{"$f":"INDIRECT(\"'関数（読み）'!C\" & COLUMN(I$1)+SUM($AD$2:$AD207))","v":24},{"$f":"INDIRECT(\"'関数（読み）'!C\" & COLUMN(J$1)+SUM($AD$2:$AD207))","v":158},{"$f":"INDIRECT(\"'関数（読み）'!C\" & COLUMN(K$1)+SUM($AD$2:$AD207))","v":63}]
["⑳","⑲","⑱","⑰","⑯","⑮","⑭","⑬","⑫","⑪","⑩","⑨","⑧","⑦","⑥","⑤","④","③","②","①","次の［　　　　］の部分の漢字には読みがなをひらがなで書き、カタカナは漢字に直しなさい。",12,"「漢字の博士検定試験」練習問題　",null,null,null,null,null,"←",10,"問",{"$f":"AH202+1","v":211},"～",{"$f":"SUM($AD$2:$AD207)+10","v":220},"問まで",{"$f":"COUNTIF($A$1:$T$200,T208)","v":0}]
[{"$f":"IF(A206=\"\",\"\",VLOOKUP(A206,漢字書き!$A$2:$N$506,6,0))","v":"絵の［グ］でぬる"},{"$f":"IF(B206=\"\",\"\",VLOOKUP(B206,漢字書き!$A$2:$N$506,6,0))","v":"［ショウカ］活どうをする"},{"$f":"IF(C206=\"\",\"\",VLOOKUP(C206,漢字書き!$A$2:$N$506,6,0))","v":"仕事を引き［ウ］ける"},{"$f":"IF(D206=\"\",\"\",VLOOKUP(D206,漢字書き!$A$2:$N$506,6,0))","v":"［サラ］にもりつける"},{"$f":"IF(E206=\"\",\"\",VLOOKUP(E206,漢字書き!$A$2:$N$506,6,0))","v":"人を［マ］つ"},{"$f":"IF(F206=\"\",\"\",VLOOKUP(F206,漢字書き!$A$2:$N$506,6,0))","v":"［オオゴト］になる"},{"$f":"IF(G206=\"\",\"\",VLOOKUP(G206,漢字書き!$A$2:$N$506,6,0))","v":"公園に［アツ］まる"},{"$f":"IF(H206=\"\",\"\",VLOOKUP(H206,漢字書き!$A$2:$N$506,6,0))","v":"［ヒロ］い集める"},{"$f":"IF(I206=\"\",\"\",VLOOKUP(I206,漢字書き!$A$2:$N$506,6,0))","v":"［ハ］医者に行く"},{"$f":"IF(J206=\"\",\"\",VLOOKUP(J206,漢字書き!$A$2:$N$506,6,0))","v":"［イッチョウ］目に住む人"},{"$f":"IF(K206=\"\",\"\",VLOOKUP(K206,漢字読み!$A$2:$O$506,6,0))","v":"［血］が出る"},{"$f":"IF(L206=\"\",\"\",VLOOKUP(L206,漢字読み!$A$2:$O$506,6,0))","v":"［鉄分］の多い食べもの"},{"$f":"IF(M206=\"\",\"\",VLOOKUP(M206,漢字読み!$A$2:$O$506,6,0))","v":"［昭］わ時代"},{"$f":"IF(N206=\"\",\"\",VLOOKUP(N206,漢字読み!$A$2:$O$506,6,0))","v":"［校庭］の花だん"},{"$f":"IF(O206=\"\",\"\",VLOOKUP(O206,漢字読み!$A$2:$O$506,6,0))","v":"［他］にありませんか"},{"$f":"IF(P206=\"\",\"\",VLOOKUP(P206,漢字読み!$A$2:$O$506,6,0))","v":"店の［主人］"},{"$f":"IF(Q206=\"\",\"\",VLOOKUP(Q206,漢字読み!$A$2:$O$506,6,0))","v":"［待］ち遠しい思い"},{"$f":"IF(R206=\"\",\"\",VLOOKUP(R206,漢字読み!$A$2:$O$506,6,0))","v":"ことばの［研究］"},{"$f":"IF(S206=\"\",\"\",VLOOKUP(S206,漢字読み!$A$2:$O$506,6,0))","v":"［全］く知らない"},{"$f":"IF(T206=\"\",\"\",VLOOKUP(T206,漢字読み!$A$2:$O$506,6,0))","v":"つき［指］をする"},null,"級"]
[null,null,null,null,null,null,null,null,null,null,null,null,null,null,null,null,null,null,null,null,null,"名前"]
[{"$f":"IF(A206=\"\",\"\",IF(VLOOKUP(A206,漢字書き!$A$2:$N$502,7,0)=0,\"\",VLOOKUP(A206,漢字書き!$A$2:$N$502,7,0)))","v":""},{"$f":"IF(B206=\"\",\"\",IF(VLOOKUP(B206,漢字書き!$A$2:$N$502,7,0)=0,\"\",VLOOKUP(B206,漢字書き!$A$2:$N$502,7,0)))","v":""},{"$f":"IF(C206=\"\",\"\",IF(VLOOKUP(C206,漢字書き!$A$2:$N$502,7,0)=0,\"\",VLOOKUP(C206,漢字書き!$A$2:$N$502,7,0)))","v":"ける"},{"$f":"IF(D206=\"\",\"\",IF(VLOOKUP(D206,漢字書き!$A$2:$N$502,7,0)=0,\"\",VLOOKUP(D206,漢字書き!$A$2:$N$502,7,0)))","v":""},{"$f":"IF(E206=\"\",\"\",IF(VLOOKUP(E206,漢字書き!$A$2:$N$502,7,0)=0,\"\",VLOOKUP(E206,漢字書き!$A$2:$N$502,7,0)))","v":"つ"},{"$f":"IF(F206=\"\",\"\",IF(VLOOKUP(F206,漢字書き!$A$2:$N$502,7,0)=0,\"\",VLOOKUP(F206,漢字書き!$A$2:$N$502,7,0)))","v":""},{"$f":"IF(G206=\"\",\"\",IF(VLOOKUP(G206,漢字書き!$A$2:$N$502,7,0)=0,\"\",VLOOKUP(G206,漢字書き!$A$2:$N$502,7,0)))","v":"まる"},{"$f":"IF(H206=\"\",\"\",IF(VLOOKUP(H206,漢字書き!$A$2:$N$502,7,0)=0,\"\",VLOOKUP(H206,漢字書き!$A$2:$N$502,7,0)))","v":"い"},{"$f":"IF(I206=\"\",\"\",IF(VLOOKUP(I206,漢字書き!$A$2:$N$502,7,0)=0,\"\",VLOOKUP(I206,漢字書き!$A$2:$N$502,7,0)))","v":"医者"},{"$f":"IF(J206=\"\",\"\",IF(VLOOKUP(J206,漢字書き!$A$2:$N$502,7,0)=0,\"\",VLOOKUP(J206,漢字書き!$A$2:$N$502,7,0)))","v":"目"},{"$f":"IF(K206=\"\",\"\",IF(VLOOKUP(K206,漢字読み!$A$2:$O$502,7,0)=0,\"\",VLOOKUP(K206,漢字読み!$A$2:$O$502,7,0)))","v":""},{"$f":"IF(L206=\"\",\"\",IF(VLOOKUP(L206,漢字読み!$A$2:$O$502,7,0)=0,\"\",VLOOKUP(L206,漢字読み!$A$2:$O$502,7,0)))","v":""},{"$f":"IF(M206=\"\",\"\",IF(VLOOKUP(M206,漢字読み!$A$2:$O$502,7,0)=0,\"\",VLOOKUP(M206,漢字読み!$A$2:$O$502,7,0)))","v":"わ"},{"$f":"IF(N206=\"\",\"\",IF(VLOOKUP(N206,漢字読み!$A$2:$O$502,7,0)=0,\"\",VLOOKUP(N206,漢字読み!$A$2:$O$502,7,0)))","v":""},{"$f":"IF(O206=\"\",\"\",IF(VLOOKUP(O206,漢字読み!$A$2:$O$502,7,0)=0,\"\",VLOOKUP(O206,漢字読み!$A$2:$O$502,7,0)))","v":""},{"$f":"IF(P206=\"\",\"\",IF(VLOOKUP(P206,漢字読み!$A$2:$O$502,7,0)=0,\"\",VLOOKUP(P206,漢字読み!$A$2:$O$502,7,0)))","v":""},{"$f":"IF(Q206=\"\",\"\",IF(VLOOKUP(Q206,漢字読み!$A$2:$O$502,7,0)=0,\"\",VLOOKUP(Q206,漢字読み!$A$2:$O$502,7,0)))","v":"ち"},{"$f":"IF(R206=\"\",\"\",IF(VLOOKUP(R206,漢字読み!$A$2:$O$502,7,0)=0,\"\",VLOOKUP(R206,漢字読み!$A$2:$O$502,7,0)))","v":""},{"$f":"IF(S206=\"\",\"\",IF(VLOOKUP(S206,漢字読み!$A$2:$O$502,7,0)=0,\"\",VLOOKUP(S206,漢字読み!$A$2:$O$502,7,0)))","v":"く"},{"$f":"IF(T206=\"\",\"\",IF(VLOOKUP(T206,漢字読み!$A$2:$O$502,7,0)=0,\"\",VLOOKUP(T206,漢字読み!$A$2:$O$502,7,0)))","v":""},null,null,"和歌山県教育委員会"]
[{"$f":"A201","v":130},114,35,220,171,153,155,133,19,103,193,142,105,73,130,175,199,70,19,37]
["⑳","⑲","⑱","⑰","⑯","⑮","⑭","⑬","⑫","⑪","⑩","⑨","⑧","⑦","⑥","⑤","④","③","②","①","次の［　　　　］の部分の漢字には読みがなをひらがなで書き、カタカナは漢字に直しなさい。",12,"「漢字の博士検定試験」練習問題　"]
[{"$f":"IF(A211=\"\",\"\",VLOOKUP(A211,漢字書き!$A$2:$N$506,6,0))","v":"［ショウバイ］がうまくいく"},{"$f":"IF(B211=\"\",\"\",VLOOKUP(B211,漢字書き!$A$2:$N$506,6,0))","v":"［オモ］い石を持つ"},{"$f":"IF(C211=\"\",\"\",VLOOKUP(C211,漢字書き!$A$2:$N$506,6,0))","v":"せを［ム］ける"},{"$f":"IF(D211=\"\",\"\",VLOOKUP(D211,漢字書き!$A$2:$N$506,6,0))","v":"［コウテイ］を走る"},{"$f":"IF(E211=\"\",\"\",VLOOKUP(E211,漢字書き!$A$2:$N$506,6,0))","v":"［イキ］がはずむ"},{"$f":"IF(F211=\"\",\"\",VLOOKUP(F211,漢字書き!$A$2:$N$506,6,0))","v":"科学が［シンポ］する"},{"$f":"IF(G211=\"\",\"\",VLOOKUP(G211,漢字書き!$A$2:$N$506,6,0))","v":"前に［スス］む"},{"$f":"IF(H211=\"\",\"\",VLOOKUP(H211,漢字書き!$A$2:$N$506,6,0))","v":"まけるが[カ]ち"},{"$f":"IF(I211=\"\",\"\",VLOOKUP(I211,漢字書き!$A$2:$N$506,6,0))","v":"［カル］い運どう"},{"$f":"IF(J211=\"\",\"\",VLOOKUP(J211,漢字書き!$A$2:$N$506,6,0))","v":"［シュウテン］の駅"},{"$f":"IF(K211=\"\",\"\",VLOOKUP(K211,漢字読み!$A$2:$O$506,6,0))","v":"［炭］をやく"},{"$f":"IF(L211=\"\",\"\",VLOOKUP(L211,漢字読み!$A$2:$O$506,6,0))","v":"［真］けんにがんばる"},{"$f":"IF(M211=\"\",\"\",VLOOKUP(M211,漢字読み!$A$2:$O$506,6,0))","v":"［集合］場所を決める"},{"$f":"IF(N211=\"\",\"\",VLOOKUP(N211,漢字読み!$A$2:$O$506,6,0))","v":"［次］のページ"},{"$f":"IF(O211=\"\",\"\",VLOOKUP(O211,漢字読み!$A$2:$O$506,6,0))","v":"大会で［勝］つ"},{"$f":"IF(P211=\"\",\"\",VLOOKUP(P211,漢字読み!$A$2:$O$506,6,0))","v":"くぎを［打］つ"},{"$f":"IF(Q211=\"\",\"\",VLOOKUP(Q211,漢字読み!$A$2:$O$506,6,0))","v":"ふくを［着］る"},{"$f":"IF(R211=\"\",\"\",VLOOKUP(R211,漢字読み!$A$2:$O$506,6,0))","v":"［詩］を書く"},{"$f":"IF(S211=\"\",\"\",VLOOKUP(S211,漢字読み!$A$2:$O$506,6,0))","v":"けがで［出血］する"},{"$f":"IF(T211=\"\",\"\",VLOOKUP(T211,漢字読み!$A$2:$O$506,6,0))","v":"［幸］せにくらす"},null,"級"]
[{"$f":"IF(A$11=\"\",\"\",VLOOKUP(A211,漢字書き!$A$2:$O$506,8,0))","v":"商売"},{"$f":"IF(B$11=\"\",\"\",VLOOKUP(B211,漢字書き!$A$2:$O$506,8,0))","v":"重"},{"$f":"IF(C$11=\"\",\"\",VLOOKUP(C211,漢字書き!$A$2:$O$506,8,0))","v":"向"},{"$f":"IF(D$11=\"\",\"\",VLOOKUP(D211,漢字書き!$A$2:$O$506,8,0))","v":"校庭"},{"$f":"IF(E$11=\"\",\"\",VLOOKUP(E211,漢字書き!$A$2:$O$506,8,0))","v":"息"},{"$f":"IF(F$11=\"\",\"\",VLOOKUP(F211,漢字書き!$A$2:$O$506,8,0))","v":"進歩"},{"$f":"IF(G$11=\"\",\"\",VLOOKUP(G211,漢字書き!$A$2:$O$506,8,0))","v":"進"},{"$f":"IF(H$11=\"\",\"\",VLOOKUP(H211,漢字書き!$A$2:$O$506,8,0))","v":"勝"},{"$f":"IF(I$11=\"\",\"\",VLOOKUP(I211,漢字書き!$A$2:$O$506,8,0))","v":"軽"},{"$f":"IF(J$11=\"\",\"\",VLOOKUP(J211,漢字書き!$A$2:$O$506,8,0))","v":"終点"},{"$f":"IF(K$11=\"\",\"\",VLOOKUP(K211,漢字読み!$A$2:$O$506,8,0))","v":"すみ"},{"$f":"IF(L$11=\"\",\"\",VLOOKUP(L211,漢字読み!$A$2:$O$506,8,0))","v":"しん"},{"$f":"IF(M$11=\"\",\"\",VLOOKUP(M211,漢字読み!$A$2:$O$506,8,0))","v":"しゅうごう"},{"$f":"IF(N$11=\"\",\"\",VLOOKUP(N211,漢字読み!$A$2:$O$506,8,0))","v":"つぎ"},{"$f":"IF(O$11=\"\",\"\",VLOOKUP(O211,漢字読み!$A$2:$O$506,8,0))","v":"か"},{"$f":"IF(P$11=\"\",\"\",VLOOKUP(P211,漢字読み!$A$2:$O$506,8,0))","v":"う"},{"$f":"IF(Q$11=\"\",\"\",VLOOKUP(Q211,漢字読み!$A$2:$O$506,8,0))","v":"き"},{"$f":"IF(R$11=\"\",\"\",VLOOKUP(R211,漢字読み!$A$2:$O$506,8,0))","v":"し"},{"$f":"IF(S$11=\"\",\"\",VLOOKUP(S211,漢字読み!$A$2:$O$506,8,0))","v":"しゅっけつ"},{"$f":"IF(T$11=\"\",\"\",VLOOKUP(T211,漢字読み!$A$2:$O$506,8,0))","v":"しあわ"},null,"名前"]
[{"$f":"IF(A211=\"\",\"\",IF(VLOOKUP(A211,漢字書き!$A$2:$N$502,7,0)=0,\"\",VLOOKUP(A211,漢字書き!$A$2:$N$502,7,0)))","v":""},{"$f":"IF(B211=\"\",\"\",IF(VLOOKUP(B211,漢字書き!$A$2:$N$502,7,0)=0,\"\",VLOOKUP(B211,漢字書き!$A$2:$N$502,7,0)))","v":"い"},{"$f":"IF(C211=\"\",\"\",IF(VLOOKUP(C211,漢字書き!$A$2:$N$502,7,0)=0,\"\",VLOOKUP(C211,漢字書き!$A$2:$N$502,7,0)))","v":"ける"},{"$f":"IF(D211=\"\",\"\",IF(VLOOKUP(D211,漢字書き!$A$2:$N$502,7,0)=0,\"\",VLOOKUP(D211,漢字書き!$A$2:$N$502,7,0)))","v":""},{"$f":"IF(E211=\"\",\"\",IF(VLOOKUP(E211,漢字書き!$A$2:$N$502,7,0)=0,\"\",VLOOKUP(E211,漢字書き!$A$2:$N$502,7,0)))","v":""},{"$f":"IF(F211=\"\",\"\",IF(VLOOKUP(F211,漢字書き!$A$2:$N$502,7,0)=0,\"\",VLOOKUP(F211,漢字書き!$A$2:$N$502,7,0)))","v":"する"},{"$f":"IF(G211=\"\",\"\",IF(VLOOKUP(G211,漢字書き!$A$2:$N$502,7,0)=0,\"\",VLOOKUP(G211,漢字書き!$A$2:$N$502,7,0)))","v":"む"},{"$f":"IF(H211=\"\",\"\",IF(VLOOKUP(H211,漢字書き!$A$2:$N$502,7,0)=0,\"\",VLOOKUP(H211,漢字書き!$A$2:$N$502,7,0)))","v":"ち"},{"$f":"IF(I211=\"\",\"\",IF(VLOOKUP(I211,漢字書き!$A$2:$N$502,7,0)=0,\"\",VLOOKUP(I211,漢字書き!$A$2:$N$502,7,0)))","v":"い"},{"$f":"IF(J211=\"\",\"\",IF(VLOOKUP(J211,漢字書き!$A$2:$N$502,7,0)=0,\"\",VLOOKUP(J211,漢字書き!$A$2:$N$502,7,0)))","v":""},{"$f":"IF(K211=\"\",\"\",IF(VLOOKUP(K211,漢字読み!$A$2:$O$502,7,0)=0,\"\",VLOOKUP(K211,漢字読み!$A$2:$O$502,7,0)))","v":""},{"$f":"IF(L211=\"\",\"\",IF(VLOOKUP(L211,漢字読み!$A$2:$O$502,7,0)=0,\"\",VLOOKUP(L211,漢字読み!$A$2:$O$502,7,0)))","v":"けん"},{"$f":"IF(M211=\"\",\"\",IF(VLOOKUP(M211,漢字読み!$A$2:$O$502,7,0)=0,\"\",VLOOKUP(M211,漢字読み!$A$2:$O$502,7,0)))","v":""},{"$f":"IF(N211=\"\",\"\",IF(VLOOKUP(N211,漢字読み!$A$2:$O$502,7,0)=0,\"\",VLOOKUP(N211,漢字読み!$A$2:$O$502,7,0)))","v":""},{"$f":"IF(O211=\"\",\"\",IF(VLOOKUP(O211,漢字読み!$A$2:$O$502,7,0)=0,\"\",VLOOKUP(O211,漢字読み!$A$2:$O$502,7,0)))","v":"つ"},{"$f":"IF(P211=\"\",\"\",IF(VLOOKUP(P211,漢字読み!$A$2:$O$502,7,0)=0,\"\",VLOOKUP(P211,漢字読み!$A$2:$O$502,7,0)))","v":"つ"},{"$f":"IF(Q211=\"\",\"\",IF(VLOOKUP(Q211,漢字読み!$A$2:$O$502,7,0)=0,\"\",VLOOKUP(Q211,漢字読み!$A$2:$O$502,7,0)))","v":"る"},{"$f":"IF(R211=\"\",\"\",IF(VLOOKUP(R211,漢字読み!$A$2:$O$502,7,0)=0,\"\",VLOOKUP(R211,漢字読み!$A$2:$O$502,7,0)))","v":""},{"$f":"IF(S211=\"\",\"\",IF(VLOOKUP(S211,漢字読み!$A$2:$O$502,7,0)=0,\"\",VLOOKUP(S211,漢字読み!$A$2:$O$502,7,0)))","v":"する"},{"$f":"IF(T211=\"\",\"\",IF(VLOOKUP(T211,漢字読み!$A$2:$O$502,7,0)=0,\"\",VLOOKUP(T211,漢字読み!$A$2:$O$502,7,0)))","v":"せ"},null,null,"和歌山県教育委員会"]
[{"$f":"A206","v":10},128,98,50,185,72,110,102,65,208,20,227,122,220,173,87,181,24,158,63]
["⑳","⑲","⑱","⑰","⑯","⑮","⑭","⑬","⑫","⑪","⑩","⑨","⑧","⑦","⑥","⑤","④","③","②","①","次の［　　　　］の部分の漢字には読みがなをひらがなで書き、カタカナは漢字に直しなさい。",12,"「漢字の博士検定試験」練習問題　"]
[{"$f":"IF(A216=\"\",\"\",VLOOKUP(A216,漢字書き!$A$2:$N$506,6,0))","v":"絵の［グ］でぬる"},{"$f":"IF(B216=\"\",\"\",VLOOKUP(B216,漢字書き!$A$2:$N$506,6,0))","v":"［ショウカ］活どうをする"},{"$f":"IF(C216=\"\",\"\",VLOOKUP(C216,漢字書き!$A$2:$N$506,6,0))","v":"仕事を引き［ウ］ける"},{"$f":"IF(D216=\"\",\"\",VLOOKUP(D216,漢字書き!$A$2:$N$506,6,0))","v":"［サラ］にもりつける"},{"$f":"IF(E216=\"\",\"\",VLOOKUP(E216,漢字書き!$A$2:$N$506,6,0))","v":"人を［マ］つ"},{"$f":"IF(F216=\"\",\"\",VLOOKUP(F216,漢字書き!$A$2:$N$506,6,0))","v":"［オオゴト］になる"},{"$f":"IF(G216=\"\",\"\",VLOOKUP(G216,漢字書き!$A$2:$N$506,6,0))","v":"公園に［アツ］まる"},{"$f":"IF(H216=\"\",\"\",VLOOKUP(H216,漢字書き!$A$2:$N$506,6,0))","v":"［ヒロ］い集める"},{"$f":"IF(I216=\"\",\"\",VLOOKUP(I216,漢字書き!$A$2:$N$506,6,0))","v":"［ハ］医者に行く"},{"$f":"IF(J216=\"\",\"\",VLOOKUP(J216,漢字書き!$A$2:$N$506,6,0))","v":"［イッチョウ］目に住む人"},{"$f":"IF(K216=\"\",\"\",VLOOKUP(K216,漢字読み!$A$2:$O$506,6,0))","v":"［血］が出る"},{"$f":"IF(L216=\"\",\"\",VLOOKUP(L216,漢字読み!$A$2:$O$506,6,0))","v":"［鉄分］の多い食べもの"},{"$f":"IF(M216=\"\",\"\",VLOOKUP(M216,漢字読み!$A$2:$O$506,6,0))","v":"［昭］わ時代"},{"$f":"IF(N216=\"\",\"\",VLOOKUP(N216,漢字読み!$A$2:$O$506,6,0))","v":"［校庭］の花だん"},{"$f":"IF(O216=\"\",\"\",VLOOKUP(O216,漢字読み!$A$2:$O$506,6,0))","v":"［他］にありませんか"},{"$f":"IF(P216=\"\",\"\",VLOOKUP(P216,漢字読み!$A$2:$O$506,6,0))","v":"店の［主人］"},{"$f":"IF(Q216=\"\",\"\",VLOOKUP(Q216,漢字読み!$A$2:$O$506,6,0))","v":"［待］ち遠しい思い"},{"$f":"IF(R216=\"\",\"\",VLOOKUP(R216,漢字読み!$A$2:$O$506,6,0))","v":"ことばの［研究］"},{"$f":"IF(S216=\"\",\"\",VLOOKUP(S216,漢字読み!$A$2:$O$506,6,0))","v":"［全］く知らない"},{"$f":"IF(T216=\"\",\"\",VLOOKUP(T216,漢字読み!$A$2:$O$506,6,0))","v":"つき［指］をする"},null,"級"]
[{"$f":"IF(A$16=\"\",\"\",VLOOKUP(A216,漢字書き!$A$2:$O$506,8,0))","v":"具"},{"$f":"IF(B$16=\"\",\"\",VLOOKUP(B216,漢字書き!$A$2:$O$506,8,0))","v":"消火"},{"$f":"IF(C$16=\"\",\"\",VLOOKUP(C216,漢字書き!$A$2:$O$506,8,0))","v":"受"},{"$f":"IF(D$16=\"\",\"\",VLOOKUP(D216,漢字書き!$A$2:$O$506,8,0))","v":"皿"},{"$f":"IF(E$16=\"\",\"\",VLOOKUP(E216,漢字書き!$A$2:$O$506,8,0))","v":"待"},{"$f":"IF(F$16=\"\",\"\",VLOOKUP(F216,漢字書き!$A$2:$O$506,8,0))","v":"大事"},{"$f":"IF(G$16=\"\",\"\",VLOOKUP(G216,漢字書き!$A$2:$O$506,8,0))","v":"集"},{"$f":"IF(H$16=\"\",\"\",VLOOKUP(H216,漢字書き!$A$2:$O$506,8,0))","v":"拾"},{"$f":"IF(I$16=\"\",\"\",VLOOKUP(I216,漢字書き!$A$2:$O$506,8,0))","v":"歯"},{"$f":"IF(J$16=\"\",\"\",VLOOKUP(J216,漢字書き!$A$2:$O$506,8,0))","v":"一丁"},{"$f":"IF(K$16=\"\",\"\",VLOOKUP(K216,漢字読み!$A$2:$O$506,8,0))","v":"ち"},{"$f":"IF(L$16=\"\",\"\",VLOOKUP(L216,漢字読み!$A$2:$O$506,8,0))","v":"てつぶん"},{"$f":"IF(M$16=\"\",\"\",VLOOKUP(M216,漢字読み!$A$2:$O$506,8,0))","v":"しょう"},{"$f":"IF(N$16=\"\",\"\",VLOOKUP(N216,漢字読み!$A$2:$O$506,8,0))","v":"こうてい"},{"$f":"IF(O$16=\"\",\"\",VLOOKUP(O216,漢字読み!$A$2:$O$506,8,0))","v":"ほか"},{"$f":"IF(P$16=\"\",\"\",VLOOKUP(P216,漢字読み!$A$2:$O$506,8,0))","v":"しゅじん"},{"$f":"IF(Q$16=\"\",\"\",VLOOKUP(Q216,漢字読み!$A$2:$O$506,8,0))","v":"ま"},{"$f":"IF(R$16=\"\",\"\",VLOOKUP(R216,漢字読み!$A$2:$O$506,8,0))","v":"けんきゅう"},{"$f":"IF(S$16=\"\",\"\",VLOOKUP(S216,漢字読み!$A$2:$O$506,8,0))","v":"まった"},{"$f":"IF(T$16=\"\",\"\",VLOOKUP(T216,漢字読み!$A$2:$O$506,8,0))","v":"ゆび"},null,"名前"]
[{"$f":"IF(A216=\"\",\"\",IF(VLOOKUP(A216,漢字書き!$A$2:$N$502,7,0)=0,\"\",VLOOKUP(A216,漢字書き!$A$2:$N$502,7,0)))","v":""},{"$f":"IF(B216=\"\",\"\",IF(VLOOKUP(B216,漢字書き!$A$2:$N$502,7,0)=0,\"\",VLOOKUP(B216,漢字書き!$A$2:$N$502,7,0)))","v":""},{"$f":"IF(C216=\"\",\"\",IF(VLOOKUP(C216,漢字書き!$A$2:$N$502,7,0)=0,\"\",VLOOKUP(C216,漢字書き!$A$2:$N$502,7,0)))","v":"ける"},{"$f":"IF(D216=\"\",\"\",IF(VLOOKUP(D216,漢字書き!$A$2:$N$502,7,0)=0,\"\",VLOOKUP(D216,漢字書き!$A$2:$N$502,7,0)))","v":""},{"$f":"IF(E216=\"\",\"\",IF(VLOOKUP(E216,漢字書き!$A$2:$N$502,7,0)=0,\"\",VLOOKUP(E216,漢字書き!$A$2:$N$502,7,0)))","v":"つ"},{"$f":"IF(F216=\"\",\"\",IF(VLOOKUP(F216,漢字書き!$A$2:$N$502,7,0)=0,\"\",VLOOKUP(F216,漢字書き!$A$2:$N$502,7,0)))","v":""},{"$f":"IF(G216=\"\",\"\",IF(VLOOKUP(G216,漢字書き!$A$2:$N$502,7,0)=0,\"\",VLOOKUP(G216,漢字書き!$A$2:$N$502,7,0)))","v":"まる"},{"$f":"IF(H216=\"\",\"\",IF(VLOOKUP(H216,漢字書き!$A$2:$N$502,7,0)=0,\"\",VLOOKUP(H216,漢字書き!$A$2:$N$502,7,0)))","v":"い"},{"$f":"IF(I216=\"\",\"\",IF(VLOOKUP(I216,漢字書き!$A$2:$N$502,7,0)=0,\"\",VLOOKUP(I216,漢字書き!$A$2:$N$502,7,0)))","v":"医者"},{"$f":"IF(J216=\"\",\"\",IF(VLOOKUP(J216,漢字書き!$A$2:$N$502,7,0)=0,\"\",VLOOKUP(J216,漢字書き!$A$2:$N$502,7,0)))","v":"目"},{"$f":"IF(K216=\"\",\"\",IF(VLOOKUP(K216,漢字読み!$A$2:$O$502,7,0)=0,\"\",VLOOKUP(K216,漢字読み!$A$2:$O$502,7,0)))","v":""},{"$f":"IF(L216=\"\",\"\",IF(VLOOKUP(L216,漢字読み!$A$2:$O$502,7,0)=0,\"\",VLOOKUP(L216,漢字読み!$A$2:$O$502,7,0)))","v":""},{"$f":"IF(M216=\"\",\"\",IF(VLOOKUP(M216,漢字読み!$A$2:$O$502,7,0)=0,\"\",VLOOKUP(M216,漢字読み!$A$2:$O$502,7,0)))","v":"わ"},{"$f":"IF(N216=\"\",\"\",IF(VLOOKUP(N216,漢字読み!$A$2:$O$502,7,0)=0,\"\",VLOOKUP(N216,漢字読み!$A$2:$O$502,7,0)))","v":""},{"$f":"IF(O216=\"\",\"\",IF(VLOOKUP(O216,漢字読み!$A$2:$O$502,7,0)=0,\"\",VLOOKUP(O216,漢字読み!$A$2:$O$502,7,0)))","v":""},{"$f":"IF(P216=\"\",\"\",IF(VLOOKUP(P216,漢字読み!$A$2:$O$502,7,0)=0,\"\",VLOOKUP(P216,漢字読み!$A$2:$O$502,7,0)))","v":""},{"$f":"IF(Q216=\"\",\"\",IF(VLOOKUP(Q216,漢字読み!$A$2:$O$502,7,0)=0,\"\",VLOOKUP(Q216,漢字読み!$A$2:$O$502,7,0)))","v":"ち"},{"$f":"IF(R216=\"\",\"\",IF(VLOOKUP(R216,漢字読み!$A$2:$O$502,7,0)=0,\"\",VLOOKUP(R216,漢字読み!$A$2:$O$502,7,0)))","v":""},{"$f":"IF(S216=\"\",\"\",IF(VLOOKUP(S216,漢字読み!$A$2:$O$502,7,0)=0,\"\",VLOOKUP(S216,漢字読み!$A$2:$O$502,7,0)))","v":"く"},{"$f":"IF(T216=\"\",\"\",IF(VLOOKUP(T216,漢字読み!$A$2:$O$502,7,0)=0,\"\",VLOOKUP(T216,漢字読み!$A$2:$O$502,7,0)))","v":""},null,null,"和歌山県教育委員会"]
[{"$f":"INDIRECT(\"'関数（書き）'!C\" & COLUMN(B$1)+SUM($AD$2:$AD222))","v":46},{"$f":"INDIRECT(\"'関数（書き）'!C\" & COLUMN(C$1)+SUM($AD$2:$AD222))","v":92},{"$f":"INDIRECT(\"'関数（書き）'!C\" & COLUMN(D$1)+SUM($AD$2:$AD222))","v":173},{"$f":"INDIRECT(\"'関数（書き）'!C\" & COLUMN(E$1)+SUM($AD$2:$AD222))","v":206},{"$f":"INDIRECT(\"'関数（書き）'!C\" & COLUMN(F$1)+SUM($AD$2:$AD222))","v":137},{"$f":"INDIRECT(\"'関数（書き）'!C\" & COLUMN(G$1)+SUM($AD$2:$AD222))","v":71},{"$f":"INDIRECT(\"'関数（書き）'!C\" & COLUMN(H$1)+SUM($AD$2:$AD222))","v":27},{"$f":"INDIRECT(\"'関数（書き）'!C\" & COLUMN(I$1)+SUM($AD$2:$AD222))","v":32},{"$f":"INDIRECT(\"'関数（書き）'!C\" & COLUMN(J$1)+SUM($AD$2:$AD222))","v":48},{"$f":"INDIRECT(\"'関数（書き）'!C\" & COLUMN(K$1)+SUM($AD$2:$AD222))","v":47},{"$f":"INDIRECT(\"'関数（読み）'!C\" & COLUMN(B$1)+SUM($AD$2:$AD222))","v":62},{"$f":"INDIRECT(\"'関数（読み）'!C\" & COLUMN(C$1)+SUM($AD$2:$AD222))","v":54},{"$f":"INDIRECT(\"'関数（読み）'!C\" & COLUMN(D$1)+SUM($AD$2:$AD222))","v":9},{"$f":"INDIRECT(\"'関数（読み）'!C\" & COLUMN(E$1)+SUM($AD$2:$AD222))","v":133},{"$f":"INDIRECT(\"'関数（読み）'!C\" & COLUMN(F$1)+SUM($AD$2:$AD222))","v":186},{"$f":"INDIRECT(\"'関数（読み）'!C\" & COLUMN(G$1)+SUM($AD$2:$AD222))","v":93},{"$f":"INDIRECT(\"'関数（読み）'!C\" & COLUMN(H$1)+SUM($AD$2:$AD222))","v":135},{"$f":"INDIRECT(\"'関数（読み）'!C\" & COLUMN(I$1)+SUM($AD$2:$AD222))","v":150},{"$f":"INDIRECT(\"'関数（読み）'!C\" & COLUMN(J$1)+SUM($AD$2:$AD222))","v":41},{"$f":"INDIRECT(\"'関数（読み）'!C\" & COLUMN(K$1)+SUM($AD$2:$AD222))","v":44}]
["⑳","⑲","⑱","⑰","⑯","⑮","⑭","⑬","⑫","⑪","⑩","⑨","⑧","⑦","⑥","⑤","④","③","②","①","次の［　　　　］の部分の漢字には読みがなをひらがなで書き、カタカナは漢字に直しなさい。",12,"「漢字の博士検定試験」練習問題　",null,null,null,null,null,"←",10,"問",{"$f":"AH207+1","v":221},"～",{"$f":"SUM($AD$2:$AD222)+10","v":230},"問まで",{"$f":"COUNTIF($A$1:$T$200,T223)","v":0}]
[{"$f":"IF(A221=\"\",\"\",VLOOKUP(A221,漢字書き!$A$2:$N$506,6,0))","v":"草が［ネ］をはる"},{"$f":"IF(B221=\"\",\"\",VLOOKUP(B221,漢字書き!$A$2:$N$506,6,0))","v":"話題に［ト］り上げる"},{"$f":"IF(C221=\"\",\"\",VLOOKUP(C221,漢字書き!$A$2:$N$506,6,0))","v":"走る［ハヤ］さ"},{"$f":"IF(D221=\"\",\"\",VLOOKUP(D221,漢字書き!$A$2:$N$506,6,0))","v":"［デンチュウ］のかげ"},{"$f":"IF(E221=\"\",\"\",VLOOKUP(E221,漢字書き!$A$2:$N$506,6,0))","v":"車に［ノ］せる"},{"$f":"IF(F221=\"\",\"\",VLOOKUP(F221,漢字書き!$A$2:$N$506,6,0))","v":"道ろ［コウジ］"},{"$f":"IF(G221=\"\",\"\",VLOOKUP(G221,漢字書き!$A$2:$N$506,6,0))","v":"広島［ケン］の町"},{"$f":"IF(H221=\"\",\"\",VLOOKUP(H221,漢字書き!$A$2:$N$506,6,0))","v":"白鳥の［ミズウミ］"},{"$f":"IF(I221=\"\",\"\",VLOOKUP(I221,漢字書き!$A$2:$N$506,6,0))","v":"［マツ］りにさんかする"},{"$f":"IF(J221=\"\",\"\",VLOOKUP(J221,漢字書き!$A$2:$N$506,6,0))","v":"［ブンカサイ］へのさんか"},{"$f":"IF(K221=\"\",\"\",VLOOKUP(K221,漢字読み!$A$2:$O$506,6,0))","v":"相手を［指名］する"},{"$f":"IF(L221=\"\",\"\",VLOOKUP(L221,漢字読み!$A$2:$O$506,6,0))","v":"［天使］が下りてくる"},{"$f":"IF(M221=\"\",\"\",VLOOKUP(M221,漢字読み!$A$2:$O$506,6,0))","v":"［道具］を使う"},{"$f":"IF(N221=\"\",\"\",VLOOKUP(N221,漢字読み!$A$2:$O$506,6,0))","v":"森林の［植］ぶつ"},{"$f":"IF(O221=\"\",\"\",VLOOKUP(O221,漢字読み!$A$2:$O$506,6,0))","v":"ピッチャーを［代］える"},{"$f":"IF(P221=\"\",\"\",VLOOKUP(P221,漢字読み!$A$2:$O$506,6,0))","v":"テレビの［取］ざい"},{"$f":"IF(Q221=\"\",\"\",VLOOKUP(Q221,漢字読み!$A$2:$O$506,6,0))","v":"一言［申］し上げる"},{"$f":"IF(R221=\"\",\"\",VLOOKUP(R221,漢字読み!$A$2:$O$506,6,0))","v":"［世界］の子どもたち"},{"$f":"IF(S221=\"\",\"\",VLOOKUP(S221,漢字読み!$A$2:$O$506,6,0))","v":"バスの［一号］車"},{"$f":"IF(T221=\"\",\"\",VLOOKUP(T221,漢字読み!$A$2:$O$506,6,0))","v":"［根］をはる"},null,"級"]
[null,null,null,null,null,null,null,null,null,null,null,null,null,null,null,null,null,null,null,null,null,"名前"]
[{"$f":"IF(A221=\"\",\"\",IF(VLOOKUP(A221,漢字書き!$A$2:$N$502,7,0)=0,\"\",VLOOKUP(A221,漢字書き!$A$2:$N$502,7,0)))","v":""},{"$f":"IF(B221=\"\",\"\",IF(VLOOKUP(B221,漢字書き!$A$2:$N$502,7,0)=0,\"\",VLOOKUP(B221,漢字書き!$A$2:$N$502,7,0)))","v":"り"},{"$f":"IF(C221=\"\",\"\",IF(VLOOKUP(C221,漢字書き!$A$2:$N$502,7,0)=0,\"\",VLOOKUP(C221,漢字書き!$A$2:$N$502,7,0)))","v":"さ"},{"$f":"IF(D221=\"\",\"\",IF(VLOOKUP(D221,漢字書き!$A$2:$N$502,7,0)=0,\"\",VLOOKUP(D221,漢字書き!$A$2:$N$502,7,0)))","v":""},{"$f":"IF(E221=\"\",\"\",IF(VLOOKUP(E221,漢字書き!$A$2:$N$502,7,0)=0,\"\",VLOOKUP(E221,漢字書き!$A$2:$N$502,7,0)))","v":"せる"},{"$f":"IF(F221=\"\",\"\",IF(VLOOKUP(F221,漢字書き!$A$2:$N$502,7,0)=0,\"\",VLOOKUP(F221,漢字書き!$A$2:$N$502,7,0)))","v":""},{"$f":"IF(G221=\"\",\"\",IF(VLOOKUP(G221,漢字書き!$A$2:$N$502,7,0)=0,\"\",VLOOKUP(G221,漢字書き!$A$2:$N$502,7,0)))","v":""},{"$f":"IF(H221=\"\",\"\",IF(VLOOKUP(H221,漢字書き!$A$2:$N$502,7,0)=0,\"\",VLOOKUP(H221,漢字書き!$A$2:$N$502,7,0)))","v":""},{"$f":"IF(I221=\"\",\"\",IF(VLOOKUP(I221,漢字書き!$A$2:$N$502,7,0)=0,\"\",VLOOKUP(I221,漢字書き!$A$2:$N$502,7,0)))","v":"り"},{"$f":"IF(J221=\"\",\"\",IF(VLOOKUP(J221,漢字書き!$A$2:$N$502,7,0)=0,\"\",VLOOKUP(J221,漢字書き!$A$2:$N$502,7,0)))","v":""},{"$f":"IF(K221=\"\",\"\",IF(VLOOKUP(K221,漢字読み!$A$2:$O$502,7,0)=0,\"\",VLOOKUP(K221,漢字読み!$A$2:$O$502,7,0)))","v":"する"},{"$f":"IF(L221=\"\",\"\",IF(VLOOKUP(L221,漢字読み!$A$2:$O$502,7,0)=0,\"\",VLOOKUP(L221,漢字読み!$A$2:$O$502,7,0)))","v":""},{"$f":"IF(M221=\"\",\"\",IF(VLOOKUP(M221,漢字読み!$A$2:$O$502,7,0)=0,\"\",VLOOKUP(M221,漢字読み!$A$2:$O$502,7,0)))","v":""},{"$f":"IF(N221=\"\",\"\",IF(VLOOKUP(N221,漢字読み!$A$2:$O$502,7,0)=0,\"\",VLOOKUP(N221,漢字読み!$A$2:$O$502,7,0)))","v":"ぶつ"},{"$f":"IF(O221=\"\",\"\",IF(VLOOKUP(O221,漢字読み!$A$2:$O$502,7,0)=0,\"\",VLOOKUP(O221,漢字読み!$A$2:$O$502,7,0)))","v":"える"},{"$f":"IF(P221=\"\",\"\",IF(VLOOKUP(P221,漢字読み!$A$2:$O$502,7,0)=0,\"\",VLOOKUP(P221,漢字読み!$A$2:$O$502,7,0)))","v":"ざい"},{"$f":"IF(Q221=\"\",\"\",IF(VLOOKUP(Q221,漢字読み!$A$2:$O$502,7,0)=0,\"\",VLOOKUP(Q221,漢字読み!$A$2:$O$502,7,0)))","v":"し"},{"$f":"IF(R221=\"\",\"\",IF(VLOOKUP(R221,漢字読み!$A$2:$O$502,7,0)=0,\"\",VLOOKUP(R221,漢字読み!$A$2:$O$502,7,0)))","v":""},{"$f":"IF(S221=\"\",\"\",IF(VLOOKUP(S221,漢字読み!$A$2:$O$502,7,0)=0,\"\",VLOOKUP(S221,漢字読み!$A$2:$O$502,7,0)))","v":"車"},{"$f":"IF(T221=\"\",\"\",IF(VLOOKUP(T221,漢字読み!$A$2:$O$502,7,0)=0,\"\",VLOOKUP(T221,漢字読み!$A$2:$O$502,7,0)))","v":""},null,null,"和歌山県教育委員会"]
[{"$f":"INDIRECT(\"'関数（書き）'!C\" & COLUMN(B$1)+SUM($AD$2:$AD227))","v":117},{"$f":"INDIRECT(\"'関数（書き）'!C\" & COLUMN(C$1)+SUM($AD$2:$AD227))","v":197},{"$f":"INDIRECT(\"'関数（書き）'!C\" & COLUMN(D$1)+SUM($AD$2:$AD227))","v":87},{"$f":"INDIRECT(\"'関数（書き）'!C\" & COLUMN(E$1)+SUM($AD$2:$AD227))","v":60},{"$f":"INDIRECT(\"'関数（書き）'!C\" & COLUMN(F$1)+SUM($AD$2:$AD227))","v":225},{"$f":"INDIRECT(\"'関数（書き）'!C\" & COLUMN(G$1)+SUM($AD$2:$AD227))","v":1},{"$f":"INDIRECT(\"'関数（書き）'!C\" & COLUMN(H$1)+SUM($AD$2:$AD227))","v":0},{"$f":"INDIRECT(\"'関数（書き）'!C\" & COLUMN(I$1)+SUM($AD$2:$AD227))","v":0},{"$f":"INDIRECT(\"'関数（書き）'!C\" & COLUMN(J$1)+SUM($AD$2:$AD227))","v":0},{"$f":"INDIRECT(\"'関数（書き）'!C\" & COLUMN(K$1)+SUM($AD$2:$AD227))","v":0},{"$f":"INDIRECT(\"'関数（読み）'!C\" & COLUMN(B$1)+SUM($AD$2:$AD227))","v":103},{"$f":"INDIRECT(\"'関数（読み）'!C\" & COLUMN(C$1)+SUM($AD$2:$AD227))","v":231},{"$f":"INDIRECT(\"'関数（読み）'!C\" & COLUMN(D$1)+SUM($AD$2:$AD227))","v":67},{"$f":"INDIRECT(\"'関数（読み）'!C\" & COLUMN(E$1)+SUM($AD$2:$AD227))","v":185},{"$f":"INDIRECT(\"'関数（読み）'!C\" & COLUMN(F$1)+SUM($AD$2:$AD227))","v":27},{"$f":"INDIRECT(\"'関数（読み）'!C\" & COLUMN(G$1)+SUM($AD$2:$AD227))","v":110},{"$f":"INDIRECT(\"'関数（読み）'!C\" & COLUMN(H$1)+SUM($AD$2:$AD227))","v":30},{"$f":"INDIRECT(\"'関数（読み）'!C\" & COLUMN(I$1)+SUM($AD$2:$AD227))","v":57},{"$f":"INDIRECT(\"'関数（読み）'!C\" & COLUMN(J$1)+SUM($AD$2:$AD227))","v":109},{"$f":"INDIRECT(\"'関数（読み）'!C\" & COLUMN(K$1)+SUM($AD$2:$AD227))","v":15}]
["⑳","⑲","⑱","⑰","⑯","⑮","⑭","⑬","⑫","⑪","⑩","⑨","⑧","⑦","⑥","⑤","④","③","②","①","次の［　　　　］の部分の漢字には読みがなをひらがなで書き、カタカナは漢字に直しなさい。",12,"「漢字の博士検定試験」練習問題　",null,null,null,null,null,"←",10,"問",{"$f":"AH222+1","v":231},"～",{"$f":"SUM($AD$2:$AD227)+10","v":240},"問まで",{"$f":"COUNTIF($A$1:$T$200,T228)","v":0}]
[{"$f":"IF(A226=\"\",\"\",VLOOKUP(A226,漢字書き!$A$2:$N$506,6,0))","v":"［シュクダイ］をすませる"},{"$f":"IF(B226=\"\",\"\",VLOOKUP(B226,漢字書き!$A$2:$N$506,6,0))","v":"兄に［ソウダン］する"},{"$f":"IF(C226=\"\",\"\",VLOOKUP(C226,漢字書き!$A$2:$N$506,6,0))","v":"池の［ヌシ］のなまず"},{"$f":"IF(D226=\"\",\"\",VLOOKUP(D226,漢字書き!$A$2:$N$506,6,0))","v":"動きを［シ］じする"},{"$f":"IF(E226=\"\",\"\",VLOOKUP(E226,漢字書き!$A$2:$N$506,6,0))","v":"［テツ］のなべ"},{"$f":"IF(F226=\"\",\"\",VLOOKUP(F226,漢字書き!$A$2:$N$506,6,0))","v":"［ギン］メダルをとる"},{"$f":"IF(G226=\"\",\"\",VLOOKUP(G226,漢字書き!$A$2:$N$506,6,0))","v":{"$error":"#N/A"}},{"$f":"IF(H226=\"\",\"\",VLOOKUP(H226,漢字書き!$A$2:$N$506,6,0))","v":{"$error":"#N/A"}},{"$f":"IF(I226=\"\",\"\",VLOOKUP(I226,漢字書き!$A$2:$N$506,6,0))","v":{"$error":"#N/A"}},{"$f":"IF(J226=\"\",\"\",VLOOKUP(J226,漢字書き!$A$2:$N$506,6,0))","v":{"$error":"#N/A"}},{"$f":"IF(K226=\"\",\"\",VLOOKUP(K226,漢字読み!$A$2:$O$506,6,0))","v":"ピアノを［習］う"},{"$f":"IF(L226=\"\",\"\",VLOOKUP(L226,漢字読み!$A$2:$O$506,6,0))","v":"ボールが［転］がる"},{"$f":"IF(M226=\"\",\"\",VLOOKUP(M226,漢字読み!$A$2:$O$506,6,0))","v":"にゅう［歯］が生える"},{"$f":"IF(N226=\"\",\"\",VLOOKUP(N226,漢字読み!$A$2:$O$506,6,0))","v":"君が［代］を歌う"},{"$f":"IF(O226=\"\",\"\",VLOOKUP(O226,漢字読み!$A$2:$O$506,6,0))","v":"［県立］体育館"},{"$f":"IF(P226=\"\",\"\",VLOOKUP(P226,漢字読み!$A$2:$O$506,6,0))","v":"マンションに［住］む"},{"$f":"IF(Q226=\"\",\"\",VLOOKUP(Q226,漢字読み!$A$2:$O$506,6,0))","v":"［湖上］の船"},{"$f":"IF(R226=\"\",\"\",VLOOKUP(R226,漢字読み!$A$2:$O$506,6,0))","v":"運動場を［使］う"},{"$f":"IF(S226=\"\",\"\",VLOOKUP(S226,漢字読み!$A$2:$O$506,6,0))","v":"［住所］と名前を書く"},{"$f":"IF(T226=\"\",\"\",VLOOKUP(T226,漢字読み!$A$2:$O$506,6,0))","v":"図書［係］になる"},null,"級"]
[null,null,null,null,null,null,null,null,null,null,null,null,null,null,null,null,null,null,null,null,null,"名前"]
[{"$f":"IF(A226=\"\",\"\",IF(VLOOKUP(A226,漢字書き!$A$2:$N$502,7,0)=0,\"\",VLOOKUP(A226,漢字書き!$A$2:$N$502,7,0)))","v":""},{"$f":"IF(B226=\"\",\"\",IF(VLOOKUP(B226,漢字書き!$A$2:$N$502,7,0)=0,\"\",VLOOKUP(B226,漢字書き!$A$2:$N$502,7,0)))","v":"する"},{"$f":"IF(C226=\"\",\"\",IF(VLOOKUP(C226,漢字書き!$A$2:$N$502,7,0)=0,\"\",VLOOKUP(C226,漢字書き!$A$2:$N$502,7,0)))","v":""},{"$f":"IF(D226=\"\",\"\",IF(VLOOKUP(D226,漢字書き!$A$2:$N$502,7,0)=0,\"\",VLOOKUP(D226,漢字書き!$A$2:$N$502,7,0)))","v":"じ"},{"$f":"IF(E226=\"\",\"\",IF(VLOOKUP(E226,漢字書き!$A$2:$N$502,7,0)=0,\"\",VLOOKUP(E226,漢字書き!$A$2:$N$502,7,0)))","v":""},{"$f":"IF(F226=\"\",\"\",IF(VLOOKUP(F226,漢字書き!$A$2:$N$502,7,0)=0,\"\",VLOOKUP(F226,漢字書き!$A$2:$N$502,7,0)))","v":"メダル"},{"$f":"IF(G226=\"\",\"\",IF(VLOOKUP(G226,漢字書き!$A$2:$N$502,7,0)=0,\"\",VLOOKUP(G226,漢字書き!$A$2:$N$502,7,0)))","v":{"$error":"#N/A"}},{"$f":"IF(H226=\"\",\"\",IF(VLOOKUP(H226,漢字書き!$A$2:$N$502,7,0)=0,\"\",VLOOKUP(H226,漢字書き!$A$2:$N$502,7,0)))","v":{"$error":"#N/A"}},{"$f":"IF(I226=\"\",\"\",IF(VLOOKUP(I226,漢字書き!$A$2:$N$502,7,0)=0,\"\",VLOOKUP(I226,漢字書き!$A$2:$N$502,7,0)))","v":{"$error":"#N/A"}},{"$f":"IF(J226=\"\",\"\",IF(VLOOKUP(J226,漢字書き!$A$2:$N$502,7,0)=0,\"\",VLOOKUP(J226,漢字書き!$A$2:$N$502,7,0)))","v":{"$error":"#N/A"}},{"$f":"IF(K226=\"\",\"\",IF(VLOOKUP(K226,漢字読み!$A$2:$O$502,7,0)=0,\"\",VLOOKUP(K226,漢字読み!$A$2:$O$502,7,0)))","v":"う"},{"$f":"IF(L226=\"\",\"\",IF(VLOOKUP(L226,漢字読み!$A$2:$O$502,7,0)=0,\"\",VLOOKUP(L226,漢字読み!$A$2:$O$502,7,0)))","v":"がる"},{"$f":"IF(M226=\"\",\"\",IF(VLOOKUP(M226,漢字読み!$A$2:$O$502,7,0)=0,\"\",VLOOKUP(M226,漢字読み!$A$2:$O$502,7,0)))","v":""},{"$f":"IF(N226=\"\",\"\",IF(VLOOKUP(N226,漢字読み!$A$2:$O$502,7,0)=0,\"\",VLOOKUP(N226,漢字読み!$A$2:$O$502,7,0)))","v":""},{"$f":"IF(O226=\"\",\"\",IF(VLOOKUP(O226,漢字読み!$A$2:$O$502,7,0)=0,\"\",VLOOKUP(O226,漢字読み!$A$2:$O$502,7,0)))","v":""},{"$f":"IF(P226=\"\",\"\",IF(VLOOKUP(P226,漢字読み!$A$2:$O$502,7,0)=0,\"\",VLOOKUP(P226,漢字読み!$A$2:$O$502,7,0)))","v":"む"},{"$f":"IF(Q226=\"\",\"\",IF(VLOOKUP(Q226,漢字読み!$A$2:$O$502,7,0)=0,\"\",VLOOKUP(Q226,漢字読み!$A$2:$O$502,7,0)))","v":""},{"$f":"IF(R226=\"\",\"\",IF(VLOOKUP(R226,漢字読み!$A$2:$O$502,7,0)=0,\"\",VLOOKUP(R226,漢字読み!$A$2:$O$502,7,0)))","v":"う"},{"$f":"IF(S226=\"\",\"\",IF(VLOOKUP(S226,漢字読み!$A$2:$O$502,7,0)=0,\"\",VLOOKUP(S226,漢字読み!$A$2:$O$502,7,0)))","v":""},{"$f":"IF(T226=\"\",\"\",IF(VLOOKUP(T226,漢字読み!$A$2:$O$502,7,0)=0,\"\",VLOOKUP(T226,漢字読み!$A$2:$O$502,7,0)))","v":""},null,null,"和歌山県教育委員会"]
[{"$f":"A221","v":46},92,173,206,137,71,27,32,48,47,62,54,9,133,186,93,135,150,41,44]
["⑳","⑲","⑱","⑰","⑯","⑮","⑭","⑬","⑫","⑪","⑩","⑨","⑧","⑦","⑥","⑤","④","③","②","①","次の［　　　　］の部分の漢字には読みがなをひらがなで書き、カタカナは漢字に直しなさい。",12,"「漢字の博士検定試験」練習問題　"]
[{"$f":"IF(A231=\"\",\"\",VLOOKUP(A231,漢字書き!$A$2:$N$506,6,0))","v":"草が［ネ］をはる"},{"$f":"IF(B231=\"\",\"\",VLOOKUP(B231,漢字書き!$A$2:$N$506,6,0))","v":"話題に［ト］り上げる"},{"$f":"IF(C231=\"\",\"\",VLOOKUP(C231,漢字書き!$A$2:$N$506,6,0))","v":"走る［ハヤ］さ"},{"$f":"IF(D231=\"\",\"\",VLOOKUP(D231,漢字書き!$A$2:$N$506,6,0))","v":"［デンチュウ］のかげ"},{"$f":"IF(E231=\"\",\"\",VLOOKUP(E231,漢字書き!$A$2:$N$506,6,0))","v":"車に［ノ］せる"},{"$f":"IF(F231=\"\",\"\",VLOOKUP(F231,漢字書き!$A$2:$N$506,6,0))","v":"道ろ［コウジ］"},{"$f":"IF(G231=\"\",\"\",VLOOKUP(G231,漢字書き!$A$2:$N$506,6,0))","v":"広島［ケン］の町"},{"$f":"IF(H231=\"\",\"\",VLOOKUP(H231,漢字書き!$A$2:$N$506,6,0))","v":"白鳥の［ミズウミ］"},{"$f":"IF(I231=\"\",\"\",VLOOKUP(I231,漢字書き!$A$2:$N$506,6,0))","v":"［マツ］りにさんかする"},{"$f":"IF(J231=\"\",\"\",VLOOKUP(J231,漢字書き!$A$2:$N$506,6,0))","v":"［ブンカサイ］へのさんか"},{"$f":"IF(K231=\"\",\"\",VLOOKUP(K231,漢字読み!$A$2:$O$506,6,0))","v":"相手を［指名］する"},{"$f":"IF(L231=\"\",\"\",VLOOKUP(L231,漢字読み!$A$2:$O$506,6,0))","v":"［天使］が下りてくる"},{"$f":"IF(M231=\"\",\"\",VLOOKUP(M231,漢字読み!$A$2:$O$506,6,0))","v":"［道具］を使う"},{"$f":"IF(N231=\"\",\"\",VLOOKUP(N231,漢字読み!$A$2:$O$506,6,0))","v":"森林の［植］ぶつ"},{"$f":"IF(O231=\"\",\"\",VLOOKUP(O231,漢字読み!$A$2:$O$506,6,0))","v":"ピッチャーを［代］える"},{"$f":"IF(P231=\"\",\"\",VLOOKUP(P231,漢字読み!$A$2:$O$506,6,0))","v":"テレビの［取］ざい"},{"$f":"IF(Q231=\"\",\"\",VLOOKUP(Q231,漢字読み!$A$2:$O$506,6,0))","v":"一言［申］し上げる"},{"$f":"IF(R231=\"\",\"\",VLOOKUP(R231,漢字読み!$A$2:$O$506,6,0))","v":"［世界］の子どもたち"},{"$f":"IF(S231=\"\",\"\",VLOOKUP(S231,漢字読み!$A$2:$O$506,6,0))","v":"バスの［一号］車"},{"$f":"IF(T231=\"\",\"\",VLOOKUP(T231,漢字読み!$A$2:$O$506,6,0))","v":"［根］をはる"},null,"級"]
[{"$f":"IF(A$11=\"\",\"\",VLOOKUP(A231,漢字書き!$A$2:$O$506,8,0))","v":"根"},{"$f":"IF(B$11=\"\",\"\",VLOOKUP(B231,漢字書き!$A$2:$O$506,8,0))","v":"取"},{"$f":"IF(C$11=\"\",\"\",VLOOKUP(C231,漢字書き!$A$2:$O$506,8,0))","v":"速"},{"$f":"IF(D$11=\"\",\"\",VLOOKUP(D231,漢字書き!$A$2:$O$506,8,0))","v":"電柱"},{"$f":"IF(E$11=\"\",\"\",VLOOKUP(E231,漢字書き!$A$2:$O$506,8,0))","v":"乗"},{"$f":"IF(F$11=\"\",\"\",VLOOKUP(F231,漢字書き!$A$2:$O$506,8,0))","v":"工事"},{"$f":"IF(G$11=\"\",\"\",VLOOKUP(G231,漢字書き!$A$2:$O$506,8,0))","v":"県"},{"$f":"IF(H$11=\"\",\"\",VLOOKUP(H231,漢字書き!$A$2:$O$506,8,0))","v":"湖"},{"$f":"IF(I$11=\"\",\"\",VLOOKUP(I231,漢字書き!$A$2:$O$506,8,0))","v":"祭"},{"$f":"IF(J$11=\"\",\"\",VLOOKUP(J231,漢字書き!$A$2:$O$506,8,0))","v":"文化祭"},{"$f":"IF(K$11=\"\",\"\",VLOOKUP(K231,漢字読み!$A$2:$O$506,8,0))","v":"しめい"},{"$f":"IF(L$11=\"\",\"\",VLOOKUP(L231,漢字読み!$A$2:$O$506,8,0))","v":"てんし"},{"$f":"IF(M$11=\"\",\"\",VLOOKUP(M231,漢字読み!$A$2:$O$506,8,0))","v":"どうぐ"},{"$f":"IF(N$11=\"\",\"\",VLOOKUP(N231,漢字読み!$A$2:$O$506,8,0))","v":"しょく"},{"$f":"IF(O$11=\"\",\"\",VLOOKUP(O231,漢字読み!$A$2:$O$506,8,0))","v":"か"},{"$f":"IF(P$11=\"\",\"\",VLOOKUP(P231,漢字読み!$A$2:$O$506,8,0))","v":"しゅ"},{"$f":"IF(Q$11=\"\",\"\",VLOOKUP(Q231,漢字読み!$A$2:$O$506,8,0))","v":"もう"},{"$f":"IF(R$11=\"\",\"\",VLOOKUP(R231,漢字読み!$A$2:$O$506,8,0))","v":"せかい"},{"$f":"IF(S$11=\"\",\"\",VLOOKUP(S231,漢字読み!$A$2:$O$506,8,0))","v":"いちごう"},{"$f":"IF(T$11=\"\",\"\",VLOOKUP(T231,漢字読み!$A$2:$O$506,8,0))","v":"ね"},null,"名前"]
[{"$f":"IF(A231=\"\",\"\",IF(VLOOKUP(A231,漢字書き!$A$2:$N$502,7,0)=0,\"\",VLOOKUP(A231,漢字書き!$A$2:$N$502,7,0)))","v":""},{"$f":"IF(B231=\"\",\"\",IF(VLOOKUP(B231,漢字書き!$A$2:$N$502,7,0)=0,\"\",VLOOKUP(B231,漢字書き!$A$2:$N$502,7,0)))","v":"り"},{"$f":"IF(C231=\"\",\"\",IF(VLOOKUP(C231,漢字書き!$A$2:$N$502,7,0)=0,\"\",VLOOKUP(C231,漢字書き!$A$2:$N$502,7,0)))","v":"さ"},{"$f":"IF(D231=\"\",\"\",IF(VLOOKUP(D231,漢字書き!$A$2:$N$502,7,0)=0,\"\",VLOOKUP(D231,漢字書き!$A$2:$N$502,7,0)))","v":""},{"$f":"IF(E231=\"\",\"\",IF(VLOOKUP(E231,漢字書き!$A$2:$N$502,7,0)=0,\"\",VLOOKUP(E231,漢字書き!$A$2:$N$502,7,0)))","v":"せる"},{"$f":"IF(F231=\"\",\"\",IF(VLOOKUP(F231,漢字書き!$A$2:$N$502,7,0)=0,\"\",VLOOKUP(F231,漢字書き!$A$2:$N$502,7,0)))","v":""},{"$f":"IF(G231=\"\",\"\",IF(VLOOKUP(G231,漢字書き!$A$2:$N$502,7,0)=0,\"\",VLOOKUP(G231,漢字書き!$A$2:$N$502,7,0)))","v":""},{"$f":"IF(H231=\"\",\"\",IF(VLOOKUP(H231,漢字書き!$A$2:$N$502,7,0)=0,\"\",VLOOKUP(H231,漢字書き!$A$2:$N$502,7,0)))","v":""},{"$f":"IF(I231=\"\",\"\",IF(VLOOKUP(I231,漢字書き!$A$2:$N$502,7,0)=0,\"\",VLOOKUP(I231,漢字書き!$A$2:$N$502,7,0)))","v":"り"},{"$f":"IF(J231=\"\",\"\",IF(VLOOKUP(J231,漢字書き!$A$2:$N$502,7,0)=0,\"\",VLOOKUP(J231,漢字書き!$A$2:$N$502,7,0)))","v":""},{"$f":"IF(K231=\"\",\"\",IF(VLOOKUP(K231,漢字読み!$A$2:$O$502,7,0)=0,\"\",VLOOKUP(K231,漢字読み!$A$2:$O$502,7,0)))","v":"する"},{"$f":"IF(L231=\"\",\"\",IF(VLOOKUP(L231,漢字読み!$A$2:$O$502,7,0)=0,\"\",VLOOKUP(L231,漢字読み!$A$2:$O$502,7,0)))","v":""},{"$f":"IF(M231=\"\",\"\",IF(VLOOKUP(M231,漢字読み!$A$2:$O$502,7,0)=0,\"\",VLOOKUP(M231,漢字読み!$A$2:$O$502,7,0)))","v":""},{"$f":"IF(N231=\"\",\"\",IF(VLOOKUP(N231,漢字読み!$A$2:$O$502,7,0)=0,\"\",VLOOKUP(N231,漢字読み!$A$2:$O$502,7,0)))","v":"ぶつ"},{"$f":"IF(O231=\"\",\"\",IF(VLOOKUP(O231,漢字読み!$A$2:$O$502,7,0)=0,\"\",VLOOKUP(O231,漢字読み!$A$2:$O$502,7,0)))","v":"える"},{"$f":"IF(P231=\"\",\"\",IF(VLOOKUP(P231,漢字読み!$A$2:$O$502,7,0)=0,\"\",VLOOKUP(P231,漢字読み!$A$2:$O$502,7,0)))","v":"ざい"},{"$f":"IF(Q231=\"\",\"\",IF(VLOOKUP(Q231,漢字読み!$A$2:$O$502,7,0)=0,\"\",VLOOKUP(Q231,漢字読み!$A$2:$O$502,7,0)))","v":"し"},{"$f":"IF(R231=\"\",\"\",IF(VLOOKUP(R231,漢字読み!$A$2:$O$502,7,0)=0,\"\",VLOOKUP(R231,漢字読み!$A$2:$O$502,7,0)))","v":""},{"$f":"IF(S231=\"\",\"\",IF(VLOOKUP(S231,漢字読み!$A$2:$O$502,7,0)=0,\"\",VLOOKUP(S231,漢字読み!$A$2:$O$502,7,0)))","v":"車"},{"$f":"IF(T231=\"\",\"\",IF(VLOOKUP(T231,漢字読み!$A$2:$O$502,7,0)=0,\"\",VLOOKUP(T231,漢字読み!$A$2:$O$502,7,0)))","v":""},null,null,"和歌山県教育委員会"]
[{"$f":"A226","v":117},197,87,60,225,1,0,0,0,0,103,231,67,185,27,110,30,57,109,15]
["⑳","⑲","⑱","⑰","⑯","⑮","⑭","⑬","⑫","⑪","⑩","⑨","⑧","⑦","⑥","⑤","④","③","②","①","次の［　　　　］の部分の漢字には読みがなをひらがなで書き、カタカナは漢字に直しなさい。",12,"「漢字の博士検定試験」練習問題　"]
[{"$f":"IF(A236=\"\",\"\",VLOOKUP(A236,漢字書き!$A$2:$N$506,6,0))","v":"［シュクダイ］をすませる"},{"$f":"IF(B236=\"\",\"\",VLOOKUP(B236,漢字書き!$A$2:$N$506,6,0))","v":"兄に［ソウダン］する"},{"$f":"IF(C236=\"\",\"\",VLOOKUP(C236,漢字書き!$A$2:$N$506,6,0))","v":"池の［ヌシ］のなまず"},{"$f":"IF(D236=\"\",\"\",VLOOKUP(D236,漢字書き!$A$2:$N$506,6,0))","v":"動きを［シ］じする"},{"$f":"IF(E236=\"\",\"\",VLOOKUP(E236,漢字書き!$A$2:$N$506,6,0))","v":"［テツ］のなべ"},{"$f":"IF(F236=\"\",\"\",VLOOKUP(F236,漢字書き!$A$2:$N$506,6,0))","v":"［ギン］メダルをとる"},{"$f":"IF(G236=\"\",\"\",VLOOKUP(G236,漢字書き!$A$2:$N$506,6,0))","v":{"$error":"#N/A"}},{"$f":"IF(H236=\"\",\"\",VLOOKUP(H236,漢字書き!$A$2:$N$506,6,0))","v":{"$error":"#N/A"}},{"$f":"IF(I236=\"\",\"\",VLOOKUP(I236,漢字書き!$A$2:$N$506,6,0))","v":{"$error":"#N/A"}},{"$f":"IF(J236=\"\",\"\",VLOOKUP(J236,漢字書き!$A$2:$N$506,6,0))","v":{"$error":"#N/A"}},{"$f":"IF(K236=\"\",\"\",VLOOKUP(K236,漢字読み!$A$2:$O$506,6,0))","v":"ピアノを［習］う"},{"$f":"IF(L236=\"\",\"\",VLOOKUP(L236,漢字読み!$A$2:$O$506,6,0))","v":"ボールが［転］がる"},{"$f":"IF(M236=\"\",\"\",VLOOKUP(M236,漢字読み!$A$2:$O$506,6,0))","v":"にゅう［歯］が生える"},{"$f":"IF(N236=\"\",\"\",VLOOKUP(N236,漢字読み!$A$2:$O$506,6,0))","v":"君が［代］を歌う"},{"$f":"IF(O236=\"\",\"\",VLOOKUP(O236,漢字読み!$A$2:$O$506,6,0))","v":"［県立］体育館"},{"$f":"IF(P236=\"\",\"\",VLOOKUP(P236,漢字読み!$A$2:$O$506,6,0))","v":"マンションに［住］む"},{"$f":"IF(Q236=\"\",\"\",VLOOKUP(Q236,漢字読み!$A$2:$O$506,6,0))","v":"［湖上］の船"},{"$f":"IF(R236=\"\",\"\",VLOOKUP(R236,漢字読み!$A$2:$O$506,6,0))","v":"運動場を［使］う"},{"$f":"IF(S236=\"\",\"\",VLOOKUP(S236,漢字読み!$A$2:$O$506,6,0))","v":"［住所］と名前を書く"},{"$f":"IF(T236=\"\",\"\",VLOOKUP(T236,漢字読み!$A$2:$O$506,6,0))","v":"図書［係］になる"},null,"級"]
[{"$f":"IF(A$16=\"\",\"\",VLOOKUP(A236,漢字書き!$A$2:$O$506,8,0))","v":"宿題"},{"$f":"IF(B$16=\"\",\"\",VLOOKUP(B236,漢字書き!$A$2:$O$506,8,0))","v":"相談"},{"$f":"IF(C$16=\"\",\"\",VLOOKUP(C236,漢字書き!$A$2:$O$506,8,0))","v":"主"},{"$f":"IF(D$16=\"\",\"\",VLOOKUP(D236,漢字書き!$A$2:$O$506,8,0))","v":"指"},{"$f":"IF(E$16=\"\",\"\",VLOOKUP(E236,漢字書き!$A$2:$O$506,8,0))","v":"鉄"},{"$f":"IF(F$16=\"\",\"\",VLOOKUP(F236,漢字書き!$A$2:$O$506,8,0))","v":"銀"},{"$f":"IF(G$16=\"\",\"\",VLOOKUP(G236,漢字書き!$A$2:$O$506,8,0))","v":{"$error":"#N/A"}},{"$f":"IF(H$16=\"\",\"\",VLOOKUP(H236,漢字書き!$A$2:$O$506,8,0))","v":{"$error":"#N/A"}},{"$f":"IF(I$16=\"\",\"\",VLOOKUP(I236,漢字書き!$A$2:$O$506,8,0))","v":{"$error":"#N/A"}},{"$f":"IF(J$16=\"\",\"\",VLOOKUP(J236,漢字書き!$A$2:$O$506,8,0))","v":{"$error":"#N/A"}},{"$f":"IF(K$16=\"\",\"\",VLOOKUP(K236,漢字読み!$A$2:$O$506,8,0))","v":"なら"},{"$f":"IF(L$16=\"\",\"\",VLOOKUP(L236,漢字読み!$A$2:$O$506,8,0))","v":"ころ"},{"$f":"IF(M$16=\"\",\"\",VLOOKUP(M236,漢字読み!$A$2:$O$506,8,0))","v":"し"},{"$f":"IF(N$16=\"\",\"\",VLOOKUP(N236,漢字読み!$A$2:$O$506,8,0))","v":"よ"},{"$f":"IF(O$16=\"\",\"\",VLOOKUP(O236,漢字読み!$A$2:$O$506,8,0))","v":"けんりつ"},{"$f":"IF(P$16=\"\",\"\",VLOOKUP(P236,漢字読み!$A$2:$O$506,8,0))","v":"す"},{"$f":"IF(Q$16=\"\",\"\",VLOOKUP(Q236,漢字読み!$A$2:$O$506,8,0))","v":"こじょう"},{"$f":"IF(R$16=\"\",\"\",VLOOKUP(R236,漢字読み!$A$2:$O$506,8,0))","v":"つか"},{"$f":"IF(S$16=\"\",\"\",VLOOKUP(S236,漢字読み!$A$2:$O$506,8,0))","v":"じゅうしょ"},{"$f":"IF(T$16=\"\",\"\",VLOOKUP(T236,漢字読み!$A$2:$O$506,8,0))","v":"がかり"},null,"名前"]
[{"$f":"IF(A236=\"\",\"\",IF(VLOOKUP(A236,漢字書き!$A$2:$N$502,7,0)=0,\"\",VLOOKUP(A236,漢字書き!$A$2:$N$502,7,0)))","v":""},{"$f":"IF(B236=\"\",\"\",IF(VLOOKUP(B236,漢字書き!$A$2:$N$502,7,0)=0,\"\",VLOOKUP(B236,漢字書き!$A$2:$N$502,7,0)))","v":"する"},{"$f":"IF(C236=\"\",\"\",IF(VLOOKUP(C236,漢字書き!$A$2:$N$502,7,0)=0,\"\",VLOOKUP(C236,漢字書き!$A$2:$N$502,7,0)))","v":""},{"$f":"IF(D236=\"\",\"\",IF(VLOOKUP(D236,漢字書き!$A$2:$N$502,7,0)=0,\"\",VLOOKUP(D236,漢字書き!$A$2:$N$502,7,0)))","v":"じ"},{"$f":"IF(E236=\"\",\"\",IF(VLOOKUP(E236,漢字書き!$A$2:$N$502,7,0)=0,\"\",VLOOKUP(E236,漢字書き!$A$2:$N$502,7,0)))","v":""},{"$f":"IF(F236=\"\",\"\",IF(VLOOKUP(F236,漢字書き!$A$2:$N$502,7,0)=0,\"\",VLOOKUP(F236,漢字書き!$A$2:$N$502,7,0)))","v":"メダル"},{"$f":"IF(G236=\"\",\"\",IF(VLOOKUP(G236,漢字書き!$A$2:$N$502,7,0)=0,\"\",VLOOKUP(G236,漢字書き!$A$2:$N$502,7,0)))","v":{"$error":"#N/A"}},{"$f":"IF(H236=\"\",\"\",IF(VLOOKUP(H236,漢字書き!$A$2:$N$502,7,0)=0,\"\",VLOOKUP(H236,漢字書き!$A$2:$N$502,7,0)))","v":{"$error":"#N/A"}},{"$f":"IF(I236=\"\",\"\",IF(VLOOKUP(I236,漢字書き!$A$2:$N$502,7,0)=0,\"\",VLOOKUP(I236,漢字書き!$A$2:$N$502,7,0)))","v":{"$error":"#N/A"}},{"$f":"IF(J236=\"\",\"\",IF(VLOOKUP(J236,漢字書き!$A$2:$N$502,7,0)=0,\"\",VLOOKUP(J236,漢字書き!$A$2:$N$502,7,0)))","v":{"$error":"#N/A"}},{"$f":"IF(K236=\"\",\"\",IF(VLOOKUP(K236,漢字読み!$A$2:$O$502,7,0)=0,\"\",VLOOKUP(K236,漢字読み!$A$2:$O$502,7,0)))","v":"う"},{"$f":"IF(L236=\"\",\"\",IF(VLOOKUP(L236,漢字読み!$A$2:$O$502,7,0)=0,\"\",VLOOKUP(L236,漢字読み!$A$2:$O$502,7,0)))","v":"がる"},{"$f":"IF(M236=\"\",\"\",IF(VLOOKUP(M236,漢字読み!$A$2:$O$502,7,0)=0,\"\",VLOOKUP(M236,漢字読み!$A$2:$O$502,7,0)))","v":""},{"$f":"IF(N236=\"\",\"\",IF(VLOOKUP(N236,漢字読み!$A$2:$O$502,7,0)=0,\"\",VLOOKUP(N236,漢字読み!$A$2:$O$502,7,0)))","v":""},{"$f":"IF(O236=\"\",\"\",IF(VLOOKUP(O236,漢字読み!$A$2:$O$502,7,0)=0,\"\",VLOOKUP(O236,漢字読み!$A$2:$O$502,7,0)))","v":""},{"$f":"IF(P236=\"\",\"\",IF(VLOOKUP(P236,漢字読み!$A$2:$O$502,7,0)=0,\"\",VLOOKUP(P236,漢字読み!$A$2:$O$502,7,0)))","v":"む"},{"$f":"IF(Q236=\"\",\"\",IF(VLOOKUP(Q236,漢字読み!$A$2:$O$502,7,0)=0,\"\",VLOOKUP(Q236,漢字読み!$A$2:$O$502,7,0)))","v":""},{"$f":"IF(R236=\"\",\"\",IF(VLOOKUP(R236,漢字読み!$A$2:$O$502,7,0)=0,\"\",VLOOKUP(R236,漢字読み!$A$2:$O$502,7,0)))","v":"う"},{"$f":"IF(S236=\"\",\"\",IF(VLOOKUP(S236,漢字読み!$A$2:$O$502,7,0)=0,\"\",VLOOKUP(S236,漢字読み!$A$2:$O$502,7,0)))","v":""},{"$f":"IF(T236=\"\",\"\",IF(VLOOKUP(T236,漢字読み!$A$2:$O$502,7,0)=0,\"\",VLOOKUP(T236,漢字読み!$A$2:$O$502,7,0)))","v":""},null,null,"和歌山県教育委員会"]
[{"$f":"INDIRECT(\"'関数（書き）'!C\" & COLUMN(B$1)+SUM($AD$2:$AD242))","v":0},{"$f":"INDIRECT(\"'関数（書き）'!C\" & COLUMN(C$1)+SUM($AD$2:$AD242))","v":0},{"$f":"INDIRECT(\"'関数（書き）'!C\" & COLUMN(D$1)+SUM($AD$2:$AD242))","v":0},{"$f":"INDIRECT(\"'関数（書き）'!C\" & COLUMN(E$1)+SUM($AD$2:$AD242))","v":0},{"$f":"INDIRECT(\"'関数（書き）'!C\" & COLUMN(F$1)+SUM($AD$2:$AD242))","v":0},{"$f":"INDIRECT(\"'関数（書き）'!C\" & COLUMN(G$1)+SUM($AD$2:$AD242))","v":0},{"$f":"INDIRECT(\"'関数（書き）'!C\" & COLUMN(H$1)+SUM($AD$2:$AD242))","v":0},{"$f":"INDIRECT(\"'関数（書き）'!C\" & COLUMN(I$1)+SUM($AD$2:$AD242))","v":0},{"$f":"INDIRECT(\"'関数（書き）'!C\" & COLUMN(J$1)+SUM($AD$2:$AD242))","v":0},{"$f":"INDIRECT(\"'関数（書き）'!C\" & COLUMN(K$1)+SUM($AD$2:$AD242))","v":0},{"$f":"INDIRECT(\"'関数（読み）'!C\" & COLUMN(B$1)+SUM($AD$2:$AD242))","v":165},{"$f":"INDIRECT(\"'関数（読み）'!C\" & COLUMN(C$1)+SUM($AD$2:$AD242))","v":99},{"$f":"INDIRECT(\"'関数（読み）'!C\" & COLUMN(D$1)+SUM($AD$2:$AD242))","v":228},{"$f":"INDIRECT(\"'関数（読み）'!C\" & COLUMN(E$1)+SUM($AD$2:$AD242))","v":0},{"$f":"INDIRECT(\"'関数（読み）'!C\" & COLUMN(F$1)+SUM($AD$2:$AD242))","v":0},{"$f":"INDIRECT(\"'関数（読み）'!C\" & COLUMN(G$1)+SUM($AD$2:$AD242))","v":0},{"$f":"INDIRECT(\"'関数（読み）'!C\" & COLUMN(H$1)+SUM($AD$2:$AD242))","v":0},{"$f":"INDIRECT(\"'関数（読み）'!C\" & COLUMN(I$1)+SUM($AD$2:$AD242))","v":0},{"$f":"INDIRECT(\"'関数（読み）'!C\" & COLUMN(J$1)+SUM($AD$2:$AD242))","v":0},{"$f":"INDIRECT(\"'関数（読み）'!C\" & COLUMN(K$1)+SUM($AD$2:$AD242))","v":0}]
["⑳","⑲","⑱","⑰","⑯","⑮","⑭","⑬","⑫","⑪","⑩","⑨","⑧","⑦","⑥","⑤","④","③","②","①","次の［　　　　］の部分の漢字には読みがなをひらがなで書き、カタカナは漢字に直しなさい。",12,"「漢字の博士検定試験」練習問題　",null,null,null,null,null,"←",10,"問",{"$f":"AH227+1","v":241},"～",{"$f":"SUM($AD$2:$AD242)+10","v":250},"問まで",{"$f":"COUNTIF($A$1:$T$200,T243)","v":0}]
[{"$f":"IF(A241=\"\",\"\",VLOOKUP(A241,漢字書き!$A$2:$N$506,6,0))","v":{"$error":"#N/A"}},{"$f":"IF(B241=\"\",\"\",VLOOKUP(B241,漢字書き!$A$2:$N$506,6,0))","v":{"$error":"#N/A"}},{"$f":"IF(C241=\"\",\"\",VLOOKUP(C241,漢字書き!$A$2:$N$506,6,0))","v":{"$error":"#N/A"}},{"$f":"IF(D241=\"\",\"\",VLOOKUP(D241,漢字書き!$A$2:$N$506,6,0))","v":{"$error":"#N/A"}},{"$f":"IF(E241=\"\",\"\",VLOOKUP(E241,漢字書き!$A$2:$N$506,6,0))","v":{"$error":"#N/A"}},{"$f":"IF(F241=\"\",\"\",VLOOKUP(F241,漢字書き!$A$2:$N$506,6,0))","v":{"$error":"#N/A"}},{"$f":"IF(G241=\"\",\"\",VLOOKUP(G241,漢字書き!$A$2:$N$506,6,0))","v":{"$error":"#N/A"}},{"$f":"IF(H241=\"\",\"\",VLOOKUP(H241,漢字書き!$A$2:$N$506,6,0))","v":{"$error":"#N/A"}},{"$f":"IF(I241=\"\",\"\",VLOOKUP(I241,漢字書き!$A$2:$N$506,6,0))","v":{"$error":"#N/A"}},{"$f":"IF(J241=\"\",\"\",VLOOKUP(J241,漢字書き!$A$2:$N$506,6,0))","v":{"$error":"#N/A"}},{"$f":"IF(K241=\"\",\"\",VLOOKUP(K241,漢字読み!$A$2:$O$506,6,0))","v":"［休息］をとる"},{"$f":"IF(L241=\"\",\"\",VLOOKUP(L241,漢字読み!$A$2:$O$506,6,0))","v":"さいふを［拾］う"},{"$f":"IF(M241=\"\",\"\",VLOOKUP(M241,漢字読み!$A$2:$O$506,6,0))","v":"［鉄橋］をわたる"},{"$f":"IF(N241=\"\",\"\",VLOOKUP(N241,漢字読み!$A$2:$O$506,6,0))","v":{"$error":"#N/A"}},{"$f":"IF(O241=\"\",\"\",VLOOKUP(O241,漢字読み!$A$2:$O$506,6,0))","v":{"$error":"#N/A"}},{"$f":"IF(P241=\"\",\"\",VLOOKUP(P241,漢字読み!$A$2:$O$506,6,0))","v":{"$error":"#N/A"}},{"$f":"IF(Q241=\"\",\"\",VLOOKUP(Q241,漢字読み!$A$2:$O$506,6,0))","v":{"$error":"#N/A"}},{"$f":"IF(R241=\"\",\"\",VLOOKUP(R241,漢字読み!$A$2:$O$506,6,0))","v":{"$error":"#N/A"}},{"$f":"IF(S241=\"\",\"\",VLOOKUP(S241,漢字読み!$A$2:$O$506,6,0))","v":{"$error":"#N/A"}},{"$f":"IF(T241=\"\",\"\",VLOOKUP(T241,漢字読み!$A$2:$O$506,6,0))","v":{"$error":"#N/A"}},null,"級"]
[null,null,null,null,null,null,null,null,null,null,null,null,null,null,null,null,null,null,null,null,null,"名前"]
[{"$f":"IF(A241=\"\",\"\",IF(VLOOKUP(A241,漢字書き!$A$2:$N$502,7,0)=0,\"\",VLOOKUP(A241,漢字書き!$A$2:$N$502,7,0)))","v":{"$error":"#N/A"}},{"$f":"IF(B241=\"\",\"\",IF(VLOOKUP(B241,漢字書き!$A$2:$N$502,7,0)=0,\"\",VLOOKUP(B241,漢字書き!$A$2:$N$502,7,0)))","v":{"$error":"#N/A"}},{"$f":"IF(C241=\"\",\"\",IF(VLOOKUP(C241,漢字書き!$A$2:$N$502,7,0)=0,\"\",VLOOKUP(C241,漢字書き!$A$2:$N$502,7,0)))","v":{"$error":"#N/A"}},{"$f":"IF(D241=\"\",\"\",IF(VLOOKUP(D241,漢字書き!$A$2:$N$502,7,0)=0,\"\",VLOOKUP(D241,漢字書き!$A$2:$N$502,7,0)))","v":{"$error":"#N/A"}},{"$f":"IF(E241=\"\",\"\",IF(VLOOKUP(E241,漢字書き!$A$2:$N$502,7,0)=0,\"\",VLOOKUP(E241,漢字書き!$A$2:$N$502,7,0)))","v":{"$error":"#N/A"}},{"$f":"IF(F241=\"\",\"\",IF(VLOOKUP(F241,漢字書き!$A$2:$N$502,7,0)=0,\"\",VLOOKUP(F241,漢字書き!$A$2:$N$502,7,0)))","v":{"$error":"#N/A"}},{"$f":"IF(G241=\"\",\"\",IF(VLOOKUP(G241,漢字書き!$A$2:$N$502,7,0)=0,\"\",VLOOKUP(G241,漢字書き!$A$2:$N$502,7,0)))","v":{"$error":"#N/A"}},{"$f":"IF(H241=\"\",\"\",IF(VLOOKUP(H241,漢字書き!$A$2:$N$502,7,0)=0,\"\",VLOOKUP(H241,漢字書き!$A$2:$N$502,7,0)))","v":{"$error":"#N/A"}},{"$f":"IF(I241=\"\",\"\",IF(VLOOKUP(I241,漢字書き!$A$2:$N$502,7,0)=0,\"\",VLOOKUP(I241,漢字書き!$A$2:$N$502,7,0)))","v":{"$error":"#N/A"}},{"$f":"IF(J241=\"\",\"\",IF(VLOOKUP(J241,漢字書き!$A$2:$N$502,7,0)=0,\"\",VLOOKUP(J241,漢字書き!$A$2:$N$502,7,0)))","v":{"$error":"#N/A"}},{"$f":"IF(K241=\"\",\"\",IF(VLOOKUP(K241,漢字読み!$A$2:$O$502,7,0)=0,\"\",VLOOKUP(K241,漢字読み!$A$2:$O$502,7,0)))","v":""},{"$f":"IF(L241=\"\",\"\",IF(VLOOKUP(L241,漢字読み!$A$2:$O$502,7,0)=0,\"\",VLOOKUP(L241,漢字読み!$A$2:$O$502,7,0)))","v":"う"},{"$f":"IF(M241=\"\",\"\",IF(VLOOKUP(M241,漢字読み!$A$2:$O$502,7,0)=0,\"\",VLOOKUP(M241,漢字読み!$A$2:$O$502,7,0)))","v":""},{"$f":"IF(N241=\"\",\"\",IF(VLOOKUP(N241,漢字読み!$A$2:$O$502,7,0)=0,\"\",VLOOKUP(N241,漢字読み!$A$2:$O$502,7,0)))","v":{"$error":"#N/A"}},{"$f":"IF(O241=\"\",\"\",IF(VLOOKUP(O241,漢字読み!$A$2:$O$502,7,0)=0,\"\",VLOOKUP(O241,漢字読み!$A$2:$O$502,7,0)))","v":{"$error":"#N/A"}},{"$f":"IF(P241=\"\",\"\",IF(VLOOKUP(P241,漢字読み!$A$2:$O$502,7,0)=0,\"\",VLOOKUP(P241,漢字読み!$A$2:$O$502,7,0)))","v":{"$error":"#N/A"}},{"$f":"IF(Q241=\"\",\"\",IF(VLOOKUP(Q241,漢字読み!$A$2:$O$502,7,0)=0,\"\",VLOOKUP(Q241,漢字読み!$A$2:$O$502,7,0)))","v":{"$error":"#N/A"}},{"$f":"IF(R241=\"\",\"\",IF(VLOOKUP(R241,漢字読み!$A$2:$O$502,7,0)=0,\"\",VLOOKUP(R241,漢字読み!$A$2:$O$502,7,0)))","v":{"$error":"#N/A"}},{"$f":"IF(S241=\"\",\"\",IF(VLOOKUP(S241,漢字読み!$A$2:$O$502,7,0)=0,\"\",VLOOKUP(S241,漢字読み!$A$2:$O$502,7,0)))","v":{"$error":"#N/A"}},{"$f":"IF(T241=\"\",\"\",IF(VLOOKUP(T241,漢字読み!$A$2:$O$502,7,0)=0,\"\",VLOOKUP(T241,漢字読み!$A$2:$O$502,7,0)))","v":{"$error":"#N/A"}},null,null,"和歌山県教育委員会"]
[{"$f":"INDIRECT(\"'関数（書き）'!C\" & COLUMN(B$1)+SUM($AD$2:$AD247))","v":0},{"$f":"INDIRECT(\"'関数（書き）'!C\" & COLUMN(C$1)+SUM($AD$2:$AD247))","v":0},{"$f":"INDIRECT(\"'関数（書き）'!C\" & COLUMN(D$1)+SUM($AD$2:$AD247))","v":0},{"$f":"INDIRECT(\"'関数（書き）'!C\" & COLUMN(E$1)+SUM($AD$2:$AD247))","v":0},{"$f":"INDIRECT(\"'関数（書き）'!C\" & COLUMN(F$1)+SUM($AD$2:$AD247))","v":0},{"$f":"INDIRECT(\"'関数（書き）'!C\" & COLUMN(G$1)+SUM($AD$2:$AD247))","v":0},{"$f":"INDIRECT(\"'関数（書き）'!C\" & COLUMN(H$1)+SUM($AD$2:$AD247))","v":0},{"$f":"INDIRECT(\"'関数（書き）'!C\" & COLUMN(I$1)+SUM($AD$2:$AD247))","v":0},{"$f":"INDIRECT(\"'関数（書き）'!C\" & COLUMN(J$1)+SUM($AD$2:$AD247))","v":0},{"$f":"INDIRECT(\"'関数（書き）'!C\" & COLUMN(K$1)+SUM($AD$2:$AD247))","v":0},{"$f":"INDIRECT(\"'関数（読み）'!C\" & COLUMN(B$1)+SUM($AD$2:$AD247))","v":0},{"$f":"INDIRECT(\"'関数（読み）'!C\" & COLUMN(C$1)+SUM($AD$2:$AD247))","v":0},{"$f":"INDIRECT(\"'関数（読み）'!C\" & COLUMN(D$1)+SUM($AD$2:$AD247))","v":0},{"$f":"INDIRECT(\"'関数（読み）'!C\" & COLUMN(E$1)+SUM($AD$2:$AD247))","v":0},{"$f":"INDIRECT(\"'関数（読み）'!C\" & COLUMN(F$1)+SUM($AD$2:$AD247))","v":0},{"$f":"INDIRECT(\"'関数（読み）'!C\" & COLUMN(G$1)+SUM($AD$2:$AD247))","v":0},{"$f":"INDIRECT(\"'関数（読み）'!C\" & COLUMN(H$1)+SUM($AD$2:$AD247))","v":0},{"$f":"INDIRECT(\"'関数（読み）'!C\" & COLUMN(I$1)+SUM($AD$2:$AD247))","v":0},{"$f":"INDIRECT(\"'関数（読み）'!C\" & COLUMN(J$1)+SUM($AD$2:$AD247))","v":0},{"$f":"INDIRECT(\"'関数（読み）'!C\" & COLUMN(K$1)+SUM($AD$2:$AD247))","v":0}]
["⑳","⑲","⑱","⑰","⑯","⑮","⑭","⑬","⑫","⑪","⑩","⑨","⑧","⑦","⑥","⑤","④","③","②","①","次の［　　　　］の部分の漢字には読みがなをひらがなで書き、カタカナは漢字に直しなさい。",12,"「漢字の博士検定試験」練習問題　",null,null,null,null,null,"←",10,"問",{"$f":"AH242+1","v":251},"～",{"$f":"SUM($AD$2:$AD247)+10","v":260},"問まで",{"$f":"COUNTIF($A$1:$T$200,T248)","v":0}]
[{"$f":"IF(A246=\"\",\"\",VLOOKUP(A246,漢字書き!$A$2:$N$506,6,0))","v":{"$error":"#N/A"}},{"$f":"IF(B246=\"\",\"\",VLOOKUP(B246,漢字書き!$A$2:$N$506,6,0))","v":{"$error":"#N/A"}},{"$f":"IF(C246=\"\",\"\",VLOOKUP(C246,漢字書き!$A$2:$N$506,6,0))","v":{"$error":"#N/A"}},{"$f":"IF(D246=\"\",\"\",VLOOKUP(D246,漢字書き!$A$2:$N$506,6,0))","v":{"$error":"#N/A"}},{"$f":"IF(E246=\"\",\"\",VLOOKUP(E246,漢字書き!$A$2:$N$506,6,0))","v":{"$error":"#N/A"}},{"$f":"IF(F246=\"\",\"\",VLOOKUP(F246,漢字書き!$A$2:$N$506,6,0))","v":{"$error":"#N/A"}},{"$f":"IF(G246=\"\",\"\",VLOOKUP(G246,漢字書き!$A$2:$N$506,6,0))","v":{"$error":"#N/A"}},{"$f":"IF(H246=\"\",\"\",VLOOKUP(H246,漢字書き!$A$2:$N$506,6,0))","v":{"$error":"#N/A"}},{"$f":"IF(I246=\"\",\"\",VLOOKUP(I246,漢字書き!$A$2:$N$506,6,0))","v":{"$error":"#N/A"}},{"$f":"IF(J246=\"\",\"\",VLOOKUP(J246,漢字書き!$A$2:$N$506,6,0))","v":{"$error":"#N/A"}},{"$f":"IF(K246=\"\",\"\",VLOOKUP(K246,漢字読み!$A$2:$O$506,6,0))","v":{"$error":"#N/A"}},{"$f":"IF(L246=\"\",\"\",VLOOKUP(L246,漢字読み!$A$2:$O$506,6,0))","v":{"$error":"#N/A"}},{"$f":"IF(M246=\"\",\"\",VLOOKUP(M246,漢字読み!$A$2:$O$506,6,0))","v":{"$error":"#N/A"}},{"$f":"IF(N246=\"\",\"\",VLOOKUP(N246,漢字読み!$A$2:$O$506,6,0))","v":{"$error":"#N/A"}},{"$f":"IF(O246=\"\",\"\",VLOOKUP(O246,漢字読み!$A$2:$O$506,6,0))","v":{"$error":"#N/A"}},{"$f":"IF(P246=\"\",\"\",VLOOKUP(P246,漢字読み!$A$2:$O$506,6,0))","v":{"$error":"#N/A"}},{"$f":"IF(Q246=\"\",\"\",VLOOKUP(Q246,漢字読み!$A$2:$O$506,6,0))","v":{"$error":"#N/A"}},{"$f":"IF(R246=\"\",\"\",VLOOKUP(R246,漢字読み!$A$2:$O$506,6,0))","v":{"$error":"#N/A"}},{"$f":"IF(S246=\"\",\"\",VLOOKUP(S246,漢字読み!$A$2:$O$506,6,0))","v":{"$error":"#N/A"}},{"$f":"IF(T246=\"\",\"\",VLOOKUP(T246,漢字読み!$A$2:$O$506,6,0))","v":{"$error":"#N/A"}},null,"級"]
[null,null,null,null,null,null,null,null,null,null,null,null,null,null,null,null,null,null,null,null,null,"名前"]
[{"$f":"IF(A246=\"\",\"\",IF(VLOOKUP(A246,漢字書き!$A$2:$N$502,7,0)=0,\"\",VLOOKUP(A246,漢字書き!$A$2:$N$502,7,0)))","v":{"$error":"#N/A"}},{"$f":"IF(B246=\"\",\"\",IF(VLOOKUP(B246,漢字書き!$A$2:$N$502,7,0)=0,\"\",VLOOKUP(B246,漢字書き!$A$2:$N$502,7,0)))","v":{"$error":"#N/A"}},{"$f":"IF(C246=\"\",\"\",IF(VLOOKUP(C246,漢字書き!$A$2:$N$502,7,0)=0,\"\",VLOOKUP(C246,漢字書き!$A$2:$N$502,7,0)))","v":{"$error":"#N/A"}},{"$f":"IF(D246=\"\",\"\",IF(VLOOKUP(D246,漢字書き!$A$2:$N$502,7,0)=0,\"\",VLOOKUP(D246,漢字書き!$A$2:$N$502,7,0)))","v":{"$error":"#N/A"}},{"$f":"IF(E246=\"\",\"\",IF(VLOOKUP(E246,漢字書き!$A$2:$N$502,7,0)=0,\"\",VLOOKUP(E246,漢字書き!$A$2:$N$502,7,0)))","v":{"$error":"#N/A"}},{"$f":"IF(F246=\"\",\"\",IF(VLOOKUP(F246,漢字書き!$A$2:$N$502,7,0)=0,\"\",VLOOKUP(F246,漢字書き!$A$2:$N$502,7,0)))","v":{"$error":"#N/A"}},{"$f":"IF(G246=\"\",\"\",IF(VLOOKUP(G246,漢字書き!$A$2:$N$502,7,0)=0,\"\",VLOOKUP(G246,漢字書き!$A$2:$N$502,7,0)))","v":{"$error":"#N/A"}},{"$f":"IF(H246=\"\",\"\",IF(VLOOKUP(H246,漢字書き!$A$2:$N$502,7,0)=0,\"\",VLOOKUP(H246,漢字書き!$A$2:$N$502,7,0)))","v":{"$error":"#N/A"}},{"$f":"IF(I246=\"\",\"\",IF(VLOOKUP(I246,漢字書き!$A$2:$N$502,7,0)=0,\"\",VLOOKUP(I246,漢字書き!$A$2:$N$502,7,0)))","v":{"$error":"#N/A"}},{"$f":"IF(J246=\"\",\"\",IF(VLOOKUP(J246,漢字書き!$A$2:$N$502,7,0)=0,\"\",VLOOKUP(J246,漢字書き!$A$2:$N$502,7,0)))","v":{"$error":"#N/A"}},{"$f":"IF(K246=\"\",\"\",IF(VLOOKUP(K246,漢字読み!$A$2:$O$502,7,0)=0,\"\",VLOOKUP(K246,漢字読み!$A$2:$O$502,7,0)))","v":{"$error":"#N/A"}},{"$f":"IF(L246=\"\",\"\",IF(VLOOKUP(L246,漢字読み!$A$2:$O$502,7,0)=0,\"\",VLOOKUP(L246,漢字読み!$A$2:$O$502,7,0)))","v":{"$error":"#N/A"}},{"$f":"IF(M246=\"\",\"\",IF(VLOOKUP(M246,漢字読み!$A$2:$O$502,7,0)=0,\"\",VLOOKUP(M246,漢字読み!$A$2:$O$502,7,0)))","v":{"$error":"#N/A"}},{"$f":"IF(N246=\"\",\"\",IF(VLOOKUP(N246,漢字読み!$A$2:$O$502,7,0)=0,\"\",VLOOKUP(N246,漢字読み!$A$2:$O$502,7,0)))","v":{"$error":"#N/A"}},{"$f":"IF(O246=\"\",\"\",IF(VLOOKUP(O246,漢字読み!$A$2:$O$502,7,0)=0,\"\",VLOOKUP(O246,漢字読み!$A$2:$O$502,7,0)))","v":{"$error":"#N/A"}},{"$f":"IF(P246=\"\",\"\",IF(VLOOKUP(P246,漢字読み!$A$2:$O$502,7,0)=0,\"\",VLOOKUP(P246,漢字読み!$A$2:$O$502,7,0)))","v":{"$error":"#N/A"}},{"$f":"IF(Q246=\"\",\"\",IF(VLOOKUP(Q246,漢字読み!$A$2:$O$502,7,0)=0,\"\",VLOOKUP(Q246,漢字読み!$A$2:$O$502,7,0)))","v":{"$error":"#N/A"}},{"$f":"IF(R246=\"\",\"\",IF(VLOOKUP(R246,漢字読み!$A$2:$O$502,7,0)=0,\"\",VLOOKUP(R246,漢字読み!$A$2:$O$502,7,0)))","v":{"$error":"#N/A"}},{"$f":"IF(S246=\"\",\"\",IF(VLOOKUP(S246,漢字読み!$A$2:$O$502,7,0)=0,\"\",VLOOKUP(S246,漢字読み!$A$2:$O$502,7,0)))","v":{"$error":"#N/A"}},{"$f":"IF(T246=\"\",\"\",IF(VLOOKUP(T246,漢字読み!$A$2:$O$502,7,0)=0,\"\",VLOOKUP(T246,漢字読み!$A$2:$O$502,7,0)))","v":{"$error":"#N/A"}},null,null,"和歌山県教育委員会"]
[{"$f":"A241","v":0},0,0,0,0,0,0,0,0,0,165,99,228,0,0,0,0,0,0,0]
["⑳","⑲","⑱","⑰","⑯","⑮","⑭","⑬","⑫","⑪","⑩","⑨","⑧","⑦","⑥","⑤","④","③","②","①","次の［　　　　］の部分の漢字には読みがなをひらがなで書き、カタカナは漢字に直しなさい。",12,"「漢字の博士検定試験」練習問題　"]
[{"$f":"IF(A251=\"\",\"\",VLOOKUP(A251,漢字書き!$A$2:$N$506,6,0))","v":{"$error":"#N/A"}},{"$f":"IF(B251=\"\",\"\",VLOOKUP(B251,漢字書き!$A$2:$N$506,6,0))","v":{"$error":"#N/A"}},{"$f":"IF(C251=\"\",\"\",VLOOKUP(C251,漢字書き!$A$2:$N$506,6,0))","v":{"$error":"#N/A"}},{"$f":"IF(D251=\"\",\"\",VLOOKUP(D251,漢字書き!$A$2:$N$506,6,0))","v":{"$error":"#N/A"}},{"$f":"IF(E251=\"\",\"\",VLOOKUP(E251,漢字書き!$A$2:$N$506,6,0))","v":{"$error":"#N/A"}},{"$f":"IF(F251=\"\",\"\",VLOOKUP(F251,漢字書き!$A$2:$N$506,6,0))","v":{"$error":"#N/A"}},{"$f":"IF(G251=\"\",\"\",VLOOKUP(G251,漢字書き!$A$2:$N$506,6,0))","v":{"$error":"#N/A"}},{"$f":"IF(H251=\"\",\"\",VLOOKUP(H251,漢字書き!$A$2:$N$506,6,0))","v":{"$error":"#N/A"}},{"$f":"IF(I251=\"\",\"\",VLOOKUP(I251,漢字書き!$A$2:$N$506,6,0))","v":{"$error":"#N/A"}},{"$f":"IF(J251=\"\",\"\",VLOOKUP(J251,漢字書き!$A$2:$N$506,6,0))","v":{"$error":"#N/A"}},{"$f":"IF(K251=\"\",\"\",VLOOKUP(K251,漢字読み!$A$2:$O$506,6,0))","v":"［休息］をとる"},{"$f":"IF(L251=\"\",\"\",VLOOKUP(L251,漢字読み!$A$2:$O$506,6,0))","v":"さいふを［拾］う"},{"$f":"IF(M251=\"\",\"\",VLOOKUP(M251,漢字読み!$A$2:$O$506,6,0))","v":"［鉄橋］をわたる"},{"$f":"IF(N251=\"\",\"\",VLOOKUP(N251,漢字読み!$A$2:$O$506,6,0))","v":{"$error":"#N/A"}},{"$f":"IF(O251=\"\",\"\",VLOOKUP(O251,漢字読み!$A$2:$O$506,6,0))","v":{"$error":"#N/A"}},{"$f":"IF(P251=\"\",\"\",VLOOKUP(P251,漢字読み!$A$2:$O$506,6,0))","v":{"$error":"#N/A"}},{"$f":"IF(Q251=\"\",\"\",VLOOKUP(Q251,漢字読み!$A$2:$O$506,6,0))","v":{"$error":"#N/A"}},{"$f":"IF(R251=\"\",\"\",VLOOKUP(R251,漢字読み!$A$2:$O$506,6,0))","v":{"$error":"#N/A"}},{"$f":"IF(S251=\"\",\"\",VLOOKUP(S251,漢字読み!$A$2:$O$506,6,0))","v":{"$error":"#N/A"}},{"$f":"IF(T251=\"\",\"\",VLOOKUP(T251,漢字読み!$A$2:$O$506,6,0))","v":{"$error":"#N/A"}},null,"級"]
[{"$f":"IF(A$11=\"\",\"\",VLOOKUP(A251,漢字書き!$A$2:$O$506,8,0))","v":{"$error":"#N/A"}},{"$f":"IF(B$11=\"\",\"\",VLOOKUP(B251,漢字書き!$A$2:$O$506,8,0))","v":{"$error":"#N/A"}},{"$f":"IF(C$11=\"\",\"\",VLOOKUP(C251,漢字書き!$A$2:$O$506,8,0))","v":{"$error":"#N/A"}},{"$f":"IF(D$11=\"\",\"\",VLOOKUP(D251,漢字書き!$A$2:$O$506,8,0))","v":{"$error":"#N/A"}},{"$f":"IF(E$11=\"\",\"\",VLOOKUP(E251,漢字書き!$A$2:$O$506,8,0))","v":{"$error":"#N/A"}},{"$f":"IF(F$11=\"\",\"\",VLOOKUP(F251,漢字書き!$A$2:$O$506,8,0))","v":{"$error":"#N/A"}},{"$f":"IF(G$11=\"\",\"\",VLOOKUP(G251,漢字書き!$A$2:$O$506,8,0))","v":{"$error":"#N/A"}},{"$f":"IF(H$11=\"\",\"\",VLOOKUP(H251,漢字書き!$A$2:$O$506,8,0))","v":{"$error":"#N/A"}},{"$f":"IF(I$11=\"\",\"\",VLOOKUP(I251,漢字書き!$A$2:$O$506,8,0))","v":{"$error":"#N/A"}},{"$f":"IF(J$11=\"\",\"\",VLOOKUP(J251,漢字書き!$A$2:$O$506,8,0))","v":{"$error":"#N/A"}},{"$f":"IF(K$11=\"\",\"\",VLOOKUP(K251,漢字読み!$A$2:$O$506,8,0))","v":"きゅうそく"},{"$f":"IF(L$11=\"\",\"\",VLOOKUP(L251,漢字読み!$A$2:$O$506,8,0))","v":"ひろ"},{"$f":"IF(M$11=\"\",\"\",VLOOKUP(M251,漢字読み!$A$2:$O$506,8,0))","v":"てっきょう"},{"$f":"IF(N$11=\"\",\"\",VLOOKUP(N251,漢字読み!$A$2:$O$506,8,0))","v":{"$error":"#N/A"}},{"$f":"IF(O$11=\"\",\"\",VLOOKUP(O251,漢字読み!$A$2:$O$506,8,0))","v":{"$error":"#N/A"}},{"$f":"IF(P$11=\"\",\"\",VLOOKUP(P251,漢字読み!$A$2:$O$506,8,0))","v":{"$error":"#N/A"}},{"$f":"IF(Q$11=\"\",\"\",VLOOKUP(Q251,漢字読み!$A$2:$O$506,8,0))","v":{"$error":"#N/A"}},{"$f":"IF(R$11=\"\",\"\",VLOOKUP(R251,漢字読み!$A$2:$O$506,8,0))","v":{"$error":"#N/A"}},{"$f":"IF(S$11=\"\",\"\",VLOOKUP(S251,漢字読み!$A$2:$O$506,8,0))","v":{"$error":"#N/A"}},{"$f":"IF(T$11=\"\",\"\",VLOOKUP(T251,漢字読み!$A$2:$O$506,8,0))","v":{"$error":"#N/A"}},null,"名前"]
[{"$f":"IF(A251=\"\",\"\",IF(VLOOKUP(A251,漢字書き!$A$2:$N$502,7,0)=0,\"\",VLOOKUP(A251,漢字書き!$A$2:$N$502,7,0)))","v":{"$error":"#N/A"}},{"$f":"IF(B251=\"\",\"\",IF(VLOOKUP(B251,漢字書き!$A$2:$N$502,7,0)=0,\"\",VLOOKUP(B251,漢字書き!$A$2:$N$502,7,0)))","v":{"$error":"#N/A"}},{"$f":"IF(C251=\"\",\"\",IF(VLOOKUP(C251,漢字書き!$A$2:$N$502,7,0)=0,\"\",VLOOKUP(C251,漢字書き!$A$2:$N$502,7,0)))","v":{"$error":"#N/A"}},{"$f":"IF(D251=\"\",\"\",IF(VLOOKUP(D251,漢字書き!$A$2:$N$502,7,0)=0,\"\",VLOOKUP(D251,漢字書き!$A$2:$N$502,7,0)))","v":{"$error":"#N/A"}},{"$f":"IF(E251=\"\",\"\",IF(VLOOKUP(E251,漢字書き!$A$2:$N$502,7,0)=0,\"\",VLOOKUP(E251,漢字書き!$A$2:$N$502,7,0)))","v":{"$error":"#N/A"}},{"$f":"IF(F251=\"\",\"\",IF(VLOOKUP(F251,漢字書き!$A$2:$N$502,7,0)=0,\"\",VLOOKUP(F251,漢字書き!$A$2:$N$502,7,0)))","v":{"$error":"#N/A"}},{"$f":"IF(G251=\"\",\"\",IF(VLOOKUP(G251,漢字書き!$A$2:$N$502,7,0)=0,\"\",VLOOKUP(G251,漢字書き!$A$2:$N$502,7,0)))","v":{"$error":"#N/A"}},{"$f":"IF(H251=\"\",\"\",IF(VLOOKUP(H251,漢字書き!$A$2:$N$502,7,0)=0,\"\",VLOOKUP(H251,漢字書き!$A$2:$N$502,7,0)))","v":{"$error":"#N/A"}},{"$f":"IF(I251=\"\",\"\",IF(VLOOKUP(I251,漢字書き!$A$2:$N$502,7,0)=0,\"\",VLOOKUP(I251,漢字書き!$A$2:$N$502,7,0)))","v":{"$error":"#N/A"}},{"$f":"IF(J251=\"\",\"\",IF(VLOOKUP(J251,漢字書き!$A$2:$N$502,7,0)=0,\"\",VLOOKUP(J251,漢字書き!$A$2:$N$502,7,0)))","v":{"$error":"#N/A"}},{"$f":"IF(K251=\"\",\"\",IF(VLOOKUP(K251,漢字読み!$A$2:$O$502,7,0)=0,\"\",VLOOKUP(K251,漢字読み!$A$2:$O$502,7,0)))","v":""},{"$f":"IF(L251=\"\",\"\",IF(VLOOKUP(L251,漢字読み!$A$2:$O$502,7,0)=0,\"\",VLOOKUP(L251,漢字読み!$A$2:$O$502,7,0)))","v":"う"},{"$f":"IF(M251=\"\",\"\",IF(VLOOKUP(M251,漢字読み!$A$2:$O$502,7,0)=0,\"\",VLOOKUP(M251,漢字読み!$A$2:$O$502,7,0)))","v":""},{"$f":"IF(N251=\"\",\"\",IF(VLOOKUP(N251,漢字読み!$A$2:$O$502,7,0)=0,\"\",VLOOKUP(N251,漢字読み!$A$2:$O$502,7,0)))","v":{"$error":"#N/A"}},{"$f":"IF(O251=\"\",\"\",IF(VLOOKUP(O251,漢字読み!$A$2:$O$502,7,0)=0,\"\",VLOOKUP(O251,漢字読み!$A$2:$O$502,7,0)))","v":{"$error":"#N/A"}},{"$f":"IF(P251=\"\",\"\",IF(VLOOKUP(P251,漢字読み!$A$2:$O$502,7,0)=0,\"\",VLOOKUP(P251,漢字読み!$A$2:$O$502,7,0)))","v":{"$error":"#N/A"}},{"$f":"IF(Q251=\"\",\"\",IF(VLOOKUP(Q251,漢字読み!$A$2:$O$502,7,0)=0,\"\",VLOOKUP(Q251,漢字読み!$A$2:$O$502,7,0)))","v":{"$error":"#N/A"}},{"$f":"IF(R251=\"\",\"\",IF(VLOOKUP(R251,漢字読み!$A$2:$O$502,7,0)=0,\"\",VLOOKUP(R251,漢字読み!$A$2:$O$502,7,0)))","v":{"$error":"#N/A"}},{"$f":"IF(S251=\"\",\"\",IF(VLOOKUP(S251,漢字読み!$A$2:$O$502,7,0)=0,\"\",VLOOKUP(S251,漢字読み!$A$2:$O$502,7,0)))","v":{"$error":"#N/A"}},{"$f":"IF(T251=\"\",\"\",IF(VLOOKUP(T251,漢字読み!$A$2:$O$502,7,0)=0,\"\",VLOOKUP(T251,漢字読み!$A$2:$O$502,7,0)))","v":{"$error":"#N/A"}},null,null,"和歌山県教育委員会"]
[{"$f":"A246","v":0},0,0,0,0,0,0,0,0,0,0,0,0,0,0,0,0,0,0,0]
["⑳","⑲","⑱","⑰","⑯","⑮","⑭","⑬","⑫","⑪","⑩","⑨","⑧","⑦","⑥","⑤","④","③","②","①","次の［　　　　］の部分の漢字には読みがなをひらがなで書き、カタカナは漢字に直しなさい。",12,"「漢字の博士検定試験」練習問題　"]
[{"$f":"IF(A256=\"\",\"\",VLOOKUP(A256,漢字書き!$A$2:$N$506,6,0))","v":{"$error":"#N/A"}},{"$f":"IF(B256=\"\",\"\",VLOOKUP(B256,漢字書き!$A$2:$N$506,6,0))","v":{"$error":"#N/A"}},{"$f":"IF(C256=\"\",\"\",VLOOKUP(C256,漢字書き!$A$2:$N$506,6,0))","v":{"$error":"#N/A"}},{"$f":"IF(D256=\"\",\"\",VLOOKUP(D256,漢字書き!$A$2:$N$506,6,0))","v":{"$error":"#N/A"}},{"$f":"IF(E256=\"\",\"\",VLOOKUP(E256,漢字書き!$A$2:$N$506,6,0))","v":{"$error":"#N/A"}},{"$f":"IF(F256=\"\",\"\",VLOOKUP(F256,漢字書き!$A$2:$N$506,6,0))","v":{"$error":"#N/A"}},{"$f":"IF(G256=\"\",\"\",VLOOKUP(G256,漢字書き!$A$2:$N$506,6,0))","v":{"$error":"#N/A"}},{"$f":"IF(H256=\"\",\"\",VLOOKUP(H256,漢字書き!$A$2:$N$506,6,0))","v":{"$error":"#N/A"}},{"$f":"IF(I256=\"\",\"\",VLOOKUP(I256,漢字書き!$A$2:$N$506,6,0))","v":{"$error":"#N/A"}},{"$f":"IF(J256=\"\",\"\",VLOOKUP(J256,漢字書き!$A$2:$N$506,6,0))","v":{"$error":"#N/A"}},{"$f":"IF(K256=\"\",\"\",VLOOKUP(K256,漢字読み!$A$2:$O$506,6,0))","v":{"$error":"#N/A"}},{"$f":"IF(L256=\"\",\"\",VLOOKUP(L256,漢字読み!$A$2:$O$506,6,0))","v":{"$error":"#N/A"}},{"$f":"IF(M256=\"\",\"\",VLOOKUP(M256,漢字読み!$A$2:$O$506,6,0))","v":{"$error":"#N/A"}},{"$f":"IF(N256=\"\",\"\",VLOOKUP(N256,漢字読み!$A$2:$O$506,6,0))","v":{"$error":"#N/A"}},{"$f":"IF(O256=\"\",\"\",VLOOKUP(O256,漢字読み!$A$2:$O$506,6,0))","v":{"$error":"#N/A"}},{"$f":"IF(P256=\"\",\"\",VLOOKUP(P256,漢字読み!$A$2:$O$506,6,0))","v":{"$error":"#N/A"}},{"$f":"IF(Q256=\"\",\"\",VLOOKUP(Q256,漢字読み!$A$2:$O$506,6,0))","v":{"$error":"#N/A"}},{"$f":"IF(R256=\"\",\"\",VLOOKUP(R256,漢字読み!$A$2:$O$506,6,0))","v":{"$error":"#N/A"}},{"$f":"IF(S256=\"\",\"\",VLOOKUP(S256,漢字読み!$A$2:$O$506,6,0))","v":{"$error":"#N/A"}},{"$f":"IF(T256=\"\",\"\",VLOOKUP(T256,漢字読み!$A$2:$O$506,6,0))","v":{"$error":"#N/A"}},null,"級"]
[{"$f":"IF(A$16=\"\",\"\",VLOOKUP(A256,漢字書き!$A$2:$O$506,8,0))","v":{"$error":"#N/A"}},{"$f":"IF(B$16=\"\",\"\",VLOOKUP(B256,漢字書き!$A$2:$O$506,8,0))","v":{"$error":"#N/A"}},{"$f":"IF(C$16=\"\",\"\",VLOOKUP(C256,漢字書き!$A$2:$O$506,8,0))","v":{"$error":"#N/A"}},{"$f":"IF(D$16=\"\",\"\",VLOOKUP(D256,漢字書き!$A$2:$O$506,8,0))","v":{"$error":"#N/A"}},{"$f":"IF(E$16=\"\",\"\",VLOOKUP(E256,漢字書き!$A$2:$O$506,8,0))","v":{"$error":"#N/A"}},{"$f":"IF(F$16=\"\",\"\",VLOOKUP(F256,漢字書き!$A$2:$O$506,8,0))","v":{"$error":"#N/A"}},{"$f":"IF(G$16=\"\",\"\",VLOOKUP(G256,漢字書き!$A$2:$O$506,8,0))","v":{"$error":"#N/A"}},{"$f":"IF(H$16=\"\",\"\",VLOOKUP(H256,漢字書き!$A$2:$O$506,8,0))","v":{"$error":"#N/A"}},{"$f":"IF(I$16=\"\",\"\",VLOOKUP(I256,漢字書き!$A$2:$O$506,8,0))","v":{"$error":"#N/A"}},{"$f":"IF(J$16=\"\",\"\",VLOOKUP(J256,漢字書き!$A$2:$O$506,8,0))","v":{"$error":"#N/A"}},{"$f":"IF(K$16=\"\",\"\",VLOOKUP(K256,漢字読み!$A$2:$O$506,8,0))","v":{"$error":"#N/A"}},{"$f":"IF(L$16=\"\",\"\",VLOOKUP(L256,漢字読み!$A$2:$O$506,8,0))","v":{"$error":"#N/A"}},{"$f":"IF(M$16=\"\",\"\",VLOOKUP(M256,漢字読み!$A$2:$O$506,8,0))","v":{"$error":"#N/A"}},{"$f":"IF(N$16=\"\",\"\",VLOOKUP(N256,漢字読み!$A$2:$O$506,8,0))","v":{"$error":"#N/A"}},{"$f":"IF(O$16=\"\",\"\",VLOOKUP(O256,漢字読み!$A$2:$O$506,8,0))","v":{"$error":"#N/A"}},{"$f":"IF(P$16=\"\",\"\",VLOOKUP(P256,漢字読み!$A$2:$O$506,8,0))","v":{"$error":"#N/A"}},{"$f":"IF(Q$16=\"\",\"\",VLOOKUP(Q256,漢字読み!$A$2:$O$506,8,0))","v":{"$error":"#N/A"}},{"$f":"IF(R$16=\"\",\"\",VLOOKUP(R256,漢字読み!$A$2:$O$506,8,0))","v":{"$error":"#N/A"}},{"$f":"IF(S$16=\"\",\"\",VLOOKUP(S256,漢字読み!$A$2:$O$506,8,0))","v":{"$error":"#N/A"}},{"$f":"IF(T$16=\"\",\"\",VLOOKUP(T256,漢字読み!$A$2:$O$506,8,0))","v":{"$error":"#N/A"}},null,"名前"]
[{"$f":"IF(A256=\"\",\"\",IF(VLOOKUP(A256,漢字書き!$A$2:$N$502,7,0)=0,\"\",VLOOKUP(A256,漢字書き!$A$2:$N$502,7,0)))","v":{"$error":"#N/A"}},{"$f":"IF(B256=\"\",\"\",IF(VLOOKUP(B256,漢字書き!$A$2:$N$502,7,0)=0,\"\",VLOOKUP(B256,漢字書き!$A$2:$N$502,7,0)))","v":{"$error":"#N/A"}},{"$f":"IF(C256=\"\",\"\",IF(VLOOKUP(C256,漢字書き!$A$2:$N$502,7,0)=0,\"\",VLOOKUP(C256,漢字書き!$A$2:$N$502,7,0)))","v":{"$error":"#N/A"}},{"$f":"IF(D256=\"\",\"\",IF(VLOOKUP(D256,漢字書き!$A$2:$N$502,7,0)=0,\"\",VLOOKUP(D256,漢字書き!$A$2:$N$502,7,0)))","v":{"$error":"#N/A"}},{"$f":"IF(E256=\"\",\"\",IF(VLOOKUP(E256,漢字書き!$A$2:$N$502,7,0)=0,\"\",VLOOKUP(E256,漢字書き!$A$2:$N$502,7,0)))","v":{"$error":"#N/A"}},{"$f":"IF(F256=\"\",\"\",IF(VLOOKUP(F256,漢字書き!$A$2:$N$502,7,0)=0,\"\",VLOOKUP(F256,漢字書き!$A$2:$N$502,7,0)))","v":{"$error":"#N/A"}},{"$f":"IF(G256=\"\",\"\",IF(VLOOKUP(G256,漢字書き!$A$2:$N$502,7,0)=0,\"\",VLOOKUP(G256,漢字書き!$A$2:$N$502,7,0)))","v":{"$error":"#N/A"}},{"$f":"IF(H256=\"\",\"\",IF(VLOOKUP(H256,漢字書き!$A$2:$N$502,7,0)=0,\"\",VLOOKUP(H256,漢字書き!$A$2:$N$502,7,0)))","v":{"$error":"#N/A"}},{"$f":"IF(I256=\"\",\"\",IF(VLOOKUP(I256,漢字書き!$A$2:$N$502,7,0)=0,\"\",VLOOKUP(I256,漢字書き!$A$2:$N$502,7,0)))","v":{"$error":"#N/A"}},{"$f":"IF(J256=\"\",\"\",IF(VLOOKUP(J256,漢字書き!$A$2:$N$502,7,0)=0,\"\",VLOOKUP(J256,漢字書き!$A$2:$N$502,7,0)))","v":{"$error":"#N/A"}},{"$f":"IF(K256=\"\",\"\",IF(VLOOKUP(K256,漢字読み!$A$2:$O$502,7,0)=0,\"\",VLOOKUP(K256,漢字読み!$A$2:$O$502,7,0)))","v":{"$error":"#N/A"}},{"$f":"IF(L256=\"\",\"\",IF(VLOOKUP(L256,漢字読み!$A$2:$O$502,7,0)=0,\"\",VLOOKUP(L256,漢字読み!$A$2:$O$502,7,0)))","v":{"$error":"#N/A"}},{"$f":"IF(M256=\"\",\"\",IF(VLOOKUP(M256,漢字読み!$A$2:$O$502,7,0)=0,\"\",VLOOKUP(M256,漢字読み!$A$2:$O$502,7,0)))","v":{"$error":"#N/A"}},{"$f":"IF(N256=\"\",\"\",IF(VLOOKUP(N256,漢字読み!$A$2:$O$502,7,0)=0,\"\",VLOOKUP(N256,漢字読み!$A$2:$O$502,7,0)))","v":{"$error":"#N/A"}},{"$f":"IF(O256=\"\",\"\",IF(VLOOKUP(O256,漢字読み!$A$2:$O$502,7,0)=0,\"\",VLOOKUP(O256,漢字読み!$A$2:$O$502,7,0)))","v":{"$error":"#N/A"}},{"$f":"IF(P256=\"\",\"\",IF(VLOOKUP(P256,漢字読み!$A$2:$O$502,7,0)=0,\"\",VLOOKUP(P256,漢字読み!$A$2:$O$502,7,0)))","v":{"$error":"#N/A"}},{"$f":"IF(Q256=\"\",\"\",IF(VLOOKUP(Q256,漢字読み!$A$2:$O$502,7,0)=0,\"\",VLOOKUP(Q256,漢字読み!$A$2:$O$502,7,0)))","v":{"$error":"#N/A"}},{"$f":"IF(R256=\"\",\"\",IF(VLOOKUP(R256,漢字読み!$A$2:$O$502,7,0)=0,\"\",VLOOKUP(R256,漢字読み!$A$2:$O$502,7,0)))","v":{"$error":"#N/A"}},{"$f":"IF(S256=\"\",\"\",IF(VLOOKUP(S256,漢字読み!$A$2:$O$502,7,0)=0,\"\",VLOOKUP(S256,漢字読み!$A$2:$O$502,7,0)))","v":{"$error":"#N/A"}},{"$f":"IF(T256=\"\",\"\",IF(VLOOKUP(T256,漢字読み!$A$2:$O$502,7,0)=0,\"\",VLOOKUP(T256,漢字読み!$A$2:$O$502,7,0)))","v":{"$error":"#N/A"}},null,null,"和歌山県教育委員会"]
[{"$f":"INDIRECT(\"'関数（書き）'!C\" & COLUMN(B$1)+SUM($AD$2:$AD262))","v":0},{"$f":"INDIRECT(\"'関数（書き）'!C\" & COLUMN(C$1)+SUM($AD$2:$AD262))","v":0},{"$f":"INDIRECT(\"'関数（書き）'!C\" & COLUMN(D$1)+SUM($AD$2:$AD262))","v":0},{"$f":"INDIRECT(\"'関数（書き）'!C\" & COLUMN(E$1)+SUM($AD$2:$AD262))","v":0},{"$f":"INDIRECT(\"'関数（書き）'!C\" & COLUMN(F$1)+SUM($AD$2:$AD262))","v":0},{"$f":"INDIRECT(\"'関数（書き）'!C\" & COLUMN(G$1)+SUM($AD$2:$AD262))","v":0},{"$f":"INDIRECT(\"'関数（書き）'!C\" & COLUMN(H$1)+SUM($AD$2:$AD262))","v":0},{"$f":"INDIRECT(\"'関数（書き）'!C\" & COLUMN(I$1)+SUM($AD$2:$AD262))","v":0},{"$f":"INDIRECT(\"'関数（書き）'!C\" & COLUMN(J$1)+SUM($AD$2:$AD262))","v":0},{"$f":"INDIRECT(\"'関数（書き）'!C\" & COLUMN(K$1)+SUM($AD$2:$AD262))","v":0},{"$f":"INDIRECT(\"'関数（読み）'!C\" & COLUMN(B$1)+SUM($AD$2:$AD262))","v":0},{"$f":"INDIRECT(\"'関数（読み）'!C\" & COLUMN(C$1)+SUM($AD$2:$AD262))","v":0},{"$f":"INDIRECT(\"'関数（読み）'!C\" & COLUMN(D$1)+SUM($AD$2:$AD262))","v":0},{"$f":"INDIRECT(\"'関数（読み）'!C\" & COLUMN(E$1)+SUM($AD$2:$AD262))","v":0},{"$f":"INDIRECT(\"'関数（読み）'!C\" & COLUMN(F$1)+SUM($AD$2:$AD262))","v":0},{"$f":"INDIRECT(\"'関数（読み）'!C\" & COLUMN(G$1)+SUM($AD$2:$AD262))","v":0},{"$f":"INDIRECT(\"'関数（読み）'!C\" & COLUMN(H$1)+SUM($AD$2:$AD262))","v":0},{"$f":"INDIRECT(\"'関数（読み）'!C\" & COLUMN(I$1)+SUM($AD$2:$AD262))","v":0},{"$f":"INDIRECT(\"'関数（読み）'!C\" & COLUMN(J$1)+SUM($AD$2:$AD262))","v":0},{"$f":"INDIRECT(\"'関数（読み）'!C\" & COLUMN(K$1)+SUM($AD$2:$AD262))","v":0}]
["⑳","⑲","⑱","⑰","⑯","⑮","⑭","⑬","⑫","⑪","⑩","⑨","⑧","⑦","⑥","⑤","④","③","②","①","次の［　　　　］の部分の漢字には読みがなをひらがなで書き、カタカナは漢字に直しなさい。",13,"「漢字の博士検定試験」練習問題　",null,null,null,null,null,"←",10,"問",{"$f":"AH247+1","v":261},"～",{"$f":"SUM($AD$2:$AD262)+10","v":270},"問まで",{"$f":"COUNTIF($A$1:$T$200,T263)","v":0}]
[{"$f":"IF(A261=\"\",\"\",VLOOKUP(A261,漢字書き!$A$2:$N$506,6,0))","v":{"$error":"#N/A"}},{"$f":"IF(B261=\"\",\"\",VLOOKUP(B261,漢字書き!$A$2:$N$506,6,0))","v":{"$error":"#N/A"}},{"$f":"IF(C261=\"\",\"\",VLOOKUP(C261,漢字書き!$A$2:$N$506,6,0))","v":{"$error":"#N/A"}},{"$f":"IF(D261=\"\",\"\",VLOOKUP(D261,漢字書き!$A$2:$N$506,6,0))","v":{"$error":"#N/A"}},{"$f":"IF(E261=\"\",\"\",VLOOKUP(E261,漢字書き!$A$2:$N$506,6,0))","v":{"$error":"#N/A"}},{"$f":"IF(F261=\"\",\"\",VLOOKUP(F261,漢字書き!$A$2:$N$506,6,0))","v":{"$error":"#N/A"}},{"$f":"IF(G261=\"\",\"\",VLOOKUP(G261,漢字書き!$A$2:$N$506,6,0))","v":{"$error":"#N/A"}},{"$f":"IF(H261=\"\",\"\",VLOOKUP(H261,漢字書き!$A$2:$N$506,6,0))","v":{"$error":"#N/A"}},{"$f":"IF(I261=\"\",\"\",VLOOKUP(I261,漢字書き!$A$2:$N$506,6,0))","v":{"$error":"#N/A"}},{"$f":"IF(J261=\"\",\"\",VLOOKUP(J261,漢字書き!$A$2:$N$506,6,0))","v":{"$error":"#N/A"}},{"$f":"IF(K261=\"\",\"\",VLOOKUP(K261,漢字読み!$A$2:$O$506,6,0))","v":{"$error":"#N/A"}},{"$f":"IF(L261=\"\",\"\",VLOOKUP(L261,漢字読み!$A$2:$O$506,6,0))","v":{"$error":"#N/A"}},{"$f":"IF(M261=\"\",\"\",VLOOKUP(M261,漢字読み!$A$2:$O$506,6,0))","v":{"$error":"#N/A"}},{"$f":"IF(N261=\"\",\"\",VLOOKUP(N261,漢字読み!$A$2:$O$506,6,0))","v":{"$error":"#N/A"}},{"$f":"IF(O261=\"\",\"\",VLOOKUP(O261,漢字読み!$A$2:$O$506,6,0))","v":{"$error":"#N/A"}},{"$f":"IF(P261=\"\",\"\",VLOOKUP(P261,漢字読み!$A$2:$O$506,6,0))","v":{"$error":"#N/A"}},{"$f":"IF(Q261=\"\",\"\",VLOOKUP(Q261,漢字読み!$A$2:$O$506,6,0))","v":{"$error":"#N/A"}},{"$f":"IF(R261=\"\",\"\",VLOOKUP(R261,漢字読み!$A$2:$O$506,6,0))","v":{"$error":"#N/A"}},{"$f":"IF(S261=\"\",\"\",VLOOKUP(S261,漢字読み!$A$2:$O$506,6,0))","v":{"$error":"#N/A"}},{"$f":"IF(T261=\"\",\"\",VLOOKUP(T261,漢字読み!$A$2:$O$506,6,0))","v":{"$error":"#N/A"}},null,"級"]
[null,null,null,null,null,null,null,null,null,null,null,null,null,null,null,null,null,null,null,null,null,"名前"]
[{"$f":"IF(A261=\"\",\"\",IF(VLOOKUP(A261,漢字書き!$A$2:$N$502,7,0)=0,\"\",VLOOKUP(A261,漢字書き!$A$2:$N$502,7,0)))","v":{"$error":"#N/A"}},{"$f":"IF(B261=\"\",\"\",IF(VLOOKUP(B261,漢字書き!$A$2:$N$502,7,0)=0,\"\",VLOOKUP(B261,漢字書き!$A$2:$N$502,7,0)))","v":{"$error":"#N/A"}},{"$f":"IF(C261=\"\",\"\",IF(VLOOKUP(C261,漢字書き!$A$2:$N$502,7,0)=0,\"\",VLOOKUP(C261,漢字書き!$A$2:$N$502,7,0)))","v":{"$error":"#N/A"}},{"$f":"IF(D261=\"\",\"\",IF(VLOOKUP(D261,漢字書き!$A$2:$N$502,7,0)=0,\"\",VLOOKUP(D261,漢字書き!$A$2:$N$502,7,0)))","v":{"$error":"#N/A"}},{"$f":"IF(E261=\"\",\"\",IF(VLOOKUP(E261,漢字書き!$A$2:$N$502,7,0)=0,\"\",VLOOKUP(E261,漢字書き!$A$2:$N$502,7,0)))","v":{"$error":"#N/A"}},{"$f":"IF(F261=\"\",\"\",IF(VLOOKUP(F261,漢字書き!$A$2:$N$502,7,0)=0,\"\",VLOOKUP(F261,漢字書き!$A$2:$N$502,7,0)))","v":{"$error":"#N/A"}},{"$f":"IF(G261=\"\",\"\",IF(VLOOKUP(G261,漢字書き!$A$2:$N$502,7,0)=0,\"\",VLOOKUP(G261,漢字書き!$A$2:$N$502,7,0)))","v":{"$error":"#N/A"}},{"$f":"IF(H261=\"\",\"\",IF(VLOOKUP(H261,漢字書き!$A$2:$N$502,7,0)=0,\"\",VLOOKUP(H261,漢字書き!$A$2:$N$502,7,0)))","v":{"$error":"#N/A"}},{"$f":"IF(I261=\"\",\"\",IF(VLOOKUP(I261,漢字書き!$A$2:$N$502,7,0)=0,\"\",VLOOKUP(I261,漢字書き!$A$2:$N$502,7,0)))","v":{"$error":"#N/A"}},{"$f":"IF(J261=\"\",\"\",IF(VLOOKUP(J261,漢字書き!$A$2:$N$502,7,0)=0,\"\",VLOOKUP(J261,漢字書き!$A$2:$N$502,7,0)))","v":{"$error":"#N/A"}},{"$f":"IF(K261=\"\",\"\",IF(VLOOKUP(K261,漢字読み!$A$2:$O$502,7,0)=0,\"\",VLOOKUP(K261,漢字読み!$A$2:$O$502,7,0)))","v":{"$error":"#N/A"}},{"$f":"IF(L261=\"\",\"\",IF(VLOOKUP(L261,漢字読み!$A$2:$O$502,7,0)=0,\"\",VLOOKUP(L261,漢字読み!$A$2:$O$502,7,0)))","v":{"$error":"#N/A"}},{"$f":"IF(M261=\"\",\"\",IF(VLOOKUP(M261,漢字読み!$A$2:$O$502,7,0)=0,\"\",VLOOKUP(M261,漢字読み!$A$2:$O$502,7,0)))","v":{"$error":"#N/A"}},{"$f":"IF(N261=\"\",\"\",IF(VLOOKUP(N261,漢字読み!$A$2:$O$502,7,0)=0,\"\",VLOOKUP(N261,漢字読み!$A$2:$O$502,7,0)))","v":{"$error":"#N/A"}},{"$f":"IF(O261=\"\",\"\",IF(VLOOKUP(O261,漢字読み!$A$2:$O$502,7,0)=0,\"\",VLOOKUP(O261,漢字読み!$A$2:$O$502,7,0)))","v":{"$error":"#N/A"}},{"$f":"IF(P261=\"\",\"\",IF(VLOOKUP(P261,漢字読み!$A$2:$O$502,7,0)=0,\"\",VLOOKUP(P261,漢字読み!$A$2:$O$502,7,0)))","v":{"$error":"#N/A"}},{"$f":"IF(Q261=\"\",\"\",IF(VLOOKUP(Q261,漢字読み!$A$2:$O$502,7,0)=0,\"\",VLOOKUP(Q261,漢字読み!$A$2:$O$502,7,0)))","v":{"$error":"#N/A"}},{"$f":"IF(R261=\"\",\"\",IF(VLOOKUP(R261,漢字読み!$A$2:$O$502,7,0)=0,\"\",VLOOKUP(R261,漢字読み!$A$2:$O$502,7,0)))","v":{"$error":"#N/A"}},{"$f":"IF(S261=\"\",\"\",IF(VLOOKUP(S261,漢字読み!$A$2:$O$502,7,0)=0,\"\",VLOOKUP(S261,漢字読み!$A$2:$O$502,7,0)))","v":{"$error":"#N/A"}},{"$f":"IF(T261=\"\",\"\",IF(VLOOKUP(T261,漢字読み!$A$2:$O$502,7,0)=0,\"\",VLOOKUP(T261,漢字読み!$A$2:$O$502,7,0)))","v":{"$error":"#N/A"}},null,null,"和歌山県教育委員会"]
[{"$f":"INDIRECT(\"'関数（書き）'!C\" & COLUMN(B$1)+SUM($AD$2:$AD267))","v":0},{"$f":"INDIRECT(\"'関数（書き）'!C\" & COLUMN(C$1)+SUM($AD$2:$AD267))","v":0},{"$f":"INDIRECT(\"'関数（書き）'!C\" & COLUMN(D$1)+SUM($AD$2:$AD267))","v":0},{"$f":"INDIRECT(\"'関数（書き）'!C\" & COLUMN(E$1)+SUM($AD$2:$AD267))","v":0},{"$f":"INDIRECT(\"'関数（書き）'!C\" & COLUMN(F$1)+SUM($AD$2:$AD267))","v":0},{"$f":"INDIRECT(\"'関数（書き）'!C\" & COLUMN(G$1)+SUM($AD$2:$AD267))","v":0},{"$f":"INDIRECT(\"'関数（書き）'!C\" & COLUMN(H$1)+SUM($AD$2:$AD267))","v":0},{"$f":"INDIRECT(\"'関数（書き）'!C\" & COLUMN(I$1)+SUM($AD$2:$AD267))","v":0},{"$f":"INDIRECT(\"'関数（書き）'!C\" & COLUMN(J$1)+SUM($AD$2:$AD267))","v":0},{"$f":"INDIRECT(\"'関数（書き）'!C\" & COLUMN(K$1)+SUM($AD$2:$AD267))","v":0},{"$f":"INDIRECT(\"'関数（読み）'!C\" & COLUMN(B$1)+SUM($AD$2:$AD267))","v":0},{"$f":"INDIRECT(\"'関数（読み）'!C\" & COLUMN(C$1)+SUM($AD$2:$AD267))","v":0},{"$f":"INDIRECT(\"'関数（読み）'!C\" & COLUMN(D$1)+SUM($AD$2:$AD267))","v":0},{"$f":"INDIRECT(\"'関数（読み）'!C\" & COLUMN(E$1)+SUM($AD$2:$AD267))","v":0},{"$f":"INDIRECT(\"'関数（読み）'!C\" & COLUMN(F$1)+SUM($AD$2:$AD267))","v":0},{"$f":"INDIRECT(\"'関数（読み）'!C\" & COLUMN(G$1)+SUM($AD$2:$AD267))","v":0},{"$f":"INDIRECT(\"'関数（読み）'!C\" & COLUMN(H$1)+SUM($AD$2:$AD267))","v":0},{"$f":"INDIRECT(\"'関数（読み）'!C\" & COLUMN(I$1)+SUM($AD$2:$AD267))","v":0},{"$f":"INDIRECT(\"'関数（読み）'!C\" & COLUMN(J$1)+SUM($AD$2:$AD267))","v":0},{"$f":"INDIRECT(\"'関数（読み）'!C\" & COLUMN(K$1)+SUM($AD$2:$AD267))","v":0}]
["⑳","⑲","⑱","⑰","⑯","⑮","⑭","⑬","⑫","⑪","⑩","⑨","⑧","⑦","⑥","⑤","④","③","②","①","次の［　　　　］の部分の漢字には読みがなをひらがなで書き、カタカナは漢字に直しなさい。",13,"「漢字の博士検定試験」練習問題　",null,null,null,null,null,"←",10,"問",{"$f":"AH262+1","v":271},"～",{"$f":"SUM($AD$2:$AD267)+10","v":280},"問まで",{"$f":"COUNTIF($A$1:$T$200,T268)","v":0}]
[{"$f":"IF(A266=\"\",\"\",VLOOKUP(A266,漢字書き!$A$2:$N$506,6,0))","v":{"$error":"#N/A"}},{"$f":"IF(B266=\"\",\"\",VLOOKUP(B266,漢字書き!$A$2:$N$506,6,0))","v":{"$error":"#N/A"}},{"$f":"IF(C266=\"\",\"\",VLOOKUP(C266,漢字書き!$A$2:$N$506,6,0))","v":{"$error":"#N/A"}},{"$f":"IF(D266=\"\",\"\",VLOOKUP(D266,漢字書き!$A$2:$N$506,6,0))","v":{"$error":"#N/A"}},{"$f":"IF(E266=\"\",\"\",VLOOKUP(E266,漢字書き!$A$2:$N$506,6,0))","v":{"$error":"#N/A"}},{"$f":"IF(F266=\"\",\"\",VLOOKUP(F266,漢字書き!$A$2:$N$506,6,0))","v":{"$error":"#N/A"}},{"$f":"IF(G266=\"\",\"\",VLOOKUP(G266,漢字書き!$A$2:$N$506,6,0))","v":{"$error":"#N/A"}},{"$f":"IF(H266=\"\",\"\",VLOOKUP(H266,漢字書き!$A$2:$N$506,6,0))","v":{"$error":"#N/A"}},{"$f":"IF(I266=\"\",\"\",VLOOKUP(I266,漢字書き!$A$2:$N$506,6,0))","v":{"$error":"#N/A"}},{"$f":"IF(J266=\"\",\"\",VLOOKUP(J266,漢字書き!$A$2:$N$506,6,0))","v":{"$error":"#N/A"}},{"$f":"IF(K266=\"\",\"\",VLOOKUP(K266,漢字読み!$A$2:$O$506,6,0))","v":{"$error":"#N/A"}},{"$f":"IF(L266=\"\",\"\",VLOOKUP(L266,漢字読み!$A$2:$O$506,6,0))","v":{"$error":"#N/A"}},{"$f":"IF(M266=\"\",\"\",VLOOKUP(M266,漢字読み!$A$2:$O$506,6,0))","v":{"$error":"#N/A"}},{"$f":"IF(N266=\"\",\"\",VLOOKUP(N266,漢字読み!$A$2:$O$506,6,0))","v":{"$error":"#N/A"}},{"$f":"IF(O266=\"\",\"\",VLOOKUP(O266,漢字読み!$A$2:$O$506,6,0))","v":{"$error":"#N/A"}},{"$f":"IF(P266=\"\",\"\",VLOOKUP(P266,漢字読み!$A$2:$O$506,6,0))","v":{"$error":"#N/A"}},{"$f":"IF(Q266=\"\",\"\",VLOOKUP(Q266,漢字読み!$A$2:$O$506,6,0))","v":{"$error":"#N/A"}},{"$f":"IF(R266=\"\",\"\",VLOOKUP(R266,漢字読み!$A$2:$O$506,6,0))","v":{"$error":"#N/A"}},{"$f":"IF(S266=\"\",\"\",VLOOKUP(S266,漢字読み!$A$2:$O$506,6,0))","v":{"$error":"#N/A"}},{"$f":"IF(T266=\"\",\"\",VLOOKUP(T266,漢字読み!$A$2:$O$506,6,0))","v":{"$error":"#N/A"}},null,"級"]
[null,null,null,null,null,null,null,null,null,null,null,null,null,null,null,null,null,null,null,null,null,"名前"]
[{"$f":"IF(A266=\"\",\"\",IF(VLOOKUP(A266,漢字書き!$A$2:$N$502,7,0)=0,\"\",VLOOKUP(A266,漢字書き!$A$2:$N$502,7,0)))","v":{"$error":"#N/A"}},{"$f":"IF(B266=\"\",\"\",IF(VLOOKUP(B266,漢字書き!$A$2:$N$502,7,0)=0,\"\",VLOOKUP(B266,漢字書き!$A$2:$N$502,7,0)))","v":{"$error":"#N/A"}},{"$f":"IF(C266=\"\",\"\",IF(VLOOKUP(C266,漢字書き!$A$2:$N$502,7,0)=0,\"\",VLOOKUP(C266,漢字書き!$A$2:$N$502,7,0)))","v":{"$error":"#N/A"}},{"$f":"IF(D266=\"\",\"\",IF(VLOOKUP(D266,漢字書き!$A$2:$N$502,7,0)=0,\"\",VLOOKUP(D266,漢字書き!$A$2:$N$502,7,0)))","v":{"$error":"#N/A"}},{"$f":"IF(E266=\"\",\"\",IF(VLOOKUP(E266,漢字書き!$A$2:$N$502,7,0)=0,\"\",VLOOKUP(E266,漢字書き!$A$2:$N$502,7,0)))","v":{"$error":"#N/A"}},{"$f":"IF(F266=\"\",\"\",IF(VLOOKUP(F266,漢字書き!$A$2:$N$502,7,0)=0,\"\",VLOOKUP(F266,漢字書き!$A$2:$N$502,7,0)))","v":{"$error":"#N/A"}},{"$f":"IF(G266=\"\",\"\",IF(VLOOKUP(G266,漢字書き!$A$2:$N$502,7,0)=0,\"\",VLOOKUP(G266,漢字書き!$A$2:$N$502,7,0)))","v":{"$error":"#N/A"}},{"$f":"IF(H266=\"\",\"\",IF(VLOOKUP(H266,漢字書き!$A$2:$N$502,7,0)=0,\"\",VLOOKUP(H266,漢字書き!$A$2:$N$502,7,0)))","v":{"$error":"#N/A"}},{"$f":"IF(I266=\"\",\"\",IF(VLOOKUP(I266,漢字書き!$A$2:$N$502,7,0)=0,\"\",VLOOKUP(I266,漢字書き!$A$2:$N$502,7,0)))","v":{"$error":"#N/A"}},{"$f":"IF(J266=\"\",\"\",IF(VLOOKUP(J266,漢字書き!$A$2:$N$502,7,0)=0,\"\",VLOOKUP(J266,漢字書き!$A$2:$N$502,7,0)))","v":{"$error":"#N/A"}},{"$f":"IF(K266=\"\",\"\",IF(VLOOKUP(K266,漢字読み!$A$2:$O$502,7,0)=0,\"\",VLOOKUP(K266,漢字読み!$A$2:$O$502,7,0)))","v":{"$error":"#N/A"}},{"$f":"IF(L266=\"\",\"\",IF(VLOOKUP(L266,漢字読み!$A$2:$O$502,7,0)=0,\"\",VLOOKUP(L266,漢字読み!$A$2:$O$502,7,0)))","v":{"$error":"#N/A"}},{"$f":"IF(M266=\"\",\"\",IF(VLOOKUP(M266,漢字読み!$A$2:$O$502,7,0)=0,\"\",VLOOKUP(M266,漢字読み!$A$2:$O$502,7,0)))","v":{"$error":"#N/A"}},{"$f":"IF(N266=\"\",\"\",IF(VLOOKUP(N266,漢字読み!$A$2:$O$502,7,0)=0,\"\",VLOOKUP(N266,漢字読み!$A$2:$O$502,7,0)))","v":{"$error":"#N/A"}},{"$f":"IF(O266=\"\",\"\",IF(VLOOKUP(O266,漢字読み!$A$2:$O$502,7,0)=0,\"\",VLOOKUP(O266,漢字読み!$A$2:$O$502,7,0)))","v":{"$error":"#N/A"}},{"$f":"IF(P266=\"\",\"\",IF(VLOOKUP(P266,漢字読み!$A$2:$O$502,7,0)=0,\"\",VLOOKUP(P266,漢字読み!$A$2:$O$502,7,0)))","v":{"$error":"#N/A"}},{"$f":"IF(Q266=\"\",\"\",IF(VLOOKUP(Q266,漢字読み!$A$2:$O$502,7,0)=0,\"\",VLOOKUP(Q266,漢字読み!$A$2:$O$502,7,0)))","v":{"$error":"#N/A"}},{"$f":"IF(R266=\"\",\"\",IF(VLOOKUP(R266,漢字読み!$A$2:$O$502,7,0)=0,\"\",VLOOKUP(R266,漢字読み!$A$2:$O$502,7,0)))","v":{"$error":"#N/A"}},{"$f":"IF(S266=\"\",\"\",IF(VLOOKUP(S266,漢字読み!$A$2:$O$502,7,0)=0,\"\",VLOOKUP(S266,漢字読み!$A$2:$O$502,7,0)))","v":{"$error":"#N/A"}},{"$f":"IF(T266=\"\",\"\",IF(VLOOKUP(T266,漢字読み!$A$2:$O$502,7,0)=0,\"\",VLOOKUP(T266,漢字読み!$A$2:$O$502,7,0)))","v":{"$error":"#N/A"}},null,null,"和歌山県教育委員会"]
[{"$f":"A261","v":0},0,0,0,0,0,0,0,0,0,0,0,0,0,0,0,0,0,0,0]
["⑳","⑲","⑱","⑰","⑯","⑮","⑭","⑬","⑫","⑪","⑩","⑨","⑧","⑦","⑥","⑤","④","③","②","①","次の［　　　　］の部分の漢字には読みがなをひらがなで書き、カタカナは漢字に直しなさい。",13,"「漢字の博士検定試験」練習問題　"]
[{"$f":"IF(A271=\"\",\"\",VLOOKUP(A271,漢字書き!$A$2:$N$506,6,0))","v":{"$error":"#N/A"}},{"$f":"IF(B271=\"\",\"\",VLOOKUP(B271,漢字書き!$A$2:$N$506,6,0))","v":{"$error":"#N/A"}},{"$f":"IF(C271=\"\",\"\",VLOOKUP(C271,漢字書き!$A$2:$N$506,6,0))","v":{"$error":"#N/A"}},{"$f":"IF(D271=\"\",\"\",VLOOKUP(D271,漢字書き!$A$2:$N$506,6,0))","v":{"$error":"#N/A"}},{"$f":"IF(E271=\"\",\"\",VLOOKUP(E271,漢字書き!$A$2:$N$506,6,0))","v":{"$error":"#N/A"}},{"$f":"IF(F271=\"\",\"\",VLOOKUP(F271,漢字書き!$A$2:$N$506,6,0))","v":{"$error":"#N/A"}},{"$f":"IF(G271=\"\",\"\",VLOOKUP(G271,漢字書き!$A$2:$N$506,6,0))","v":{"$error":"#N/A"}},{"$f":"IF(H271=\"\",\"\",VLOOKUP(H271,漢字書き!$A$2:$N$506,6,0))","v":{"$error":"#N/A"}},{"$f":"IF(I271=\"\",\"\",VLOOKUP(I271,漢字書き!$A$2:$N$506,6,0))","v":{"$error":"#N/A"}},{"$f":"IF(J271=\"\",\"\",VLOOKUP(J271,漢字書き!$A$2:$N$506,6,0))","v":{"$error":"#N/A"}},{"$f":"IF(K271=\"\",\"\",VLOOKUP(K271,漢字読み!$A$2:$O$506,6,0))","v":{"$error":"#N/A"}},{"$f":"IF(L271=\"\",\"\",VLOOKUP(L271,漢字読み!$A$2:$O$506,6,0))","v":{"$error":"#N/A"}},{"$f":"IF(M271=\"\",\"\",VLOOKUP(M271,漢字読み!$A$2:$O$506,6,0))","v":{"$error":"#N/A"}},{"$f":"IF(N271=\"\",\"\",VLOOKUP(N271,漢字読み!$A$2:$O$506,6,0))","v":{"$error":"#N/A"}},{"$f":"IF(O271=\"\",\"\",VLOOKUP(O271,漢字読み!$A$2:$O$506,6,0))","v":{"$error":"#N/A"}},{"$f":"IF(P271=\"\",\"\",VLOOKUP(P271,漢字読み!$A$2:$O$506,6,0))","v":{"$error":"#N/A"}},{"$f":"IF(Q271=\"\",\"\",VLOOKUP(Q271,漢字読み!$A$2:$O$506,6,0))","v":{"$error":"#N/A"}},{"$f":"IF(R271=\"\",\"\",VLOOKUP(R271,漢字読み!$A$2:$O$506,6,0))","v":{"$error":"#N/A"}},{"$f":"IF(S271=\"\",\"\",VLOOKUP(S271,漢字読み!$A$2:$O$506,6,0))","v":{"$error":"#N/A"}},{"$f":"IF(T271=\"\",\"\",VLOOKUP(T271,漢字読み!$A$2:$O$506,6,0))","v":{"$error":"#N/A"}},null,"級"]
[{"$f":"IF(A$11=\"\",\"\",VLOOKUP(A271,漢字書き!$A$2:$O$506,8,0))","v":{"$error":"#N/A"}},{"$f":"IF(B$11=\"\",\"\",VLOOKUP(B271,漢字書き!$A$2:$O$506,8,0))","v":{"$error":"#N/A"}},{"$f":"IF(C$11=\"\",\"\",VLOOKUP(C271,漢字書き!$A$2:$O$506,8,0))","v":{"$error":"#N/A"}},{"$f":"IF(D$11=\"\",\"\",VLOOKUP(D271,漢字書き!$A$2:$O$506,8,0))","v":{"$error":"#N/A"}},{"$f":"IF(E$11=\"\",\"\",VLOOKUP(E271,漢字書き!$A$2:$O$506,8,0))","v":{"$error":"#N/A"}},{"$f":"IF(F$11=\"\",\"\",VLOOKUP(F271,漢字書き!$A$2:$O$506,8,0))","v":{"$error":"#N/A"}},{"$f":"IF(G$11=\"\",\"\",VLOOKUP(G271,漢字書き!$A$2:$O$506,8,0))","v":{"$error":"#N/A"}},{"$f":"IF(H$11=\"\",\"\",VLOOKUP(H271,漢字書き!$A$2:$O$506,8,0))","v":{"$error":"#N/A"}},{"$f":"IF(I$11=\"\",\"\",VLOOKUP(I271,漢字書き!$A$2:$O$506,8,0))","v":{"$error":"#N/A"}},{"$f":"IF(J$11=\"\",\"\",VLOOKUP(J271,漢字書き!$A$2:$O$506,8,0))","v":{"$error":"#N/A"}},{"$f":"IF(K$11=\"\",\"\",VLOOKUP(K271,漢字読み!$A$2:$O$506,8,0))","v":{"$error":"#N/A"}},{"$f":"IF(L$11=\"\",\"\",VLOOKUP(L271,漢字読み!$A$2:$O$506,8,0))","v":{"$error":"#N/A"}},{"$f":"IF(M$11=\"\",\"\",VLOOKUP(M271,漢字読み!$A$2:$O$506,8,0))","v":{"$error":"#N/A"}},{"$f":"IF(N$11=\"\",\"\",VLOOKUP(N271,漢字読み!$A$2:$O$506,8,0))","v":{"$error":"#N/A"}},{"$f":"IF(O$11=\"\",\"\",VLOOKUP(O271,漢字読み!$A$2:$O$506,8,0))","v":{"$error":"#N/A"}},{"$f":"IF(P$11=\"\",\"\",VLOOKUP(P271,漢字読み!$A$2:$O$506,8,0))","v":{"$error":"#N/A"}},{"$f":"IF(Q$11=\"\",\"\",VLOOKUP(Q271,漢字読み!$A$2:$O$506,8,0))","v":{"$error":"#N/A"}},{"$f":"IF(R$11=\"\",\"\",VLOOKUP(R271,漢字読み!$A$2:$O$506,8,0))","v":{"$error":"#N/A"}},{"$f":"IF(S$11=\"\",\"\",VLOOKUP(S271,漢字読み!$A$2:$O$506,8,0))","v":{"$error":"#N/A"}},{"$f":"IF(T$11=\"\",\"\",VLOOKUP(T271,漢字読み!$A$2:$O$506,8,0))","v":{"$error":"#N/A"}},null,"名前"]
[{"$f":"IF(A271=\"\",\"\",IF(VLOOKUP(A271,漢字書き!$A$2:$N$502,7,0)=0,\"\",VLOOKUP(A271,漢字書き!$A$2:$N$502,7,0)))","v":{"$error":"#N/A"}},{"$f":"IF(B271=\"\",\"\",IF(VLOOKUP(B271,漢字書き!$A$2:$N$502,7,0)=0,\"\",VLOOKUP(B271,漢字書き!$A$2:$N$502,7,0)))","v":{"$error":"#N/A"}},{"$f":"IF(C271=\"\",\"\",IF(VLOOKUP(C271,漢字書き!$A$2:$N$502,7,0)=0,\"\",VLOOKUP(C271,漢字書き!$A$2:$N$502,7,0)))","v":{"$error":"#N/A"}},{"$f":"IF(D271=\"\",\"\",IF(VLOOKUP(D271,漢字書き!$A$2:$N$502,7,0)=0,\"\",VLOOKUP(D271,漢字書き!$A$2:$N$502,7,0)))","v":{"$error":"#N/A"}},{"$f":"IF(E271=\"\",\"\",IF(VLOOKUP(E271,漢字書き!$A$2:$N$502,7,0)=0,\"\",VLOOKUP(E271,漢字書き!$A$2:$N$502,7,0)))","v":{"$error":"#N/A"}},{"$f":"IF(F271=\"\",\"\",IF(VLOOKUP(F271,漢字書き!$A$2:$N$502,7,0)=0,\"\",VLOOKUP(F271,漢字書き!$A$2:$N$502,7,0)))","v":{"$error":"#N/A"}},{"$f":"IF(G271=\"\",\"\",IF(VLOOKUP(G271,漢字書き!$A$2:$N$502,7,0)=0,\"\",VLOOKUP(G271,漢字書き!$A$2:$N$502,7,0)))","v":{"$error":"#N/A"}},{"$f":"IF(H271=\"\",\"\",IF(VLOOKUP(H271,漢字書き!$A$2:$N$502,7,0)=0,\"\",VLOOKUP(H271,漢字書き!$A$2:$N$502,7,0)))","v":{"$error":"#N/A"}},{"$f":"IF(I271=\"\",\"\",IF(VLOOKUP(I271,漢字書き!$A$2:$N$502,7,0)=0,\"\",VLOOKUP(I271,漢字書き!$A$2:$N$502,7,0)))","v":{"$error":"#N/A"}},{"$f":"IF(J271=\"\",\"\",IF(VLOOKUP(J271,漢字書き!$A$2:$N$502,7,0)=0,\"\",VLOOKUP(J271,漢字書き!$A$2:$N$502,7,0)))","v":{"$error":"#N/A"}},{"$f":"IF(K271=\"\",\"\",IF(VLOOKUP(K271,漢字読み!$A$2:$O$502,7,0)=0,\"\",VLOOKUP(K271,漢字読み!$A$2:$O$502,7,0)))","v":{"$error":"#N/A"}},{"$f":"IF(L271=\"\",\"\",IF(VLOOKUP(L271,漢字読み!$A$2:$O$502,7,0)=0,\"\",VLOOKUP(L271,漢字読み!$A$2:$O$502,7,0)))","v":{"$error":"#N/A"}},{"$f":"IF(M271=\"\",\"\",IF(VLOOKUP(M271,漢字読み!$A$2:$O$502,7,0)=0,\"\",VLOOKUP(M271,漢字読み!$A$2:$O$502,7,0)))","v":{"$error":"#N/A"}},{"$f":"IF(N271=\"\",\"\",IF(VLOOKUP(N271,漢字読み!$A$2:$O$502,7,0)=0,\"\",VLOOKUP(N271,漢字読み!$A$2:$O$502,7,0)))","v":{"$error":"#N/A"}},{"$f":"IF(O271=\"\",\"\",IF(VLOOKUP(O271,漢字読み!$A$2:$O$502,7,0)=0,\"\",VLOOKUP(O271,漢字読み!$A$2:$O$502,7,0)))","v":{"$error":"#N/A"}},{"$f":"IF(P271=\"\",\"\",IF(VLOOKUP(P271,漢字読み!$A$2:$O$502,7,0)=0,\"\",VLOOKUP(P271,漢字読み!$A$2:$O$502,7,0)))","v":{"$error":"#N/A"}},{"$f":"IF(Q271=\"\",\"\",IF(VLOOKUP(Q271,漢字読み!$A$2:$O$502,7,0)=0,\"\",VLOOKUP(Q271,漢字読み!$A$2:$O$502,7,0)))","v":{"$error":"#N/A"}},{"$f":"IF(R271=\"\",\"\",IF(VLOOKUP(R271,漢字読み!$A$2:$O$502,7,0)=0,\"\",VLOOKUP(R271,漢字読み!$A$2:$O$502,7,0)))","v":{"$error":"#N/A"}},{"$f":"IF(S271=\"\",\"\",IF(VLOOKUP(S271,漢字読み!$A$2:$O$502,7,0)=0,\"\",VLOOKUP(S271,漢字読み!$A$2:$O$502,7,0)))","v":{"$error":"#N/A"}},{"$f":"IF(T271=\"\",\"\",IF(VLOOKUP(T271,漢字読み!$A$2:$O$502,7,0)=0,\"\",VLOOKUP(T271,漢字読み!$A$2:$O$502,7,0)))","v":{"$error":"#N/A"}},null,null,"和歌山県教育委員会"]
[{"$f":"A266","v":0},0,0,0,0,0,0,0,0,0,0,0,0,0,0,0,0,0,0,0]
["⑳","⑲","⑱","⑰","⑯","⑮","⑭","⑬","⑫","⑪","⑩","⑨","⑧","⑦","⑥","⑤","④","③","②","①","次の［　　　　］の部分の漢字には読みがなをひらがなで書き、カタカナは漢字に直しなさい。",13,"「漢字の博士検定試験」練習問題　"]
[{"$f":"IF(A276=\"\",\"\",VLOOKUP(A276,漢字書き!$A$2:$N$506,6,0))","v":{"$error":"#N/A"}},{"$f":"IF(B276=\"\",\"\",VLOOKUP(B276,漢字書き!$A$2:$N$506,6,0))","v":{"$error":"#N/A"}},{"$f":"IF(C276=\"\",\"\",VLOOKUP(C276,漢字書き!$A$2:$N$506,6,0))","v":{"$error":"#N/A"}},{"$f":"IF(D276=\"\",\"\",VLOOKUP(D276,漢字書き!$A$2:$N$506,6,0))","v":{"$error":"#N/A"}},{"$f":"IF(E276=\"\",\"\",VLOOKUP(E276,漢字書き!$A$2:$N$506,6,0))","v":{"$error":"#N/A"}},{"$f":"IF(F276=\"\",\"\",VLOOKUP(F276,漢字書き!$A$2:$N$506,6,0))","v":{"$error":"#N/A"}},{"$f":"IF(G276=\"\",\"\",VLOOKUP(G276,漢字書き!$A$2:$N$506,6,0))","v":{"$error":"#N/A"}},{"$f":"IF(H276=\"\",\"\",VLOOKUP(H276,漢字書き!$A$2:$N$506,6,0))","v":{"$error":"#N/A"}},{"$f":"IF(I276=\"\",\"\",VLOOKUP(I276,漢字書き!$A$2:$N$506,6,0))","v":{"$error":"#N/A"}},{"$f":"IF(J276=\"\",\"\",VLOOKUP(J276,漢字書き!$A$2:$N$506,6,0))","v":{"$error":"#N/A"}},{"$f":"IF(K276=\"\",\"\",VLOOKUP(K276,漢字読み!$A$2:$O$506,6,0))","v":{"$error":"#N/A"}},{"$f":"IF(L276=\"\",\"\",VLOOKUP(L276,漢字読み!$A$2:$O$506,6,0))","v":{"$error":"#N/A"}},{"$f":"IF(M276=\"\",\"\",VLOOKUP(M276,漢字読み!$A$2:$O$506,6,0))","v":{"$error":"#N/A"}},{"$f":"IF(N276=\"\",\"\",VLOOKUP(N276,漢字読み!$A$2:$O$506,6,0))","v":{"$error":"#N/A"}},{"$f":"IF(O276=\"\",\"\",VLOOKUP(O276,漢字読み!$A$2:$O$506,6,0))","v":{"$error":"#N/A"}},{"$f":"IF(P276=\"\",\"\",VLOOKUP(P276,漢字読み!$A$2:$O$506,6,0))","v":{"$error":"#N/A"}},{"$f":"IF(Q276=\"\",\"\",VLOOKUP(Q276,漢字読み!$A$2:$O$506,6,0))","v":{"$error":"#N/A"}},{"$f":"IF(R276=\"\",\"\",VLOOKUP(R276,漢字読み!$A$2:$O$506,6,0))","v":{"$error":"#N/A"}},{"$f":"IF(S276=\"\",\"\",VLOOKUP(S276,漢字読み!$A$2:$O$506,6,0))","v":{"$error":"#N/A"}},{"$f":"IF(T276=\"\",\"\",VLOOKUP(T276,漢字読み!$A$2:$O$506,6,0))","v":{"$error":"#N/A"}},null,"級"]
[{"$f":"IF(A$16=\"\",\"\",VLOOKUP(A276,漢字書き!$A$2:$O$506,8,0))","v":{"$error":"#N/A"}},{"$f":"IF(B$16=\"\",\"\",VLOOKUP(B276,漢字書き!$A$2:$O$506,8,0))","v":{"$error":"#N/A"}},{"$f":"IF(C$16=\"\",\"\",VLOOKUP(C276,漢字書き!$A$2:$O$506,8,0))","v":{"$error":"#N/A"}},{"$f":"IF(D$16=\"\",\"\",VLOOKUP(D276,漢字書き!$A$2:$O$506,8,0))","v":{"$error":"#N/A"}},{"$f":"IF(E$16=\"\",\"\",VLOOKUP(E276,漢字書き!$A$2:$O$506,8,0))","v":{"$error":"#N/A"}},{"$f":"IF(F$16=\"\",\"\",VLOOKUP(F276,漢字書き!$A$2:$O$506,8,0))","v":{"$error":"#N/A"}},{"$f":"IF(G$16=\"\",\"\",VLOOKUP(G276,漢字書き!$A$2:$O$506,8,0))","v":{"$error":"#N/A"}},{"$f":"IF(H$16=\"\",\"\",VLOOKUP(H276,漢字書き!$A$2:$O$506,8,0))","v":{"$error":"#N/A"}},{"$f":"IF(I$16=\"\",\"\",VLOOKUP(I276,漢字書き!$A$2:$O$506,8,0))","v":{"$error":"#N/A"}},{"$f":"IF(J$16=\"\",\"\",VLOOKUP(J276,漢字書き!$A$2:$O$506,8,0))","v":{"$error":"#N/A"}},{"$f":"IF(K$16=\"\",\"\",VLOOKUP(K276,漢字読み!$A$2:$O$506,8,0))","v":{"$error":"#N/A"}},{"$f":"IF(L$16=\"\",\"\",VLOOKUP(L276,漢字読み!$A$2:$O$506,8,0))","v":{"$error":"#N/A"}},{"$f":"IF(M$16=\"\",\"\",VLOOKUP(M276,漢字読み!$A$2:$O$506,8,0))","v":{"$error":"#N/A"}},{"$f":"IF(N$16=\"\",\"\",VLOOKUP(N276,漢字読み!$A$2:$O$506,8,0))","v":{"$error":"#N/A"}},{"$f":"IF(O$16=\"\",\"\",VLOOKUP(O276,漢字読み!$A$2:$O$506,8,0))","v":{"$error":"#N/A"}},{"$f":"IF(P$16=\"\",\"\",VLOOKUP(P276,漢字読み!$A$2:$O$506,8,0))","v":{"$error":"#N/A"}},{"$f":"IF(Q$16=\"\",\"\",VLOOKUP(Q276,漢字読み!$A$2:$O$506,8,0))","v":{"$error":"#N/A"}},{"$f":"IF(R$16=\"\",\"\",VLOOKUP(R276,漢字読み!$A$2:$O$506,8,0))","v":{"$error":"#N/A"}},{"$f":"IF(S$16=\"\",\"\",VLOOKUP(S276,漢字読み!$A$2:$O$506,8,0))","v":{"$error":"#N/A"}},{"$f":"IF(T$16=\"\",\"\",VLOOKUP(T276,漢字読み!$A$2:$O$506,8,0))","v":{"$error":"#N/A"}},null,"名前"]
[{"$f":"IF(A276=\"\",\"\",IF(VLOOKUP(A276,漢字書き!$A$2:$N$502,7,0)=0,\"\",VLOOKUP(A276,漢字書き!$A$2:$N$502,7,0)))","v":{"$error":"#N/A"}},{"$f":"IF(B276=\"\",\"\",IF(VLOOKUP(B276,漢字書き!$A$2:$N$502,7,0)=0,\"\",VLOOKUP(B276,漢字書き!$A$2:$N$502,7,0)))","v":{"$error":"#N/A"}},{"$f":"IF(C276=\"\",\"\",IF(VLOOKUP(C276,漢字書き!$A$2:$N$502,7,0)=0,\"\",VLOOKUP(C276,漢字書き!$A$2:$N$502,7,0)))","v":{"$error":"#N/A"}},{"$f":"IF(D276=\"\",\"\",IF(VLOOKUP(D276,漢字書き!$A$2:$N$502,7,0)=0,\"\",VLOOKUP(D276,漢字書き!$A$2:$N$502,7,0)))","v":{"$error":"#N/A"}},{"$f":"IF(E276=\"\",\"\",IF(VLOOKUP(E276,漢字書き!$A$2:$N$502,7,0)=0,\"\",VLOOKUP(E276,漢字書き!$A$2:$N$502,7,0)))","v":{"$error":"#N/A"}},{"$f":"IF(F276=\"\",\"\",IF(VLOOKUP(F276,漢字書き!$A$2:$N$502,7,0)=0,\"\",VLOOKUP(F276,漢字書き!$A$2:$N$502,7,0)))","v":{"$error":"#N/A"}},{"$f":"IF(G276=\"\",\"\",IF(VLOOKUP(G276,漢字書き!$A$2:$N$502,7,0)=0,\"\",VLOOKUP(G276,漢字書き!$A$2:$N$502,7,0)))","v":{"$error":"#N/A"}},{"$f":"IF(H276=\"\",\"\",IF(VLOOKUP(H276,漢字書き!$A$2:$N$502,7,0)=0,\"\",VLOOKUP(H276,漢字書き!$A$2:$N$502,7,0)))","v":{"$error":"#N/A"}},{"$f":"IF(I276=\"\",\"\",IF(VLOOKUP(I276,漢字書き!$A$2:$N$502,7,0)=0,\"\",VLOOKUP(I276,漢字書き!$A$2:$N$502,7,0)))","v":{"$error":"#N/A"}},{"$f":"IF(J276=\"\",\"\",IF(VLOOKUP(J276,漢字書き!$A$2:$N$502,7,0)=0,\"\",VLOOKUP(J276,漢字書き!$A$2:$N$502,7,0)))","v":{"$error":"#N/A"}},{"$f":"IF(K276=\"\",\"\",IF(VLOOKUP(K276,漢字読み!$A$2:$O$502,7,0)=0,\"\",VLOOKUP(K276,漢字読み!$A$2:$O$502,7,0)))","v":{"$error":"#N/A"}},{"$f":"IF(L276=\"\",\"\",IF(VLOOKUP(L276,漢字読み!$A$2:$O$502,7,0)=0,\"\",VLOOKUP(L276,漢字読み!$A$2:$O$502,7,0)))","v":{"$error":"#N/A"}},{"$f":"IF(M276=\"\",\"\",IF(VLOOKUP(M276,漢字読み!$A$2:$O$502,7,0)=0,\"\",VLOOKUP(M276,漢字読み!$A$2:$O$502,7,0)))","v":{"$error":"#N/A"}},{"$f":"IF(N276=\"\",\"\",IF(VLOOKUP(N276,漢字読み!$A$2:$O$502,7,0)=0,\"\",VLOOKUP(N276,漢字読み!$A$2:$O$502,7,0)))","v":{"$error":"#N/A"}},{"$f":"IF(O276=\"\",\"\",IF(VLOOKUP(O276,漢字読み!$A$2:$O$502,7,0)=0,\"\",VLOOKUP(O276,漢字読み!$A$2:$O$502,7,0)))","v":{"$error":"#N/A"}},{"$f":"IF(P276=\"\",\"\",IF(VLOOKUP(P276,漢字読み!$A$2:$O$502,7,0)=0,\"\",VLOOKUP(P276,漢字読み!$A$2:$O$502,7,0)))","v":{"$error":"#N/A"}},{"$f":"IF(Q276=\"\",\"\",IF(VLOOKUP(Q276,漢字読み!$A$2:$O$502,7,0)=0,\"\",VLOOKUP(Q276,漢字読み!$A$2:$O$502,7,0)))","v":{"$error":"#N/A"}},{"$f":"IF(R276=\"\",\"\",IF(VLOOKUP(R276,漢字読み!$A$2:$O$502,7,0)=0,\"\",VLOOKUP(R276,漢字読み!$A$2:$O$502,7,0)))","v":{"$error":"#N/A"}},{"$f":"IF(S276=\"\",\"\",IF(VLOOKUP(S276,漢字読み!$A$2:$O$502,7,0)=0,\"\",VLOOKUP(S276,漢字読み!$A$2:$O$502,7,0)))","v":{"$error":"#N/A"}},{"$f":"IF(T276=\"\",\"\",IF(VLOOKUP(T276,漢字読み!$A$2:$O$502,7,0)=0,\"\",VLOOKUP(T276,漢字読み!$A$2:$O$502,7,0)))","v":{"$error":"#N/A"}},null,null,"和歌山県教育委員会"]
[{"$f":"INDIRECT(\"'関数（書き）'!C\" & COLUMN(B$1)+SUM($AD$2:$AD282))","v":0},{"$f":"INDIRECT(\"'関数（書き）'!C\" & COLUMN(C$1)+SUM($AD$2:$AD282))","v":0},{"$f":"INDIRECT(\"'関数（書き）'!C\" & COLUMN(D$1)+SUM($AD$2:$AD282))","v":0},{"$f":"INDIRECT(\"'関数（書き）'!C\" & COLUMN(E$1)+SUM($AD$2:$AD282))","v":0},{"$f":"INDIRECT(\"'関数（書き）'!C\" & COLUMN(F$1)+SUM($AD$2:$AD282))","v":0},{"$f":"INDIRECT(\"'関数（書き）'!C\" & COLUMN(G$1)+SUM($AD$2:$AD282))","v":0},{"$f":"INDIRECT(\"'関数（書き）'!C\" & COLUMN(H$1)+SUM($AD$2:$AD282))","v":0},{"$f":"INDIRECT(\"'関数（書き）'!C\" & COLUMN(I$1)+SUM($AD$2:$AD282))","v":0},{"$f":"INDIRECT(\"'関数（書き）'!C\" & COLUMN(J$1)+SUM($AD$2:$AD282))","v":0},{"$f":"INDIRECT(\"'関数（書き）'!C\" & COLUMN(K$1)+SUM($AD$2:$AD282))","v":0},{"$f":"INDIRECT(\"'関数（読み）'!C\" & COLUMN(B$1)+SUM($AD$2:$AD282))","v":0},{"$f":"INDIRECT(\"'関数（読み）'!C\" & COLUMN(C$1)+SUM($AD$2:$AD282))","v":0},{"$f":"INDIRECT(\"'関数（読み）'!C\" & COLUMN(D$1)+SUM($AD$2:$AD282))","v":0},{"$f":"INDIRECT(\"'関数（読み）'!C\" & COLUMN(E$1)+SUM($AD$2:$AD282))","v":0},{"$f":"INDIRECT(\"'関数（読み）'!C\" & COLUMN(F$1)+SUM($AD$2:$AD282))","v":0},{"$f":"INDIRECT(\"'関数（読み）'!C\" & COLUMN(G$1)+SUM($AD$2:$AD282))","v":0},{"$f":"INDIRECT(\"'関数（読み）'!C\" & COLUMN(H$1)+SUM($AD$2:$AD282))","v":0},{"$f":"INDIRECT(\"'関数（読み）'!C\" & COLUMN(I$1)+SUM($AD$2:$AD282))","v":0},{"$f":"INDIRECT(\"'関数（読み）'!C\" & COLUMN(J$1)+SUM($AD$2:$AD282))","v":0},{"$f":"INDIRECT(\"'関数（読み）'!C\" & COLUMN(K$1)+SUM($AD$2:$AD282))","v":0}]
["⑳","⑲","⑱","⑰","⑯","⑮","⑭","⑬","⑫","⑪","⑩","⑨","⑧","⑦","⑥","⑤","④","③","②","①","次の［　　　　］の部分の漢字には読みがなをひらがなで書き、カタカナは漢字に直しなさい。",13,"「漢字の博士検定試験」練習問題　",null,null,null,null,null,"←",10,"問",{"$f":"AH267+1","v":281},"～",{"$f":"SUM($AD$2:$AD282)+10","v":290},"問まで",{"$f":"COUNTIF($A$1:$T$200,T283)","v":0}]
[{"$f":"IF(A281=\"\",\"\",VLOOKUP(A281,漢字書き!$A$2:$N$506,6,0))","v":{"$error":"#N/A"}},{"$f":"IF(B281=\"\",\"\",VLOOKUP(B281,漢字書き!$A$2:$N$506,6,0))","v":{"$error":"#N/A"}},{"$f":"IF(C281=\"\",\"\",VLOOKUP(C281,漢字書き!$A$2:$N$506,6,0))","v":{"$error":"#N/A"}},{"$f":"IF(D281=\"\",\"\",VLOOKUP(D281,漢字書き!$A$2:$N$506,6,0))","v":{"$error":"#N/A"}},{"$f":"IF(E281=\"\",\"\",VLOOKUP(E281,漢字書き!$A$2:$N$506,6,0))","v":{"$error":"#N/A"}},{"$f":"IF(F281=\"\",\"\",VLOOKUP(F281,漢字書き!$A$2:$N$506,6,0))","v":{"$error":"#N/A"}},{"$f":"IF(G281=\"\",\"\",VLOOKUP(G281,漢字書き!$A$2:$N$506,6,0))","v":{"$error":"#N/A"}},{"$f":"IF(H281=\"\",\"\",VLOOKUP(H281,漢字書き!$A$2:$N$506,6,0))","v":{"$error":"#N/A"}},{"$f":"IF(I281=\"\",\"\",VLOOKUP(I281,漢字書き!$A$2:$N$506,6,0))","v":{"$error":"#N/A"}},{"$f":"IF(J281=\"\",\"\",VLOOKUP(J281,漢字書き!$A$2:$N$506,6,0))","v":{"$error":"#N/A"}},{"$f":"IF(K281=\"\",\"\",VLOOKUP(K281,漢字読み!$A$2:$O$506,6,0))","v":{"$error":"#N/A"}},{"$f":"IF(L281=\"\",\"\",VLOOKUP(L281,漢字読み!$A$2:$O$506,6,0))","v":{"$error":"#N/A"}},{"$f":"IF(M281=\"\",\"\",VLOOKUP(M281,漢字読み!$A$2:$O$506,6,0))","v":{"$error":"#N/A"}},{"$f":"IF(N281=\"\",\"\",VLOOKUP(N281,漢字読み!$A$2:$O$506,6,0))","v":{"$error":"#N/A"}},{"$f":"IF(O281=\"\",\"\",VLOOKUP(O281,漢字読み!$A$2:$O$506,6,0))","v":{"$error":"#N/A"}},{"$f":"IF(P281=\"\",\"\",VLOOKUP(P281,漢字読み!$A$2:$O$506,6,0))","v":{"$error":"#N/A"}},{"$f":"IF(Q281=\"\",\"\",VLOOKUP(Q281,漢字読み!$A$2:$O$506,6,0))","v":{"$error":"#N/A"}},{"$f":"IF(R281=\"\",\"\",VLOOKUP(R281,漢字読み!$A$2:$O$506,6,0))","v":{"$error":"#N/A"}},{"$f":"IF(S281=\"\",\"\",VLOOKUP(S281,漢字読み!$A$2:$O$506,6,0))","v":{"$error":"#N/A"}},{"$f":"IF(T281=\"\",\"\",VLOOKUP(T281,漢字読み!$A$2:$O$506,6,0))","v":{"$error":"#N/A"}},null,"級"]
[null,null,null,null,null,null,null,null,null,null,null,null,null,null,null,null,null,null,null,null,null,"名前"]
[{"$f":"IF(A281=\"\",\"\",IF(VLOOKUP(A281,漢字書き!$A$2:$N$502,7,0)=0,\"\",VLOOKUP(A281,漢字書き!$A$2:$N$502,7,0)))","v":{"$error":"#N/A"}},{"$f":"IF(B281=\"\",\"\",IF(VLOOKUP(B281,漢字書き!$A$2:$N$502,7,0)=0,\"\",VLOOKUP(B281,漢字書き!$A$2:$N$502,7,0)))","v":{"$error":"#N/A"}},{"$f":"IF(C281=\"\",\"\",IF(VLOOKUP(C281,漢字書き!$A$2:$N$502,7,0)=0,\"\",VLOOKUP(C281,漢字書き!$A$2:$N$502,7,0)))","v":{"$error":"#N/A"}},{"$f":"IF(D281=\"\",\"\",IF(VLOOKUP(D281,漢字書き!$A$2:$N$502,7,0)=0,\"\",VLOOKUP(D281,漢字書き!$A$2:$N$502,7,0)))","v":{"$error":"#N/A"}},{"$f":"IF(E281=\"\",\"\",IF(VLOOKUP(E281,漢字書き!$A$2:$N$502,7,0)=0,\"\",VLOOKUP(E281,漢字書き!$A$2:$N$502,7,0)))","v":{"$error":"#N/A"}},{"$f":"IF(F281=\"\",\"\",IF(VLOOKUP(F281,漢字書き!$A$2:$N$502,7,0)=0,\"\",VLOOKUP(F281,漢字書き!$A$2:$N$502,7,0)))","v":{"$error":"#N/A"}},{"$f":"IF(G281=\"\",\"\",IF(VLOOKUP(G281,漢字書き!$A$2:$N$502,7,0)=0,\"\",VLOOKUP(G281,漢字書き!$A$2:$N$502,7,0)))","v":{"$error":"#N/A"}},{"$f":"IF(H281=\"\",\"\",IF(VLOOKUP(H281,漢字書き!$A$2:$N$502,7,0)=0,\"\",VLOOKUP(H281,漢字書き!$A$2:$N$502,7,0)))","v":{"$error":"#N/A"}},{"$f":"IF(I281=\"\",\"\",IF(VLOOKUP(I281,漢字書き!$A$2:$N$502,7,0)=0,\"\",VLOOKUP(I281,漢字書き!$A$2:$N$502,7,0)))","v":{"$error":"#N/A"}},{"$f":"IF(J281=\"\",\"\",IF(VLOOKUP(J281,漢字書き!$A$2:$N$502,7,0)=0,\"\",VLOOKUP(J281,漢字書き!$A$2:$N$502,7,0)))","v":{"$error":"#N/A"}},{"$f":"IF(K281=\"\",\"\",IF(VLOOKUP(K281,漢字読み!$A$2:$O$502,7,0)=0,\"\",VLOOKUP(K281,漢字読み!$A$2:$O$502,7,0)))","v":{"$error":"#N/A"}},{"$f":"IF(L281=\"\",\"\",IF(VLOOKUP(L281,漢字読み!$A$2:$O$502,7,0)=0,\"\",VLOOKUP(L281,漢字読み!$A$2:$O$502,7,0)))","v":{"$error":"#N/A"}},{"$f":"IF(M281=\"\",\"\",IF(VLOOKUP(M281,漢字読み!$A$2:$O$502,7,0)=0,\"\",VLOOKUP(M281,漢字読み!$A$2:$O$502,7,0)))","v":{"$error":"#N/A"}},{"$f":"IF(N281=\"\",\"\",IF(VLOOKUP(N281,漢字読み!$A$2:$O$502,7,0)=0,\"\",VLOOKUP(N281,漢字読み!$A$2:$O$502,7,0)))","v":{"$error":"#N/A"}},{"$f":"IF(O281=\"\",\"\",IF(VLOOKUP(O281,漢字読み!$A$2:$O$502,7,0)=0,\"\",VLOOKUP(O281,漢字読み!$A$2:$O$502,7,0)))","v":{"$error":"#N/A"}},{"$f":"IF(P281=\"\",\"\",IF(VLOOKUP(P281,漢字読み!$A$2:$O$502,7,0)=0,\"\",VLOOKUP(P281,漢字読み!$A$2:$O$502,7,0)))","v":{"$error":"#N/A"}},{"$f":"IF(Q281=\"\",\"\",IF(VLOOKUP(Q281,漢字読み!$A$2:$O$502,7,0)=0,\"\",VLOOKUP(Q281,漢字読み!$A$2:$O$502,7,0)))","v":{"$error":"#N/A"}},{"$f":"IF(R281=\"\",\"\",IF(VLOOKUP(R281,漢字読み!$A$2:$O$502,7,0)=0,\"\",VLOOKUP(R281,漢字読み!$A$2:$O$502,7,0)))","v":{"$error":"#N/A"}},{"$f":"IF(S281=\"\",\"\",IF(VLOOKUP(S281,漢字読み!$A$2:$O$502,7,0)=0,\"\",VLOOKUP(S281,漢字読み!$A$2:$O$502,7,0)))","v":{"$error":"#N/A"}},{"$f":"IF(T281=\"\",\"\",IF(VLOOKUP(T281,漢字読み!$A$2:$O$502,7,0)=0,\"\",VLOOKUP(T281,漢字読み!$A$2:$O$502,7,0)))","v":{"$error":"#N/A"}},null,null,"和歌山県教育委員会"]
[{"$f":"INDIRECT(\"'関数（書き）'!C\" & COLUMN(B$1)+SUM($AD$2:$AD287))","v":0},{"$f":"INDIRECT(\"'関数（書き）'!C\" & COLUMN(C$1)+SUM($AD$2:$AD287))","v":0},{"$f":"INDIRECT(\"'関数（書き）'!C\" & COLUMN(D$1)+SUM($AD$2:$AD287))","v":0},{"$f":"INDIRECT(\"'関数（書き）'!C\" & COLUMN(E$1)+SUM($AD$2:$AD287))","v":0},{"$f":"INDIRECT(\"'関数（書き）'!C\" & COLUMN(F$1)+SUM($AD$2:$AD287))","v":0},{"$f":"INDIRECT(\"'関数（書き）'!C\" & COLUMN(G$1)+SUM($AD$2:$AD287))","v":0},{"$f":"INDIRECT(\"'関数（書き）'!C\" & COLUMN(H$1)+SUM($AD$2:$AD287))","v":0},{"$f":"INDIRECT(\"'関数（書き）'!C\" & COLUMN(I$1)+SUM($AD$2:$AD287))","v":0},{"$f":"INDIRECT(\"'関数（書き）'!C\" & COLUMN(J$1)+SUM($AD$2:$AD287))","v":0},{"$f":"INDIRECT(\"'関数（書き）'!C\" & COLUMN(K$1)+SUM($AD$2:$AD287))","v":0},{"$f":"INDIRECT(\"'関数（読み）'!C\" & COLUMN(B$1)+SUM($AD$2:$AD287))","v":0},{"$f":"INDIRECT(\"'関数（読み）'!C\" & COLUMN(C$1)+SUM($AD$2:$AD287))","v":0},{"$f":"INDIRECT(\"'関数（読み）'!C\" & COLUMN(D$1)+SUM($AD$2:$AD287))","v":0},{"$f":"INDIRECT(\"'関数（読み）'!C\" & COLUMN(E$1)+SUM($AD$2:$AD287))","v":0},{"$f":"INDIRECT(\"'関数（読み）'!C\" & COLUMN(F$1)+SUM($AD$2:$AD287))","v":0},{"$f":"INDIRECT(\"'関数（読み）'!C\" & COLUMN(G$1)+SUM($AD$2:$AD287))","v":0},{"$f":"INDIRECT(\"'関数（読み）'!C\" & COLUMN(H$1)+SUM($AD$2:$AD287))","v":0},{"$f":"INDIRECT(\"'関数（読み）'!C\" & COLUMN(I$1)+SUM($AD$2:$AD287))","v":0},{"$f":"INDIRECT(\"'関数（読み）'!C\" & COLUMN(J$1)+SUM($AD$2:$AD287))","v":0},{"$f":"INDIRECT(\"'関数（読み）'!C\" & COLUMN(K$1)+SUM($AD$2:$AD287))","v":0}]
["⑳","⑲","⑱","⑰","⑯","⑮","⑭","⑬","⑫","⑪","⑩","⑨","⑧","⑦","⑥","⑤","④","③","②","①","次の［　　　　］の部分の漢字には読みがなをひらがなで書き、カタカナは漢字に直しなさい。",13,"「漢字の博士検定試験」練習問題　",null,null,null,null,null,"←",10,"問",{"$f":"AH282+1","v":291},"～",{"$f":"SUM($AD$2:$AD287)+10","v":300},"問まで",{"$f":"COUNTIF($A$1:$T$200,T288)","v":0}]
[{"$f":"IF(A286=\"\",\"\",VLOOKUP(A286,漢字書き!$A$2:$N$506,6,0))","v":{"$error":"#N/A"}},{"$f":"IF(B286=\"\",\"\",VLOOKUP(B286,漢字書き!$A$2:$N$506,6,0))","v":{"$error":"#N/A"}},{"$f":"IF(C286=\"\",\"\",VLOOKUP(C286,漢字書き!$A$2:$N$506,6,0))","v":{"$error":"#N/A"}},{"$f":"IF(D286=\"\",\"\",VLOOKUP(D286,漢字書き!$A$2:$N$506,6,0))","v":{"$error":"#N/A"}},{"$f":"IF(E286=\"\",\"\",VLOOKUP(E286,漢字書き!$A$2:$N$506,6,0))","v":{"$error":"#N/A"}},{"$f":"IF(F286=\"\",\"\",VLOOKUP(F286,漢字書き!$A$2:$N$506,6,0))","v":{"$error":"#N/A"}},{"$f":"IF(G286=\"\",\"\",VLOOKUP(G286,漢字書き!$A$2:$N$506,6,0))","v":{"$error":"#N/A"}},{"$f":"IF(H286=\"\",\"\",VLOOKUP(H286,漢字書き!$A$2:$N$506,6,0))","v":{"$error":"#N/A"}},{"$f":"IF(I286=\"\",\"\",VLOOKUP(I286,漢字書き!$A$2:$N$506,6,0))","v":{"$error":"#N/A"}},{"$f":"IF(J286=\"\",\"\",VLOOKUP(J286,漢字書き!$A$2:$N$506,6,0))","v":{"$error":"#N/A"}},{"$f":"IF(K286=\"\",\"\",VLOOKUP(K286,漢字読み!$A$2:$O$506,6,0))","v":{"$error":"#N/A"}},{"$f":"IF(L286=\"\",\"\",VLOOKUP(L286,漢字読み!$A$2:$O$506,6,0))","v":{"$error":"#N/A"}},{"$f":"IF(M286=\"\",\"\",VLOOKUP(M286,漢字読み!$A$2:$O$506,6,0))","v":{"$error":"#N/A"}},{"$f":"IF(N286=\"\",\"\",VLOOKUP(N286,漢字読み!$A$2:$O$506,6,0))","v":{"$error":"#N/A"}},{"$f":"IF(O286=\"\",\"\",VLOOKUP(O286,漢字読み!$A$2:$O$506,6,0))","v":{"$error":"#N/A"}},{"$f":"IF(P286=\"\",\"\",VLOOKUP(P286,漢字読み!$A$2:$O$506,6,0))","v":{"$error":"#N/A"}},{"$f":"IF(Q286=\"\",\"\",VLOOKUP(Q286,漢字読み!$A$2:$O$506,6,0))","v":{"$error":"#N/A"}},{"$f":"IF(R286=\"\",\"\",VLOOKUP(R286,漢字読み!$A$2:$O$506,6,0))","v":{"$error":"#N/A"}},{"$f":"IF(S286=\"\",\"\",VLOOKUP(S286,漢字読み!$A$2:$O$506,6,0))","v":{"$error":"#N/A"}},{"$f":"IF(T286=\"\",\"\",VLOOKUP(T286,漢字読み!$A$2:$O$506,6,0))","v":{"$error":"#N/A"}},null,"級"]
[null,null,null,null,null,null,null,null,null,null,null,null,null,null,null,null,null,null,null,null,null,"名前"]
[{"$f":"IF(A286=\"\",\"\",IF(VLOOKUP(A286,漢字書き!$A$2:$N$502,7,0)=0,\"\",VLOOKUP(A286,漢字書き!$A$2:$N$502,7,0)))","v":{"$error":"#N/A"}},{"$f":"IF(B286=\"\",\"\",IF(VLOOKUP(B286,漢字書き!$A$2:$N$502,7,0)=0,\"\",VLOOKUP(B286,漢字書き!$A$2:$N$502,7,0)))","v":{"$error":"#N/A"}},{"$f":"IF(C286=\"\",\"\",IF(VLOOKUP(C286,漢字書き!$A$2:$N$502,7,0)=0,\"\",VLOOKUP(C286,漢字書き!$A$2:$N$502,7,0)))","v":{"$error":"#N/A"}},{"$f":"IF(D286=\"\",\"\",IF(VLOOKUP(D286,漢字書き!$A$2:$N$502,7,0)=0,\"\",VLOOKUP(D286,漢字書き!$A$2:$N$502,7,0)))","v":{"$error":"#N/A"}},{"$f":"IF(E286=\"\",\"\",IF(VLOOKUP(E286,漢字書き!$A$2:$N$502,7,0)=0,\"\",VLOOKUP(E286,漢字書き!$A$2:$N$502,7,0)))","v":{"$error":"#N/A"}},{"$f":"IF(F286=\"\",\"\",IF(VLOOKUP(F286,漢字書き!$A$2:$N$502,7,0)=0,\"\",VLOOKUP(F286,漢字書き!$A$2:$N$502,7,0)))","v":{"$error":"#N/A"}},{"$f":"IF(G286=\"\",\"\",IF(VLOOKUP(G286,漢字書き!$A$2:$N$502,7,0)=0,\"\",VLOOKUP(G286,漢字書き!$A$2:$N$502,7,0)))","v":{"$error":"#N/A"}},{"$f":"IF(H286=\"\",\"\",IF(VLOOKUP(H286,漢字書き!$A$2:$N$502,7,0)=0,\"\",VLOOKUP(H286,漢字書き!$A$2:$N$502,7,0)))","v":{"$error":"#N/A"}},{"$f":"IF(I286=\"\",\"\",IF(VLOOKUP(I286,漢字書き!$A$2:$N$502,7,0)=0,\"\",VLOOKUP(I286,漢字書き!$A$2:$N$502,7,0)))","v":{"$error":"#N/A"}},{"$f":"IF(J286=\"\",\"\",IF(VLOOKUP(J286,漢字書き!$A$2:$N$502,7,0)=0,\"\",VLOOKUP(J286,漢字書き!$A$2:$N$502,7,0)))","v":{"$error":"#N/A"}},{"$f":"IF(K286=\"\",\"\",IF(VLOOKUP(K286,漢字読み!$A$2:$O$502,7,0)=0,\"\",VLOOKUP(K286,漢字読み!$A$2:$O$502,7,0)))","v":{"$error":"#N/A"}},{"$f":"IF(L286=\"\",\"\",IF(VLOOKUP(L286,漢字読み!$A$2:$O$502,7,0)=0,\"\",VLOOKUP(L286,漢字読み!$A$2:$O$502,7,0)))","v":{"$error":"#N/A"}},{"$f":"IF(M286=\"\",\"\",IF(VLOOKUP(M286,漢字読み!$A$2:$O$502,7,0)=0,\"\",VLOOKUP(M286,漢字読み!$A$2:$O$502,7,0)))","v":{"$error":"#N/A"}},{"$f":"IF(N286=\"\",\"\",IF(VLOOKUP(N286,漢字読み!$A$2:$O$502,7,0)=0,\"\",VLOOKUP(N286,漢字読み!$A$2:$O$502,7,0)))","v":{"$error":"#N/A"}},{"$f":"IF(O286=\"\",\"\",IF(VLOOKUP(O286,漢字読み!$A$2:$O$502,7,0)=0,\"\",VLOOKUP(O286,漢字読み!$A$2:$O$502,7,0)))","v":{"$error":"#N/A"}},{"$f":"IF(P286=\"\",\"\",IF(VLOOKUP(P286,漢字読み!$A$2:$O$502,7,0)=0,\"\",VLOOKUP(P286,漢字読み!$A$2:$O$502,7,0)))","v":{"$error":"#N/A"}},{"$f":"IF(Q286=\"\",\"\",IF(VLOOKUP(Q286,漢字読み!$A$2:$O$502,7,0)=0,\"\",VLOOKUP(Q286,漢字読み!$A$2:$O$502,7,0)))","v":{"$error":"#N/A"}},{"$f":"IF(R286=\"\",\"\",IF(VLOOKUP(R286,漢字読み!$A$2:$O$502,7,0)=0,\"\",VLOOKUP(R286,漢字読み!$A$2:$O$502,7,0)))","v":{"$error":"#N/A"}},{"$f":"IF(S286=\"\",\"\",IF(VLOOKUP(S286,漢字読み!$A$2:$O$502,7,0)=0,\"\",VLOOKUP(S286,漢字読み!$A$2:$O$502,7,0)))","v":{"$error":"#N/A"}},{"$f":"IF(T286=\"\",\"\",IF(VLOOKUP(T286,漢字読み!$A$2:$O$502,7,0)=0,\"\",VLOOKUP(T286,漢字読み!$A$2:$O$502,7,0)))","v":{"$error":"#N/A"}},null,null,"和歌山県教育委員会"]
[{"$f":"A281","v":0},0,0,0,0,0,0,0,0,0,0,0,0,0,0,0,0,0,0,0]
["⑳","⑲","⑱","⑰","⑯","⑮","⑭","⑬","⑫","⑪","⑩","⑨","⑧","⑦","⑥","⑤","④","③","②","①","次の［　　　　］の部分の漢字には読みがなをひらがなで書き、カタカナは漢字に直しなさい。",13,"「漢字の博士検定試験」練習問題　"]
[{"$f":"IF(A291=\"\",\"\",VLOOKUP(A291,漢字書き!$A$2:$N$506,6,0))","v":{"$error":"#N/A"}},{"$f":"IF(B291=\"\",\"\",VLOOKUP(B291,漢字書き!$A$2:$N$506,6,0))","v":{"$error":"#N/A"}},{"$f":"IF(C291=\"\",\"\",VLOOKUP(C291,漢字書き!$A$2:$N$506,6,0))","v":{"$error":"#N/A"}},{"$f":"IF(D291=\"\",\"\",VLOOKUP(D291,漢字書き!$A$2:$N$506,6,0))","v":{"$error":"#N/A"}},{"$f":"IF(E291=\"\",\"\",VLOOKUP(E291,漢字書き!$A$2:$N$506,6,0))","v":{"$error":"#N/A"}},{"$f":"IF(F291=\"\",\"\",VLOOKUP(F291,漢字書き!$A$2:$N$506,6,0))","v":{"$error":"#N/A"}},{"$f":"IF(G291=\"\",\"\",VLOOKUP(G291,漢字書き!$A$2:$N$506,6,0))","v":{"$error":"#N/A"}},{"$f":"IF(H291=\"\",\"\",VLOOKUP(H291,漢字書き!$A$2:$N$506,6,0))","v":{"$error":"#N/A"}},{"$f":"IF(I291=\"\",\"\",VLOOKUP(I291,漢字書き!$A$2:$N$506,6,0))","v":{"$error":"#N/A"}},{"$f":"IF(J291=\"\",\"\",VLOOKUP(J291,漢字書き!$A$2:$N$506,6,0))","v":{"$error":"#N/A"}},{"$f":"IF(K291=\"\",\"\",VLOOKUP(K291,漢字読み!$A$2:$O$506,6,0))","v":{"$error":"#N/A"}},{"$f":"IF(L291=\"\",\"\",VLOOKUP(L291,漢字読み!$A$2:$O$506,6,0))","v":{"$error":"#N/A"}},{"$f":"IF(M291=\"\",\"\",VLOOKUP(M291,漢字読み!$A$2:$O$506,6,0))","v":{"$error":"#N/A"}},{"$f":"IF(N291=\"\",\"\",VLOOKUP(N291,漢字読み!$A$2:$O$506,6,0))","v":{"$error":"#N/A"}},{"$f":"IF(O291=\"\",\"\",VLOOKUP(O291,漢字読み!$A$2:$O$506,6,0))","v":{"$error":"#N/A"}},{"$f":"IF(P291=\"\",\"\",VLOOKUP(P291,漢字読み!$A$2:$O$506,6,0))","v":{"$error":"#N/A"}},{"$f":"IF(Q291=\"\",\"\",VLOOKUP(Q291,漢字読み!$A$2:$O$506,6,0))","v":{"$error":"#N/A"}},{"$f":"IF(R291=\"\",\"\",VLOOKUP(R291,漢字読み!$A$2:$O$506,6,0))","v":{"$error":"#N/A"}},{"$f":"IF(S291=\"\",\"\",VLOOKUP(S291,漢字読み!$A$2:$O$506,6,0))","v":{"$error":"#N/A"}},{"$f":"IF(T291=\"\",\"\",VLOOKUP(T291,漢字読み!$A$2:$O$506,6,0))","v":{"$error":"#N/A"}},null,"級"]
[{"$f":"IF(A$11=\"\",\"\",VLOOKUP(A291,漢字書き!$A$2:$O$506,8,0))","v":{"$error":"#N/A"}},{"$f":"IF(B$11=\"\",\"\",VLOOKUP(B291,漢字書き!$A$2:$O$506,8,0))","v":{"$error":"#N/A"}},{"$f":"IF(C$11=\"\",\"\",VLOOKUP(C291,漢字書き!$A$2:$O$506,8,0))","v":{"$error":"#N/A"}},{"$f":"IF(D$11=\"\",\"\",VLOOKUP(D291,漢字書き!$A$2:$O$506,8,0))","v":{"$error":"#N/A"}},{"$f":"IF(E$11=\"\",\"\",VLOOKUP(E291,漢字書き!$A$2:$O$506,8,0))","v":{"$error":"#N/A"}},{"$f":"IF(F$11=\"\",\"\",VLOOKUP(F291,漢字書き!$A$2:$O$506,8,0))","v":{"$error":"#N/A"}},{"$f":"IF(G$11=\"\",\"\",VLOOKUP(G291,漢字書き!$A$2:$O$506,8,0))","v":{"$error":"#N/A"}},{"$f":"IF(H$11=\"\",\"\",VLOOKUP(H291,漢字書き!$A$2:$O$506,8,0))","v":{"$error":"#N/A"}},{"$f":"IF(I$11=\"\",\"\",VLOOKUP(I291,漢字書き!$A$2:$O$506,8,0))","v":{"$error":"#N/A"}},{"$f":"IF(J$11=\"\",\"\",VLOOKUP(J291,漢字書き!$A$2:$O$506,8,0))","v":{"$error":"#N/A"}},{"$f":"IF(K$11=\"\",\"\",VLOOKUP(K291,漢字読み!$A$2:$O$506,8,0))","v":{"$error":"#N/A"}},{"$f":"IF(L$11=\"\",\"\",VLOOKUP(L291,漢字読み!$A$2:$O$506,8,0))","v":{"$error":"#N/A"}},{"$f":"IF(M$11=\"\",\"\",VLOOKUP(M291,漢字読み!$A$2:$O$506,8,0))","v":{"$error":"#N/A"}},{"$f":"IF(N$11=\"\",\"\",VLOOKUP(N291,漢字読み!$A$2:$O$506,8,0))","v":{"$error":"#N/A"}},{"$f":"IF(O$11=\"\",\"\",VLOOKUP(O291,漢字読み!$A$2:$O$506,8,0))","v":{"$error":"#N/A"}},{"$f":"IF(P$11=\"\",\"\",VLOOKUP(P291,漢字読み!$A$2:$O$506,8,0))","v":{"$error":"#N/A"}},{"$f":"IF(Q$11=\"\",\"\",VLOOKUP(Q291,漢字読み!$A$2:$O$506,8,0))","v":{"$error":"#N/A"}},{"$f":"IF(R$11=\"\",\"\",VLOOKUP(R291,漢字読み!$A$2:$O$506,8,0))","v":{"$error":"#N/A"}},{"$f":"IF(S$11=\"\",\"\",VLOOKUP(S291,漢字読み!$A$2:$O$506,8,0))","v":{"$error":"#N/A"}},{"$f":"IF(T$11=\"\",\"\",VLOOKUP(T291,漢字読み!$A$2:$O$506,8,0))","v":{"$error":"#N/A"}},null,"名前"]
[{"$f":"IF(A291=\"\",\"\",IF(VLOOKUP(A291,漢字書き!$A$2:$N$502,7,0)=0,\"\",VLOOKUP(A291,漢字書き!$A$2:$N$502,7,0)))","v":{"$error":"#N/A"}},{"$f":"IF(B291=\"\",\"\",IF(VLOOKUP(B291,漢字書き!$A$2:$N$502,7,0)=0,\"\",VLOOKUP(B291,漢字書き!$A$2:$N$502,7,0)))","v":{"$error":"#N/A"}},{"$f":"IF(C291=\"\",\"\",IF(VLOOKUP(C291,漢字書き!$A$2:$N$502,7,0)=0,\"\",VLOOKUP(C291,漢字書き!$A$2:$N$502,7,0)))","v":{"$error":"#N/A"}},{"$f":"IF(D291=\"\",\"\",IF(VLOOKUP(D291,漢字書き!$A$2:$N$502,7,0)=0,\"\",VLOOKUP(D291,漢字書き!$A$2:$N$502,7,0)))","v":{"$error":"#N/A"}},{"$f":"IF(E291=\"\",\"\",IF(VLOOKUP(E291,漢字書き!$A$2:$N$502,7,0)=0,\"\",VLOOKUP(E291,漢字書き!$A$2:$N$502,7,0)))","v":{"$error":"#N/A"}},{"$f":"IF(F291=\"\",\"\",IF(VLOOKUP(F291,漢字書き!$A$2:$N$502,7,0)=0,\"\",VLOOKUP(F291,漢字書き!$A$2:$N$502,7,0)))","v":{"$error":"#N/A"}},{"$f":"IF(G291=\"\",\"\",IF(VLOOKUP(G291,漢字書き!$A$2:$N$502,7,0)=0,\"\",VLOOKUP(G291,漢字書き!$A$2:$N$502,7,0)))","v":{"$error":"#N/A"}},{"$f":"IF(H291=\"\",\"\",IF(VLOOKUP(H291,漢字書き!$A$2:$N$502,7,0)=0,\"\",VLOOKUP(H291,漢字書き!$A$2:$N$502,7,0)))","v":{"$error":"#N/A"}},{"$f":"IF(I291=\"\",\"\",IF(VLOOKUP(I291,漢字書き!$A$2:$N$502,7,0)=0,\"\",VLOOKUP(I291,漢字書き!$A$2:$N$502,7,0)))","v":{"$error":"#N/A"}},{"$f":"IF(J291=\"\",\"\",IF(VLOOKUP(J291,漢字書き!$A$2:$N$502,7,0)=0,\"\",VLOOKUP(J291,漢字書き!$A$2:$N$502,7,0)))","v":{"$error":"#N/A"}},{"$f":"IF(K291=\"\",\"\",IF(VLOOKUP(K291,漢字読み!$A$2:$O$502,7,0)=0,\"\",VLOOKUP(K291,漢字読み!$A$2:$O$502,7,0)))","v":{"$error":"#N/A"}},{"$f":"IF(L291=\"\",\"\",IF(VLOOKUP(L291,漢字読み!$A$2:$O$502,7,0)=0,\"\",VLOOKUP(L291,漢字読み!$A$2:$O$502,7,0)))","v":{"$error":"#N/A"}},{"$f":"IF(M291=\"\",\"\",IF(VLOOKUP(M291,漢字読み!$A$2:$O$502,7,0)=0,\"\",VLOOKUP(M291,漢字読み!$A$2:$O$502,7,0)))","v":{"$error":"#N/A"}},{"$f":"IF(N291=\"\",\"\",IF(VLOOKUP(N291,漢字読み!$A$2:$O$502,7,0)=0,\"\",VLOOKUP(N291,漢字読み!$A$2:$O$502,7,0)))","v":{"$error":"#N/A"}},{"$f":"IF(O291=\"\",\"\",IF(VLOOKUP(O291,漢字読み!$A$2:$O$502,7,0)=0,\"\",VLOOKUP(O291,漢字読み!$A$2:$O$502,7,0)))","v":{"$error":"#N/A"}},{"$f":"IF(P291=\"\",\"\",IF(VLOOKUP(P291,漢字読み!$A$2:$O$502,7,0)=0,\"\",VLOOKUP(P291,漢字読み!$A$2:$O$502,7,0)))","v":{"$error":"#N/A"}},{"$f":"IF(Q291=\"\",\"\",IF(VLOOKUP(Q291,漢字読み!$A$2:$O$502,7,0)=0,\"\",VLOOKUP(Q291,漢字読み!$A$2:$O$502,7,0)))","v":{"$error":"#N/A"}},{"$f":"IF(R291=\"\",\"\",IF(VLOOKUP(R291,漢字読み!$A$2:$O$502,7,0)=0,\"\",VLOOKUP(R291,漢字読み!$A$2:$O$502,7,0)))","v":{"$error":"#N/A"}},{"$f":"IF(S291=\"\",\"\",IF(VLOOKUP(S291,漢字読み!$A$2:$O$502,7,0)=0,\"\",VLOOKUP(S291,漢字読み!$A$2:$O$502,7,0)))","v":{"$error":"#N/A"}},{"$f":"IF(T291=\"\",\"\",IF(VLOOKUP(T291,漢字読み!$A$2:$O$502,7,0)=0,\"\",VLOOKUP(T291,漢字読み!$A$2:$O$502,7,0)))","v":{"$error":"#N/A"}},null,null,"和歌山県教育委員会"]
[{"$f":"A286","v":0},0,0,0,0,0,0,0,0,0,0,0,0,0,0,0,0,0,0,0]
["⑳","⑲","⑱","⑰","⑯","⑮","⑭","⑬","⑫","⑪","⑩","⑨","⑧","⑦","⑥","⑤","④","③","②","①","次の［　　　　］の部分の漢字には読みがなをひらがなで書き、カタカナは漢字に直しなさい。",13,"「漢字の博士検定試験」練習問題　"]
[{"$f":"IF(A296=\"\",\"\",VLOOKUP(A296,漢字書き!$A$2:$N$506,6,0))","v":{"$error":"#N/A"}},{"$f":"IF(B296=\"\",\"\",VLOOKUP(B296,漢字書き!$A$2:$N$506,6,0))","v":{"$error":"#N/A"}},{"$f":"IF(C296=\"\",\"\",VLOOKUP(C296,漢字書き!$A$2:$N$506,6,0))","v":{"$error":"#N/A"}},{"$f":"IF(D296=\"\",\"\",VLOOKUP(D296,漢字書き!$A$2:$N$506,6,0))","v":{"$error":"#N/A"}},{"$f":"IF(E296=\"\",\"\",VLOOKUP(E296,漢字書き!$A$2:$N$506,6,0))","v":{"$error":"#N/A"}},{"$f":"IF(F296=\"\",\"\",VLOOKUP(F296,漢字書き!$A$2:$N$506,6,0))","v":{"$error":"#N/A"}},{"$f":"IF(G296=\"\",\"\",VLOOKUP(G296,漢字書き!$A$2:$N$506,6,0))","v":{"$error":"#N/A"}},{"$f":"IF(H296=\"\",\"\",VLOOKUP(H296,漢字書き!$A$2:$N$506,6,0))","v":{"$error":"#N/A"}},{"$f":"IF(I296=\"\",\"\",VLOOKUP(I296,漢字書き!$A$2:$N$506,6,0))","v":{"$error":"#N/A"}},{"$f":"IF(J296=\"\",\"\",VLOOKUP(J296,漢字書き!$A$2:$N$506,6,0))","v":{"$error":"#N/A"}},{"$f":"IF(K296=\"\",\"\",VLOOKUP(K296,漢字読み!$A$2:$O$506,6,0))","v":{"$error":"#N/A"}},{"$f":"IF(L296=\"\",\"\",VLOOKUP(L296,漢字読み!$A$2:$O$506,6,0))","v":{"$error":"#N/A"}},{"$f":"IF(M296=\"\",\"\",VLOOKUP(M296,漢字読み!$A$2:$O$506,6,0))","v":{"$error":"#N/A"}},{"$f":"IF(N296=\"\",\"\",VLOOKUP(N296,漢字読み!$A$2:$O$506,6,0))","v":{"$error":"#N/A"}},{"$f":"IF(O296=\"\",\"\",VLOOKUP(O296,漢字読み!$A$2:$O$506,6,0))","v":{"$error":"#N/A"}},{"$f":"IF(P296=\"\",\"\",VLOOKUP(P296,漢字読み!$A$2:$O$506,6,0))","v":{"$error":"#N/A"}},{"$f":"IF(Q296=\"\",\"\",VLOOKUP(Q296,漢字読み!$A$2:$O$506,6,0))","v":{"$error":"#N/A"}},{"$f":"IF(R296=\"\",\"\",VLOOKUP(R296,漢字読み!$A$2:$O$506,6,0))","v":{"$error":"#N/A"}},{"$f":"IF(S296=\"\",\"\",VLOOKUP(S296,漢字読み!$A$2:$O$506,6,0))","v":{"$error":"#N/A"}},{"$f":"IF(T296=\"\",\"\",VLOOKUP(T296,漢字読み!$A$2:$O$506,6,0))","v":{"$error":"#N/A"}},null,"級"]
[{"$f":"IF(A$16=\"\",\"\",VLOOKUP(A296,漢字書き!$A$2:$O$506,8,0))","v":{"$error":"#N/A"}},{"$f":"IF(B$16=\"\",\"\",VLOOKUP(B296,漢字書き!$A$2:$O$506,8,0))","v":{"$error":"#N/A"}},{"$f":"IF(C$16=\"\",\"\",VLOOKUP(C296,漢字書き!$A$2:$O$506,8,0))","v":{"$error":"#N/A"}},{"$f":"IF(D$16=\"\",\"\",VLOOKUP(D296,漢字書き!$A$2:$O$506,8,0))","v":{"$error":"#N/A"}},{"$f":"IF(E$16=\"\",\"\",VLOOKUP(E296,漢字書き!$A$2:$O$506,8,0))","v":{"$error":"#N/A"}},{"$f":"IF(F$16=\"\",\"\",VLOOKUP(F296,漢字書き!$A$2:$O$506,8,0))","v":{"$error":"#N/A"}},{"$f":"IF(G$16=\"\",\"\",VLOOKUP(G296,漢字書き!$A$2:$O$506,8,0))","v":{"$error":"#N/A"}},{"$f":"IF(H$16=\"\",\"\",VLOOKUP(H296,漢字書き!$A$2:$O$506,8,0))","v":{"$error":"#N/A"}},{"$f":"IF(I$16=\"\",\"\",VLOOKUP(I296,漢字書き!$A$2:$O$506,8,0))","v":{"$error":"#N/A"}},{"$f":"IF(J$16=\"\",\"\",VLOOKUP(J296,漢字書き!$A$2:$O$506,8,0))","v":{"$error":"#N/A"}},{"$f":"IF(K$16=\"\",\"\",VLOOKUP(K296,漢字読み!$A$2:$O$506,8,0))","v":{"$error":"#N/A"}},{"$f":"IF(L$16=\"\",\"\",VLOOKUP(L296,漢字読み!$A$2:$O$506,8,0))","v":{"$error":"#N/A"}},{"$f":"IF(M$16=\"\",\"\",VLOOKUP(M296,漢字読み!$A$2:$O$506,8,0))","v":{"$error":"#N/A"}},{"$f":"IF(N$16=\"\",\"\",VLOOKUP(N296,漢字読み!$A$2:$O$506,8,0))","v":{"$error":"#N/A"}},{"$f":"IF(O$16=\"\",\"\",VLOOKUP(O296,漢字読み!$A$2:$O$506,8,0))","v":{"$error":"#N/A"}},{"$f":"IF(P$16=\"\",\"\",VLOOKUP(P296,漢字読み!$A$2:$O$506,8,0))","v":{"$error":"#N/A"}},{"$f":"IF(Q$16=\"\",\"\",VLOOKUP(Q296,漢字読み!$A$2:$O$506,8,0))","v":{"$error":"#N/A"}},{"$f":"IF(R$16=\"\",\"\",VLOOKUP(R296,漢字読み!$A$2:$O$506,8,0))","v":{"$error":"#N/A"}},{"$f":"IF(S$16=\"\",\"\",VLOOKUP(S296,漢字読み!$A$2:$O$506,8,0))","v":{"$error":"#N/A"}},{"$f":"IF(T$16=\"\",\"\",VLOOKUP(T296,漢字読み!$A$2:$O$506,8,0))","v":{"$error":"#N/A"}},null,"名前"]
[{"$f":"IF(A296=\"\",\"\",IF(VLOOKUP(A296,漢字書き!$A$2:$N$502,7,0)=0,\"\",VLOOKUP(A296,漢字書き!$A$2:$N$502,7,0)))","v":{"$error":"#N/A"}},{"$f":"IF(B296=\"\",\"\",IF(VLOOKUP(B296,漢字書き!$A$2:$N$502,7,0)=0,\"\",VLOOKUP(B296,漢字書き!$A$2:$N$502,7,0)))","v":{"$error":"#N/A"}},{"$f":"IF(C296=\"\",\"\",IF(VLOOKUP(C296,漢字書き!$A$2:$N$502,7,0)=0,\"\",VLOOKUP(C296,漢字書き!$A$2:$N$502,7,0)))","v":{"$error":"#N/A"}},{"$f":"IF(D296=\"\",\"\",IF(VLOOKUP(D296,漢字書き!$A$2:$N$502,7,0)=0,\"\",VLOOKUP(D296,漢字書き!$A$2:$N$502,7,0)))","v":{"$error":"#N/A"}},{"$f":"IF(E296=\"\",\"\",IF(VLOOKUP(E296,漢字書き!$A$2:$N$502,7,0)=0,\"\",VLOOKUP(E296,漢字書き!$A$2:$N$502,7,0)))","v":{"$error":"#N/A"}},{"$f":"IF(F296=\"\",\"\",IF(VLOOKUP(F296,漢字書き!$A$2:$N$502,7,0)=0,\"\",VLOOKUP(F296,漢字書き!$A$2:$N$502,7,0)))","v":{"$error":"#N/A"}},{"$f":"IF(G296=\"\",\"\",IF(VLOOKUP(G296,漢字書き!$A$2:$N$502,7,0)=0,\"\",VLOOKUP(G296,漢字書き!$A$2:$N$502,7,0)))","v":{"$error":"#N/A"}},{"$f":"IF(H296=\"\",\"\",IF(VLOOKUP(H296,漢字書き!$A$2:$N$502,7,0)=0,\"\",VLOOKUP(H296,漢字書き!$A$2:$N$502,7,0)))","v":{"$error":"#N/A"}},{"$f":"IF(I296=\"\",\"\",IF(VLOOKUP(I296,漢字書き!$A$2:$N$502,7,0)=0,\"\",VLOOKUP(I296,漢字書き!$A$2:$N$502,7,0)))","v":{"$error":"#N/A"}},{"$f":"IF(J296=\"\",\"\",IF(VLOOKUP(J296,漢字書き!$A$2:$N$502,7,0)=0,\"\",VLOOKUP(J296,漢字書き!$A$2:$N$502,7,0)))","v":{"$error":"#N/A"}},{"$f":"IF(K296=\"\",\"\",IF(VLOOKUP(K296,漢字読み!$A$2:$O$502,7,0)=0,\"\",VLOOKUP(K296,漢字読み!$A$2:$O$502,7,0)))","v":{"$error":"#N/A"}},{"$f":"IF(L296=\"\",\"\",IF(VLOOKUP(L296,漢字読み!$A$2:$O$502,7,0)=0,\"\",VLOOKUP(L296,漢字読み!$A$2:$O$502,7,0)))","v":{"$error":"#N/A"}},{"$f":"IF(M296=\"\",\"\",IF(VLOOKUP(M296,漢字読み!$A$2:$O$502,7,0)=0,\"\",VLOOKUP(M296,漢字読み!$A$2:$O$502,7,0)))","v":{"$error":"#N/A"}},{"$f":"IF(N296=\"\",\"\",IF(VLOOKUP(N296,漢字読み!$A$2:$O$502,7,0)=0,\"\",VLOOKUP(N296,漢字読み!$A$2:$O$502,7,0)))","v":{"$error":"#N/A"}},{"$f":"IF(O296=\"\",\"\",IF(VLOOKUP(O296,漢字読み!$A$2:$O$502,7,0)=0,\"\",VLOOKUP(O296,漢字読み!$A$2:$O$502,7,0)))","v":{"$error":"#N/A"}},{"$f":"IF(P296=\"\",\"\",IF(VLOOKUP(P296,漢字読み!$A$2:$O$502,7,0)=0,\"\",VLOOKUP(P296,漢字読み!$A$2:$O$502,7,0)))","v":{"$error":"#N/A"}},{"$f":"IF(Q296=\"\",\"\",IF(VLOOKUP(Q296,漢字読み!$A$2:$O$502,7,0)=0,\"\",VLOOKUP(Q296,漢字読み!$A$2:$O$502,7,0)))","v":{"$error":"#N/A"}},{"$f":"IF(R296=\"\",\"\",IF(VLOOKUP(R296,漢字読み!$A$2:$O$502,7,0)=0,\"\",VLOOKUP(R296,漢字読み!$A$2:$O$502,7,0)))","v":{"$error":"#N/A"}},{"$f":"IF(S296=\"\",\"\",IF(VLOOKUP(S296,漢字読み!$A$2:$O$502,7,0)=0,\"\",VLOOKUP(S296,漢字読み!$A$2:$O$502,7,0)))","v":{"$error":"#N/A"}},{"$f":"IF(T296=\"\",\"\",IF(VLOOKUP(T296,漢字読み!$A$2:$O$502,7,0)=0,\"\",VLOOKUP(T296,漢字読み!$A$2:$O$502,7,0)))","v":{"$error":"#N/A"}},null,null,"和歌山県教育委員会"]
[{"$f":"INDIRECT(\"'関数（書き）'!C\" & COLUMN(B$1)+SUM($AD$2:$AD302))","v":0},{"$f":"INDIRECT(\"'関数（書き）'!C\" & COLUMN(C$1)+SUM($AD$2:$AD302))","v":0},{"$f":"INDIRECT(\"'関数（書き）'!C\" & COLUMN(D$1)+SUM($AD$2:$AD302))","v":0},{"$f":"INDIRECT(\"'関数（書き）'!C\" & COLUMN(E$1)+SUM($AD$2:$AD302))","v":0},{"$f":"INDIRECT(\"'関数（書き）'!C\" & COLUMN(F$1)+SUM($AD$2:$AD302))","v":0},{"$f":"INDIRECT(\"'関数（書き）'!C\" & COLUMN(G$1)+SUM($AD$2:$AD302))","v":0},{"$f":"INDIRECT(\"'関数（書き）'!C\" & COLUMN(H$1)+SUM($AD$2:$AD302))","v":0},{"$f":"INDIRECT(\"'関数（書き）'!C\" & COLUMN(I$1)+SUM($AD$2:$AD302))","v":0},{"$f":"INDIRECT(\"'関数（書き）'!C\" & COLUMN(J$1)+SUM($AD$2:$AD302))","v":0},{"$f":"INDIRECT(\"'関数（書き）'!C\" & COLUMN(K$1)+SUM($AD$2:$AD302))","v":0},{"$f":"INDIRECT(\"'関数（読み）'!C\" & COLUMN(B$1)+SUM($AD$2:$AD302))","v":0},{"$f":"INDIRECT(\"'関数（読み）'!C\" & COLUMN(C$1)+SUM($AD$2:$AD302))","v":0},{"$f":"INDIRECT(\"'関数（読み）'!C\" & COLUMN(D$1)+SUM($AD$2:$AD302))","v":0},{"$f":"INDIRECT(\"'関数（読み）'!C\" & COLUMN(E$1)+SUM($AD$2:$AD302))","v":0},{"$f":"INDIRECT(\"'関数（読み）'!C\" & COLUMN(F$1)+SUM($AD$2:$AD302))","v":0},{"$f":"INDIRECT(\"'関数（読み）'!C\" & COLUMN(G$1)+SUM($AD$2:$AD302))","v":0},{"$f":"INDIRECT(\"'関数（読み）'!C\" & COLUMN(H$1)+SUM($AD$2:$AD302))","v":0},{"$f":"INDIRECT(\"'関数（読み）'!C\" & COLUMN(I$1)+SUM($AD$2:$AD302))","v":0},{"$f":"INDIRECT(\"'関数（読み）'!C\" & COLUMN(J$1)+SUM($AD$2:$AD302))","v":0},{"$f":"INDIRECT(\"'関数（読み）'!C\" & COLUMN(K$1)+SUM($AD$2:$AD302))","v":0}]
["⑳","⑲","⑱","⑰","⑯","⑮","⑭","⑬","⑫","⑪","⑩","⑨","⑧","⑦","⑥","⑤","④","③","②","①","次の［　　　　］の部分の漢字には読みがなをひらがなで書き、カタカナは漢字に直しなさい。",13,"「漢字の博士検定試験」練習問題　",null,null,null,null,null,"←",10,"問",{"$f":"AH287+1","v":301},"～",{"$f":"SUM($AD$2:$AD302)+10","v":310},"問まで",{"$f":"COUNTIF($A$1:$T$200,T303)","v":0}]
[{"$f":"IF(A301=\"\",\"\",VLOOKUP(A301,漢字書き!$A$2:$N$506,6,0))","v":{"$error":"#N/A"}},{"$f":"IF(B301=\"\",\"\",VLOOKUP(B301,漢字書き!$A$2:$N$506,6,0))","v":{"$error":"#N/A"}},{"$f":"IF(C301=\"\",\"\",VLOOKUP(C301,漢字書き!$A$2:$N$506,6,0))","v":{"$error":"#N/A"}},{"$f":"IF(D301=\"\",\"\",VLOOKUP(D301,漢字書き!$A$2:$N$506,6,0))","v":{"$error":"#N/A"}},{"$f":"IF(E301=\"\",\"\",VLOOKUP(E301,漢字書き!$A$2:$N$506,6,0))","v":{"$error":"#N/A"}},{"$f":"IF(F301=\"\",\"\",VLOOKUP(F301,漢字書き!$A$2:$N$506,6,0))","v":{"$error":"#N/A"}},{"$f":"IF(G301=\"\",\"\",VLOOKUP(G301,漢字書き!$A$2:$N$506,6,0))","v":{"$error":"#N/A"}},{"$f":"IF(H301=\"\",\"\",VLOOKUP(H301,漢字書き!$A$2:$N$506,6,0))","v":{"$error":"#N/A"}},{"$f":"IF(I301=\"\",\"\",VLOOKUP(I301,漢字書き!$A$2:$N$506,6,0))","v":{"$error":"#N/A"}},{"$f":"IF(J301=\"\",\"\",VLOOKUP(J301,漢字書き!$A$2:$N$506,6,0))","v":{"$error":"#N/A"}},{"$f":"IF(K301=\"\",\"\",VLOOKUP(K301,漢字読み!$A$2:$O$506,6,0))","v":{"$error":"#N/A"}},{"$f":"IF(L301=\"\",\"\",VLOOKUP(L301,漢字読み!$A$2:$O$506,6,0))","v":{"$error":"#N/A"}},{"$f":"IF(M301=\"\",\"\",VLOOKUP(M301,漢字読み!$A$2:$O$506,6,0))","v":{"$error":"#N/A"}},{"$f":"IF(N301=\"\",\"\",VLOOKUP(N301,漢字読み!$A$2:$O$506,6,0))","v":{"$error":"#N/A"}},{"$f":"IF(O301=\"\",\"\",VLOOKUP(O301,漢字読み!$A$2:$O$506,6,0))","v":{"$error":"#N/A"}},{"$f":"IF(P301=\"\",\"\",VLOOKUP(P301,漢字読み!$A$2:$O$506,6,0))","v":{"$error":"#N/A"}},{"$f":"IF(Q301=\"\",\"\",VLOOKUP(Q301,漢字読み!$A$2:$O$506,6,0))","v":{"$error":"#N/A"}},{"$f":"IF(R301=\"\",\"\",VLOOKUP(R301,漢字読み!$A$2:$O$506,6,0))","v":{"$error":"#N/A"}},{"$f":"IF(S301=\"\",\"\",VLOOKUP(S301,漢字読み!$A$2:$O$506,6,0))","v":{"$error":"#N/A"}},{"$f":"IF(T301=\"\",\"\",VLOOKUP(T301,漢字読み!$A$2:$O$506,6,0))","v":{"$error":"#N/A"}},null,"級"]
[null,null,null,null,null,null,null,null,null,null,null,null,null,null,null,null,null,null,null,null,null,"名前"]
[{"$f":"IF(A301=\"\",\"\",IF(VLOOKUP(A301,漢字書き!$A$2:$N$502,7,0)=0,\"\",VLOOKUP(A301,漢字書き!$A$2:$N$502,7,0)))","v":{"$error":"#N/A"}},{"$f":"IF(B301=\"\",\"\",IF(VLOOKUP(B301,漢字書き!$A$2:$N$502,7,0)=0,\"\",VLOOKUP(B301,漢字書き!$A$2:$N$502,7,0)))","v":{"$error":"#N/A"}},{"$f":"IF(C301=\"\",\"\",IF(VLOOKUP(C301,漢字書き!$A$2:$N$502,7,0)=0,\"\",VLOOKUP(C301,漢字書き!$A$2:$N$502,7,0)))","v":{"$error":"#N/A"}},{"$f":"IF(D301=\"\",\"\",IF(VLOOKUP(D301,漢字書き!$A$2:$N$502,7,0)=0,\"\",VLOOKUP(D301,漢字書き!$A$2:$N$502,7,0)))","v":{"$error":"#N/A"}},{"$f":"IF(E301=\"\",\"\",IF(VLOOKUP(E301,漢字書き!$A$2:$N$502,7,0)=0,\"\",VLOOKUP(E301,漢字書き!$A$2:$N$502,7,0)))","v":{"$error":"#N/A"}},{"$f":"IF(F301=\"\",\"\",IF(VLOOKUP(F301,漢字書き!$A$2:$N$502,7,0)=0,\"\",VLOOKUP(F301,漢字書き!$A$2:$N$502,7,0)))","v":{"$error":"#N/A"}},{"$f":"IF(G301=\"\",\"\",IF(VLOOKUP(G301,漢字書き!$A$2:$N$502,7,0)=0,\"\",VLOOKUP(G301,漢字書き!$A$2:$N$502,7,0)))","v":{"$error":"#N/A"}},{"$f":"IF(H301=\"\",\"\",IF(VLOOKUP(H301,漢字書き!$A$2:$N$502,7,0)=0,\"\",VLOOKUP(H301,漢字書き!$A$2:$N$502,7,0)))","v":{"$error":"#N/A"}},{"$f":"IF(I301=\"\",\"\",IF(VLOOKUP(I301,漢字書き!$A$2:$N$502,7,0)=0,\"\",VLOOKUP(I301,漢字書き!$A$2:$N$502,7,0)))","v":{"$error":"#N/A"}},{"$f":"IF(J301=\"\",\"\",IF(VLOOKUP(J301,漢字書き!$A$2:$N$502,7,0)=0,\"\",VLOOKUP(J301,漢字書き!$A$2:$N$502,7,0)))","v":{"$error":"#N/A"}},{"$f":"IF(K301=\"\",\"\",IF(VLOOKUP(K301,漢字読み!$A$2:$O$502,7,0)=0,\"\",VLOOKUP(K301,漢字読み!$A$2:$O$502,7,0)))","v":{"$error":"#N/A"}},{"$f":"IF(L301=\"\",\"\",IF(VLOOKUP(L301,漢字読み!$A$2:$O$502,7,0)=0,\"\",VLOOKUP(L301,漢字読み!$A$2:$O$502,7,0)))","v":{"$error":"#N/A"}},{"$f":"IF(M301=\"\",\"\",IF(VLOOKUP(M301,漢字読み!$A$2:$O$502,7,0)=0,\"\",VLOOKUP(M301,漢字読み!$A$2:$O$502,7,0)))","v":{"$error":"#N/A"}},{"$f":"IF(N301=\"\",\"\",IF(VLOOKUP(N301,漢字読み!$A$2:$O$502,7,0)=0,\"\",VLOOKUP(N301,漢字読み!$A$2:$O$502,7,0)))","v":{"$error":"#N/A"}},{"$f":"IF(O301=\"\",\"\",IF(VLOOKUP(O301,漢字読み!$A$2:$O$502,7,0)=0,\"\",VLOOKUP(O301,漢字読み!$A$2:$O$502,7,0)))","v":{"$error":"#N/A"}},{"$f":"IF(P301=\"\",\"\",IF(VLOOKUP(P301,漢字読み!$A$2:$O$502,7,0)=0,\"\",VLOOKUP(P301,漢字読み!$A$2:$O$502,7,0)))","v":{"$error":"#N/A"}},{"$f":"IF(Q301=\"\",\"\",IF(VLOOKUP(Q301,漢字読み!$A$2:$O$502,7,0)=0,\"\",VLOOKUP(Q301,漢字読み!$A$2:$O$502,7,0)))","v":{"$error":"#N/A"}},{"$f":"IF(R301=\"\",\"\",IF(VLOOKUP(R301,漢字読み!$A$2:$O$502,7,0)=0,\"\",VLOOKUP(R301,漢字読み!$A$2:$O$502,7,0)))","v":{"$error":"#N/A"}},{"$f":"IF(S301=\"\",\"\",IF(VLOOKUP(S301,漢字読み!$A$2:$O$502,7,0)=0,\"\",VLOOKUP(S301,漢字読み!$A$2:$O$502,7,0)))","v":{"$error":"#N/A"}},{"$f":"IF(T301=\"\",\"\",IF(VLOOKUP(T301,漢字読み!$A$2:$O$502,7,0)=0,\"\",VLOOKUP(T301,漢字読み!$A$2:$O$502,7,0)))","v":{"$error":"#N/A"}},null,null,"和歌山県教育委員会"]
[{"$f":"INDIRECT(\"'関数（書き）'!C\" & COLUMN(B$1)+SUM($AD$2:$AD307))","v":0},{"$f":"INDIRECT(\"'関数（書き）'!C\" & COLUMN(C$1)+SUM($AD$2:$AD307))","v":0},{"$f":"INDIRECT(\"'関数（書き）'!C\" & COLUMN(D$1)+SUM($AD$2:$AD307))","v":0},{"$f":"INDIRECT(\"'関数（書き）'!C\" & COLUMN(E$1)+SUM($AD$2:$AD307))","v":0},{"$f":"INDIRECT(\"'関数（書き）'!C\" & COLUMN(F$1)+SUM($AD$2:$AD307))","v":0},{"$f":"INDIRECT(\"'関数（書き）'!C\" & COLUMN(G$1)+SUM($AD$2:$AD307))","v":0},{"$f":"INDIRECT(\"'関数（書き）'!C\" & COLUMN(H$1)+SUM($AD$2:$AD307))","v":0},{"$f":"INDIRECT(\"'関数（書き）'!C\" & COLUMN(I$1)+SUM($AD$2:$AD307))","v":0},{"$f":"INDIRECT(\"'関数（書き）'!C\" & COLUMN(J$1)+SUM($AD$2:$AD307))","v":0},{"$f":"INDIRECT(\"'関数（書き）'!C\" & COLUMN(K$1)+SUM($AD$2:$AD307))","v":0},{"$f":"INDIRECT(\"'関数（読み）'!C\" & COLUMN(B$1)+SUM($AD$2:$AD307))","v":0},{"$f":"INDIRECT(\"'関数（読み）'!C\" & COLUMN(C$1)+SUM($AD$2:$AD307))","v":0},{"$f":"INDIRECT(\"'関数（読み）'!C\" & COLUMN(D$1)+SUM($AD$2:$AD307))","v":0},{"$f":"INDIRECT(\"'関数（読み）'!C\" & COLUMN(E$1)+SUM($AD$2:$AD307))","v":0},{"$f":"INDIRECT(\"'関数（読み）'!C\" & COLUMN(F$1)+SUM($AD$2:$AD307))","v":0},{"$f":"INDIRECT(\"'関数（読み）'!C\" & COLUMN(G$1)+SUM($AD$2:$AD307))","v":0},{"$f":"INDIRECT(\"'関数（読み）'!C\" & COLUMN(H$1)+SUM($AD$2:$AD307))","v":0},{"$f":"INDIRECT(\"'関数（読み）'!C\" & COLUMN(I$1)+SUM($AD$2:$AD307))","v":0},{"$f":"INDIRECT(\"'関数（読み）'!C\" & COLUMN(J$1)+SUM($AD$2:$AD307))","v":0},{"$f":"INDIRECT(\"'関数（読み）'!C\" & COLUMN(K$1)+SUM($AD$2:$AD307))","v":0}]
["⑳","⑲","⑱","⑰","⑯","⑮","⑭","⑬","⑫","⑪","⑩","⑨","⑧","⑦","⑥","⑤","④","③","②","①","次の［　　　　］の部分の漢字には読みがなをひらがなで書き、カタカナは漢字に直しなさい。",13,"「漢字の博士検定試験」練習問題　",null,null,null,null,null,"←",10,"問",{"$f":"AH302+1","v":311},"～",{"$f":"SUM($AD$2:$AD307)+10","v":320},"問まで",{"$f":"COUNTIF($A$1:$T$200,T308)","v":0}]
[{"$f":"IF(A306=\"\",\"\",VLOOKUP(A306,漢字書き!$A$2:$N$506,6,0))","v":{"$error":"#N/A"}},{"$f":"IF(B306=\"\",\"\",VLOOKUP(B306,漢字書き!$A$2:$N$506,6,0))","v":{"$error":"#N/A"}},{"$f":"IF(C306=\"\",\"\",VLOOKUP(C306,漢字書き!$A$2:$N$506,6,0))","v":{"$error":"#N/A"}},{"$f":"IF(D306=\"\",\"\",VLOOKUP(D306,漢字書き!$A$2:$N$506,6,0))","v":{"$error":"#N/A"}},{"$f":"IF(E306=\"\",\"\",VLOOKUP(E306,漢字書き!$A$2:$N$506,6,0))","v":{"$error":"#N/A"}},{"$f":"IF(F306=\"\",\"\",VLOOKUP(F306,漢字書き!$A$2:$N$506,6,0))","v":{"$error":"#N/A"}},{"$f":"IF(G306=\"\",\"\",VLOOKUP(G306,漢字書き!$A$2:$N$506,6,0))","v":{"$error":"#N/A"}},{"$f":"IF(H306=\"\",\"\",VLOOKUP(H306,漢字書き!$A$2:$N$506,6,0))","v":{"$error":"#N/A"}},{"$f":"IF(I306=\"\",\"\",VLOOKUP(I306,漢字書き!$A$2:$N$506,6,0))","v":{"$error":"#N/A"}},{"$f":"IF(J306=\"\",\"\",VLOOKUP(J306,漢字書き!$A$2:$N$506,6,0))","v":{"$error":"#N/A"}},{"$f":"IF(K306=\"\",\"\",VLOOKUP(K306,漢字読み!$A$2:$O$506,6,0))","v":{"$error":"#N/A"}},{"$f":"IF(L306=\"\",\"\",VLOOKUP(L306,漢字読み!$A$2:$O$506,6,0))","v":{"$error":"#N/A"}},{"$f":"IF(M306=\"\",\"\",VLOOKUP(M306,漢字読み!$A$2:$O$506,6,0))","v":{"$error":"#N/A"}},{"$f":"IF(N306=\"\",\"\",VLOOKUP(N306,漢字読み!$A$2:$O$506,6,0))","v":{"$error":"#N/A"}},{"$f":"IF(O306=\"\",\"\",VLOOKUP(O306,漢字読み!$A$2:$O$506,6,0))","v":{"$error":"#N/A"}},{"$f":"IF(P306=\"\",\"\",VLOOKUP(P306,漢字読み!$A$2:$O$506,6,0))","v":{"$error":"#N/A"}},{"$f":"IF(Q306=\"\",\"\",VLOOKUP(Q306,漢字読み!$A$2:$O$506,6,0))","v":{"$error":"#N/A"}},{"$f":"IF(R306=\"\",\"\",VLOOKUP(R306,漢字読み!$A$2:$O$506,6,0))","v":{"$error":"#N/A"}},{"$f":"IF(S306=\"\",\"\",VLOOKUP(S306,漢字読み!$A$2:$O$506,6,0))","v":{"$error":"#N/A"}},{"$f":"IF(T306=\"\",\"\",VLOOKUP(T306,漢字読み!$A$2:$O$506,6,0))","v":{"$error":"#N/A"}},null,"級"]
[null,null,null,null,null,null,null,null,null,null,null,null,null,null,null,null,null,null,null,null,null,"名前"]
[{"$f":"IF(A306=\"\",\"\",IF(VLOOKUP(A306,漢字書き!$A$2:$N$502,7,0)=0,\"\",VLOOKUP(A306,漢字書き!$A$2:$N$502,7,0)))","v":{"$error":"#N/A"}},{"$f":"IF(B306=\"\",\"\",IF(VLOOKUP(B306,漢字書き!$A$2:$N$502,7,0)=0,\"\",VLOOKUP(B306,漢字書き!$A$2:$N$502,7,0)))","v":{"$error":"#N/A"}},{"$f":"IF(C306=\"\",\"\",IF(VLOOKUP(C306,漢字書き!$A$2:$N$502,7,0)=0,\"\",VLOOKUP(C306,漢字書き!$A$2:$N$502,7,0)))","v":{"$error":"#N/A"}},{"$f":"IF(D306=\"\",\"\",IF(VLOOKUP(D306,漢字書き!$A$2:$N$502,7,0)=0,\"\",VLOOKUP(D306,漢字書き!$A$2:$N$502,7,0)))","v":{"$error":"#N/A"}},{"$f":"IF(E306=\"\",\"\",IF(VLOOKUP(E306,漢字書き!$A$2:$N$502,7,0)=0,\"\",VLOOKUP(E306,漢字書き!$A$2:$N$502,7,0)))","v":{"$error":"#N/A"}},{"$f":"IF(F306=\"\",\"\",IF(VLOOKUP(F306,漢字書き!$A$2:$N$502,7,0)=0,\"\",VLOOKUP(F306,漢字書き!$A$2:$N$502,7,0)))","v":{"$error":"#N/A"}},{"$f":"IF(G306=\"\",\"\",IF(VLOOKUP(G306,漢字書き!$A$2:$N$502,7,0)=0,\"\",VLOOKUP(G306,漢字書き!$A$2:$N$502,7,0)))","v":{"$error":"#N/A"}},{"$f":"IF(H306=\"\",\"\",IF(VLOOKUP(H306,漢字書き!$A$2:$N$502,7,0)=0,\"\",VLOOKUP(H306,漢字書き!$A$2:$N$502,7,0)))","v":{"$error":"#N/A"}},{"$f":"IF(I306=\"\",\"\",IF(VLOOKUP(I306,漢字書き!$A$2:$N$502,7,0)=0,\"\",VLOOKUP(I306,漢字書き!$A$2:$N$502,7,0)))","v":{"$error":"#N/A"}},{"$f":"IF(J306=\"\",\"\",IF(VLOOKUP(J306,漢字書き!$A$2:$N$502,7,0)=0,\"\",VLOOKUP(J306,漢字書き!$A$2:$N$502,7,0)))","v":{"$error":"#N/A"}},{"$f":"IF(K306=\"\",\"\",IF(VLOOKUP(K306,漢字読み!$A$2:$O$502,7,0)=0,\"\",VLOOKUP(K306,漢字読み!$A$2:$O$502,7,0)))","v":{"$error":"#N/A"}},{"$f":"IF(L306=\"\",\"\",IF(VLOOKUP(L306,漢字読み!$A$2:$O$502,7,0)=0,\"\",VLOOKUP(L306,漢字読み!$A$2:$O$502,7,0)))","v":{"$error":"#N/A"}},{"$f":"IF(M306=\"\",\"\",IF(VLOOKUP(M306,漢字読み!$A$2:$O$502,7,0)=0,\"\",VLOOKUP(M306,漢字読み!$A$2:$O$502,7,0)))","v":{"$error":"#N/A"}},{"$f":"IF(N306=\"\",\"\",IF(VLOOKUP(N306,漢字読み!$A$2:$O$502,7,0)=0,\"\",VLOOKUP(N306,漢字読み!$A$2:$O$502,7,0)))","v":{"$error":"#N/A"}},{"$f":"IF(O306=\"\",\"\",IF(VLOOKUP(O306,漢字読み!$A$2:$O$502,7,0)=0,\"\",VLOOKUP(O306,漢字読み!$A$2:$O$502,7,0)))","v":{"$error":"#N/A"}},{"$f":"IF(P306=\"\",\"\",IF(VLOOKUP(P306,漢字読み!$A$2:$O$502,7,0)=0,\"\",VLOOKUP(P306,漢字読み!$A$2:$O$502,7,0)))","v":{"$error":"#N/A"}},{"$f":"IF(Q306=\"\",\"\",IF(VLOOKUP(Q306,漢字読み!$A$2:$O$502,7,0)=0,\"\",VLOOKUP(Q306,漢字読み!$A$2:$O$502,7,0)))","v":{"$error":"#N/A"}},{"$f":"IF(R306=\"\",\"\",IF(VLOOKUP(R306,漢字読み!$A$2:$O$502,7,0)=0,\"\",VLOOKUP(R306,漢字読み!$A$2:$O$502,7,0)))","v":{"$error":"#N/A"}},{"$f":"IF(S306=\"\",\"\",IF(VLOOKUP(S306,漢字読み!$A$2:$O$502,7,0)=0,\"\",VLOOKUP(S306,漢字読み!$A$2:$O$502,7,0)))","v":{"$error":"#N/A"}},{"$f":"IF(T306=\"\",\"\",IF(VLOOKUP(T306,漢字読み!$A$2:$O$502,7,0)=0,\"\",VLOOKUP(T306,漢字読み!$A$2:$O$502,7,0)))","v":{"$error":"#N/A"}},null,null,"和歌山県教育委員会"]
[{"$f":"A301","v":0},0,0,0,0,0,0,0,0,0,0,0,0,0,0,0,0,0,0,0]
["⑳","⑲","⑱","⑰","⑯","⑮","⑭","⑬","⑫","⑪","⑩","⑨","⑧","⑦","⑥","⑤","④","③","②","①","次の［　　　　］の部分の漢字には読みがなをひらがなで書き、カタカナは漢字に直しなさい。",13,"「漢字の博士検定試験」練習問題　"]
[{"$f":"IF(A311=\"\",\"\",VLOOKUP(A311,漢字書き!$A$2:$N$506,6,0))","v":{"$error":"#N/A"}},{"$f":"IF(B311=\"\",\"\",VLOOKUP(B311,漢字書き!$A$2:$N$506,6,0))","v":{"$error":"#N/A"}},{"$f":"IF(C311=\"\",\"\",VLOOKUP(C311,漢字書き!$A$2:$N$506,6,0))","v":{"$error":"#N/A"}},{"$f":"IF(D311=\"\",\"\",VLOOKUP(D311,漢字書き!$A$2:$N$506,6,0))","v":{"$error":"#N/A"}},{"$f":"IF(E311=\"\",\"\",VLOOKUP(E311,漢字書き!$A$2:$N$506,6,0))","v":{"$error":"#N/A"}},{"$f":"IF(F311=\"\",\"\",VLOOKUP(F311,漢字書き!$A$2:$N$506,6,0))","v":{"$error":"#N/A"}},{"$f":"IF(G311=\"\",\"\",VLOOKUP(G311,漢字書き!$A$2:$N$506,6,0))","v":{"$error":"#N/A"}},{"$f":"IF(H311=\"\",\"\",VLOOKUP(H311,漢字書き!$A$2:$N$506,6,0))","v":{"$error":"#N/A"}},{"$f":"IF(I311=\"\",\"\",VLOOKUP(I311,漢字書き!$A$2:$N$506,6,0))","v":{"$error":"#N/A"}},{"$f":"IF(J311=\"\",\"\",VLOOKUP(J311,漢字書き!$A$2:$N$506,6,0))","v":{"$error":"#N/A"}},{"$f":"IF(K311=\"\",\"\",VLOOKUP(K311,漢字読み!$A$2:$O$506,6,0))","v":{"$error":"#N/A"}},{"$f":"IF(L311=\"\",\"\",VLOOKUP(L311,漢字読み!$A$2:$O$506,6,0))","v":{"$error":"#N/A"}},{"$f":"IF(M311=\"\",\"\",VLOOKUP(M311,漢字読み!$A$2:$O$506,6,0))","v":{"$error":"#N/A"}},{"$f":"IF(N311=\"\",\"\",VLOOKUP(N311,漢字読み!$A$2:$O$506,6,0))","v":{"$error":"#N/A"}},{"$f":"IF(O311=\"\",\"\",VLOOKUP(O311,漢字読み!$A$2:$O$506,6,0))","v":{"$error":"#N/A"}},{"$f":"IF(P311=\"\",\"\",VLOOKUP(P311,漢字読み!$A$2:$O$506,6,0))","v":{"$error":"#N/A"}},{"$f":"IF(Q311=\"\",\"\",VLOOKUP(Q311,漢字読み!$A$2:$O$506,6,0))","v":{"$error":"#N/A"}},{"$f":"IF(R311=\"\",\"\",VLOOKUP(R311,漢字読み!$A$2:$O$506,6,0))","v":{"$error":"#N/A"}},{"$f":"IF(S311=\"\",\"\",VLOOKUP(S311,漢字読み!$A$2:$O$506,6,0))","v":{"$error":"#N/A"}},{"$f":"IF(T311=\"\",\"\",VLOOKUP(T311,漢字読み!$A$2:$O$506,6,0))","v":{"$error":"#N/A"}},null,"級"]
[{"$f":"IF(A$11=\"\",\"\",VLOOKUP(A311,漢字書き!$A$2:$O$506,8,0))","v":{"$error":"#N/A"}},{"$f":"IF(B$11=\"\",\"\",VLOOKUP(B311,漢字書き!$A$2:$O$506,8,0))","v":{"$error":"#N/A"}},{"$f":"IF(C$11=\"\",\"\",VLOOKUP(C311,漢字書き!$A$2:$O$506,8,0))","v":{"$error":"#N/A"}},{"$f":"IF(D$11=\"\",\"\",VLOOKUP(D311,漢字書き!$A$2:$O$506,8,0))","v":{"$error":"#N/A"}},{"$f":"IF(E$11=\"\",\"\",VLOOKUP(E311,漢字書き!$A$2:$O$506,8,0))","v":{"$error":"#N/A"}},{"$f":"IF(F$11=\"\",\"\",VLOOKUP(F311,漢字書き!$A$2:$O$506,8,0))","v":{"$error":"#N/A"}},{"$f":"IF(G$11=\"\",\"\",VLOOKUP(G311,漢字書き!$A$2:$O$506,8,0))","v":{"$error":"#N/A"}},{"$f":"IF(H$11=\"\",\"\",VLOOKUP(H311,漢字書き!$A$2:$O$506,8,0))","v":{"$error":"#N/A"}},{"$f":"IF(I$11=\"\",\"\",VLOOKUP(I311,漢字書き!$A$2:$O$506,8,0))","v":{"$error":"#N/A"}},{"$f":"IF(J$11=\"\",\"\",VLOOKUP(J311,漢字書き!$A$2:$O$506,8,0))","v":{"$error":"#N/A"}},{"$f":"IF(K$11=\"\",\"\",VLOOKUP(K311,漢字読み!$A$2:$O$506,8,0))","v":{"$error":"#N/A"}},{"$f":"IF(L$11=\"\",\"\",VLOOKUP(L311,漢字読み!$A$2:$O$506,8,0))","v":{"$error":"#N/A"}},{"$f":"IF(M$11=\"\",\"\",VLOOKUP(M311,漢字読み!$A$2:$O$506,8,0))","v":{"$error":"#N/A"}},{"$f":"IF(N$11=\"\",\"\",VLOOKUP(N311,漢字読み!$A$2:$O$506,8,0))","v":{"$error":"#N/A"}},{"$f":"IF(O$11=\"\",\"\",VLOOKUP(O311,漢字読み!$A$2:$O$506,8,0))","v":{"$error":"#N/A"}},{"$f":"IF(P$11=\"\",\"\",VLOOKUP(P311,漢字読み!$A$2:$O$506,8,0))","v":{"$error":"#N/A"}},{"$f":"IF(Q$11=\"\",\"\",VLOOKUP(Q311,漢字読み!$A$2:$O$506,8,0))","v":{"$error":"#N/A"}},{"$f":"IF(R$11=\"\",\"\",VLOOKUP(R311,漢字読み!$A$2:$O$506,8,0))","v":{"$error":"#N/A"}},{"$f":"IF(S$11=\"\",\"\",VLOOKUP(S311,漢字読み!$A$2:$O$506,8,0))","v":{"$error":"#N/A"}},{"$f":"IF(T$11=\"\",\"\",VLOOKUP(T311,漢字読み!$A$2:$O$506,8,0))","v":{"$error":"#N/A"}},null,"名前"]
[{"$f":"IF(A311=\"\",\"\",IF(VLOOKUP(A311,漢字書き!$A$2:$N$502,7,0)=0,\"\",VLOOKUP(A311,漢字書き!$A$2:$N$502,7,0)))","v":{"$error":"#N/A"}},{"$f":"IF(B311=\"\",\"\",IF(VLOOKUP(B311,漢字書き!$A$2:$N$502,7,0)=0,\"\",VLOOKUP(B311,漢字書き!$A$2:$N$502,7,0)))","v":{"$error":"#N/A"}},{"$f":"IF(C311=\"\",\"\",IF(VLOOKUP(C311,漢字書き!$A$2:$N$502,7,0)=0,\"\",VLOOKUP(C311,漢字書き!$A$2:$N$502,7,0)))","v":{"$error":"#N/A"}},{"$f":"IF(D311=\"\",\"\",IF(VLOOKUP(D311,漢字書き!$A$2:$N$502,7,0)=0,\"\",VLOOKUP(D311,漢字書き!$A$2:$N$502,7,0)))","v":{"$error":"#N/A"}},{"$f":"IF(E311=\"\",\"\",IF(VLOOKUP(E311,漢字書き!$A$2:$N$502,7,0)=0,\"\",VLOOKUP(E311,漢字書き!$A$2:$N$502,7,0)))","v":{"$error":"#N/A"}},{"$f":"IF(F311=\"\",\"\",IF(VLOOKUP(F311,漢字書き!$A$2:$N$502,7,0)=0,\"\",VLOOKUP(F311,漢字書き!$A$2:$N$502,7,0)))","v":{"$error":"#N/A"}},{"$f":"IF(G311=\"\",\"\",IF(VLOOKUP(G311,漢字書き!$A$2:$N$502,7,0)=0,\"\",VLOOKUP(G311,漢字書き!$A$2:$N$502,7,0)))","v":{"$error":"#N/A"}},{"$f":"IF(H311=\"\",\"\",IF(VLOOKUP(H311,漢字書き!$A$2:$N$502,7,0)=0,\"\",VLOOKUP(H311,漢字書き!$A$2:$N$502,7,0)))","v":{"$error":"#N/A"}},{"$f":"IF(I311=\"\",\"\",IF(VLOOKUP(I311,漢字書き!$A$2:$N$502,7,0)=0,\"\",VLOOKUP(I311,漢字書き!$A$2:$N$502,7,0)))","v":{"$error":"#N/A"}},{"$f":"IF(J311=\"\",\"\",IF(VLOOKUP(J311,漢字書き!$A$2:$N$502,7,0)=0,\"\",VLOOKUP(J311,漢字書き!$A$2:$N$502,7,0)))","v":{"$error":"#N/A"}},{"$f":"IF(K311=\"\",\"\",IF(VLOOKUP(K311,漢字読み!$A$2:$O$502,7,0)=0,\"\",VLOOKUP(K311,漢字読み!$A$2:$O$502,7,0)))","v":{"$error":"#N/A"}},{"$f":"IF(L311=\"\",\"\",IF(VLOOKUP(L311,漢字読み!$A$2:$O$502,7,0)=0,\"\",VLOOKUP(L311,漢字読み!$A$2:$O$502,7,0)))","v":{"$error":"#N/A"}},{"$f":"IF(M311=\"\",\"\",IF(VLOOKUP(M311,漢字読み!$A$2:$O$502,7,0)=0,\"\",VLOOKUP(M311,漢字読み!$A$2:$O$502,7,0)))","v":{"$error":"#N/A"}},{"$f":"IF(N311=\"\",\"\",IF(VLOOKUP(N311,漢字読み!$A$2:$O$502,7,0)=0,\"\",VLOOKUP(N311,漢字読み!$A$2:$O$502,7,0)))","v":{"$error":"#N/A"}},{"$f":"IF(O311=\"\",\"\",IF(VLOOKUP(O311,漢字読み!$A$2:$O$502,7,0)=0,\"\",VLOOKUP(O311,漢字読み!$A$2:$O$502,7,0)))","v":{"$error":"#N/A"}},{"$f":"IF(P311=\"\",\"\",IF(VLOOKUP(P311,漢字読み!$A$2:$O$502,7,0)=0,\"\",VLOOKUP(P311,漢字読み!$A$2:$O$502,7,0)))","v":{"$error":"#N/A"}},{"$f":"IF(Q311=\"\",\"\",IF(VLOOKUP(Q311,漢字読み!$A$2:$O$502,7,0)=0,\"\",VLOOKUP(Q311,漢字読み!$A$2:$O$502,7,0)))","v":{"$error":"#N/A"}},{"$f":"IF(R311=\"\",\"\",IF(VLOOKUP(R311,漢字読み!$A$2:$O$502,7,0)=0,\"\",VLOOKUP(R311,漢字読み!$A$2:$O$502,7,0)))","v":{"$error":"#N/A"}},{"$f":"IF(S311=\"\",\"\",IF(VLOOKUP(S311,漢字読み!$A$2:$O$502,7,0)=0,\"\",VLOOKUP(S311,漢字読み!$A$2:$O$502,7,0)))","v":{"$error":"#N/A"}},{"$f":"IF(T311=\"\",\"\",IF(VLOOKUP(T311,漢字読み!$A$2:$O$502,7,0)=0,\"\",VLOOKUP(T311,漢字読み!$A$2:$O$502,7,0)))","v":{"$error":"#N/A"}},null,null,"和歌山県教育委員会"]
[{"$f":"A306","v":0},0,0,0,0,0,0,0,0,0,0,0,0,0,0,0,0,0,0,0]
["⑳","⑲","⑱","⑰","⑯","⑮","⑭","⑬","⑫","⑪","⑩","⑨","⑧","⑦","⑥","⑤","④","③","②","①","次の［　　　　］の部分の漢字には読みがなをひらがなで書き、カタカナは漢字に直しなさい。",13,"「漢字の博士検定試験」練習問題　"]
[{"$f":"IF(A316=\"\",\"\",VLOOKUP(A316,漢字書き!$A$2:$N$506,6,0))","v":{"$error":"#N/A"}},{"$f":"IF(B316=\"\",\"\",VLOOKUP(B316,漢字書き!$A$2:$N$506,6,0))","v":{"$error":"#N/A"}},{"$f":"IF(C316=\"\",\"\",VLOOKUP(C316,漢字書き!$A$2:$N$506,6,0))","v":{"$error":"#N/A"}},{"$f":"IF(D316=\"\",\"\",VLOOKUP(D316,漢字書き!$A$2:$N$506,6,0))","v":{"$error":"#N/A"}},{"$f":"IF(E316=\"\",\"\",VLOOKUP(E316,漢字書き!$A$2:$N$506,6,0))","v":{"$error":"#N/A"}},{"$f":"IF(F316=\"\",\"\",VLOOKUP(F316,漢字書き!$A$2:$N$506,6,0))","v":{"$error":"#N/A"}},{"$f":"IF(G316=\"\",\"\",VLOOKUP(G316,漢字書き!$A$2:$N$506,6,0))","v":{"$error":"#N/A"}},{"$f":"IF(H316=\"\",\"\",VLOOKUP(H316,漢字書き!$A$2:$N$506,6,0))","v":{"$error":"#N/A"}},{"$f":"IF(I316=\"\",\"\",VLOOKUP(I316,漢字書き!$A$2:$N$506,6,0))","v":{"$error":"#N/A"}},{"$f":"IF(J316=\"\",\"\",VLOOKUP(J316,漢字書き!$A$2:$N$506,6,0))","v":{"$error":"#N/A"}},{"$f":"IF(K316=\"\",\"\",VLOOKUP(K316,漢字読み!$A$2:$O$506,6,0))","v":{"$error":"#N/A"}},{"$f":"IF(L316=\"\",\"\",VLOOKUP(L316,漢字読み!$A$2:$O$506,6,0))","v":{"$error":"#N/A"}},{"$f":"IF(M316=\"\",\"\",VLOOKUP(M316,漢字読み!$A$2:$O$506,6,0))","v":{"$error":"#N/A"}},{"$f":"IF(N316=\"\",\"\",VLOOKUP(N316,漢字読み!$A$2:$O$506,6,0))","v":{"$error":"#N/A"}},{"$f":"IF(O316=\"\",\"\",VLOOKUP(O316,漢字読み!$A$2:$O$506,6,0))","v":{"$error":"#N/A"}},{"$f":"IF(P316=\"\",\"\",VLOOKUP(P316,漢字読み!$A$2:$O$506,6,0))","v":{"$error":"#N/A"}},{"$f":"IF(Q316=\"\",\"\",VLOOKUP(Q316,漢字読み!$A$2:$O$506,6,0))","v":{"$error":"#N/A"}},{"$f":"IF(R316=\"\",\"\",VLOOKUP(R316,漢字読み!$A$2:$O$506,6,0))","v":{"$error":"#N/A"}},{"$f":"IF(S316=\"\",\"\",VLOOKUP(S316,漢字読み!$A$2:$O$506,6,0))","v":{"$error":"#N/A"}},{"$f":"IF(T316=\"\",\"\",VLOOKUP(T316,漢字読み!$A$2:$O$506,6,0))","v":{"$error":"#N/A"}},null,"級"]
[{"$f":"IF(A$16=\"\",\"\",VLOOKUP(A316,漢字書き!$A$2:$O$506,8,0))","v":{"$error":"#N/A"}},{"$f":"IF(B$16=\"\",\"\",VLOOKUP(B316,漢字書き!$A$2:$O$506,8,0))","v":{"$error":"#N/A"}},{"$f":"IF(C$16=\"\",\"\",VLOOKUP(C316,漢字書き!$A$2:$O$506,8,0))","v":{"$error":"#N/A"}},{"$f":"IF(D$16=\"\",\"\",VLOOKUP(D316,漢字書き!$A$2:$O$506,8,0))","v":{"$error":"#N/A"}},{"$f":"IF(E$16=\"\",\"\",VLOOKUP(E316,漢字書き!$A$2:$O$506,8,0))","v":{"$error":"#N/A"}},{"$f":"IF(F$16=\"\",\"\",VLOOKUP(F316,漢字書き!$A$2:$O$506,8,0))","v":{"$error":"#N/A"}},{"$f":"IF(G$16=\"\",\"\",VLOOKUP(G316,漢字書き!$A$2:$O$506,8,0))","v":{"$error":"#N/A"}},{"$f":"IF(H$16=\"\",\"\",VLOOKUP(H316,漢字書き!$A$2:$O$506,8,0))","v":{"$error":"#N/A"}},{"$f":"IF(I$16=\"\",\"\",VLOOKUP(I316,漢字書き!$A$2:$O$506,8,0))","v":{"$error":"#N/A"}},{"$f":"IF(J$16=\"\",\"\",VLOOKUP(J316,漢字書き!$A$2:$O$506,8,0))","v":{"$error":"#N/A"}},{"$f":"IF(K$16=\"\",\"\",VLOOKUP(K316,漢字読み!$A$2:$O$506,8,0))","v":{"$error":"#N/A"}},{"$f":"IF(L$16=\"\",\"\",VLOOKUP(L316,漢字読み!$A$2:$O$506,8,0))","v":{"$error":"#N/A"}},{"$f":"IF(M$16=\"\",\"\",VLOOKUP(M316,漢字読み!$A$2:$O$506,8,0))","v":{"$error":"#N/A"}},{"$f":"IF(N$16=\"\",\"\",VLOOKUP(N316,漢字読み!$A$2:$O$506,8,0))","v":{"$error":"#N/A"}},{"$f":"IF(O$16=\"\",\"\",VLOOKUP(O316,漢字読み!$A$2:$O$506,8,0))","v":{"$error":"#N/A"}},{"$f":"IF(P$16=\"\",\"\",VLOOKUP(P316,漢字読み!$A$2:$O$506,8,0))","v":{"$error":"#N/A"}},{"$f":"IF(Q$16=\"\",\"\",VLOOKUP(Q316,漢字読み!$A$2:$O$506,8,0))","v":{"$error":"#N/A"}},{"$f":"IF(R$16=\"\",\"\",VLOOKUP(R316,漢字読み!$A$2:$O$506,8,0))","v":{"$error":"#N/A"}},{"$f":"IF(S$16=\"\",\"\",VLOOKUP(S316,漢字読み!$A$2:$O$506,8,0))","v":{"$error":"#N/A"}},{"$f":"IF(T$16=\"\",\"\",VLOOKUP(T316,漢字読み!$A$2:$O$506,8,0))","v":{"$error":"#N/A"}},null,"名前"]
[{"$f":"IF(A316=\"\",\"\",IF(VLOOKUP(A316,漢字書き!$A$2:$N$502,7,0)=0,\"\",VLOOKUP(A316,漢字書き!$A$2:$N$502,7,0)))","v":{"$error":"#N/A"}},{"$f":"IF(B316=\"\",\"\",IF(VLOOKUP(B316,漢字書き!$A$2:$N$502,7,0)=0,\"\",VLOOKUP(B316,漢字書き!$A$2:$N$502,7,0)))","v":{"$error":"#N/A"}},{"$f":"IF(C316=\"\",\"\",IF(VLOOKUP(C316,漢字書き!$A$2:$N$502,7,0)=0,\"\",VLOOKUP(C316,漢字書き!$A$2:$N$502,7,0)))","v":{"$error":"#N/A"}},{"$f":"IF(D316=\"\",\"\",IF(VLOOKUP(D316,漢字書き!$A$2:$N$502,7,0)=0,\"\",VLOOKUP(D316,漢字書き!$A$2:$N$502,7,0)))","v":{"$error":"#N/A"}},{"$f":"IF(E316=\"\",\"\",IF(VLOOKUP(E316,漢字書き!$A$2:$N$502,7,0)=0,\"\",VLOOKUP(E316,漢字書き!$A$2:$N$502,7,0)))","v":{"$error":"#N/A"}},{"$f":"IF(F316=\"\",\"\",IF(VLOOKUP(F316,漢字書き!$A$2:$N$502,7,0)=0,\"\",VLOOKUP(F316,漢字書き!$A$2:$N$502,7,0)))","v":{"$error":"#N/A"}},{"$f":"IF(G316=\"\",\"\",IF(VLOOKUP(G316,漢字書き!$A$2:$N$502,7,0)=0,\"\",VLOOKUP(G316,漢字書き!$A$2:$N$502,7,0)))","v":{"$error":"#N/A"}},{"$f":"IF(H316=\"\",\"\",IF(VLOOKUP(H316,漢字書き!$A$2:$N$502,7,0)=0,\"\",VLOOKUP(H316,漢字書き!$A$2:$N$502,7,0)))","v":{"$error":"#N/A"}},{"$f":"IF(I316=\"\",\"\",IF(VLOOKUP(I316,漢字書き!$A$2:$N$502,7,0)=0,\"\",VLOOKUP(I316,漢字書き!$A$2:$N$502,7,0)))","v":{"$error":"#N/A"}},{"$f":"IF(J316=\"\",\"\",IF(VLOOKUP(J316,漢字書き!$A$2:$N$502,7,0)=0,\"\",VLOOKUP(J316,漢字書き!$A$2:$N$502,7,0)))","v":{"$error":"#N/A"}},{"$f":"IF(K316=\"\",\"\",IF(VLOOKUP(K316,漢字読み!$A$2:$O$502,7,0)=0,\"\",VLOOKUP(K316,漢字読み!$A$2:$O$502,7,0)))","v":{"$error":"#N/A"}},{"$f":"IF(L316=\"\",\"\",IF(VLOOKUP(L316,漢字読み!$A$2:$O$502,7,0)=0,\"\",VLOOKUP(L316,漢字読み!$A$2:$O$502,7,0)))","v":{"$error":"#N/A"}},{"$f":"IF(M316=\"\",\"\",IF(VLOOKUP(M316,漢字読み!$A$2:$O$502,7,0)=0,\"\",VLOOKUP(M316,漢字読み!$A$2:$O$502,7,0)))","v":{"$error":"#N/A"}},{"$f":"IF(N316=\"\",\"\",IF(VLOOKUP(N316,漢字読み!$A$2:$O$502,7,0)=0,\"\",VLOOKUP(N316,漢字読み!$A$2:$O$502,7,0)))","v":{"$error":"#N/A"}},{"$f":"IF(O316=\"\",\"\",IF(VLOOKUP(O316,漢字読み!$A$2:$O$502,7,0)=0,\"\",VLOOKUP(O316,漢字読み!$A$2:$O$502,7,0)))","v":{"$error":"#N/A"}},{"$f":"IF(P316=\"\",\"\",IF(VLOOKUP(P316,漢字読み!$A$2:$O$502,7,0)=0,\"\",VLOOKUP(P316,漢字読み!$A$2:$O$502,7,0)))","v":{"$error":"#N/A"}},{"$f":"IF(Q316=\"\",\"\",IF(VLOOKUP(Q316,漢字読み!$A$2:$O$502,7,0)=0,\"\",VLOOKUP(Q316,漢字読み!$A$2:$O$502,7,0)))","v":{"$error":"#N/A"}},{"$f":"IF(R316=\"\",\"\",IF(VLOOKUP(R316,漢字読み!$A$2:$O$502,7,0)=0,\"\",VLOOKUP(R316,漢字読み!$A$2:$O$502,7,0)))","v":{"$error":"#N/A"}},{"$f":"IF(S316=\"\",\"\",IF(VLOOKUP(S316,漢字読み!$A$2:$O$502,7,0)=0,\"\",VLOOKUP(S316,漢字読み!$A$2:$O$502,7,0)))","v":{"$error":"#N/A"}},{"$f":"IF(T316=\"\",\"\",IF(VLOOKUP(T316,漢字読み!$A$2:$O$502,7,0)=0,\"\",VLOOKUP(T316,漢字読み!$A$2:$O$502,7,0)))","v":{"$error":"#N/A"}},null,null,"和歌山県教育委員会"]
[{"$f":"INDIRECT(\"'関数（書き）'!C\" & COLUMN(B$1)+SUM($AD$2:$AD322))","v":0},{"$f":"INDIRECT(\"'関数（書き）'!C\" & COLUMN(C$1)+SUM($AD$2:$AD322))","v":0},{"$f":"INDIRECT(\"'関数（書き）'!C\" & COLUMN(D$1)+SUM($AD$2:$AD322))","v":0},{"$f":"INDIRECT(\"'関数（書き）'!C\" & COLUMN(E$1)+SUM($AD$2:$AD322))","v":0},{"$f":"INDIRECT(\"'関数（書き）'!C\" & COLUMN(F$1)+SUM($AD$2:$AD322))","v":0},{"$f":"INDIRECT(\"'関数（書き）'!C\" & COLUMN(G$1)+SUM($AD$2:$AD322))","v":0},{"$f":"INDIRECT(\"'関数（書き）'!C\" & COLUMN(H$1)+SUM($AD$2:$AD322))","v":0},{"$f":"INDIRECT(\"'関数（書き）'!C\" & COLUMN(I$1)+SUM($AD$2:$AD322))","v":0},{"$f":"INDIRECT(\"'関数（書き）'!C\" & COLUMN(J$1)+SUM($AD$2:$AD322))","v":0},{"$f":"INDIRECT(\"'関数（書き）'!C\" & COLUMN(K$1)+SUM($AD$2:$AD322))","v":0},{"$f":"INDIRECT(\"'関数（読み）'!C\" & COLUMN(B$1)+SUM($AD$2:$AD322))","v":0},{"$f":"INDIRECT(\"'関数（読み）'!C\" & COLUMN(C$1)+SUM($AD$2:$AD322))","v":0},{"$f":"INDIRECT(\"'関数（読み）'!C\" & COLUMN(D$1)+SUM($AD$2:$AD322))","v":0},{"$f":"INDIRECT(\"'関数（読み）'!C\" & COLUMN(E$1)+SUM($AD$2:$AD322))","v":0},{"$f":"INDIRECT(\"'関数（読み）'!C\" & COLUMN(F$1)+SUM($AD$2:$AD322))","v":0},{"$f":"INDIRECT(\"'関数（読み）'!C\" & COLUMN(G$1)+SUM($AD$2:$AD322))","v":0},{"$f":"INDIRECT(\"'関数（読み）'!C\" & COLUMN(H$1)+SUM($AD$2:$AD322))","v":0},{"$f":"INDIRECT(\"'関数（読み）'!C\" & COLUMN(I$1)+SUM($AD$2:$AD322))","v":0},{"$f":"INDIRECT(\"'関数（読み）'!C\" & COLUMN(J$1)+SUM($AD$2:$AD322))","v":0},{"$f":"INDIRECT(\"'関数（読み）'!C\" & COLUMN(K$1)+SUM($AD$2:$AD322))","v":0}]
["⑳","⑲","⑱","⑰","⑯","⑮","⑭","⑬","⑫","⑪","⑩","⑨","⑧","⑦","⑥","⑤","④","③","②","①","次の［　　　　］の部分の漢字には読みがなをひらがなで書き、カタカナは漢字に直しなさい。",13,"「漢字の博士検定試験」練習問題　",null,null,null,null,null,"←",10,"問",{"$f":"AH307+1","v":321},"～",{"$f":"SUM($AD$2:$AD322)+10","v":330},"問まで",{"$f":"COUNTIF($A$1:$T$200,T323)","v":0}]
[{"$f":"IF(A321=\"\",\"\",VLOOKUP(A321,漢字書き!$A$2:$N$506,6,0))","v":{"$error":"#N/A"}},{"$f":"IF(B321=\"\",\"\",VLOOKUP(B321,漢字書き!$A$2:$N$506,6,0))","v":{"$error":"#N/A"}},{"$f":"IF(C321=\"\",\"\",VLOOKUP(C321,漢字書き!$A$2:$N$506,6,0))","v":{"$error":"#N/A"}},{"$f":"IF(D321=\"\",\"\",VLOOKUP(D321,漢字書き!$A$2:$N$506,6,0))","v":{"$error":"#N/A"}},{"$f":"IF(E321=\"\",\"\",VLOOKUP(E321,漢字書き!$A$2:$N$506,6,0))","v":{"$error":"#N/A"}},{"$f":"IF(F321=\"\",\"\",VLOOKUP(F321,漢字書き!$A$2:$N$506,6,0))","v":{"$error":"#N/A"}},{"$f":"IF(G321=\"\",\"\",VLOOKUP(G321,漢字書き!$A$2:$N$506,6,0))","v":{"$error":"#N/A"}},{"$f":"IF(H321=\"\",\"\",VLOOKUP(H321,漢字書き!$A$2:$N$506,6,0))","v":{"$error":"#N/A"}},{"$f":"IF(I321=\"\",\"\",VLOOKUP(I321,漢字書き!$A$2:$N$506,6,0))","v":{"$error":"#N/A"}},{"$f":"IF(J321=\"\",\"\",VLOOKUP(J321,漢字書き!$A$2:$N$506,6,0))","v":{"$error":"#N/A"}},{"$f":"IF(K321=\"\",\"\",VLOOKUP(K321,漢字読み!$A$2:$O$506,6,0))","v":{"$error":"#N/A"}},{"$f":"IF(L321=\"\",\"\",VLOOKUP(L321,漢字読み!$A$2:$O$506,6,0))","v":{"$error":"#N/A"}},{"$f":"IF(M321=\"\",\"\",VLOOKUP(M321,漢字読み!$A$2:$O$506,6,0))","v":{"$error":"#N/A"}},{"$f":"IF(N321=\"\",\"\",VLOOKUP(N321,漢字読み!$A$2:$O$506,6,0))","v":{"$error":"#N/A"}},{"$f":"IF(O321=\"\",\"\",VLOOKUP(O321,漢字読み!$A$2:$O$506,6,0))","v":{"$error":"#N/A"}},{"$f":"IF(P321=\"\",\"\",VLOOKUP(P321,漢字読み!$A$2:$O$506,6,0))","v":{"$error":"#N/A"}},{"$f":"IF(Q321=\"\",\"\",VLOOKUP(Q321,漢字読み!$A$2:$O$506,6,0))","v":{"$error":"#N/A"}},{"$f":"IF(R321=\"\",\"\",VLOOKUP(R321,漢字読み!$A$2:$O$506,6,0))","v":{"$error":"#N/A"}},{"$f":"IF(S321=\"\",\"\",VLOOKUP(S321,漢字読み!$A$2:$O$506,6,0))","v":{"$error":"#N/A"}},{"$f":"IF(T321=\"\",\"\",VLOOKUP(T321,漢字読み!$A$2:$O$506,6,0))","v":{"$error":"#N/A"}},null,"級"]
[null,null,null,null,null,null,null,null,null,null,null,null,null,null,null,null,null,null,null,null,null,"名前"]
[{"$f":"IF(A321=\"\",\"\",IF(VLOOKUP(A321,漢字書き!$A$2:$N$502,7,0)=0,\"\",VLOOKUP(A321,漢字書き!$A$2:$N$502,7,0)))","v":{"$error":"#N/A"}},{"$f":"IF(B321=\"\",\"\",IF(VLOOKUP(B321,漢字書き!$A$2:$N$502,7,0)=0,\"\",VLOOKUP(B321,漢字書き!$A$2:$N$502,7,0)))","v":{"$error":"#N/A"}},{"$f":"IF(C321=\"\",\"\",IF(VLOOKUP(C321,漢字書き!$A$2:$N$502,7,0)=0,\"\",VLOOKUP(C321,漢字書き!$A$2:$N$502,7,0)))","v":{"$error":"#N/A"}},{"$f":"IF(D321=\"\",\"\",IF(VLOOKUP(D321,漢字書き!$A$2:$N$502,7,0)=0,\"\",VLOOKUP(D321,漢字書き!$A$2:$N$502,7,0)))","v":{"$error":"#N/A"}},{"$f":"IF(E321=\"\",\"\",IF(VLOOKUP(E321,漢字書き!$A$2:$N$502,7,0)=0,\"\",VLOOKUP(E321,漢字書き!$A$2:$N$502,7,0)))","v":{"$error":"#N/A"}},{"$f":"IF(F321=\"\",\"\",IF(VLOOKUP(F321,漢字書き!$A$2:$N$502,7,0)=0,\"\",VLOOKUP(F321,漢字書き!$A$2:$N$502,7,0)))","v":{"$error":"#N/A"}},{"$f":"IF(G321=\"\",\"\",IF(VLOOKUP(G321,漢字書き!$A$2:$N$502,7,0)=0,\"\",VLOOKUP(G321,漢字書き!$A$2:$N$502,7,0)))","v":{"$error":"#N/A"}},{"$f":"IF(H321=\"\",\"\",IF(VLOOKUP(H321,漢字書き!$A$2:$N$502,7,0)=0,\"\",VLOOKUP(H321,漢字書き!$A$2:$N$502,7,0)))","v":{"$error":"#N/A"}},{"$f":"IF(I321=\"\",\"\",IF(VLOOKUP(I321,漢字書き!$A$2:$N$502,7,0)=0,\"\",VLOOKUP(I321,漢字書き!$A$2:$N$502,7,0)))","v":{"$error":"#N/A"}},{"$f":"IF(J321=\"\",\"\",IF(VLOOKUP(J321,漢字書き!$A$2:$N$502,7,0)=0,\"\",VLOOKUP(J321,漢字書き!$A$2:$N$502,7,0)))","v":{"$error":"#N/A"}},{"$f":"IF(K321=\"\",\"\",IF(VLOOKUP(K321,漢字読み!$A$2:$O$502,7,0)=0,\"\",VLOOKUP(K321,漢字読み!$A$2:$O$502,7,0)))","v":{"$error":"#N/A"}},{"$f":"IF(L321=\"\",\"\",IF(VLOOKUP(L321,漢字読み!$A$2:$O$502,7,0)=0,\"\",VLOOKUP(L321,漢字読み!$A$2:$O$502,7,0)))","v":{"$error":"#N/A"}},{"$f":"IF(M321=\"\",\"\",IF(VLOOKUP(M321,漢字読み!$A$2:$O$502,7,0)=0,\"\",VLOOKUP(M321,漢字読み!$A$2:$O$502,7,0)))","v":{"$error":"#N/A"}},{"$f":"IF(N321=\"\",\"\",IF(VLOOKUP(N321,漢字読み!$A$2:$O$502,7,0)=0,\"\",VLOOKUP(N321,漢字読み!$A$2:$O$502,7,0)))","v":{"$error":"#N/A"}},{"$f":"IF(O321=\"\",\"\",IF(VLOOKUP(O321,漢字読み!$A$2:$O$502,7,0)=0,\"\",VLOOKUP(O321,漢字読み!$A$2:$O$502,7,0)))","v":{"$error":"#N/A"}},{"$f":"IF(P321=\"\",\"\",IF(VLOOKUP(P321,漢字読み!$A$2:$O$502,7,0)=0,\"\",VLOOKUP(P321,漢字読み!$A$2:$O$502,7,0)))","v":{"$error":"#N/A"}},{"$f":"IF(Q321=\"\",\"\",IF(VLOOKUP(Q321,漢字読み!$A$2:$O$502,7,0)=0,\"\",VLOOKUP(Q321,漢字読み!$A$2:$O$502,7,0)))","v":{"$error":"#N/A"}},{"$f":"IF(R321=\"\",\"\",IF(VLOOKUP(R321,漢字読み!$A$2:$O$502,7,0)=0,\"\",VLOOKUP(R321,漢字読み!$A$2:$O$502,7,0)))","v":{"$error":"#N/A"}},{"$f":"IF(S321=\"\",\"\",IF(VLOOKUP(S321,漢字読み!$A$2:$O$502,7,0)=0,\"\",VLOOKUP(S321,漢字読み!$A$2:$O$502,7,0)))","v":{"$error":"#N/A"}},{"$f":"IF(T321=\"\",\"\",IF(VLOOKUP(T321,漢字読み!$A$2:$O$502,7,0)=0,\"\",VLOOKUP(T321,漢字読み!$A$2:$O$502,7,0)))","v":{"$error":"#N/A"}},null,null,"和歌山県教育委員会"]
[{"$f":"INDIRECT(\"'関数（書き）'!C\" & COLUMN(B$1)+SUM($AD$2:$AD327))","v":0},{"$f":"INDIRECT(\"'関数（書き）'!C\" & COLUMN(C$1)+SUM($AD$2:$AD327))","v":0},{"$f":"INDIRECT(\"'関数（書き）'!C\" & COLUMN(D$1)+SUM($AD$2:$AD327))","v":0},{"$f":"INDIRECT(\"'関数（書き）'!C\" & COLUMN(E$1)+SUM($AD$2:$AD327))","v":0},{"$f":"INDIRECT(\"'関数（書き）'!C\" & COLUMN(F$1)+SUM($AD$2:$AD327))","v":0},{"$f":"INDIRECT(\"'関数（書き）'!C\" & COLUMN(G$1)+SUM($AD$2:$AD327))","v":0},{"$f":"INDIRECT(\"'関数（書き）'!C\" & COLUMN(H$1)+SUM($AD$2:$AD327))","v":0},{"$f":"INDIRECT(\"'関数（書き）'!C\" & COLUMN(I$1)+SUM($AD$2:$AD327))","v":0},{"$f":"INDIRECT(\"'関数（書き）'!C\" & COLUMN(J$1)+SUM($AD$2:$AD327))","v":0},{"$f":"INDIRECT(\"'関数（書き）'!C\" & COLUMN(K$1)+SUM($AD$2:$AD327))","v":0},{"$f":"INDIRECT(\"'関数（読み）'!C\" & COLUMN(B$1)+SUM($AD$2:$AD327))","v":0},{"$f":"INDIRECT(\"'関数（読み）'!C\" & COLUMN(C$1)+SUM($AD$2:$AD327))","v":0},{"$f":"INDIRECT(\"'関数（読み）'!C\" & COLUMN(D$1)+SUM($AD$2:$AD327))","v":0},{"$f":"INDIRECT(\"'関数（読み）'!C\" & COLUMN(E$1)+SUM($AD$2:$AD327))","v":0},{"$f":"INDIRECT(\"'関数（読み）'!C\" & COLUMN(F$1)+SUM($AD$2:$AD327))","v":0},{"$f":"INDIRECT(\"'関数（読み）'!C\" & COLUMN(G$1)+SUM($AD$2:$AD327))","v":0},{"$f":"INDIRECT(\"'関数（読み）'!C\" & COLUMN(H$1)+SUM($AD$2:$AD327))","v":0},{"$f":"INDIRECT(\"'関数（読み）'!C\" & COLUMN(I$1)+SUM($AD$2:$AD327))","v":0},{"$f":"INDIRECT(\"'関数（読み）'!C\" & COLUMN(J$1)+SUM($AD$2:$AD327))","v":0},{"$f":"INDIRECT(\"'関数（読み）'!C\" & COLUMN(K$1)+SUM($AD$2:$AD327))","v":0}]
["⑳","⑲","⑱","⑰","⑯","⑮","⑭","⑬","⑫","⑪","⑩","⑨","⑧","⑦","⑥","⑤","④","③","②","①","次の［　　　　］の部分の漢字には読みがなをひらがなで書き、カタカナは漢字に直しなさい。",13,"「漢字の博士検定試験」練習問題　",null,null,null,null,null,"←",10,"問",{"$f":"AH322+1","v":331},"～",{"$f":"SUM($AD$2:$AD327)+10","v":340},"問まで",{"$f":"COUNTIF($A$1:$T$200,T328)","v":0}]
[{"$f":"IF(A326=\"\",\"\",VLOOKUP(A326,漢字書き!$A$2:$N$506,6,0))","v":{"$error":"#N/A"}},{"$f":"IF(B326=\"\",\"\",VLOOKUP(B326,漢字書き!$A$2:$N$506,6,0))","v":{"$error":"#N/A"}},{"$f":"IF(C326=\"\",\"\",VLOOKUP(C326,漢字書き!$A$2:$N$506,6,0))","v":{"$error":"#N/A"}},{"$f":"IF(D326=\"\",\"\",VLOOKUP(D326,漢字書き!$A$2:$N$506,6,0))","v":{"$error":"#N/A"}},{"$f":"IF(E326=\"\",\"\",VLOOKUP(E326,漢字書き!$A$2:$N$506,6,0))","v":{"$error":"#N/A"}},{"$f":"IF(F326=\"\",\"\",VLOOKUP(F326,漢字書き!$A$2:$N$506,6,0))","v":{"$error":"#N/A"}},{"$f":"IF(G326=\"\",\"\",VLOOKUP(G326,漢字書き!$A$2:$N$506,6,0))","v":{"$error":"#N/A"}},{"$f":"IF(H326=\"\",\"\",VLOOKUP(H326,漢字書き!$A$2:$N$506,6,0))","v":{"$error":"#N/A"}},{"$f":"IF(I326=\"\",\"\",VLOOKUP(I326,漢字書き!$A$2:$N$506,6,0))","v":{"$error":"#N/A"}},{"$f":"IF(J326=\"\",\"\",VLOOKUP(J326,漢字書き!$A$2:$N$506,6,0))","v":{"$error":"#N/A"}},{"$f":"IF(K326=\"\",\"\",VLOOKUP(K326,漢字読み!$A$2:$O$506,6,0))","v":{"$error":"#N/A"}},{"$f":"IF(L326=\"\",\"\",VLOOKUP(L326,漢字読み!$A$2:$O$506,6,0))","v":{"$error":"#N/A"}},{"$f":"IF(M326=\"\",\"\",VLOOKUP(M326,漢字読み!$A$2:$O$506,6,0))","v":{"$error":"#N/A"}},{"$f":"IF(N326=\"\",\"\",VLOOKUP(N326,漢字読み!$A$2:$O$506,6,0))","v":{"$error":"#N/A"}},{"$f":"IF(O326=\"\",\"\",VLOOKUP(O326,漢字読み!$A$2:$O$506,6,0))","v":{"$error":"#N/A"}},{"$f":"IF(P326=\"\",\"\",VLOOKUP(P326,漢字読み!$A$2:$O$506,6,0))","v":{"$error":"#N/A"}},{"$f":"IF(Q326=\"\",\"\",VLOOKUP(Q326,漢字読み!$A$2:$O$506,6,0))","v":{"$error":"#N/A"}},{"$f":"IF(R326=\"\",\"\",VLOOKUP(R326,漢字読み!$A$2:$O$506,6,0))","v":{"$error":"#N/A"}},{"$f":"IF(S326=\"\",\"\",VLOOKUP(S326,漢字読み!$A$2:$O$506,6,0))","v":{"$error":"#N/A"}},{"$f":"IF(T326=\"\",\"\",VLOOKUP(T326,漢字読み!$A$2:$O$506,6,0))","v":{"$error":"#N/A"}},null,"級"]
[null,null,null,null,null,null,null,null,null,null,null,null,null,null,null,null,null,null,null,null,null,"名前"]
[{"$f":"IF(A326=\"\",\"\",IF(VLOOKUP(A326,漢字書き!$A$2:$N$502,7,0)=0,\"\",VLOOKUP(A326,漢字書き!$A$2:$N$502,7,0)))","v":{"$error":"#N/A"}},{"$f":"IF(B326=\"\",\"\",IF(VLOOKUP(B326,漢字書き!$A$2:$N$502,7,0)=0,\"\",VLOOKUP(B326,漢字書き!$A$2:$N$502,7,0)))","v":{"$error":"#N/A"}},{"$f":"IF(C326=\"\",\"\",IF(VLOOKUP(C326,漢字書き!$A$2:$N$502,7,0)=0,\"\",VLOOKUP(C326,漢字書き!$A$2:$N$502,7,0)))","v":{"$error":"#N/A"}},{"$f":"IF(D326=\"\",\"\",IF(VLOOKUP(D326,漢字書き!$A$2:$N$502,7,0)=0,\"\",VLOOKUP(D326,漢字書き!$A$2:$N$502,7,0)))","v":{"$error":"#N/A"}},{"$f":"IF(E326=\"\",\"\",IF(VLOOKUP(E326,漢字書き!$A$2:$N$502,7,0)=0,\"\",VLOOKUP(E326,漢字書き!$A$2:$N$502,7,0)))","v":{"$error":"#N/A"}},{"$f":"IF(F326=\"\",\"\",IF(VLOOKUP(F326,漢字書き!$A$2:$N$502,7,0)=0,\"\",VLOOKUP(F326,漢字書き!$A$2:$N$502,7,0)))","v":{"$error":"#N/A"}},{"$f":"IF(G326=\"\",\"\",IF(VLOOKUP(G326,漢字書き!$A$2:$N$502,7,0)=0,\"\",VLOOKUP(G326,漢字書き!$A$2:$N$502,7,0)))","v":{"$error":"#N/A"}},{"$f":"IF(H326=\"\",\"\",IF(VLOOKUP(H326,漢字書き!$A$2:$N$502,7,0)=0,\"\",VLOOKUP(H326,漢字書き!$A$2:$N$502,7,0)))","v":{"$error":"#N/A"}},{"$f":"IF(I326=\"\",\"\",IF(VLOOKUP(I326,漢字書き!$A$2:$N$502,7,0)=0,\"\",VLOOKUP(I326,漢字書き!$A$2:$N$502,7,0)))","v":{"$error":"#N/A"}},{"$f":"IF(J326=\"\",\"\",IF(VLOOKUP(J326,漢字書き!$A$2:$N$502,7,0)=0,\"\",VLOOKUP(J326,漢字書き!$A$2:$N$502,7,0)))","v":{"$error":"#N/A"}},{"$f":"IF(K326=\"\",\"\",IF(VLOOKUP(K326,漢字読み!$A$2:$O$502,7,0)=0,\"\",VLOOKUP(K326,漢字読み!$A$2:$O$502,7,0)))","v":{"$error":"#N/A"}},{"$f":"IF(L326=\"\",\"\",IF(VLOOKUP(L326,漢字読み!$A$2:$O$502,7,0)=0,\"\",VLOOKUP(L326,漢字読み!$A$2:$O$502,7,0)))","v":{"$error":"#N/A"}},{"$f":"IF(M326=\"\",\"\",IF(VLOOKUP(M326,漢字読み!$A$2:$O$502,7,0)=0,\"\",VLOOKUP(M326,漢字読み!$A$2:$O$502,7,0)))","v":{"$error":"#N/A"}},{"$f":"IF(N326=\"\",\"\",IF(VLOOKUP(N326,漢字読み!$A$2:$O$502,7,0)=0,\"\",VLOOKUP(N326,漢字読み!$A$2:$O$502,7,0)))","v":{"$error":"#N/A"}},{"$f":"IF(O326=\"\",\"\",IF(VLOOKUP(O326,漢字読み!$A$2:$O$502,7,0)=0,\"\",VLOOKUP(O326,漢字読み!$A$2:$O$502,7,0)))","v":{"$error":"#N/A"}},{"$f":"IF(P326=\"\",\"\",IF(VLOOKUP(P326,漢字読み!$A$2:$O$502,7,0)=0,\"\",VLOOKUP(P326,漢字読み!$A$2:$O$502,7,0)))","v":{"$error":"#N/A"}},{"$f":"IF(Q326=\"\",\"\",IF(VLOOKUP(Q326,漢字読み!$A$2:$O$502,7,0)=0,\"\",VLOOKUP(Q326,漢字読み!$A$2:$O$502,7,0)))","v":{"$error":"#N/A"}},{"$f":"IF(R326=\"\",\"\",IF(VLOOKUP(R326,漢字読み!$A$2:$O$502,7,0)=0,\"\",VLOOKUP(R326,漢字読み!$A$2:$O$502,7,0)))","v":{"$error":"#N/A"}},{"$f":"IF(S326=\"\",\"\",IF(VLOOKUP(S326,漢字読み!$A$2:$O$502,7,0)=0,\"\",VLOOKUP(S326,漢字読み!$A$2:$O$502,7,0)))","v":{"$error":"#N/A"}},{"$f":"IF(T326=\"\",\"\",IF(VLOOKUP(T326,漢字読み!$A$2:$O$502,7,0)=0,\"\",VLOOKUP(T326,漢字読み!$A$2:$O$502,7,0)))","v":{"$error":"#N/A"}},null,null,"和歌山県教育委員会"]
[{"$f":"A321","v":0},0,0,0,0,0,0,0,0,0,0,0,0,0,0,0,0,0,0,0]
["⑳","⑲","⑱","⑰","⑯","⑮","⑭","⑬","⑫","⑪","⑩","⑨","⑧","⑦","⑥","⑤","④","③","②","①","次の［　　　　］の部分の漢字には読みがなをひらがなで書き、カタカナは漢字に直しなさい。",13,"「漢字の博士検定試験」練習問題　"]
[{"$f":"IF(A331=\"\",\"\",VLOOKUP(A331,漢字書き!$A$2:$N$506,6,0))","v":{"$error":"#N/A"}},{"$f":"IF(B331=\"\",\"\",VLOOKUP(B331,漢字書き!$A$2:$N$506,6,0))","v":{"$error":"#N/A"}},{"$f":"IF(C331=\"\",\"\",VLOOKUP(C331,漢字書き!$A$2:$N$506,6,0))","v":{"$error":"#N/A"}},{"$f":"IF(D331=\"\",\"\",VLOOKUP(D331,漢字書き!$A$2:$N$506,6,0))","v":{"$error":"#N/A"}},{"$f":"IF(E331=\"\",\"\",VLOOKUP(E331,漢字書き!$A$2:$N$506,6,0))","v":{"$error":"#N/A"}},{"$f":"IF(F331=\"\",\"\",VLOOKUP(F331,漢字書き!$A$2:$N$506,6,0))","v":{"$error":"#N/A"}},{"$f":"IF(G331=\"\",\"\",VLOOKUP(G331,漢字書き!$A$2:$N$506,6,0))","v":{"$error":"#N/A"}},{"$f":"IF(H331=\"\",\"\",VLOOKUP(H331,漢字書き!$A$2:$N$506,6,0))","v":{"$error":"#N/A"}},{"$f":"IF(I331=\"\",\"\",VLOOKUP(I331,漢字書き!$A$2:$N$506,6,0))","v":{"$error":"#N/A"}},{"$f":"IF(J331=\"\",\"\",VLOOKUP(J331,漢字書き!$A$2:$N$506,6,0))","v":{"$error":"#N/A"}},{"$f":"IF(K331=\"\",\"\",VLOOKUP(K331,漢字読み!$A$2:$O$506,6,0))","v":{"$error":"#N/A"}},{"$f":"IF(L331=\"\",\"\",VLOOKUP(L331,漢字読み!$A$2:$O$506,6,0))","v":{"$error":"#N/A"}},{"$f":"IF(M331=\"\",\"\",VLOOKUP(M331,漢字読み!$A$2:$O$506,6,0))","v":{"$error":"#N/A"}},{"$f":"IF(N331=\"\",\"\",VLOOKUP(N331,漢字読み!$A$2:$O$506,6,0))","v":{"$error":"#N/A"}},{"$f":"IF(O331=\"\",\"\",VLOOKUP(O331,漢字読み!$A$2:$O$506,6,0))","v":{"$error":"#N/A"}},{"$f":"IF(P331=\"\",\"\",VLOOKUP(P331,漢字読み!$A$2:$O$506,6,0))","v":{"$error":"#N/A"}},{"$f":"IF(Q331=\"\",\"\",VLOOKUP(Q331,漢字読み!$A$2:$O$506,6,0))","v":{"$error":"#N/A"}},{"$f":"IF(R331=\"\",\"\",VLOOKUP(R331,漢字読み!$A$2:$O$506,6,0))","v":{"$error":"#N/A"}},{"$f":"IF(S331=\"\",\"\",VLOOKUP(S331,漢字読み!$A$2:$O$506,6,0))","v":{"$error":"#N/A"}},{"$f":"IF(T331=\"\",\"\",VLOOKUP(T331,漢字読み!$A$2:$O$506,6,0))","v":{"$error":"#N/A"}},null,"級"]
[{"$f":"IF(A$11=\"\",\"\",VLOOKUP(A331,漢字書き!$A$2:$O$506,8,0))","v":{"$error":"#N/A"}},{"$f":"IF(B$11=\"\",\"\",VLOOKUP(B331,漢字書き!$A$2:$O$506,8,0))","v":{"$error":"#N/A"}},{"$f":"IF(C$11=\"\",\"\",VLOOKUP(C331,漢字書き!$A$2:$O$506,8,0))","v":{"$error":"#N/A"}},{"$f":"IF(D$11=\"\",\"\",VLOOKUP(D331,漢字書き!$A$2:$O$506,8,0))","v":{"$error":"#N/A"}},{"$f":"IF(E$11=\"\",\"\",VLOOKUP(E331,漢字書き!$A$2:$O$506,8,0))","v":{"$error":"#N/A"}},{"$f":"IF(F$11=\"\",\"\",VLOOKUP(F331,漢字書き!$A$2:$O$506,8,0))","v":{"$error":"#N/A"}},{"$f":"IF(G$11=\"\",\"\",VLOOKUP(G331,漢字書き!$A$2:$O$506,8,0))","v":{"$error":"#N/A"}},{"$f":"IF(H$11=\"\",\"\",VLOOKUP(H331,漢字書き!$A$2:$O$506,8,0))","v":{"$error":"#N/A"}},{"$f":"IF(I$11=\"\",\"\",VLOOKUP(I331,漢字書き!$A$2:$O$506,8,0))","v":{"$error":"#N/A"}},{"$f":"IF(J$11=\"\",\"\",VLOOKUP(J331,漢字書き!$A$2:$O$506,8,0))","v":{"$error":"#N/A"}},{"$f":"IF(K$11=\"\",\"\",VLOOKUP(K331,漢字読み!$A$2:$O$506,8,0))","v":{"$error":"#N/A"}},{"$f":"IF(L$11=\"\",\"\",VLOOKUP(L331,漢字読み!$A$2:$O$506,8,0))","v":{"$error":"#N/A"}},{"$f":"IF(M$11=\"\",\"\",VLOOKUP(M331,漢字読み!$A$2:$O$506,8,0))","v":{"$error":"#N/A"}},{"$f":"IF(N$11=\"\",\"\",VLOOKUP(N331,漢字読み!$A$2:$O$506,8,0))","v":{"$error":"#N/A"}},{"$f":"IF(O$11=\"\",\"\",VLOOKUP(O331,漢字読み!$A$2:$O$506,8,0))","v":{"$error":"#N/A"}},{"$f":"IF(P$11=\"\",\"\",VLOOKUP(P331,漢字読み!$A$2:$O$506,8,0))","v":{"$error":"#N/A"}},{"$f":"IF(Q$11=\"\",\"\",VLOOKUP(Q331,漢字読み!$A$2:$O$506,8,0))","v":{"$error":"#N/A"}},{"$f":"IF(R$11=\"\",\"\",VLOOKUP(R331,漢字読み!$A$2:$O$506,8,0))","v":{"$error":"#N/A"}},{"$f":"IF(S$11=\"\",\"\",VLOOKUP(S331,漢字読み!$A$2:$O$506,8,0))","v":{"$error":"#N/A"}},{"$f":"IF(T$11=\"\",\"\",VLOOKUP(T331,漢字読み!$A$2:$O$506,8,0))","v":{"$error":"#N/A"}},null,"名前"]
[{"$f":"IF(A331=\"\",\"\",IF(VLOOKUP(A331,漢字書き!$A$2:$N$502,7,0)=0,\"\",VLOOKUP(A331,漢字書き!$A$2:$N$502,7,0)))","v":{"$error":"#N/A"}},{"$f":"IF(B331=\"\",\"\",IF(VLOOKUP(B331,漢字書き!$A$2:$N$502,7,0)=0,\"\",VLOOKUP(B331,漢字書き!$A$2:$N$502,7,0)))","v":{"$error":"#N/A"}},{"$f":"IF(C331=\"\",\"\",IF(VLOOKUP(C331,漢字書き!$A$2:$N$502,7,0)=0,\"\",VLOOKUP(C331,漢字書き!$A$2:$N$502,7,0)))","v":{"$error":"#N/A"}},{"$f":"IF(D331=\"\",\"\",IF(VLOOKUP(D331,漢字書き!$A$2:$N$502,7,0)=0,\"\",VLOOKUP(D331,漢字書き!$A$2:$N$502,7,0)))","v":{"$error":"#N/A"}},{"$f":"IF(E331=\"\",\"\",IF(VLOOKUP(E331,漢字書き!$A$2:$N$502,7,0)=0,\"\",VLOOKUP(E331,漢字書き!$A$2:$N$502,7,0)))","v":{"$error":"#N/A"}},{"$f":"IF(F331=\"\",\"\",IF(VLOOKUP(F331,漢字書き!$A$2:$N$502,7,0)=0,\"\",VLOOKUP(F331,漢字書き!$A$2:$N$502,7,0)))","v":{"$error":"#N/A"}},{"$f":"IF(G331=\"\",\"\",IF(VLOOKUP(G331,漢字書き!$A$2:$N$502,7,0)=0,\"\",VLOOKUP(G331,漢字書き!$A$2:$N$502,7,0)))","v":{"$error":"#N/A"}},{"$f":"IF(H331=\"\",\"\",IF(VLOOKUP(H331,漢字書き!$A$2:$N$502,7,0)=0,\"\",VLOOKUP(H331,漢字書き!$A$2:$N$502,7,0)))","v":{"$error":"#N/A"}},{"$f":"IF(I331=\"\",\"\",IF(VLOOKUP(I331,漢字書き!$A$2:$N$502,7,0)=0,\"\",VLOOKUP(I331,漢字書き!$A$2:$N$502,7,0)))","v":{"$error":"#N/A"}},{"$f":"IF(J331=\"\",\"\",IF(VLOOKUP(J331,漢字書き!$A$2:$N$502,7,0)=0,\"\",VLOOKUP(J331,漢字書き!$A$2:$N$502,7,0)))","v":{"$error":"#N/A"}},{"$f":"IF(K331=\"\",\"\",IF(VLOOKUP(K331,漢字読み!$A$2:$O$502,7,0)=0,\"\",VLOOKUP(K331,漢字読み!$A$2:$O$502,7,0)))","v":{"$error":"#N/A"}},{"$f":"IF(L331=\"\",\"\",IF(VLOOKUP(L331,漢字読み!$A$2:$O$502,7,0)=0,\"\",VLOOKUP(L331,漢字読み!$A$2:$O$502,7,0)))","v":{"$error":"#N/A"}},{"$f":"IF(M331=\"\",\"\",IF(VLOOKUP(M331,漢字読み!$A$2:$O$502,7,0)=0,\"\",VLOOKUP(M331,漢字読み!$A$2:$O$502,7,0)))","v":{"$error":"#N/A"}},{"$f":"IF(N331=\"\",\"\",IF(VLOOKUP(N331,漢字読み!$A$2:$O$502,7,0)=0,\"\",VLOOKUP(N331,漢字読み!$A$2:$O$502,7,0)))","v":{"$error":"#N/A"}},{"$f":"IF(O331=\"\",\"\",IF(VLOOKUP(O331,漢字読み!$A$2:$O$502,7,0)=0,\"\",VLOOKUP(O331,漢字読み!$A$2:$O$502,7,0)))","v":{"$error":"#N/A"}},{"$f":"IF(P331=\"\",\"\",IF(VLOOKUP(P331,漢字読み!$A$2:$O$502,7,0)=0,\"\",VLOOKUP(P331,漢字読み!$A$2:$O$502,7,0)))","v":{"$error":"#N/A"}},{"$f":"IF(Q331=\"\",\"\",IF(VLOOKUP(Q331,漢字読み!$A$2:$O$502,7,0)=0,\"\",VLOOKUP(Q331,漢字読み!$A$2:$O$502,7,0)))","v":{"$error":"#N/A"}},{"$f":"IF(R331=\"\",\"\",IF(VLOOKUP(R331,漢字読み!$A$2:$O$502,7,0)=0,\"\",VLOOKUP(R331,漢字読み!$A$2:$O$502,7,0)))","v":{"$error":"#N/A"}},{"$f":"IF(S331=\"\",\"\",IF(VLOOKUP(S331,漢字読み!$A$2:$O$502,7,0)=0,\"\",VLOOKUP(S331,漢字読み!$A$2:$O$502,7,0)))","v":{"$error":"#N/A"}},{"$f":"IF(T331=\"\",\"\",IF(VLOOKUP(T331,漢字読み!$A$2:$O$502,7,0)=0,\"\",VLOOKUP(T331,漢字読み!$A$2:$O$502,7,0)))","v":{"$error":"#N/A"}},null,null,"和歌山県教育委員会"]
[{"$f":"A326","v":0},0,0,0,0,0,0,0,0,0,0,0,0,0,0,0,0,0,0,0]
["⑳","⑲","⑱","⑰","⑯","⑮","⑭","⑬","⑫","⑪","⑩","⑨","⑧","⑦","⑥","⑤","④","③","②","①","次の［　　　　］の部分の漢字には読みがなをひらがなで書き、カタカナは漢字に直しなさい。",13,"「漢字の博士検定試験」練習問題　"]
[{"$f":"IF(A336=\"\",\"\",VLOOKUP(A336,漢字書き!$A$2:$N$506,6,0))","v":{"$error":"#N/A"}},{"$f":"IF(B336=\"\",\"\",VLOOKUP(B336,漢字書き!$A$2:$N$506,6,0))","v":{"$error":"#N/A"}},{"$f":"IF(C336=\"\",\"\",VLOOKUP(C336,漢字書き!$A$2:$N$506,6,0))","v":{"$error":"#N/A"}},{"$f":"IF(D336=\"\",\"\",VLOOKUP(D336,漢字書き!$A$2:$N$506,6,0))","v":{"$error":"#N/A"}},{"$f":"IF(E336=\"\",\"\",VLOOKUP(E336,漢字書き!$A$2:$N$506,6,0))","v":{"$error":"#N/A"}},{"$f":"IF(F336=\"\",\"\",VLOOKUP(F336,漢字書き!$A$2:$N$506,6,0))","v":{"$error":"#N/A"}},{"$f":"IF(G336=\"\",\"\",VLOOKUP(G336,漢字書き!$A$2:$N$506,6,0))","v":{"$error":"#N/A"}},{"$f":"IF(H336=\"\",\"\",VLOOKUP(H336,漢字書き!$A$2:$N$506,6,0))","v":{"$error":"#N/A"}},{"$f":"IF(I336=\"\",\"\",VLOOKUP(I336,漢字書き!$A$2:$N$506,6,0))","v":{"$error":"#N/A"}},{"$f":"IF(J336=\"\",\"\",VLOOKUP(J336,漢字書き!$A$2:$N$506,6,0))","v":{"$error":"#N/A"}},{"$f":"IF(K336=\"\",\"\",VLOOKUP(K336,漢字読み!$A$2:$O$506,6,0))","v":{"$error":"#N/A"}},{"$f":"IF(L336=\"\",\"\",VLOOKUP(L336,漢字読み!$A$2:$O$506,6,0))","v":{"$error":"#N/A"}},{"$f":"IF(M336=\"\",\"\",VLOOKUP(M336,漢字読み!$A$2:$O$506,6,0))","v":{"$error":"#N/A"}},{"$f":"IF(N336=\"\",\"\",VLOOKUP(N336,漢字読み!$A$2:$O$506,6,0))","v":{"$error":"#N/A"}},{"$f":"IF(O336=\"\",\"\",VLOOKUP(O336,漢字読み!$A$2:$O$506,6,0))","v":{"$error":"#N/A"}},{"$f":"IF(P336=\"\",\"\",VLOOKUP(P336,漢字読み!$A$2:$O$506,6,0))","v":{"$error":"#N/A"}},{"$f":"IF(Q336=\"\",\"\",VLOOKUP(Q336,漢字読み!$A$2:$O$506,6,0))","v":{"$error":"#N/A"}},{"$f":"IF(R336=\"\",\"\",VLOOKUP(R336,漢字読み!$A$2:$O$506,6,0))","v":{"$error":"#N/A"}},{"$f":"IF(S336=\"\",\"\",VLOOKUP(S336,漢字読み!$A$2:$O$506,6,0))","v":{"$error":"#N/A"}},{"$f":"IF(T336=\"\",\"\",VLOOKUP(T336,漢字読み!$A$2:$O$506,6,0))","v":{"$error":"#N/A"}},null,"級"]
[{"$f":"IF(A$16=\"\",\"\",VLOOKUP(A336,漢字書き!$A$2:$O$506,8,0))","v":{"$error":"#N/A"}},{"$f":"IF(B$16=\"\",\"\",VLOOKUP(B336,漢字書き!$A$2:$O$506,8,0))","v":{"$error":"#N/A"}},{"$f":"IF(C$16=\"\",\"\",VLOOKUP(C336,漢字書き!$A$2:$O$506,8,0))","v":{"$error":"#N/A"}},{"$f":"IF(D$16=\"\",\"\",VLOOKUP(D336,漢字書き!$A$2:$O$506,8,0))","v":{"$error":"#N/A"}},{"$f":"IF(E$16=\"\",\"\",VLOOKUP(E336,漢字書き!$A$2:$O$506,8,0))","v":{"$error":"#N/A"}},{"$f":"IF(F$16=\"\",\"\",VLOOKUP(F336,漢字書き!$A$2:$O$506,8,0))","v":{"$error":"#N/A"}},{"$f":"IF(G$16=\"\",\"\",VLOOKUP(G336,漢字書き!$A$2:$O$506,8,0))","v":{"$error":"#N/A"}},{"$f":"IF(H$16=\"\",\"\",VLOOKUP(H336,漢字書き!$A$2:$O$506,8,0))","v":{"$error":"#N/A"}},{"$f":"IF(I$16=\"\",\"\",VLOOKUP(I336,漢字書き!$A$2:$O$506,8,0))","v":{"$error":"#N/A"}},{"$f":"IF(J$16=\"\",\"\",VLOOKUP(J336,漢字書き!$A$2:$O$506,8,0))","v":{"$error":"#N/A"}},{"$f":"IF(K$16=\"\",\"\",VLOOKUP(K336,漢字読み!$A$2:$O$506,8,0))","v":{"$error":"#N/A"}},{"$f":"IF(L$16=\"\",\"\",VLOOKUP(L336,漢字読み!$A$2:$O$506,8,0))","v":{"$error":"#N/A"}},{"$f":"IF(M$16=\"\",\"\",VLOOKUP(M336,漢字読み!$A$2:$O$506,8,0))","v":{"$error":"#N/A"}},{"$f":"IF(N$16=\"\",\"\",VLOOKUP(N336,漢字読み!$A$2:$O$506,8,0))","v":{"$error":"#N/A"}},{"$f":"IF(O$16=\"\",\"\",VLOOKUP(O336,漢字読み!$A$2:$O$506,8,0))","v":{"$error":"#N/A"}},{"$f":"IF(P$16=\"\",\"\",VLOOKUP(P336,漢字読み!$A$2:$O$506,8,0))","v":{"$error":"#N/A"}},{"$f":"IF(Q$16=\"\",\"\",VLOOKUP(Q336,漢字読み!$A$2:$O$506,8,0))","v":{"$error":"#N/A"}},{"$f":"IF(R$16=\"\",\"\",VLOOKUP(R336,漢字読み!$A$2:$O$506,8,0))","v":{"$error":"#N/A"}},{"$f":"IF(S$16=\"\",\"\",VLOOKUP(S336,漢字読み!$A$2:$O$506,8,0))","v":{"$error":"#N/A"}},{"$f":"IF(T$16=\"\",\"\",VLOOKUP(T336,漢字読み!$A$2:$O$506,8,0))","v":{"$error":"#N/A"}},null,"名前"]
[{"$f":"IF(A336=\"\",\"\",IF(VLOOKUP(A336,漢字書き!$A$2:$N$502,7,0)=0,\"\",VLOOKUP(A336,漢字書き!$A$2:$N$502,7,0)))","v":{"$error":"#N/A"}},{"$f":"IF(B336=\"\",\"\",IF(VLOOKUP(B336,漢字書き!$A$2:$N$502,7,0)=0,\"\",VLOOKUP(B336,漢字書き!$A$2:$N$502,7,0)))","v":{"$error":"#N/A"}},{"$f":"IF(C336=\"\",\"\",IF(VLOOKUP(C336,漢字書き!$A$2:$N$502,7,0)=0,\"\",VLOOKUP(C336,漢字書き!$A$2:$N$502,7,0)))","v":{"$error":"#N/A"}},{"$f":"IF(D336=\"\",\"\",IF(VLOOKUP(D336,漢字書き!$A$2:$N$502,7,0)=0,\"\",VLOOKUP(D336,漢字書き!$A$2:$N$502,7,0)))","v":{"$error":"#N/A"}},{"$f":"IF(E336=\"\",\"\",IF(VLOOKUP(E336,漢字書き!$A$2:$N$502,7,0)=0,\"\",VLOOKUP(E336,漢字書き!$A$2:$N$502,7,0)))","v":{"$error":"#N/A"}},{"$f":"IF(F336=\"\",\"\",IF(VLOOKUP(F336,漢字書き!$A$2:$N$502,7,0)=0,\"\",VLOOKUP(F336,漢字書き!$A$2:$N$502,7,0)))","v":{"$error":"#N/A"}},{"$f":"IF(G336=\"\",\"\",IF(VLOOKUP(G336,漢字書き!$A$2:$N$502,7,0)=0,\"\",VLOOKUP(G336,漢字書き!$A$2:$N$502,7,0)))","v":{"$error":"#N/A"}},{"$f":"IF(H336=\"\",\"\",IF(VLOOKUP(H336,漢字書き!$A$2:$N$502,7,0)=0,\"\",VLOOKUP(H336,漢字書き!$A$2:$N$502,7,0)))","v":{"$error":"#N/A"}},{"$f":"IF(I336=\"\",\"\",IF(VLOOKUP(I336,漢字書き!$A$2:$N$502,7,0)=0,\"\",VLOOKUP(I336,漢字書き!$A$2:$N$502,7,0)))","v":{"$error":"#N/A"}},{"$f":"IF(J336=\"\",\"\",IF(VLOOKUP(J336,漢字書き!$A$2:$N$502,7,0)=0,\"\",VLOOKUP(J336,漢字書き!$A$2:$N$502,7,0)))","v":{"$error":"#N/A"}},{"$f":"IF(K336=\"\",\"\",IF(VLOOKUP(K336,漢字読み!$A$2:$O$502,7,0)=0,\"\",VLOOKUP(K336,漢字読み!$A$2:$O$502,7,0)))","v":{"$error":"#N/A"}},{"$f":"IF(L336=\"\",\"\",IF(VLOOKUP(L336,漢字読み!$A$2:$O$502,7,0)=0,\"\",VLOOKUP(L336,漢字読み!$A$2:$O$502,7,0)))","v":{"$error":"#N/A"}},{"$f":"IF(M336=\"\",\"\",IF(VLOOKUP(M336,漢字読み!$A$2:$O$502,7,0)=0,\"\",VLOOKUP(M336,漢字読み!$A$2:$O$502,7,0)))","v":{"$error":"#N/A"}},{"$f":"IF(N336=\"\",\"\",IF(VLOOKUP(N336,漢字読み!$A$2:$O$502,7,0)=0,\"\",VLOOKUP(N336,漢字読み!$A$2:$O$502,7,0)))","v":{"$error":"#N/A"}},{"$f":"IF(O336=\"\",\"\",IF(VLOOKUP(O336,漢字読み!$A$2:$O$502,7,0)=0,\"\",VLOOKUP(O336,漢字読み!$A$2:$O$502,7,0)))","v":{"$error":"#N/A"}},{"$f":"IF(P336=\"\",\"\",IF(VLOOKUP(P336,漢字読み!$A$2:$O$502,7,0)=0,\"\",VLOOKUP(P336,漢字読み!$A$2:$O$502,7,0)))","v":{"$error":"#N/A"}},{"$f":"IF(Q336=\"\",\"\",IF(VLOOKUP(Q336,漢字読み!$A$2:$O$502,7,0)=0,\"\",VLOOKUP(Q336,漢字読み!$A$2:$O$502,7,0)))","v":{"$error":"#N/A"}},{"$f":"IF(R336=\"\",\"\",IF(VLOOKUP(R336,漢字読み!$A$2:$O$502,7,0)=0,\"\",VLOOKUP(R336,漢字読み!$A$2:$O$502,7,0)))","v":{"$error":"#N/A"}},{"$f":"IF(S336=\"\",\"\",IF(VLOOKUP(S336,漢字読み!$A$2:$O$502,7,0)=0,\"\",VLOOKUP(S336,漢字読み!$A$2:$O$502,7,0)))","v":{"$error":"#N/A"}},{"$f":"IF(T336=\"\",\"\",IF(VLOOKUP(T336,漢字読み!$A$2:$O$502,7,0)=0,\"\",VLOOKUP(T336,漢字読み!$A$2:$O$502,7,0)))","v":{"$error":"#N/A"}},null,null,"和歌山県教育委員会"]
[{"$f":"INDIRECT(\"'関数（書き）'!C\" & COLUMN(B$1)+SUM($AD$2:$AD342))","v":0},{"$f":"INDIRECT(\"'関数（書き）'!C\" & COLUMN(C$1)+SUM($AD$2:$AD342))","v":0},{"$f":"INDIRECT(\"'関数（書き）'!C\" & COLUMN(D$1)+SUM($AD$2:$AD342))","v":0},{"$f":"INDIRECT(\"'関数（書き）'!C\" & COLUMN(E$1)+SUM($AD$2:$AD342))","v":0},{"$f":"INDIRECT(\"'関数（書き）'!C\" & COLUMN(F$1)+SUM($AD$2:$AD342))","v":0},{"$f":"INDIRECT(\"'関数（書き）'!C\" & COLUMN(G$1)+SUM($AD$2:$AD342))","v":0},{"$f":"INDIRECT(\"'関数（書き）'!C\" & COLUMN(H$1)+SUM($AD$2:$AD342))","v":0},{"$f":"INDIRECT(\"'関数（書き）'!C\" & COLUMN(I$1)+SUM($AD$2:$AD342))","v":0},{"$f":"INDIRECT(\"'関数（書き）'!C\" & COLUMN(J$1)+SUM($AD$2:$AD342))","v":0},{"$f":"INDIRECT(\"'関数（書き）'!C\" & COLUMN(K$1)+SUM($AD$2:$AD342))","v":0},{"$f":"INDIRECT(\"'関数（読み）'!C\" & COLUMN(B$1)+SUM($AD$2:$AD342))","v":0},{"$f":"INDIRECT(\"'関数（読み）'!C\" & COLUMN(C$1)+SUM($AD$2:$AD342))","v":0},{"$f":"INDIRECT(\"'関数（読み）'!C\" & COLUMN(D$1)+SUM($AD$2:$AD342))","v":0},{"$f":"INDIRECT(\"'関数（読み）'!C\" & COLUMN(E$1)+SUM($AD$2:$AD342))","v":0},{"$f":"INDIRECT(\"'関数（読み）'!C\" & COLUMN(F$1)+SUM($AD$2:$AD342))","v":0},{"$f":"INDIRECT(\"'関数（読み）'!C\" & COLUMN(G$1)+SUM($AD$2:$AD342))","v":0},{"$f":"INDIRECT(\"'関数（読み）'!C\" & COLUMN(H$1)+SUM($AD$2:$AD342))","v":0},{"$f":"INDIRECT(\"'関数（読み）'!C\" & COLUMN(I$1)+SUM($AD$2:$AD342))","v":0},{"$f":"INDIRECT(\"'関数（読み）'!C\" & COLUMN(J$1)+SUM($AD$2:$AD342))","v":0},{"$f":"INDIRECT(\"'関数（読み）'!C\" & COLUMN(K$1)+SUM($AD$2:$AD342))","v":0}]
["⑳","⑲","⑱","⑰","⑯","⑮","⑭","⑬","⑫","⑪","⑩","⑨","⑧","⑦","⑥","⑤","④","③","②","①","次の［　　　　］の部分の漢字には読みがなをひらがなで書き、カタカナは漢字に直しなさい。",13,"「漢字の博士検定試験」練習問題　",null,null,null,null,null,"←",10,"問",{"$f":"AH327+1","v":341},"～",{"$f":"SUM($AD$2:$AD342)+10","v":350},"問まで",{"$f":"COUNTIF($A$1:$T$200,T343)","v":0}]
[{"$f":"IF(A341=\"\",\"\",VLOOKUP(A341,漢字書き!$A$2:$N$506,6,0))","v":{"$error":"#N/A"}},{"$f":"IF(B341=\"\",\"\",VLOOKUP(B341,漢字書き!$A$2:$N$506,6,0))","v":{"$error":"#N/A"}},{"$f":"IF(C341=\"\",\"\",VLOOKUP(C341,漢字書き!$A$2:$N$506,6,0))","v":{"$error":"#N/A"}},{"$f":"IF(D341=\"\",\"\",VLOOKUP(D341,漢字書き!$A$2:$N$506,6,0))","v":{"$error":"#N/A"}},{"$f":"IF(E341=\"\",\"\",VLOOKUP(E341,漢字書き!$A$2:$N$506,6,0))","v":{"$error":"#N/A"}},{"$f":"IF(F341=\"\",\"\",VLOOKUP(F341,漢字書き!$A$2:$N$506,6,0))","v":{"$error":"#N/A"}},{"$f":"IF(G341=\"\",\"\",VLOOKUP(G341,漢字書き!$A$2:$N$506,6,0))","v":{"$error":"#N/A"}},{"$f":"IF(H341=\"\",\"\",VLOOKUP(H341,漢字書き!$A$2:$N$506,6,0))","v":{"$error":"#N/A"}},{"$f":"IF(I341=\"\",\"\",VLOOKUP(I341,漢字書き!$A$2:$N$506,6,0))","v":{"$error":"#N/A"}},{"$f":"IF(J341=\"\",\"\",VLOOKUP(J341,漢字書き!$A$2:$N$506,6,0))","v":{"$error":"#N/A"}},{"$f":"IF(K341=\"\",\"\",VLOOKUP(K341,漢字読み!$A$2:$O$506,6,0))","v":{"$error":"#N/A"}},{"$f":"IF(L341=\"\",\"\",VLOOKUP(L341,漢字読み!$A$2:$O$506,6,0))","v":{"$error":"#N/A"}},{"$f":"IF(M341=\"\",\"\",VLOOKUP(M341,漢字読み!$A$2:$O$506,6,0))","v":{"$error":"#N/A"}},{"$f":"IF(N341=\"\",\"\",VLOOKUP(N341,漢字読み!$A$2:$O$506,6,0))","v":{"$error":"#N/A"}},{"$f":"IF(O341=\"\",\"\",VLOOKUP(O341,漢字読み!$A$2:$O$506,6,0))","v":{"$error":"#N/A"}},{"$f":"IF(P341=\"\",\"\",VLOOKUP(P341,漢字読み!$A$2:$O$506,6,0))","v":{"$error":"#N/A"}},{"$f":"IF(Q341=\"\",\"\",VLOOKUP(Q341,漢字読み!$A$2:$O$506,6,0))","v":{"$error":"#N/A"}},{"$f":"IF(R341=\"\",\"\",VLOOKUP(R341,漢字読み!$A$2:$O$506,6,0))","v":{"$error":"#N/A"}},{"$f":"IF(S341=\"\",\"\",VLOOKUP(S341,漢字読み!$A$2:$O$506,6,0))","v":{"$error":"#N/A"}},{"$f":"IF(T341=\"\",\"\",VLOOKUP(T341,漢字読み!$A$2:$O$506,6,0))","v":{"$error":"#N/A"}},null,"級"]
[null,null,null,null,null,null,null,null,null,null,null,null,null,null,null,null,null,null,null,null,null,"名前"]
[{"$f":"IF(A341=\"\",\"\",IF(VLOOKUP(A341,漢字書き!$A$2:$N$502,7,0)=0,\"\",VLOOKUP(A341,漢字書き!$A$2:$N$502,7,0)))","v":{"$error":"#N/A"}},{"$f":"IF(B341=\"\",\"\",IF(VLOOKUP(B341,漢字書き!$A$2:$N$502,7,0)=0,\"\",VLOOKUP(B341,漢字書き!$A$2:$N$502,7,0)))","v":{"$error":"#N/A"}},{"$f":"IF(C341=\"\",\"\",IF(VLOOKUP(C341,漢字書き!$A$2:$N$502,7,0)=0,\"\",VLOOKUP(C341,漢字書き!$A$2:$N$502,7,0)))","v":{"$error":"#N/A"}},{"$f":"IF(D341=\"\",\"\",IF(VLOOKUP(D341,漢字書き!$A$2:$N$502,7,0)=0,\"\",VLOOKUP(D341,漢字書き!$A$2:$N$502,7,0)))","v":{"$error":"#N/A"}},{"$f":"IF(E341=\"\",\"\",IF(VLOOKUP(E341,漢字書き!$A$2:$N$502,7,0)=0,\"\",VLOOKUP(E341,漢字書き!$A$2:$N$502,7,0)))","v":{"$error":"#N/A"}},{"$f":"IF(F341=\"\",\"\",IF(VLOOKUP(F341,漢字書き!$A$2:$N$502,7,0)=0,\"\",VLOOKUP(F341,漢字書き!$A$2:$N$502,7,0)))","v":{"$error":"#N/A"}},{"$f":"IF(G341=\"\",\"\",IF(VLOOKUP(G341,漢字書き!$A$2:$N$502,7,0)=0,\"\",VLOOKUP(G341,漢字書き!$A$2:$N$502,7,0)))","v":{"$error":"#N/A"}},{"$f":"IF(H341=\"\",\"\",IF(VLOOKUP(H341,漢字書き!$A$2:$N$502,7,0)=0,\"\",VLOOKUP(H341,漢字書き!$A$2:$N$502,7,0)))","v":{"$error":"#N/A"}},{"$f":"IF(I341=\"\",\"\",IF(VLOOKUP(I341,漢字書き!$A$2:$N$502,7,0)=0,\"\",VLOOKUP(I341,漢字書き!$A$2:$N$502,7,0)))","v":{"$error":"#N/A"}},{"$f":"IF(J341=\"\",\"\",IF(VLOOKUP(J341,漢字書き!$A$2:$N$502,7,0)=0,\"\",VLOOKUP(J341,漢字書き!$A$2:$N$502,7,0)))","v":{"$error":"#N/A"}},{"$f":"IF(K341=\"\",\"\",IF(VLOOKUP(K341,漢字読み!$A$2:$O$502,7,0)=0,\"\",VLOOKUP(K341,漢字読み!$A$2:$O$502,7,0)))","v":{"$error":"#N/A"}},{"$f":"IF(L341=\"\",\"\",IF(VLOOKUP(L341,漢字読み!$A$2:$O$502,7,0)=0,\"\",VLOOKUP(L341,漢字読み!$A$2:$O$502,7,0)))","v":{"$error":"#N/A"}},{"$f":"IF(M341=\"\",\"\",IF(VLOOKUP(M341,漢字読み!$A$2:$O$502,7,0)=0,\"\",VLOOKUP(M341,漢字読み!$A$2:$O$502,7,0)))","v":{"$error":"#N/A"}},{"$f":"IF(N341=\"\",\"\",IF(VLOOKUP(N341,漢字読み!$A$2:$O$502,7,0)=0,\"\",VLOOKUP(N341,漢字読み!$A$2:$O$502,7,0)))","v":{"$error":"#N/A"}},{"$f":"IF(O341=\"\",\"\",IF(VLOOKUP(O341,漢字読み!$A$2:$O$502,7,0)=0,\"\",VLOOKUP(O341,漢字読み!$A$2:$O$502,7,0)))","v":{"$error":"#N/A"}},{"$f":"IF(P341=\"\",\"\",IF(VLOOKUP(P341,漢字読み!$A$2:$O$502,7,0)=0,\"\",VLOOKUP(P341,漢字読み!$A$2:$O$502,7,0)))","v":{"$error":"#N/A"}},{"$f":"IF(Q341=\"\",\"\",IF(VLOOKUP(Q341,漢字読み!$A$2:$O$502,7,0)=0,\"\",VLOOKUP(Q341,漢字読み!$A$2:$O$502,7,0)))","v":{"$error":"#N/A"}},{"$f":"IF(R341=\"\",\"\",IF(VLOOKUP(R341,漢字読み!$A$2:$O$502,7,0)=0,\"\",VLOOKUP(R341,漢字読み!$A$2:$O$502,7,0)))","v":{"$error":"#N/A"}},{"$f":"IF(S341=\"\",\"\",IF(VLOOKUP(S341,漢字読み!$A$2:$O$502,7,0)=0,\"\",VLOOKUP(S341,漢字読み!$A$2:$O$502,7,0)))","v":{"$error":"#N/A"}},{"$f":"IF(T341=\"\",\"\",IF(VLOOKUP(T341,漢字読み!$A$2:$O$502,7,0)=0,\"\",VLOOKUP(T341,漢字読み!$A$2:$O$502,7,0)))","v":{"$error":"#N/A"}},null,null,"和歌山県教育委員会"]
[{"$f":"INDIRECT(\"'関数（書き）'!C\" & COLUMN(B$1)+SUM($AD$2:$AD347))","v":0},{"$f":"INDIRECT(\"'関数（書き）'!C\" & COLUMN(C$1)+SUM($AD$2:$AD347))","v":0},{"$f":"INDIRECT(\"'関数（書き）'!C\" & COLUMN(D$1)+SUM($AD$2:$AD347))","v":0},{"$f":"INDIRECT(\"'関数（書き）'!C\" & COLUMN(E$1)+SUM($AD$2:$AD347))","v":0},{"$f":"INDIRECT(\"'関数（書き）'!C\" & COLUMN(F$1)+SUM($AD$2:$AD347))","v":0},{"$f":"INDIRECT(\"'関数（書き）'!C\" & COLUMN(G$1)+SUM($AD$2:$AD347))","v":0},{"$f":"INDIRECT(\"'関数（書き）'!C\" & COLUMN(H$1)+SUM($AD$2:$AD347))","v":0},{"$f":"INDIRECT(\"'関数（書き）'!C\" & COLUMN(I$1)+SUM($AD$2:$AD347))","v":0},{"$f":"INDIRECT(\"'関数（書き）'!C\" & COLUMN(J$1)+SUM($AD$2:$AD347))","v":0},{"$f":"INDIRECT(\"'関数（書き）'!C\" & COLUMN(K$1)+SUM($AD$2:$AD347))","v":0},{"$f":"INDIRECT(\"'関数（読み）'!C\" & COLUMN(B$1)+SUM($AD$2:$AD347))","v":0},{"$f":"INDIRECT(\"'関数（読み）'!C\" & COLUMN(C$1)+SUM($AD$2:$AD347))","v":0},{"$f":"INDIRECT(\"'関数（読み）'!C\" & COLUMN(D$1)+SUM($AD$2:$AD347))","v":0},{"$f":"INDIRECT(\"'関数（読み）'!C\" & COLUMN(E$1)+SUM($AD$2:$AD347))","v":0},{"$f":"INDIRECT(\"'関数（読み）'!C\" & COLUMN(F$1)+SUM($AD$2:$AD347))","v":0},{"$f":"INDIRECT(\"'関数（読み）'!C\" & COLUMN(G$1)+SUM($AD$2:$AD347))","v":0},{"$f":"INDIRECT(\"'関数（読み）'!C\" & COLUMN(H$1)+SUM($AD$2:$AD347))","v":0},{"$f":"INDIRECT(\"'関数（読み）'!C\" & COLUMN(I$1)+SUM($AD$2:$AD347))","v":0},{"$f":"INDIRECT(\"'関数（読み）'!C\" & COLUMN(J$1)+SUM($AD$2:$AD347))","v":0},{"$f":"INDIRECT(\"'関数（読み）'!C\" & COLUMN(K$1)+SUM($AD$2:$AD347))","v":0}]
["⑳","⑲","⑱","⑰","⑯","⑮","⑭","⑬","⑫","⑪","⑩","⑨","⑧","⑦","⑥","⑤","④","③","②","①","次の［　　　　］の部分の漢字には読みがなをひらがなで書き、カタカナは漢字に直しなさい。",13,"「漢字の博士検定試験」練習問題　",null,null,null,null,null,"←",10,"問",{"$f":"AH342+1","v":351},"～",{"$f":"SUM($AD$2:$AD347)+10","v":360},"問まで",{"$f":"COUNTIF($A$1:$T$200,T348)","v":0}]
[{"$f":"IF(A346=\"\",\"\",VLOOKUP(A346,漢字書き!$A$2:$N$506,6,0))","v":{"$error":"#N/A"}},{"$f":"IF(B346=\"\",\"\",VLOOKUP(B346,漢字書き!$A$2:$N$506,6,0))","v":{"$error":"#N/A"}},{"$f":"IF(C346=\"\",\"\",VLOOKUP(C346,漢字書き!$A$2:$N$506,6,0))","v":{"$error":"#N/A"}},{"$f":"IF(D346=\"\",\"\",VLOOKUP(D346,漢字書き!$A$2:$N$506,6,0))","v":{"$error":"#N/A"}},{"$f":"IF(E346=\"\",\"\",VLOOKUP(E346,漢字書き!$A$2:$N$506,6,0))","v":{"$error":"#N/A"}},{"$f":"IF(F346=\"\",\"\",VLOOKUP(F346,漢字書き!$A$2:$N$506,6,0))","v":{"$error":"#N/A"}},{"$f":"IF(G346=\"\",\"\",VLOOKUP(G346,漢字書き!$A$2:$N$506,6,0))","v":{"$error":"#N/A"}},{"$f":"IF(H346=\"\",\"\",VLOOKUP(H346,漢字書き!$A$2:$N$506,6,0))","v":{"$error":"#N/A"}},{"$f":"IF(I346=\"\",\"\",VLOOKUP(I346,漢字書き!$A$2:$N$506,6,0))","v":{"$error":"#N/A"}},{"$f":"IF(J346=\"\",\"\",VLOOKUP(J346,漢字書き!$A$2:$N$506,6,0))","v":{"$error":"#N/A"}},{"$f":"IF(K346=\"\",\"\",VLOOKUP(K346,漢字読み!$A$2:$O$506,6,0))","v":{"$error":"#N/A"}},{"$f":"IF(L346=\"\",\"\",VLOOKUP(L346,漢字読み!$A$2:$O$506,6,0))","v":{"$error":"#N/A"}},{"$f":"IF(M346=\"\",\"\",VLOOKUP(M346,漢字読み!$A$2:$O$506,6,0))","v":{"$error":"#N/A"}},{"$f":"IF(N346=\"\",\"\",VLOOKUP(N346,漢字読み!$A$2:$O$506,6,0))","v":{"$error":"#N/A"}},{"$f":"IF(O346=\"\",\"\",VLOOKUP(O346,漢字読み!$A$2:$O$506,6,0))","v":{"$error":"#N/A"}},{"$f":"IF(P346=\"\",\"\",VLOOKUP(P346,漢字読み!$A$2:$O$506,6,0))","v":{"$error":"#N/A"}},{"$f":"IF(Q346=\"\",\"\",VLOOKUP(Q346,漢字読み!$A$2:$O$506,6,0))","v":{"$error":"#N/A"}},{"$f":"IF(R346=\"\",\"\",VLOOKUP(R346,漢字読み!$A$2:$O$506,6,0))","v":{"$error":"#N/A"}},{"$f":"IF(S346=\"\",\"\",VLOOKUP(S346,漢字読み!$A$2:$O$506,6,0))","v":{"$error":"#N/A"}},{"$f":"IF(T346=\"\",\"\",VLOOKUP(T346,漢字読み!$A$2:$O$506,6,0))","v":{"$error":"#N/A"}},null,"級"]
[null,null,null,null,null,null,null,null,null,null,null,null,null,null,null,null,null,null,null,null,null,"名前"]
[{"$f":"IF(A346=\"\",\"\",IF(VLOOKUP(A346,漢字書き!$A$2:$N$502,7,0)=0,\"\",VLOOKUP(A346,漢字書き!$A$2:$N$502,7,0)))","v":{"$error":"#N/A"}},{"$f":"IF(B346=\"\",\"\",IF(VLOOKUP(B346,漢字書き!$A$2:$N$502,7,0)=0,\"\",VLOOKUP(B346,漢字書き!$A$2:$N$502,7,0)))","v":{"$error":"#N/A"}},{"$f":"IF(C346=\"\",\"\",IF(VLOOKUP(C346,漢字書き!$A$2:$N$502,7,0)=0,\"\",VLOOKUP(C346,漢字書き!$A$2:$N$502,7,0)))","v":{"$error":"#N/A"}},{"$f":"IF(D346=\"\",\"\",IF(VLOOKUP(D346,漢字書き!$A$2:$N$502,7,0)=0,\"\",VLOOKUP(D346,漢字書き!$A$2:$N$502,7,0)))","v":{"$error":"#N/A"}},{"$f":"IF(E346=\"\",\"\",IF(VLOOKUP(E346,漢字書き!$A$2:$N$502,7,0)=0,\"\",VLOOKUP(E346,漢字書き!$A$2:$N$502,7,0)))","v":{"$error":"#N/A"}},{"$f":"IF(F346=\"\",\"\",IF(VLOOKUP(F346,漢字書き!$A$2:$N$502,7,0)=0,\"\",VLOOKUP(F346,漢字書き!$A$2:$N$502,7,0)))","v":{"$error":"#N/A"}},{"$f":"IF(G346=\"\",\"\",IF(VLOOKUP(G346,漢字書き!$A$2:$N$502,7,0)=0,\"\",VLOOKUP(G346,漢字書き!$A$2:$N$502,7,0)))","v":{"$error":"#N/A"}},{"$f":"IF(H346=\"\",\"\",IF(VLOOKUP(H346,漢字書き!$A$2:$N$502,7,0)=0,\"\",VLOOKUP(H346,漢字書き!$A$2:$N$502,7,0)))","v":{"$error":"#N/A"}},{"$f":"IF(I346=\"\",\"\",IF(VLOOKUP(I346,漢字書き!$A$2:$N$502,7,0)=0,\"\",VLOOKUP(I346,漢字書き!$A$2:$N$502,7,0)))","v":{"$error":"#N/A"}},{"$f":"IF(J346=\"\",\"\",IF(VLOOKUP(J346,漢字書き!$A$2:$N$502,7,0)=0,\"\",VLOOKUP(J346,漢字書き!$A$2:$N$502,7,0)))","v":{"$error":"#N/A"}},{"$f":"IF(K346=\"\",\"\",IF(VLOOKUP(K346,漢字読み!$A$2:$O$502,7,0)=0,\"\",VLOOKUP(K346,漢字読み!$A$2:$O$502,7,0)))","v":{"$error":"#N/A"}},{"$f":"IF(L346=\"\",\"\",IF(VLOOKUP(L346,漢字読み!$A$2:$O$502,7,0)=0,\"\",VLOOKUP(L346,漢字読み!$A$2:$O$502,7,0)))","v":{"$error":"#N/A"}},{"$f":"IF(M346=\"\",\"\",IF(VLOOKUP(M346,漢字読み!$A$2:$O$502,7,0)=0,\"\",VLOOKUP(M346,漢字読み!$A$2:$O$502,7,0)))","v":{"$error":"#N/A"}},{"$f":"IF(N346=\"\",\"\",IF(VLOOKUP(N346,漢字読み!$A$2:$O$502,7,0)=0,\"\",VLOOKUP(N346,漢字読み!$A$2:$O$502,7,0)))","v":{"$error":"#N/A"}},{"$f":"IF(O346=\"\",\"\",IF(VLOOKUP(O346,漢字読み!$A$2:$O$502,7,0)=0,\"\",VLOOKUP(O346,漢字読み!$A$2:$O$502,7,0)))","v":{"$error":"#N/A"}},{"$f":"IF(P346=\"\",\"\",IF(VLOOKUP(P346,漢字読み!$A$2:$O$502,7,0)=0,\"\",VLOOKUP(P346,漢字読み!$A$2:$O$502,7,0)))","v":{"$error":"#N/A"}},{"$f":"IF(Q346=\"\",\"\",IF(VLOOKUP(Q346,漢字読み!$A$2:$O$502,7,0)=0,\"\",VLOOKUP(Q346,漢字読み!$A$2:$O$502,7,0)))","v":{"$error":"#N/A"}},{"$f":"IF(R346=\"\",\"\",IF(VLOOKUP(R346,漢字読み!$A$2:$O$502,7,0)=0,\"\",VLOOKUP(R346,漢字読み!$A$2:$O$502,7,0)))","v":{"$error":"#N/A"}},{"$f":"IF(S346=\"\",\"\",IF(VLOOKUP(S346,漢字読み!$A$2:$O$502,7,0)=0,\"\",VLOOKUP(S346,漢字読み!$A$2:$O$502,7,0)))","v":{"$error":"#N/A"}},{"$f":"IF(T346=\"\",\"\",IF(VLOOKUP(T346,漢字読み!$A$2:$O$502,7,0)=0,\"\",VLOOKUP(T346,漢字読み!$A$2:$O$502,7,0)))","v":{"$error":"#N/A"}},null,null,"和歌山県教育委員会"]
[{"$f":"A341","v":0},0,0,0,0,0,0,0,0,0,0,0,0,0,0,0,0,0,0,0]
["⑳","⑲","⑱","⑰","⑯","⑮","⑭","⑬","⑫","⑪","⑩","⑨","⑧","⑦","⑥","⑤","④","③","②","①","次の［　　　　］の部分の漢字には読みがなをひらがなで書き、カタカナは漢字に直しなさい。",13,"「漢字の博士検定試験」練習問題　"]
[{"$f":"IF(A351=\"\",\"\",VLOOKUP(A351,漢字書き!$A$2:$N$506,6,0))","v":{"$error":"#N/A"}},{"$f":"IF(B351=\"\",\"\",VLOOKUP(B351,漢字書き!$A$2:$N$506,6,0))","v":{"$error":"#N/A"}},{"$f":"IF(C351=\"\",\"\",VLOOKUP(C351,漢字書き!$A$2:$N$506,6,0))","v":{"$error":"#N/A"}},{"$f":"IF(D351=\"\",\"\",VLOOKUP(D351,漢字書き!$A$2:$N$506,6,0))","v":{"$error":"#N/A"}},{"$f":"IF(E351=\"\",\"\",VLOOKUP(E351,漢字書き!$A$2:$N$506,6,0))","v":{"$error":"#N/A"}},{"$f":"IF(F351=\"\",\"\",VLOOKUP(F351,漢字書き!$A$2:$N$506,6,0))","v":{"$error":"#N/A"}},{"$f":"IF(G351=\"\",\"\",VLOOKUP(G351,漢字書き!$A$2:$N$506,6,0))","v":{"$error":"#N/A"}},{"$f":"IF(H351=\"\",\"\",VLOOKUP(H351,漢字書き!$A$2:$N$506,6,0))","v":{"$error":"#N/A"}},{"$f":"IF(I351=\"\",\"\",VLOOKUP(I351,漢字書き!$A$2:$N$506,6,0))","v":{"$error":"#N/A"}},{"$f":"IF(J351=\"\",\"\",VLOOKUP(J351,漢字書き!$A$2:$N$506,6,0))","v":{"$error":"#N/A"}},{"$f":"IF(K351=\"\",\"\",VLOOKUP(K351,漢字読み!$A$2:$O$506,6,0))","v":{"$error":"#N/A"}},{"$f":"IF(L351=\"\",\"\",VLOOKUP(L351,漢字読み!$A$2:$O$506,6,0))","v":{"$error":"#N/A"}},{"$f":"IF(M351=\"\",\"\",VLOOKUP(M351,漢字読み!$A$2:$O$506,6,0))","v":{"$error":"#N/A"}},{"$f":"IF(N351=\"\",\"\",VLOOKUP(N351,漢字読み!$A$2:$O$506,6,0))","v":{"$error":"#N/A"}},{"$f":"IF(O351=\"\",\"\",VLOOKUP(O351,漢字読み!$A$2:$O$506,6,0))","v":{"$error":"#N/A"}},{"$f":"IF(P351=\"\",\"\",VLOOKUP(P351,漢字読み!$A$2:$O$506,6,0))","v":{"$error":"#N/A"}},{"$f":"IF(Q351=\"\",\"\",VLOOKUP(Q351,漢字読み!$A$2:$O$506,6,0))","v":{"$error":"#N/A"}},{"$f":"IF(R351=\"\",\"\",VLOOKUP(R351,漢字読み!$A$2:$O$506,6,0))","v":{"$error":"#N/A"}},{"$f":"IF(S351=\"\",\"\",VLOOKUP(S351,漢字読み!$A$2:$O$506,6,0))","v":{"$error":"#N/A"}},{"$f":"IF(T351=\"\",\"\",VLOOKUP(T351,漢字読み!$A$2:$O$506,6,0))","v":{"$error":"#N/A"}},null,"級"]
[{"$f":"IF(A$11=\"\",\"\",VLOOKUP(A351,漢字書き!$A$2:$O$506,8,0))","v":{"$error":"#N/A"}},{"$f":"IF(B$11=\"\",\"\",VLOOKUP(B351,漢字書き!$A$2:$O$506,8,0))","v":{"$error":"#N/A"}},{"$f":"IF(C$11=\"\",\"\",VLOOKUP(C351,漢字書き!$A$2:$O$506,8,0))","v":{"$error":"#N/A"}},{"$f":"IF(D$11=\"\",\"\",VLOOKUP(D351,漢字書き!$A$2:$O$506,8,0))","v":{"$error":"#N/A"}},{"$f":"IF(E$11=\"\",\"\",VLOOKUP(E351,漢字書き!$A$2:$O$506,8,0))","v":{"$error":"#N/A"}},{"$f":"IF(F$11=\"\",\"\",VLOOKUP(F351,漢字書き!$A$2:$O$506,8,0))","v":{"$error":"#N/A"}},{"$f":"IF(G$11=\"\",\"\",VLOOKUP(G351,漢字書き!$A$2:$O$506,8,0))","v":{"$error":"#N/A"}},{"$f":"IF(H$11=\"\",\"\",VLOOKUP(H351,漢字書き!$A$2:$O$506,8,0))","v":{"$error":"#N/A"}},{"$f":"IF(I$11=\"\",\"\",VLOOKUP(I351,漢字書き!$A$2:$O$506,8,0))","v":{"$error":"#N/A"}},{"$f":"IF(J$11=\"\",\"\",VLOOKUP(J351,漢字書き!$A$2:$O$506,8,0))","v":{"$error":"#N/A"}},{"$f":"IF(K$11=\"\",\"\",VLOOKUP(K351,漢字読み!$A$2:$O$506,8,0))","v":{"$error":"#N/A"}},{"$f":"IF(L$11=\"\",\"\",VLOOKUP(L351,漢字読み!$A$2:$O$506,8,0))","v":{"$error":"#N/A"}},{"$f":"IF(M$11=\"\",\"\",VLOOKUP(M351,漢字読み!$A$2:$O$506,8,0))","v":{"$error":"#N/A"}},{"$f":"IF(N$11=\"\",\"\",VLOOKUP(N351,漢字読み!$A$2:$O$506,8,0))","v":{"$error":"#N/A"}},{"$f":"IF(O$11=\"\",\"\",VLOOKUP(O351,漢字読み!$A$2:$O$506,8,0))","v":{"$error":"#N/A"}},{"$f":"IF(P$11=\"\",\"\",VLOOKUP(P351,漢字読み!$A$2:$O$506,8,0))","v":{"$error":"#N/A"}},{"$f":"IF(Q$11=\"\",\"\",VLOOKUP(Q351,漢字読み!$A$2:$O$506,8,0))","v":{"$error":"#N/A"}},{"$f":"IF(R$11=\"\",\"\",VLOOKUP(R351,漢字読み!$A$2:$O$506,8,0))","v":{"$error":"#N/A"}},{"$f":"IF(S$11=\"\",\"\",VLOOKUP(S351,漢字読み!$A$2:$O$506,8,0))","v":{"$error":"#N/A"}},{"$f":"IF(T$11=\"\",\"\",VLOOKUP(T351,漢字読み!$A$2:$O$506,8,0))","v":{"$error":"#N/A"}},null,"名前"]
[{"$f":"IF(A351=\"\",\"\",IF(VLOOKUP(A351,漢字書き!$A$2:$N$502,7,0)=0,\"\",VLOOKUP(A351,漢字書き!$A$2:$N$502,7,0)))","v":{"$error":"#N/A"}},{"$f":"IF(B351=\"\",\"\",IF(VLOOKUP(B351,漢字書き!$A$2:$N$502,7,0)=0,\"\",VLOOKUP(B351,漢字書き!$A$2:$N$502,7,0)))","v":{"$error":"#N/A"}},{"$f":"IF(C351=\"\",\"\",IF(VLOOKUP(C351,漢字書き!$A$2:$N$502,7,0)=0,\"\",VLOOKUP(C351,漢字書き!$A$2:$N$502,7,0)))","v":{"$error":"#N/A"}},{"$f":"IF(D351=\"\",\"\",IF(VLOOKUP(D351,漢字書き!$A$2:$N$502,7,0)=0,\"\",VLOOKUP(D351,漢字書き!$A$2:$N$502,7,0)))","v":{"$error":"#N/A"}},{"$f":"IF(E351=\"\",\"\",IF(VLOOKUP(E351,漢字書き!$A$2:$N$502,7,0)=0,\"\",VLOOKUP(E351,漢字書き!$A$2:$N$502,7,0)))","v":{"$error":"#N/A"}},{"$f":"IF(F351=\"\",\"\",IF(VLOOKUP(F351,漢字書き!$A$2:$N$502,7,0)=0,\"\",VLOOKUP(F351,漢字書き!$A$2:$N$502,7,0)))","v":{"$error":"#N/A"}},{"$f":"IF(G351=\"\",\"\",IF(VLOOKUP(G351,漢字書き!$A$2:$N$502,7,0)=0,\"\",VLOOKUP(G351,漢字書き!$A$2:$N$502,7,0)))","v":{"$error":"#N/A"}},{"$f":"IF(H351=\"\",\"\",IF(VLOOKUP(H351,漢字書き!$A$2:$N$502,7,0)=0,\"\",VLOOKUP(H351,漢字書き!$A$2:$N$502,7,0)))","v":{"$error":"#N/A"}},{"$f":"IF(I351=\"\",\"\",IF(VLOOKUP(I351,漢字書き!$A$2:$N$502,7,0)=0,\"\",VLOOKUP(I351,漢字書き!$A$2:$N$502,7,0)))","v":{"$error":"#N/A"}},{"$f":"IF(J351=\"\",\"\",IF(VLOOKUP(J351,漢字書き!$A$2:$N$502,7,0)=0,\"\",VLOOKUP(J351,漢字書き!$A$2:$N$502,7,0)))","v":{"$error":"#N/A"}},{"$f":"IF(K351=\"\",\"\",IF(VLOOKUP(K351,漢字読み!$A$2:$O$502,7,0)=0,\"\",VLOOKUP(K351,漢字読み!$A$2:$O$502,7,0)))","v":{"$error":"#N/A"}},{"$f":"IF(L351=\"\",\"\",IF(VLOOKUP(L351,漢字読み!$A$2:$O$502,7,0)=0,\"\",VLOOKUP(L351,漢字読み!$A$2:$O$502,7,0)))","v":{"$error":"#N/A"}},{"$f":"IF(M351=\"\",\"\",IF(VLOOKUP(M351,漢字読み!$A$2:$O$502,7,0)=0,\"\",VLOOKUP(M351,漢字読み!$A$2:$O$502,7,0)))","v":{"$error":"#N/A"}},{"$f":"IF(N351=\"\",\"\",IF(VLOOKUP(N351,漢字読み!$A$2:$O$502,7,0)=0,\"\",VLOOKUP(N351,漢字読み!$A$2:$O$502,7,0)))","v":{"$error":"#N/A"}},{"$f":"IF(O351=\"\",\"\",IF(VLOOKUP(O351,漢字読み!$A$2:$O$502,7,0)=0,\"\",VLOOKUP(O351,漢字読み!$A$2:$O$502,7,0)))","v":{"$error":"#N/A"}},{"$f":"IF(P351=\"\",\"\",IF(VLOOKUP(P351,漢字読み!$A$2:$O$502,7,0)=0,\"\",VLOOKUP(P351,漢字読み!$A$2:$O$502,7,0)))","v":{"$error":"#N/A"}},{"$f":"IF(Q351=\"\",\"\",IF(VLOOKUP(Q351,漢字読み!$A$2:$O$502,7,0)=0,\"\",VLOOKUP(Q351,漢字読み!$A$2:$O$502,7,0)))","v":{"$error":"#N/A"}},{"$f":"IF(R351=\"\",\"\",IF(VLOOKUP(R351,漢字読み!$A$2:$O$502,7,0)=0,\"\",VLOOKUP(R351,漢字読み!$A$2:$O$502,7,0)))","v":{"$error":"#N/A"}},{"$f":"IF(S351=\"\",\"\",IF(VLOOKUP(S351,漢字読み!$A$2:$O$502,7,0)=0,\"\",VLOOKUP(S351,漢字読み!$A$2:$O$502,7,0)))","v":{"$error":"#N/A"}},{"$f":"IF(T351=\"\",\"\",IF(VLOOKUP(T351,漢字読み!$A$2:$O$502,7,0)=0,\"\",VLOOKUP(T351,漢字読み!$A$2:$O$502,7,0)))","v":{"$error":"#N/A"}},null,null,"和歌山県教育委員会"]
[{"$f":"A346","v":0},0,0,0,0,0,0,0,0,0,0,0,0,0,0,0,0,0,0,0]
["⑳","⑲","⑱","⑰","⑯","⑮","⑭","⑬","⑫","⑪","⑩","⑨","⑧","⑦","⑥","⑤","④","③","②","①","次の［　　　　］の部分の漢字には読みがなをひらがなで書き、カタカナは漢字に直しなさい。",13,"「漢字の博士検定試験」練習問題　"]
[{"$f":"IF(A356=\"\",\"\",VLOOKUP(A356,漢字書き!$A$2:$N$506,6,0))","v":{"$error":"#N/A"}},{"$f":"IF(B356=\"\",\"\",VLOOKUP(B356,漢字書き!$A$2:$N$506,6,0))","v":{"$error":"#N/A"}},{"$f":"IF(C356=\"\",\"\",VLOOKUP(C356,漢字書き!$A$2:$N$506,6,0))","v":{"$error":"#N/A"}},{"$f":"IF(D356=\"\",\"\",VLOOKUP(D356,漢字書き!$A$2:$N$506,6,0))","v":{"$error":"#N/A"}},{"$f":"IF(E356=\"\",\"\",VLOOKUP(E356,漢字書き!$A$2:$N$506,6,0))","v":{"$error":"#N/A"}},{"$f":"IF(F356=\"\",\"\",VLOOKUP(F356,漢字書き!$A$2:$N$506,6,0))","v":{"$error":"#N/A"}},{"$f":"IF(G356=\"\",\"\",VLOOKUP(G356,漢字書き!$A$2:$N$506,6,0))","v":{"$error":"#N/A"}},{"$f":"IF(H356=\"\",\"\",VLOOKUP(H356,漢字書き!$A$2:$N$506,6,0))","v":{"$error":"#N/A"}},{"$f":"IF(I356=\"\",\"\",VLOOKUP(I356,漢字書き!$A$2:$N$506,6,0))","v":{"$error":"#N/A"}},{"$f":"IF(J356=\"\",\"\",VLOOKUP(J356,漢字書き!$A$2:$N$506,6,0))","v":{"$error":"#N/A"}},{"$f":"IF(K356=\"\",\"\",VLOOKUP(K356,漢字読み!$A$2:$O$506,6,0))","v":{"$error":"#N/A"}},{"$f":"IF(L356=\"\",\"\",VLOOKUP(L356,漢字読み!$A$2:$O$506,6,0))","v":{"$error":"#N/A"}},{"$f":"IF(M356=\"\",\"\",VLOOKUP(M356,漢字読み!$A$2:$O$506,6,0))","v":{"$error":"#N/A"}},{"$f":"IF(N356=\"\",\"\",VLOOKUP(N356,漢字読み!$A$2:$O$506,6,0))","v":{"$error":"#N/A"}},{"$f":"IF(O356=\"\",\"\",VLOOKUP(O356,漢字読み!$A$2:$O$506,6,0))","v":{"$error":"#N/A"}},{"$f":"IF(P356=\"\",\"\",VLOOKUP(P356,漢字読み!$A$2:$O$506,6,0))","v":{"$error":"#N/A"}},{"$f":"IF(Q356=\"\",\"\",VLOOKUP(Q356,漢字読み!$A$2:$O$506,6,0))","v":{"$error":"#N/A"}},{"$f":"IF(R356=\"\",\"\",VLOOKUP(R356,漢字読み!$A$2:$O$506,6,0))","v":{"$error":"#N/A"}},{"$f":"IF(S356=\"\",\"\",VLOOKUP(S356,漢字読み!$A$2:$O$506,6,0))","v":{"$error":"#N/A"}},{"$f":"IF(T356=\"\",\"\",VLOOKUP(T356,漢字読み!$A$2:$O$506,6,0))","v":{"$error":"#N/A"}},null,"級"]
[{"$f":"IF(A$16=\"\",\"\",VLOOKUP(A356,漢字書き!$A$2:$O$506,8,0))","v":{"$error":"#N/A"}},{"$f":"IF(B$16=\"\",\"\",VLOOKUP(B356,漢字書き!$A$2:$O$506,8,0))","v":{"$error":"#N/A"}},{"$f":"IF(C$16=\"\",\"\",VLOOKUP(C356,漢字書き!$A$2:$O$506,8,0))","v":{"$error":"#N/A"}},{"$f":"IF(D$16=\"\",\"\",VLOOKUP(D356,漢字書き!$A$2:$O$506,8,0))","v":{"$error":"#N/A"}},{"$f":"IF(E$16=\"\",\"\",VLOOKUP(E356,漢字書き!$A$2:$O$506,8,0))","v":{"$error":"#N/A"}},{"$f":"IF(F$16=\"\",\"\",VLOOKUP(F356,漢字書き!$A$2:$O$506,8,0))","v":{"$error":"#N/A"}},{"$f":"IF(G$16=\"\",\"\",VLOOKUP(G356,漢字書き!$A$2:$O$506,8,0))","v":{"$error":"#N/A"}},{"$f":"IF(H$16=\"\",\"\",VLOOKUP(H356,漢字書き!$A$2:$O$506,8,0))","v":{"$error":"#N/A"}},{"$f":"IF(I$16=\"\",\"\",VLOOKUP(I356,漢字書き!$A$2:$O$506,8,0))","v":{"$error":"#N/A"}},{"$f":"IF(J$16=\"\",\"\",VLOOKUP(J356,漢字書き!$A$2:$O$506,8,0))","v":{"$error":"#N/A"}},{"$f":"IF(K$16=\"\",\"\",VLOOKUP(K356,漢字読み!$A$2:$O$506,8,0))","v":{"$error":"#N/A"}},{"$f":"IF(L$16=\"\",\"\",VLOOKUP(L356,漢字読み!$A$2:$O$506,8,0))","v":{"$error":"#N/A"}},{"$f":"IF(M$16=\"\",\"\",VLOOKUP(M356,漢字読み!$A$2:$O$506,8,0))","v":{"$error":"#N/A"}},{"$f":"IF(N$16=\"\",\"\",VLOOKUP(N356,漢字読み!$A$2:$O$506,8,0))","v":{"$error":"#N/A"}},{"$f":"IF(O$16=\"\",\"\",VLOOKUP(O356,漢字読み!$A$2:$O$506,8,0))","v":{"$error":"#N/A"}},{"$f":"IF(P$16=\"\",\"\",VLOOKUP(P356,漢字読み!$A$2:$O$506,8,0))","v":{"$error":"#N/A"}},{"$f":"IF(Q$16=\"\",\"\",VLOOKUP(Q356,漢字読み!$A$2:$O$506,8,0))","v":{"$error":"#N/A"}},{"$f":"IF(R$16=\"\",\"\",VLOOKUP(R356,漢字読み!$A$2:$O$506,8,0))","v":{"$error":"#N/A"}},{"$f":"IF(S$16=\"\",\"\",VLOOKUP(S356,漢字読み!$A$2:$O$506,8,0))","v":{"$error":"#N/A"}},{"$f":"IF(T$16=\"\",\"\",VLOOKUP(T356,漢字読み!$A$2:$O$506,8,0))","v":{"$error":"#N/A"}},null,"名前"]
[{"$f":"IF(A356=\"\",\"\",IF(VLOOKUP(A356,漢字書き!$A$2:$N$502,7,0)=0,\"\",VLOOKUP(A356,漢字書き!$A$2:$N$502,7,0)))","v":{"$error":"#N/A"}},{"$f":"IF(B356=\"\",\"\",IF(VLOOKUP(B356,漢字書き!$A$2:$N$502,7,0)=0,\"\",VLOOKUP(B356,漢字書き!$A$2:$N$502,7,0)))","v":{"$error":"#N/A"}},{"$f":"IF(C356=\"\",\"\",IF(VLOOKUP(C356,漢字書き!$A$2:$N$502,7,0)=0,\"\",VLOOKUP(C356,漢字書き!$A$2:$N$502,7,0)))","v":{"$error":"#N/A"}},{"$f":"IF(D356=\"\",\"\",IF(VLOOKUP(D356,漢字書き!$A$2:$N$502,7,0)=0,\"\",VLOOKUP(D356,漢字書き!$A$2:$N$502,7,0)))","v":{"$error":"#N/A"}},{"$f":"IF(E356=\"\",\"\",IF(VLOOKUP(E356,漢字書き!$A$2:$N$502,7,0)=0,\"\",VLOOKUP(E356,漢字書き!$A$2:$N$502,7,0)))","v":{"$error":"#N/A"}},{"$f":"IF(F356=\"\",\"\",IF(VLOOKUP(F356,漢字書き!$A$2:$N$502,7,0)=0,\"\",VLOOKUP(F356,漢字書き!$A$2:$N$502,7,0)))","v":{"$error":"#N/A"}},{"$f":"IF(G356=\"\",\"\",IF(VLOOKUP(G356,漢字書き!$A$2:$N$502,7,0)=0,\"\",VLOOKUP(G356,漢字書き!$A$2:$N$502,7,0)))","v":{"$error":"#N/A"}},{"$f":"IF(H356=\"\",\"\",IF(VLOOKUP(H356,漢字書き!$A$2:$N$502,7,0)=0,\"\",VLOOKUP(H356,漢字書き!$A$2:$N$502,7,0)))","v":{"$error":"#N/A"}},{"$f":"IF(I356=\"\",\"\",IF(VLOOKUP(I356,漢字書き!$A$2:$N$502,7,0)=0,\"\",VLOOKUP(I356,漢字書き!$A$2:$N$502,7,0)))","v":{"$error":"#N/A"}},{"$f":"IF(J356=\"\",\"\",IF(VLOOKUP(J356,漢字書き!$A$2:$N$502,7,0)=0,\"\",VLOOKUP(J356,漢字書き!$A$2:$N$502,7,0)))","v":{"$error":"#N/A"}},{"$f":"IF(K356=\"\",\"\",IF(VLOOKUP(K356,漢字読み!$A$2:$O$502,7,0)=0,\"\",VLOOKUP(K356,漢字読み!$A$2:$O$502,7,0)))","v":{"$error":"#N/A"}},{"$f":"IF(L356=\"\",\"\",IF(VLOOKUP(L356,漢字読み!$A$2:$O$502,7,0)=0,\"\",VLOOKUP(L356,漢字読み!$A$2:$O$502,7,0)))","v":{"$error":"#N/A"}},{"$f":"IF(M356=\"\",\"\",IF(VLOOKUP(M356,漢字読み!$A$2:$O$502,7,0)=0,\"\",VLOOKUP(M356,漢字読み!$A$2:$O$502,7,0)))","v":{"$error":"#N/A"}},{"$f":"IF(N356=\"\",\"\",IF(VLOOKUP(N356,漢字読み!$A$2:$O$502,7,0)=0,\"\",VLOOKUP(N356,漢字読み!$A$2:$O$502,7,0)))","v":{"$error":"#N/A"}},{"$f":"IF(O356=\"\",\"\",IF(VLOOKUP(O356,漢字読み!$A$2:$O$502,7,0)=0,\"\",VLOOKUP(O356,漢字読み!$A$2:$O$502,7,0)))","v":{"$error":"#N/A"}},{"$f":"IF(P356=\"\",\"\",IF(VLOOKUP(P356,漢字読み!$A$2:$O$502,7,0)=0,\"\",VLOOKUP(P356,漢字読み!$A$2:$O$502,7,0)))","v":{"$error":"#N/A"}},{"$f":"IF(Q356=\"\",\"\",IF(VLOOKUP(Q356,漢字読み!$A$2:$O$502,7,0)=0,\"\",VLOOKUP(Q356,漢字読み!$A$2:$O$502,7,0)))","v":{"$error":"#N/A"}},{"$f":"IF(R356=\"\",\"\",IF(VLOOKUP(R356,漢字読み!$A$2:$O$502,7,0)=0,\"\",VLOOKUP(R356,漢字読み!$A$2:$O$502,7,0)))","v":{"$error":"#N/A"}},{"$f":"IF(S356=\"\",\"\",IF(VLOOKUP(S356,漢字読み!$A$2:$O$502,7,0)=0,\"\",VLOOKUP(S356,漢字読み!$A$2:$O$502,7,0)))","v":{"$error":"#N/A"}},{"$f":"IF(T356=\"\",\"\",IF(VLOOKUP(T356,漢字読み!$A$2:$O$502,7,0)=0,\"\",VLOOKUP(T356,漢字読み!$A$2:$O$502,7,0)))","v":{"$error":"#N/A"}},null,null,"和歌山県教育委員会"]
[{"$f":"INDIRECT(\"'関数（書き）'!C\" & COLUMN(B$1)+SUM($AD$2:$AD362))","v":0},{"$f":"INDIRECT(\"'関数（書き）'!C\" & COLUMN(C$1)+SUM($AD$2:$AD362))","v":0},{"$f":"INDIRECT(\"'関数（書き）'!C\" & COLUMN(D$1)+SUM($AD$2:$AD362))","v":0},{"$f":"INDIRECT(\"'関数（書き）'!C\" & COLUMN(E$1)+SUM($AD$2:$AD362))","v":0},{"$f":"INDIRECT(\"'関数（書き）'!C\" & COLUMN(F$1)+SUM($AD$2:$AD362))","v":0},{"$f":"INDIRECT(\"'関数（書き）'!C\" & COLUMN(G$1)+SUM($AD$2:$AD362))","v":0},{"$f":"INDIRECT(\"'関数（書き）'!C\" & COLUMN(H$1)+SUM($AD$2:$AD362))","v":0},{"$f":"INDIRECT(\"'関数（書き）'!C\" & COLUMN(I$1)+SUM($AD$2:$AD362))","v":0},{"$f":"INDIRECT(\"'関数（書き）'!C\" & COLUMN(J$1)+SUM($AD$2:$AD362))","v":0},{"$f":"INDIRECT(\"'関数（書き）'!C\" & COLUMN(K$1)+SUM($AD$2:$AD362))","v":0},{"$f":"INDIRECT(\"'関数（読み）'!C\" & COLUMN(B$1)+SUM($AD$2:$AD362))","v":0},{"$f":"INDIRECT(\"'関数（読み）'!C\" & COLUMN(C$1)+SUM($AD$2:$AD362))","v":0},{"$f":"INDIRECT(\"'関数（読み）'!C\" & COLUMN(D$1)+SUM($AD$2:$AD362))","v":0},{"$f":"INDIRECT(\"'関数（読み）'!C\" & COLUMN(E$1)+SUM($AD$2:$AD362))","v":0},{"$f":"INDIRECT(\"'関数（読み）'!C\" & COLUMN(F$1)+SUM($AD$2:$AD362))","v":0},{"$f":"INDIRECT(\"'関数（読み）'!C\" & COLUMN(G$1)+SUM($AD$2:$AD362))","v":0},{"$f":"INDIRECT(\"'関数（読み）'!C\" & COLUMN(H$1)+SUM($AD$2:$AD362))","v":0},{"$f":"INDIRECT(\"'関数（読み）'!C\" & COLUMN(I$1)+SUM($AD$2:$AD362))","v":0},{"$f":"INDIRECT(\"'関数（読み）'!C\" & COLUMN(J$1)+SUM($AD$2:$AD362))","v":0},{"$f":"INDIRECT(\"'関数（読み）'!C\" & COLUMN(K$1)+SUM($AD$2:$AD362))","v":0}]
["⑳","⑲","⑱","⑰","⑯","⑮","⑭","⑬","⑫","⑪","⑩","⑨","⑧","⑦","⑥","⑤","④","③","②","①","次の［　　　　］の部分の漢字には読みがなをひらがなで書き、カタカナは漢字に直しなさい。",13,"「漢字の博士検定試験」練習問題　",null,null,null,null,null,"←",10,"問",{"$f":"AH347+1","v":361},"～",{"$f":"SUM($AD$2:$AD362)+10","v":370},"問まで",{"$f":"COUNTIF($A$1:$T$200,T363)","v":0}]
[{"$f":"IF(A361=\"\",\"\",VLOOKUP(A361,漢字書き!$A$2:$N$506,6,0))","v":{"$error":"#N/A"}},{"$f":"IF(B361=\"\",\"\",VLOOKUP(B361,漢字書き!$A$2:$N$506,6,0))","v":{"$error":"#N/A"}},{"$f":"IF(C361=\"\",\"\",VLOOKUP(C361,漢字書き!$A$2:$N$506,6,0))","v":{"$error":"#N/A"}},{"$f":"IF(D361=\"\",\"\",VLOOKUP(D361,漢字書き!$A$2:$N$506,6,0))","v":{"$error":"#N/A"}},{"$f":"IF(E361=\"\",\"\",VLOOKUP(E361,漢字書き!$A$2:$N$506,6,0))","v":{"$error":"#N/A"}},{"$f":"IF(F361=\"\",\"\",VLOOKUP(F361,漢字書き!$A$2:$N$506,6,0))","v":{"$error":"#N/A"}},{"$f":"IF(G361=\"\",\"\",VLOOKUP(G361,漢字書き!$A$2:$N$506,6,0))","v":{"$error":"#N/A"}},{"$f":"IF(H361=\"\",\"\",VLOOKUP(H361,漢字書き!$A$2:$N$506,6,0))","v":{"$error":"#N/A"}},{"$f":"IF(I361=\"\",\"\",VLOOKUP(I361,漢字書き!$A$2:$N$506,6,0))","v":{"$error":"#N/A"}},{"$f":"IF(J361=\"\",\"\",VLOOKUP(J361,漢字書き!$A$2:$N$506,6,0))","v":{"$error":"#N/A"}},{"$f":"IF(K361=\"\",\"\",VLOOKUP(K361,漢字読み!$A$2:$O$506,6,0))","v":{"$error":"#N/A"}},{"$f":"IF(L361=\"\",\"\",VLOOKUP(L361,漢字読み!$A$2:$O$506,6,0))","v":{"$error":"#N/A"}},{"$f":"IF(M361=\"\",\"\",VLOOKUP(M361,漢字読み!$A$2:$O$506,6,0))","v":{"$error":"#N/A"}},{"$f":"IF(N361=\"\",\"\",VLOOKUP(N361,漢字読み!$A$2:$O$506,6,0))","v":{"$error":"#N/A"}},{"$f":"IF(O361=\"\",\"\",VLOOKUP(O361,漢字読み!$A$2:$O$506,6,0))","v":{"$error":"#N/A"}},{"$f":"IF(P361=\"\",\"\",VLOOKUP(P361,漢字読み!$A$2:$O$506,6,0))","v":{"$error":"#N/A"}},{"$f":"IF(Q361=\"\",\"\",VLOOKUP(Q361,漢字読み!$A$2:$O$506,6,0))","v":{"$error":"#N/A"}},{"$f":"IF(R361=\"\",\"\",VLOOKUP(R361,漢字読み!$A$2:$O$506,6,0))","v":{"$error":"#N/A"}},{"$f":"IF(S361=\"\",\"\",VLOOKUP(S361,漢字読み!$A$2:$O$506,6,0))","v":{"$error":"#N/A"}},{"$f":"IF(T361=\"\",\"\",VLOOKUP(T361,漢字読み!$A$2:$O$506,6,0))","v":{"$error":"#N/A"}},null,"級"]
[null,null,null,null,null,null,null,null,null,null,null,null,null,null,null,null,null,null,null,null,null,"名前"]
[{"$f":"IF(A361=\"\",\"\",IF(VLOOKUP(A361,漢字書き!$A$2:$N$502,7,0)=0,\"\",VLOOKUP(A361,漢字書き!$A$2:$N$502,7,0)))","v":{"$error":"#N/A"}},{"$f":"IF(B361=\"\",\"\",IF(VLOOKUP(B361,漢字書き!$A$2:$N$502,7,0)=0,\"\",VLOOKUP(B361,漢字書き!$A$2:$N$502,7,0)))","v":{"$error":"#N/A"}},{"$f":"IF(C361=\"\",\"\",IF(VLOOKUP(C361,漢字書き!$A$2:$N$502,7,0)=0,\"\",VLOOKUP(C361,漢字書き!$A$2:$N$502,7,0)))","v":{"$error":"#N/A"}},{"$f":"IF(D361=\"\",\"\",IF(VLOOKUP(D361,漢字書き!$A$2:$N$502,7,0)=0,\"\",VLOOKUP(D361,漢字書き!$A$2:$N$502,7,0)))","v":{"$error":"#N/A"}},{"$f":"IF(E361=\"\",\"\",IF(VLOOKUP(E361,漢字書き!$A$2:$N$502,7,0)=0,\"\",VLOOKUP(E361,漢字書き!$A$2:$N$502,7,0)))","v":{"$error":"#N/A"}},{"$f":"IF(F361=\"\",\"\",IF(VLOOKUP(F361,漢字書き!$A$2:$N$502,7,0)=0,\"\",VLOOKUP(F361,漢字書き!$A$2:$N$502,7,0)))","v":{"$error":"#N/A"}},{"$f":"IF(G361=\"\",\"\",IF(VLOOKUP(G361,漢字書き!$A$2:$N$502,7,0)=0,\"\",VLOOKUP(G361,漢字書き!$A$2:$N$502,7,0)))","v":{"$error":"#N/A"}},{"$f":"IF(H361=\"\",\"\",IF(VLOOKUP(H361,漢字書き!$A$2:$N$502,7,0)=0,\"\",VLOOKUP(H361,漢字書き!$A$2:$N$502,7,0)))","v":{"$error":"#N/A"}},{"$f":"IF(I361=\"\",\"\",IF(VLOOKUP(I361,漢字書き!$A$2:$N$502,7,0)=0,\"\",VLOOKUP(I361,漢字書き!$A$2:$N$502,7,0)))","v":{"$error":"#N/A"}},{"$f":"IF(J361=\"\",\"\",IF(VLOOKUP(J361,漢字書き!$A$2:$N$502,7,0)=0,\"\",VLOOKUP(J361,漢字書き!$A$2:$N$502,7,0)))","v":{"$error":"#N/A"}},{"$f":"IF(K361=\"\",\"\",IF(VLOOKUP(K361,漢字読み!$A$2:$O$502,7,0)=0,\"\",VLOOKUP(K361,漢字読み!$A$2:$O$502,7,0)))","v":{"$error":"#N/A"}},{"$f":"IF(L361=\"\",\"\",IF(VLOOKUP(L361,漢字読み!$A$2:$O$502,7,0)=0,\"\",VLOOKUP(L361,漢字読み!$A$2:$O$502,7,0)))","v":{"$error":"#N/A"}},{"$f":"IF(M361=\"\",\"\",IF(VLOOKUP(M361,漢字読み!$A$2:$O$502,7,0)=0,\"\",VLOOKUP(M361,漢字読み!$A$2:$O$502,7,0)))","v":{"$error":"#N/A"}},{"$f":"IF(N361=\"\",\"\",IF(VLOOKUP(N361,漢字読み!$A$2:$O$502,7,0)=0,\"\",VLOOKUP(N361,漢字読み!$A$2:$O$502,7,0)))","v":{"$error":"#N/A"}},{"$f":"IF(O361=\"\",\"\",IF(VLOOKUP(O361,漢字読み!$A$2:$O$502,7,0)=0,\"\",VLOOKUP(O361,漢字読み!$A$2:$O$502,7,0)))","v":{"$error":"#N/A"}},{"$f":"IF(P361=\"\",\"\",IF(VLOOKUP(P361,漢字読み!$A$2:$O$502,7,0)=0,\"\",VLOOKUP(P361,漢字読み!$A$2:$O$502,7,0)))","v":{"$error":"#N/A"}},{"$f":"IF(Q361=\"\",\"\",IF(VLOOKUP(Q361,漢字読み!$A$2:$O$502,7,0)=0,\"\",VLOOKUP(Q361,漢字読み!$A$2:$O$502,7,0)))","v":{"$error":"#N/A"}},{"$f":"IF(R361=\"\",\"\",IF(VLOOKUP(R361,漢字読み!$A$2:$O$502,7,0)=0,\"\",VLOOKUP(R361,漢字読み!$A$2:$O$502,7,0)))","v":{"$error":"#N/A"}},{"$f":"IF(S361=\"\",\"\",IF(VLOOKUP(S361,漢字読み!$A$2:$O$502,7,0)=0,\"\",VLOOKUP(S361,漢字読み!$A$2:$O$502,7,0)))","v":{"$error":"#N/A"}},{"$f":"IF(T361=\"\",\"\",IF(VLOOKUP(T361,漢字読み!$A$2:$O$502,7,0)=0,\"\",VLOOKUP(T361,漢字読み!$A$2:$O$502,7,0)))","v":{"$error":"#N/A"}},null,null,"和歌山県教育委員会"]
[{"$f":"INDIRECT(\"'関数（書き）'!C\" & COLUMN(B$1)+SUM($AD$2:$AD367))","v":0},{"$f":"INDIRECT(\"'関数（書き）'!C\" & COLUMN(C$1)+SUM($AD$2:$AD367))","v":0},{"$f":"INDIRECT(\"'関数（書き）'!C\" & COLUMN(D$1)+SUM($AD$2:$AD367))","v":0},{"$f":"INDIRECT(\"'関数（書き）'!C\" & COLUMN(E$1)+SUM($AD$2:$AD367))","v":0},{"$f":"INDIRECT(\"'関数（書き）'!C\" & COLUMN(F$1)+SUM($AD$2:$AD367))","v":0},{"$f":"INDIRECT(\"'関数（書き）'!C\" & COLUMN(G$1)+SUM($AD$2:$AD367))","v":0},{"$f":"INDIRECT(\"'関数（書き）'!C\" & COLUMN(H$1)+SUM($AD$2:$AD367))","v":0},{"$f":"INDIRECT(\"'関数（書き）'!C\" & COLUMN(I$1)+SUM($AD$2:$AD367))","v":0},{"$f":"INDIRECT(\"'関数（書き）'!C\" & COLUMN(J$1)+SUM($AD$2:$AD367))","v":0},{"$f":"INDIRECT(\"'関数（書き）'!C\" & COLUMN(K$1)+SUM($AD$2:$AD367))","v":0},{"$f":"INDIRECT(\"'関数（読み）'!C\" & COLUMN(B$1)+SUM($AD$2:$AD367))","v":0},{"$f":"INDIRECT(\"'関数（読み）'!C\" & COLUMN(C$1)+SUM($AD$2:$AD367))","v":0},{"$f":"INDIRECT(\"'関数（読み）'!C\" & COLUMN(D$1)+SUM($AD$2:$AD367))","v":0},{"$f":"INDIRECT(\"'関数（読み）'!C\" & COLUMN(E$1)+SUM($AD$2:$AD367))","v":0},{"$f":"INDIRECT(\"'関数（読み）'!C\" & COLUMN(F$1)+SUM($AD$2:$AD367))","v":0},{"$f":"INDIRECT(\"'関数（読み）'!C\" & COLUMN(G$1)+SUM($AD$2:$AD367))","v":0},{"$f":"INDIRECT(\"'関数（読み）'!C\" & COLUMN(H$1)+SUM($AD$2:$AD367))","v":0},{"$f":"INDIRECT(\"'関数（読み）'!C\" & COLUMN(I$1)+SUM($AD$2:$AD367))","v":0},{"$f":"INDIRECT(\"'関数（読み）'!C\" & COLUMN(J$1)+SUM($AD$2:$AD367))","v":0},{"$f":"INDIRECT(\"'関数（読み）'!C\" & COLUMN(K$1)+SUM($AD$2:$AD367))","v":0}]
["⑳","⑲","⑱","⑰","⑯","⑮","⑭","⑬","⑫","⑪","⑩","⑨","⑧","⑦","⑥","⑤","④","③","②","①","次の［　　　　］の部分の漢字には読みがなをひらがなで書き、カタカナは漢字に直しなさい。",13,"「漢字の博士検定試験」練習問題　",null,null,null,null,null,"←",10,"問",{"$f":"AH362+1","v":371},"～",{"$f":"SUM($AD$2:$AD367)+10","v":380},"問まで",{"$f":"COUNTIF($A$1:$T$200,T368)","v":0}]
[{"$f":"IF(A366=\"\",\"\",VLOOKUP(A366,漢字書き!$A$2:$N$506,6,0))","v":{"$error":"#N/A"}},{"$f":"IF(B366=\"\",\"\",VLOOKUP(B366,漢字書き!$A$2:$N$506,6,0))","v":{"$error":"#N/A"}},{"$f":"IF(C366=\"\",\"\",VLOOKUP(C366,漢字書き!$A$2:$N$506,6,0))","v":{"$error":"#N/A"}},{"$f":"IF(D366=\"\",\"\",VLOOKUP(D366,漢字書き!$A$2:$N$506,6,0))","v":{"$error":"#N/A"}},{"$f":"IF(E366=\"\",\"\",VLOOKUP(E366,漢字書き!$A$2:$N$506,6,0))","v":{"$error":"#N/A"}},{"$f":"IF(F366=\"\",\"\",VLOOKUP(F366,漢字書き!$A$2:$N$506,6,0))","v":{"$error":"#N/A"}},{"$f":"IF(G366=\"\",\"\",VLOOKUP(G366,漢字書き!$A$2:$N$506,6,0))","v":{"$error":"#N/A"}},{"$f":"IF(H366=\"\",\"\",VLOOKUP(H366,漢字書き!$A$2:$N$506,6,0))","v":{"$error":"#N/A"}},{"$f":"IF(I366=\"\",\"\",VLOOKUP(I366,漢字書き!$A$2:$N$506,6,0))","v":{"$error":"#N/A"}},{"$f":"IF(J366=\"\",\"\",VLOOKUP(J366,漢字書き!$A$2:$N$506,6,0))","v":{"$error":"#N/A"}},{"$f":"IF(K366=\"\",\"\",VLOOKUP(K366,漢字読み!$A$2:$O$506,6,0))","v":{"$error":"#N/A"}},{"$f":"IF(L366=\"\",\"\",VLOOKUP(L366,漢字読み!$A$2:$O$506,6,0))","v":{"$error":"#N/A"}},{"$f":"IF(M366=\"\",\"\",VLOOKUP(M366,漢字読み!$A$2:$O$506,6,0))","v":{"$error":"#N/A"}},{"$f":"IF(N366=\"\",\"\",VLOOKUP(N366,漢字読み!$A$2:$O$506,6,0))","v":{"$error":"#N/A"}},{"$f":"IF(O366=\"\",\"\",VLOOKUP(O366,漢字読み!$A$2:$O$506,6,0))","v":{"$error":"#N/A"}},{"$f":"IF(P366=\"\",\"\",VLOOKUP(P366,漢字読み!$A$2:$O$506,6,0))","v":{"$error":"#N/A"}},{"$f":"IF(Q366=\"\",\"\",VLOOKUP(Q366,漢字読み!$A$2:$O$506,6,0))","v":{"$error":"#N/A"}},{"$f":"IF(R366=\"\",\"\",VLOOKUP(R366,漢字読み!$A$2:$O$506,6,0))","v":{"$error":"#N/A"}},{"$f":"IF(S366=\"\",\"\",VLOOKUP(S366,漢字読み!$A$2:$O$506,6,0))","v":{"$error":"#N/A"}},{"$f":"IF(T366=\"\",\"\",VLOOKUP(T366,漢字読み!$A$2:$O$506,6,0))","v":{"$error":"#N/A"}},null,"級"]
[null,null,null,null,null,null,null,null,null,null,null,null,null,null,null,null,null,null,null,null,null,"名前"]
[{"$f":"IF(A366=\"\",\"\",IF(VLOOKUP(A366,漢字書き!$A$2:$N$502,7,0)=0,\"\",VLOOKUP(A366,漢字書き!$A$2:$N$502,7,0)))","v":{"$error":"#N/A"}},{"$f":"IF(B366=\"\",\"\",IF(VLOOKUP(B366,漢字書き!$A$2:$N$502,7,0)=0,\"\",VLOOKUP(B366,漢字書き!$A$2:$N$502,7,0)))","v":{"$error":"#N/A"}},{"$f":"IF(C366=\"\",\"\",IF(VLOOKUP(C366,漢字書き!$A$2:$N$502,7,0)=0,\"\",VLOOKUP(C366,漢字書き!$A$2:$N$502,7,0)))","v":{"$error":"#N/A"}},{"$f":"IF(D366=\"\",\"\",IF(VLOOKUP(D366,漢字書き!$A$2:$N$502,7,0)=0,\"\",VLOOKUP(D366,漢字書き!$A$2:$N$502,7,0)))","v":{"$error":"#N/A"}},{"$f":"IF(E366=\"\",\"\",IF(VLOOKUP(E366,漢字書き!$A$2:$N$502,7,0)=0,\"\",VLOOKUP(E366,漢字書き!$A$2:$N$502,7,0)))","v":{"$error":"#N/A"}},{"$f":"IF(F366=\"\",\"\",IF(VLOOKUP(F366,漢字書き!$A$2:$N$502,7,0)=0,\"\",VLOOKUP(F366,漢字書き!$A$2:$N$502,7,0)))","v":{"$error":"#N/A"}},{"$f":"IF(G366=\"\",\"\",IF(VLOOKUP(G366,漢字書き!$A$2:$N$502,7,0)=0,\"\",VLOOKUP(G366,漢字書き!$A$2:$N$502,7,0)))","v":{"$error":"#N/A"}},{"$f":"IF(H366=\"\",\"\",IF(VLOOKUP(H366,漢字書き!$A$2:$N$502,7,0)=0,\"\",VLOOKUP(H366,漢字書き!$A$2:$N$502,7,0)))","v":{"$error":"#N/A"}},{"$f":"IF(I366=\"\",\"\",IF(VLOOKUP(I366,漢字書き!$A$2:$N$502,7,0)=0,\"\",VLOOKUP(I366,漢字書き!$A$2:$N$502,7,0)))","v":{"$error":"#N/A"}},{"$f":"IF(J366=\"\",\"\",IF(VLOOKUP(J366,漢字書き!$A$2:$N$502,7,0)=0,\"\",VLOOKUP(J366,漢字書き!$A$2:$N$502,7,0)))","v":{"$error":"#N/A"}},{"$f":"IF(K366=\"\",\"\",IF(VLOOKUP(K366,漢字読み!$A$2:$O$502,7,0)=0,\"\",VLOOKUP(K366,漢字読み!$A$2:$O$502,7,0)))","v":{"$error":"#N/A"}},{"$f":"IF(L366=\"\",\"\",IF(VLOOKUP(L366,漢字読み!$A$2:$O$502,7,0)=0,\"\",VLOOKUP(L366,漢字読み!$A$2:$O$502,7,0)))","v":{"$error":"#N/A"}},{"$f":"IF(M366=\"\",\"\",IF(VLOOKUP(M366,漢字読み!$A$2:$O$502,7,0)=0,\"\",VLOOKUP(M366,漢字読み!$A$2:$O$502,7,0)))","v":{"$error":"#N/A"}},{"$f":"IF(N366=\"\",\"\",IF(VLOOKUP(N366,漢字読み!$A$2:$O$502,7,0)=0,\"\",VLOOKUP(N366,漢字読み!$A$2:$O$502,7,0)))","v":{"$error":"#N/A"}},{"$f":"IF(O366=\"\",\"\",IF(VLOOKUP(O366,漢字読み!$A$2:$O$502,7,0)=0,\"\",VLOOKUP(O366,漢字読み!$A$2:$O$502,7,0)))","v":{"$error":"#N/A"}},{"$f":"IF(P366=\"\",\"\",IF(VLOOKUP(P366,漢字読み!$A$2:$O$502,7,0)=0,\"\",VLOOKUP(P366,漢字読み!$A$2:$O$502,7,0)))","v":{"$error":"#N/A"}},{"$f":"IF(Q366=\"\",\"\",IF(VLOOKUP(Q366,漢字読み!$A$2:$O$502,7,0)=0,\"\",VLOOKUP(Q366,漢字読み!$A$2:$O$502,7,0)))","v":{"$error":"#N/A"}},{"$f":"IF(R366=\"\",\"\",IF(VLOOKUP(R366,漢字読み!$A$2:$O$502,7,0)=0,\"\",VLOOKUP(R366,漢字読み!$A$2:$O$502,7,0)))","v":{"$error":"#N/A"}},{"$f":"IF(S366=\"\",\"\",IF(VLOOKUP(S366,漢字読み!$A$2:$O$502,7,0)=0,\"\",VLOOKUP(S366,漢字読み!$A$2:$O$502,7,0)))","v":{"$error":"#N/A"}},{"$f":"IF(T366=\"\",\"\",IF(VLOOKUP(T366,漢字読み!$A$2:$O$502,7,0)=0,\"\",VLOOKUP(T366,漢字読み!$A$2:$O$502,7,0)))","v":{"$error":"#N/A"}},null,null,"和歌山県教育委員会"]
[{"$f":"A361","v":0},0,0,0,0,0,0,0,0,0,0,0,0,0,0,0,0,0,0,0]
["⑳","⑲","⑱","⑰","⑯","⑮","⑭","⑬","⑫","⑪","⑩","⑨","⑧","⑦","⑥","⑤","④","③","②","①","次の［　　　　］の部分の漢字には読みがなをひらがなで書き、カタカナは漢字に直しなさい。",13,"「漢字の博士検定試験」練習問題　"]
[{"$f":"IF(A371=\"\",\"\",VLOOKUP(A371,漢字書き!$A$2:$N$506,6,0))","v":{"$error":"#N/A"}},{"$f":"IF(B371=\"\",\"\",VLOOKUP(B371,漢字書き!$A$2:$N$506,6,0))","v":{"$error":"#N/A"}},{"$f":"IF(C371=\"\",\"\",VLOOKUP(C371,漢字書き!$A$2:$N$506,6,0))","v":{"$error":"#N/A"}},{"$f":"IF(D371=\"\",\"\",VLOOKUP(D371,漢字書き!$A$2:$N$506,6,0))","v":{"$error":"#N/A"}},{"$f":"IF(E371=\"\",\"\",VLOOKUP(E371,漢字書き!$A$2:$N$506,6,0))","v":{"$error":"#N/A"}},{"$f":"IF(F371=\"\",\"\",VLOOKUP(F371,漢字書き!$A$2:$N$506,6,0))","v":{"$error":"#N/A"}},{"$f":"IF(G371=\"\",\"\",VLOOKUP(G371,漢字書き!$A$2:$N$506,6,0))","v":{"$error":"#N/A"}},{"$f":"IF(H371=\"\",\"\",VLOOKUP(H371,漢字書き!$A$2:$N$506,6,0))","v":{"$error":"#N/A"}},{"$f":"IF(I371=\"\",\"\",VLOOKUP(I371,漢字書き!$A$2:$N$506,6,0))","v":{"$error":"#N/A"}},{"$f":"IF(J371=\"\",\"\",VLOOKUP(J371,漢字書き!$A$2:$N$506,6,0))","v":{"$error":"#N/A"}},{"$f":"IF(K371=\"\",\"\",VLOOKUP(K371,漢字読み!$A$2:$O$506,6,0))","v":{"$error":"#N/A"}},{"$f":"IF(L371=\"\",\"\",VLOOKUP(L371,漢字読み!$A$2:$O$506,6,0))","v":{"$error":"#N/A"}},{"$f":"IF(M371=\"\",\"\",VLOOKUP(M371,漢字読み!$A$2:$O$506,6,0))","v":{"$error":"#N/A"}},{"$f":"IF(N371=\"\",\"\",VLOOKUP(N371,漢字読み!$A$2:$O$506,6,0))","v":{"$error":"#N/A"}},{"$f":"IF(O371=\"\",\"\",VLOOKUP(O371,漢字読み!$A$2:$O$506,6,0))","v":{"$error":"#N/A"}},{"$f":"IF(P371=\"\",\"\",VLOOKUP(P371,漢字読み!$A$2:$O$506,6,0))","v":{"$error":"#N/A"}},{"$f":"IF(Q371=\"\",\"\",VLOOKUP(Q371,漢字読み!$A$2:$O$506,6,0))","v":{"$error":"#N/A"}},{"$f":"IF(R371=\"\",\"\",VLOOKUP(R371,漢字読み!$A$2:$O$506,6,0))","v":{"$error":"#N/A"}},{"$f":"IF(S371=\"\",\"\",VLOOKUP(S371,漢字読み!$A$2:$O$506,6,0))","v":{"$error":"#N/A"}},{"$f":"IF(T371=\"\",\"\",VLOOKUP(T371,漢字読み!$A$2:$O$506,6,0))","v":{"$error":"#N/A"}},null,"級"]
[{"$f":"IF(A$11=\"\",\"\",VLOOKUP(A371,漢字書き!$A$2:$O$506,8,0))","v":{"$error":"#N/A"}},{"$f":"IF(B$11=\"\",\"\",VLOOKUP(B371,漢字書き!$A$2:$O$506,8,0))","v":{"$error":"#N/A"}},{"$f":"IF(C$11=\"\",\"\",VLOOKUP(C371,漢字書き!$A$2:$O$506,8,0))","v":{"$error":"#N/A"}},{"$f":"IF(D$11=\"\",\"\",VLOOKUP(D371,漢字書き!$A$2:$O$506,8,0))","v":{"$error":"#N/A"}},{"$f":"IF(E$11=\"\",\"\",VLOOKUP(E371,漢字書き!$A$2:$O$506,8,0))","v":{"$error":"#N/A"}},{"$f":"IF(F$11=\"\",\"\",VLOOKUP(F371,漢字書き!$A$2:$O$506,8,0))","v":{"$error":"#N/A"}},{"$f":"IF(G$11=\"\",\"\",VLOOKUP(G371,漢字書き!$A$2:$O$506,8,0))","v":{"$error":"#N/A"}},{"$f":"IF(H$11=\"\",\"\",VLOOKUP(H371,漢字書き!$A$2:$O$506,8,0))","v":{"$error":"#N/A"}},{"$f":"IF(I$11=\"\",\"\",VLOOKUP(I371,漢字書き!$A$2:$O$506,8,0))","v":{"$error":"#N/A"}},{"$f":"IF(J$11=\"\",\"\",VLOOKUP(J371,漢字書き!$A$2:$O$506,8,0))","v":{"$error":"#N/A"}},{"$f":"IF(K$11=\"\",\"\",VLOOKUP(K371,漢字読み!$A$2:$O$506,8,0))","v":{"$error":"#N/A"}},{"$f":"IF(L$11=\"\",\"\",VLOOKUP(L371,漢字読み!$A$2:$O$506,8,0))","v":{"$error":"#N/A"}},{"$f":"IF(M$11=\"\",\"\",VLOOKUP(M371,漢字読み!$A$2:$O$506,8,0))","v":{"$error":"#N/A"}},{"$f":"IF(N$11=\"\",\"\",VLOOKUP(N371,漢字読み!$A$2:$O$506,8,0))","v":{"$error":"#N/A"}},{"$f":"IF(O$11=\"\",\"\",VLOOKUP(O371,漢字読み!$A$2:$O$506,8,0))","v":{"$error":"#N/A"}},{"$f":"IF(P$11=\"\",\"\",VLOOKUP(P371,漢字読み!$A$2:$O$506,8,0))","v":{"$error":"#N/A"}},{"$f":"IF(Q$11=\"\",\"\",VLOOKUP(Q371,漢字読み!$A$2:$O$506,8,0))","v":{"$error":"#N/A"}},{"$f":"IF(R$11=\"\",\"\",VLOOKUP(R371,漢字読み!$A$2:$O$506,8,0))","v":{"$error":"#N/A"}},{"$f":"IF(S$11=\"\",\"\",VLOOKUP(S371,漢字読み!$A$2:$O$506,8,0))","v":{"$error":"#N/A"}},{"$f":"IF(T$11=\"\",\"\",VLOOKUP(T371,漢字読み!$A$2:$O$506,8,0))","v":{"$error":"#N/A"}},null,"名前"]
[{"$f":"IF(A371=\"\",\"\",IF(VLOOKUP(A371,漢字書き!$A$2:$N$502,7,0)=0,\"\",VLOOKUP(A371,漢字書き!$A$2:$N$502,7,0)))","v":{"$error":"#N/A"}},{"$f":"IF(B371=\"\",\"\",IF(VLOOKUP(B371,漢字書き!$A$2:$N$502,7,0)=0,\"\",VLOOKUP(B371,漢字書き!$A$2:$N$502,7,0)))","v":{"$error":"#N/A"}},{"$f":"IF(C371=\"\",\"\",IF(VLOOKUP(C371,漢字書き!$A$2:$N$502,7,0)=0,\"\",VLOOKUP(C371,漢字書き!$A$2:$N$502,7,0)))","v":{"$error":"#N/A"}},{"$f":"IF(D371=\"\",\"\",IF(VLOOKUP(D371,漢字書き!$A$2:$N$502,7,0)=0,\"\",VLOOKUP(D371,漢字書き!$A$2:$N$502,7,0)))","v":{"$error":"#N/A"}},{"$f":"IF(E371=\"\",\"\",IF(VLOOKUP(E371,漢字書き!$A$2:$N$502,7,0)=0,\"\",VLOOKUP(E371,漢字書き!$A$2:$N$502,7,0)))","v":{"$error":"#N/A"}},{"$f":"IF(F371=\"\",\"\",IF(VLOOKUP(F371,漢字書き!$A$2:$N$502,7,0)=0,\"\",VLOOKUP(F371,漢字書き!$A$2:$N$502,7,0)))","v":{"$error":"#N/A"}},{"$f":"IF(G371=\"\",\"\",IF(VLOOKUP(G371,漢字書き!$A$2:$N$502,7,0)=0,\"\",VLOOKUP(G371,漢字書き!$A$2:$N$502,7,0)))","v":{"$error":"#N/A"}},{"$f":"IF(H371=\"\",\"\",IF(VLOOKUP(H371,漢字書き!$A$2:$N$502,7,0)=0,\"\",VLOOKUP(H371,漢字書き!$A$2:$N$502,7,0)))","v":{"$error":"#N/A"}},{"$f":"IF(I371=\"\",\"\",IF(VLOOKUP(I371,漢字書き!$A$2:$N$502,7,0)=0,\"\",VLOOKUP(I371,漢字書き!$A$2:$N$502,7,0)))","v":{"$error":"#N/A"}},{"$f":"IF(J371=\"\",\"\",IF(VLOOKUP(J371,漢字書き!$A$2:$N$502,7,0)=0,\"\",VLOOKUP(J371,漢字書き!$A$2:$N$502,7,0)))","v":{"$error":"#N/A"}},{"$f":"IF(K371=\"\",\"\",IF(VLOOKUP(K371,漢字読み!$A$2:$O$502,7,0)=0,\"\",VLOOKUP(K371,漢字読み!$A$2:$O$502,7,0)))","v":{"$error":"#N/A"}},{"$f":"IF(L371=\"\",\"\",IF(VLOOKUP(L371,漢字読み!$A$2:$O$502,7,0)=0,\"\",VLOOKUP(L371,漢字読み!$A$2:$O$502,7,0)))","v":{"$error":"#N/A"}},{"$f":"IF(M371=\"\",\"\",IF(VLOOKUP(M371,漢字読み!$A$2:$O$502,7,0)=0,\"\",VLOOKUP(M371,漢字読み!$A$2:$O$502,7,0)))","v":{"$error":"#N/A"}},{"$f":"IF(N371=\"\",\"\",IF(VLOOKUP(N371,漢字読み!$A$2:$O$502,7,0)=0,\"\",VLOOKUP(N371,漢字読み!$A$2:$O$502,7,0)))","v":{"$error":"#N/A"}},{"$f":"IF(O371=\"\",\"\",IF(VLOOKUP(O371,漢字読み!$A$2:$O$502,7,0)=0,\"\",VLOOKUP(O371,漢字読み!$A$2:$O$502,7,0)))","v":{"$error":"#N/A"}},{"$f":"IF(P371=\"\",\"\",IF(VLOOKUP(P371,漢字読み!$A$2:$O$502,7,0)=0,\"\",VLOOKUP(P371,漢字読み!$A$2:$O$502,7,0)))","v":{"$error":"#N/A"}},{"$f":"IF(Q371=\"\",\"\",IF(VLOOKUP(Q371,漢字読み!$A$2:$O$502,7,0)=0,\"\",VLOOKUP(Q371,漢字読み!$A$2:$O$502,7,0)))","v":{"$error":"#N/A"}},{"$f":"IF(R371=\"\",\"\",IF(VLOOKUP(R371,漢字読み!$A$2:$O$502,7,0)=0,\"\",VLOOKUP(R371,漢字読み!$A$2:$O$502,7,0)))","v":{"$error":"#N/A"}},{"$f":"IF(S371=\"\",\"\",IF(VLOOKUP(S371,漢字読み!$A$2:$O$502,7,0)=0,\"\",VLOOKUP(S371,漢字読み!$A$2:$O$502,7,0)))","v":{"$error":"#N/A"}},{"$f":"IF(T371=\"\",\"\",IF(VLOOKUP(T371,漢字読み!$A$2:$O$502,7,0)=0,\"\",VLOOKUP(T371,漢字読み!$A$2:$O$502,7,0)))","v":{"$error":"#N/A"}},null,null,"和歌山県教育委員会"]
[{"$f":"A366","v":0},0,0,0,0,0,0,0,0,0,0,0,0,0,0,0,0,0,0,0]
["⑳","⑲","⑱","⑰","⑯","⑮","⑭","⑬","⑫","⑪","⑩","⑨","⑧","⑦","⑥","⑤","④","③","②","①","次の［　　　　］の部分の漢字には読みがなをひらがなで書き、カタカナは漢字に直しなさい。",13,"「漢字の博士検定試験」練習問題　"]
[{"$f":"IF(A376=\"\",\"\",VLOOKUP(A376,漢字書き!$A$2:$N$506,6,0))","v":{"$error":"#N/A"}},{"$f":"IF(B376=\"\",\"\",VLOOKUP(B376,漢字書き!$A$2:$N$506,6,0))","v":{"$error":"#N/A"}},{"$f":"IF(C376=\"\",\"\",VLOOKUP(C376,漢字書き!$A$2:$N$506,6,0))","v":{"$error":"#N/A"}},{"$f":"IF(D376=\"\",\"\",VLOOKUP(D376,漢字書き!$A$2:$N$506,6,0))","v":{"$error":"#N/A"}},{"$f":"IF(E376=\"\",\"\",VLOOKUP(E376,漢字書き!$A$2:$N$506,6,0))","v":{"$error":"#N/A"}},{"$f":"IF(F376=\"\",\"\",VLOOKUP(F376,漢字書き!$A$2:$N$506,6,0))","v":{"$error":"#N/A"}},{"$f":"IF(G376=\"\",\"\",VLOOKUP(G376,漢字書き!$A$2:$N$506,6,0))","v":{"$error":"#N/A"}},{"$f":"IF(H376=\"\",\"\",VLOOKUP(H376,漢字書き!$A$2:$N$506,6,0))","v":{"$error":"#N/A"}},{"$f":"IF(I376=\"\",\"\",VLOOKUP(I376,漢字書き!$A$2:$N$506,6,0))","v":{"$error":"#N/A"}},{"$f":"IF(J376=\"\",\"\",VLOOKUP(J376,漢字書き!$A$2:$N$506,6,0))","v":{"$error":"#N/A"}},{"$f":"IF(K376=\"\",\"\",VLOOKUP(K376,漢字読み!$A$2:$O$506,6,0))","v":{"$error":"#N/A"}},{"$f":"IF(L376=\"\",\"\",VLOOKUP(L376,漢字読み!$A$2:$O$506,6,0))","v":{"$error":"#N/A"}},{"$f":"IF(M376=\"\",\"\",VLOOKUP(M376,漢字読み!$A$2:$O$506,6,0))","v":{"$error":"#N/A"}},{"$f":"IF(N376=\"\",\"\",VLOOKUP(N376,漢字読み!$A$2:$O$506,6,0))","v":{"$error":"#N/A"}},{"$f":"IF(O376=\"\",\"\",VLOOKUP(O376,漢字読み!$A$2:$O$506,6,0))","v":{"$error":"#N/A"}},{"$f":"IF(P376=\"\",\"\",VLOOKUP(P376,漢字読み!$A$2:$O$506,6,0))","v":{"$error":"#N/A"}},{"$f":"IF(Q376=\"\",\"\",VLOOKUP(Q376,漢字読み!$A$2:$O$506,6,0))","v":{"$error":"#N/A"}},{"$f":"IF(R376=\"\",\"\",VLOOKUP(R376,漢字読み!$A$2:$O$506,6,0))","v":{"$error":"#N/A"}},{"$f":"IF(S376=\"\",\"\",VLOOKUP(S376,漢字読み!$A$2:$O$506,6,0))","v":{"$error":"#N/A"}},{"$f":"IF(T376=\"\",\"\",VLOOKUP(T376,漢字読み!$A$2:$O$506,6,0))","v":{"$error":"#N/A"}},null,"級"]
[{"$f":"IF(A$16=\"\",\"\",VLOOKUP(A376,漢字書き!$A$2:$O$506,8,0))","v":{"$error":"#N/A"}},{"$f":"IF(B$16=\"\",\"\",VLOOKUP(B376,漢字書き!$A$2:$O$506,8,0))","v":{"$error":"#N/A"}},{"$f":"IF(C$16=\"\",\"\",VLOOKUP(C376,漢字書き!$A$2:$O$506,8,0))","v":{"$error":"#N/A"}},{"$f":"IF(D$16=\"\",\"\",VLOOKUP(D376,漢字書き!$A$2:$O$506,8,0))","v":{"$error":"#N/A"}},{"$f":"IF(E$16=\"\",\"\",VLOOKUP(E376,漢字書き!$A$2:$O$506,8,0))","v":{"$error":"#N/A"}},{"$f":"IF(F$16=\"\",\"\",VLOOKUP(F376,漢字書き!$A$2:$O$506,8,0))","v":{"$error":"#N/A"}},{"$f":"IF(G$16=\"\",\"\",VLOOKUP(G376,漢字書き!$A$2:$O$506,8,0))","v":{"$error":"#N/A"}},{"$f":"IF(H$16=\"\",\"\",VLOOKUP(H376,漢字書き!$A$2:$O$506,8,0))","v":{"$error":"#N/A"}},{"$f":"IF(I$16=\"\",\"\",VLOOKUP(I376,漢字書き!$A$2:$O$506,8,0))","v":{"$error":"#N/A"}},{"$f":"IF(J$16=\"\",\"\",VLOOKUP(J376,漢字書き!$A$2:$O$506,8,0))","v":{"$error":"#N/A"}},{"$f":"IF(K$16=\"\",\"\",VLOOKUP(K376,漢字読み!$A$2:$O$506,8,0))","v":{"$error":"#N/A"}},{"$f":"IF(L$16=\"\",\"\",VLOOKUP(L376,漢字読み!$A$2:$O$506,8,0))","v":{"$error":"#N/A"}},{"$f":"IF(M$16=\"\",\"\",VLOOKUP(M376,漢字読み!$A$2:$O$506,8,0))","v":{"$error":"#N/A"}},{"$f":"IF(N$16=\"\",\"\",VLOOKUP(N376,漢字読み!$A$2:$O$506,8,0))","v":{"$error":"#N/A"}},{"$f":"IF(O$16=\"\",\"\",VLOOKUP(O376,漢字読み!$A$2:$O$506,8,0))","v":{"$error":"#N/A"}},{"$f":"IF(P$16=\"\",\"\",VLOOKUP(P376,漢字読み!$A$2:$O$506,8,0))","v":{"$error":"#N/A"}},{"$f":"IF(Q$16=\"\",\"\",VLOOKUP(Q376,漢字読み!$A$2:$O$506,8,0))","v":{"$error":"#N/A"}},{"$f":"IF(R$16=\"\",\"\",VLOOKUP(R376,漢字読み!$A$2:$O$506,8,0))","v":{"$error":"#N/A"}},{"$f":"IF(S$16=\"\",\"\",VLOOKUP(S376,漢字読み!$A$2:$O$506,8,0))","v":{"$error":"#N/A"}},{"$f":"IF(T$16=\"\",\"\",VLOOKUP(T376,漢字読み!$A$2:$O$506,8,0))","v":{"$error":"#N/A"}},null,"名前"]
[{"$f":"IF(A376=\"\",\"\",IF(VLOOKUP(A376,漢字書き!$A$2:$N$502,7,0)=0,\"\",VLOOKUP(A376,漢字書き!$A$2:$N$502,7,0)))","v":{"$error":"#N/A"}},{"$f":"IF(B376=\"\",\"\",IF(VLOOKUP(B376,漢字書き!$A$2:$N$502,7,0)=0,\"\",VLOOKUP(B376,漢字書き!$A$2:$N$502,7,0)))","v":{"$error":"#N/A"}},{"$f":"IF(C376=\"\",\"\",IF(VLOOKUP(C376,漢字書き!$A$2:$N$502,7,0)=0,\"\",VLOOKUP(C376,漢字書き!$A$2:$N$502,7,0)))","v":{"$error":"#N/A"}},{"$f":"IF(D376=\"\",\"\",IF(VLOOKUP(D376,漢字書き!$A$2:$N$502,7,0)=0,\"\",VLOOKUP(D376,漢字書き!$A$2:$N$502,7,0)))","v":{"$error":"#N/A"}},{"$f":"IF(E376=\"\",\"\",IF(VLOOKUP(E376,漢字書き!$A$2:$N$502,7,0)=0,\"\",VLOOKUP(E376,漢字書き!$A$2:$N$502,7,0)))","v":{"$error":"#N/A"}},{"$f":"IF(F376=\"\",\"\",IF(VLOOKUP(F376,漢字書き!$A$2:$N$502,7,0)=0,\"\",VLOOKUP(F376,漢字書き!$A$2:$N$502,7,0)))","v":{"$error":"#N/A"}},{"$f":"IF(G376=\"\",\"\",IF(VLOOKUP(G376,漢字書き!$A$2:$N$502,7,0)=0,\"\",VLOOKUP(G376,漢字書き!$A$2:$N$502,7,0)))","v":{"$error":"#N/A"}},{"$f":"IF(H376=\"\",\"\",IF(VLOOKUP(H376,漢字書き!$A$2:$N$502,7,0)=0,\"\",VLOOKUP(H376,漢字書き!$A$2:$N$502,7,0)))","v":{"$error":"#N/A"}},{"$f":"IF(I376=\"\",\"\",IF(VLOOKUP(I376,漢字書き!$A$2:$N$502,7,0)=0,\"\",VLOOKUP(I376,漢字書き!$A$2:$N$502,7,0)))","v":{"$error":"#N/A"}},{"$f":"IF(J376=\"\",\"\",IF(VLOOKUP(J376,漢字書き!$A$2:$N$502,7,0)=0,\"\",VLOOKUP(J376,漢字書き!$A$2:$N$502,7,0)))","v":{"$error":"#N/A"}},{"$f":"IF(K376=\"\",\"\",IF(VLOOKUP(K376,漢字読み!$A$2:$O$502,7,0)=0,\"\",VLOOKUP(K376,漢字読み!$A$2:$O$502,7,0)))","v":{"$error":"#N/A"}},{"$f":"IF(L376=\"\",\"\",IF(VLOOKUP(L376,漢字読み!$A$2:$O$502,7,0)=0,\"\",VLOOKUP(L376,漢字読み!$A$2:$O$502,7,0)))","v":{"$error":"#N/A"}},{"$f":"IF(M376=\"\",\"\",IF(VLOOKUP(M376,漢字読み!$A$2:$O$502,7,0)=0,\"\",VLOOKUP(M376,漢字読み!$A$2:$O$502,7,0)))","v":{"$error":"#N/A"}},{"$f":"IF(N376=\"\",\"\",IF(VLOOKUP(N376,漢字読み!$A$2:$O$502,7,0)=0,\"\",VLOOKUP(N376,漢字読み!$A$2:$O$502,7,0)))","v":{"$error":"#N/A"}},{"$f":"IF(O376=\"\",\"\",IF(VLOOKUP(O376,漢字読み!$A$2:$O$502,7,0)=0,\"\",VLOOKUP(O376,漢字読み!$A$2:$O$502,7,0)))","v":{"$error":"#N/A"}},{"$f":"IF(P376=\"\",\"\",IF(VLOOKUP(P376,漢字読み!$A$2:$O$502,7,0)=0,\"\",VLOOKUP(P376,漢字読み!$A$2:$O$502,7,0)))","v":{"$error":"#N/A"}},{"$f":"IF(Q376=\"\",\"\",IF(VLOOKUP(Q376,漢字読み!$A$2:$O$502,7,0)=0,\"\",VLOOKUP(Q376,漢字読み!$A$2:$O$502,7,0)))","v":{"$error":"#N/A"}},{"$f":"IF(R376=\"\",\"\",IF(VLOOKUP(R376,漢字読み!$A$2:$O$502,7,0)=0,\"\",VLOOKUP(R376,漢字読み!$A$2:$O$502,7,0)))","v":{"$error":"#N/A"}},{"$f":"IF(S376=\"\",\"\",IF(VLOOKUP(S376,漢字読み!$A$2:$O$502,7,0)=0,\"\",VLOOKUP(S376,漢字読み!$A$2:$O$502,7,0)))","v":{"$error":"#N/A"}},{"$f":"IF(T376=\"\",\"\",IF(VLOOKUP(T376,漢字読み!$A$2:$O$502,7,0)=0,\"\",VLOOKUP(T376,漢字読み!$A$2:$O$502,7,0)))","v":{"$error":"#N/A"}},null,null,"和歌山県教育委員会"]
[{"$f":"INDIRECT(\"'関数（書き）'!C\" & COLUMN(B$1)+SUM($AD$2:$AD382))","v":0},{"$f":"INDIRECT(\"'関数（書き）'!C\" & COLUMN(C$1)+SUM($AD$2:$AD382))","v":0},{"$f":"INDIRECT(\"'関数（書き）'!C\" & COLUMN(D$1)+SUM($AD$2:$AD382))","v":0},{"$f":"INDIRECT(\"'関数（書き）'!C\" & COLUMN(E$1)+SUM($AD$2:$AD382))","v":0},{"$f":"INDIRECT(\"'関数（書き）'!C\" & COLUMN(F$1)+SUM($AD$2:$AD382))","v":0},{"$f":"INDIRECT(\"'関数（書き）'!C\" & COLUMN(G$1)+SUM($AD$2:$AD382))","v":0},{"$f":"INDIRECT(\"'関数（書き）'!C\" & COLUMN(H$1)+SUM($AD$2:$AD382))","v":0},{"$f":"INDIRECT(\"'関数（書き）'!C\" & COLUMN(I$1)+SUM($AD$2:$AD382))","v":0},{"$f":"INDIRECT(\"'関数（書き）'!C\" & COLUMN(J$1)+SUM($AD$2:$AD382))","v":0},{"$f":"INDIRECT(\"'関数（書き）'!C\" & COLUMN(K$1)+SUM($AD$2:$AD382))","v":0},{"$f":"INDIRECT(\"'関数（読み）'!C\" & COLUMN(B$1)+SUM($AD$2:$AD382))","v":0},{"$f":"INDIRECT(\"'関数（読み）'!C\" & COLUMN(C$1)+SUM($AD$2:$AD382))","v":0},{"$f":"INDIRECT(\"'関数（読み）'!C\" & COLUMN(D$1)+SUM($AD$2:$AD382))","v":0},{"$f":"INDIRECT(\"'関数（読み）'!C\" & COLUMN(E$1)+SUM($AD$2:$AD382))","v":0},{"$f":"INDIRECT(\"'関数（読み）'!C\" & COLUMN(F$1)+SUM($AD$2:$AD382))","v":0},{"$f":"INDIRECT(\"'関数（読み）'!C\" & COLUMN(G$1)+SUM($AD$2:$AD382))","v":0},{"$f":"INDIRECT(\"'関数（読み）'!C\" & COLUMN(H$1)+SUM($AD$2:$AD382))","v":0},{"$f":"INDIRECT(\"'関数（読み）'!C\" & COLUMN(I$1)+SUM($AD$2:$AD382))","v":0},{"$f":"INDIRECT(\"'関数（読み）'!C\" & COLUMN(J$1)+SUM($AD$2:$AD382))","v":0},{"$f":"INDIRECT(\"'関数（読み）'!C\" & COLUMN(K$1)+SUM($AD$2:$AD382))","v":0}]
["⑳","⑲","⑱","⑰","⑯","⑮","⑭","⑬","⑫","⑪","⑩","⑨","⑧","⑦","⑥","⑤","④","③","②","①","次の［　　　　］の部分の漢字には読みがなをひらがなで書き、カタカナは漢字に直しなさい。",13,"「漢字の博士検定試験」練習問題　",null,null,null,null,null,"←",10,"問",{"$f":"AH367+1","v":381},"～",{"$f":"SUM($AD$2:$AD382)+10","v":390},"問まで",{"$f":"COUNTIF($A$1:$T$200,T383)","v":0}]
[{"$f":"IF(A381=\"\",\"\",VLOOKUP(A381,漢字書き!$A$2:$N$506,6,0))","v":{"$error":"#N/A"}},{"$f":"IF(B381=\"\",\"\",VLOOKUP(B381,漢字書き!$A$2:$N$506,6,0))","v":{"$error":"#N/A"}},{"$f":"IF(C381=\"\",\"\",VLOOKUP(C381,漢字書き!$A$2:$N$506,6,0))","v":{"$error":"#N/A"}},{"$f":"IF(D381=\"\",\"\",VLOOKUP(D381,漢字書き!$A$2:$N$506,6,0))","v":{"$error":"#N/A"}},{"$f":"IF(E381=\"\",\"\",VLOOKUP(E381,漢字書き!$A$2:$N$506,6,0))","v":{"$error":"#N/A"}},{"$f":"IF(F381=\"\",\"\",VLOOKUP(F381,漢字書き!$A$2:$N$506,6,0))","v":{"$error":"#N/A"}},{"$f":"IF(G381=\"\",\"\",VLOOKUP(G381,漢字書き!$A$2:$N$506,6,0))","v":{"$error":"#N/A"}},{"$f":"IF(H381=\"\",\"\",VLOOKUP(H381,漢字書き!$A$2:$N$506,6,0))","v":{"$error":"#N/A"}},{"$f":"IF(I381=\"\",\"\",VLOOKUP(I381,漢字書き!$A$2:$N$506,6,0))","v":{"$error":"#N/A"}},{"$f":"IF(J381=\"\",\"\",VLOOKUP(J381,漢字書き!$A$2:$N$506,6,0))","v":{"$error":"#N/A"}},{"$f":"IF(K381=\"\",\"\",VLOOKUP(K381,漢字読み!$A$2:$O$506,6,0))","v":{"$error":"#N/A"}},{"$f":"IF(L381=\"\",\"\",VLOOKUP(L381,漢字読み!$A$2:$O$506,6,0))","v":{"$error":"#N/A"}},{"$f":"IF(M381=\"\",\"\",VLOOKUP(M381,漢字読み!$A$2:$O$506,6,0))","v":{"$error":"#N/A"}},{"$f":"IF(N381=\"\",\"\",VLOOKUP(N381,漢字読み!$A$2:$O$506,6,0))","v":{"$error":"#N/A"}},{"$f":"IF(O381=\"\",\"\",VLOOKUP(O381,漢字読み!$A$2:$O$506,6,0))","v":{"$error":"#N/A"}},{"$f":"IF(P381=\"\",\"\",VLOOKUP(P381,漢字読み!$A$2:$O$506,6,0))","v":{"$error":"#N/A"}},{"$f":"IF(Q381=\"\",\"\",VLOOKUP(Q381,漢字読み!$A$2:$O$506,6,0))","v":{"$error":"#N/A"}},{"$f":"IF(R381=\"\",\"\",VLOOKUP(R381,漢字読み!$A$2:$O$506,6,0))","v":{"$error":"#N/A"}},{"$f":"IF(S381=\"\",\"\",VLOOKUP(S381,漢字読み!$A$2:$O$506,6,0))","v":{"$error":"#N/A"}},{"$f":"IF(T381=\"\",\"\",VLOOKUP(T381,漢字読み!$A$2:$O$506,6,0))","v":{"$error":"#N/A"}},null,"級"]
[null,null,null,null,null,null,null,null,null,null,null,null,null,null,null,null,null,null,null,null,null,"名前"]
[{"$f":"IF(A381=\"\",\"\",IF(VLOOKUP(A381,漢字書き!$A$2:$N$502,7,0)=0,\"\",VLOOKUP(A381,漢字書き!$A$2:$N$502,7,0)))","v":{"$error":"#N/A"}},{"$f":"IF(B381=\"\",\"\",IF(VLOOKUP(B381,漢字書き!$A$2:$N$502,7,0)=0,\"\",VLOOKUP(B381,漢字書き!$A$2:$N$502,7,0)))","v":{"$error":"#N/A"}},{"$f":"IF(C381=\"\",\"\",IF(VLOOKUP(C381,漢字書き!$A$2:$N$502,7,0)=0,\"\",VLOOKUP(C381,漢字書き!$A$2:$N$502,7,0)))","v":{"$error":"#N/A"}},{"$f":"IF(D381=\"\",\"\",IF(VLOOKUP(D381,漢字書き!$A$2:$N$502,7,0)=0,\"\",VLOOKUP(D381,漢字書き!$A$2:$N$502,7,0)))","v":{"$error":"#N/A"}},{"$f":"IF(E381=\"\",\"\",IF(VLOOKUP(E381,漢字書き!$A$2:$N$502,7,0)=0,\"\",VLOOKUP(E381,漢字書き!$A$2:$N$502,7,0)))","v":{"$error":"#N/A"}},{"$f":"IF(F381=\"\",\"\",IF(VLOOKUP(F381,漢字書き!$A$2:$N$502,7,0)=0,\"\",VLOOKUP(F381,漢字書き!$A$2:$N$502,7,0)))","v":{"$error":"#N/A"}},{"$f":"IF(G381=\"\",\"\",IF(VLOOKUP(G381,漢字書き!$A$2:$N$502,7,0)=0,\"\",VLOOKUP(G381,漢字書き!$A$2:$N$502,7,0)))","v":{"$error":"#N/A"}},{"$f":"IF(H381=\"\",\"\",IF(VLOOKUP(H381,漢字書き!$A$2:$N$502,7,0)=0,\"\",VLOOKUP(H381,漢字書き!$A$2:$N$502,7,0)))","v":{"$error":"#N/A"}},{"$f":"IF(I381=\"\",\"\",IF(VLOOKUP(I381,漢字書き!$A$2:$N$502,7,0)=0,\"\",VLOOKUP(I381,漢字書き!$A$2:$N$502,7,0)))","v":{"$error":"#N/A"}},{"$f":"IF(J381=\"\",\"\",IF(VLOOKUP(J381,漢字書き!$A$2:$N$502,7,0)=0,\"\",VLOOKUP(J381,漢字書き!$A$2:$N$502,7,0)))","v":{"$error":"#N/A"}},{"$f":"IF(K381=\"\",\"\",IF(VLOOKUP(K381,漢字読み!$A$2:$O$502,7,0)=0,\"\",VLOOKUP(K381,漢字読み!$A$2:$O$502,7,0)))","v":{"$error":"#N/A"}},{"$f":"IF(L381=\"\",\"\",IF(VLOOKUP(L381,漢字読み!$A$2:$O$502,7,0)=0,\"\",VLOOKUP(L381,漢字読み!$A$2:$O$502,7,0)))","v":{"$error":"#N/A"}},{"$f":"IF(M381=\"\",\"\",IF(VLOOKUP(M381,漢字読み!$A$2:$O$502,7,0)=0,\"\",VLOOKUP(M381,漢字読み!$A$2:$O$502,7,0)))","v":{"$error":"#N/A"}},{"$f":"IF(N381=\"\",\"\",IF(VLOOKUP(N381,漢字読み!$A$2:$O$502,7,0)=0,\"\",VLOOKUP(N381,漢字読み!$A$2:$O$502,7,0)))","v":{"$error":"#N/A"}},{"$f":"IF(O381=\"\",\"\",IF(VLOOKUP(O381,漢字読み!$A$2:$O$502,7,0)=0,\"\",VLOOKUP(O381,漢字読み!$A$2:$O$502,7,0)))","v":{"$error":"#N/A"}},{"$f":"IF(P381=\"\",\"\",IF(VLOOKUP(P381,漢字読み!$A$2:$O$502,7,0)=0,\"\",VLOOKUP(P381,漢字読み!$A$2:$O$502,7,0)))","v":{"$error":"#N/A"}},{"$f":"IF(Q381=\"\",\"\",IF(VLOOKUP(Q381,漢字読み!$A$2:$O$502,7,0)=0,\"\",VLOOKUP(Q381,漢字読み!$A$2:$O$502,7,0)))","v":{"$error":"#N/A"}},{"$f":"IF(R381=\"\",\"\",IF(VLOOKUP(R381,漢字読み!$A$2:$O$502,7,0)=0,\"\",VLOOKUP(R381,漢字読み!$A$2:$O$502,7,0)))","v":{"$error":"#N/A"}},{"$f":"IF(S381=\"\",\"\",IF(VLOOKUP(S381,漢字読み!$A$2:$O$502,7,0)=0,\"\",VLOOKUP(S381,漢字読み!$A$2:$O$502,7,0)))","v":{"$error":"#N/A"}},{"$f":"IF(T381=\"\",\"\",IF(VLOOKUP(T381,漢字読み!$A$2:$O$502,7,0)=0,\"\",VLOOKUP(T381,漢字読み!$A$2:$O$502,7,0)))","v":{"$error":"#N/A"}},null,null,"和歌山県教育委員会"]
[{"$f":"INDIRECT(\"'関数（書き）'!C\" & COLUMN(B$1)+SUM($AD$2:$AD387))","v":0},{"$f":"INDIRECT(\"'関数（書き）'!C\" & COLUMN(C$1)+SUM($AD$2:$AD387))","v":0},{"$f":"INDIRECT(\"'関数（書き）'!C\" & COLUMN(D$1)+SUM($AD$2:$AD387))","v":0},{"$f":"INDIRECT(\"'関数（書き）'!C\" & COLUMN(E$1)+SUM($AD$2:$AD387))","v":0},{"$f":"INDIRECT(\"'関数（書き）'!C\" & COLUMN(F$1)+SUM($AD$2:$AD387))","v":0},{"$f":"INDIRECT(\"'関数（書き）'!C\" & COLUMN(G$1)+SUM($AD$2:$AD387))","v":0},{"$f":"INDIRECT(\"'関数（書き）'!C\" & COLUMN(H$1)+SUM($AD$2:$AD387))","v":0},{"$f":"INDIRECT(\"'関数（書き）'!C\" & COLUMN(I$1)+SUM($AD$2:$AD387))","v":0},{"$f":"INDIRECT(\"'関数（書き）'!C\" & COLUMN(J$1)+SUM($AD$2:$AD387))","v":0},{"$f":"INDIRECT(\"'関数（書き）'!C\" & COLUMN(K$1)+SUM($AD$2:$AD387))","v":0},{"$f":"INDIRECT(\"'関数（読み）'!C\" & COLUMN(B$1)+SUM($AD$2:$AD387))","v":0},{"$f":"INDIRECT(\"'関数（読み）'!C\" & COLUMN(C$1)+SUM($AD$2:$AD387))","v":0},{"$f":"INDIRECT(\"'関数（読み）'!C\" & COLUMN(D$1)+SUM($AD$2:$AD387))","v":0},{"$f":"INDIRECT(\"'関数（読み）'!C\" & COLUMN(E$1)+SUM($AD$2:$AD387))","v":0},{"$f":"INDIRECT(\"'関数（読み）'!C\" & COLUMN(F$1)+SUM($AD$2:$AD387))","v":0},{"$f":"INDIRECT(\"'関数（読み）'!C\" & COLUMN(G$1)+SUM($AD$2:$AD387))","v":0},{"$f":"INDIRECT(\"'関数（読み）'!C\" & COLUMN(H$1)+SUM($AD$2:$AD387))","v":0},{"$f":"INDIRECT(\"'関数（読み）'!C\" & COLUMN(I$1)+SUM($AD$2:$AD387))","v":0},{"$f":"INDIRECT(\"'関数（読み）'!C\" & COLUMN(J$1)+SUM($AD$2:$AD387))","v":0},{"$f":"INDIRECT(\"'関数（読み）'!C\" & COLUMN(K$1)+SUM($AD$2:$AD387))","v":0}]
["⑳","⑲","⑱","⑰","⑯","⑮","⑭","⑬","⑫","⑪","⑩","⑨","⑧","⑦","⑥","⑤","④","③","②","①","次の［　　　　］の部分の漢字には読みがなをひらがなで書き、カタカナは漢字に直しなさい。",13,"「漢字の博士検定試験」練習問題　",null,null,null,null,null,"←",10,"問",{"$f":"AH382+1","v":391},"～",{"$f":"SUM($AD$2:$AD387)+10","v":400},"問まで",{"$f":"COUNTIF($A$1:$T$200,T388)","v":0}]
[{"$f":"IF(A386=\"\",\"\",VLOOKUP(A386,漢字書き!$A$2:$N$506,6,0))","v":{"$error":"#N/A"}},{"$f":"IF(B386=\"\",\"\",VLOOKUP(B386,漢字書き!$A$2:$N$506,6,0))","v":{"$error":"#N/A"}},{"$f":"IF(C386=\"\",\"\",VLOOKUP(C386,漢字書き!$A$2:$N$506,6,0))","v":{"$error":"#N/A"}},{"$f":"IF(D386=\"\",\"\",VLOOKUP(D386,漢字書き!$A$2:$N$506,6,0))","v":{"$error":"#N/A"}},{"$f":"IF(E386=\"\",\"\",VLOOKUP(E386,漢字書き!$A$2:$N$506,6,0))","v":{"$error":"#N/A"}},{"$f":"IF(F386=\"\",\"\",VLOOKUP(F386,漢字書き!$A$2:$N$506,6,0))","v":{"$error":"#N/A"}},{"$f":"IF(G386=\"\",\"\",VLOOKUP(G386,漢字書き!$A$2:$N$506,6,0))","v":{"$error":"#N/A"}},{"$f":"IF(H386=\"\",\"\",VLOOKUP(H386,漢字書き!$A$2:$N$506,6,0))","v":{"$error":"#N/A"}},{"$f":"IF(I386=\"\",\"\",VLOOKUP(I386,漢字書き!$A$2:$N$506,6,0))","v":{"$error":"#N/A"}},{"$f":"IF(J386=\"\",\"\",VLOOKUP(J386,漢字書き!$A$2:$N$506,6,0))","v":{"$error":"#N/A"}},{"$f":"IF(K386=\"\",\"\",VLOOKUP(K386,漢字読み!$A$2:$O$506,6,0))","v":{"$error":"#N/A"}},{"$f":"IF(L386=\"\",\"\",VLOOKUP(L386,漢字読み!$A$2:$O$506,6,0))","v":{"$error":"#N/A"}},{"$f":"IF(M386=\"\",\"\",VLOOKUP(M386,漢字読み!$A$2:$O$506,6,0))","v":{"$error":"#N/A"}},{"$f":"IF(N386=\"\",\"\",VLOOKUP(N386,漢字読み!$A$2:$O$506,6,0))","v":{"$error":"#N/A"}},{"$f":"IF(O386=\"\",\"\",VLOOKUP(O386,漢字読み!$A$2:$O$506,6,0))","v":{"$error":"#N/A"}},{"$f":"IF(P386=\"\",\"\",VLOOKUP(P386,漢字読み!$A$2:$O$506,6,0))","v":{"$error":"#N/A"}},{"$f":"IF(Q386=\"\",\"\",VLOOKUP(Q386,漢字読み!$A$2:$O$506,6,0))","v":{"$error":"#N/A"}},{"$f":"IF(R386=\"\",\"\",VLOOKUP(R386,漢字読み!$A$2:$O$506,6,0))","v":{"$error":"#N/A"}},{"$f":"IF(S386=\"\",\"\",VLOOKUP(S386,漢字読み!$A$2:$O$506,6,0))","v":{"$error":"#N/A"}},{"$f":"IF(T386=\"\",\"\",VLOOKUP(T386,漢字読み!$A$2:$O$506,6,0))","v":{"$error":"#N/A"}},null,"級"]
[null,null,null,null,null,null,null,null,null,null,null,null,null,null,null,null,null,null,null,null,null,"名前"]
[{"$f":"IF(A386=\"\",\"\",IF(VLOOKUP(A386,漢字書き!$A$2:$N$502,7,0)=0,\"\",VLOOKUP(A386,漢字書き!$A$2:$N$502,7,0)))","v":{"$error":"#N/A"}},{"$f":"IF(B386=\"\",\"\",IF(VLOOKUP(B386,漢字書き!$A$2:$N$502,7,0)=0,\"\",VLOOKUP(B386,漢字書き!$A$2:$N$502,7,0)))","v":{"$error":"#N/A"}},{"$f":"IF(C386=\"\",\"\",IF(VLOOKUP(C386,漢字書き!$A$2:$N$502,7,0)=0,\"\",VLOOKUP(C386,漢字書き!$A$2:$N$502,7,0)))","v":{"$error":"#N/A"}},{"$f":"IF(D386=\"\",\"\",IF(VLOOKUP(D386,漢字書き!$A$2:$N$502,7,0)=0,\"\",VLOOKUP(D386,漢字書き!$A$2:$N$502,7,0)))","v":{"$error":"#N/A"}},{"$f":"IF(E386=\"\",\"\",IF(VLOOKUP(E386,漢字書き!$A$2:$N$502,7,0)=0,\"\",VLOOKUP(E386,漢字書き!$A$2:$N$502,7,0)))","v":{"$error":"#N/A"}},{"$f":"IF(F386=\"\",\"\",IF(VLOOKUP(F386,漢字書き!$A$2:$N$502,7,0)=0,\"\",VLOOKUP(F386,漢字書き!$A$2:$N$502,7,0)))","v":{"$error":"#N/A"}},{"$f":"IF(G386=\"\",\"\",IF(VLOOKUP(G386,漢字書き!$A$2:$N$502,7,0)=0,\"\",VLOOKUP(G386,漢字書き!$A$2:$N$502,7,0)))","v":{"$error":"#N/A"}},{"$f":"IF(H386=\"\",\"\",IF(VLOOKUP(H386,漢字書き!$A$2:$N$502,7,0)=0,\"\",VLOOKUP(H386,漢字書き!$A$2:$N$502,7,0)))","v":{"$error":"#N/A"}},{"$f":"IF(I386=\"\",\"\",IF(VLOOKUP(I386,漢字書き!$A$2:$N$502,7,0)=0,\"\",VLOOKUP(I386,漢字書き!$A$2:$N$502,7,0)))","v":{"$error":"#N/A"}},{"$f":"IF(J386=\"\",\"\",IF(VLOOKUP(J386,漢字書き!$A$2:$N$502,7,0)=0,\"\",VLOOKUP(J386,漢字書き!$A$2:$N$502,7,0)))","v":{"$error":"#N/A"}},{"$f":"IF(K386=\"\",\"\",IF(VLOOKUP(K386,漢字読み!$A$2:$O$502,7,0)=0,\"\",VLOOKUP(K386,漢字読み!$A$2:$O$502,7,0)))","v":{"$error":"#N/A"}},{"$f":"IF(L386=\"\",\"\",IF(VLOOKUP(L386,漢字読み!$A$2:$O$502,7,0)=0,\"\",VLOOKUP(L386,漢字読み!$A$2:$O$502,7,0)))","v":{"$error":"#N/A"}},{"$f":"IF(M386=\"\",\"\",IF(VLOOKUP(M386,漢字読み!$A$2:$O$502,7,0)=0,\"\",VLOOKUP(M386,漢字読み!$A$2:$O$502,7,0)))","v":{"$error":"#N/A"}},{"$f":"IF(N386=\"\",\"\",IF(VLOOKUP(N386,漢字読み!$A$2:$O$502,7,0)=0,\"\",VLOOKUP(N386,漢字読み!$A$2:$O$502,7,0)))","v":{"$error":"#N/A"}},{"$f":"IF(O386=\"\",\"\",IF(VLOOKUP(O386,漢字読み!$A$2:$O$502,7,0)=0,\"\",VLOOKUP(O386,漢字読み!$A$2:$O$502,7,0)))","v":{"$error":"#N/A"}},{"$f":"IF(P386=\"\",\"\",IF(VLOOKUP(P386,漢字読み!$A$2:$O$502,7,0)=0,\"\",VLOOKUP(P386,漢字読み!$A$2:$O$502,7,0)))","v":{"$error":"#N/A"}},{"$f":"IF(Q386=\"\",\"\",IF(VLOOKUP(Q386,漢字読み!$A$2:$O$502,7,0)=0,\"\",VLOOKUP(Q386,漢字読み!$A$2:$O$502,7,0)))","v":{"$error":"#N/A"}},{"$f":"IF(R386=\"\",\"\",IF(VLOOKUP(R386,漢字読み!$A$2:$O$502,7,0)=0,\"\",VLOOKUP(R386,漢字読み!$A$2:$O$502,7,0)))","v":{"$error":"#N/A"}},{"$f":"IF(S386=\"\",\"\",IF(VLOOKUP(S386,漢字読み!$A$2:$O$502,7,0)=0,\"\",VLOOKUP(S386,漢字読み!$A$2:$O$502,7,0)))","v":{"$error":"#N/A"}},{"$f":"IF(T386=\"\",\"\",IF(VLOOKUP(T386,漢字読み!$A$2:$O$502,7,0)=0,\"\",VLOOKUP(T386,漢字読み!$A$2:$O$502,7,0)))","v":{"$error":"#N/A"}},null,null,"和歌山県教育委員会"]
[{"$f":"A381","v":0},0,0,0,0,0,0,0,0,0,0,0,0,0,0,0,0,0,0,0]
["⑳","⑲","⑱","⑰","⑯","⑮","⑭","⑬","⑫","⑪","⑩","⑨","⑧","⑦","⑥","⑤","④","③","②","①","次の［　　　　］の部分の漢字には読みがなをひらがなで書き、カタカナは漢字に直しなさい。",13,"「漢字の博士検定試験」練習問題　"]
[{"$f":"IF(A391=\"\",\"\",VLOOKUP(A391,漢字書き!$A$2:$N$506,6,0))","v":{"$error":"#N/A"}},{"$f":"IF(B391=\"\",\"\",VLOOKUP(B391,漢字書き!$A$2:$N$506,6,0))","v":{"$error":"#N/A"}},{"$f":"IF(C391=\"\",\"\",VLOOKUP(C391,漢字書き!$A$2:$N$506,6,0))","v":{"$error":"#N/A"}},{"$f":"IF(D391=\"\",\"\",VLOOKUP(D391,漢字書き!$A$2:$N$506,6,0))","v":{"$error":"#N/A"}},{"$f":"IF(E391=\"\",\"\",VLOOKUP(E391,漢字書き!$A$2:$N$506,6,0))","v":{"$error":"#N/A"}},{"$f":"IF(F391=\"\",\"\",VLOOKUP(F391,漢字書き!$A$2:$N$506,6,0))","v":{"$error":"#N/A"}},{"$f":"IF(G391=\"\",\"\",VLOOKUP(G391,漢字書き!$A$2:$N$506,6,0))","v":{"$error":"#N/A"}},{"$f":"IF(H391=\"\",\"\",VLOOKUP(H391,漢字書き!$A$2:$N$506,6,0))","v":{"$error":"#N/A"}},{"$f":"IF(I391=\"\",\"\",VLOOKUP(I391,漢字書き!$A$2:$N$506,6,0))","v":{"$error":"#N/A"}},{"$f":"IF(J391=\"\",\"\",VLOOKUP(J391,漢字書き!$A$2:$N$506,6,0))","v":{"$error":"#N/A"}},{"$f":"IF(K391=\"\",\"\",VLOOKUP(K391,漢字読み!$A$2:$O$506,6,0))","v":{"$error":"#N/A"}},{"$f":"IF(L391=\"\",\"\",VLOOKUP(L391,漢字読み!$A$2:$O$506,6,0))","v":{"$error":"#N/A"}},{"$f":"IF(M391=\"\",\"\",VLOOKUP(M391,漢字読み!$A$2:$O$506,6,0))","v":{"$error":"#N/A"}},{"$f":"IF(N391=\"\",\"\",VLOOKUP(N391,漢字読み!$A$2:$O$506,6,0))","v":{"$error":"#N/A"}},{"$f":"IF(O391=\"\",\"\",VLOOKUP(O391,漢字読み!$A$2:$O$506,6,0))","v":{"$error":"#N/A"}},{"$f":"IF(P391=\"\",\"\",VLOOKUP(P391,漢字読み!$A$2:$O$506,6,0))","v":{"$error":"#N/A"}},{"$f":"IF(Q391=\"\",\"\",VLOOKUP(Q391,漢字読み!$A$2:$O$506,6,0))","v":{"$error":"#N/A"}},{"$f":"IF(R391=\"\",\"\",VLOOKUP(R391,漢字読み!$A$2:$O$506,6,0))","v":{"$error":"#N/A"}},{"$f":"IF(S391=\"\",\"\",VLOOKUP(S391,漢字読み!$A$2:$O$506,6,0))","v":{"$error":"#N/A"}},{"$f":"IF(T391=\"\",\"\",VLOOKUP(T391,漢字読み!$A$2:$O$506,6,0))","v":{"$error":"#N/A"}},null,"級"]
[{"$f":"IF(A$11=\"\",\"\",VLOOKUP(A391,漢字書き!$A$2:$O$506,8,0))","v":{"$error":"#N/A"}},{"$f":"IF(B$11=\"\",\"\",VLOOKUP(B391,漢字書き!$A$2:$O$506,8,0))","v":{"$error":"#N/A"}},{"$f":"IF(C$11=\"\",\"\",VLOOKUP(C391,漢字書き!$A$2:$O$506,8,0))","v":{"$error":"#N/A"}},{"$f":"IF(D$11=\"\",\"\",VLOOKUP(D391,漢字書き!$A$2:$O$506,8,0))","v":{"$error":"#N/A"}},{"$f":"IF(E$11=\"\",\"\",VLOOKUP(E391,漢字書き!$A$2:$O$506,8,0))","v":{"$error":"#N/A"}},{"$f":"IF(F$11=\"\",\"\",VLOOKUP(F391,漢字書き!$A$2:$O$506,8,0))","v":{"$error":"#N/A"}},{"$f":"IF(G$11=\"\",\"\",VLOOKUP(G391,漢字書き!$A$2:$O$506,8,0))","v":{"$error":"#N/A"}},{"$f":"IF(H$11=\"\",\"\",VLOOKUP(H391,漢字書き!$A$2:$O$506,8,0))","v":{"$error":"#N/A"}},{"$f":"IF(I$11=\"\",\"\",VLOOKUP(I391,漢字書き!$A$2:$O$506,8,0))","v":{"$error":"#N/A"}},{"$f":"IF(J$11=\"\",\"\",VLOOKUP(J391,漢字書き!$A$2:$O$506,8,0))","v":{"$error":"#N/A"}},{"$f":"IF(K$11=\"\",\"\",VLOOKUP(K391,漢字読み!$A$2:$O$506,8,0))","v":{"$error":"#N/A"}},{"$f":"IF(L$11=\"\",\"\",VLOOKUP(L391,漢字読み!$A$2:$O$506,8,0))","v":{"$error":"#N/A"}},{"$f":"IF(M$11=\"\",\"\",VLOOKUP(M391,漢字読み!$A$2:$O$506,8,0))","v":{"$error":"#N/A"}},{"$f":"IF(N$11=\"\",\"\",VLOOKUP(N391,漢字読み!$A$2:$O$506,8,0))","v":{"$error":"#N/A"}},{"$f":"IF(O$11=\"\",\"\",VLOOKUP(O391,漢字読み!$A$2:$O$506,8,0))","v":{"$error":"#N/A"}},{"$f":"IF(P$11=\"\",\"\",VLOOKUP(P391,漢字読み!$A$2:$O$506,8,0))","v":{"$error":"#N/A"}},{"$f":"IF(Q$11=\"\",\"\",VLOOKUP(Q391,漢字読み!$A$2:$O$506,8,0))","v":{"$error":"#N/A"}},{"$f":"IF(R$11=\"\",\"\",VLOOKUP(R391,漢字読み!$A$2:$O$506,8,0))","v":{"$error":"#N/A"}},{"$f":"IF(S$11=\"\",\"\",VLOOKUP(S391,漢字読み!$A$2:$O$506,8,0))","v":{"$error":"#N/A"}},{"$f":"IF(T$11=\"\",\"\",VLOOKUP(T391,漢字読み!$A$2:$O$506,8,0))","v":{"$error":"#N/A"}},null,"名前"]
[{"$f":"IF(A391=\"\",\"\",IF(VLOOKUP(A391,漢字書き!$A$2:$N$502,7,0)=0,\"\",VLOOKUP(A391,漢字書き!$A$2:$N$502,7,0)))","v":{"$error":"#N/A"}},{"$f":"IF(B391=\"\",\"\",IF(VLOOKUP(B391,漢字書き!$A$2:$N$502,7,0)=0,\"\",VLOOKUP(B391,漢字書き!$A$2:$N$502,7,0)))","v":{"$error":"#N/A"}},{"$f":"IF(C391=\"\",\"\",IF(VLOOKUP(C391,漢字書き!$A$2:$N$502,7,0)=0,\"\",VLOOKUP(C391,漢字書き!$A$2:$N$502,7,0)))","v":{"$error":"#N/A"}},{"$f":"IF(D391=\"\",\"\",IF(VLOOKUP(D391,漢字書き!$A$2:$N$502,7,0)=0,\"\",VLOOKUP(D391,漢字書き!$A$2:$N$502,7,0)))","v":{"$error":"#N/A"}},{"$f":"IF(E391=\"\",\"\",IF(VLOOKUP(E391,漢字書き!$A$2:$N$502,7,0)=0,\"\",VLOOKUP(E391,漢字書き!$A$2:$N$502,7,0)))","v":{"$error":"#N/A"}},{"$f":"IF(F391=\"\",\"\",IF(VLOOKUP(F391,漢字書き!$A$2:$N$502,7,0)=0,\"\",VLOOKUP(F391,漢字書き!$A$2:$N$502,7,0)))","v":{"$error":"#N/A"}},{"$f":"IF(G391=\"\",\"\",IF(VLOOKUP(G391,漢字書き!$A$2:$N$502,7,0)=0,\"\",VLOOKUP(G391,漢字書き!$A$2:$N$502,7,0)))","v":{"$error":"#N/A"}},{"$f":"IF(H391=\"\",\"\",IF(VLOOKUP(H391,漢字書き!$A$2:$N$502,7,0)=0,\"\",VLOOKUP(H391,漢字書き!$A$2:$N$502,7,0)))","v":{"$error":"#N/A"}},{"$f":"IF(I391=\"\",\"\",IF(VLOOKUP(I391,漢字書き!$A$2:$N$502,7,0)=0,\"\",VLOOKUP(I391,漢字書き!$A$2:$N$502,7,0)))","v":{"$error":"#N/A"}},{"$f":"IF(J391=\"\",\"\",IF(VLOOKUP(J391,漢字書き!$A$2:$N$502,7,0)=0,\"\",VLOOKUP(J391,漢字書き!$A$2:$N$502,7,0)))","v":{"$error":"#N/A"}},{"$f":"IF(K391=\"\",\"\",IF(VLOOKUP(K391,漢字読み!$A$2:$O$502,7,0)=0,\"\",VLOOKUP(K391,漢字読み!$A$2:$O$502,7,0)))","v":{"$error":"#N/A"}},{"$f":"IF(L391=\"\",\"\",IF(VLOOKUP(L391,漢字読み!$A$2:$O$502,7,0)=0,\"\",VLOOKUP(L391,漢字読み!$A$2:$O$502,7,0)))","v":{"$error":"#N/A"}},{"$f":"IF(M391=\"\",\"\",IF(VLOOKUP(M391,漢字読み!$A$2:$O$502,7,0)=0,\"\",VLOOKUP(M391,漢字読み!$A$2:$O$502,7,0)))","v":{"$error":"#N/A"}},{"$f":"IF(N391=\"\",\"\",IF(VLOOKUP(N391,漢字読み!$A$2:$O$502,7,0)=0,\"\",VLOOKUP(N391,漢字読み!$A$2:$O$502,7,0)))","v":{"$error":"#N/A"}},{"$f":"IF(O391=\"\",\"\",IF(VLOOKUP(O391,漢字読み!$A$2:$O$502,7,0)=0,\"\",VLOOKUP(O391,漢字読み!$A$2:$O$502,7,0)))","v":{"$error":"#N/A"}},{"$f":"IF(P391=\"\",\"\",IF(VLOOKUP(P391,漢字読み!$A$2:$O$502,7,0)=0,\"\",VLOOKUP(P391,漢字読み!$A$2:$O$502,7,0)))","v":{"$error":"#N/A"}},{"$f":"IF(Q391=\"\",\"\",IF(VLOOKUP(Q391,漢字読み!$A$2:$O$502,7,0)=0,\"\",VLOOKUP(Q391,漢字読み!$A$2:$O$502,7,0)))","v":{"$error":"#N/A"}},{"$f":"IF(R391=\"\",\"\",IF(VLOOKUP(R391,漢字読み!$A$2:$O$502,7,0)=0,\"\",VLOOKUP(R391,漢字読み!$A$2:$O$502,7,0)))","v":{"$error":"#N/A"}},{"$f":"IF(S391=\"\",\"\",IF(VLOOKUP(S391,漢字読み!$A$2:$O$502,7,0)=0,\"\",VLOOKUP(S391,漢字読み!$A$2:$O$502,7,0)))","v":{"$error":"#N/A"}},{"$f":"IF(T391=\"\",\"\",IF(VLOOKUP(T391,漢字読み!$A$2:$O$502,7,0)=0,\"\",VLOOKUP(T391,漢字読み!$A$2:$O$502,7,0)))","v":{"$error":"#N/A"}},null,null,"和歌山県教育委員会"]
[{"$f":"A386","v":0},0,0,0,0,0,0,0,0,0,0,0,0,0,0,0,0,0,0,0]
["⑳","⑲","⑱","⑰","⑯","⑮","⑭","⑬","⑫","⑪","⑩","⑨","⑧","⑦","⑥","⑤","④","③","②","①","次の［　　　　］の部分の漢字には読みがなをひらがなで書き、カタカナは漢字に直しなさい。",13,"「漢字の博士検定試験」練習問題　"]
[{"$f":"IF(A396=\"\",\"\",VLOOKUP(A396,漢字書き!$A$2:$N$506,6,0))","v":{"$error":"#N/A"}},{"$f":"IF(B396=\"\",\"\",VLOOKUP(B396,漢字書き!$A$2:$N$506,6,0))","v":{"$error":"#N/A"}},{"$f":"IF(C396=\"\",\"\",VLOOKUP(C396,漢字書き!$A$2:$N$506,6,0))","v":{"$error":"#N/A"}},{"$f":"IF(D396=\"\",\"\",VLOOKUP(D396,漢字書き!$A$2:$N$506,6,0))","v":{"$error":"#N/A"}},{"$f":"IF(E396=\"\",\"\",VLOOKUP(E396,漢字書き!$A$2:$N$506,6,0))","v":{"$error":"#N/A"}},{"$f":"IF(F396=\"\",\"\",VLOOKUP(F396,漢字書き!$A$2:$N$506,6,0))","v":{"$error":"#N/A"}},{"$f":"IF(G396=\"\",\"\",VLOOKUP(G396,漢字書き!$A$2:$N$506,6,0))","v":{"$error":"#N/A"}},{"$f":"IF(H396=\"\",\"\",VLOOKUP(H396,漢字書き!$A$2:$N$506,6,0))","v":{"$error":"#N/A"}},{"$f":"IF(I396=\"\",\"\",VLOOKUP(I396,漢字書き!$A$2:$N$506,6,0))","v":{"$error":"#N/A"}},{"$f":"IF(J396=\"\",\"\",VLOOKUP(J396,漢字書き!$A$2:$N$506,6,0))","v":{"$error":"#N/A"}},{"$f":"IF(K396=\"\",\"\",VLOOKUP(K396,漢字読み!$A$2:$O$506,6,0))","v":{"$error":"#N/A"}},{"$f":"IF(L396=\"\",\"\",VLOOKUP(L396,漢字読み!$A$2:$O$506,6,0))","v":{"$error":"#N/A"}},{"$f":"IF(M396=\"\",\"\",VLOOKUP(M396,漢字読み!$A$2:$O$506,6,0))","v":{"$error":"#N/A"}},{"$f":"IF(N396=\"\",\"\",VLOOKUP(N396,漢字読み!$A$2:$O$506,6,0))","v":{"$error":"#N/A"}},{"$f":"IF(O396=\"\",\"\",VLOOKUP(O396,漢字読み!$A$2:$O$506,6,0))","v":{"$error":"#N/A"}},{"$f":"IF(P396=\"\",\"\",VLOOKUP(P396,漢字読み!$A$2:$O$506,6,0))","v":{"$error":"#N/A"}},{"$f":"IF(Q396=\"\",\"\",VLOOKUP(Q396,漢字読み!$A$2:$O$506,6,0))","v":{"$error":"#N/A"}},{"$f":"IF(R396=\"\",\"\",VLOOKUP(R396,漢字読み!$A$2:$O$506,6,0))","v":{"$error":"#N/A"}},{"$f":"IF(S396=\"\",\"\",VLOOKUP(S396,漢字読み!$A$2:$O$506,6,0))","v":{"$error":"#N/A"}},{"$f":"IF(T396=\"\",\"\",VLOOKUP(T396,漢字読み!$A$2:$O$506,6,0))","v":{"$error":"#N/A"}},null,"級"]
[{"$f":"IF(A$16=\"\",\"\",VLOOKUP(A396,漢字書き!$A$2:$O$506,8,0))","v":{"$error":"#N/A"}},{"$f":"IF(B$16=\"\",\"\",VLOOKUP(B396,漢字書き!$A$2:$O$506,8,0))","v":{"$error":"#N/A"}},{"$f":"IF(C$16=\"\",\"\",VLOOKUP(C396,漢字書き!$A$2:$O$506,8,0))","v":{"$error":"#N/A"}},{"$f":"IF(D$16=\"\",\"\",VLOOKUP(D396,漢字書き!$A$2:$O$506,8,0))","v":{"$error":"#N/A"}},{"$f":"IF(E$16=\"\",\"\",VLOOKUP(E396,漢字書き!$A$2:$O$506,8,0))","v":{"$error":"#N/A"}},{"$f":"IF(F$16=\"\",\"\",VLOOKUP(F396,漢字書き!$A$2:$O$506,8,0))","v":{"$error":"#N/A"}},{"$f":"IF(G$16=\"\",\"\",VLOOKUP(G396,漢字書き!$A$2:$O$506,8,0))","v":{"$error":"#N/A"}},{"$f":"IF(H$16=\"\",\"\",VLOOKUP(H396,漢字書き!$A$2:$O$506,8,0))","v":{"$error":"#N/A"}},{"$f":"IF(I$16=\"\",\"\",VLOOKUP(I396,漢字書き!$A$2:$O$506,8,0))","v":{"$error":"#N/A"}},{"$f":"IF(J$16=\"\",\"\",VLOOKUP(J396,漢字書き!$A$2:$O$506,8,0))","v":{"$error":"#N/A"}},{"$f":"IF(K$16=\"\",\"\",VLOOKUP(K396,漢字読み!$A$2:$O$506,8,0))","v":{"$error":"#N/A"}},{"$f":"IF(L$16=\"\",\"\",VLOOKUP(L396,漢字読み!$A$2:$O$506,8,0))","v":{"$error":"#N/A"}},{"$f":"IF(M$16=\"\",\"\",VLOOKUP(M396,漢字読み!$A$2:$O$506,8,0))","v":{"$error":"#N/A"}},{"$f":"IF(N$16=\"\",\"\",VLOOKUP(N396,漢字読み!$A$2:$O$506,8,0))","v":{"$error":"#N/A"}},{"$f":"IF(O$16=\"\",\"\",VLOOKUP(O396,漢字読み!$A$2:$O$506,8,0))","v":{"$error":"#N/A"}},{"$f":"IF(P$16=\"\",\"\",VLOOKUP(P396,漢字読み!$A$2:$O$506,8,0))","v":{"$error":"#N/A"}},{"$f":"IF(Q$16=\"\",\"\",VLOOKUP(Q396,漢字読み!$A$2:$O$506,8,0))","v":{"$error":"#N/A"}},{"$f":"IF(R$16=\"\",\"\",VLOOKUP(R396,漢字読み!$A$2:$O$506,8,0))","v":{"$error":"#N/A"}},{"$f":"IF(S$16=\"\",\"\",VLOOKUP(S396,漢字読み!$A$2:$O$506,8,0))","v":{"$error":"#N/A"}},{"$f":"IF(T$16=\"\",\"\",VLOOKUP(T396,漢字読み!$A$2:$O$506,8,0))","v":{"$error":"#N/A"}},null,"名前"]
[{"$f":"IF(A396=\"\",\"\",IF(VLOOKUP(A396,漢字書き!$A$2:$N$502,7,0)=0,\"\",VLOOKUP(A396,漢字書き!$A$2:$N$502,7,0)))","v":{"$error":"#N/A"}},{"$f":"IF(B396=\"\",\"\",IF(VLOOKUP(B396,漢字書き!$A$2:$N$502,7,0)=0,\"\",VLOOKUP(B396,漢字書き!$A$2:$N$502,7,0)))","v":{"$error":"#N/A"}},{"$f":"IF(C396=\"\",\"\",IF(VLOOKUP(C396,漢字書き!$A$2:$N$502,7,0)=0,\"\",VLOOKUP(C396,漢字書き!$A$2:$N$502,7,0)))","v":{"$error":"#N/A"}},{"$f":"IF(D396=\"\",\"\",IF(VLOOKUP(D396,漢字書き!$A$2:$N$502,7,0)=0,\"\",VLOOKUP(D396,漢字書き!$A$2:$N$502,7,0)))","v":{"$error":"#N/A"}},{"$f":"IF(E396=\"\",\"\",IF(VLOOKUP(E396,漢字書き!$A$2:$N$502,7,0)=0,\"\",VLOOKUP(E396,漢字書き!$A$2:$N$502,7,0)))","v":{"$error":"#N/A"}},{"$f":"IF(F396=\"\",\"\",IF(VLOOKUP(F396,漢字書き!$A$2:$N$502,7,0)=0,\"\",VLOOKUP(F396,漢字書き!$A$2:$N$502,7,0)))","v":{"$error":"#N/A"}},{"$f":"IF(G396=\"\",\"\",IF(VLOOKUP(G396,漢字書き!$A$2:$N$502,7,0)=0,\"\",VLOOKUP(G396,漢字書き!$A$2:$N$502,7,0)))","v":{"$error":"#N/A"}},{"$f":"IF(H396=\"\",\"\",IF(VLOOKUP(H396,漢字書き!$A$2:$N$502,7,0)=0,\"\",VLOOKUP(H396,漢字書き!$A$2:$N$502,7,0)))","v":{"$error":"#N/A"}},{"$f":"IF(I396=\"\",\"\",IF(VLOOKUP(I396,漢字書き!$A$2:$N$502,7,0)=0,\"\",VLOOKUP(I396,漢字書き!$A$2:$N$502,7,0)))","v":{"$error":"#N/A"}},{"$f":"IF(J396=\"\",\"\",IF(VLOOKUP(J396,漢字書き!$A$2:$N$502,7,0)=0,\"\",VLOOKUP(J396,漢字書き!$A$2:$N$502,7,0)))","v":{"$error":"#N/A"}},{"$f":"IF(K396=\"\",\"\",IF(VLOOKUP(K396,漢字読み!$A$2:$O$502,7,0)=0,\"\",VLOOKUP(K396,漢字読み!$A$2:$O$502,7,0)))","v":{"$error":"#N/A"}},{"$f":"IF(L396=\"\",\"\",IF(VLOOKUP(L396,漢字読み!$A$2:$O$502,7,0)=0,\"\",VLOOKUP(L396,漢字読み!$A$2:$O$502,7,0)))","v":{"$error":"#N/A"}},{"$f":"IF(M396=\"\",\"\",IF(VLOOKUP(M396,漢字読み!$A$2:$O$502,7,0)=0,\"\",VLOOKUP(M396,漢字読み!$A$2:$O$502,7,0)))","v":{"$error":"#N/A"}},{"$f":"IF(N396=\"\",\"\",IF(VLOOKUP(N396,漢字読み!$A$2:$O$502,7,0)=0,\"\",VLOOKUP(N396,漢字読み!$A$2:$O$502,7,0)))","v":{"$error":"#N/A"}},{"$f":"IF(O396=\"\",\"\",IF(VLOOKUP(O396,漢字読み!$A$2:$O$502,7,0)=0,\"\",VLOOKUP(O396,漢字読み!$A$2:$O$502,7,0)))","v":{"$error":"#N/A"}},{"$f":"IF(P396=\"\",\"\",IF(VLOOKUP(P396,漢字読み!$A$2:$O$502,7,0)=0,\"\",VLOOKUP(P396,漢字読み!$A$2:$O$502,7,0)))","v":{"$error":"#N/A"}},{"$f":"IF(Q396=\"\",\"\",IF(VLOOKUP(Q396,漢字読み!$A$2:$O$502,7,0)=0,\"\",VLOOKUP(Q396,漢字読み!$A$2:$O$502,7,0)))","v":{"$error":"#N/A"}},{"$f":"IF(R396=\"\",\"\",IF(VLOOKUP(R396,漢字読み!$A$2:$O$502,7,0)=0,\"\",VLOOKUP(R396,漢字読み!$A$2:$O$502,7,0)))","v":{"$error":"#N/A"}},{"$f":"IF(S396=\"\",\"\",IF(VLOOKUP(S396,漢字読み!$A$2:$O$502,7,0)=0,\"\",VLOOKUP(S396,漢字読み!$A$2:$O$502,7,0)))","v":{"$error":"#N/A"}},{"$f":"IF(T396=\"\",\"\",IF(VLOOKUP(T396,漢字読み!$A$2:$O$502,7,0)=0,\"\",VLOOKUP(T396,漢字読み!$A$2:$O$502,7,0)))","v":{"$error":"#N/A"}},null,null,"和歌山県教育委員会"]
[{"$f":"INDIRECT(\"'関数（書き）'!C\" & COLUMN(B$1)+SUM($AD$2:$AD402))","v":0},{"$f":"INDIRECT(\"'関数（書き）'!C\" & COLUMN(C$1)+SUM($AD$2:$AD402))","v":0},{"$f":"INDIRECT(\"'関数（書き）'!C\" & COLUMN(D$1)+SUM($AD$2:$AD402))","v":0},{"$f":"INDIRECT(\"'関数（書き）'!C\" & COLUMN(E$1)+SUM($AD$2:$AD402))","v":0},{"$f":"INDIRECT(\"'関数（書き）'!C\" & COLUMN(F$1)+SUM($AD$2:$AD402))","v":0},{"$f":"INDIRECT(\"'関数（書き）'!C\" & COLUMN(G$1)+SUM($AD$2:$AD402))","v":0},{"$f":"INDIRECT(\"'関数（書き）'!C\" & COLUMN(H$1)+SUM($AD$2:$AD402))","v":0},{"$f":"INDIRECT(\"'関数（書き）'!C\" & COLUMN(I$1)+SUM($AD$2:$AD402))","v":0},{"$f":"INDIRECT(\"'関数（書き）'!C\" & COLUMN(J$1)+SUM($AD$2:$AD402))","v":0},{"$f":"INDIRECT(\"'関数（書き）'!C\" & COLUMN(K$1)+SUM($AD$2:$AD402))","v":0},{"$f":"INDIRECT(\"'関数（読み）'!C\" & COLUMN(B$1)+SUM($AD$2:$AD402))","v":0},{"$f":"INDIRECT(\"'関数（読み）'!C\" & COLUMN(C$1)+SUM($AD$2:$AD402))","v":0},{"$f":"INDIRECT(\"'関数（読み）'!C\" & COLUMN(D$1)+SUM($AD$2:$AD402))","v":0},{"$f":"INDIRECT(\"'関数（読み）'!C\" & COLUMN(E$1)+SUM($AD$2:$AD402))","v":0},{"$f":"INDIRECT(\"'関数（読み）'!C\" & COLUMN(F$1)+SUM($AD$2:$AD402))","v":0},{"$f":"INDIRECT(\"'関数（読み）'!C\" & COLUMN(G$1)+SUM($AD$2:$AD402))","v":0},{"$f":"INDIRECT(\"'関数（読み）'!C\" & COLUMN(H$1)+SUM($AD$2:$AD402))","v":0},{"$f":"INDIRECT(\"'関数（読み）'!C\" & COLUMN(I$1)+SUM($AD$2:$AD402))","v":0},{"$f":"INDIRECT(\"'関数（読み）'!C\" & COLUMN(J$1)+SUM($AD$2:$AD402))","v":0},{"$f":"INDIRECT(\"'関数（読み）'!C\" & COLUMN(K$1)+SUM($AD$2:$AD402))","v":0}]
["⑳","⑲","⑱","⑰","⑯","⑮","⑭","⑬","⑫","⑪","⑩","⑨","⑧","⑦","⑥","⑤","④","③","②","①","次の［　　　　］の部分の漢字には読みがなをひらがなで書き、カタカナは漢字に直しなさい。",13,"「漢字の博士検定試験」練習問題　",null,null,null,null,null,"←",10,"問",{"$f":"AH387+1","v":401},"～",{"$f":"SUM($AD$2:$AD402)+10","v":410},"問まで",{"$f":"COUNTIF($A$1:$T$200,T403)","v":0}]
[{"$f":"IF(A401=\"\",\"\",VLOOKUP(A401,漢字書き!$A$2:$N$506,6,0))","v":{"$error":"#N/A"}},{"$f":"IF(B401=\"\",\"\",VLOOKUP(B401,漢字書き!$A$2:$N$506,6,0))","v":{"$error":"#N/A"}},{"$f":"IF(C401=\"\",\"\",VLOOKUP(C401,漢字書き!$A$2:$N$506,6,0))","v":{"$error":"#N/A"}},{"$f":"IF(D401=\"\",\"\",VLOOKUP(D401,漢字書き!$A$2:$N$506,6,0))","v":{"$error":"#N/A"}},{"$f":"IF(E401=\"\",\"\",VLOOKUP(E401,漢字書き!$A$2:$N$506,6,0))","v":{"$error":"#N/A"}},{"$f":"IF(F401=\"\",\"\",VLOOKUP(F401,漢字書き!$A$2:$N$506,6,0))","v":{"$error":"#N/A"}},{"$f":"IF(G401=\"\",\"\",VLOOKUP(G401,漢字書き!$A$2:$N$506,6,0))","v":{"$error":"#N/A"}},{"$f":"IF(H401=\"\",\"\",VLOOKUP(H401,漢字書き!$A$2:$N$506,6,0))","v":{"$error":"#N/A"}},{"$f":"IF(I401=\"\",\"\",VLOOKUP(I401,漢字書き!$A$2:$N$506,6,0))","v":{"$error":"#N/A"}},{"$f":"IF(J401=\"\",\"\",VLOOKUP(J401,漢字書き!$A$2:$N$506,6,0))","v":{"$error":"#N/A"}},{"$f":"IF(K401=\"\",\"\",VLOOKUP(K401,漢字読み!$A$2:$O$506,6,0))","v":{"$error":"#N/A"}},{"$f":"IF(L401=\"\",\"\",VLOOKUP(L401,漢字読み!$A$2:$O$506,6,0))","v":{"$error":"#N/A"}},{"$f":"IF(M401=\"\",\"\",VLOOKUP(M401,漢字読み!$A$2:$O$506,6,0))","v":{"$error":"#N/A"}},{"$f":"IF(N401=\"\",\"\",VLOOKUP(N401,漢字読み!$A$2:$O$506,6,0))","v":{"$error":"#N/A"}},{"$f":"IF(O401=\"\",\"\",VLOOKUP(O401,漢字読み!$A$2:$O$506,6,0))","v":{"$error":"#N/A"}},{"$f":"IF(P401=\"\",\"\",VLOOKUP(P401,漢字読み!$A$2:$O$506,6,0))","v":{"$error":"#N/A"}},{"$f":"IF(Q401=\"\",\"\",VLOOKUP(Q401,漢字読み!$A$2:$O$506,6,0))","v":{"$error":"#N/A"}},{"$f":"IF(R401=\"\",\"\",VLOOKUP(R401,漢字読み!$A$2:$O$506,6,0))","v":{"$error":"#N/A"}},{"$f":"IF(S401=\"\",\"\",VLOOKUP(S401,漢字読み!$A$2:$O$506,6,0))","v":{"$error":"#N/A"}},{"$f":"IF(T401=\"\",\"\",VLOOKUP(T401,漢字読み!$A$2:$O$506,6,0))","v":{"$error":"#N/A"}},null,"級"]
[null,null,null,null,null,null,null,null,null,null,null,null,null,null,null,null,null,null,null,null,null,"名前"]
[{"$f":"IF(A401=\"\",\"\",IF(VLOOKUP(A401,漢字書き!$A$2:$N$502,7,0)=0,\"\",VLOOKUP(A401,漢字書き!$A$2:$N$502,7,0)))","v":{"$error":"#N/A"}},{"$f":"IF(B401=\"\",\"\",IF(VLOOKUP(B401,漢字書き!$A$2:$N$502,7,0)=0,\"\",VLOOKUP(B401,漢字書き!$A$2:$N$502,7,0)))","v":{"$error":"#N/A"}},{"$f":"IF(C401=\"\",\"\",IF(VLOOKUP(C401,漢字書き!$A$2:$N$502,7,0)=0,\"\",VLOOKUP(C401,漢字書き!$A$2:$N$502,7,0)))","v":{"$error":"#N/A"}},{"$f":"IF(D401=\"\",\"\",IF(VLOOKUP(D401,漢字書き!$A$2:$N$502,7,0)=0,\"\",VLOOKUP(D401,漢字書き!$A$2:$N$502,7,0)))","v":{"$error":"#N/A"}},{"$f":"IF(E401=\"\",\"\",IF(VLOOKUP(E401,漢字書き!$A$2:$N$502,7,0)=0,\"\",VLOOKUP(E401,漢字書き!$A$2:$N$502,7,0)))","v":{"$error":"#N/A"}},{"$f":"IF(F401=\"\",\"\",IF(VLOOKUP(F401,漢字書き!$A$2:$N$502,7,0)=0,\"\",VLOOKUP(F401,漢字書き!$A$2:$N$502,7,0)))","v":{"$error":"#N/A"}},{"$f":"IF(G401=\"\",\"\",IF(VLOOKUP(G401,漢字書き!$A$2:$N$502,7,0)=0,\"\",VLOOKUP(G401,漢字書き!$A$2:$N$502,7,0)))","v":{"$error":"#N/A"}},{"$f":"IF(H401=\"\",\"\",IF(VLOOKUP(H401,漢字書き!$A$2:$N$502,7,0)=0,\"\",VLOOKUP(H401,漢字書き!$A$2:$N$502,7,0)))","v":{"$error":"#N/A"}},{"$f":"IF(I401=\"\",\"\",IF(VLOOKUP(I401,漢字書き!$A$2:$N$502,7,0)=0,\"\",VLOOKUP(I401,漢字書き!$A$2:$N$502,7,0)))","v":{"$error":"#N/A"}},{"$f":"IF(J401=\"\",\"\",IF(VLOOKUP(J401,漢字書き!$A$2:$N$502,7,0)=0,\"\",VLOOKUP(J401,漢字書き!$A$2:$N$502,7,0)))","v":{"$error":"#N/A"}},{"$f":"IF(K401=\"\",\"\",IF(VLOOKUP(K401,漢字読み!$A$2:$O$502,7,0)=0,\"\",VLOOKUP(K401,漢字読み!$A$2:$O$502,7,0)))","v":{"$error":"#N/A"}},{"$f":"IF(L401=\"\",\"\",IF(VLOOKUP(L401,漢字読み!$A$2:$O$502,7,0)=0,\"\",VLOOKUP(L401,漢字読み!$A$2:$O$502,7,0)))","v":{"$error":"#N/A"}},{"$f":"IF(M401=\"\",\"\",IF(VLOOKUP(M401,漢字読み!$A$2:$O$502,7,0)=0,\"\",VLOOKUP(M401,漢字読み!$A$2:$O$502,7,0)))","v":{"$error":"#N/A"}},{"$f":"IF(N401=\"\",\"\",IF(VLOOKUP(N401,漢字読み!$A$2:$O$502,7,0)=0,\"\",VLOOKUP(N401,漢字読み!$A$2:$O$502,7,0)))","v":{"$error":"#N/A"}},{"$f":"IF(O401=\"\",\"\",IF(VLOOKUP(O401,漢字読み!$A$2:$O$502,7,0)=0,\"\",VLOOKUP(O401,漢字読み!$A$2:$O$502,7,0)))","v":{"$error":"#N/A"}},{"$f":"IF(P401=\"\",\"\",IF(VLOOKUP(P401,漢字読み!$A$2:$O$502,7,0)=0,\"\",VLOOKUP(P401,漢字読み!$A$2:$O$502,7,0)))","v":{"$error":"#N/A"}},{"$f":"IF(Q401=\"\",\"\",IF(VLOOKUP(Q401,漢字読み!$A$2:$O$502,7,0)=0,\"\",VLOOKUP(Q401,漢字読み!$A$2:$O$502,7,0)))","v":{"$error":"#N/A"}},{"$f":"IF(R401=\"\",\"\",IF(VLOOKUP(R401,漢字読み!$A$2:$O$502,7,0)=0,\"\",VLOOKUP(R401,漢字読み!$A$2:$O$502,7,0)))","v":{"$error":"#N/A"}},{"$f":"IF(S401=\"\",\"\",IF(VLOOKUP(S401,漢字読み!$A$2:$O$502,7,0)=0,\"\",VLOOKUP(S401,漢字読み!$A$2:$O$502,7,0)))","v":{"$error":"#N/A"}},{"$f":"IF(T401=\"\",\"\",IF(VLOOKUP(T401,漢字読み!$A$2:$O$502,7,0)=0,\"\",VLOOKUP(T401,漢字読み!$A$2:$O$502,7,0)))","v":{"$error":"#N/A"}},null,null,"和歌山県教育委員会"]
[{"$f":"INDIRECT(\"'関数（書き）'!C\" & COLUMN(B$1)+SUM($AD$2:$AD407))","v":0},{"$f":"INDIRECT(\"'関数（書き）'!C\" & COLUMN(C$1)+SUM($AD$2:$AD407))","v":0},{"$f":"INDIRECT(\"'関数（書き）'!C\" & COLUMN(D$1)+SUM($AD$2:$AD407))","v":0},{"$f":"INDIRECT(\"'関数（書き）'!C\" & COLUMN(E$1)+SUM($AD$2:$AD407))","v":0},{"$f":"INDIRECT(\"'関数（書き）'!C\" & COLUMN(F$1)+SUM($AD$2:$AD407))","v":0},{"$f":"INDIRECT(\"'関数（書き）'!C\" & COLUMN(G$1)+SUM($AD$2:$AD407))","v":0},{"$f":"INDIRECT(\"'関数（書き）'!C\" & COLUMN(H$1)+SUM($AD$2:$AD407))","v":0},{"$f":"INDIRECT(\"'関数（書き）'!C\" & COLUMN(I$1)+SUM($AD$2:$AD407))","v":0},{"$f":"INDIRECT(\"'関数（書き）'!C\" & COLUMN(J$1)+SUM($AD$2:$AD407))","v":0},{"$f":"INDIRECT(\"'関数（書き）'!C\" & COLUMN(K$1)+SUM($AD$2:$AD407))","v":0},{"$f":"INDIRECT(\"'関数（読み）'!C\" & COLUMN(B$1)+SUM($AD$2:$AD407))","v":0},{"$f":"INDIRECT(\"'関数（読み）'!C\" & COLUMN(C$1)+SUM($AD$2:$AD407))","v":0},{"$f":"INDIRECT(\"'関数（読み）'!C\" & COLUMN(D$1)+SUM($AD$2:$AD407))","v":0},{"$f":"INDIRECT(\"'関数（読み）'!C\" & COLUMN(E$1)+SUM($AD$2:$AD407))","v":0},{"$f":"INDIRECT(\"'関数（読み）'!C\" & COLUMN(F$1)+SUM($AD$2:$AD407))","v":0},{"$f":"INDIRECT(\"'関数（読み）'!C\" & COLUMN(G$1)+SUM($AD$2:$AD407))","v":0},{"$f":"INDIRECT(\"'関数（読み）'!C\" & COLUMN(H$1)+SUM($AD$2:$AD407))","v":0},{"$f":"INDIRECT(\"'関数（読み）'!C\" & COLUMN(I$1)+SUM($AD$2:$AD407))","v":0},{"$f":"INDIRECT(\"'関数（読み）'!C\" & COLUMN(J$1)+SUM($AD$2:$AD407))","v":0},{"$f":"INDIRECT(\"'関数（読み）'!C\" & COLUMN(K$1)+SUM($AD$2:$AD407))","v":0}]
["⑳","⑲","⑱","⑰","⑯","⑮","⑭","⑬","⑫","⑪","⑩","⑨","⑧","⑦","⑥","⑤","④","③","②","①","次の［　　　　］の部分の漢字には読みがなをひらがなで書き、カタカナは漢字に直しなさい。",13,"「漢字の博士検定試験」練習問題　",null,null,null,null,null,"←",10,"問",{"$f":"AH402+1","v":411},"～",{"$f":"SUM($AD$2:$AD407)+10","v":420},"問まで",{"$f":"COUNTIF($A$1:$T$200,T408)","v":0}]
[{"$f":"IF(A406=\"\",\"\",VLOOKUP(A406,漢字書き!$A$2:$N$506,6,0))","v":{"$error":"#N/A"}},{"$f":"IF(B406=\"\",\"\",VLOOKUP(B406,漢字書き!$A$2:$N$506,6,0))","v":{"$error":"#N/A"}},{"$f":"IF(C406=\"\",\"\",VLOOKUP(C406,漢字書き!$A$2:$N$506,6,0))","v":{"$error":"#N/A"}},{"$f":"IF(D406=\"\",\"\",VLOOKUP(D406,漢字書き!$A$2:$N$506,6,0))","v":{"$error":"#N/A"}},{"$f":"IF(E406=\"\",\"\",VLOOKUP(E406,漢字書き!$A$2:$N$506,6,0))","v":{"$error":"#N/A"}},{"$f":"IF(F406=\"\",\"\",VLOOKUP(F406,漢字書き!$A$2:$N$506,6,0))","v":{"$error":"#N/A"}},{"$f":"IF(G406=\"\",\"\",VLOOKUP(G406,漢字書き!$A$2:$N$506,6,0))","v":{"$error":"#N/A"}},{"$f":"IF(H406=\"\",\"\",VLOOKUP(H406,漢字書き!$A$2:$N$506,6,0))","v":{"$error":"#N/A"}},{"$f":"IF(I406=\"\",\"\",VLOOKUP(I406,漢字書き!$A$2:$N$506,6,0))","v":{"$error":"#N/A"}},{"$f":"IF(J406=\"\",\"\",VLOOKUP(J406,漢字書き!$A$2:$N$506,6,0))","v":{"$error":"#N/A"}},{"$f":"IF(K406=\"\",\"\",VLOOKUP(K406,漢字読み!$A$2:$O$506,6,0))","v":{"$error":"#N/A"}},{"$f":"IF(L406=\"\",\"\",VLOOKUP(L406,漢字読み!$A$2:$O$506,6,0))","v":{"$error":"#N/A"}},{"$f":"IF(M406=\"\",\"\",VLOOKUP(M406,漢字読み!$A$2:$O$506,6,0))","v":{"$error":"#N/A"}},{"$f":"IF(N406=\"\",\"\",VLOOKUP(N406,漢字読み!$A$2:$O$506,6,0))","v":{"$error":"#N/A"}},{"$f":"IF(O406=\"\",\"\",VLOOKUP(O406,漢字読み!$A$2:$O$506,6,0))","v":{"$error":"#N/A"}},{"$f":"IF(P406=\"\",\"\",VLOOKUP(P406,漢字読み!$A$2:$O$506,6,0))","v":{"$error":"#N/A"}},{"$f":"IF(Q406=\"\",\"\",VLOOKUP(Q406,漢字読み!$A$2:$O$506,6,0))","v":{"$error":"#N/A"}},{"$f":"IF(R406=\"\",\"\",VLOOKUP(R406,漢字読み!$A$2:$O$506,6,0))","v":{"$error":"#N/A"}},{"$f":"IF(S406=\"\",\"\",VLOOKUP(S406,漢字読み!$A$2:$O$506,6,0))","v":{"$error":"#N/A"}},{"$f":"IF(T406=\"\",\"\",VLOOKUP(T406,漢字読み!$A$2:$O$506,6,0))","v":{"$error":"#N/A"}},null,"級"]
[null,null,null,null,null,null,null,null,null,null,null,null,null,null,null,null,null,null,null,null,null,"名前"]
[{"$f":"IF(A406=\"\",\"\",IF(VLOOKUP(A406,漢字書き!$A$2:$N$502,7,0)=0,\"\",VLOOKUP(A406,漢字書き!$A$2:$N$502,7,0)))","v":{"$error":"#N/A"}},{"$f":"IF(B406=\"\",\"\",IF(VLOOKUP(B406,漢字書き!$A$2:$N$502,7,0)=0,\"\",VLOOKUP(B406,漢字書き!$A$2:$N$502,7,0)))","v":{"$error":"#N/A"}},{"$f":"IF(C406=\"\",\"\",IF(VLOOKUP(C406,漢字書き!$A$2:$N$502,7,0)=0,\"\",VLOOKUP(C406,漢字書き!$A$2:$N$502,7,0)))","v":{"$error":"#N/A"}},{"$f":"IF(D406=\"\",\"\",IF(VLOOKUP(D406,漢字書き!$A$2:$N$502,7,0)=0,\"\",VLOOKUP(D406,漢字書き!$A$2:$N$502,7,0)))","v":{"$error":"#N/A"}},{"$f":"IF(E406=\"\",\"\",IF(VLOOKUP(E406,漢字書き!$A$2:$N$502,7,0)=0,\"\",VLOOKUP(E406,漢字書き!$A$2:$N$502,7,0)))","v":{"$error":"#N/A"}},{"$f":"IF(F406=\"\",\"\",IF(VLOOKUP(F406,漢字書き!$A$2:$N$502,7,0)=0,\"\",VLOOKUP(F406,漢字書き!$A$2:$N$502,7,0)))","v":{"$error":"#N/A"}},{"$f":"IF(G406=\"\",\"\",IF(VLOOKUP(G406,漢字書き!$A$2:$N$502,7,0)=0,\"\",VLOOKUP(G406,漢字書き!$A$2:$N$502,7,0)))","v":{"$error":"#N/A"}},{"$f":"IF(H406=\"\",\"\",IF(VLOOKUP(H406,漢字書き!$A$2:$N$502,7,0)=0,\"\",VLOOKUP(H406,漢字書き!$A$2:$N$502,7,0)))","v":{"$error":"#N/A"}},{"$f":"IF(I406=\"\",\"\",IF(VLOOKUP(I406,漢字書き!$A$2:$N$502,7,0)=0,\"\",VLOOKUP(I406,漢字書き!$A$2:$N$502,7,0)))","v":{"$error":"#N/A"}},{"$f":"IF(J406=\"\",\"\",IF(VLOOKUP(J406,漢字書き!$A$2:$N$502,7,0)=0,\"\",VLOOKUP(J406,漢字書き!$A$2:$N$502,7,0)))","v":{"$error":"#N/A"}},{"$f":"IF(K406=\"\",\"\",IF(VLOOKUP(K406,漢字読み!$A$2:$O$502,7,0)=0,\"\",VLOOKUP(K406,漢字読み!$A$2:$O$502,7,0)))","v":{"$error":"#N/A"}},{"$f":"IF(L406=\"\",\"\",IF(VLOOKUP(L406,漢字読み!$A$2:$O$502,7,0)=0,\"\",VLOOKUP(L406,漢字読み!$A$2:$O$502,7,0)))","v":{"$error":"#N/A"}},{"$f":"IF(M406=\"\",\"\",IF(VLOOKUP(M406,漢字読み!$A$2:$O$502,7,0)=0,\"\",VLOOKUP(M406,漢字読み!$A$2:$O$502,7,0)))","v":{"$error":"#N/A"}},{"$f":"IF(N406=\"\",\"\",IF(VLOOKUP(N406,漢字読み!$A$2:$O$502,7,0)=0,\"\",VLOOKUP(N406,漢字読み!$A$2:$O$502,7,0)))","v":{"$error":"#N/A"}},{"$f":"IF(O406=\"\",\"\",IF(VLOOKUP(O406,漢字読み!$A$2:$O$502,7,0)=0,\"\",VLOOKUP(O406,漢字読み!$A$2:$O$502,7,0)))","v":{"$error":"#N/A"}},{"$f":"IF(P406=\"\",\"\",IF(VLOOKUP(P406,漢字読み!$A$2:$O$502,7,0)=0,\"\",VLOOKUP(P406,漢字読み!$A$2:$O$502,7,0)))","v":{"$error":"#N/A"}},{"$f":"IF(Q406=\"\",\"\",IF(VLOOKUP(Q406,漢字読み!$A$2:$O$502,7,0)=0,\"\",VLOOKUP(Q406,漢字読み!$A$2:$O$502,7,0)))","v":{"$error":"#N/A"}},{"$f":"IF(R406=\"\",\"\",IF(VLOOKUP(R406,漢字読み!$A$2:$O$502,7,0)=0,\"\",VLOOKUP(R406,漢字読み!$A$2:$O$502,7,0)))","v":{"$error":"#N/A"}},{"$f":"IF(S406=\"\",\"\",IF(VLOOKUP(S406,漢字読み!$A$2:$O$502,7,0)=0,\"\",VLOOKUP(S406,漢字読み!$A$2:$O$502,7,0)))","v":{"$error":"#N/A"}},{"$f":"IF(T406=\"\",\"\",IF(VLOOKUP(T406,漢字読み!$A$2:$O$502,7,0)=0,\"\",VLOOKUP(T406,漢字読み!$A$2:$O$502,7,0)))","v":{"$error":"#N/A"}},null,null,"和歌山県教育委員会"]
[{"$f":"A401","v":0},0,0,0,0,0,0,0,0,0,0,0,0,0,0,0,0,0,0,0]
["⑳","⑲","⑱","⑰","⑯","⑮","⑭","⑬","⑫","⑪","⑩","⑨","⑧","⑦","⑥","⑤","④","③","②","①","次の［　　　　］の部分の漢字には読みがなをひらがなで書き、カタカナは漢字に直しなさい。",13,"「漢字の博士検定試験」練習問題　"]
[{"$f":"IF(A411=\"\",\"\",VLOOKUP(A411,漢字書き!$A$2:$N$506,6,0))","v":{"$error":"#N/A"}},{"$f":"IF(B411=\"\",\"\",VLOOKUP(B411,漢字書き!$A$2:$N$506,6,0))","v":{"$error":"#N/A"}},{"$f":"IF(C411=\"\",\"\",VLOOKUP(C411,漢字書き!$A$2:$N$506,6,0))","v":{"$error":"#N/A"}},{"$f":"IF(D411=\"\",\"\",VLOOKUP(D411,漢字書き!$A$2:$N$506,6,0))","v":{"$error":"#N/A"}},{"$f":"IF(E411=\"\",\"\",VLOOKUP(E411,漢字書き!$A$2:$N$506,6,0))","v":{"$error":"#N/A"}},{"$f":"IF(F411=\"\",\"\",VLOOKUP(F411,漢字書き!$A$2:$N$506,6,0))","v":{"$error":"#N/A"}},{"$f":"IF(G411=\"\",\"\",VLOOKUP(G411,漢字書き!$A$2:$N$506,6,0))","v":{"$error":"#N/A"}},{"$f":"IF(H411=\"\",\"\",VLOOKUP(H411,漢字書き!$A$2:$N$506,6,0))","v":{"$error":"#N/A"}},{"$f":"IF(I411=\"\",\"\",VLOOKUP(I411,漢字書き!$A$2:$N$506,6,0))","v":{"$error":"#N/A"}},{"$f":"IF(J411=\"\",\"\",VLOOKUP(J411,漢字書き!$A$2:$N$506,6,0))","v":{"$error":"#N/A"}},{"$f":"IF(K411=\"\",\"\",VLOOKUP(K411,漢字読み!$A$2:$O$506,6,0))","v":{"$error":"#N/A"}},{"$f":"IF(L411=\"\",\"\",VLOOKUP(L411,漢字読み!$A$2:$O$506,6,0))","v":{"$error":"#N/A"}},{"$f":"IF(M411=\"\",\"\",VLOOKUP(M411,漢字読み!$A$2:$O$506,6,0))","v":{"$error":"#N/A"}},{"$f":"IF(N411=\"\",\"\",VLOOKUP(N411,漢字読み!$A$2:$O$506,6,0))","v":{"$error":"#N/A"}},{"$f":"IF(O411=\"\",\"\",VLOOKUP(O411,漢字読み!$A$2:$O$506,6,0))","v":{"$error":"#N/A"}},{"$f":"IF(P411=\"\",\"\",VLOOKUP(P411,漢字読み!$A$2:$O$506,6,0))","v":{"$error":"#N/A"}},{"$f":"IF(Q411=\"\",\"\",VLOOKUP(Q411,漢字読み!$A$2:$O$506,6,0))","v":{"$error":"#N/A"}},{"$f":"IF(R411=\"\",\"\",VLOOKUP(R411,漢字読み!$A$2:$O$506,6,0))","v":{"$error":"#N/A"}},{"$f":"IF(S411=\"\",\"\",VLOOKUP(S411,漢字読み!$A$2:$O$506,6,0))","v":{"$error":"#N/A"}},{"$f":"IF(T411=\"\",\"\",VLOOKUP(T411,漢字読み!$A$2:$O$506,6,0))","v":{"$error":"#N/A"}},null,"級"]
[{"$f":"IF(A$11=\"\",\"\",VLOOKUP(A411,漢字書き!$A$2:$O$506,8,0))","v":{"$error":"#N/A"}},{"$f":"IF(B$11=\"\",\"\",VLOOKUP(B411,漢字書き!$A$2:$O$506,8,0))","v":{"$error":"#N/A"}},{"$f":"IF(C$11=\"\",\"\",VLOOKUP(C411,漢字書き!$A$2:$O$506,8,0))","v":{"$error":"#N/A"}},{"$f":"IF(D$11=\"\",\"\",VLOOKUP(D411,漢字書き!$A$2:$O$506,8,0))","v":{"$error":"#N/A"}},{"$f":"IF(E$11=\"\",\"\",VLOOKUP(E411,漢字書き!$A$2:$O$506,8,0))","v":{"$error":"#N/A"}},{"$f":"IF(F$11=\"\",\"\",VLOOKUP(F411,漢字書き!$A$2:$O$506,8,0))","v":{"$error":"#N/A"}},{"$f":"IF(G$11=\"\",\"\",VLOOKUP(G411,漢字書き!$A$2:$O$506,8,0))","v":{"$error":"#N/A"}},{"$f":"IF(H$11=\"\",\"\",VLOOKUP(H411,漢字書き!$A$2:$O$506,8,0))","v":{"$error":"#N/A"}},{"$f":"IF(I$11=\"\",\"\",VLOOKUP(I411,漢字書き!$A$2:$O$506,8,0))","v":{"$error":"#N/A"}},{"$f":"IF(J$11=\"\",\"\",VLOOKUP(J411,漢字書き!$A$2:$O$506,8,0))","v":{"$error":"#N/A"}},{"$f":"IF(K$11=\"\",\"\",VLOOKUP(K411,漢字読み!$A$2:$O$506,8,0))","v":{"$error":"#N/A"}},{"$f":"IF(L$11=\"\",\"\",VLOOKUP(L411,漢字読み!$A$2:$O$506,8,0))","v":{"$error":"#N/A"}},{"$f":"IF(M$11=\"\",\"\",VLOOKUP(M411,漢字読み!$A$2:$O$506,8,0))","v":{"$error":"#N/A"}},{"$f":"IF(N$11=\"\",\"\",VLOOKUP(N411,漢字読み!$A$2:$O$506,8,0))","v":{"$error":"#N/A"}},{"$f":"IF(O$11=\"\",\"\",VLOOKUP(O411,漢字読み!$A$2:$O$506,8,0))","v":{"$error":"#N/A"}},{"$f":"IF(P$11=\"\",\"\",VLOOKUP(P411,漢字読み!$A$2:$O$506,8,0))","v":{"$error":"#N/A"}},{"$f":"IF(Q$11=\"\",\"\",VLOOKUP(Q411,漢字読み!$A$2:$O$506,8,0))","v":{"$error":"#N/A"}},{"$f":"IF(R$11=\"\",\"\",VLOOKUP(R411,漢字読み!$A$2:$O$506,8,0))","v":{"$error":"#N/A"}},{"$f":"IF(S$11=\"\",\"\",VLOOKUP(S411,漢字読み!$A$2:$O$506,8,0))","v":{"$error":"#N/A"}},{"$f":"IF(T$11=\"\",\"\",VLOOKUP(T411,漢字読み!$A$2:$O$506,8,0))","v":{"$error":"#N/A"}},null,"名前"]
[{"$f":"IF(A411=\"\",\"\",IF(VLOOKUP(A411,漢字書き!$A$2:$N$502,7,0)=0,\"\",VLOOKUP(A411,漢字書き!$A$2:$N$502,7,0)))","v":{"$error":"#N/A"}},{"$f":"IF(B411=\"\",\"\",IF(VLOOKUP(B411,漢字書き!$A$2:$N$502,7,0)=0,\"\",VLOOKUP(B411,漢字書き!$A$2:$N$502,7,0)))","v":{"$error":"#N/A"}},{"$f":"IF(C411=\"\",\"\",IF(VLOOKUP(C411,漢字書き!$A$2:$N$502,7,0)=0,\"\",VLOOKUP(C411,漢字書き!$A$2:$N$502,7,0)))","v":{"$error":"#N/A"}},{"$f":"IF(D411=\"\",\"\",IF(VLOOKUP(D411,漢字書き!$A$2:$N$502,7,0)=0,\"\",VLOOKUP(D411,漢字書き!$A$2:$N$502,7,0)))","v":{"$error":"#N/A"}},{"$f":"IF(E411=\"\",\"\",IF(VLOOKUP(E411,漢字書き!$A$2:$N$502,7,0)=0,\"\",VLOOKUP(E411,漢字書き!$A$2:$N$502,7,0)))","v":{"$error":"#N/A"}},{"$f":"IF(F411=\"\",\"\",IF(VLOOKUP(F411,漢字書き!$A$2:$N$502,7,0)=0,\"\",VLOOKUP(F411,漢字書き!$A$2:$N$502,7,0)))","v":{"$error":"#N/A"}},{"$f":"IF(G411=\"\",\"\",IF(VLOOKUP(G411,漢字書き!$A$2:$N$502,7,0)=0,\"\",VLOOKUP(G411,漢字書き!$A$2:$N$502,7,0)))","v":{"$error":"#N/A"}},{"$f":"IF(H411=\"\",\"\",IF(VLOOKUP(H411,漢字書き!$A$2:$N$502,7,0)=0,\"\",VLOOKUP(H411,漢字書き!$A$2:$N$502,7,0)))","v":{"$error":"#N/A"}},{"$f":"IF(I411=\"\",\"\",IF(VLOOKUP(I411,漢字書き!$A$2:$N$502,7,0)=0,\"\",VLOOKUP(I411,漢字書き!$A$2:$N$502,7,0)))","v":{"$error":"#N/A"}},{"$f":"IF(J411=\"\",\"\",IF(VLOOKUP(J411,漢字書き!$A$2:$N$502,7,0)=0,\"\",VLOOKUP(J411,漢字書き!$A$2:$N$502,7,0)))","v":{"$error":"#N/A"}},{"$f":"IF(K411=\"\",\"\",IF(VLOOKUP(K411,漢字読み!$A$2:$O$502,7,0)=0,\"\",VLOOKUP(K411,漢字読み!$A$2:$O$502,7,0)))","v":{"$error":"#N/A"}},{"$f":"IF(L411=\"\",\"\",IF(VLOOKUP(L411,漢字読み!$A$2:$O$502,7,0)=0,\"\",VLOOKUP(L411,漢字読み!$A$2:$O$502,7,0)))","v":{"$error":"#N/A"}},{"$f":"IF(M411=\"\",\"\",IF(VLOOKUP(M411,漢字読み!$A$2:$O$502,7,0)=0,\"\",VLOOKUP(M411,漢字読み!$A$2:$O$502,7,0)))","v":{"$error":"#N/A"}},{"$f":"IF(N411=\"\",\"\",IF(VLOOKUP(N411,漢字読み!$A$2:$O$502,7,0)=0,\"\",VLOOKUP(N411,漢字読み!$A$2:$O$502,7,0)))","v":{"$error":"#N/A"}},{"$f":"IF(O411=\"\",\"\",IF(VLOOKUP(O411,漢字読み!$A$2:$O$502,7,0)=0,\"\",VLOOKUP(O411,漢字読み!$A$2:$O$502,7,0)))","v":{"$error":"#N/A"}},{"$f":"IF(P411=\"\",\"\",IF(VLOOKUP(P411,漢字読み!$A$2:$O$502,7,0)=0,\"\",VLOOKUP(P411,漢字読み!$A$2:$O$502,7,0)))","v":{"$error":"#N/A"}},{"$f":"IF(Q411=\"\",\"\",IF(VLOOKUP(Q411,漢字読み!$A$2:$O$502,7,0)=0,\"\",VLOOKUP(Q411,漢字読み!$A$2:$O$502,7,0)))","v":{"$error":"#N/A"}},{"$f":"IF(R411=\"\",\"\",IF(VLOOKUP(R411,漢字読み!$A$2:$O$502,7,0)=0,\"\",VLOOKUP(R411,漢字読み!$A$2:$O$502,7,0)))","v":{"$error":"#N/A"}},{"$f":"IF(S411=\"\",\"\",IF(VLOOKUP(S411,漢字読み!$A$2:$O$502,7,0)=0,\"\",VLOOKUP(S411,漢字読み!$A$2:$O$502,7,0)))","v":{"$error":"#N/A"}},{"$f":"IF(T411=\"\",\"\",IF(VLOOKUP(T411,漢字読み!$A$2:$O$502,7,0)=0,\"\",VLOOKUP(T411,漢字読み!$A$2:$O$502,7,0)))","v":{"$error":"#N/A"}},null,null,"和歌山県教育委員会"]
[{"$f":"A406","v":0},0,0,0,0,0,0,0,0,0,0,0,0,0,0,0,0,0,0,0]
["⑳","⑲","⑱","⑰","⑯","⑮","⑭","⑬","⑫","⑪","⑩","⑨","⑧","⑦","⑥","⑤","④","③","②","①","次の［　　　　］の部分の漢字には読みがなをひらがなで書き、カタカナは漢字に直しなさい。",13,"「漢字の博士検定試験」練習問題　"]
[{"$f":"IF(A416=\"\",\"\",VLOOKUP(A416,漢字書き!$A$2:$N$506,6,0))","v":{"$error":"#N/A"}},{"$f":"IF(B416=\"\",\"\",VLOOKUP(B416,漢字書き!$A$2:$N$506,6,0))","v":{"$error":"#N/A"}},{"$f":"IF(C416=\"\",\"\",VLOOKUP(C416,漢字書き!$A$2:$N$506,6,0))","v":{"$error":"#N/A"}},{"$f":"IF(D416=\"\",\"\",VLOOKUP(D416,漢字書き!$A$2:$N$506,6,0))","v":{"$error":"#N/A"}},{"$f":"IF(E416=\"\",\"\",VLOOKUP(E416,漢字書き!$A$2:$N$506,6,0))","v":{"$error":"#N/A"}},{"$f":"IF(F416=\"\",\"\",VLOOKUP(F416,漢字書き!$A$2:$N$506,6,0))","v":{"$error":"#N/A"}},{"$f":"IF(G416=\"\",\"\",VLOOKUP(G416,漢字書き!$A$2:$N$506,6,0))","v":{"$error":"#N/A"}},{"$f":"IF(H416=\"\",\"\",VLOOKUP(H416,漢字書き!$A$2:$N$506,6,0))","v":{"$error":"#N/A"}},{"$f":"IF(I416=\"\",\"\",VLOOKUP(I416,漢字書き!$A$2:$N$506,6,0))","v":{"$error":"#N/A"}},{"$f":"IF(J416=\"\",\"\",VLOOKUP(J416,漢字書き!$A$2:$N$506,6,0))","v":{"$error":"#N/A"}},{"$f":"IF(K416=\"\",\"\",VLOOKUP(K416,漢字読み!$A$2:$O$506,6,0))","v":{"$error":"#N/A"}},{"$f":"IF(L416=\"\",\"\",VLOOKUP(L416,漢字読み!$A$2:$O$506,6,0))","v":{"$error":"#N/A"}},{"$f":"IF(M416=\"\",\"\",VLOOKUP(M416,漢字読み!$A$2:$O$506,6,0))","v":{"$error":"#N/A"}},{"$f":"IF(N416=\"\",\"\",VLOOKUP(N416,漢字読み!$A$2:$O$506,6,0))","v":{"$error":"#N/A"}},{"$f":"IF(O416=\"\",\"\",VLOOKUP(O416,漢字読み!$A$2:$O$506,6,0))","v":{"$error":"#N/A"}},{"$f":"IF(P416=\"\",\"\",VLOOKUP(P416,漢字読み!$A$2:$O$506,6,0))","v":{"$error":"#N/A"}},{"$f":"IF(Q416=\"\",\"\",VLOOKUP(Q416,漢字読み!$A$2:$O$506,6,0))","v":{"$error":"#N/A"}},{"$f":"IF(R416=\"\",\"\",VLOOKUP(R416,漢字読み!$A$2:$O$506,6,0))","v":{"$error":"#N/A"}},{"$f":"IF(S416=\"\",\"\",VLOOKUP(S416,漢字読み!$A$2:$O$506,6,0))","v":{"$error":"#N/A"}},{"$f":"IF(T416=\"\",\"\",VLOOKUP(T416,漢字読み!$A$2:$O$506,6,0))","v":{"$error":"#N/A"}},null,"級"]
[{"$f":"IF(A$16=\"\",\"\",VLOOKUP(A416,漢字書き!$A$2:$O$506,8,0))","v":{"$error":"#N/A"}},{"$f":"IF(B$16=\"\",\"\",VLOOKUP(B416,漢字書き!$A$2:$O$506,8,0))","v":{"$error":"#N/A"}},{"$f":"IF(C$16=\"\",\"\",VLOOKUP(C416,漢字書き!$A$2:$O$506,8,0))","v":{"$error":"#N/A"}},{"$f":"IF(D$16=\"\",\"\",VLOOKUP(D416,漢字書き!$A$2:$O$506,8,0))","v":{"$error":"#N/A"}},{"$f":"IF(E$16=\"\",\"\",VLOOKUP(E416,漢字書き!$A$2:$O$506,8,0))","v":{"$error":"#N/A"}},{"$f":"IF(F$16=\"\",\"\",VLOOKUP(F416,漢字書き!$A$2:$O$506,8,0))","v":{"$error":"#N/A"}},{"$f":"IF(G$16=\"\",\"\",VLOOKUP(G416,漢字書き!$A$2:$O$506,8,0))","v":{"$error":"#N/A"}},{"$f":"IF(H$16=\"\",\"\",VLOOKUP(H416,漢字書き!$A$2:$O$506,8,0))","v":{"$error":"#N/A"}},{"$f":"IF(I$16=\"\",\"\",VLOOKUP(I416,漢字書き!$A$2:$O$506,8,0))","v":{"$error":"#N/A"}},{"$f":"IF(J$16=\"\",\"\",VLOOKUP(J416,漢字書き!$A$2:$O$506,8,0))","v":{"$error":"#N/A"}},{"$f":"IF(K$16=\"\",\"\",VLOOKUP(K416,漢字読み!$A$2:$O$506,8,0))","v":{"$error":"#N/A"}},{"$f":"IF(L$16=\"\",\"\",VLOOKUP(L416,漢字読み!$A$2:$O$506,8,0))","v":{"$error":"#N/A"}},{"$f":"IF(M$16=\"\",\"\",VLOOKUP(M416,漢字読み!$A$2:$O$506,8,0))","v":{"$error":"#N/A"}},{"$f":"IF(N$16=\"\",\"\",VLOOKUP(N416,漢字読み!$A$2:$O$506,8,0))","v":{"$error":"#N/A"}},{"$f":"IF(O$16=\"\",\"\",VLOOKUP(O416,漢字読み!$A$2:$O$506,8,0))","v":{"$error":"#N/A"}},{"$f":"IF(P$16=\"\",\"\",VLOOKUP(P416,漢字読み!$A$2:$O$506,8,0))","v":{"$error":"#N/A"}},{"$f":"IF(Q$16=\"\",\"\",VLOOKUP(Q416,漢字読み!$A$2:$O$506,8,0))","v":{"$error":"#N/A"}},{"$f":"IF(R$16=\"\",\"\",VLOOKUP(R416,漢字読み!$A$2:$O$506,8,0))","v":{"$error":"#N/A"}},{"$f":"IF(S$16=\"\",\"\",VLOOKUP(S416,漢字読み!$A$2:$O$506,8,0))","v":{"$error":"#N/A"}},{"$f":"IF(T$16=\"\",\"\",VLOOKUP(T416,漢字読み!$A$2:$O$506,8,0))","v":{"$error":"#N/A"}},null,"名前"]
[{"$f":"IF(A416=\"\",\"\",IF(VLOOKUP(A416,漢字書き!$A$2:$N$502,7,0)=0,\"\",VLOOKUP(A416,漢字書き!$A$2:$N$502,7,0)))","v":{"$error":"#N/A"}},{"$f":"IF(B416=\"\",\"\",IF(VLOOKUP(B416,漢字書き!$A$2:$N$502,7,0)=0,\"\",VLOOKUP(B416,漢字書き!$A$2:$N$502,7,0)))","v":{"$error":"#N/A"}},{"$f":"IF(C416=\"\",\"\",IF(VLOOKUP(C416,漢字書き!$A$2:$N$502,7,0)=0,\"\",VLOOKUP(C416,漢字書き!$A$2:$N$502,7,0)))","v":{"$error":"#N/A"}},{"$f":"IF(D416=\"\",\"\",IF(VLOOKUP(D416,漢字書き!$A$2:$N$502,7,0)=0,\"\",VLOOKUP(D416,漢字書き!$A$2:$N$502,7,0)))","v":{"$error":"#N/A"}},{"$f":"IF(E416=\"\",\"\",IF(VLOOKUP(E416,漢字書き!$A$2:$N$502,7,0)=0,\"\",VLOOKUP(E416,漢字書き!$A$2:$N$502,7,0)))","v":{"$error":"#N/A"}},{"$f":"IF(F416=\"\",\"\",IF(VLOOKUP(F416,漢字書き!$A$2:$N$502,7,0)=0,\"\",VLOOKUP(F416,漢字書き!$A$2:$N$502,7,0)))","v":{"$error":"#N/A"}},{"$f":"IF(G416=\"\",\"\",IF(VLOOKUP(G416,漢字書き!$A$2:$N$502,7,0)=0,\"\",VLOOKUP(G416,漢字書き!$A$2:$N$502,7,0)))","v":{"$error":"#N/A"}},{"$f":"IF(H416=\"\",\"\",IF(VLOOKUP(H416,漢字書き!$A$2:$N$502,7,0)=0,\"\",VLOOKUP(H416,漢字書き!$A$2:$N$502,7,0)))","v":{"$error":"#N/A"}},{"$f":"IF(I416=\"\",\"\",IF(VLOOKUP(I416,漢字書き!$A$2:$N$502,7,0)=0,\"\",VLOOKUP(I416,漢字書き!$A$2:$N$502,7,0)))","v":{"$error":"#N/A"}},{"$f":"IF(J416=\"\",\"\",IF(VLOOKUP(J416,漢字書き!$A$2:$N$502,7,0)=0,\"\",VLOOKUP(J416,漢字書き!$A$2:$N$502,7,0)))","v":{"$error":"#N/A"}},{"$f":"IF(K416=\"\",\"\",IF(VLOOKUP(K416,漢字読み!$A$2:$O$502,7,0)=0,\"\",VLOOKUP(K416,漢字読み!$A$2:$O$502,7,0)))","v":{"$error":"#N/A"}},{"$f":"IF(L416=\"\",\"\",IF(VLOOKUP(L416,漢字読み!$A$2:$O$502,7,0)=0,\"\",VLOOKUP(L416,漢字読み!$A$2:$O$502,7,0)))","v":{"$error":"#N/A"}},{"$f":"IF(M416=\"\",\"\",IF(VLOOKUP(M416,漢字読み!$A$2:$O$502,7,0)=0,\"\",VLOOKUP(M416,漢字読み!$A$2:$O$502,7,0)))","v":{"$error":"#N/A"}},{"$f":"IF(N416=\"\",\"\",IF(VLOOKUP(N416,漢字読み!$A$2:$O$502,7,0)=0,\"\",VLOOKUP(N416,漢字読み!$A$2:$O$502,7,0)))","v":{"$error":"#N/A"}},{"$f":"IF(O416=\"\",\"\",IF(VLOOKUP(O416,漢字読み!$A$2:$O$502,7,0)=0,\"\",VLOOKUP(O416,漢字読み!$A$2:$O$502,7,0)))","v":{"$error":"#N/A"}},{"$f":"IF(P416=\"\",\"\",IF(VLOOKUP(P416,漢字読み!$A$2:$O$502,7,0)=0,\"\",VLOOKUP(P416,漢字読み!$A$2:$O$502,7,0)))","v":{"$error":"#N/A"}},{"$f":"IF(Q416=\"\",\"\",IF(VLOOKUP(Q416,漢字読み!$A$2:$O$502,7,0)=0,\"\",VLOOKUP(Q416,漢字読み!$A$2:$O$502,7,0)))","v":{"$error":"#N/A"}},{"$f":"IF(R416=\"\",\"\",IF(VLOOKUP(R416,漢字読み!$A$2:$O$502,7,0)=0,\"\",VLOOKUP(R416,漢字読み!$A$2:$O$502,7,0)))","v":{"$error":"#N/A"}},{"$f":"IF(S416=\"\",\"\",IF(VLOOKUP(S416,漢字読み!$A$2:$O$502,7,0)=0,\"\",VLOOKUP(S416,漢字読み!$A$2:$O$502,7,0)))","v":{"$error":"#N/A"}},{"$f":"IF(T416=\"\",\"\",IF(VLOOKUP(T416,漢字読み!$A$2:$O$502,7,0)=0,\"\",VLOOKUP(T416,漢字読み!$A$2:$O$502,7,0)))","v":{"$error":"#N/A"}},null,null,"和歌山県教育委員会"]

{"sheet":"漢字読み","index":2,"n_rows":245,"n_cols":9,"rows_kept":245,"cut":false,"hidden":false,"merged":[]}
["通し番号","問題番号","漢字","読み","音訓","問題","送り仮名","読み","間違いやすい漢字"]
[1,1,"銀","ギン",1,"［銀］メダルをとる",null,"ぎん"]
[2,1,"銀","ギン",1,"一めんの［銀世界］",null,"ぎんせかい"]
[3,1,"銀","ギン",1,"［金銀］のメダル",null,"きんぎん"]
[4,2,"区","ク",1,"［地区］のそうじ",null,"ちく"]
[5,2,"区","ク",1,"［区切］りがよい","り","くぎ"]
[6,3,"苦","ク",1,"［苦］は楽のたね",null,"く"]
[7,3,"苦","ク",2,"息が［苦］しい","しい","くる"]
[8,3,"苦","クン",2,"［苦］いくすり","い","にが"]
[9,4,"具","グ",1,"［道具］を使う",null,"どうぐ"]
[10,4,"具","グ",1,"［雨具］を使う",null,"あまぐ","☆"]
[11,4,"具","グ",1,"［家具］を買う",null,"かぐ"]
[12,5,"君","クン",1,"国家の［君主］",null,"くんしゅ","☆"]
[13,5,"君","クン",2,"［君］のとなり",null,"きみ"]
[14,6,"係","ケイ",1,"自分にかん［係］ない","ない","けい"]
[15,6,"係","ケイ",2,"図書［係］になる",null,"がかり"]
[16,6,"係","ケイ",2,"この語は下の語に［係］る","る","かか"]
[17,7,"軽","ケイ",1,"［軽音楽］を聞く",null,"けいおんがく","☆"]
[18,7,"軽","ケイ",2,"［軽］いかばん","い","かる"]
[19,8,"血","ケツ",1,"けがで［出血］する","する","しゅっけつ"]
[20,8,"血","ケツ",2,"［血］が出る",null,"ち"]
[21,9,"決","ケツ",1,"［決心］をする",null,"けっしん"]
[22,9,"決","ケツ",1,"新年の［決意］",null,"けつい"]
[23,9,"決","ケツ",2,"［決］まりを守る","まり","き"]
[24,10,"研","ケン",1,"ことばの［研究］",null,"けんきゅう"]
[25,10,"研","ケン",1,"[研]しゅうを受ける","しゅう","けん"]
[26,11,"県","ケン",1,"［県］の公園",null,"けん"]
[27,11,"県","ケン",1,"［県立］体育館",null,"けんりつ"]
[28,12,"庫","コ",1,"［車庫］に入れる",null,"しゃこ"]
[29,12,"庫","コ",1,"学級［文庫］",null,"ぶんこ"]
[30,13,"湖","コ",1,"［湖上］の船",null,"こじょう","☆"]
[31,13,"湖","コ",2,"大きな［湖］",null,"みずうみ"]
[32,13,"湖","コ",2,"［湖］のほとり",null,"みずうみ"]
[33,14,"向","コウ",1,"意よくの［向上］",null,"こうじょう"]
[34,14,"向","コウ",2,"［向］かい風の中","かい","む"]
[35,14,"向","コウ",2,"そっぽを［向］く","く","む"]
[36,15,"幸","コウ",1,"ふ幸中の［幸］いだ","い","さいわ"]
[37,15,"幸","コウ",2,"［幸］せにくらす","せ","しあわ"]
[38,16,"港","コウ",1,"船が［入港］する","する","にゅうこう"]
[39,16,"港","コウ",1,"［空港］につく",null,"くうこう"]
[40,16,"港","コウ",2,"［港町］の人々",null,"みなとまち"]
[41,17,"号","ゴウ",1,"バスの［一号］車","車","いちごう"]
[42,17,"号","ゴウ",1,"メイフラワー［号］に乗る",null,"ごう"]
[43,18,"根","コン",1,"チューリップの［球根］",null,"きゅうこん"]
[44,18,"根","コン",2,"［根］をはる",null,"ね"]
[45,18,"根","コン",2,"［根強］い人気","い","ねづよ"]
[46,19,"祭","サイ",1,"［体育祭］の行事",null,"たいいくさい"]
[47,19,"祭","サイ",2,"［祭］りばやし","り","まつ"]
[48,20,"皿","さら",2,"［皿］をわる",null,"さら"]
[49,20,"皿","さら",2,"スープ［皿］",null,"ざら"]
[50,21,"仕","シ",1,"［仕事］を決める",null,"しごと"]
[51,21,"仕","シ",2,"王さまに［仕］える","える","つか"]
[52,22,"死","シ",1,"［生死］のさかいめ",null,"せいし"]
[53,22,"死","シ",2,"ペットが［死］ぬ","ぬ","し"]
[54,23,"使","シ",1,"［天使］が下りてくる",null,"てんし"]
[55,23,"使","シ",1,"祭りの［使者］",null,"ししゃ"]
[56,23,"使","シ",2,"神の［使］い","い","つか"]
[57,23,"使","シ",2,"運動場を［使］う","う","つか"]
[58,24,"始","シ",1,"テストを［開始］する","する","かいし"]
[59,24,"始","シ",1,"工場が［始動］する","する","しどう","☆"]
[60,24,"始","シ",2,"じゅぎょうを［始］める","める","はじ"]
[61,25,"指","シ",1,"オーケストラの［指］き","き","し"]
[62,25,"指","ショウ",1,"相手を［指名］する","する","しめい"]
[63,25,"指","シ",2,"つき［指］をする",null,"ゆび"]
[64,25,"指","シ",2,"コンパスが北を［指］す","す","さ"]
[65,26,"歯","シ",1,"［歯科］けんしんの時間",null,"しか"]
[66,26,"歯","シ",2,"［歯医者］に行く",null,"はいしゃ"]
[67,26,"歯","シ",1,"にゅう［歯］が生える",null,"し"]
[68,26,"歯","シ",2,"［歯］がいたむ",null,"は"]
[69,27,"詩","シ",1,"長い［詩］を読む",null,"し"]
[70,27,"詩","シ",1,"［詩］を書く",null,"し"]
[71,28,"次","ジ",1,"[次回]ちょうせんする",null,"じかい"]
[72,28,"次","ジ",1,"［目次］からさがす",null,"もくじ"]
[73,28,"次","ジ",2,"［次］のページ",null,"つぎ"]
[74,29,"事","ジ",1,"先生の［仕事］",null,"しごと"]
[75,29,"事","ジ",2,"新しい［事］がら","がら","こと"]
[76,31,"式","シキ",1,"入学［式］のあいさつ",null,"しき"]
[77,31,"式","シキ",1,"かけ算の［式］",null,"しき"]
[78,31,"式","シキ",1,"新しい［方式］",null,"ほうしき"]
[79,32,"実","ジツ",1,"［事実］をたしかめる",null,"じじつ"]
[80,32,"実","ジツ",1,"［実］けんはおもしろい","けん","じっ"]
[81,32,"実","ジツ",2,"木の［実］をとる",null,"み"]
[82,32,"実","ジツ",2,"［実］がなる",null,"み"]
[83,33,"写","シャ",1,"［写真］をとる",null,"しゃしん"]
[84,33,"写","シャ",1,"書き［写］した文字","した","うつ"]
[85,34,"者","シャ",1,"［学者］の考え",null,"がくしゃ"]
[86,34,"者","シャ",2,"［何者］かがいる",null,"なにもの"]
[87,35,"主","シュ",1,"店の［主人］",null,"しゅじん"]
[88,35,"主","シュ",2,"［主］な生きもの","な","おも"]
[89,35,"主","シュ",2,"池の［主］の大ナマズ",null,"ぬし","☆"]
[90,36,"守","シュ",1,"ボールを［死守］する","する","ししゅ","☆"]
[91,36,"守","シュ",2,"決まりを［守］る","る","まも"]
[92,36,"守","シュ",2,"お[守]りを持つ","り","まも"]
[93,37,"取","シュ",1,"テレビの［取］ざい","ざい","しゅ"]
[94,37,"取","シュ",2,"おもちゃを［取］る","る","と"]
[95,38,"酒","シュ",1,"うめ［酒］を飲む",null,"しゅ"]
[96,38,"酒","シュ",2,"［酒］のさかな",null,"さけ"]
[97,40,"州","シュウ",1,"［九州］のいとこ",null,"きゅうしゅう"]
[98,40,"州","シュウ",1,"[本州]へわたる",null,"ほんしゅう"]
[99,41,"拾","シュウ",2,"さいふを［拾］う","う","ひろ"]
[100,42,"終","シュウ",1,"［終点］まで行く",null,"しゅうてん"]
[101,42,"終","シュウ",2,"宿題を［終］える","える","お"]
[102,43,"習","シュウ",1,"毎日の［習］かん","かん","しゅう"]
[103,43,"習","シュウ",2,"ピアノを［習］う","う","なら"]
[104,43,"習","シュウ",2,"土地の［習］わし","わし","なら","☆"]
[105,44,"集","シュウ",1,"［集合］場所を決める",null,"しゅうごう"]
[106,44,"集","シュウ",1,"プルタブを［集］める","める","あつ"]
[107,44,"集","シュウ",2,"人がたくさん［集］まる","まる","あつ"]
[108,44,"集","シュウ",1,"文学[全集]を買う",null,"ぜんしゅう","☆"]
[109,45,"住","ジュウ",1,"［住所］と名前を書く",null,"じゅうしょ"]
[110,45,"住","ジュウ",2,"マンションに［住］む","む","す"]
[111,46,"重","ジュウ",1,"［体重］をはかる",null,"たいじゅう"]
[112,46,"重","ジュウ",2,"行事が［重］なる","なる","かさ"]
[113,47,"宿","シュク",1,"［宿］はく先をさがす","はく","しゅく"]
[114,47,"宿","シュク",2,"［宿］にとまる",null,"やど"]
[115,48,"所","ショ",1,"［所定］の場所におく",null,"しょてい"]
[116,48,"所","ショ",2," すてきな［台所］",null,"だいどころ"]
[117,49,"暑","ショ",1,"［暑中］見まい",null,"しょちゅう"]
[118,49,"暑","ショ",2,"たえられない［暑］さ","さ","あつ"]
[119,50,"助","ジョ",1,"［助手］が来る",null,"じょしゅ"]
[120,50,"助","ジョ",2,"友だちを［助］ける","ける","たす"]
[121,50,"助","ジョ",2,"［助］けをもとめる","け","たす"]
[122,51,"昭","ショウ",1,"［昭］わ時代","わ","しょう"]
[123,52,"消","ショウ",1,"早く［消火］する","する","しょうか"]
[124,52,"消","ショウ",2,"火が［消］える","える","き"]
[125,53,"商","ショウ",1,"［商店］がいへ行く","がい","しょうてん"]
[126,53,"商","ショウ",1,"［商売］をする",null,"しょうばい"]
[127,53,"商","ショウ",1,"[商人]に会う",null,"しょうにん"]
[128,54,"章","ショウ",1,"お話のさい終［章］",null,"しょう"]
[129,55,"勝","ショウ",1,"［全勝］をする",null,"ぜんしょう"]
[130,55,"勝","ショウ",2,"大会で［勝］つ","つ","か"]
[131,56,"乗","ジョウ",1,"［乗馬］をたのしむ",null,"じょうば"]
[132,56,"乗","ジョウ",2,"船に［乗］る","る","の"]
[133,57,"植","ショク",1,"森林の［植］ぶつ","ぶつ","しょく"]
[134,57,"植","ショク",2,"木を［植］える","える","う"]
[135,58,"申","シン",2,"一言［申］し上げる","し","もう"]
[136,58,"申","シン",2,"入会を［申］しこむ","しこむ","もう"]
[137,59,"身","シン",1,"［長身］の人",null,"ちょうしん"]
[138,59,"身","シン",2,"［身］の上話","の上","み"]
[139,60,"神","シン",1,"ギリシア［神話］",null,"しんわ"]
[140,60,"神","シン",1,"［神社］にまいる",null,"じんじゃ"]
[141,60,"神","シン",2,"トイレの［神］さま","さま","かみ"]
[142,61,"真","シン",1,"［真］けんにがんばる","けん","しん"]
[143,61,"真","シン",2,"［真］っ暗やみ","っ暗","ま"]
[144,61,"真","シン",2,"［真心］をこめる",null,"まごころ"]
[145,62,"深","シン",1,"［深夜］の町",null,"しんや","☆"]
[146,62,"深","シン",2,"［深］い谷のそこ","い","ふか"]
[147,63,"進","シン",1,"日々［進歩］する","する","しんぽ"]
[148,63,"進","シン",2,"どんどん［進］む","む","すす"]
[149,64,"世","セ",1,"［世］の中に出る","の中","よ"]
[150,64,"世","セ",2,"［世界］の子どもたち",null,"せかい"]
[151,65,"整","セイ",1,"本の［整理］をする",null,"せいり"]
[152,65,"整","セイ",2,"本を［整］える","える","ととの"]
[153,65,"整","セイ",2,"じゅんびが［整］う","う","ととの"]
[154,66,"昔","セキ",2,"[昔話]を聞く",null,"むかしばなし"]
[155,66,"昔","セキ",2,"［昔］のくらし",null,"むかし"]
[156,67,"全","ゼン",1,"［全体］にわたる",null,"ぜんたい"]
[157,67,"全","ゼン",1,"クラス［全員］",null,"ぜんいん"]
[158,67,"全","ゼン",2,"［全］く知らない","く","まった"]
[159,67,"全","ゼン",2,"［全］て手ばなす","て","すべ"]
[160,68,"相","ソウ",1,"グループで［相談］する","する","そうだん"]
[161,68,"相","ソウ",2,"［相手］にしない",null,"あいて"]
[162,69,"送","ソウ",1,"車で［送］げいしてもらう","げい","そう"]
[163,69,"送","ソウ",2,"プレゼントを［送］る","る","おく"]
[164,70,"想","ソウ",1,"［感想］をのべる",null,"かんそう"]
[165,71,"息","ソク",1,"［休息］をとる",null,"きゅうそく"]
[166,71,"息","ソク",1,"［安息］日をとる","日","あんそく","☆"]
[167,71,"息","ソク",2,"［息］をはく",null,"いき"]
[168,72,"速","ソク",1,"［時速］六十キロ",null,"じそく"]
[169,72,"速","ソク",2,"［速］く走る","く","はや"]
[170,73,"族","ゾク",1,"［家族］と出かける",null,"かぞく"]
[171,73,"族","ゾク",1,"［水族館］に行く",null,"すいぞくかん"]
[172,74,"他","タ",1,"その［他］の意見",null,"た"]
[173,74,"他","タ",2,"［他］にありませんか",null,"ほか"]
[174,75,"打","ダ",1,"［打開］さくを考える","さく","だかい","☆"]
[175,75,"打","ダ",2,"くぎを［打］つ","つ","う"]
[176,76,"対","タイ",1,"［対立］した意見","した","たいりつ"]
[177,76,"対","タイ",1,"３［対］１で勝つ",null,"たい"]
[178,76,"対","タイ",1,"はん[対]の意見",null,"たい"]
[179,77,"待","タイ",1,"［期待］して見守る","して","きたい"]
[180,77,"待","タイ",2,"［待］ちぼうけをくらう","ち","ま"]
[181,77,"待","タイ",2,"［待］ち遠しい思い","ち","ま"]
[182,78,"代","ダイ",1,"母親の［代理］",null,"だいり"]
[183,78,"代","ダイ",1,"［世代］がちがう",null,"せだい"]
[184,78,"代","ダイ",1,"［交代］をする",null,"こうたい"]
[185,78,"代","ダイ",2,"君が［代］を歌う",null,"よ"]
[186,78,"代","ダイ",2,"ピッチャーを［代］える","える","か"]
[187,78,"代","ダイ",2,"［代］わりに行きます","わり","か"]
[188,79,"第","ダイ",1,"［第一号］のホームラン",null,"だいいちごう"]
[189,80,"題","ダイ",1,"［宿題］をする",null,"しゅくだい"]
[190,80,"題","ダイ",1,"すきな本の［題名］",null,"だいめい"]
[191,80,"題","ダイ",1,"［問題］がむずかしい",null,"もんだい"]
[192,81,"炭","タン",1,"［石炭］をもやす",null,"せきたん"]
[193,81,"炭","タン",2,"［炭］をやく",null,"すみ"]
[194,82,"短","タン",1,"一長［一短］ある",null,"いったん"]
[195,82,"短","タン",2,"［短］いひも","い","みじか"]
[196,83,"談","ダン",1,"先生に［相談］をする",null,"そうだん"]
[197,84,"着","チャク",1,"上手に［着地］する","する","ちゃくち"]
[198,84,"着","チャク",2,"駅に［着］く","く","つ"]
[199,84,"着","チャク",2,"ふくを［着］る","る","き"]
[200,84,"着","チャク",2,"［上着］をかける",null,"うわぎ"]
[201,85,"注","チュウ",1,"ジュースを［注文］する","する","ちゅうもん"]
[202,85,"注","チュウ",1,"先生に［注目］する","する","ちゅうもく"]
[203,85,"注","チュウ",1,"［注］しゃする","しゃ","ちゅう"]
[204,85,"注","チュウ",2,"火にあぶらを［注］ぐ","ぐ","そそ"]
[205,86,"柱","チュウ",1,"［電柱］のかげ",null,"でんちゅう"]
[206,86,"柱","チュウ",2,"［柱］にしるしをつける",null,"はしら"]
[207,87,"丁","チョウ",1,"ほう[丁]で切る",null,"ちょう"]
[208,87,"丁","チョウ",1,"三［丁目］にいる",null,"ちょうめ"]
[209,88,"帳","チョウ",1,"れんらく［帳］",null,"ちょう"]
[210,88,"帳","チョウ",1,"［手帳］に書きこむ",null,"てちょう"]
[211,89,"調","チョウ",1,"［調子］が悪い",null,"ちょうし"]
[212,89,"調","チョウ",2,"［温度］を調べる",null,"おんど"]
[213,90,"追","ツイ",1,"真実を［追究］する","する","ついきゅう"]
[214,90,"追","ツイ",2,"はん人を［追］う","う","お"]
[215,91,"定","テイ",1,"［定番］のおかず",null,"ていばん"]
[216,91,"定","テイ",1,"三角［定］ぎを使う","ぎ","じょう"]
[217,91,"定","テイ",2,"目ひょうを［定］める","める","さだ"]
[218,91,"定","テイ",2,"本当か［定］かではない","か","さだ"]
[219,91,"定","テイ",2,"［定］まった場所におく","まった","さだ"]
[220,92,"庭","テイ",1,"［校庭］の花だん",null,"こうてい"]
[221,92,"庭","テイ",2,"［庭］の草をぬく",null,"にわ"]
[222,92,"庭","テイ",2,"［中庭］に集まる",null,"なかにわ"]
[223,93,"笛","テキ",1,"［汽笛］が鳴る",null,"きてき"]
[224,93,"笛","テキ",2,"［笛］の音",null,"ふえ"]
[225,93,"笛","テキ",2,"たて［笛］をふく",null,"ぶえ"]
[226,94,"鉄","テツ",1,"［鉄］のとびら",null,"てつ"]
[227,94,"鉄","テツ",1,"［鉄分］の多い食べもの",null,"てつぶん"]
[228,94,"鉄","テツ",1,"［鉄橋］をわたる",null,"てっきょう"]
[229,95,"転","テン",1,"［転校］した友人","した","てんこう"]
[230,95,"転","テン",1,"［回転］木馬",null,"かいてん"]
[231,95,"転","テン",2,"ボールが［転］がる","がる","ころ"]
[232,95,"転","テン",2,"つまづいて［転］ぶ","ぶ","ころ"]
[233,96,"都","ト",1,"［都合］が悪い",null,"つごう"]
[234,96,"都","ト",1,"［都会］でくらす",null,"とかい"]
[235,96,"都","ト",2,"日本の［都］",null,"みやこ","☆"]
[236,97,"度","ド",1,"［度］をこえた出来事",null,"ど"]
[237,97,"度","ド",1,"［感度］を上げる",null,"かんど"]
[238,98,"投","トウ",1,"［投手］の活やく",null,"とうしゅ"]
[239,98,"投","トウ",2,"ボールを［投］げる","げる","な"]
[240,99,"豆","トウ",1,"［豆］ふを食べる","ふ","とう"]
[241,99,"豆","トウ",2,"［豆］の木",null,"まめ"]
[242,100,"島","トウ",1,"［島］へわたる",null,"しま"]
[243,100,"島","トウ",2,"日本は［島国］だ",null,"しまぐに"]
[244,100,"島","トウ",2,"はなれ［小島］に住む",null,"こじま"]

{"sheet":"漢字書き","index":3,"n_rows":437,"n_cols":9,"rows_kept":437,"cut":false,"hidden":false,"merged":[]}
["通し番号","問題番号","漢字","読み","音訓","問題","送り仮名","漢字","間違えやすい漢字"]
[1,1,"銀","ギン",1,"［ギン］メダルをとる","メダル","銀"]
[2,1,"銀","ギン",1,"［ギン］のスプーン",null,"銀"]
[3,1,"銀","ギン",1,"［ギンコウ］の前",null,"銀行"]
[4,2,"区","ク",1,"［クギ］りをつける","り","区切"]
[5,2,"区","ク",1,"［チク］の会合に出る",null,"地区"]
[6,3,"苦","ク",1,"［クシン］して作る","して","苦心","☆"]
[7,3,"苦","ク",2,"［クル］しい思いをする","しい","苦"]
[8,3,"苦","ク",2,"［ニガ］いくすり","い","苦"]
[9,4,"具","グ",1,"［ドウグ］を大切にする",null,"道具"]
[10,4,"具","グ",1,"絵の［グ］でぬる",null,"具"]
[11,5,"君","クン",1,"［クンシュ］せいの国","せい","君主","☆"]
[12,5,"君","クン",2,"［キミ］も来ないか",null,"君"]
[13,6,"係","ケイ",1,"君とはかん［ケイ］ない","ない","係"]
[14,6,"係","ケイ",2,"教科の［カカリ］を決める",null,"係"]
[15,6,"係","ケイ",2,"安全に［カカ］る","る","係"]
[16,7,"軽","ケイ",1,"［ケイ］自どう車",null,"軽"]
[17,7,"軽","ケイ",1,"［ケイ］かいなステップ","かいな","軽","☆"]
[18,7,"軽","ケイ",2,"［カル］く考えすぎた","く","軽"]
[19,7,"軽","ケイ",2,"［カル］い運どう","い","軽"]
[20,7,"軽","ケイ",2,"[テガル]に持ち運ぶ","に","手軽"]
[21,8,"血","ケツ",1,"けがで［シュッケツ］する","する","出血"]
[22,8,"血","ケツ",2,"けがで［チ］が出る",null,"血"]
[23,9,"決","ケツ",1,"やめようと［ケツイ］する","する","決意"]
[24,9,"決","ケツ",2,"せきを［キ］める","める","決"]
[25,10,"研","ケン",1,"自由［ケンキュウ］をする",null,"研究"]
[26,10,"研","ケン",1,"[ケン]しゅうを受ける","しゅう","研"]
[27,11,"県","ケン",1,"広島［ケン］の町",null,"県"]
[28,12,"庫","コ",1,"学級［ブンコ］",null,"文庫"]
[29,12,"庫","コン",1,"そう［コ］にかたづける",null,"庫"]
[30,13,"湖","コ",1,"日本さい大のびわ［コ］",null,"湖"]
[31,13,"湖","コ",2,"［ミズウミ］にうかぶ島",null,"湖"]
[32,13,"湖","コ",2,"白鳥の［ミズウミ］",null,"湖"]
[33,14,"向","コウ",1,"学力の［コウジョウ］",null,"向上"]
[34,14,"向","コウ",2,"北を［ム］く","く","向"]
[35,14,"向","コウ",2,"せを［ム］ける","ける","向"]
[36,14,"向","コウ",2,"学校に［ム］かう","かう","向"]
[37,15,"幸","コウ",1,"［コウ］ふくをまねくネコ","ふく","幸"]
[38,15,"幸","コウ",2,"［シアワ］せな人","せな","幸"]
[39,16,"港","コウ",1,"船が［シュッコウ］する","する","出航"]
[40,16,"港","コウ",1,"［ミナト］めぐり",null,"港"]
[41,16,"港","コウ",2,"船が［ミナト］に着く",null,"港"]
[42,17,"号","ゴウ",1,"［ゴウ］れいをかける","れい","号"]
[43,17,"号","ゴウ",1,"台風三［ゴウ］が来る",null,"号"]
[44,18,"根","コン",1,"花の［キュウコン］",null,"球根","☆"]
[45,18,"根","コン",2,"［ネモト］のざっ草をぬく",null,"根元"]
[46,18,"根","コン",2,"草が［ネ］をはる",null,"根"]
[47,19,"祭","サイ",1,"［ブンカサイ］へのさんか",null,"文化祭"]
[48,19,"祭","サイ",2,"［マツ］りにさんかする","り","祭"]
[49,20,"皿","さら",2,"［サラ］回しの曲げい","回し","皿"]
[50,20,"皿","さら",2,"［サラ］にもりつける",null,"皿"]
[51,21,"仕","シ",1,"父母の［シゴト］",null,"仕事"]
[52,22,"死","シ",1,"火事で［シシャ］が出る",null,"死者"]
[53,22,"死","ｼ",1,"ひっ［シ］で走る",null,"死"]
[54,22,"死","ｼ",2,"［シ］に水を取る","に水","死","☆"]
[55,23,"使","シ",1,"運どう場を［シヨウ］する","する","使用"]
[56,23,"使","シ",2,"道具を［ツカ］う","う","使"]
[57,24,"始","シ",1,"作業を［カイシ］する","する","開始"]
[58,24,"始","シ",2,"そうじを［ハジ］める","める","始"]
[59,24,"始","シ",2,"ゲームが［ハジ］まる","まる","始"]
[60,25,"指","シ",1,"動きを［シ］じする","じ","指"]
[61,25,"指","シ",2,"［オヤユビ］ひめ","ひめ","親指"]
[62,25,"指","シ",2,"南を［サ］す","す","指"]
[63,26,"歯","シ",1,"にゅう［シ］がぬける",null,"歯"]
[64,26,"歯","シ",2,"［ハ］がいたい",null,"歯"]
[65,26,"歯","シ",2,"［ハ］医者に行く","医者","歯"]
[66,27,"詩","シ",1,"［シ］を書く",null,"詩"]
[67,28,"次","ジ",1,"［ジキ］会長になる","会長","次期"]
[68,28,"次","ジ",2,"［ツギ］の人をよぶ",null,"次"]
[69,28,"次","ジ",2,"去年に［ツ］ぐ出場","ぐ","次"]
[70,29,"事","ジ",1,"県［チジ］をつとめる",null,"知事","☆"]
[71,29,"事","ジ",1,"道ろ［コウジ］",null,"工事"]
[72,29,"事","ジ",2,"［オオゴト］になる",null,"大事","☆"]
[73,30,"持","ジ",2,"にもつを［モ］つ","つ","持"]
[74,31,"式","シキ",1,"［ニュウガクシキ］に出る",null,"入学式"]
[75,31,"式","シキ",1,"わり算の［シキ］",null,"式"]
[76,31,"式","シキ",1,"［シキジョウ］に入る",null,"式場"]
[77,32,"実","ジツ",1,"［ジツリョク］を出し切る",null,"実力"]
[78,32,"実","ジツ",2,"くだものの［ミ］がなる",null,"実"]
[79,32,"実","ジツ",2,"［ミノ］りの秋","り","実"]
[80,33,"写","シャ",1,"記ねん［シャシン］",null,"写真"]
[81,33,"写","シャ",1,"［ショシャ］の時間",null,"書写"]
[82,33,"写","シャ",1,"文字を書き［ウツ］す","す","写"]
[83,34,"者","シャ",1,"［ガクシャ］になる",null,"学者"]
[84,34,"者","シャ",2,"あわて［モノ］だ",null,"者"]
[85,35,"主","シュ",1,"［シュジン］にしたがう",null,"主人"]
[86,35,"主","シュ",2,"［オモ］な仕事","な","主"]
[87,35,"主","シュ",2,"池の［ヌシ］のなまず",null,"主"]
[88,36,"守","シュ",1,"宝を［シシュ］する","する","死守","☆"]
[89,36,"守","シュ",2,"妹を［マモ］る","る","守"]
[90,36,"守","シュ",2,"お［マモ]りをつける","り","守"]
[91,37,"取","シュ",1,"テレビの［シュ］ざい","ざい","取"]
[92,37,"取","シュ",2,"話題に［ト］り上げる","り","取"]
[93,38,"酒","シュ",1,"うめ［シュ］を作る",null,"酒"]
[94,38,"酒","シュ",2,"お［サケ］を飲む",null,"酒"]
[95,38,"酒","シュ",2,"［サカヤ］に買いに行く",null,"酒屋"]
[96,39,"受","ジュ",1,"書るいを［ジュリ］する","する","受理","☆"]
[97,39,"受","ジュ",2,"しけんに［ウ］かる","かる","受"]
[98,39,"受","ジュ",2,"仕事を引き［ウ］ける","ける","受"]
[99,40,"州","シュウ",1,"［キュウシュウ］地方",null,"九州"]
[100,40,"州","シュウ",1,"[ホンシュウ]にわたる",null,"本州"]
[101,41,"拾","シュウ",2,"ごみを［ヒロ］う","う","拾"]
[102,41,"拾","シュウ",2,"［ヒロ］い集める","い","拾"]
[103,42,"終","シュウ",1,"［シュウテン］の駅",null,"終点"]
[104,42,"終","シュウ",2,"やっと［オ］わった","わった","終"]
[105,43,"習","シュウ",1,"［シュウジ］の手本",null,"習字"]
[106,43,"習","シュウ",1,"教科のふく［シュウ］",null,"習"]
[107,43,"習","シュウ",2,"空手を［ナラ］う","う","習"]
[108,43,"習","シュウ",2,"［テナラ］いをする","い","手習"]
[109,44,"集","シュウ",1,"［シュウゴウ］する場所","する","集合"]
[110,44,"集","シュウ",2,"公園に［アツ］まる","まる","集"]
[111,45,"住","ジュウ",1,"［ジュウショ］を書く",null,"住所"]
[112,45,"住","ジュウ",2,"町に［ス］む","む","住"]
[113,46,"重","ジュウ",1,"［タイジュウ］をはかる",null,"体重"]
[114,46,"重","ジュウ",2,"［オモ］い石を持つ","い","重"]
[115,46,"重","ジュウ",2,"［オモ］たいかばん","たい","重"]
[116,46,"重","ジュウ",2,"茶わんを［カサ］ねる","ねる","重"]
[117,47,"宿","シュク",1,"［シュクダイ］をすませる",null,"宿題"]
[118,47,"宿","シュク",2,"［ヤド］で一休みする",null,"宿"]
[119,47,"宿","シュク",2,"［ヤド］り木に鳥がとまる","り木","宿"]
[120,48,"所","ショ",1,"わたしの［チョウショ］",null,"長所"]
[121,48,"所","ショ",1,"［バショ］が悪い",null,"場所"]
[122,48,"所","ショ",2,"［トコロ］によって雨",null,"所"]
[123,49,"暑","ショウ",2,"［アツ］い日がつづく","い","暑"]
[124,50,"助","ジョ",1,"［ジョソウ］をつけてとぶ",null,"助走","☆"]
[125,50,"助","ジョ",2,"妹を［タス］ける","ける","助"]
[126,50,"助","ジョ",2,"［ジョソウ］をつける",null,"助走","☆"]
[127,51,"昭","ショウ",1,"［ショウ］わ生まれ","わ","昭"]
[128,52,"消","ショウ",1,"［ショウカ］活どうをする",null,"消火"]
[129,52,"消","ショウ",2,"火が［キ］える","える","消"]
[130,53,"商","ショウ",1,"［ショウバイ］がうまくいく",null,"商売"]
[131,54,"章","ショウ",1,"うつくしい［ブンショウ］",null,"文章"]
[132,55,"勝","ショウ",1,"［ショウ］ぶをつける","ぶ","勝"]
[133,55,"勝","ショウ",2,"まけるが[カ]ち","ち","勝"]
[134,55,"勝","ショウ",2,"ジャンケンに［カ］つ","つ","勝"]
[135,56,"乗","ジョウ",1,"バスに［ジョウシャ］する","する","乗車"]
[136,56,"乗","ジョウ",2,"バスに［ノ］る","る","乗"]
[137,56,"乗","ジョウ",2,"車に［ノ］せる","せる","乗"]
[138,57,"植","ショク",1,"［ショクブツ］が育つ",null,"植物"]
[139,57,"植","ショク",2,"たねを［ウ］える","える","植"]
[140,58,"申","シン",2,"［モウ］しこみ用紙","しこみ","申"]
[141,59,"身","シン",1,"［シンチョウ］がのびる",null,"身長"]
[142,59,"身","シン",2,"［ミ］をすくめる",null,"身"]
[143,60,"神","シン",1,"［シンワ］を読む",null,"神話"]
[144,60,"神","シン",1,"［ジンジャ］にまいる",null,"神社"]
[145,60,"神","シン",2,"［カミ］さまをおがむ","さま","神"]
[146,60,"神","シン",2,"苦しい時の[カミ]だのみ","だのみ","神"]
[147,61,"真","シン",1,"［シンジツ］を知る",null,"真実"]
[148,61,"真","シン",2,"［マゴコロ］がつたわる",null,"真心"]
[149,62,"深","シン",1,"［シンカイ］にすむ魚",null,"深海"]
[150,62,"深","シン",2,"友じょうを［フカ］める","める","深"]
[151,62,"深","シン",2,"うたがいが［フカ］まる","まる","深"]
[152,62,"深","シン",2,"［フカ］い海のそこ","い","深"]
[153,63,"進","シン",1,"科学が［シンポ］する","する","進歩"]
[154,63,"進","シン",2,"話を［スス］める","める","進"]
[155,63,"進","シン",2,"前に［スス］む","む","進"]
[156,64,"世","セ",1,"［セカイ］いさん",null,"世界"]
[157,64,"世","セ",2,"［ヨ］の中の仕組み","の中","世"]
[158,65,"整","セイ",1,"つくえを［セイ］とんする","とん","整"]
[159,65,"整","セイ",2,"ふくそうを［トトノ］える","える","整"]
[160,66,"昔","セキ",2,"すきな［ムカシバナシ］",null,"昔話"]
[161,66,"昔","セキ",2,"今と［ムカシ］のちがい",null,"昔"]
[162,67,"全","ゼン",1,"［ゼンタイ］を考える",null,"全体"]
[163,67,"全","ゼン",2,"［スベ］てなくなる","て","全"]
[164,67,"全","ゼン",2,"［マッタ］くわからない","く","全"]
[165,68,"相","ソウ",1,"［テソウ］を見てうらなう",null,"手相","☆"]
[166,68,"相","ソウ",2,"［アイテ］の名前",null,"相手"]
[167,69,"送","ソウ",1,"メールを［ソウ］しんする","しん","送"]
[168,69,"送","ソウ",2,"駅まで［オク］る","る","送"]
[169,70,"想","ソウ",1,"いろいろな［クウソウ］",null,"空想"]
[170,71,"息","ソク",1,"［キュウソク］をとる",null,"休息"]
[171,71,"息","ソク",2,"［イキ］がはずむ",null,"息"]
[172,72,"速","ソク",1,"車の［ソクド］",null,"速度"]
[173,72,"速","ソク",2,"走る［ハヤ］さ","さ","速"]
[174,72,"速","ソク",2,"スピードが［ハヤ］まる","まる","速"]
[175,73,"族","ゾク",1,"［カゾク］で出かける",null,"家族"]
[176,73,"族","ゾク",1,"同じ［イチゾク］",null,"一族","☆"]
[177,74,"他","タ",1,"赤の［タニン］",null,"他人"]
[178,74,"他","タ",1,"その［タ］大ぜい",null,"他"]
[179,74,"他","タ",2,"［ホカ］の考えを聞く",null,"他"]
[180,75,"打","ダ",1,"［ダシャ］が交代する",null,"打者"]
[181,75,"打","ダ",2,"ヒットを［ウ］つ","つ","打"]
[182,76,"対","タイ",1,"はん［タイ］の意見",null,"対"]
[183,76,"対","タイ",1,"親子の［タイワ］",null,"対話"]
[184,77,"待","タイ",1,"［キタイ］をよせる",null,"期待"]
[185,77,"待","タイ",2,"人を［マ］つ","つ","待"]
[186,78,"代","ダイ",1,"［ダイキン］をはらう",null,"代金"]
[187,78,"代","ダイ",1,"クラスの［ダイヒョウ］",null,"代表"]
[188,78,"代","ダイ",2,"友だちの［カ］わり","わり","代"]
[189,79,"第","ダイ",1,"［ダイ］一回の大会","一回","第"]
[190,80,"題","ダイ",1,"作文の［ダイメイ］",null,"題名"]
[191,81,"炭","タン",1,"［セキタン］をもやす",null,"石炭","☆"]
[192,81,"炭","タン",2,"［スミ］を買う",null,"炭"]
[193,81,"炭","タン",2,"［スミビ］で魚をやく",null,"炭火"]
[194,82,"短","タン",1,"長所と［タンショ］",null,"短所"]
[195,82,"短","タン",2,"［ミジカ］いえんぴつ","い","短"]
[196,83,"談","ダン",1,"［ダンワ］室に入る","室","談話","☆"]
[197,83,"談","ダン",1,"兄に［ソウダン］する","する","相談"]
[198,83,"談","ダン",1,"じょう［ダン］を言う",null,"談"]
[199,84,"着","チャク",1,"［イッチャク］でゴールだ",null,"一着"]
[200,84,"着","チャク",2,"ユニフォームを［キ］る","る","着"]
[201,84,"着","チャク",2,"駅に［ツ］く","く","着"]
[202,84,"着","チャク",2,"［キ］せかえ人形","せかえ","着"]
[203,85,"注","チュウ",1,"［チュウモク］をあびる",null,"注目"]
[204,85,"注","チュウ",1,"先生が［チュウイ］をする",null,"注意"]
[205,85,"注","チュウ",2,"お茶を［ソソ］ぐ","ぐ","注"]
[206,86,"柱","チュウ",1,"［デンチュウ］のかげ",null,"電柱"]
[207,86,"柱","チュウ",2,"太い［ハシラ］",null,"柱"]
[208,87,"丁","チョウ",1,"［イッチョウ］目に住む人","目","一丁"]
[209,87,"丁","チョウ",1,"ほう［チョウ］で切る",null,"丁"]
[210,88,"帳","チョウ",1,"れんらく［チョウ］",null,"帳"]
[211,89,"調","チョウ",1,"［タイチョウ］が悪い",null,"体調"]
[212,89,"調","チョウ",1,"［チョウシ］よくしゃべる",null,"調子"]
[213,89,"調","チョウ",2,"じてんで［シラ］べる","べる","調"]
[214,89,"調","チョウ",1,"アンケート[チョウ]さ","さ","調"]
[215,90,"追","ツイ",1,"注文を［ツイ］かする","か","追"]
[216,90,"追","ツイ",2,"魚を［オ］う","う","追"]
[217,91,"定","テイ",1,"生活が［アンテイ］する","する","安定"]
[218,91,"定","テイ",2,"ルールを［サダ］める","める","定"]
[219,92,"庭","テイ",2,"［ニワ］の草を引く",null,"庭"]
[220,92,"庭","テイ",1,"［コウテイ］を走る",null,"校庭"]
[221,93,"笛","テキ",1,"船の［キテキ］がひびく",null,"汽笛","☆"]
[222,93,"笛","テキ",2,"［フエ］の音",null,"笛"]
[223,93,"笛","テキ",2,"［クチブエ］をふく",null,"口笛"]
[224,94,"鉄","テツ",1,"［テツ］ぼうがとく意","ぼう","鉄"]
[225,94,"鉄","テツ",1,"［テツ］のなべ",null,"鉄"]
[226,95,"転","テン",1,"［ジテンシャ］に乗る",null,"自転車"]
[227,95,"転","テン",2,"つまずいて［コロ］ぶ","ぶ","転"]
[228,96,"都","ト",1,"［トカイ］ではくらせない",null,"都会"]
[229,96,"都","ト",1,"［キョウト］へ行く",null,"京都"]
[230,96,"都","ト",2,"花の［ミヤコ］、パリ",null,"都","☆"]
[231,98,"投","トウ",1,"野きゅうの［トウシュ］",null,"投手","☆"]
[232,98,"投","トウ",2,"ボールを［ナ］げる","げる","投"]
[233,99,"豆","トウ",1,"なっ［トウ］を食べる",null,"豆"]
[234,99,"豆","トウ",2,"［マメ］をまく",null,"豆"]
[235,100,"島","トウ",1,"日本れっ［トウ］",null,"島"]
[236,100,"島","トウ",2,"たからの［シマ］をさがす",null,"島"]
[]
[]
[]
[]
[]
[]
[]
[]
[]
[]
[]
[]
[]
[]
[]
[]
[]
[]
[]
[]
[]
[]
[]
[]
[]
[]
[]
[]
[]
[]
[]
[]
[]
[]
[]
[]
[]
[]
[]
[]
[]
[]
[]
[]
[]
[]
[]
[]
[]
[]
[]
[]
[]
[]
[]
[]
[]
[]
[]
[]
[]
[]
[]
[]
[]
[]
[]
[]
[]
[]
[]
[]
[]
[]
[]
[]
[]
[]
[]
[]
[]
[]
[]
[]
[]
[]
[]
[]
[]
[]
[]
[]
[]
[]
[]
[]
[]
[]
[]
[]
[]
[]
[]
[null,null,null,null,null,null,"　"]
[null,null,null,null,null,null,"　"]
[null,null,null,null,null,null,"　"]
[null,null,null,null,null,null,"　"]
[null,null,null,null,null,null,"　"]
[null,null,null,null,null,null,"　"]
[null,null,null,null,null,null,"　"]
[null,null,null,null,null,null,"　"]
[null,null,null,null,null,null,"　"]
[null,null,null,null,null,null,"　"]
[null,null,null,null,null,null,"　"]
[null,null,null,null,null,null,"　"]
[null,null,null,null,null,null,"　"]
[null,null,null,null,null,null,"　"]
[null,null,null,null,null,null,"　"]
[null,null,null,null,null,null,"　"]
[null,null,null,null,null,null,"　"]
[null,null,null,null,null,null,"　"]
[null,null,null,null,null,null,"　"]
[null,null,null,null,null,null,"　"]
[null,null,null,null,null,null,"　"]
[null,null,null,null,null,null,"　"]
[null,null,null,null,null,null,"　"]
[null,null,null,null,null,null,"　"]
[null,null,null,null,null,null,"　"]
[null,null,null,null,null,null,"　"]
[null,null,null,null,null,null,"　"]
[null,null,null,null,null,null,"　"]
[null,null,null,null,null,null,"　"]
[null,null,null,null,null,null,"　"]
[null,null,null,null,null,null,"　"]
[null,null,null,null,null,null,"　"]
[null,null,null,null,null,null,"　"]
[null,null,null,null,null,null,"　"]
[null,null,null,null,null,null,"　"]
[null,null,null,null,null,null,"　"]
[null,null,null,null,null,null,"　"]
[null,null,null,null,null,null,"　"]
[null,null,null,null,null,null,"　"]
[null,null,null,null,null,null,"　"]
[null,null,null,null,null,null,"　"]
[null,null,null,null,null,null,"　"]
[null,null,null,null,null,null,"　"]
[null,null,null,null,null,null,"　"]
[null,null,null,null,null,null,"　"]
[null,null,null,null,null,null,"　"]
[null,null,null,null,null,null,"　"]
[null,null,null,null,null,null,"　"]
[null,null,null,null,null,null,"　"]
[null,null,null,null,null,null,"　"]
[null,null,null,null,null,null,"　"]
[null,null,null,null,null,null,"　"]
[null,null,null,null,null,null,"　"]
[null,null,null,null,null,null,"　"]
[null,null,null,null,null,null,"　"]
[null,null,null,null,null,null,"　"]
[null,null,null,null,null,null,"　"]
[null,null,null,null,null,null,"　"]
[null,null,null,null,null,null,"　"]
[null,null,null,null,null,null,"　"]
[null,null,null,null,null,null,"　"]
[null,null,null,null,null,null,"　"]
[null,null,null,null,null,null,"　"]
[null,null,null,null,null,null,"　"]
[null,null,null,null,null,null,"　"]
[null,null,null,null,null,null,"　"]
[null,null,null,null,null,null,"　"]
[null,null,null,null,null,null,"　"]
[null,null,null,null,null,null,"　"]
[null,null,null,null,null,null,"　"]
[null,null,null,null,null,null,"　"]
[null,null,null,null,null,null,"　"]
[null,null,null,null,null,null,"　"]
[null,null,null,null,null,null,"　"]
[null,null,null,null,null,null,"　"]
[null,null,null,null,null,null,"　"]
[null,null,null,null,null,null,"　"]
[null,null,null,null,null,null,"　"]
[null,null,null,null,null,null,"　"]
[null,null,null,null,null,null,"　"]
[null,null,null,null,null,null,"　"]
[null,null,null,null,null,null,"　"]
[null,null,null,null,null,null,"　"]
[null,null,null,null,null,null,"　"]
[null,null,null,null,null,null,"　"]
[null,null,null,null,null,null,"　"]
[null,null,null,null,null,null,"　"]
[null,null,null,null,null,null,"　"]
[null,null,null,null,null,null,"　"]
[null,null,null,null,null,null,"　"]
[null,null,null,null,null,null,"　"]
[null,null,null,null,null,null,"　"]
[null,null,null,null,null,null,"　"]
[null,null,null,null,null,null,"　"]
[null,null,null,null,null,null,"　"]
[null,null,null,null,null,null,"　"]
[null,null,null,null,null,null,"　"]

{"sheet":"関数（読み）","index":4,"n_rows":244,"n_cols":3,"rows_kept":244,"cut":false,"hidden":false,"merged":[]}
[null,"ランダム","順位"]
[1,{"$f":"RAND()","v":0.35404728502193872},{"$f":"RANK(B2,$B$2:$B$244)","v":167}]
[2,{"$f":"RAND()","v":3.4581798026522503E-2},{"$f":"RANK(B3,$B$2:$B$244)","v":240}]
[3,0.14386882969866255,215]
[4,0.23157154885806608,198]
[5,0.44067336197280949,143]
[6,0.20267188565821403,207]
[7,0.28579404740313408,184]
[8,6.0842894359804278E-2,235]
[9,0.1240302495339547,224]
[10,0.41615732058378907,146]
[11,0.36510444187578517,162]
[12,0.31711583525221887,177]
[13,0.99876432738436605,2]
[14,0.29953554461501586,179]
[15,0.41362193371503431,148]
[16,0.36682592839671457,160]
[17,0.7650270650163743,71]
[18,0.61102596533533116,107]
[19,0.82529350127169532,55]
[20,0.32609103237236603,174]
[21,0.7876970924148492,66]
[22,5.900980402270728E-2,236]
[23,0.17954276821651571,208]
[24,0.33569043136719201,172]
[25,0.96687720626145512,18]
[26,0.40657144012755408,152]
[27,0.89839587592063586,33]
[28,0.65284777503193281,97]
[29,0.16349217097674495,213]
[30,0.57318625636559062,121]
[31,0.60772709142507109,108]
[32,0.11980671126091724,225]
[33,0.12920798116939713,222]
[34,0.36312218426672238,163]
[35,0.90832552416215728,28]
[36,0.92766350884644755,25]
[37,0.90322777395608012,31]
[38,0.59705710009422763,114]
[39,7.535683928234671E-3,243]
[40,0.23183127445774998,197]
[41,0.24326730428337418,195]
[42,0.2286026621009668,200]
[43,0.49096481557454552,136]
[44,0.5393798121640625,126]
[45,0.55014506012890929,124]
[46,0.2269756734428876,201]
[47,7.0803669144676507E-2,233]
[48,0.42978737931412647,144]
[49,0.87486205059558542,40]
[50,0.37634900618045275,157]
[51,0.40506522222795005,153]
[52,0.47914458466689769,138]
[53,0.1277394577095311,223]
[54,0.7153813663457349,82]
[55,0.67955986019438719,91]
[56,0.81500503091455723,59]
[57,4.4076754754608594E-2,239]
[58,0.84944672961501688,49]
[59,0.74003021550271297,76]
[60,0.1156477031990345,226]
[61,0.97221255053336275,14]
[62,0.23401618085189835,196]
[63,0.98058388180843192,7]
[64,4.781597072071575E-2,238]
[65,0.89652417513347382,34]
[66,{"$f":"RAND()","v":0.17080918263047429},{"$f":"RANK(B67,$B$2:$B$244)","v":211}]
[67,0.22148268168544349,202]
[68,0.6199514021899446,104]
[69,0.28863119878446108,183]
[70,0.42159851800990433,145]
[71,0.34449889230330022,171]
[72,0.55171282757231088,123]
[73,0.13380814281883258,221]
[74,9.2906929983754605E-2,230]
[75,0.29732542948640939,180]
[76,0.91372570507858453,26]
[77,0.35217110906821258,168]
[78,0.69871968864077161,86]
[79,0.41464058461790754,147]
[80,0.97000286485555665,16]
[81,0.87307271969688083,43]
[82,4.7921881894382068E-2,237]
[83,0.84994240773100893,48]
[84,0.74224638297973278,74]
[85,0.97353943998843029,13]
[86,0.13827255711112285,218]
[87,0.86220222828385085,47]
[88,0.79354611069776126,64]
[89,0.71948930203242623,81]
[90,0.5203631273741901,129]
[91,0.34913060190964817,169]
[92,0.74097573378073067,75]
[93,0.59261464962279931,115]
[94,0.83307312888031704,52]
[95,0.40952077990664271,151]
[96,0.25678183662208676,189]
[97,0.90685966218726755,29]
[98,0.57939326052830586,120]
[99,0.32104437607175706,176]
[100,0.41321233088294507,149]
[101,0.87698818656775657,39]
[102,7.962506838912109E-2,232]
[103,0.20495106937571894,206]
[104,0.47027733825156182,139]
[105,0.36212438768573518,164]
[106,0.22111457810909407,203]
[107,0.17505810933967625,210]
[108,0.57969813713581886,119]
[109,0.6352617729790947,102]
[110,0.24871507186554587,192]
[111,0.73469952126474147,77]
[112,0.67839181429696549,92]
[113,0.61276187154596617,106]
[114,0.13620277691621852,219]
[115,0.14122626888142864,216]
[116,0.67697359665209056,94]
[117,0.6724492027839517,96]
[118,0.30807445412208212,178]
[119,0.80862764812084431,61]
[120,0.98741737343562863,5]
[121,0.34614499954761657,170]
[122,0.96999525718107937,17]
[123,0.89957704523909121,32]
[124,0.59718128764177636,113]
[125,0.35883065923140489,166]
[126,0.51185791917934653,134]
[127,0.64282822472430778,100]
[128,0.15250810018579986,214]
[129,0.26617590643375866,188]
[130,{"$f":"RAND()","v":0.21762062867926268},{"$f":"RANK(B131,$B$2:$B$244)","v":204}]
[131,0.89344975455267372,35]
[132,0.45115476344005612,141]
[133,0.81338241939030886,60]
[134,0.52776952562319968,127]
[135,0.68653262610714094,89]
[136,0.67265321656754085,95]
[137,0.97950150419156334,8]
[138,0.27614462034122111,187]
[139,0.97569703522429441,10]
[140,0.97536890817970401,11]
[141,0.14071425634586121,217]
[142,0.522492398871238,128]
[143,0.94351085641637866,23]
[144,0.17793206472852696,209]
[145,0.65147708809027371,98]
[146,0.46444906294769139,140]
[147,0.7095139536649171,84]
[148,0.36930208261515418,159]
[149,9.3415381020108823E-3,242]
[150,0.72872818462555033,79]
[151,0.24447125651505586,194]
[152,0.2138635069799576,205]
[153,0.88371446704300571,38]
[154,0.60108127733606032,111]
[155,0.89240639586724191,36]
[156,0.37832311699258103,156]
[157,0.48681202595009143,137]
[158,0.99057063841263227,3]
[159,0.69341430010591798,88]
[160,0.77767663961599043,68]
[161,0.87383091474668029,42]
[162,0.97467151693332565,12]
[163,0.81647851242037306,58]
[164,0.59854483882226239,112]
[165,0.38775972765848188,155]
[166,7.0629508414275843E-2,234]
[167,0.98700210573640035,6]
[168,0.75773374764155188,72]
[169,0.846465863499966,51]
[170,0.95089474393019446,22]
[171,0.78821324253522018,65]
[172,0.98821705006689553,4]
[173,0.63592364818290503,101]
[174,0.8650920268706157,46]
[175,0.5858580469508301,118]
[176,0.516130574677094,132]
[177,0.2533906341178005,191]
[178,0.7747711080933638,69]
[179,0.95333174203089766,21]
[180,0.5923313514752333,116]
[181,0.72325917565169473,80]
[182,0.70527982918559051,85]
[183,0.8322916771329697,53]
[184,9.5269724229483543E-2,229]
[185,0.99907499285911294,1]
[186,0.84754382759191649,50]
[187,0.7125321419514542,83]
[188,0.82380671550505669,56]
[189,0.86969993137504709,45]
[190,0.73387341285579843,78]
[191,2.7415291894115068E-2,241]
[192,0.2893082400756174,182]
[193,0.36514029679223592,161]
[194,{"$f":"RAND()","v":0.51788244476136791},{"$f":"RANK(B195,$B$2:$B$244)","v":131}]
[195,0.55001753343708615,125]
[196,0.39601062020717925,154]
[197,0.58686435301086881,117]
[198,0.2561155991820907,190]
[199,0.68004012755510757,90]
[200,0.1645179553178876,212]
[201,0.24836238002334643,193]
[202,0.44750040550664782,142]
[203,0.61521680305859605,105]
[204,0.75224226857027821,73]
[205,0.51971704373732064,130]
[206,0.32213255727239298,175]
[207,0.22918631246323651,199]
[208,0.76664122191430506,70]
[209,0.96468690089110243,19]
[210,0.89037486288641099,37]
[211,0.95740935071132549,20]
[212,0.11459907391152446,227]
[213,0.55587103805750893,122]
[214,0.13609531187658941,220]
[215,0.33517168430528377,173]
[216,0.69657835626536813,87]
[217,0.29268443765337604,181]
[218,0.9317812353618069,24]
[219,0.36981641182055924,158]
[220,0.79491258700810685,63]
[221,0.80791098485451784,62]
[222,0.82531592936516984,54]
[223,0.97871462276466548,9]
[224,0.51504698498347057,133]
[225,0.27618016599925543,186]
[226,0.67794999468434758,93]
[227,0.49634811692693726,135]
[228,0.41009439588856333,150]
[229,0.87401904343824166,41]
[230,0.87241882986648378,44]
[231,0.6314159281788837,103]
[232,9.1219329472577271E-2,231]
[233,0.78276644537574669,67]
[234,0.28274704227635772,185]
[235,0.91117000811301108,27]
[236,0.60336568679602653,110]
[237,0.90665026154773987,30]
[238,0.81937124433399466,57]
[239,0.60704121473482753,109]
[240,0.97081943847261853,15]
[241,0.35884960998701043,165]
[242,0.64753147338253947,99]
[243,0.10384435728759134,228]

{"sheet":"関数（書き）","index":5,"n_rows":237,"n_cols":3,"rows_kept":237,"cut":false,"hidden":false,"merged":[]}
["番号","ランダム","順位"]
[1,{"$f":"RAND()","v":0.95247923544461488},{"$f":"RANK(B2,$B$2:$B$237)","v":13}]
[2,{"$f":"RAND()","v":0.17833118531437153},{"$f":"RANK(B3,$B$2:$B$237)","v":182}]
[3,0.90192193523597119,26]
[4,0.14458631334431982,191]
[5,0.26859236767544026,159]
[6,0.67719447477205397,74]
[7,0.17934801392488464,181]
[8,0.76135098001655677,58]
[9,0.92075619928767327,24]
[10,0.50851732500207991,107]
[11,0.5834794443848258,93]
[12,0.62944123764620397,78]
[13,0.13462526987271151,194]
[14,0.13065217061306655,196]
[15,0.59789238434162351,85]
[16,0.2353266508238,170]
[17,0.14102507316443003,193]
[18,0.18757072598416835,178]
[19,0.62841217506406744,79]
[20,0.1648314465445313,184]
[21,8.7146721216011747E-2,207]
[22,0.39116319390513088,138]
[23,0.7318608782450241,66]
[24,0.37068544717500895,141]
[25,0.54185563458880215,100]
[26,0.44713560027400434,118]
[27,8.0985602536270962E-2,211]
[28,0.56142025945789198,96]
[29,0.24278626111727819,168]
[30,0.15023465029302019,189]
[31,0.59331715751025194,86]
[32,4.2887262133608162E-2,228]
[33,0.56847038723847498,95]
[34,5.4826660696939977E-2,224]
[35,0.28535449363501975,156]
[36,0.18529036623692896,179]
[37,0.43749498801401632,123]
[38,7.5737578526265947E-2,216]
[39,0.14514740645612201,190]
[40,0.53875559122731553,101]
[41,0.11878973918689628,201]
[42,0.85044499612829061,39]
[43,0.70604513941651537,70]
[44,0.97763646370191282,5]
[45,7.7288195730620179E-2,214]
[46,0.95121593972457963,14]
[47,0.79722263947546268,52]
[48,0.72662953046320444,68]
[49,0.67532471740497757,75]
[50,0.11774481444965268,202]
[51,4.523532489816573E-2,226]
[52,0.35765446197339779,144]
[53,0.32825910808923853,150]
[54,0.95298514827127789,11]
[55,0.16661896233782458,183]
[56,0.88291664235222511,30]
[57,0.84831250939997627,40]
[58,0.60221926770005285,84]
[59,0.9285753475577313,21]
[60,0.24697611360213811,166]
[61,0.82643462155286906,43]
[62,0.94882765442597872,15]
[63,0.71838230075612153,69]
[64,0.91111851601894611,25]
[65,0.97595277881514564,6]
[66,{"$f":"RAND()","v":0.67841015260582516},{"$f":"RANK(B67,$B$2:$B$237)","v":73}]
[67,2.5288591027637475E-2,232]
[68,7.7012083399209175E-2,215]
[69,7.5559982640942214E-2,217]
[70,0.58311948586745843,94]
[71,0.26047219970284408,162]
[72,0.82394726406292607,44]
[73,0.24485933527666426,167]
[74,0.29921702111509418,154]
[75,0.46195126537307019,116]
[76,0.20947016071322611,174]
[77,0.35406902418861619,145]
[78,0.4832252386607736,113]
[79,2.8440755533645112E-2,231]
[80,0.6273983194989865,80]
[81,0.94366257774531748,18]
[82,6.461843324791694E-2,221]
[83,0.20716139537972844,175]
[84,0.87402344025313661,33]
[85,0.13176687226632855,195]
[86,0.34462056629183735,148]
[87,0.4944125033652953,111]
[88,0.79205310116352023,53]
[89,0.43924221353642423,122]
[90,0.96042260103018795,8]
[91,0.92501950354520268,22]
[92,0.39761441781467344,134]
[93,0.18811083300257947,177]
[94,0.86651258541300336,36]
[95,0.88309524437042941,29]
[96,0.93855753055190616,20]
[97,0.24763260411937393,165]
[98,0.39416227361286704,136]
[99,0.43478590663211047,126]
[100,0.282433488645631,157]
[101,4.4751415427872643E-2,227]
[102,0.64431198377115384,77]
[103,0.81638051655804633,45]
[104,0.9648193824952096,7]
[105,3.6232467083274766E-4,236]
[106,0.50734335519244633,108]
[107,0.43679175018707872,125]
[108,0.36266722612364721,143]
[109,0.1891942069079886,176]
[110,6.1950808732023965E-2,222]
[111,0.18330208976741369,180]
[112,0.15876516612025093,187]
[113,0.11069891753619554,204]
[114,0.15394441713396334,188]
[115,0.75078881952231402,59]
[116,0.72877261127123549,67]
[117,7.8927805561266551E-2,212]
[118,0.95965309356229678,9]
[119,8.8696048119093374E-2,205]
[120,0.95268065501365895,12]
[121,0.58658803581235719,90]
[122,0.65669716555554336,76]
[123,1.4522492851286817E-2,234]
[124,0.27874613498536427,158]
[125,3.6142094384792989E-2,229]
[126,0.35368384628277005,146]
[127,0.34528315387649178,147]
[128,0.51840158947221138,105]
[129,6.1506703276303143E-2,223]
[130,{"$f":"RAND()","v":0.15961136477241011},{"$f":"RANK(B131,$B$2:$B$237)","v":186}]
[131,7.5049593259503444E-2,218]
[132,2.5155708919742836E-2,233]
[133,0.43338945788503558,127]
[134,0.86303115586076817,37]
[135,0.3640781339775061,142]
[136,0.24111924965399145,169]
[137,0.54590938198030614,99]
[138,0.24852811904605576,164]
[139,0.49385269495020123,112]
[140,7.8834053480102528E-2,213]
[141,0.30507948052660661,152]
[142,0.44708685830443395,119]
[143,0.78602173380734008,54]
[144,0.80500805829925459,49]
[145,0.74730559080317971,63]
[146,0.56074261058680785,97]
[147,0.40710643006730374,131]
[148,0.2668501312594227,160]
[149,0.83315692785936868,42]
[150,0.40286434833793661,132]
[151,0.38132710782167589,139]
[152,0.12224348085343906,199]
[153,0.98896029944754094,2]
[154,0.76298338778363228,57]
[155,0.94745350688634689,16]
[156,0.11508795593001042,203]
[157,0.87990632982881545,31]
[158,6.6798066504533682E-2,219]
[159,0.34449252548388332,149]
[160,0.98003624534647882,4]
[161,0.87330215966632152,34]
[162,0.50673852173792189,109]
[163,0.5906329307294732,88]
[164,0.12235802046048427,198]
[165,0.947138481709212,17]
[166,0.3751165553835224,140]
[167,8.1126551424230531E-2,210]
[168,0.42258315067972407,129]
[169,0.74799706996988047,62]
[170,0.30695901719340279,151]
[171,3.0688437214739683E-2,230]
[172,0.22417187025042118,172]
[173,0.60370626329536647,83]
[174,0.61971188844187686,81]
[175,0.77201681498394303,56]
[176,0.92182535369988861,23]
[177,8.1237149880465376E-2,209]
[178,0.74883228664898527,61]
[179,0.2496239925208743,163]
[180,0.47259275554819724,115]
[181,0.44527758125180861,120]
[182,0.44081059896302699,121]
[183,5.7441435691861775E-3,235]
[184,0.98017542676516756,3]
[185,0.85890443940056138,38]
[186,0.59008906917972681,89]
[187,0.58600577606111393,91]
[188,0.43723327526457034,124]
[189,0.51837332723406526,106]
[190,0.88849033231119545,28]
[191,0.14345189778360812,192]
[192,0.77918167087449153,55]
[193,0.39500758290038818,135]
[194,{"$f":"RAND()","v":0.2631683464747907},{"$f":"RANK(B195,$B$2:$B$237)","v":161}]
[195,0.84483922049561966,41]
[196,0.52105004439292324,104]
[197,0.742644570179955,64]
[198,0.60492649197931647,82]
[199,0.79967798321515027,51]
[200,0.12036256319102367,200]
[201,0.41956855758842049,130]
[202,0.4749011780598531,114]
[203,0.87305989930799377,35]
[204,6.6443110372695235E-2,220]
[205,0.23327484148365329,171]
[206,0.30450717159088914,153]
[207,0.28634677813082643,155]
[208,0.40054908976149617,133]
[209,0.94175413677312214,19]
[210,0.52115625193606019,103]
[211,0.95833598604308656,10]
[212,0.43175745907305596,128]
[213,0.55062018351788189,98]
[214,0.80117424407107196,50]
[215,0.16069046168946199,185]
[216,0.69100853616813596,72]
[217,0.49544773558976096,110]
[218,0.52954987780368967,102]
[219,0.73516098075768588,65]
[220,8.4994989367013218E-2,208]
[221,0.81256046557629424,46]
[222,0.58493782627315105,92]
[223,0.21189615631237702,173]
[224,8.8162771758339198E-2,206]
[225,0.39353170319337982,137]
[226,0.70027630003613983,71]
[227,0.89308285707021495,27]
[228,0.87539020377540933,32]
[229,0.80919566299940771,48]
[230,0.80921833640538676,47]
[231,0.45121504310929295,117]
[232,0.12841411237161415,197]
[233,0.59094824594649187,87]
[234,0.74987469883308033,60]
[235,5.3447145220943404E-2,225]
[236,0.99965524768103819,1]