{"text_format":"1","workbook":"xlsx","n_sheets":6,"sheets":["試験問題（関数）","網羅問題（関数） ","漢字読み","漢字書き","関数（読み）","関数（書き）"],"not_rendered":{"charts":0,"images":0,"macros":1,"external_links":1,"defined_names":8,"comments":1,"pivot_tables":0},"unopened":[],"bounds":{"document_bytes":16777216,"sheet_cells":100000,"rows_first":2000,"rows_last":500,"rows_between":2000,"halvings":0,"cell_chars":16384,"cell_head_chars":4096},"cells_cut":0,"cells_raw":0,"read":"whole","date_system":"1900"}

{"sheet":"試験問題（関数）","index":0,"n_rows":20,"n_cols":23,"rows_kept":20,"cut":false,"hidden":false,"merged":[[8,21,9,21],[1,20,4,20],[3,21,4,21],[6,20,9,20],[1,22,3,22],[6,22,8,22],[13,21,14,21],[16,20,19,20],[16,22,18,22],[18,21,19,21],[21,22,22,22],[22,21,23,21],[11,20,14,20],[11,22,13,22]]}
[{"$f":"'関数（書き）'!$C$2","v":37},{"$f":"'関数（書き）'!$C$3","v":101},{"$f":"'関数（書き）'!$C$4","v":109},{"$f":"'関数（書き）'!$C$5","v":41},{"$f":"'関数（書き）'!$C$6","v":122},{"$f":"'関数（書き）'!$C$7","v":35},{"$f":"'関数（書き）'!$C$8","v":105},{"$f":"'関数（書き）'!$C$9","v":108},{"$f":"'関数（書き）'!$C$10","v":110},{"$f":"'関数（書き）'!$C$11","v":81},{"$f":"'関数（読み）'!$C$2","v":90},{"$f":"'関数（読み）'!$C$3","v":98},{"$f":"'関数（読み）'!$C$4","v":75},{"$f":"'関数（読み）'!$C$5","v":117},{"$f":"'関数（読み）'!$C$6","v":36},{"$f":"'関数（読み）'!$C$7","v":114},{"$f":"'関数（読み）'!$C$8","v":97},{"$f":"'関数（読み）'!$C$9","v":84},{"$f":"'関数（読み）'!$C$10","v":104},{"$f":"'関数（読み）'!$C$11","v":46}]
["⑳","⑲","⑱","⑰","⑯","⑮","⑭","⑬","⑫","⑪","⑩","⑨","⑧","⑦","⑥","⑤","④","③","②","①","次の［　　　　］の部分の漢字には読みがなをひらがなで書き、カタカナは漢字に直しなさい。",14,"「漢字の博士検定試験」練習問題　"]
[{"$f":"IF(A1=\"\",\"\",VLOOKUP(A1,漢字書き!$A$2:$N$506,6,0))","v":"［キョウ］か書をよむ"},{"$f":"IF(B1=\"\",\"\",VLOOKUP(B1,漢字書き!$A$2:$N$506,6,0))","v":"［コンシュウ］のニュース"},{"$f":"IF(C1=\"\",\"\",VLOOKUP(C1,漢字書き!$A$2:$N$506,6,0))","v":"ごはんを［タ］べる"},{"$f":"IF(D1=\"\",\"\",VLOOKUP(D1,漢字書き!$A$2:$N$506,6,0))","v":"車が［チカ］づく"},{"$f":"IF(E1=\"\",\"\",VLOOKUP(E1,漢字書き!$A$2:$N$506,6,0))","v":"［キッテ］をあつめる"},{"$f":"IF(F1=\"\",\"\",VLOOKUP(F1,漢字書き!$A$2:$N$506,6,0))","v":"［サカナ］がおよぐ"},{"$f":"IF(G1=\"\",\"\",VLOOKUP(G1,漢字書き!$A$2:$N$506,6,0))","v":"［ショウ］年とあそぶ"},{"$f":"IF(H1=\"\",\"\",VLOOKUP(H1,漢字書き!$A$2:$N$506,6,0))","v":"［ショク］じはたのしい"},{"$f":"IF(I1=\"\",\"\",VLOOKUP(I1,漢字書き!$A$2:$N$506,6,0))","v":"［ココロ］がはずむ"},{"$f":"IF(J1=\"\",\"\",VLOOKUP(J1,漢字書き!$A$2:$N$506,6,0))","v":"文を［ツク］る"},{"$f":"IF(K1=\"\",\"\",VLOOKUP(K1,漢字読み!$A$2:$O$506,6,0))","v":"［細］かい字"},{"$f":"IF(L1=\"\",\"\",VLOOKUP(L1,漢字読み!$A$2:$O$506,6,0))","v":"［矢］がささる"},{"$f":"IF(M1=\"\",\"\",VLOOKUP(M1,漢字読み!$A$2:$O$506,6,0))","v":"［光］をあびる"},{"$f":"IF(N1=\"\",\"\",VLOOKUP(N1,漢字読み!$A$2:$O$506,6,0))","v":"［春］がきた"},{"$f":"IF(O1=\"\",\"\",VLOOKUP(O1,漢字読み!$A$2:$O$506,6,0))","v":"［汽］てきをならす　　　"},{"$f":"IF(P1=\"\",\"\",VLOOKUP(P1,漢字読み!$A$2:$O$506,6,0))","v":"［秋］の夕ぐれ     "},{"$f":"IF(Q1=\"\",\"\",VLOOKUP(Q1,漢字読み!$A$2:$O$506,6,0))","v":"わか山［市］の学校"},{"$f":"IF(R1=\"\",\"\",VLOOKUP(R1,漢字読み!$A$2:$O$506,6,0))","v":"海外の［国］にあこがれる"},{"$f":"IF(S1=\"\",\"\",VLOOKUP(S1,漢字読み!$A$2:$O$506,6,0))","v":"とう大［寺］の大ぶつ"},{"$f":"IF(T1=\"\",\"\",VLOOKUP(T1,漢字読み!$A$2:$O$506,6,0))","v":"［京］とに行く     "},null,"級"]
[null,null,null,null,null,null,null,null,null,null,null,null,null,null,null,null,null,null,null,null,null,"名前"]
[{"$f":"IF(A1=\"\",\"\",IF(VLOOKUP(A1,漢字書き!$A$2:$N$502,7,0)=0,\"\",VLOOKUP(A1,漢字書き!$A$2:$N$502,7,0)))","v":"か書"},{"$f":"IF(B1=\"\",\"\",IF(VLOOKUP(B1,漢字書き!$A$2:$N$502,7,0)=0,\"\",VLOOKUP(B1,漢字書き!$A$2:$N$502,7,0)))","v":""},{"$f":"IF(C1=\"\",\"\",IF(VLOOKUP(C1,漢字書き!$A$2:$N$502,7,0)=0,\"\",VLOOKUP(C1,漢字書き!$A$2:$N$502,7,0)))","v":"べる"},{"$f":"IF(D1=\"\",\"\",IF(VLOOKUP(D1,漢字書き!$A$2:$N$502,7,0)=0,\"\",VLOOKUP(D1,漢字書き!$A$2:$N$502,7,0)))","v":"づく"},{"$f":"IF(E1=\"\",\"\",IF(VLOOKUP(E1,漢字書き!$A$2:$N$502,7,0)=0,\"\",VLOOKUP(E1,漢字書き!$A$2:$N$502,7,0)))","v":""},{"$f":"IF(F1=\"\",\"\",IF(VLOOKUP(F1,漢字書き!$A$2:$N$502,7,0)=0,\"\",VLOOKUP(F1,漢字書き!$A$2:$N$502,7,0)))","v":""},{"$f":"IF(G1=\"\",\"\",IF(VLOOKUP(G1,漢字書き!$A$2:$N$502,7,0)=0,\"\",VLOOKUP(G1,漢字書き!$A$2:$N$502,7,0)))","v":"年"},{"$f":"IF(H1=\"\",\"\",IF(VLOOKUP(H1,漢字書き!$A$2:$N$502,7,0)=0,\"\",VLOOKUP(H1,漢字書き!$A$2:$N$502,7,0)))","v":"じ"},{"$f":"IF(I1=\"\",\"\",IF(VLOOKUP(I1,漢字書き!$A$2:$N$502,7,0)=0,\"\",VLOOKUP(I1,漢字書き!$A$2:$N$502,7,0)))","v":""},{"$f":"IF(J1=\"\",\"\",IF(VLOOKUP(J1,漢字書き!$A$2:$N$502,7,0)=0,\"\",VLOOKUP(J1,漢字書き!$A$2:$N$502,7,0)))","v":"る"},{"$f":"IF(K1=\"\",\"\",IF(VLOOKUP(K1,漢字読み!$A$2:$O$502,7,0)=0,\"\",VLOOKUP(K1,漢字読み!$A$2:$O$502,7,0)))","v":"かい"},{"$f":"IF(L1=\"\",\"\",IF(VLOOKUP(L1,漢字読み!$A$2:$O$502,7,0)=0,\"\",VLOOKUP(L1,漢字読み!$A$2:$O$502,7,0)))","v":""},{"$f":"IF(M1=\"\",\"\",IF(VLOOKUP(M1,漢字読み!$A$2:$O$502,7,0)=0,\"\",VLOOKUP(M1,漢字読み!$A$2:$O$502,7,0)))","v":""},{"$f":"IF(N1=\"\",\"\",IF(VLOOKUP(N1,漢字読み!$A$2:$O$502,7,0)=0,\"\",VLOOKUP(N1,漢字読み!$A$2:$O$502,7,0)))","v":""},{"$f":"IF(O1=\"\",\"\",IF(VLOOKUP(O1,漢字読み!$A$2:$O$502,7,0)=0,\"\",VLOOKUP(O1,漢字読み!$A$2:$O$502,7,0)))","v":"てき"},{"$f":"IF(P1=\"\",\"\",IF(VLOOKUP(P1,漢字読み!$A$2:$O$502,7,0)=0,\"\",VLOOKUP(P1,漢字読み!$A$2:$O$502,7,0)))","v":""},{"$f":"IF(Q1=\"\",\"\",IF(VLOOKUP(Q1,漢字読み!$A$2:$O$502,7,0)=0,\"\",VLOOKUP(Q1,漢字読み!$A$2:$O$502,7,0)))","v":""},{"$f":"IF(R1=\"\",\"\",IF(VLOOKUP(R1,漢字読み!$A$2:$O$502,7,0)=0,\"\",VLOOKUP(R1,漢字読み!$A$2:$O$502,7,0)))","v":""},{"$f":"IF(S1=\"\",\"\",IF(VLOOKUP(S1,漢字読み!$A$2:$O$502,7,0)=0,\"\",VLOOKUP(S1,漢字読み!$A$2:$O$502,7,0)))","v":""},{"$f":"IF(T1=\"\",\"\",IF(VLOOKUP(T1,漢字読み!$A$2:$O$502,7,0)=0,\"\",VLOOKUP(T1,漢字読み!$A$2:$O$502,7,0)))","v":"と"},null,null,"和歌山県教育委員会"]
[{"$f":"'関数（書き）'!$C$12","v":74},{"$f":"'関数（書き）'!$C$13","v":30},{"$f":"'関数（書き）'!$C$14","v":111},{"$f":"'関数（書き）'!$C$15","v":83},{"$f":"'関数（書き）'!$C$16","v":45},{"$f":"'関数（書き）'!$C$17","v":90},{"$f":"'関数（書き）'!$C$18","v":6},{"$f":"'関数（書き）'!$C$19","v":117},{"$f":"'関数（書き）'!$C$20","v":118},{"$f":"'関数（書き）'!$C$21","v":123},{"$f":"'関数（読み）'!$C$12","v":77},{"$f":"'関数（読み）'!$C$13","v":10},{"$f":"'関数（読み）'!$C$14","v":69},{"$f":"'関数（読み）'!$C$15","v":23},{"$f":"'関数（読み）'!$C$16","v":49},{"$f":"'関数（読み）'!$C$17","v":38},{"$f":"'関数（読み）'!$C$18","v":110},{"$f":"'関数（読み）'!$C$19","v":40},{"$f":"'関数（読み）'!$C$20","v":95},{"$f":"'関数（読み）'!$C$21","v":96}]
["⑳","⑲","⑱","⑰","⑯","⑮","⑭","⑬","⑫","⑪","⑩","⑨","⑧","⑦","⑥","⑤","④","③","②","①","次の［　　　　］の部分の漢字には読みがなをひらがなで書き、カタカナは漢字に直しなさい。",14,"「漢字の博士検定試験」練習問題　"]
[{"$f":"IF(A6=\"\",\"\",VLOOKUP(A6,漢字書き!$A$2:$N$506,6,0))","v":"［コク］ばんを見る"},{"$f":"IF(B6=\"\",\"\",VLOOKUP(B6,漢字書き!$A$2:$N$506,6,0))","v":"［ニッキ］をかく"},{"$f":"IF(C6=\"\",\"\",VLOOKUP(C6,漢字書き!$A$2:$N$506,6,0))","v":"［アタラ］しいえんぴつ"},{"$f":"IF(D6=\"\",\"\",VLOOKUP(D6,漢字書き!$A$2:$N$506,6,0))","v":"かけ［ザン］のべん強"},{"$f":"IF(E6=\"\",\"\",VLOOKUP(E6,漢字書き!$A$2:$N$506,6,0))","v":"［ケイサン］がとくい"},{"$f":"IF(F6=\"\",\"\",VLOOKUP(F6,漢字書き!$A$2:$N$506,6,0))","v":"［アネ］がいます"},{"$f":"IF(G6=\"\",\"\",VLOOKUP(G6,漢字書き!$A$2:$N$506,6,0))","v":"あすは［エンソク］だ"},{"$f":"IF(H6=\"\",\"\",VLOOKUP(H6,漢字書き!$A$2:$N$506,6,0))","v":"［ニシ］の空"},{"$f":"IF(I6=\"\",\"\",VLOOKUP(I6,漢字書き!$A$2:$N$506,6,0))","v":"きれいな［コエ］"},{"$f":"IF(J6=\"\",\"\",VLOOKUP(J6,漢字書き!$A$2:$N$506,6,0))","v":"はさみで［キ］る"},{"$f":"IF(K6=\"\",\"\",VLOOKUP(K6,漢字読み!$A$2:$O$506,6,0))","v":"［三行］で書く     "},{"$f":"IF(L6=\"\",\"\",VLOOKUP(L6,漢字読み!$A$2:$O$506,6,0))","v":"［夏休］みがはじまる"},{"$f":"IF(M6=\"\",\"\",VLOOKUP(M6,漢字読み!$A$2:$O$506,6,0))","v":"［図工］のじかん  "},{"$f":"IF(N6=\"\",\"\",VLOOKUP(N6,漢字読み!$A$2:$O$506,6,0))","v":"［絵画］を見る"},{"$f":"IF(O6=\"\",\"\",VLOOKUP(O6,漢字読み!$A$2:$O$506,6,0))","v":"［教室］に入る             "},{"$f":"IF(P6=\"\",\"\",VLOOKUP(P6,漢字読み!$A$2:$O$506,6,0))","v":"［日記］をつける     "},{"$f":"IF(Q6=\"\",\"\",VLOOKUP(Q6,漢字読み!$A$2:$O$506,6,0))","v":"［社会］のへんか      "},{"$f":"IF(R6=\"\",\"\",VLOOKUP(R6,漢字読み!$A$2:$O$506,6,0))","v":"［弓］の名人"},{"$f":"IF(S6=\"\",\"\",VLOOKUP(S6,漢字読み!$A$2:$O$506,6,0))","v":"でんしゃが［止］まる"},{"$f":"IF(T6=\"\",\"\",VLOOKUP(T6,漢字読み!$A$2:$O$506,6,0))","v":"［朝市］がひらかれる"},null,"級"]
[null,null,null,null,null,null,null,null,null,null,null,null,null,null,null,null,null,null,null,null,null,"名前"]
[{"$f":"IF(A6=\"\",\"\",IF(VLOOKUP(A6,漢字書き!$A$2:$N$502,7,0)=0,\"\",(VLOOKUP(A6,漢字書き!$A$2:$N$502,7,0))))","v":"ばん"},{"$f":"IF(B6=\"\",\"\",IF(VLOOKUP(B6,漢字書き!$A$2:$N$502,7,0)=0,\"\",(VLOOKUP(B6,漢字書き!$A$2:$N$502,7,0))))","v":""},{"$f":"IF(X6=\"\",\"\",IF(VLOOKUP(X6,漢字書き!$A$2:$N$502,7,0)=0,\"\",VLOOKUP(X6,漢字書き!$A$2:$N$502,7,0)))","v":""},{"$f":"IF(D6=\"\",\"\",IF(VLOOKUP(D6,漢字書き!$A$2:$N$502,7,0)=0,\"\",VLOOKUP(D6,漢字書き!$A$2:$N$502,7,0)))","v":""},{"$f":"IF(E6=\"\",\"\",IF(VLOOKUP(E6,漢字書き!$A$2:$N$502,7,0)=0,\"\",(VLOOKUP(E6,漢字書き!$A$2:$N$502,7,0))))","v":""},{"$f":"IF(F6=\"\",\"\",IF(VLOOKUP(F6,漢字書き!$A$2:$N$502,7,0)=0,\"\",(VLOOKUP(F6,漢字書き!$A$2:$N$502,7,0))))","v":""},{"$f":"IF(G6=\"\",\"\",IF(VLOOKUP(G6,漢字書き!$A$2:$N$502,7,0)=0,\"\",VLOOKUP(G6,漢字書き!$A$2:$N$502,7,0)))","v":""},{"$f":"IF(H6=\"\",\"\",IF(VLOOKUP(H6,漢字書き!$A$2:$N$502,7,0)=0,\"\",VLOOKUP(H6,漢字書き!$A$2:$N$502,7,0)))","v":""},{"$f":"IF(I6=\"\",\"\",IF(VLOOKUP(I6,漢字書き!$A$2:$N$502,7,0)=0,\"\",VLOOKUP(I6,漢字書き!$A$2:$N$502,7,0)))","v":""},{"$f":"IF(J6=\"\",\"\",IF(VLOOKUP(J6,漢字書き!$A$2:$N$502,7,0)=0,\"\",VLOOKUP(J6,漢字書き!$A$2:$N$502,7,0)))","v":"る"},{"$f":"IF(K6=\"\",\"\",IF(VLOOKUP(K6,漢字読み!$A$2:$O$502,7,0)=0,\"\",VLOOKUP(K6,漢字読み!$A$2:$O$502,7,0)))","v":""},{"$f":"IF(L6=\"\",\"\",IF(VLOOKUP(L6,漢字読み!$A$2:$O$502,7,0)=0,\"\",VLOOKUP(L6,漢字読み!$A$2:$O$502,7,0)))","v":"み"},{"$f":"IF(M6=\"\",\"\",IF(VLOOKUP(M6,漢字読み!$A$2:$O$502,7,0)=0,\"\",VLOOKUP(M6,漢字読み!$A$2:$O$502,7,0)))","v":""},{"$f":"IF(N6=\"\",\"\",IF(VLOOKUP(N6,漢字読み!$A$2:$O$502,7,0)=0,\"\",VLOOKUP(N6,漢字読み!$A$2:$O$502,7,0)))","v":""},{"$f":"IF(O6=\"\",\"\",IF(VLOOKUP(O6,漢字読み!$A$2:$O$502,7,0)=0,\"\",VLOOKUP(O6,漢字読み!$A$2:$O$502,7,0)))","v":""},{"$f":"IF(P6=\"\",\"\",IF(VLOOKUP(P6,漢字読み!$A$2:$O$502,7,0)=0,\"\",VLOOKUP(P6,漢字読み!$A$2:$O$502,7,0)))","v":""},{"$f":"IF(Q6=\"\",\"\",IF(VLOOKUP(Q6,漢字読み!$A$2:$O$502,7,0)=0,\"\",VLOOKUP(Q6,漢字読み!$A$2:$O$502,7,0)))","v":""},{"$f":"IF(R6=\"\",\"\",IF(VLOOKUP(R6,漢字読み!$A$2:$O$502,7,0)=0,\"\",VLOOKUP(R6,漢字読み!$A$2:$O$502,7,0)))","v":""},{"$f":"IF(S6=\"\",\"\",IF(VLOOKUP(S6,漢字読み!$A$2:$O$502,7,0)=0,\"\",VLOOKUP(S6,漢字読み!$A$2:$O$502,7,0)))","v":"まる"},{"$f":"IF(T6=\"\",\"\",IF(VLOOKUP(T6,漢字読み!$A$2:$O$502,7,0)=0,\"\",VLOOKUP(T6,漢字読み!$A$2:$O$502,7,0)))","v":""},null,null,"和歌山県教育委員会"]
[{"$f":"'関数（書き）'!$C$2","v":37},{"$f":"'関数（書き）'!$C$3","v":101},{"$f":"'関数（書き）'!$C$4","v":109},{"$f":"'関数（書き）'!$C$5","v":41},{"$f":"'関数（書き）'!$C$6","v":122},{"$f":"'関数（書き）'!$C$7","v":35},{"$f":"'関数（書き）'!$C$8","v":105},{"$f":"'関数（書き）'!$C$9","v":108},{"$f":"'関数（書き）'!$C$10","v":110},{"$f":"'関数（書き）'!$C$11","v":81},{"$f":"'関数（読み）'!$C$2","v":90},{"$f":"'関数（読み）'!$C$3","v":98},{"$f":"'関数（読み）'!$C$4","v":75},{"$f":"'関数（読み）'!$C$5","v":117},{"$f":"'関数（読み）'!$C$6","v":36},{"$f":"'関数（読み）'!$C$7","v":114},{"$f":"'関数（読み）'!$C$8","v":97},{"$f":"'関数（読み）'!$C$9","v":84},{"$f":"'関数（読み）'!$C$10","v":104},{"$f":"'関数（読み）'!$C$11","v":46}]
["⑳","⑲","⑱","⑰","⑯","⑮","⑭","⑬","⑫","⑪","⑩","⑨","⑧","⑦","⑥","⑤","④","③","②","①","次の［　　　　］の部分の漢字には読みがなをひらがなで書き、カタカナは漢字に直しなさい。",14,"「漢字の博士検定試験」練習問題　"]
[{"$f":"IF(A11=\"\",\"\",VLOOKUP(A11,漢字書き!$A$2:$N$506,6,0))","v":"［キョウ］か書をよむ"},{"$f":"IF(B11=\"\",\"\",VLOOKUP(B11,漢字書き!$A$2:$N$506,6,0))","v":"［コンシュウ］のニュース"},{"$f":"IF(C11=\"\",\"\",VLOOKUP(C11,漢字書き!$A$2:$N$506,6,0))","v":"ごはんを［タ］べる"},{"$f":"IF(D11=\"\",\"\",VLOOKUP(D11,漢字書き!$A$2:$N$506,6,0))","v":"車が［チカ］づく"},{"$f":"IF(E11=\"\",\"\",VLOOKUP(E11,漢字書き!$A$2:$N$506,6,0))","v":"［キッテ］をあつめる"},{"$f":"IF(F11=\"\",\"\",VLOOKUP(F11,漢字書き!$A$2:$N$506,6,0))","v":"［サカナ］がおよぐ"},{"$f":"IF(G11=\"\",\"\",VLOOKUP(G11,漢字書き!$A$2:$N$506,6,0))","v":"［ショウ］年とあそぶ"},{"$f":"IF(H11=\"\",\"\",VLOOKUP(H11,漢字書き!$A$2:$N$506,6,0))","v":"［ショク］じはたのしい"},{"$f":"IF(I11=\"\",\"\",VLOOKUP(I11,漢字書き!$A$2:$N$506,6,0))","v":"［ココロ］がはずむ"},{"$f":"IF(J11=\"\",\"\",VLOOKUP(J11,漢字書き!$A$2:$N$506,6,0))","v":"文を［ツク］る"},{"$f":"IF(K11=\"\",\"\",VLOOKUP(K11,漢字読み!$A$2:$O$506,6,0))","v":"［細］かい字"},{"$f":"IF(L11=\"\",\"\",VLOOKUP(L11,漢字読み!$A$2:$O$506,6,0))","v":"［矢］がささる"},{"$f":"IF(M11=\"\",\"\",VLOOKUP(M11,漢字読み!$A$2:$O$506,6,0))","v":"［光］をあびる"},{"$f":"IF(N11=\"\",\"\",VLOOKUP(N11,漢字読み!$A$2:$O$506,6,0))","v":"［春］がきた"},{"$f":"IF(O11=\"\",\"\",VLOOKUP(O11,漢字読み!$A$2:$O$506,6,0))","v":"［汽］てきをならす　　　"},{"$f":"IF(P11=\"\",\"\",VLOOKUP(P11,漢字読み!$A$2:$O$506,6,0))","v":"［秋］の夕ぐれ     "},{"$f":"IF(Q11=\"\",\"\",VLOOKUP(Q11,漢字読み!$A$2:$O$506,6,0))","v":"わか山［市］の学校"},{"$f":"IF(R11=\"\",\"\",VLOOKUP(R11,漢字読み!$A$2:$O$506,6,0))","v":"海外の［国］にあこがれる"},{"$f":"IF(S11=\"\",\"\",VLOOKUP(S11,漢字読み!$A$2:$O$506,6,0))","v":"とう大［寺］の大ぶつ"},{"$f":"IF(T11=\"\",\"\",VLOOKUP(T11,漢字読み!$A$2:$O$506,6,0))","v":"［京］とに行く     "},null,"級"]
[{"$f":"IF(A11=\"\",\"\",VLOOKUP(A11,漢字書き!$A$2:$N$506,8,0))","v":"教"},{"$f":"IF(B11=\"\",\"\",VLOOKUP(B11,漢字書き!$A$2:$N$506,8,0))","v":"今週"},{"$f":"IF(C11=\"\",\"\",VLOOKUP(C11,漢字書き!$A$2:$N$506,8,0))","v":"食"},{"$f":"IF(D11=\"\",\"\",VLOOKUP(D11,漢字書き!$A$2:$N$506,8,0))","v":"近"},{"$f":"IF(E11=\"\",\"\",VLOOKUP(E11,漢字書き!$A$2:$N$506,8,0))","v":"切手"},{"$f":"IF(F11=\"\",\"\",VLOOKUP(F11,漢字書き!$A$2:$N$506,8,0))","v":"魚"},{"$f":"IF(G11=\"\",\"\",VLOOKUP(G11,漢字書き!$A$2:$N$506,8,0))","v":"少"},{"$f":"IF(H11=\"\",\"\",VLOOKUP(H11,漢字書き!$A$2:$N$506,8,0))","v":"食"},{"$f":"IF(I11=\"\",\"\",VLOOKUP(I11,漢字書き!$A$2:$N$506,8,0))","v":"心"},{"$f":"IF(J11=\"\",\"\",VLOOKUP(J11,漢字書き!$A$2:$N$506,8,0))","v":"作"},{"$f":"IF(K11=\"\",\"\",VLOOKUP(K11,漢字読み!$A$2:$O$506,8,0))","v":"こま"},{"$f":"IF(L11=\"\",\"\",VLOOKUP(L11,漢字読み!$A$2:$O$506,8,0))","v":"や"},{"$f":"IF(M11=\"\",\"\",VLOOKUP(M11,漢字読み!$A$2:$O$506,8,0))","v":"ひかり"},{"$f":"IF(N11=\"\",\"\",VLOOKUP(N11,漢字読み!$A$2:$O$506,8,0))","v":"はる"},{"$f":"IF(O11=\"\",\"\",VLOOKUP(O11,漢字読み!$A$2:$O$506,8,0))","v":"き"},{"$f":"IF(P11=\"\",\"\",VLOOKUP(P11,漢字読み!$A$2:$O$506,8,0))","v":"あき"},{"$f":"IF(Q11=\"\",\"\",VLOOKUP(Q11,漢字読み!$A$2:$O$506,8,0))","v":"し"},{"$f":"IF(R11=\"\",\"\",VLOOKUP(R11,漢字読み!$A$2:$O$506,8,0))","v":"くに"},{"$f":"IF(S11=\"\",\"\",VLOOKUP(S11,漢字読み!$A$2:$O$506,8,0))","v":"じ"},{"$f":"IF(T11=\"\",\"\",VLOOKUP(T11,漢字読み!$A$2:$O$506,8,0))","v":"きょう"},null,"名前"]
[{"$f":"IF(A11=\"\",\"\",IF(VLOOKUP(A11,漢字書き!$A$2:$N$502,7,0)=0,\"\",VLOOKUP(A11,漢字書き!$A$2:$N$502,7,0)))","v":"か書"},{"$f":"IF(B11=\"\",\"\",IF(VLOOKUP(B11,漢字書き!$A$2:$N$502,7,0)=0,\"\",VLOOKUP(B11,漢字書き!$A$2:$N$502,7,0)))","v":""},{"$f":"IF(C11=\"\",\"\",IF(VLOOKUP(C11,漢字書き!$A$2:$N$502,7,0)=0,\"\",VLOOKUP(C11,漢字書き!$A$2:$N$502,7,0)))","v":"べる"},{"$f":"IF(D11=\"\",\"\",IF(VLOOKUP(D11,漢字書き!$A$2:$N$502,7,0)=0,\"\",VLOOKUP(D11,漢字書き!$A$2:$N$502,7,0)))","v":"づく"},{"$f":"IF(E11=\"\",\"\",IF(VLOOKUP(E11,漢字書き!$A$2:$N$502,7,0)=0,\"\",VLOOKUP(E11,漢字書き!$A$2:$N$502,7,0)))","v":""},{"$f":"IF(F11=\"\",\"\",IF(VLOOKUP(F11,漢字書き!$A$2:$N$502,7,0)=0,\"\",VLOOKUP(F11,漢字書き!$A$2:$N$502,7,0)))","v":""},{"$f":"IF(G11=\"\",\"\",IF(VLOOKUP(G11,漢字書き!$A$2:$N$502,7,0)=0,\"\",VLOOKUP(G11,漢字書き!$A$2:$N$502,7,0)))","v":"年"},{"$f":"IF(H11=\"\",\"\",IF(VLOOKUP(H11,漢字書き!$A$2:$N$502,7,0)=0,\"\",VLOOKUP(H11,漢字書き!$A$2:$N$502,7,0)))","v":"じ"},{"$f":"IF(I11=\"\",\"\",IF(VLOOKUP(I11,漢字書き!$A$2:$N$502,7,0)=0,\"\",VLOOKUP(I11,漢字書き!$A$2:$N$502,7,0)))","v":""},{"$f":"IF(J11=\"\",\"\",IF(VLOOKUP(J11,漢字書き!$A$2:$N$502,7,0)=0,\"\",VLOOKUP(J11,漢字書き!$A$2:$N$502,7,0)))","v":"る"},{"$f":"IF(K11=\"\",\"\",IF(VLOOKUP(K11,漢字読み!$A$2:$O$502,7,0)=0,\"\",VLOOKUP(K11,漢字読み!$A$2:$O$502,7,0)))","v":"かい"},{"$f":"IF(L11=\"\",\"\",IF(VLOOKUP(L11,漢字読み!$A$2:$O$502,7,0)=0,\"\",VLOOKUP(L11,漢字読み!$A$2:$O$502,7,0)))","v":""},{"$f":"IF(M11=\"\",\"\",IF(VLOOKUP(M11,漢字読み!$A$2:$O$502,7,0)=0,\"\",VLOOKUP(M11,漢字読み!$A$2:$O$502,7,0)))","v":""},{"$f":"IF(N11=\"\",\"\",IF(VLOOKUP(N11,漢字読み!$A$2:$O$502,7,0)=0,\"\",VLOOKUP(N11,漢字読み!$A$2:$O$502,7,0)))","v":""},{"$f":"IF(O11=\"\",\"\",IF(VLOOKUP(O11,漢字読み!$A$2:$O$502,7,0)=0,\"\",VLOOKUP(O11,漢字読み!$A$2:$O$502,7,0)))","v":"てき"},{"$f":"IF(P11=\"\",\"\",IF(VLOOKUP(P11,漢字読み!$A$2:$O$502,7,0)=0,\"\",VLOOKUP(P11,漢字読み!$A$2:$O$502,7,0)))","v":""},{"$f":"IF(Q11=\"\",\"\",IF(VLOOKUP(Q11,漢字読み!$A$2:$O$502,7,0)=0,\"\",VLOOKUP(Q11,漢字読み!$A$2:$O$502,7,0)))","v":""},{"$f":"IF(R11=\"\",\"\",IF(VLOOKUP(R11,漢字読み!$A$2:$O$502,7,0)=0,\"\",VLOOKUP(R11,漢字読み!$A$2:$O$502,7,0)))","v":""},{"$f":"IF(S11=\"\",\"\",IF(VLOOKUP(S11,漢字読み!$A$2:$O$502,7,0)=0,\"\",VLOOKUP(S11,漢字読み!$A$2:$O$502,7,0)))","v":""},{"$f":"IF(T11=\"\",\"\",IF(VLOOKUP(T11,漢字読み!$A$2:$O$502,7,0)=0,\"\",VLOOKUP(T11,漢字読み!$A$2:$O$502,7,0)))","v":"と"},null,null,"和歌山県教育委員会"]
[{"$f":"'関数（書き）'!$C$12","v":74},{"$f":"'関数（書き）'!$C$13","v":30},{"$f":"'関数（書き）'!$C$14","v":111},{"$f":"'関数（書き）'!$C$15","v":83},{"$f":"'関数（書き）'!$C$16","v":45},{"$f":"'関数（書き）'!$C$17","v":90},{"$f":"'関数（書き）'!$C$18","v":6},{"$f":"'関数（書き）'!$C$19","v":117},{"$f":"'関数（書き）'!$C$20","v":118},{"$f":"'関数（書き）'!$C$21","v":123},{"$f":"'関数（読み）'!$C$12","v":77},{"$f":"'関数（読み）'!$C$13","v":10},{"$f":"'関数（読み）'!$C$14","v":69},{"$f":"'関数（読み）'!$C$15","v":23},{"$f":"'関数（読み）'!$C$16","v":49},{"$f":"'関数（読み）'!$C$17","v":38},{"$f":"'関数（読み）'!$C$18","v":110},{"$f":"'関数（読み）'!$C$19","v":40},{"$f":"'関数（読み）'!$C$20","v":95},{"$f":"'関数（読み）'!$C$21","v":96}]
["⑳","⑲","⑱","⑰","⑯","⑮","⑭","⑬","⑫","⑪","⑩","⑨","⑧","⑦","⑥","⑤","④","③","②","①","次の［　　　　］の部分の漢字には読みがなをひらがなで書き、カタカナは漢字に直しなさい。",14,"「漢字の博士検定試験」練習問題　"]
[{"$f":"IF(A16=\"\",\"\",VLOOKUP(A16,漢字書き!$A$2:$N$506,6,0))","v":"［コク］ばんを見る"},{"$f":"IF(B16=\"\",\"\",VLOOKUP(B16,漢字書き!$A$2:$N$506,6,0))","v":"［ニッキ］をかく"},{"$f":"IF(C16=\"\",\"\",VLOOKUP(C16,漢字書き!$A$2:$N$506,6,0))","v":"［アタラ］しいえんぴつ"},{"$f":"IF(D16=\"\",\"\",VLOOKUP(D16,漢字書き!$A$2:$N$506,6,0))","v":"かけ［ザン］のべん強"},{"$f":"IF(E16=\"\",\"\",VLOOKUP(E16,漢字書き!$A$2:$N$506,6,0))","v":"［ケイサン］がとくい"},{"$f":"IF(F16=\"\",\"\",VLOOKUP(F16,漢字書き!$A$2:$N$506,6,0))","v":"［アネ］がいます"},{"$f":"IF(G16=\"\",\"\",VLOOKUP(G16,漢字書き!$A$2:$N$506,6,0))","v":"あすは［エンソク］だ"},{"$f":"IF(H16=\"\",\"\",VLOOKUP(H16,漢字書き!$A$2:$N$506,6,0))","v":"［ニシ］の空"},{"$f":"IF(I16=\"\",\"\",VLOOKUP(I16,漢字書き!$A$2:$N$506,6,0))","v":"きれいな［コエ］"},{"$f":"IF(J16=\"\",\"\",VLOOKUP(J16,漢字書き!$A$2:$N$506,6,0))","v":"はさみで［キ］る"},{"$f":"IF(K16=\"\",\"\",VLOOKUP(K16,漢字読み!$A$2:$O$506,6,0))","v":"［三行］で書く     "},{"$f":"IF(L16=\"\",\"\",VLOOKUP(L16,漢字読み!$A$2:$O$506,6,0))","v":"［夏休］みがはじまる"},{"$f":"IF(M16=\"\",\"\",VLOOKUP(M16,漢字読み!$A$2:$O$506,6,0))","v":"［図工］のじかん  "},{"$f":"IF(N16=\"\",\"\",VLOOKUP(N16,漢字読み!$A$2:$O$506,6,0))","v":"［絵画］を見る"},{"$f":"IF(O16=\"\",\"\",VLOOKUP(O16,漢字読み!$A$2:$O$506,6,0))","v":"［教室］に入る             "},{"$f":"IF(P16=\"\",\"\",VLOOKUP(P16,漢字読み!$A$2:$O$506,6,0))","v":"［日記］をつける     "},{"$f":"IF(Q16=\"\",\"\",VLOOKUP(Q16,漢字読み!$A$2:$O$506,6,0))","v":"［社会］のへんか      "},{"$f":"IF(R16=\"\",\"\",VLOOKUP(R16,漢字読み!$A$2:$O$506,6,0))","v":"［弓］の名人"},{"$f":"IF(S16=\"\",\"\",VLOOKUP(S16,漢字読み!$A$2:$O$506,6,0))","v":"でんしゃが［止］まる"},{"$f":"IF(T16=\"\",\"\",VLOOKUP(T16,漢字読み!$A$2:$O$506,6,0))","v":"［朝市］がひらかれる"},null,"級"]
[{"$f":"IF(A11=\"\",\"\",VLOOKUP(A16,漢字書き!$A$2:$N$506,8,0))","v":"黒"},{"$f":"IF(B11=\"\",\"\",VLOOKUP(B16,漢字書き!$A$2:$N$506,8,0))","v":"日記"},{"$f":"IF(C11=\"\",\"\",VLOOKUP(C16,漢字書き!$A$2:$N$506,8,0))","v":"新"},{"$f":"IF(D11=\"\",\"\",VLOOKUP(D16,漢字書き!$A$2:$N$506,8,0))","v":"算"},{"$f":"IF(E11=\"\",\"\",VLOOKUP(E16,漢字書き!$A$2:$N$506,8,0))","v":"計算"},{"$f":"IF(F11=\"\",\"\",VLOOKUP(F16,漢字書き!$A$2:$N$506,8,0))","v":"姉"},{"$f":"IF(G11=\"\",\"\",VLOOKUP(G16,漢字書き!$A$2:$N$506,8,0))","v":"遠足"},{"$f":"IF(H11=\"\",\"\",VLOOKUP(H16,漢字書き!$A$2:$N$506,8,0))","v":"西"},{"$f":"IF(I11=\"\",\"\",VLOOKUP(I16,漢字書き!$A$2:$N$506,8,0))","v":"声"},{"$f":"IF(J11=\"\",\"\",VLOOKUP(J16,漢字書き!$A$2:$N$506,8,0))","v":"切"},{"$f":"IF(K11=\"\",\"\",VLOOKUP(K16,漢字読み!$A$2:$O$506,8,0))","v":"さんぎょう"},{"$f":"IF(L11=\"\",\"\",VLOOKUP(L16,漢字読み!$A$2:$O$506,8,0))","v":"なつやす"},{"$f":"IF(M11=\"\",\"\",VLOOKUP(M16,漢字読み!$A$2:$O$506,8,0))","v":"ずこう"},{"$f":"IF(N11=\"\",\"\",VLOOKUP(N16,漢字読み!$A$2:$O$506,8,0))","v":"かいが"},{"$f":"IF(O11=\"\",\"\",VLOOKUP(O16,漢字読み!$A$2:$O$506,8,0))","v":"きょうしつ"},{"$f":"IF(P11=\"\",\"\",VLOOKUP(P16,漢字読み!$A$2:$O$506,8,0))","v":"にっき"},{"$f":"IF(Q11=\"\",\"\",VLOOKUP(Q16,漢字読み!$A$2:$O$506,8,0))","v":"しゃかい"},{"$f":"IF(R11=\"\",\"\",VLOOKUP(R16,漢字読み!$A$2:$O$506,8,0))","v":"ゆみ"},{"$f":"IF(S11=\"\",\"\",VLOOKUP(S16,漢字読み!$A$2:$O$506,8,0))","v":"と"},{"$f":"IF(T11=\"\",\"\",VLOOKUP(T16,漢字読み!$A$2:$O$506,8,0))","v":"あさいち"},null,"名前"]
[{"$f":"IF(A16=\"\",\"\",IF(VLOOKUP(A16,漢字書き!$A$2:$N$502,7,0)=0,\"\",(VLOOKUP(A16,漢字書き!$A$2:$N$502,7,0))))","v":"ばん"},{"$f":"IF(B16=\"\",\"\",IF(VLOOKUP(B16,漢字書き!$A$2:$N$502,7,0)=0,\"\",(VLOOKUP(B16,漢字書き!$A$2:$N$502,7,0))))","v":""},{"$f":"IF(X16=\"\",\"\",IF(VLOOKUP(X16,漢字書き!$A$2:$N$502,7,0)=0,\"\",VLOOKUP(X16,漢字書き!$A$2:$N$502,7,0)))","v":""},{"$f":"IF(D16=\"\",\"\",IF(VLOOKUP(D16,漢字書き!$A$2:$N$502,7,0)=0,\"\",VLOOKUP(D16,漢字書き!$A$2:$N$502,7,0)))","v":""},{"$f":"IF(E16=\"\",\"\",IF(VLOOKUP(E16,漢字書き!$A$2:$N$502,7,0)=0,\"\",(VLOOKUP(E16,漢字書き!$A$2:$N$502,7,0))))","v":""},{"$f":"IF(F16=\"\",\"\",IF(VLOOKUP(F16,漢字書き!$A$2:$N$502,7,0)=0,\"\",(VLOOKUP(F16,漢字書き!$A$2:$N$502,7,0))))","v":""},{"$f":"IF(G16=\"\",\"\",IF(VLOOKUP(G16,漢字書き!$A$2:$N$502,7,0)=0,\"\",VLOOKUP(G16,漢字書き!$A$2:$N$502,7,0)))","v":""},{"$f":"IF(H16=\"\",\"\",IF(VLOOKUP(H16,漢字書き!$A$2:$N$502,7,0)=0,\"\",VLOOKUP(H16,漢字書き!$A$2:$N$502,7,0)))","v":""},{"$f":"IF(I16=\"\",\"\",IF(VLOOKUP(I16,漢字書き!$A$2:$N$502,7,0)=0,\"\",VLOOKUP(I16,漢字書き!$A$2:$N$502,7,0)))","v":""},{"$f":"IF(J16=\"\",\"\",IF(VLOOKUP(J16,漢字書き!$A$2:$N$502,7,0)=0,\"\",VLOOKUP(J16,漢字書き!$A$2:$N$502,7,0)))","v":"る"},{"$f":"IF(K16=\"\",\"\",IF(VLOOKUP(K16,漢字読み!$A$2:$O$502,7,0)=0,\"\",VLOOKUP(K16,漢字読み!$A$2:$O$502,7,0)))","v":""},{"$f":"IF(L16=\"\",\"\",IF(VLOOKUP(L16,漢字読み!$A$2:$O$502,7,0)=0,\"\",VLOOKUP(L16,漢字読み!$A$2:$O$502,7,0)))","v":"み"},{"$f":"IF(M16=\"\",\"\",IF(VLOOKUP(M16,漢字読み!$A$2:$O$502,7,0)=0,\"\",VLOOKUP(M16,漢字読み!$A$2:$O$502,7,0)))","v":""},{"$f":"IF(N16=\"\",\"\",IF(VLOOKUP(N16,漢字読み!$A$2:$O$502,7,0)=0,\"\",VLOOKUP(N16,漢字読み!$A$2:$O$502,7,0)))","v":""},{"$f":"IF(O16=\"\",\"\",IF(VLOOKUP(O16,漢字読み!$A$2:$O$502,7,0)=0,\"\",VLOOKUP(O16,漢字読み!$A$2:$O$502,7,0)))","v":""},{"$f":"IF(P16=\"\",\"\",IF(VLOOKUP(P16,漢字読み!$A$2:$O$502,7,0)=0,\"\",VLOOKUP(P16,漢字読み!$A$2:$O$502,7,0)))","v":""},{"$f":"IF(Q16=\"\",\"\",IF(VLOOKUP(Q16,漢字読み!$A$2:$O$502,7,0)=0,\"\",VLOOKUP(Q16,漢字読み!$A$2:$O$502,7,0)))","v":""},{"$f":"IF(R16=\"\",\"\",IF(VLOOKUP(R16,漢字読み!$A$2:$O$502,7,0)=0,\"\",VLOOKUP(R16,漢字読み!$A$2:$O$502,7,0)))","v":""},{"$f":"IF(S16=\"\",\"\",IF(VLOOKUP(S16,漢字読み!$A$2:$O$502,7,0)=0,\"\",VLOOKUP(S16,漢字読み!$A$2:$O$502,7,0)))","v":"まる"},{"$f":"IF(T16=\"\",\"\",IF(VLOOKUP(T16,漢字読み!$A$2:$O$502,7,0)=0,\"\",VLOOKUP(T16,漢字読み!$A$2:$O$502,7,0)))","v":""},null,null,"和歌山県教育委員会"]

{"sheet":"網羅問題（関数） ","index":1,"n_rows":420,"n_cols":36,"rows_kept":420,"cut":false,"hidden":false,"merged":[[411,20,414,20],[411,22,413,22],[413,21,414,21],[416,20,419,20],[416,22,418,22],[418,21,419,21],[401,20,404,20],[401,22,403,22],[403,21,404,21],[406,20,409,20],[406,22,408,22],[408,21,409,21],[391,20,394,20],[391,22,393,22],[393,21,394,21],[396,20,399,20],[396,22,398,22],[398,21,399,21],[381,20,384,20],[381,22,383,22],[383,21,384,21],[386,20,389,20],[386,22,388,22],[388,21,389,21],[371,20,374,20],[371,22,373,22],[373,21,374,21],[376,20,379,20],[376,22,378,22],[378,21,379,21],[361,20,364,20],[361,22,363,22],[363,21,364,21],[366,20,369,20],[366,22,368,22],[368,21,369,21],[351,20,354,20],[351,22,353,22],[353,21,354,21],[356,20,359,20],[356,22,358,22],[358,21,359,21],[341,20,344,20],[341,22,343,22],[343,21,344,21],[346,20,349,20],[346,22,348,22],[348,21,349,21],[331,20,334,20],[331,22,333,22],[333,21,334,21],[336,20,339,20],[336,22,338,22],[338,21,339,21],[321,20,324,20],[321,22,323,22],[323,21,324,21],[326,20,329,20],[326,22,328,22],[328,21,329,21],[311,20,314,20],[311,22,313,22],[313,21,314,21],[316,20,319,20],[316,22,318,22],[318,21,319,21],[301,20,304,20],[301,22,303,22],[303,21,304,21],[306,20,309,20],[306,22,308,22],[308,21,309,21],[291,20,294,20],[291,22,293,22],[293,21,294,21],[296,20,299,20],[296,22,298,22],[298,21,299,21],[281,20,284,20],[281,22,283,22],[283,21,284,21],[286,20,289,20],[286,22,288,22],[288,21,289,21],[271,20,274,20],[271,22,273,22],[273,21,274,21],[276,20,279,20],[276,22,278,22],[278,21,279,21],[261,20,264,20],[261,22,263,22],[263,21,264,21],[266,20,269,20],[266,22,268,22],[268,21,269,21],[251,20,254,20],[251,22,253,22],[253,21,254,21],[256,20,259,20],[256,22,258,22],[258,21,259,21],[241,20,244,20],[241,22,243,22],[243,21,244,21],[246,20,249,20],[246,22,248,22],[248,21,249,21],[231,20,234,20],[231,22,233,22],[233,21,234,21],[236,20,239,20],[236,22,238,22],[238,21,239,21],[221,20,224,20],[221,22,223,22],[223,21,224,21],[226,20,229,20],[226,22,228,22],[228,21,229,21],[211,20,214,20],[211,22,213,22],[213,21,214,21],[216,20,219,20],[216,22,218,22],[218,21,219,21],[201,20,204,20],[201,22,203,22],[203,21,204,21],[206,20,209,20],[206,22,208,22],[208,21,209,21],[191,20,194,20],[191,22,193,22],[193,21,194,21],[196,20,199,20],[196,22,198,22],[198,21,199,21],[181,20,184,20],[181,22,183,22],[183,21,184,21],[186,20,189,20],[186,22,188,22],[188,21,189,21],[171,20,174,20],[171,22,173,22],[173,21,174,21],[176,20,179,20],[176,22,178,22],[178,21,179,21],[161,20,164,20],[161,22,163,22],[163,21,164,21],[166,20,169,20],[166,22,168,22],[168,21,169,21],[151,20,154,20],[151,22,153,22],[153,21,154,21],[156,20,159,20],[156,22,158,22],[158,21,159,21],[141,20,144,20],[141,22,143,22],[143,21,144,21],[146,20,149,20],[146,22,148,22],[148,21,149,21],[131,20,134,20],[131,22,133,22],[133,21,134,21],[136,20,139,20],[136,22,138,22],[138,21,139,21],[121,20,124,20],[121,22,123,22],[123,21,124,21],[126,20,129,20],[126,22,128,22],[128,21,129,21],[111,20,114,20],[111,22,113,22],[113,21,114,21],[116,20,119,20],[116,22,118,22],[118,21,119,21],[101,20,104,20],[101,22,103,22],[103,21,104,21],[106,20,109,20],[106,22,108,22],[108,21,109,21],[91,20,94,20],[91,22,93,22],[93,21,94,21],[96,20,99,20],[96,22,98,22],[98,21,99,21],[81,20,84,20],[81,22,83,22],[83,21,84,21],[86,20,89,20],[86,22,88,22],[88,21,89,21],[71,20,74,20],[71,22,73,22],[73,21,74,21],[76,20,79,20],[76,22,78,22],[78,21,79,21],[61,20,64,20],[61,22,63,22],[63,21,64,21],[66,20,69,20],[66,22,68,22],[68,21,69,21],[51,20,54,20],[51,22,53,22],[53,21,54,21],[56,20,59,20],[56,22,58,22],[58,21,59,21],[41,20,44,20],[41,22,43,22],[43,21,44,21],[46,20,49,20],[46,22,48,22],[48,21,49,21],[31,20,34,20],[31,22,33,22],[33,21,34,21],[36,20,39,20],[36,22,38,22],[38,21,39,21],[21,20,24,20],[21,22,23,22],[23,21,24,21],[26,20,29,20],[26,22,28,22],[28,21,29,21],[11,20,14,20],[11,22,13,22],[13,21,14,21],[16,20,19,20],[16,22,18,22],[18,21,19,21],[1,20,4,20],[1,22,3,22],[3,21,4,21],[6,20,9,20],[6,22,8,22],[8,21,9,21]]}
[{"$f":"INDIRECT(\"'関数（書き）'!C\" & COLUMN(B$1)+SUM($AD$2:$AD2))","v":37},{"$f":"INDIRECT(\"'関数（書き）'!C\" & COLUMN(C$1)+SUM($AD$2:$AD2))","v":101},{"$f":"INDIRECT(\"'関数（書き）'!C\" & COLUMN(D$1)+SUM($AD$2:$AD2))","v":109},{"$f":"INDIRECT(\"'関数（書き）'!C\" & COLUMN(E$1)+SUM($AD$2:$AD2))","v":41},{"$f":"INDIRECT(\"'関数（書き）'!C\" & COLUMN(F$1)+SUM($AD$2:$AD2))","v":122},{"$f":"INDIRECT(\"'関数（書き）'!C\" & COLUMN(G$1)+SUM($AD$2:$AD2))","v":35},{"$f":"INDIRECT(\"'関数（書き）'!C\" & COLUMN(H$1)+SUM($AD$2:$AD2))","v":105},{"$f":"INDIRECT(\"'関数（書き）'!C\" & COLUMN(I$1)+SUM($AD$2:$AD2))","v":108},{"$f":"INDIRECT(\"'関数（書き）'!C\" & COLUMN(J$1)+SUM($AD$2:$AD2))","v":110},{"$f":"INDIRECT(\"'関数（書き）'!C\" & COLUMN(K$1)+SUM($AD$2:$AD2))","v":81},{"$f":"INDIRECT(\"'関数（読み）'!C\" & COLUMN(B$1)+SUM($AD$2:$AD2))","v":90},{"$f":"INDIRECT(\"'関数（読み）'!C\" & COLUMN(C$1)+SUM($AD$2:$AD2))","v":98},{"$f":"INDIRECT(\"'関数（読み）'!C\" & COLUMN(D$1)+SUM($AD$2:$AD2))","v":75},{"$f":"INDIRECT(\"'関数（読み）'!C\" & COLUMN(E$1)+SUM($AD$2:$AD2))","v":117},{"$f":"INDIRECT(\"'関数（読み）'!C\" & COLUMN(F$1)+SUM($AD$2:$AD2))","v":36},{"$f":"INDIRECT(\"'関数（読み）'!C\" & COLUMN(G$1)+SUM($AD$2:$AD2))","v":114},{"$f":"INDIRECT(\"'関数（読み）'!C\" & COLUMN(H$1)+SUM($AD$2:$AD2))","v":97},{"$f":"INDIRECT(\"'関数（読み）'!C\" & COLUMN(I$1)+SUM($AD$2:$AD2))","v":84},{"$f":"INDIRECT(\"'関数（読み）'!C\" & COLUMN(J$1)+SUM($AD$2:$AD2))","v":104},{"$f":"INDIRECT(\"'関数（読み）'!C\" & COLUMN(K$1)+SUM($AD$2:$AD2))","v":46}]
["⑳","⑲","⑱","⑰","⑯","⑮","⑭","⑬","⑫","⑪","⑩","⑨","⑧","⑦","⑥","⑤","④","③","②","①","次の［　　　　］の部分の漢字には読みがなをひらがなで書き、カタカナは漢字に直しなさい。",14,"「漢字の博士検定試験」練習問題　",null,null,null,null,null,null,0,"問",1,"～",{"$f":"SUM($AD$2:$AD2)+10","v":10},"問まで",{"$f":"COUNTIF($A$1:$T$200,T3)","v":2}]
[{"$f":"IF(A1=\"\",\"\",VLOOKUP(A1,漢字書き!$A$2:$N$506,6,0))","v":"［キョウ］か書をよむ"},{"$f":"IF(B1=\"\",\"\",VLOOKUP(B1,漢字書き!$A$2:$N$506,6,0))","v":"［コンシュウ］のニュース"},{"$f":"IF(C1=\"\",\"\",VLOOKUP(C1,漢字書き!$A$2:$N$506,6,0))","v":"ごはんを［タ］べる"},{"$f":"IF(D1=\"\",\"\",VLOOKUP(D1,漢字書き!$A$2:$N$506,6,0))","v":"車が［チカ］づく"},{"$f":"IF(E1=\"\",\"\",VLOOKUP(E1,漢字書き!$A$2:$N$506,6,0))","v":"［キッテ］をあつめる"},{"$f":"IF(F1=\"\",\"\",VLOOKUP(F1,漢字書き!$A$2:$N$506,6,0))","v":"［サカナ］がおよぐ"},{"$f":"IF(G1=\"\",\"\",VLOOKUP(G1,漢字書き!$A$2:$N$506,6,0))","v":"［ショウ］年とあそぶ"},{"$f":"IF(H1=\"\",\"\",VLOOKUP(H1,漢字書き!$A$2:$N$506,6,0))","v":"［ショク］じはたのしい"},{"$f":"IF(I1=\"\",\"\",VLOOKUP(I1,漢字書き!$A$2:$N$506,6,0))","v":"［ココロ］がはずむ"},{"$f":"IF(J1=\"\",\"\",VLOOKUP(J1,漢字書き!$A$2:$N$506,6,0))","v":"文を［ツク］る"},{"$f":"IF(K1=\"\",\"\",VLOOKUP(K1,漢字読み!$A$2:$O$506,6,0))","v":"［細］かい字"},{"$f":"IF(L1=\"\",\"\",VLOOKUP(L1,漢字読み!$A$2:$O$506,6,0))","v":"［矢］がささる"},{"$f":"IF(M1=\"\",\"\",VLOOKUP(M1,漢字読み!$A$2:$O$506,6,0))","v":"［光］をあびる"},{"$f":"IF(N1=\"\",\"\",VLOOKUP(N1,漢字読み!$A$2:$O$506,6,0))","v":"［春］がきた"},{"$f":"IF(O1=\"\",\"\",VLOOKUP(O1,漢字読み!$A$2:$O$506,6,0))","v":"［汽］てきをならす　　　"},{"$f":"IF(P1=\"\",\"\",VLOOKUP(P1,漢字読み!$A$2:$O$506,6,0))","v":"［秋］の夕ぐれ     "},{"$f":"IF(Q1=\"\",\"\",VLOOKUP(Q1,漢字読み!$A$2:$O$506,6,0))","v":"わか山［市］の学校"},{"$f":"IF(R1=\"\",\"\",VLOOKUP(R1,漢字読み!$A$2:$O$506,6,0))","v":"海外の［国］にあこがれる"},{"$f":"IF(S1=\"\",\"\",VLOOKUP(S1,漢字読み!$A$2:$O$506,6,0))","v":"とう大［寺］の大ぶつ"},{"$f":"IF(T1=\"\",\"\",VLOOKUP(T1,漢字読み!$A$2:$O$506,6,0))","v":"［京］とに行く     "},null,"級"]
[null,null,null,null,null,null,null,null,null,null,null,null,null,null,null,null,null,null,null,null,null,"名前"]
[{"$f":"IF(A1=\"\",\"\",IF(VLOOKUP(A1,漢字書き!$A$2:$N$502,7,0)=0,\"\",VLOOKUP(A1,漢字書き!$A$2:$N$502,7,0)))","v":"か書"},{"$f":"IF(B1=\"\",\"\",IF(VLOOKUP(B1,漢字書き!$A$2:$N$502,7,0)=0,\"\",VLOOKUP(B1,漢字書き!$A$2:$N$502,7,0)))","v":""},{"$f":"IF(C1=\"\",\"\",IF(VLOOKUP(C1,漢字書き!$A$2:$N$502,7,0)=0,\"\",VLOOKUP(C1,漢字書き!$A$2:$N$502,7,0)))","v":"べる"},{"$f":"IF(D1=\"\",\"\",IF(VLOOKUP(D1,漢字書き!$A$2:$N$502,7,0)=0,\"\",VLOOKUP(D1,漢字書き!$A$2:$N$502,7,0)))","v":"づく"},{"$f":"IF(E1=\"\",\"\",IF(VLOOKUP(E1,漢字書き!$A$2:$N$502,7,0)=0,\"\",VLOOKUP(E1,漢字書き!$A$2:$N$502,7,0)))","v":""},{"$f":"IF(F1=\"\",\"\",IF(VLOOKUP(F1,漢字書き!$A$2:$N$502,7,0)=0,\"\",VLOOKUP(F1,漢字書き!$A$2:$N$502,7,0)))","v":""},{"$f":"IF(G1=\"\",\"\",IF(VLOOKUP(G1,漢字書き!$A$2:$N$502,7,0)=0,\"\",VLOOKUP(G1,漢字書き!$A$2:$N$502,7,0)))","v":"年"},{"$f":"IF(H1=\"\",\"\",IF(VLOOKUP(H1,漢字書き!$A$2:$N$502,7,0)=0,\"\",VLOOKUP(H1,漢字書き!$A$2:$N$502,7,0)))","v":"じ"},{"$f":"IF(I1=\"\",\"\",IF(VLOOKUP(I1,漢字書き!$A$2:$N$502,7,0)=0,\"\",VLOOKUP(I1,漢字書き!$A$2:$N$502,7,0)))","v":""},{"$f":"IF(J1=\"\",\"\",IF(VLOOKUP(J1,漢字書き!$A$2:$N$502,7,0)=0,\"\",VLOOKUP(J1,漢字書き!$A$2:$N$502,7,0)))","v":"る"},{"$f":"IF(K1=\"\",\"\",IF(VLOOKUP(K1,漢字読み!$A$2:$O$502,7,0)=0,\"\",VLOOKUP(K1,漢字読み!$A$2:$O$502,7,0)))","v":"かい"},{"$f":"IF(L1=\"\",\"\",IF(VLOOKUP(L1,漢字読み!$A$2:$O$502,7,0)=0,\"\",VLOOKUP(L1,漢字読み!$A$2:$O$502,7,0)))","v":""},{"$f":"IF(M1=\"\",\"\",IF(VLOOKUP(M1,漢字読み!$A$2:$O$502,7,0)=0,\"\",VLOOKUP(M1,漢字読み!$A$2:$O$502,7,0)))","v":""},{"$f":"IF(N1=\"\",\"\",IF(VLOOKUP(N1,漢字読み!$A$2:$O$502,7,0)=0,\"\",VLOOKUP(N1,漢字読み!$A$2:$O$502,7,0)))","v":""},{"$f":"IF(O1=\"\",\"\",IF(VLOOKUP(O1,漢字読み!$A$2:$O$502,7,0)=0,\"\",VLOOKUP(O1,漢字読み!$A$2:$O$502,7,0)))","v":"てき"},{"$f":"IF(P1=\"\",\"\",IF(VLOOKUP(P1,漢字読み!$A$2:$O$502,7,0)=0,\"\",VLOOKUP(P1,漢字読み!$A$2:$O$502,7,0)))","v":""},{"$f":"IF(Q1=\"\",\"\",IF(VLOOKUP(Q1,漢字読み!$A$2:$O$502,7,0)=0,\"\",VLOOKUP(Q1,漢字読み!$A$2:$O$502,7,0)))","v":""},{"$f":"IF(R1=\"\",\"\",IF(VLOOKUP(R1,漢字読み!$A$2:$O$502,7,0)=0,\"\",VLOOKUP(R1,漢字読み!$A$2:$O$502,7,0)))","v":""},{"$f":"IF(S1=\"\",\"\",IF(VLOOKUP(S1,漢字読み!$A$2:$O$502,7,0)=0,\"\",VLOOKUP(S1,漢字読み!$A$2:$O$502,7,0)))","v":""},{"$f":"IF(T1=\"\",\"\",IF(VLOOKUP(T1,漢字読み!$A$2:$O$502,7,0)=0,\"\",VLOOKUP(T1,漢字読み!$A$2:$O$502,7,0)))","v":"と"},null,null,"和歌山県教育委員会"]
[{"$f":"INDIRECT(\"'関数（書き）'!C\" & COLUMN(B$1)+SUM($AD$2:$AD7))","v":74},{"$f":"INDIRECT(\"'関数（書き）'!C\" & COLUMN(C$1)+SUM($AD$2:$AD7))","v":30},{"$f":"INDIRECT(\"'関数（書き）'!C\" & COLUMN(D$1)+SUM($AD$2:$AD7))","v":111},{"$f":"INDIRECT(\"'関数（書き）'!C\" & COLUMN(E$1)+SUM($AD$2:$AD7))","v":83},{"$f":"INDIRECT(\"'関数（書き）'!C\" & COLUMN(F$1)+SUM($AD$2:$AD7))","v":45},{"$f":"INDIRECT(\"'関数（書き）'!C\" & COLUMN(G$1)+SUM($AD$2:$AD7))","v":90},{"$f":"INDIRECT(\"'関数（書き）'!C\" & COLUMN(H$1)+SUM($AD$2:$AD7))","v":6},{"$f":"INDIRECT(\"'関数（書き）'!C\" & COLUMN(I$1)+SUM($AD$2:$AD7))","v":117},{"$f":"INDIRECT(\"'関数（書き）'!C\" & COLUMN(J$1)+SUM($AD$2:$AD7))","v":118},{"$f":"INDIRECT(\"'関数（書き）'!C\" & COLUMN(K$1)+SUM($AD$2:$AD7))","v":123},{"$f":"INDIRECT(\"'関数（読み）'!C\" & COLUMN(B$1)+SUM($AD$2:$AD7))","v":77},{"$f":"INDIRECT(\"'関数（読み）'!C\" & COLUMN(C$1)+SUM($AD$2:$AD7))","v":10},{"$f":"INDIRECT(\"'関数（読み）'!C\" & COLUMN(D$1)+SUM($AD$2:$AD7))","v":69},{"$f":"INDIRECT(\"'関数（読み）'!C\" & COLUMN(E$1)+SUM($AD$2:$AD7))","v":23},{"$f":"INDIRECT(\"'関数（読み）'!C\" & COLUMN(F$1)+SUM($AD$2:$AD7))","v":49},{"$f":"INDIRECT(\"'関数（読み）'!C\" & COLUMN(G$1)+SUM($AD$2:$AD7))","v":38},{"$f":"INDIRECT(\"'関数（読み）'!C\" & COLUMN(H$1)+SUM($AD$2:$AD7))","v":110},{"$f":"INDIRECT(\"'関数（読み）'!C\" & COLUMN(I$1)+SUM($AD$2:$AD7))","v":40},{"$f":"INDIRECT(\"'関数（読み）'!C\" & COLUMN(J$1)+SUM($AD$2:$AD7))","v":95},{"$f":"INDIRECT(\"'関数（読み）'!C\" & COLUMN(K$1)+SUM($AD$2:$AD7))","v":96}]
["⑳","⑲","⑱","⑰","⑯","⑮","⑭","⑬","⑫","⑪","⑩","⑨","⑧","⑦","⑥","⑤","④","③","②","①","次の［　　　　］の部分の漢字には読みがなをひらがなで書き、カタカナは漢字に直しなさい。",14,"「漢字の博士検定試験」練習問題　",null,null,null,null,null,"←",10,"問",{"$f":"AH2+1","v":11},"～",{"$f":"SUM($AD$2:$AD7)+10","v":20},"問まで",{"$f":"COUNTIF($A$1:$T$200,T8)","v":2}]
[{"$f":"IF(A6=\"\",\"\",VLOOKUP(A6,漢字書き!$A$2:$N$506,6,0))","v":"［コク］ばんを見る"},{"$f":"IF(B6=\"\",\"\",VLOOKUP(B6,漢字書き!$A$2:$N$506,6,0))","v":"［ニッキ］をかく"},{"$f":"IF(C6=\"\",\"\",VLOOKUP(C6,漢字書き!$A$2:$N$506,6,0))","v":"［アタラ］しいえんぴつ"},{"$f":"IF(D6=\"\",\"\",VLOOKUP(D6,漢字書き!$A$2:$N$506,6,0))","v":"かけ［ザン］のべん強"},{"$f":"IF(E6=\"\",\"\",VLOOKUP(E6,漢字書き!$A$2:$N$506,6,0))","v":"［ケイサン］がとくい"},{"$f":"IF(F6=\"\",\"\",VLOOKUP(F6,漢字書き!$A$2:$N$506,6,0))","v":"［アネ］がいます"},{"$f":"IF(G6=\"\",\"\",VLOOKUP(G6,漢字書き!$A$2:$N$506,6,0))","v":"あすは［エンソク］だ"},{"$f":"IF(H6=\"\",\"\",VLOOKUP(H6,漢字書き!$A$2:$N$506,6,0))","v":"［ニシ］の空"},{"$f":"IF(I6=\"\",\"\",VLOOKUP(I6,漢字書き!$A$2:$N$506,6,0))","v":"きれいな［コエ］"},{"$f":"IF(J6=\"\",\"\",VLOOKUP(J6,漢字書き!$A$2:$N$506,6,0))","v":"はさみで［キ］る"},{"$f":"IF(K6=\"\",\"\",VLOOKUP(K6,漢字読み!$A$2:$O$506,6,0))","v":"［三行］で書く     "},{"$f":"IF(L6=\"\",\"\",VLOOKUP(L6,漢字読み!$A$2:$O$506,6,0))","v":"［夏休］みがはじまる"},{"$f":"IF(M6=\"\",\"\",VLOOKUP(M6,漢字読み!$A$2:$O$506,6,0))","v":"［図工］のじかん  "},{"$f":"IF(N6=\"\",\"\",VLOOKUP(N6,漢字読み!$A$2:$O$506,6,0))","v":"［絵画］を見る"},{"$f":"IF(O6=\"\",\"\",VLOOKUP(O6,漢字読み!$A$2:$O$506,6,0))","v":"［教室］に入る             "},{"$f":"IF(P6=\"\",\"\",VLOOKUP(P6,漢字読み!$A$2:$O$506,6,0))","v":"［日記］をつける     "},{"$f":"IF(Q6=\"\",\"\",VLOOKUP(Q6,漢字読み!$A$2:$O$506,6,0))","v":"［社会］のへんか      "},{"$f":"IF(R6=\"\",\"\",VLOOKUP(R6,漢字読み!$A$2:$O$506,6,0))","v":"［弓］の名人"},{"$f":"IF(S6=\"\",\"\",VLOOKUP(S6,漢字読み!$A$2:$O$506,6,0))","v":"でんしゃが［止］まる"},{"$f":"IF(T6=\"\",\"\",VLOOKUP(T6,漢字読み!$A$2:$O$506,6,0))","v":"［朝市］がひらかれる"},null,"級"]
[null,null,null,null,null,null,null,null,null,null,null,null,null,null,null,null,null,null,null,null,null,"名前"]
[{"$f":"IF(A6=\"\",\"\",IF(VLOOKUP(A6,漢字書き!$A$2:$N$502,7,0)=0,\"\",VLOOKUP(A6,漢字書き!$A$2:$N$502,7,0)))","v":"ばん"},{"$f":"IF(B6=\"\",\"\",IF(VLOOKUP(B6,漢字書き!$A$2:$N$502,7,0)=0,\"\",VLOOKUP(B6,漢字書き!$A$2:$N$502,7,0)))","v":""},{"$f":"IF(C6=\"\",\"\",IF(VLOOKUP(C6,漢字書き!$A$2:$N$502,7,0)=0,\"\",VLOOKUP(C6,漢字書き!$A$2:$N$502,7,0)))","v":"しい"},{"$f":"IF(D6=\"\",\"\",IF(VLOOKUP(D6,漢字書き!$A$2:$N$502,7,0)=0,\"\",VLOOKUP(D6,漢字書き!$A$2:$N$502,7,0)))","v":""},{"$f":"IF(E6=\"\",\"\",IF(VLOOKUP(E6,漢字書き!$A$2:$N$502,7,0)=0,\"\",VLOOKUP(E6,漢字書き!$A$2:$N$502,7,0)))","v":""},{"$f":"IF(F6=\"\",\"\",IF(VLOOKUP(F6,漢字書き!$A$2:$N$502,7,0)=0,\"\",VLOOKUP(F6,漢字書き!$A$2:$N$502,7,0)))","v":""},{"$f":"IF(G6=\"\",\"\",IF(VLOOKUP(G6,漢字書き!$A$2:$N$502,7,0)=0,\"\",VLOOKUP(G6,漢字書き!$A$2:$N$502,7,0)))","v":""},{"$f":"IF(H6=\"\",\"\",IF(VLOOKUP(H6,漢字書き!$A$2:$N$502,7,0)=0,\"\",VLOOKUP(H6,漢字書き!$A$2:$N$502,7,0)))","v":""},{"$f":"IF(I6=\"\",\"\",IF(VLOOKUP(I6,漢字書き!$A$2:$N$502,7,0)=0,\"\",VLOOKUP(I6,漢字書き!$A$2:$N$502,7,0)))","v":""},{"$f":"IF(J6=\"\",\"\",IF(VLOOKUP(J6,漢字書き!$A$2:$N$502,7,0)=0,\"\",VLOOKUP(J6,漢字書き!$A$2:$N$502,7,0)))","v":"る"},{"$f":"IF(K6=\"\",\"\",IF(VLOOKUP(K6,漢字読み!$A$2:$O$502,7,0)=0,\"\",VLOOKUP(K6,漢字読み!$A$2:$O$502,7,0)))","v":""},{"$f":"IF(L6=\"\",\"\",IF(VLOOKUP(L6,漢字読み!$A$2:$O$502,7,0)=0,\"\",VLOOKUP(L6,漢字読み!$A$2:$O$502,7,0)))","v":"み"},{"$f":"IF(M6=\"\",\"\",IF(VLOOKUP(M6,漢字読み!$A$2:$O$502,7,0)=0,\"\",VLOOKUP(M6,漢字読み!$A$2:$O$502,7,0)))","v":""},{"$f":"IF(N6=\"\",\"\",IF(VLOOKUP(N6,漢字読み!$A$2:$O$502,7,0)=0,\"\",VLOOKUP(N6,漢字読み!$A$2:$O$502,7,0)))","v":""},{"$f":"IF(O6=\"\",\"\",IF(VLOOKUP(O6,漢字読み!$A$2:$O$502,7,0)=0,\"\",VLOOKUP(O6,漢字読み!$A$2:$O$502,7,0)))","v":""},{"$f":"IF(P6=\"\",\"\",IF(VLOOKUP(P6,漢字読み!$A$2:$O$502,7,0)=0,\"\",VLOOKUP(P6,漢字読み!$A$2:$O$502,7,0)))","v":""},{"$f":"IF(Q6=\"\",\"\",IF(VLOOKUP(Q6,漢字読み!$A$2:$O$502,7,0)=0,\"\",VLOOKUP(Q6,漢字読み!$A$2:$O$502,7,0)))","v":""},{"$f":"IF(R6=\"\",\"\",IF(VLOOKUP(R6,漢字読み!$A$2:$O$502,7,0)=0,\"\",VLOOKUP(R6,漢字読み!$A$2:$O$502,7,0)))","v":""},{"$f":"IF(S6=\"\",\"\",IF(VLOOKUP(S6,漢字読み!$A$2:$O$502,7,0)=0,\"\",VLOOKUP(S6,漢字読み!$A$2:$O$502,7,0)))","v":"まる"},{"$f":"IF(T6=\"\",\"\",IF(VLOOKUP(T6,漢字読み!$A$2:$O$502,7,0)=0,\"\",VLOOKUP(T6,漢字読み!$A$2:$O$502,7,0)))","v":""},null,null,"和歌山県教育委員会"]
[{"$f":"A1","v":37},{"$f":"B1","v":101},{"$f":"C1","v":109},{"$f":"D1","v":41},{"$f":"E1","v":122},{"$f":"F1","v":35},{"$f":"G1","v":105},{"$f":"H1","v":108},{"$f":"I1","v":110},{"$f":"J1","v":81},{"$f":"K1","v":90},{"$f":"L1","v":98},{"$f":"M1","v":75},{"$f":"N1","v":117},{"$f":"O1","v":36},{"$f":"P1","v":114},{"$f":"Q1","v":97},{"$f":"R1","v":84},{"$f":"S1","v":104},{"$f":"T1","v":46}]
["⑳","⑲","⑱","⑰","⑯","⑮","⑭","⑬","⑫","⑪","⑩","⑨","⑧","⑦","⑥","⑤","④","③","②","①","次の［　　　　］の部分の漢字には読みがなをひらがなで書き、カタカナは漢字に直しなさい。",14,"「漢字の博士検定試験」練習問題　"]
[{"$f":"IF(A11=\"\",\"\",VLOOKUP(A11,漢字書き!$A$2:$N$506,6,0))","v":"［キョウ］か書をよむ"},{"$f":"IF(B11=\"\",\"\",VLOOKUP(B11,漢字書き!$A$2:$N$506,6,0))","v":"［コンシュウ］のニュース"},{"$f":"IF(C11=\"\",\"\",VLOOKUP(C11,漢字書き!$A$2:$N$506,6,0))","v":"ごはんを［タ］べる"},{"$f":"IF(D11=\"\",\"\",VLOOKUP(D11,漢字書き!$A$2:$N$506,6,0))","v":"車が［チカ］づく"},{"$f":"IF(E11=\"\",\"\",VLOOKUP(E11,漢字書き!$A$2:$N$506,6,0))","v":"［キッテ］をあつめる"},{"$f":"IF(F11=\"\",\"\",VLOOKUP(F11,漢字書き!$A$2:$N$506,6,0))","v":"［サカナ］がおよぐ"},{"$f":"IF(G11=\"\",\"\",VLOOKUP(G11,漢字書き!$A$2:$N$506,6,0))","v":"［ショウ］年とあそぶ"},{"$f":"IF(H11=\"\",\"\",VLOOKUP(H11,漢字書き!$A$2:$N$506,6,0))","v":"［ショク］じはたのしい"},{"$f":"IF(I11=\"\",\"\",VLOOKUP(I11,漢字書き!$A$2:$N$506,6,0))","v":"［ココロ］がはずむ"},{"$f":"IF(J11=\"\",\"\",VLOOKUP(J11,漢字書き!$A$2:$N$506,6,0))","v":"文を［ツク］る"},{"$f":"IF(K11=\"\",\"\",VLOOKUP(K11,漢字読み!$A$2:$O$506,6,0))","v":"［細］かい字"},{"$f":"IF(L11=\"\",\"\",VLOOKUP(L11,漢字読み!$A$2:$O$506,6,0))","v":"［矢］がささる"},{"$f":"IF(M11=\"\",\"\",VLOOKUP(M11,漢字読み!$A$2:$O$506,6,0))","v":"［光］をあびる"},{"$f":"IF(N11=\"\",\"\",VLOOKUP(N11,漢字読み!$A$2:$O$506,6,0))","v":"［春］がきた"},{"$f":"IF(O11=\"\",\"\",VLOOKUP(O11,漢字読み!$A$2:$O$506,6,0))","v":"［汽］てきをならす　　　"},{"$f":"IF(P11=\"\",\"\",VLOOKUP(P11,漢字読み!$A$2:$O$506,6,0))","v":"［秋］の夕ぐれ     "},{"$f":"IF(Q11=\"\",\"\",VLOOKUP(Q11,漢字読み!$A$2:$O$506,6,0))","v":"わか山［市］の学校"},{"$f":"IF(R11=\"\",\"\",VLOOKUP(R11,漢字読み!$A$2:$O$506,6,0))","v":"海外の［国］にあこがれる"},{"$f":"IF(S11=\"\",\"\",VLOOKUP(S11,漢字読み!$A$2:$O$506,6,0))","v":"とう大［寺］の大ぶつ"},{"$f":"IF(T11=\"\",\"\",VLOOKUP(T11,漢字読み!$A$2:$O$506,6,0))","v":"［京］とに行く     "},null,"級"]
[{"$f":"IF(A$11=\"\",\"\",VLOOKUP(A11,漢字書き!$A$2:$O$506,8,0))","v":"教"},{"$f":"IF(B$11=\"\",\"\",VLOOKUP(B11,漢字書き!$A$2:$O$506,8,0))","v":"今週"},{"$f":"IF(C$11=\"\",\"\",VLOOKUP(C11,漢字書き!$A$2:$O$506,8,0))","v":"食"},{"$f":"IF(D$11=\"\",\"\",VLOOKUP(D11,漢字書き!$A$2:$O$506,8,0))","v":"近"},{"$f":"IF(E$11=\"\",\"\",VLOOKUP(E11,漢字書き!$A$2:$O$506,8,0))","v":"切手"},{"$f":"IF(F$11=\"\",\"\",VLOOKUP(F11,漢字書き!$A$2:$O$506,8,0))","v":"魚"},{"$f":"IF(G$11=\"\",\"\",VLOOKUP(G11,漢字書き!$A$2:$O$506,8,0))","v":"少"},{"$f":"IF(H$11=\"\",\"\",VLOOKUP(H11,漢字書き!$A$2:$O$506,8,0))","v":"食"},{"$f":"IF(I$11=\"\",\"\",VLOOKUP(I11,漢字書き!$A$2:$O$506,8,0))","v":"心"},{"$f":"IF(J$11=\"\",\"\",VLOOKUP(J11,漢字書き!$A$2:$O$506,8,0))","v":"作"},{"$f":"IF(K$11=\"\",\"\",VLOOKUP(K11,漢字読み!$A$2:$O$506,8,0))","v":"こま"},{"$f":"IF(L$11=\"\",\"\",VLOOKUP(L11,漢字読み!$A$2:$O$506,8,0))","v":"や"},{"$f":"IF(M$11=\"\",\"\",VLOOKUP(M11,漢字読み!$A$2:$O$506,8,0))","v":"ひかり"},{"$f":"IF(N$11=\"\",\"\",VLOOKUP(N11,漢字読み!$A$2:$O$506,8,0))","v":"はる"},{"$f":"IF(O$11=\"\",\"\",VLOOKUP(O11,漢字読み!$A$2:$O$506,8,0))","v":"き"},{"$f":"IF(P$11=\"\",\"\",VLOOKUP(P11,漢字読み!$A$2:$O$506,8,0))","v":"あき"},{"$f":"IF(Q$11=\"\",\"\",VLOOKUP(Q11,漢字読み!$A$2:$O$506,8,0))","v":"し"},{"$f":"IF(R$11=\"\",\"\",VLOOKUP(R11,漢字読み!$A$2:$O$506,8,0))","v":"くに"},{"$f":"IF(S$11=\"\",\"\",VLOOKUP(S11,漢字読み!$A$2:$O$506,8,0))","v":"じ"},{"$f":"IF(T$11=\"\",\"\",VLOOKUP(T11,漢字読み!$A$2:$O$506,8,0))","v":"きょう"},null,"名前"]
[{"$f":"IF(A11=\"\",\"\",IF(VLOOKUP(A11,漢字書き!$A$2:$N$502,7,0)=0,\"\",VLOOKUP(A11,漢字書き!$A$2:$N$502,7,0)))","v":"か書"},{"$f":"IF(B11=\"\",\"\",IF(VLOOKUP(B11,漢字書き!$A$2:$N$502,7,0)=0,\"\",VLOOKUP(B11,漢字書き!$A$2:$N$502,7,0)))","v":""},{"$f":"IF(C11=\"\",\"\",IF(VLOOKUP(C11,漢字書き!$A$2:$N$502,7,0)=0,\"\",VLOOKUP(C11,漢字書き!$A$2:$N$502,7,0)))","v":"べる"},{"$f":"IF(D11=\"\",\"\",IF(VLOOKUP(D11,漢字書き!$A$2:$N$502,7,0)=0,\"\",VLOOKUP(D11,漢字書き!$A$2:$N$502,7,0)))","v":"づく"},{"$f":"IF(E11=\"\",\"\",IF(VLOOKUP(E11,漢字書き!$A$2:$N$502,7,0)=0,\"\",VLOOKUP(E11,漢字書き!$A$2:$N$502,7,0)))","v":""},{"$f":"IF(F11=\"\",\"\",IF(VLOOKUP(F11,漢字書き!$A$2:$N$502,7,0)=0,\"\",VLOOKUP(F11,漢字書き!$A$2:$N$502,7,0)))","v":""},{"$f":"IF(G11=\"\",\"\",IF(VLOOKUP(G11,漢字書き!$A$2:$N$502,7,0)=0,\"\",VLOOKUP(G11,漢字書き!$A$2:$N$502,7,0)))","v":"年"},{"$f":"IF(H11=\"\",\"\",IF(VLOOKUP(H11,漢字書き!$A$2:$N$502,7,0)=0,\"\",VLOOKUP(H11,漢字書き!$A$2:$N$502,7,0)))","v":"じ"},{"$f":"IF(I11=\"\",\"\",IF(VLOOKUP(I11,漢字書き!$A$2:$N$502,7,0)=0,\"\",VLOOKUP(I11,漢字書き!$A$2:$N$502,7,0)))","v":""},{"$f":"IF(J11=\"\",\"\",IF(VLOOKUP(J11,漢字書き!$A$2:$N$502,7,0)=0,\"\",VLOOKUP(J11,漢字書き!$A$2:$N$502,7,0)))","v":"る"},{"$f":"IF(K11=\"\",\"\",IF(VLOOKUP(K11,漢字読み!$A$2:$O$502,7,0)=0,\"\",VLOOKUP(K11,漢字読み!$A$2:$O$502,7,0)))","v":"かい"},{"$f":"IF(L11=\"\",\"\",IF(VLOOKUP(L11,漢字読み!$A$2:$O$502,7,0)=0,\"\",VLOOKUP(L11,漢字読み!$A$2:$O$502,7,0)))","v":""},{"$f":"IF(M11=\"\",\"\",IF(VLOOKUP(M11,漢字読み!$A$2:$O$502,7,0)=0,\"\",VLOOKUP(M11,漢字読み!$A$2:$O$502,7,0)))","v":""},{"$f":"IF(N11=\"\",\"\",IF(VLOOKUP(N11,漢字読み!$A$2:$O$502,7,0)=0,\"\",VLOOKUP(N11,漢字読み!$A$2:$O$502,7,0)))","v":""},{"$f":"IF(O11=\"\",\"\",IF(VLOOKUP(O11,漢字読み!$A$2:$O$502,7,0)=0,\"\",VLOOKUP(O11,漢字読み!$A$2:$O$502,7,0)))","v":"てき"},{"$f":"IF(P11=\"\",\"\",IF(VLOOKUP(P11,漢字読み!$A$2:$O$502,7,0)=0,\"\",VLOOKUP(P11,漢字読み!$A$2:$O$502,7,0)))","v":""},{"$f":"IF(Q11=\"\",\"\",IF(VLOOKUP(Q11,漢字読み!$A$2:$O$502,7,0)=0,\"\",VLOOKUP(Q11,漢字読み!$A$2:$O$502,7,0)))","v":""},{"$f":"IF(R11=\"\",\"\",IF(VLOOKUP(R11,漢字読み!$A$2:$O$502,7,0)=0,\"\",VLOOKUP(R11,漢字読み!$A$2:$O$502,7,0)))","v":""},{"$f":"IF(S11=\"\",\"\",IF(VLOOKUP(S11,漢字読み!$A$2:$O$502,7,0)=0,\"\",VLOOKUP(S11,漢字読み!$A$2:$O$502,7,0)))","v":""},{"$f":"IF(T11=\"\",\"\",IF(VLOOKUP(T11,漢字読み!$A$2:$O$502,7,0)=0,\"\",VLOOKUP(T11,漢字読み!$A$2:$O$502,7,0)))","v":"と"},null,null,"和歌山県教育委員会"]
[{"$f":"A6","v":74},{"$f":"B6","v":30},{"$f":"C6","v":111},{"$f":"D6","v":83},{"$f":"E6","v":45},{"$f":"F6","v":90},{"$f":"G6","v":6},{"$f":"H6","v":117},{"$f":"I6","v":118},{"$f":"J6","v":123},{"$f":"K6","v":77},{"$f":"L6","v":10},{"$f":"M6","v":69},{"$f":"N6","v":23},{"$f":"O6","v":49},{"$f":"P6","v":38},{"$f":"Q6","v":110},{"$f":"R6","v":40},{"$f":"S6","v":95},{"$f":"T6","v":96}]
["⑳","⑲","⑱","⑰","⑯","⑮","⑭","⑬","⑫","⑪","⑩","⑨","⑧","⑦","⑥","⑤","④","③","②","①","次の［　　　　］の部分の漢字には読みがなをひらがなで書き、カタカナは漢字に直しなさい。",14,"「漢字の博士検定試験」練習問題　"]
[{"$f":"IF(A16=\"\",\"\",VLOOKUP(A16,漢字書き!$A$2:$N$506,6,0))","v":"［コク］ばんを見る"},{"$f":"IF(B16=\"\",\"\",VLOOKUP(B16,漢字書き!$A$2:$N$506,6,0))","v":"［ニッキ］をかく"},{"$f":"IF(C16=\"\",\"\",VLOOKUP(C16,漢字書き!$A$2:$N$506,6,0))","v":"［アタラ］しいえんぴつ"},{"$f":"IF(D16=\"\",\"\",VLOOKUP(D16,漢字書き!$A$2:$N$506,6,0))","v":"かけ［ザン］のべん強"},{"$f":"IF(E16=\"\",\"\",VLOOKUP(E16,漢字書き!$A$2:$N$506,6,0))","v":"［ケイサン］がとくい"},{"$f":"IF(F16=\"\",\"\",VLOOKUP(F16,漢字書き!$A$2:$N$506,6,0))","v":"［アネ］がいます"},{"$f":"IF(G16=\"\",\"\",VLOOKUP(G16,漢字書き!$A$2:$N$506,6,0))","v":"あすは［エンソク］だ"},{"$f":"IF(H16=\"\",\"\",VLOOKUP(H16,漢字書き!$A$2:$N$506,6,0))","v":"［ニシ］の空"},{"$f":"IF(I16=\"\",\"\",VLOOKUP(I16,漢字書き!$A$2:$N$506,6,0))","v":"きれいな［コエ］"},{"$f":"IF(J16=\"\",\"\",VLOOKUP(J16,漢字書き!$A$2:$N$506,6,0))","v":"はさみで［キ］る"},{"$f":"IF(K16=\"\",\"\",VLOOKUP(K16,漢字読み!$A$2:$O$506,6,0))","v":"［三行］で書く     "},{"$f":"IF(L16=\"\",\"\",VLOOKUP(L16,漢字読み!$A$2:$O$506,6,0))","v":"［夏休］みがはじまる"},{"$f":"IF(M16=\"\",\"\",VLOOKUP(M16,漢字読み!$A$2:$O$506,6,0))","v":"［図工］のじかん  "},{"$f":"IF(N16=\"\",\"\",VLOOKUP(N16,漢字読み!$A$2:$O$506,6,0))","v":"［絵画］を見る"},{"$f":"IF(O16=\"\",\"\",VLOOKUP(O16,漢字読み!$A$2:$O$506,6,0))","v":"［教室］に入る             "},{"$f":"IF(P16=\"\",\"\",VLOOKUP(P16,漢字読み!$A$2:$O$506,6,0))","v":"［日記］をつける     "},{"$f":"IF(Q16=\"\",\"\",VLOOKUP(Q16,漢字読み!$A$2:$O$506,6,0))","v":"［社会］のへんか      "},{"$f":"IF(R16=\"\",\"\",VLOOKUP(R16,漢字読み!$A$2:$O$506,6,0))","v":"［弓］の名人"},{"$f":"IF(S16=\"\",\"\",VLOOKUP(S16,漢字読み!$A$2:$O$506,6,0))","v":"でんしゃが［止］まる"},{"$f":"IF(T16=\"\",\"\",VLOOKUP(T16,漢字読み!$A$2:$O$506,6,0))","v":"［朝市］がひらかれる"},null,"級"]
[{"$f":"IF(A$16=\"\",\"\",VLOOKUP(A16,漢字書き!$A$2:$O$506,8,0))","v":"黒"},{"$f":"IF(B$16=\"\",\"\",VLOOKUP(B16,漢字書き!$A$2:$O$506,8,0))","v":"日記"},{"$f":"IF(C$16=\"\",\"\",VLOOKUP(C16,漢字書き!$A$2:$O$506,8,0))","v":"新"},{"$f":"IF(D$16=\"\",\"\",VLOOKUP(D16,漢字書き!$A$2:$O$506,8,0))","v":"算"},{"$f":"IF(E$16=\"\",\"\",VLOOKUP(E16,漢字書き!$A$2:$O$506,8,0))","v":"計算"},{"$f":"IF(F$16=\"\",\"\",VLOOKUP(F16,漢字書き!$A$2:$O$506,8,0))","v":"姉"},{"$f":"IF(G$16=\"\",\"\",VLOOKUP(G16,漢字書き!$A$2:$O$506,8,0))","v":"遠足"},{"$f":"IF(H$16=\"\",\"\",VLOOKUP(H16,漢字書き!$A$2:$O$506,8,0))","v":"西"},{"$f":"IF(I$16=\"\",\"\",VLOOKUP(I16,漢字書き!$A$2:$O$506,8,0))","v":"声"},{"$f":"IF(J$16=\"\",\"\",VLOOKUP(J16,漢字書き!$A$2:$O$506,8,0))","v":"切"},{"$f":"IF(K$16=\"\",\"\",VLOOKUP(K16,漢字読み!$A$2:$O$506,8,0))","v":"さんぎょう"},{"$f":"IF(L$16=\"\",\"\",VLOOKUP(L16,漢字読み!$A$2:$O$506,8,0))","v":"なつやす"},{"$f":"IF(M$16=\"\",\"\",VLOOKUP(M16,漢字読み!$A$2:$O$506,8,0))","v":"ずこう"},{"$f":"IF(N$16=\"\",\"\",VLOOKUP(N16,漢字読み!$A$2:$O$506,8,0))","v":"かいが"},{"$f":"IF(O$16=\"\",\"\",VLOOKUP(O16,漢字読み!$A$2:$O$506,8,0))","v":"きょうしつ"},{"$f":"IF(P$16=\"\",\"\",VLOOKUP(P16,漢字読み!$A$2:$O$506,8,0))","v":"にっき"},{"$f":"IF(Q$16=\"\",\"\",VLOOKUP(Q16,漢字読み!$A$2:$O$506,8,0))","v":"しゃかい"},{"$f":"IF(R$16=\"\",\"\",VLOOKUP(R16,漢字読み!$A$2:$O$506,8,0))","v":"ゆみ"},{"$f":"IF(S$16=\"\",\"\",VLOOKUP(S16,漢字読み!$A$2:$O$506,8,0))","v":"と"},{"$f":"IF(T$16=\"\",\"\",VLOOKUP(T16,漢字読み!$A$2:$O$506,8,0))","v":"あさいち"},null,"名前"]
[{"$f":"IF(A16=\"\",\"\",IF(VLOOKUP(A16,漢字書き!$A$2:$N$502,7,0)=0,\"\",VLOOKUP(A16,漢字書き!$A$2:$N$502,7,0)))","v":"ばん"},{"$f":"IF(B16=\"\",\"\",IF(VLOOKUP(B16,漢字書き!$A$2:$N$502,7,0)=0,\"\",VLOOKUP(B16,漢字書き!$A$2:$N$502,7,0)))","v":""},{"$f":"IF(C16=\"\",\"\",IF(VLOOKUP(C16,漢字書き!$A$2:$N$502,7,0)=0,\"\",VLOOKUP(C16,漢字書き!$A$2:$N$502,7,0)))","v":"しい"},{"$f":"IF(D16=\"\",\"\",IF(VLOOKUP(D16,漢字書き!$A$2:$N$502,7,0)=0,\"\",VLOOKUP(D16,漢字書き!$A$2:$N$502,7,0)))","v":""},{"$f":"IF(E16=\"\",\"\",IF(VLOOKUP(E16,漢字書き!$A$2:$N$502,7,0)=0,\"\",VLOOKUP(E16,漢字書き!$A$2:$N$502,7,0)))","v":""},{"$f":"IF(F16=\"\",\"\",IF(VLOOKUP(F16,漢字書き!$A$2:$N$502,7,0)=0,\"\",VLOOKUP(F16,漢字書き!$A$2:$N$502,7,0)))","v":""},{"$f":"IF(G16=\"\",\"\",IF(VLOOKUP(G16,漢字書き!$A$2:$N$502,7,0)=0,\"\",VLOOKUP(G16,漢字書き!$A$2:$N$502,7,0)))","v":""},{"$f":"IF(H16=\"\",\"\",IF(VLOOKUP(H16,漢字書き!$A$2:$N$502,7,0)=0,\"\",VLOOKUP(H16,漢字書き!$A$2:$N$502,7,0)))","v":""},{"$f":"IF(I16=\"\",\"\",IF(VLOOKUP(I16,漢字書き!$A$2:$N$502,7,0)=0,\"\",VLOOKUP(I16,漢字書き!$A$2:$N$502,7,0)))","v":""},{"$f":"IF(J16=\"\",\"\",IF(VLOOKUP(J16,漢字書き!$A$2:$N$502,7,0)=0,\"\",VLOOKUP(J16,漢字書き!$A$2:$N$502,7,0)))","v":"る"},{"$f":"IF(K16=\"\",\"\",IF(VLOOKUP(K16,漢字読み!$A$2:$O$502,7,0)=0,\"\",VLOOKUP(K16,漢字読み!$A$2:$O$502,7,0)))","v":""},{"$f":"IF(L16=\"\",\"\",IF(VLOOKUP(L16,漢字読み!$A$2:$O$502,7,0)=0,\"\",VLOOKUP(L16,漢字読み!$A$2:$O$502,7,0)))","v":"み"},{"$f":"IF(M16=\"\",\"\",IF(VLOOKUP(M16,漢字読み!$A$2:$O$502,7,0)=0,\"\",VLOOKUP(M16,漢字読み!$A$2:$O$502,7,0)))","v":""},{"$f":"IF(N16=\"\",\"\",IF(VLOOKUP(N16,漢字読み!$A$2:$O$502,7,0)=0,\"\",VLOOKUP(N16,漢字読み!$A$2:$O$502,7,0)))","v":""},{"$f":"IF(O16=\"\",\"\",IF(VLOOKUP(O16,漢字読み!$A$2:$O$502,7,0)=0,\"\",VLOOKUP(O16,漢字読み!$A$2:$O$502,7,0)))","v":""},{"$f":"IF(P16=\"\",\"\",IF(VLOOKUP(P16,漢字読み!$A$2:$O$502,7,0)=0,\"\",VLOOKUP(P16,漢字読み!$A$2:$O$502,7,0)))","v":""},{"$f":"IF(Q16=\"\",\"\",IF(VLOOKUP(Q16,漢字読み!$A$2:$O$502,7,0)=0,\"\",VLOOKUP(Q16,漢字読み!$A$2:$O$502,7,0)))","v":""},{"$f":"IF(R16=\"\",\"\",IF(VLOOKUP(R16,漢字読み!$A$2:$O$502,7,0)=0,\"\",VLOOKUP(R16,漢字読み!$A$2:$O$502,7,0)))","v":""},{"$f":"IF(S16=\"\",\"\",IF(VLOOKUP(S16,漢字読み!$A$2:$O$502,7,0)=0,\"\",VLOOKUP(S16,漢字読み!$A$2:$O$502,7,0)))","v":"まる"},{"$f":"IF(T16=\"\",\"\",IF(VLOOKUP(T16,漢字読み!$A$2:$O$502,7,0)=0,\"\",VLOOKUP(T16,漢字読み!$A$2:$O$502,7,0)))","v":""},null,null,"和歌山県教育委員会"]
[{"$f":"INDIRECT(\"'関数（書き）'!C\" & COLUMN(B$1)+SUM($AD$2:$AD22))","v":102},{"$f":"INDIRECT(\"'関数（書き）'!C\" & COLUMN(C$1)+SUM($AD$2:$AD22))","v":27},{"$f":"INDIRECT(\"'関数（書き）'!C\" & COLUMN(D$1)+SUM($AD$2:$AD22))","v":50},{"$f":"INDIRECT(\"'関数（書き）'!C\" & COLUMN(E$1)+SUM($AD$2:$AD22))","v":17},{"$f":"INDIRECT(\"'関数（書き）'!C\" & COLUMN(F$1)+SUM($AD$2:$AD22))","v":95},{"$f":"INDIRECT(\"'関数（書き）'!C\" & COLUMN(G$1)+SUM($AD$2:$AD22))","v":100},{"$f":"INDIRECT(\"'関数（書き）'!C\" & COLUMN(H$1)+SUM($AD$2:$AD22))","v":62},{"$f":"INDIRECT(\"'関数（書き）'!C\" & COLUMN(I$1)+SUM($AD$2:$AD22))","v":77},{"$f":"INDIRECT(\"'関数（書き）'!C\" & COLUMN(J$1)+SUM($AD$2:$AD22))","v":63},{"$f":"INDIRECT(\"'関数（書き）'!C\" & COLUMN(K$1)+SUM($AD$2:$AD22))","v":99},{"$f":"INDIRECT(\"'関数（読み）'!C\" & COLUMN(B$1)+SUM($AD$2:$AD22))","v":85},{"$f":"INDIRECT(\"'関数（読み）'!C\" & COLUMN(C$1)+SUM($AD$2:$AD22))","v":132},{"$f":"INDIRECT(\"'関数（読み）'!C\" & COLUMN(D$1)+SUM($AD$2:$AD22))","v":74},{"$f":"INDIRECT(\"'関数（読み）'!C\" & COLUMN(E$1)+SUM($AD$2:$AD22))","v":60},{"$f":"INDIRECT(\"'関数（読み）'!C\" & COLUMN(F$1)+SUM($AD$2:$AD22))","v":149},{"$f":"INDIRECT(\"'関数（読み）'!C\" & COLUMN(G$1)+SUM($AD$2:$AD22))","v":12},{"$f":"INDIRECT(\"'関数（読み）'!C\" & COLUMN(H$1)+SUM($AD$2:$AD22))","v":101},{"$f":"INDIRECT(\"'関数（読み）'!C\" & COLUMN(I$1)+SUM($AD$2:$AD22))","v":7},{"$f":"INDIRECT(\"'関数（読み）'!C\" & COLUMN(J$1)+SUM($AD$2:$AD22))","v":17},{"$f":"INDIRECT(\"'関数（読み）'!C\" & COLUMN(K$1)+SUM($AD$2:$AD22))","v":47}]
["⑳","⑲","⑱","⑰","⑯","⑮","⑭","⑬","⑫","⑪","⑩","⑨","⑧","⑦","⑥","⑤","④","③","②","①","次の［　　　　］の部分の漢字には読みがなをひらがなで書き、カタカナは漢字に直しなさい。",14,"「漢字の博士検定試験」練習問題　",null,null,null,null,null,"←",10,"問",{"$f":"AH7+1","v":21},"～",{"$f":"SUM($AD$2:$AD22)+10","v":30},"問まで",{"$f":"COUNTIF($A$1:$T$200,T23)","v":2}]
[{"$f":"IF(A21=\"\",\"\",VLOOKUP(A21,漢字書き!$A$2:$N$506,6,0))","v":"あたたかい［ハル］"},{"$f":"IF(B21=\"\",\"\",VLOOKUP(B21,漢字書き!$A$2:$N$506,6,0))","v":"［イワ］にのぼる"},{"$f":"IF(C21=\"\",\"\",VLOOKUP(C21,漢字書き!$A$2:$N$506,6,0))","v":"［ハラ］っぱであそぶ"},{"$f":"IF(D21=\"\",\"\",VLOOKUP(D21,漢字書き!$A$2:$N$506,6,0))","v":"ともだちに［ア］う"},{"$f":"IF(E21=\"\",\"\",VLOOKUP(E21,漢字書き!$A$2:$N$506,6,0))","v":"［ジカン］がすぎる"},{"$f":"IF(F21=\"\",\"\",VLOOKUP(F21,漢字書き!$A$2:$N$506,6,0))","v":"［アキ］まつり"},{"$f":"IF(G21=\"\",\"\",VLOOKUP(G21,漢字書き!$A$2:$N$506,6,0))","v":"［コウ］つうルール"},{"$f":"IF(H21=\"\",\"\",VLOOKUP(H21,漢字書き!$A$2:$N$506,6,0))","v":"［ゴサイ］のたんじょうび"},{"$f":"IF(I21=\"\",\"\",VLOOKUP(I21,漢字書き!$A$2:$N$506,6,0))","v":"星が［ヒカ］る"},{"$f":"IF(J21=\"\",\"\",VLOOKUP(J21,漢字書き!$A$2:$N$506,6,0))","v":"犬の［クビ］わ"},{"$f":"IF(K21=\"\",\"\",VLOOKUP(K21,漢字読み!$A$2:$O$506,6,0))","v":"［黒］ごまのふりかけ   　　　　"},{"$f":"IF(L21=\"\",\"\",VLOOKUP(L21,漢字読み!$A$2:$O$506,6,0))","v":"［親］にはなす   　   "},{"$f":"IF(M21=\"\",\"\",VLOOKUP(M21,漢字読み!$A$2:$O$506,6,0))","v":"［日光］をあびる"},{"$f":"IF(N21=\"\",\"\",VLOOKUP(N21,漢字読み!$A$2:$O$506,6,0))","v":"［草原］を走る"},{"$f":"IF(O21=\"\",\"\",VLOOKUP(O21,漢字読み!$A$2:$O$506,6,0))","v":"［前］のページ       "},{"$f":"IF(P21=\"\",\"\",VLOOKUP(P21,漢字読み!$A$2:$O$506,6,0))","v":"［家］に帰る　　　　　　"},{"$f":"IF(Q21=\"\",\"\",VLOOKUP(Q21,漢字読み!$A$2:$O$506,6,0))","v":"うれしく［思］う     "},{"$f":"IF(R21=\"\",\"\",VLOOKUP(R21,漢字読み!$A$2:$O$506,6,0))","v":"うれしい［遠足］　　　　"},{"$f":"IF(S21=\"\",\"\",VLOOKUP(S21,漢字読み!$A$2:$O$506,6,0))","v":"［何回］もよむ 　　　"},{"$f":"IF(T21=\"\",\"\",VLOOKUP(T21,漢字読み!$A$2:$O$506,6,0))","v":"［強］いチームとたたかう"},null,"級"]
[null,null,null,null,null,null,null,null,null,null,null,null,null,null,null,null,null,null,null,null,null,"名前"]
[{"$f":"IF(A21=\"\",\"\",IF(VLOOKUP(A21,漢字書き!$A$2:$N$502,7,0)=0,\"\",VLOOKUP(A21,漢字書き!$A$2:$N$502,7,0)))","v":""},{"$f":"IF(B21=\"\",\"\",IF(VLOOKUP(B21,漢字書き!$A$2:$N$502,7,0)=0,\"\",VLOOKUP(B21,漢字書き!$A$2:$N$502,7,0)))","v":""},{"$f":"IF(C21=\"\",\"\",IF(VLOOKUP(C21,漢字書き!$A$2:$N$502,7,0)=0,\"\",VLOOKUP(C21,漢字書き!$A$2:$N$502,7,0)))","v":"っぱ"},{"$f":"IF(D21=\"\",\"\",IF(VLOOKUP(D21,漢字書き!$A$2:$N$502,7,0)=0,\"\",VLOOKUP(D21,漢字書き!$A$2:$N$502,7,0)))","v":"う"},{"$f":"IF(E21=\"\",\"\",IF(VLOOKUP(E21,漢字書き!$A$2:$N$502,7,0)=0,\"\",VLOOKUP(E21,漢字書き!$A$2:$N$502,7,0)))","v":""},{"$f":"IF(F21=\"\",\"\",IF(VLOOKUP(F21,漢字書き!$A$2:$N$502,7,0)=0,\"\",VLOOKUP(F21,漢字書き!$A$2:$N$502,7,0)))","v":"まつり"},{"$f":"IF(G21=\"\",\"\",IF(VLOOKUP(G21,漢字書き!$A$2:$N$502,7,0)=0,\"\",VLOOKUP(G21,漢字書き!$A$2:$N$502,7,0)))","v":"つう"},{"$f":"IF(H21=\"\",\"\",IF(VLOOKUP(H21,漢字書き!$A$2:$N$502,7,0)=0,\"\",VLOOKUP(H21,漢字書き!$A$2:$N$502,7,0)))","v":""},{"$f":"IF(I21=\"\",\"\",IF(VLOOKUP(I21,漢字書き!$A$2:$N$502,7,0)=0,\"\",VLOOKUP(I21,漢字書き!$A$2:$N$502,7,0)))","v":"る"},{"$f":"IF(J21=\"\",\"\",IF(VLOOKUP(J21,漢字書き!$A$2:$N$502,7,0)=0,\"\",VLOOKUP(J21,漢字書き!$A$2:$N$502,7,0)))","v":"わ"},{"$f":"IF(K21=\"\",\"\",IF(VLOOKUP(K21,漢字読み!$A$2:$O$502,7,0)=0,\"\",VLOOKUP(K21,漢字読み!$A$2:$O$502,7,0)))","v":"ごま"},{"$f":"IF(L21=\"\",\"\",IF(VLOOKUP(L21,漢字読み!$A$2:$O$502,7,0)=0,\"\",VLOOKUP(L21,漢字読み!$A$2:$O$502,7,0)))","v":""},{"$f":"IF(M21=\"\",\"\",IF(VLOOKUP(M21,漢字読み!$A$2:$O$502,7,0)=0,\"\",VLOOKUP(M21,漢字読み!$A$2:$O$502,7,0)))","v":""},{"$f":"IF(N21=\"\",\"\",IF(VLOOKUP(N21,漢字読み!$A$2:$O$502,7,0)=0,\"\",VLOOKUP(N21,漢字読み!$A$2:$O$502,7,0)))","v":""},{"$f":"IF(O21=\"\",\"\",IF(VLOOKUP(O21,漢字読み!$A$2:$O$502,7,0)=0,\"\",VLOOKUP(O21,漢字読み!$A$2:$O$502,7,0)))","v":""},{"$f":"IF(P21=\"\",\"\",IF(VLOOKUP(P21,漢字読み!$A$2:$O$502,7,0)=0,\"\",VLOOKUP(P21,漢字読み!$A$2:$O$502,7,0)))","v":""},{"$f":"IF(Q21=\"\",\"\",IF(VLOOKUP(Q21,漢字読み!$A$2:$O$502,7,0)=0,\"\",VLOOKUP(Q21,漢字読み!$A$2:$O$502,7,0)))","v":"う"},{"$f":"IF(R21=\"\",\"\",IF(VLOOKUP(R21,漢字読み!$A$2:$O$502,7,0)=0,\"\",VLOOKUP(R21,漢字読み!$A$2:$O$502,7,0)))","v":""},{"$f":"IF(S21=\"\",\"\",IF(VLOOKUP(S21,漢字読み!$A$2:$O$502,7,0)=0,\"\",VLOOKUP(S21,漢字読み!$A$2:$O$502,7,0)))","v":""},{"$f":"IF(T21=\"\",\"\",IF(VLOOKUP(T21,漢字読み!$A$2:$O$502,7,0)=0,\"\",VLOOKUP(T21,漢字読み!$A$2:$O$502,7,0)))","v":"い"},null,null,"和歌山県教育委員会"]
[{"$f":"INDIRECT(\"'関数（書き）'!C\" & COLUMN(B$1)+SUM($AD$2:$AD27))","v":5},{"$f":"INDIRECT(\"'関数（書き）'!C\" & COLUMN(C$1)+SUM($AD$2:$AD27))","v":7},{"$f":"INDIRECT(\"'関数（書き）'!C\" & COLUMN(D$1)+SUM($AD$2:$AD27))","v":92},{"$f":"INDIRECT(\"'関数（書き）'!C\" & COLUMN(E$1)+SUM($AD$2:$AD27))","v":42},{"$f":"INDIRECT(\"'関数（書き）'!C\" & COLUMN(F$1)+SUM($AD$2:$AD27))","v":26},{"$f":"INDIRECT(\"'関数（書き）'!C\" & COLUMN(G$1)+SUM($AD$2:$AD27))","v":38},{"$f":"INDIRECT(\"'関数（書き）'!C\" & COLUMN(H$1)+SUM($AD$2:$AD27))","v":31},{"$f":"INDIRECT(\"'関数（書き）'!C\" & COLUMN(I$1)+SUM($AD$2:$AD27))","v":15},{"$f":"INDIRECT(\"'関数（書き）'!C\" & COLUMN(J$1)+SUM($AD$2:$AD27))","v":43},{"$f":"INDIRECT(\"'関数（書き）'!C\" & COLUMN(K$1)+SUM($AD$2:$AD27))","v":104},{"$f":"INDIRECT(\"'関数（読み）'!C\" & COLUMN(B$1)+SUM($AD$2:$AD27))","v":131},{"$f":"INDIRECT(\"'関数（読み）'!C\" & COLUMN(C$1)+SUM($AD$2:$AD27))","v":128},{"$f":"INDIRECT(\"'関数（読み）'!C\" & COLUMN(D$1)+SUM($AD$2:$AD27))","v":111},{"$f":"INDIRECT(\"'関数（読み）'!C\" & COLUMN(E$1)+SUM($AD$2:$AD27))","v":127},{"$f":"INDIRECT(\"'関数（読み）'!C\" & COLUMN(F$1)+SUM($AD$2:$AD27))","v":19},{"$f":"INDIRECT(\"'関数（読み）'!C\" & COLUMN(G$1)+SUM($AD$2:$AD27))","v":87},{"$f":"INDIRECT(\"'関数（読み）'!C\" & COLUMN(H$1)+SUM($AD$2:$AD27))","v":139},{"$f":"INDIRECT(\"'関数（読み）'!C\" & COLUMN(I$1)+SUM($AD$2:$AD27))","v":119},{"$f":"INDIRECT(\"'関数（読み）'!C\" & COLUMN(J$1)+SUM($AD$2:$AD27))","v":55},{"$f":"INDIRECT(\"'関数（読み）'!C\" & COLUMN(K$1)+SUM($AD$2:$AD27))","v":99}]
["⑳","⑲","⑱","⑰","⑯","⑮","⑭","⑬","⑫","⑪","⑩","⑨","⑧","⑦","⑥","⑤","④","③","②","①","次の［　　　　］の部分の漢字には読みがなをひらがなで書き、カタカナは漢字に直しなさい。",14,"「漢字の博士検定試験」練習問題　",null,null,null,null,null,"←",10,"問",{"$f":"AH22+1","v":31},"～",{"$f":"SUM($AD$2:$AD27)+10","v":40},"問まで",{"$f":"COUNTIF($A$1:$T$200,T28)","v":2}]
[{"$f":"IF(A26=\"\",\"\",VLOOKUP(A26,漢字書き!$A$2:$N$506,6,0))","v":"［トオ］いくにのはなし"},{"$f":"IF(B26=\"\",\"\",VLOOKUP(B26,漢字書き!$A$2:$N$506,6,0))","v":"［ナニ］かごようですか"},{"$f":"IF(C26=\"\",\"\",VLOOKUP(C26,漢字書き!$A$2:$N$506,6,0))","v":"［カミ］しばい"},{"$f":"IF(D26=\"\",\"\",VLOOKUP(D26,漢字書き!$A$2:$N$506,6,0))","v":"［アニ］のともだち"},{"$f":"IF(E26=\"\",\"\",VLOOKUP(E26,漢字書き!$A$2:$N$506,6,0))","v":"［マル］い石"},{"$f":"IF(F26=\"\",\"\",VLOOKUP(F26,漢字書き!$A$2:$N$506,6,0))","v":"［キョウシツ］に入る"},{"$f":"IF(G26=\"\",\"\",VLOOKUP(G26,漢字書き!$A$2:$N$506,6,0))","v":"家に［カエ］る"},{"$f":"IF(H26=\"\",\"\",VLOOKUP(H26,漢字書き!$A$2:$N$506,6,0))","v":"目が［マワ］る"},{"$f":"IF(I26=\"\",\"\",VLOOKUP(I26,漢字書き!$A$2:$N$506,6,0))","v":"［ニンギョウ］をかう"},{"$f":"IF(J26=\"\",\"\",VLOOKUP(J26,漢字書き!$A$2:$N$506,6,0))","v":"［スク］ないおかず"},{"$f":"IF(K26=\"\",\"\",VLOOKUP(K26,漢字読み!$A$2:$O$506,6,0))","v":"［親］ゆうになる"},{"$f":"IF(L26=\"\",\"\",VLOOKUP(L26,漢字読み!$A$2:$O$506,6,0))","v":"［新入生］をむかえる"},{"$f":"IF(M26=\"\",\"\",VLOOKUP(M26,漢字読み!$A$2:$O$506,6,0))","v":"力が［弱］い         　"},{"$f":"IF(N26=\"\",\"\",VLOOKUP(N26,漢字読み!$A$2:$O$506,6,0))","v":"［心］の中         　　"},{"$f":"IF(O26=\"\",\"\",VLOOKUP(O26,漢字読み!$A$2:$O$506,6,0))","v":"［会社］ではたらく  "},{"$f":"IF(P26=\"\",\"\",VLOOKUP(P26,漢字読み!$A$2:$O$506,6,0))","v":"［九才］になる"},{"$f":"IF(Q26=\"\",\"\",VLOOKUP(Q26,漢字読み!$A$2:$O$506,6,0))","v":"［声］をかける　　　"},{"$f":"IF(R26=\"\",\"\",VLOOKUP(R26,漢字読み!$A$2:$O$506,6,0))","v":"字を［書］く"},{"$f":"IF(S26=\"\",\"\",VLOOKUP(S26,漢字読み!$A$2:$O$506,6,0))","v":"［計算］をする     "},{"$f":"IF(T26=\"\",\"\",VLOOKUP(T26,漢字読み!$A$2:$O$506,6,0))","v":"わたしの［姉］です"},null,"級"]
[null,null,null,null,null,null,null,null,null,null,null,null,null,null,null,null,null,null,null,null,null,"名前"]
[{"$f":"IF(A26=\"\",\"\",IF(VLOOKUP(A26,漢字書き!$A$2:$N$502,7,0)=0,\"\",VLOOKUP(A26,漢字書き!$A$2:$N$502,7,0)))","v":"い"},{"$f":"IF(B26=\"\",\"\",IF(VLOOKUP(B26,漢字書き!$A$2:$N$502,7,0)=0,\"\",VLOOKUP(B26,漢字書き!$A$2:$N$502,7,0)))","v":"か"},{"$f":"IF(C26=\"\",\"\",IF(VLOOKUP(C26,漢字書き!$A$2:$N$502,7,0)=0,\"\",VLOOKUP(C26,漢字書き!$A$2:$N$502,7,0)))","v":""},{"$f":"IF(D26=\"\",\"\",IF(VLOOKUP(D26,漢字書き!$A$2:$N$502,7,0)=0,\"\",VLOOKUP(D26,漢字書き!$A$2:$N$502,7,0)))","v":""},{"$f":"IF(E26=\"\",\"\",IF(VLOOKUP(E26,漢字書き!$A$2:$N$502,7,0)=0,\"\",VLOOKUP(E26,漢字書き!$A$2:$N$502,7,0)))","v":"い"},{"$f":"IF(F26=\"\",\"\",IF(VLOOKUP(F26,漢字書き!$A$2:$N$502,7,0)=0,\"\",VLOOKUP(F26,漢字書き!$A$2:$N$502,7,0)))","v":""},{"$f":"IF(G26=\"\",\"\",IF(VLOOKUP(G26,漢字書き!$A$2:$N$502,7,0)=0,\"\",VLOOKUP(G26,漢字書き!$A$2:$N$502,7,0)))","v":"る"},{"$f":"IF(H26=\"\",\"\",IF(VLOOKUP(H26,漢字書き!$A$2:$N$502,7,0)=0,\"\",VLOOKUP(H26,漢字書き!$A$2:$N$502,7,0)))","v":"る"},{"$f":"IF(I26=\"\",\"\",IF(VLOOKUP(I26,漢字書き!$A$2:$N$502,7,0)=0,\"\",VLOOKUP(I26,漢字書き!$A$2:$N$502,7,0)))","v":""},{"$f":"IF(J26=\"\",\"\",IF(VLOOKUP(J26,漢字書き!$A$2:$N$502,7,0)=0,\"\",VLOOKUP(J26,漢字書き!$A$2:$N$502,7,0)))","v":"ない"},{"$f":"IF(K26=\"\",\"\",IF(VLOOKUP(K26,漢字読み!$A$2:$O$502,7,0)=0,\"\",VLOOKUP(K26,漢字読み!$A$2:$O$502,7,0)))","v":"ゆう"},{"$f":"IF(L26=\"\",\"\",IF(VLOOKUP(L26,漢字読み!$A$2:$O$502,7,0)=0,\"\",VLOOKUP(L26,漢字読み!$A$2:$O$502,7,0)))","v":""},{"$f":"IF(M26=\"\",\"\",IF(VLOOKUP(M26,漢字読み!$A$2:$O$502,7,0)=0,\"\",VLOOKUP(M26,漢字読み!$A$2:$O$502,7,0)))","v":"い"},{"$f":"IF(N26=\"\",\"\",IF(VLOOKUP(N26,漢字読み!$A$2:$O$502,7,0)=0,\"\",VLOOKUP(N26,漢字読み!$A$2:$O$502,7,0)))","v":""},{"$f":"IF(O26=\"\",\"\",IF(VLOOKUP(O26,漢字読み!$A$2:$O$502,7,0)=0,\"\",VLOOKUP(O26,漢字読み!$A$2:$O$502,7,0)))","v":""},{"$f":"IF(P26=\"\",\"\",IF(VLOOKUP(P26,漢字読み!$A$2:$O$502,7,0)=0,\"\",VLOOKUP(P26,漢字読み!$A$2:$O$502,7,0)))","v":""},{"$f":"IF(Q26=\"\",\"\",IF(VLOOKUP(Q26,漢字読み!$A$2:$O$502,7,0)=0,\"\",VLOOKUP(Q26,漢字読み!$A$2:$O$502,7,0)))","v":""},{"$f":"IF(R26=\"\",\"\",IF(VLOOKUP(R26,漢字読み!$A$2:$O$502,7,0)=0,\"\",VLOOKUP(R26,漢字読み!$A$2:$O$502,7,0)))","v":"く"},{"$f":"IF(S26=\"\",\"\",IF(VLOOKUP(S26,漢字読み!$A$2:$O$502,7,0)=0,\"\",VLOOKUP(S26,漢字読み!$A$2:$O$502,7,0)))","v":""},{"$f":"IF(T26=\"\",\"\",IF(VLOOKUP(T26,漢字読み!$A$2:$O$502,7,0)=0,\"\",VLOOKUP(T26,漢字読み!$A$2:$O$502,7,0)))","v":""},null,null,"和歌山県教育委員会"]
[{"$f":"A21","v":102},{"$f":"B21","v":27},{"$f":"C21","v":50},{"$f":"D21","v":17},{"$f":"E21","v":95},{"$f":"F21","v":100},{"$f":"G21","v":62},{"$f":"H21","v":77},{"$f":"I21","v":63},{"$f":"J21","v":99},{"$f":"K21","v":85},{"$f":"L21","v":132},{"$f":"M21","v":74},{"$f":"N21","v":60},{"$f":"O21","v":149},{"$f":"P21","v":12},{"$f":"Q21","v":101},{"$f":"R21","v":7},{"$f":"S21","v":17},{"$f":"T21","v":47}]
["⑳","⑲","⑱","⑰","⑯","⑮","⑭","⑬","⑫","⑪","⑩","⑨","⑧","⑦","⑥","⑤","④","③","②","①","次の［　　　　］の部分の漢字には読みがなをひらがなで書き、カタカナは漢字に直しなさい。",14,"「漢字の博士検定試験」練習問題　"]
[{"$f":"IF(A31=\"\",\"\",VLOOKUP(A31,漢字書き!$A$2:$N$506,6,0))","v":"あたたかい［ハル］"},{"$f":"IF(B31=\"\",\"\",VLOOKUP(B31,漢字書き!$A$2:$N$506,6,0))","v":"［イワ］にのぼる"},{"$f":"IF(C31=\"\",\"\",VLOOKUP(C31,漢字書き!$A$2:$N$506,6,0))","v":"［ハラ］っぱであそぶ"},{"$f":"IF(D31=\"\",\"\",VLOOKUP(D31,漢字書き!$A$2:$N$506,6,0))","v":"ともだちに［ア］う"},{"$f":"IF(E31=\"\",\"\",VLOOKUP(E31,漢字書き!$A$2:$N$506,6,0))","v":"［ジカン］がすぎる"},{"$f":"IF(F31=\"\",\"\",VLOOKUP(F31,漢字書き!$A$2:$N$506,6,0))","v":"［アキ］まつり"},{"$f":"IF(G31=\"\",\"\",VLOOKUP(G31,漢字書き!$A$2:$N$506,6,0))","v":"［コウ］つうルール"},{"$f":"IF(H31=\"\",\"\",VLOOKUP(H31,漢字書き!$A$2:$N$506,6,0))","v":"［ゴサイ］のたんじょうび"},{"$f":"IF(I31=\"\",\"\",VLOOKUP(I31,漢字書き!$A$2:$N$506,6,0))","v":"星が［ヒカ］る"},{"$f":"IF(J31=\"\",\"\",VLOOKUP(J31,漢字書き!$A$2:$N$506,6,0))","v":"犬の［クビ］わ"},{"$f":"IF(K31=\"\",\"\",VLOOKUP(K31,漢字読み!$A$2:$O$506,6,0))","v":"［黒］ごまのふりかけ   　　　　"},{"$f":"IF(L31=\"\",\"\",VLOOKUP(L31,漢字読み!$A$2:$O$506,6,0))","v":"［親］にはなす   　   "},{"$f":"IF(M31=\"\",\"\",VLOOKUP(M31,漢字読み!$A$2:$O$506,6,0))","v":"［日光］をあびる"},{"$f":"IF(N31=\"\",\"\",VLOOKUP(N31,漢字読み!$A$2:$O$506,6,0))","v":"［草原］を走る"},{"$f":"IF(O31=\"\",\"\",VLOOKUP(O31,漢字読み!$A$2:$O$506,6,0))","v":"［前］のページ       "},{"$f":"IF(P31=\"\",\"\",VLOOKUP(P31,漢字読み!$A$2:$O$506,6,0))","v":"［家］に帰る　　　　　　"},{"$f":"IF(Q31=\"\",\"\",VLOOKUP(Q31,漢字読み!$A$2:$O$506,6,0))","v":"うれしく［思］う     "},{"$f":"IF(R31=\"\",\"\",VLOOKUP(R31,漢字読み!$A$2:$O$506,6,0))","v":"うれしい［遠足］　　　　"},{"$f":"IF(S31=\"\",\"\",VLOOKUP(S31,漢字読み!$A$2:$O$506,6,0))","v":"［何回］もよむ 　　　"},{"$f":"IF(T31=\"\",\"\",VLOOKUP(T31,漢字読み!$A$2:$O$506,6,0))","v":"［強］いチームとたたかう"},null,"級"]
[{"$f":"IF(A$11=\"\",\"\",VLOOKUP(A31,漢字書き!$A$2:$O$506,8,0))","v":"春"},{"$f":"IF(B$11=\"\",\"\",VLOOKUP(B31,漢字書き!$A$2:$O$506,8,0))","v":"岩"},{"$f":"IF(C$11=\"\",\"\",VLOOKUP(C31,漢字書き!$A$2:$O$506,8,0))","v":"原"},{"$f":"IF(D$11=\"\",\"\",VLOOKUP(D31,漢字書き!$A$2:$O$506,8,0))","v":"会"},{"$f":"IF(E$11=\"\",\"\",VLOOKUP(E31,漢字書き!$A$2:$O$506,8,0))","v":"時間"},{"$f":"IF(F$11=\"\",\"\",VLOOKUP(F31,漢字書き!$A$2:$O$506,8,0))","v":"秋"},{"$f":"IF(G$11=\"\",\"\",VLOOKUP(G31,漢字書き!$A$2:$O$506,8,0))","v":"交"},{"$f":"IF(H$11=\"\",\"\",VLOOKUP(H31,漢字書き!$A$2:$O$506,8,0))","v":"五才"},{"$f":"IF(I$11=\"\",\"\",VLOOKUP(I31,漢字書き!$A$2:$O$506,8,0))","v":"光"},{"$f":"IF(J$11=\"\",\"\",VLOOKUP(J31,漢字書き!$A$2:$O$506,8,0))","v":"首"},{"$f":"IF(K$11=\"\",\"\",VLOOKUP(K31,漢字読み!$A$2:$O$506,8,0))","v":"くろ"},{"$f":"IF(L$11=\"\",\"\",VLOOKUP(L31,漢字読み!$A$2:$O$506,8,0))","v":"おや"},{"$f":"IF(M$11=\"\",\"\",VLOOKUP(M31,漢字読み!$A$2:$O$506,8,0))","v":"にっこう"},{"$f":"IF(N$11=\"\",\"\",VLOOKUP(N31,漢字読み!$A$2:$O$506,8,0))","v":"そうげん"},{"$f":"IF(O$11=\"\",\"\",VLOOKUP(O31,漢字読み!$A$2:$O$506,8,0))","v":"まえ"},{"$f":"IF(P$11=\"\",\"\",VLOOKUP(P31,漢字読み!$A$2:$O$506,8,0))","v":"いえ"},{"$f":"IF(Q$11=\"\",\"\",VLOOKUP(Q31,漢字読み!$A$2:$O$506,8,0))","v":"おも"},{"$f":"IF(R$11=\"\",\"\",VLOOKUP(R31,漢字読み!$A$2:$O$506,8,0))","v":"えんそく"},{"$f":"IF(S$11=\"\",\"\",VLOOKUP(S31,漢字読み!$A$2:$O$506,8,0))","v":"なんかい"},{"$f":"IF(T$11=\"\",\"\",VLOOKUP(T31,漢字読み!$A$2:$O$506,8,0))","v":"つよ"},null,"名前"]
[{"$f":"IF(A31=\"\",\"\",IF(VLOOKUP(A31,漢字書き!$A$2:$N$502,7,0)=0,\"\",VLOOKUP(A31,漢字書き!$A$2:$N$502,7,0)))","v":""},{"$f":"IF(B31=\"\",\"\",IF(VLOOKUP(B31,漢字書き!$A$2:$N$502,7,0)=0,\"\",VLOOKUP(B31,漢字書き!$A$2:$N$502,7,0)))","v":""},{"$f":"IF(C31=\"\",\"\",IF(VLOOKUP(C31,漢字書き!$A$2:$N$502,7,0)=0,\"\",VLOOKUP(C31,漢字書き!$A$2:$N$502,7,0)))","v":"っぱ"},{"$f":"IF(D31=\"\",\"\",IF(VLOOKUP(D31,漢字書き!$A$2:$N$502,7,0)=0,\"\",VLOOKUP(D31,漢字書き!$A$2:$N$502,7,0)))","v":"う"},{"$f":"IF(E31=\"\",\"\",IF(VLOOKUP(E31,漢字書き!$A$2:$N$502,7,0)=0,\"\",VLOOKUP(E31,漢字書き!$A$2:$N$502,7,0)))","v":""},{"$f":"IF(F31=\"\",\"\",IF(VLOOKUP(F31,漢字書き!$A$2:$N$502,7,0)=0,\"\",VLOOKUP(F31,漢字書き!$A$2:$N$502,7,0)))","v":"まつり"},{"$f":"IF(G31=\"\",\"\",IF(VLOOKUP(G31,漢字書き!$A$2:$N$502,7,0)=0,\"\",VLOOKUP(G31,漢字書き!$A$2:$N$502,7,0)))","v":"つう"},{"$f":"IF(H31=\"\",\"\",IF(VLOOKUP(H31,漢字書き!$A$2:$N$502,7,0)=0,\"\",VLOOKUP(H31,漢字書き!$A$2:$N$502,7,0)))","v":""},{"$f":"IF(I31=\"\",\"\",IF(VLOOKUP(I31,漢字書き!$A$2:$N$502,7,0)=0,\"\",VLOOKUP(I31,漢字書き!$A$2:$N$502,7,0)))","v":"る"},{"$f":"IF(J31=\"\",\"\",IF(VLOOKUP(J31,漢字書き!$A$2:$N$502,7,0)=0,\"\",VLOOKUP(J31,漢字書き!$A$2:$N$502,7,0)))","v":"わ"},{"$f":"IF(K31=\"\",\"\",IF(VLOOKUP(K31,漢字読み!$A$2:$O$502,7,0)=0,\"\",VLOOKUP(K31,漢字読み!$A$2:$O$502,7,0)))","v":"ごま"},{"$f":"IF(L31=\"\",\"\",IF(VLOOKUP(L31,漢字読み!$A$2:$O$502,7,0)=0,\"\",VLOOKUP(L31,漢字読み!$A$2:$O$502,7,0)))","v":""},{"$f":"IF(M31=\"\",\"\",IF(VLOOKUP(M31,漢字読み!$A$2:$O$502,7,0)=0,\"\",VLOOKUP(M31,漢字読み!$A$2:$O$502,7,0)))","v":""},{"$f":"IF(N31=\"\",\"\",IF(VLOOKUP(N31,漢字読み!$A$2:$O$502,7,0)=0,\"\",VLOOKUP(N31,漢字読み!$A$2:$O$502,7,0)))","v":""},{"$f":"IF(O31=\"\",\"\",IF(VLOOKUP(O31,漢字読み!$A$2:$O$502,7,0)=0,\"\",VLOOKUP(O31,漢字読み!$A$2:$O$502,7,0)))","v":""},{"$f":"IF(P31=\"\",\"\",IF(VLOOKUP(P31,漢字読み!$A$2:$O$502,7,0)=0,\"\",VLOOKUP(P31,漢字読み!$A$2:$O$502,7,0)))","v":""},{"$f":"IF(Q31=\"\",\"\",IF(VLOOKUP(Q31,漢字読み!$A$2:$O$502,7,0)=0,\"\",VLOOKUP(Q31,漢字読み!$A$2:$O$502,7,0)))","v":"う"},{"$f":"IF(R31=\"\",\"\",IF(VLOOKUP(R31,漢字読み!$A$2:$O$502,7,0)=0,\"\",VLOOKUP(R31,漢字読み!$A$2:$O$502,7,0)))","v":""},{"$f":"IF(S31=\"\",\"\",IF(VLOOKUP(S31,漢字読み!$A$2:$O$502,7,0)=0,\"\",VLOOKUP(S31,漢字読み!$A$2:$O$502,7,0)))","v":""},{"$f":"IF(T31=\"\",\"\",IF(VLOOKUP(T31,漢字読み!$A$2:$O$502,7,0)=0,\"\",VLOOKUP(T31,漢字読み!$A$2:$O$502,7,0)))","v":"い"},null,null,"和歌山県教育委員会"]
[{"$f":"A26","v":5},{"$f":"B26","v":7},{"$f":"C26","v":92},{"$f":"D26","v":42},{"$f":"E26","v":26},{"$f":"F26","v":38},{"$f":"G26","v":31},{"$f":"H26","v":15},{"$f":"I26","v":43},{"$f":"J26","v":104},{"$f":"K26","v":131},{"$f":"L26","v":128},{"$f":"M26","v":111},{"$f":"N26","v":127},{"$f":"O26","v":19},{"$f":"P26","v":87},{"$f":"Q26","v":139},{"$f":"R26","v":119},{"$f":"S26","v":55},{"$f":"T26","v":99}]
["⑳","⑲","⑱","⑰","⑯","⑮","⑭","⑬","⑫","⑪","⑩","⑨","⑧","⑦","⑥","⑤","④","③","②","①","次の［　　　　］の部分の漢字には読みがなをひらがなで書き、カタカナは漢字に直しなさい。",14,"「漢字の博士検定試験」練習問題　"]
[{"$f":"IF(A36=\"\",\"\",VLOOKUP(A36,漢字書き!$A$2:$N$506,6,0))","v":"［トオ］いくにのはなし"},{"$f":"IF(B36=\"\",\"\",VLOOKUP(B36,漢字書き!$A$2:$N$506,6,0))","v":"［ナニ］かごようですか"},{"$f":"IF(C36=\"\",\"\",VLOOKUP(C36,漢字書き!$A$2:$N$506,6,0))","v":"［カミ］しばい"},{"$f":"IF(D36=\"\",\"\",VLOOKUP(D36,漢字書き!$A$2:$N$506,6,0))","v":"［アニ］のともだち"},{"$f":"IF(E36=\"\",\"\",VLOOKUP(E36,漢字書き!$A$2:$N$506,6,0))","v":"［マル］い石"},{"$f":"IF(F36=\"\",\"\",VLOOKUP(F36,漢字書き!$A$2:$N$506,6,0))","v":"［キョウシツ］に入る"},{"$f":"IF(G36=\"\",\"\",VLOOKUP(G36,漢字書き!$A$2:$N$506,6,0))","v":"家に［カエ］る"},{"$f":"IF(H36=\"\",\"\",VLOOKUP(H36,漢字書き!$A$2:$N$506,6,0))","v":"目が［マワ］る"},{"$f":"IF(I36=\"\",\"\",VLOOKUP(I36,漢字書き!$A$2:$N$506,6,0))","v":"［ニンギョウ］をかう"},{"$f":"IF(J36=\"\",\"\",VLOOKUP(J36,漢字書き!$A$2:$N$506,6,0))","v":"［スク］ないおかず"},{"$f":"IF(K36=\"\",\"\",VLOOKUP(K36,漢字読み!$A$2:$O$506,6,0))","v":"［親］ゆうになる"},{"$f":"IF(L36=\"\",\"\",VLOOKUP(L36,漢字読み!$A$2:$O$506,6,0))","v":"［新入生］をむかえる"},{"$f":"IF(M36=\"\",\"\",VLOOKUP(M36,漢字読み!$A$2:$O$506,6,0))","v":"力が［弱］い         　"},{"$f":"IF(N36=\"\",\"\",VLOOKUP(N36,漢字読み!$A$2:$O$506,6,0))","v":"［心］の中         　　"},{"$f":"IF(O36=\"\",\"\",VLOOKUP(O36,漢字読み!$A$2:$O$506,6,0))","v":"［会社］ではたらく  "},{"$f":"IF(P36=\"\",\"\",VLOOKUP(P36,漢字読み!$A$2:$O$506,6,0))","v":"［九才］になる"},{"$f":"IF(Q36=\"\",\"\",VLOOKUP(Q36,漢字読み!$A$2:$O$506,6,0))","v":"［声］をかける　　　"},{"$f":"IF(R36=\"\",\"\",VLOOKUP(R36,漢字読み!$A$2:$O$506,6,0))","v":"字を［書］く"},{"$f":"IF(S36=\"\",\"\",VLOOKUP(S36,漢字読み!$A$2:$O$506,6,0))","v":"［計算］をする     "},{"$f":"IF(T36=\"\",\"\",VLOOKUP(T36,漢字読み!$A$2:$O$506,6,0))","v":"わたしの［姉］です"},null,"級"]
[{"$f":"IF(A$16=\"\",\"\",VLOOKUP(A36,漢字書き!$A$2:$O$506,8,0))","v":"遠"},{"$f":"IF(B$16=\"\",\"\",VLOOKUP(B36,漢字書き!$A$2:$O$506,8,0))","v":"何"},{"$f":"IF(C$16=\"\",\"\",VLOOKUP(C36,漢字書き!$A$2:$O$506,8,0))","v":"紙"},{"$f":"IF(D$16=\"\",\"\",VLOOKUP(D36,漢字書き!$A$2:$O$506,8,0))","v":"兄"},{"$f":"IF(E$16=\"\",\"\",VLOOKUP(E36,漢字書き!$A$2:$O$506,8,0))","v":"丸"},{"$f":"IF(F$16=\"\",\"\",VLOOKUP(F36,漢字書き!$A$2:$O$506,8,0))","v":"教室"},{"$f":"IF(G$16=\"\",\"\",VLOOKUP(G36,漢字書き!$A$2:$O$506,8,0))","v":"帰"},{"$f":"IF(H$16=\"\",\"\",VLOOKUP(H36,漢字書き!$A$2:$O$506,8,0))","v":"回"},{"$f":"IF(I$16=\"\",\"\",VLOOKUP(I36,漢字書き!$A$2:$O$506,8,0))","v":"人形"},{"$f":"IF(J$16=\"\",\"\",VLOOKUP(J36,漢字書き!$A$2:$O$506,8,0))","v":"少"},{"$f":"IF(K$16=\"\",\"\",VLOOKUP(K36,漢字読み!$A$2:$O$506,8,0))","v":"しん"},{"$f":"IF(L$16=\"\",\"\",VLOOKUP(L36,漢字読み!$A$2:$O$506,8,0))","v":"しんにゅうせい"},{"$f":"IF(M$16=\"\",\"\",VLOOKUP(M36,漢字読み!$A$2:$O$506,8,0))","v":"よわ"},{"$f":"IF(N$16=\"\",\"\",VLOOKUP(N36,漢字読み!$A$2:$O$506,8,0))","v":"こころ"},{"$f":"IF(O$16=\"\",\"\",VLOOKUP(O36,漢字読み!$A$2:$O$506,8,0))","v":"かいしゃ"},{"$f":"IF(P$16=\"\",\"\",VLOOKUP(P36,漢字読み!$A$2:$O$506,8,0))","v":"きゅうさい"},{"$f":"IF(Q$16=\"\",\"\",VLOOKUP(Q36,漢字読み!$A$2:$O$506,8,0))","v":"こえ"},{"$f":"IF(R$16=\"\",\"\",VLOOKUP(R36,漢字読み!$A$2:$O$506,8,0))","v":"か"},{"$f":"IF(S$16=\"\",\"\",VLOOKUP(S36,漢字読み!$A$2:$O$506,8,0))","v":"けいさん"},{"$f":"IF(T$16=\"\",\"\",VLOOKUP(T36,漢字読み!$A$2:$O$506,8,0))","v":"あね"},null,"名前"]
[{"$f":"IF(A36=\"\",\"\",IF(VLOOKUP(A36,漢字書き!$A$2:$N$502,7,0)=0,\"\",VLOOKUP(A36,漢字書き!$A$2:$N$502,7,0)))","v":"い"},{"$f":"IF(B36=\"\",\"\",IF(VLOOKUP(B36,漢字書き!$A$2:$N$502,7,0)=0,\"\",VLOOKUP(B36,漢字書き!$A$2:$N$502,7,0)))","v":"か"},{"$f":"IF(C36=\"\",\"\",IF(VLOOKUP(C36,漢字書き!$A$2:$N$502,7,0)=0,\"\",VLOOKUP(C36,漢字書き!$A$2:$N$502,7,0)))","v":""},{"$f":"IF(D36=\"\",\"\",IF(VLOOKUP(D36,漢字書き!$A$2:$N$502,7,0)=0,\"\",VLOOKUP(D36,漢字書き!$A$2:$N$502,7,0)))","v":""},{"$f":"IF(E36=\"\",\"\",IF(VLOOKUP(E36,漢字書き!$A$2:$N$502,7,0)=0,\"\",VLOOKUP(E36,漢字書き!$A$2:$N$502,7,0)))","v":"い"},{"$f":"IF(F36=\"\",\"\",IF(VLOOKUP(F36,漢字書き!$A$2:$N$502,7,0)=0,\"\",VLOOKUP(F36,漢字書き!$A$2:$N$502,7,0)))","v":""},{"$f":"IF(G36=\"\",\"\",IF(VLOOKUP(G36,漢字書き!$A$2:$N$502,7,0)=0,\"\",VLOOKUP(G36,漢字書き!$A$2:$N$502,7,0)))","v":"る"},{"$f":"IF(H36=\"\",\"\",IF(VLOOKUP(H36,漢字書き!$A$2:$N$502,7,0)=0,\"\",VLOOKUP(H36,漢字書き!$A$2:$N$502,7,0)))","v":"る"},{"$f":"IF(I36=\"\",\"\",IF(VLOOKUP(I36,漢字書き!$A$2:$N$502,7,0)=0,\"\",VLOOKUP(I36,漢字書き!$A$2:$N$502,7,0)))","v":""},{"$f":"IF(J36=\"\",\"\",IF(VLOOKUP(J36,漢字書き!$A$2:$N$502,7,0)=0,\"\",VLOOKUP(J36,漢字書き!$A$2:$N$502,7,0)))","v":"ない"},{"$f":"IF(K36=\"\",\"\",IF(VLOOKUP(K36,漢字読み!$A$2:$O$502,7,0)=0,\"\",VLOOKUP(K36,漢字読み!$A$2:$O$502,7,0)))","v":"ゆう"},{"$f":"IF(L36=\"\",\"\",IF(VLOOKUP(L36,漢字読み!$A$2:$O$502,7,0)=0,\"\",VLOOKUP(L36,漢字読み!$A$2:$O$502,7,0)))","v":""},{"$f":"IF(M36=\"\",\"\",IF(VLOOKUP(M36,漢字読み!$A$2:$O$502,7,0)=0,\"\",VLOOKUP(M36,漢字読み!$A$2:$O$502,7,0)))","v":"い"},{"$f":"IF(N36=\"\",\"\",IF(VLOOKUP(N36,漢字読み!$A$2:$O$502,7,0)=0,\"\",VLOOKUP(N36,漢字読み!$A$2:$O$502,7,0)))","v":""},{"$f":"IF(O36=\"\",\"\",IF(VLOOKUP(O36,漢字読み!$A$2:$O$502,7,0)=0,\"\",VLOOKUP(O36,漢字読み!$A$2:$O$502,7,0)))","v":""},{"$f":"IF(P36=\"\",\"\",IF(VLOOKUP(P36,漢字読み!$A$2:$O$502,7,0)=0,\"\",VLOOKUP(P36,漢字読み!$A$2:$O$502,7,0)))","v":""},{"$f":"IF(Q36=\"\",\"\",IF(VLOOKUP(Q36,漢字読み!$A$2:$O$502,7,0)=0,\"\",VLOOKUP(Q36,漢字読み!$A$2:$O$502,7,0)))","v":""},{"$f":"IF(R36=\"\",\"\",IF(VLOOKUP(R36,漢字読み!$A$2:$O$502,7,0)=0,\"\",VLOOKUP(R36,漢字読み!$A$2:$O$502,7,0)))","v":"く"},{"$f":"IF(S36=\"\",\"\",IF(VLOOKUP(S36,漢字読み!$A$2:$O$502,7,0)=0,\"\",VLOOKUP(S36,漢字読み!$A$2:$O$502,7,0)))","v":""},{"$f":"IF(T36=\"\",\"\",IF(VLOOKUP(T36,漢字読み!$A$2:$O$502,7,0)=0,\"\",VLOOKUP(T36,漢字読み!$A$2:$O$502,7,0)))","v":""},null,null,"和歌山県教育委員会"]
[{"$f":"INDIRECT(\"'関数（書き）'!C\" & COLUMN(B$1)+SUM($AD$2:$AD42))","v":70},{"$f":"INDIRECT(\"'関数（書き）'!C\" & COLUMN(C$1)+SUM($AD$2:$AD42))","v":13},{"$f":"INDIRECT(\"'関数（書き）'!C\" & COLUMN(D$1)+SUM($AD$2:$AD42))","v":2},{"$f":"INDIRECT(\"'関数（書き）'!C\" & COLUMN(E$1)+SUM($AD$2:$AD42))","v":53},{"$f":"INDIRECT(\"'関数（書き）'!C\" & COLUMN(F$1)+SUM($AD$2:$AD42))","v":9},{"$f":"INDIRECT(\"'関数（書き）'!C\" & COLUMN(G$1)+SUM($AD$2:$AD42))","v":54},{"$f":"INDIRECT(\"'関数（書き）'!C\" & COLUMN(H$1)+SUM($AD$2:$AD42))","v":56},{"$f":"INDIRECT(\"'関数（書き）'!C\" & COLUMN(I$1)+SUM($AD$2:$AD42))","v":67},{"$f":"INDIRECT(\"'関数（書き）'!C\" & COLUMN(J$1)+SUM($AD$2:$AD42))","v":85},{"$f":"INDIRECT(\"'関数（書き）'!C\" & COLUMN(K$1)+SUM($AD$2:$AD42))","v":82},{"$f":"INDIRECT(\"'関数（読み）'!C\" & COLUMN(B$1)+SUM($AD$2:$AD42))","v":63},{"$f":"INDIRECT(\"'関数（読み）'!C\" & COLUMN(C$1)+SUM($AD$2:$AD42))","v":53},{"$f":"INDIRECT(\"'関数（読み）'!C\" & COLUMN(D$1)+SUM($AD$2:$AD42))","v":25},{"$f":"INDIRECT(\"'関数（読み）'!C\" & COLUMN(E$1)+SUM($AD$2:$AD42))","v":100},{"$f":"INDIRECT(\"'関数（読み）'!C\" & COLUMN(F$1)+SUM($AD$2:$AD42))","v":44},{"$f":"INDIRECT(\"'関数（読み）'!C\" & COLUMN(G$1)+SUM($AD$2:$AD42))","v":88},{"$f":"INDIRECT(\"'関数（読み）'!C\" & COLUMN(H$1)+SUM($AD$2:$AD42))","v":26},{"$f":"INDIRECT(\"'関数（読み）'!C\" & COLUMN(I$1)+SUM($AD$2:$AD42))","v":57},{"$f":"INDIRECT(\"'関数（読み）'!C\" & COLUMN(J$1)+SUM($AD$2:$AD42))","v":41},{"$f":"INDIRECT(\"'関数（読み）'!C\" & COLUMN(K$1)+SUM($AD$2:$AD42))","v":70}]
["⑳","⑲","⑱","⑰","⑯","⑮","⑭","⑬","⑫","⑪","⑩","⑨","⑧","⑦","⑥","⑤","④","③","②","①","次の［　　　　］の部分の漢字には読みがなをひらがなで書き、カタカナは漢字に直しなさい。",14,"「漢字の博士検定試験」練習問題　",null,null,null,null,null,"←",10,"問",{"$f":"AH27+1","v":41},"～",{"$f":"SUM($AD$2:$AD42)+10","v":50},"問まで",{"$f":"COUNTIF($A$1:$T$200,T43)","v":2}]
[{"$f":"IF(A41=\"\",\"\",VLOOKUP(A41,漢字書き!$A$2:$N$506,6,0))","v":"テストに［ゴウ］かくする"},{"$f":"IF(B41=\"\",\"\",VLOOKUP(B41,漢字書き!$A$2:$N$506,6,0))","v":"［ウタゴエ］がひびく"},{"$f":"IF(C41=\"\",\"\",VLOOKUP(C41,漢字書き!$A$2:$N$506,6,0))","v":"とりの［ハネ］"},{"$f":"IF(D41=\"\",\"\",VLOOKUP(D41,漢字書き!$A$2:$N$506,6,0))","v":"［ゴゴ］のひととき"},{"$f":"IF(E41=\"\",\"\",VLOOKUP(E41,漢字書き!$A$2:$N$506,6,0))","v":"ながい［ナツヤス］み"},{"$f":"IF(F41=\"\",\"\",VLOOKUP(F41,漢字書き!$A$2:$N$506,6,0))","v":"先生の［ウシ］ろをあるく"},{"$f":"IF(G41=\"\",\"\",VLOOKUP(G41,漢字書き!$A$2:$N$506,6,0))","v":"むかしばなしを［カタ］る"},{"$f":"IF(H41=\"\",\"\",VLOOKUP(H41,漢字書き!$A$2:$N$506,6,0))","v":"ありの［ギョウ］れつ"},{"$f":"IF(I41=\"\",\"\",VLOOKUP(I41,漢字書き!$A$2:$N$506,6,0))","v":"［ケイサン］もんだい"},{"$f":"IF(J41=\"\",\"\",VLOOKUP(J41,漢字書き!$A$2:$N$506,6,0))","v":"［サクブン］をかく"},{"$f":"IF(K41=\"\",\"\",VLOOKUP(K41,漢字読み!$A$2:$O$506,6,0))","v":"［古文］をよむ"},{"$f":"IF(L41=\"\",\"\",VLOOKUP(L41,漢字読み!$A$2:$O$506,6,0))","v":"［形］をかえる"},{"$f":"IF(M41=\"\",\"\",VLOOKUP(M41,漢字読み!$A$2:$O$506,6,0))","v":"［外国］の町               "},{"$f":"IF(N41=\"\",\"\",VLOOKUP(N41,漢字読み!$A$2:$O$506,6,0))","v":"［思］いでをつくる"},{"$f":"IF(O41=\"\",\"\",VLOOKUP(O41,漢字読み!$A$2:$O$506,6,0))","v":"［魚］のむれ         "},{"$f":"IF(P41=\"\",\"\",VLOOKUP(P41,漢字読み!$A$2:$O$506,6,0))","v":"かれは［天才］だ    "},{"$f":"IF(Q41=\"\",\"\",VLOOKUP(Q41,漢字読み!$A$2:$O$506,6,0))","v":"［角］どをはかる"},{"$f":"IF(R41=\"\",\"\",VLOOKUP(R41,漢字読み!$A$2:$O$506,6,0))","v":"［元気］にあそぶ"},{"$f":"IF(S41=\"\",\"\",VLOOKUP(S41,漢字読み!$A$2:$O$506,6,0))","v":"［牛］をかう"},{"$f":"IF(T41=\"\",\"\",VLOOKUP(T41,漢字読み!$A$2:$O$506,6,0))","v":"［広］い原っぱ"},null,"級"]
[null,null,null,null,null,null,null,null,null,null,null,null,null,null,null,null,null,null,null,null,null,"名前"]
[{"$f":"IF(A41=\"\",\"\",IF(VLOOKUP(A41,漢字書き!$A$2:$N$502,7,0)=0,\"\",VLOOKUP(A41,漢字書き!$A$2:$N$502,7,0)))","v":"かく"},{"$f":"IF(B41=\"\",\"\",IF(VLOOKUP(B41,漢字書き!$A$2:$N$502,7,0)=0,\"\",VLOOKUP(B41,漢字書き!$A$2:$N$502,7,0)))","v":""},{"$f":"IF(C41=\"\",\"\",IF(VLOOKUP(C41,漢字書き!$A$2:$N$502,7,0)=0,\"\",VLOOKUP(C41,漢字書き!$A$2:$N$502,7,0)))","v":""},{"$f":"IF(D41=\"\",\"\",IF(VLOOKUP(D41,漢字書き!$A$2:$N$502,7,0)=0,\"\",VLOOKUP(D41,漢字書き!$A$2:$N$502,7,0)))","v":""},{"$f":"IF(E41=\"\",\"\",IF(VLOOKUP(E41,漢字書き!$A$2:$N$502,7,0)=0,\"\",VLOOKUP(E41,漢字書き!$A$2:$N$502,7,0)))","v":"み"},{"$f":"IF(F41=\"\",\"\",IF(VLOOKUP(F41,漢字書き!$A$2:$N$502,7,0)=0,\"\",VLOOKUP(F41,漢字書き!$A$2:$N$502,7,0)))","v":"ろ"},{"$f":"IF(G41=\"\",\"\",IF(VLOOKUP(G41,漢字書き!$A$2:$N$502,7,0)=0,\"\",VLOOKUP(G41,漢字書き!$A$2:$N$502,7,0)))","v":"る"},{"$f":"IF(H41=\"\",\"\",IF(VLOOKUP(H41,漢字書き!$A$2:$N$502,7,0)=0,\"\",VLOOKUP(H41,漢字書き!$A$2:$N$502,7,0)))","v":"れつ"},{"$f":"IF(I41=\"\",\"\",IF(VLOOKUP(I41,漢字書き!$A$2:$N$502,7,0)=0,\"\",VLOOKUP(I41,漢字書き!$A$2:$N$502,7,0)))","v":""},{"$f":"IF(J41=\"\",\"\",IF(VLOOKUP(J41,漢字書き!$A$2:$N$502,7,0)=0,\"\",VLOOKUP(J41,漢字書き!$A$2:$N$502,7,0)))","v":""},{"$f":"IF(K41=\"\",\"\",IF(VLOOKUP(K41,漢字読み!$A$2:$O$502,7,0)=0,\"\",VLOOKUP(K41,漢字読み!$A$2:$O$502,7,0)))","v":""},{"$f":"IF(L41=\"\",\"\",IF(VLOOKUP(L41,漢字読み!$A$2:$O$502,7,0)=0,\"\",VLOOKUP(L41,漢字読み!$A$2:$O$502,7,0)))","v":""},{"$f":"IF(M41=\"\",\"\",IF(VLOOKUP(M41,漢字読み!$A$2:$O$502,7,0)=0,\"\",VLOOKUP(M41,漢字読み!$A$2:$O$502,7,0)))","v":""},{"$f":"IF(N41=\"\",\"\",IF(VLOOKUP(N41,漢字読み!$A$2:$O$502,7,0)=0,\"\",VLOOKUP(N41,漢字読み!$A$2:$O$502,7,0)))","v":"いで"},{"$f":"IF(O41=\"\",\"\",IF(VLOOKUP(O41,漢字読み!$A$2:$O$502,7,0)=0,\"\",VLOOKUP(O41,漢字読み!$A$2:$O$502,7,0)))","v":""},{"$f":"IF(P41=\"\",\"\",IF(VLOOKUP(P41,漢字読み!$A$2:$O$502,7,0)=0,\"\",VLOOKUP(P41,漢字読み!$A$2:$O$502,7,0)))","v":""},{"$f":"IF(Q41=\"\",\"\",IF(VLOOKUP(Q41,漢字読み!$A$2:$O$502,7,0)=0,\"\",VLOOKUP(Q41,漢字読み!$A$2:$O$502,7,0)))","v":"ど"},{"$f":"IF(R41=\"\",\"\",IF(VLOOKUP(R41,漢字読み!$A$2:$O$502,7,0)=0,\"\",VLOOKUP(R41,漢字読み!$A$2:$O$502,7,0)))","v":""},{"$f":"IF(S41=\"\",\"\",IF(VLOOKUP(S41,漢字読み!$A$2:$O$502,7,0)=0,\"\",VLOOKUP(S41,漢字読み!$A$2:$O$502,7,0)))","v":""},{"$f":"IF(T41=\"\",\"\",IF(VLOOKUP(T41,漢字読み!$A$2:$O$502,7,0)=0,\"\",VLOOKUP(T41,漢字読み!$A$2:$O$502,7,0)))","v":"い"},null,null,"和歌山県教育委員会"]
[{"$f":"INDIRECT(\"'関数（書き）'!C\" & COLUMN(B$1)+SUM($AD$2:$AD47))","v":121},{"$f":"INDIRECT(\"'関数（書き）'!C\" & COLUMN(C$1)+SUM($AD$2:$AD47))","v":107},{"$f":"INDIRECT(\"'関数（書き）'!C\" & COLUMN(D$1)+SUM($AD$2:$AD47))","v":94},{"$f":"INDIRECT(\"'関数（書き）'!C\" & COLUMN(E$1)+SUM($AD$2:$AD47))","v":61},{"$f":"INDIRECT(\"'関数（書き）'!C\" & COLUMN(F$1)+SUM($AD$2:$AD47))","v":20},{"$f":"INDIRECT(\"'関数（書き）'!C\" & COLUMN(G$1)+SUM($AD$2:$AD47))","v":57},{"$f":"INDIRECT(\"'関数（書き）'!C\" & COLUMN(H$1)+SUM($AD$2:$AD47))","v":29},{"$f":"INDIRECT(\"'関数（書き）'!C\" & COLUMN(I$1)+SUM($AD$2:$AD47))","v":39},{"$f":"INDIRECT(\"'関数（書き）'!C\" & COLUMN(J$1)+SUM($AD$2:$AD47))","v":112},{"$f":"INDIRECT(\"'関数（書き）'!C\" & COLUMN(K$1)+SUM($AD$2:$AD47))","v":73},{"$f":"INDIRECT(\"'関数（読み）'!C\" & COLUMN(B$1)+SUM($AD$2:$AD47))","v":135},{"$f":"INDIRECT(\"'関数（読み）'!C\" & COLUMN(C$1)+SUM($AD$2:$AD47))","v":144},{"$f":"INDIRECT(\"'関数（読み）'!C\" & COLUMN(D$1)+SUM($AD$2:$AD47))","v":65},{"$f":"INDIRECT(\"'関数（読み）'!C\" & COLUMN(E$1)+SUM($AD$2:$AD47))","v":120},{"$f":"INDIRECT(\"'関数（読み）'!C\" & COLUMN(F$1)+SUM($AD$2:$AD47))","v":45},{"$f":"INDIRECT(\"'関数（読み）'!C\" & COLUMN(G$1)+SUM($AD$2:$AD47))","v":81},{"$f":"INDIRECT(\"'関数（読み）'!C\" & COLUMN(H$1)+SUM($AD$2:$AD47))","v":32},{"$f":"INDIRECT(\"'関数（読み）'!C\" & COLUMN(I$1)+SUM($AD$2:$AD47))","v":61},{"$f":"INDIRECT(\"'関数（読み）'!C\" & COLUMN(J$1)+SUM($AD$2:$AD47))","v":137},{"$f":"INDIRECT(\"'関数（読み）'!C\" & COLUMN(K$1)+SUM($AD$2:$AD47))","v":33}]
["⑳","⑲","⑱","⑰","⑯","⑮","⑭","⑬","⑫","⑪","⑩","⑨","⑧","⑦","⑥","⑤","④","③","②","①","次の［　　　　］の部分の漢字には読みがなをひらがなで書き、カタカナは漢字に直しなさい。",14,"「漢字の博士検定試験」練習問題　",null,null,null,null,null,"←",10,"問",{"$f":"AH42+1","v":51},"～",{"$f":"SUM($AD$2:$AD47)+10","v":60},"問まで",{"$f":"COUNTIF($A$1:$T$200,T48)","v":2}]
[{"$f":"IF(A46=\"\",\"\",VLOOKUP(A46,漢字書き!$A$2:$N$506,6,0))","v":"よく［ハ］れた日"},{"$f":"IF(B46=\"\",\"\",VLOOKUP(B46,漢字書き!$A$2:$N$506,6,0))","v":"［イロ］えんぴつ"},{"$f":"IF(C46=\"\",\"\",VLOOKUP(C46,漢字書き!$A$2:$N$506,6,0))","v":"［ジ］てん車にのる"},{"$f":"IF(D46=\"\",\"\",VLOOKUP(D46,漢字書き!$A$2:$N$506,6,0))","v":"せんしゅの［コウ］たい"},{"$f":"IF(E46=\"\",\"\",VLOOKUP(E46,漢字書き!$A$2:$N$506,6,0))","v":"［エ］にかいて見せる"},{"$f":"IF(F46=\"\",\"\",VLOOKUP(F46,漢字書き!$A$2:$N$506,6,0))","v":"［ダイク］さんが家をたてる"},{"$f":"IF(G46=\"\",\"\",VLOOKUP(G46,漢字書き!$A$2:$N$506,6,0))","v":"おもちゃの［キシャ］"},{"$f":"IF(H46=\"\",\"\",VLOOKUP(H46,漢字書き!$A$2:$N$506,6,0))","v":"［スウジ］をよむ"},{"$f":"IF(I46=\"\",\"\",VLOOKUP(I46,漢字書き!$A$2:$N$506,6,0))","v":"ぞうの［オヤコ］"},{"$f":"IF(J46=\"\",\"\",VLOOKUP(J46,漢字書き!$A$2:$N$506,6,0))","v":"［ガイコク］に行く"},{"$f":"IF(K46=\"\",\"\",VLOOKUP(K46,漢字読み!$A$2:$O$506,6,0))","v":"［算数］のノート"},{"$f":"IF(L46=\"\",\"\",VLOOKUP(L46,漢字読み!$A$2:$O$506,6,0))","v":"［切手］をあつめる  "},{"$f":"IF(M46=\"\",\"\",VLOOKUP(M46,漢字読み!$A$2:$O$506,6,0))","v":"［午後］のひととき　　　"},{"$f":"IF(N46=\"\",\"\",VLOOKUP(N46,漢字読み!$A$2:$O$506,6,0))","v":"［少］人数のクラス"},{"$f":"IF(O46=\"\",\"\",VLOOKUP(O46,漢字読み!$A$2:$O$506,6,0))","v":"かわいい［金魚］"},{"$f":"IF(P46=\"\",\"\",VLOOKUP(P46,漢字読み!$A$2:$O$506,6,0))","v":"［黄色］いたんぽぽ"},{"$f":"IF(Q46=\"\",\"\",VLOOKUP(Q46,漢字読み!$A$2:$O$506,6,0))","v":"［岩］かげにかくれる       　　"},{"$f":"IF(R46=\"\",\"\",VLOOKUP(R46,漢字読み!$A$2:$O$506,6,0))","v":"［雨戸］をしめる"},{"$f":"IF(S46=\"\",\"\",VLOOKUP(S46,漢字読み!$A$2:$O$506,6,0))","v":"おはじきを［数］える　　"},{"$f":"IF(T46=\"\",\"\",VLOOKUP(T46,漢字読み!$A$2:$O$506,6,0))","v":"［岩石］のしゅるい"},null,"級"]
[null,null,null,null,null,null,null,null,null,null,null,null,null,null,null,null,null,null,null,null,null,"名前"]
[{"$f":"IF(A46=\"\",\"\",IF(VLOOKUP(A46,漢字書き!$A$2:$N$502,7,0)=0,\"\",VLOOKUP(A46,漢字書き!$A$2:$N$502,7,0)))","v":"れた"},{"$f":"IF(B46=\"\",\"\",IF(VLOOKUP(B46,漢字書き!$A$2:$N$502,7,0)=0,\"\",VLOOKUP(B46,漢字書き!$A$2:$N$502,7,0)))","v":""},{"$f":"IF(C46=\"\",\"\",IF(VLOOKUP(C46,漢字書き!$A$2:$N$502,7,0)=0,\"\",VLOOKUP(C46,漢字書き!$A$2:$N$502,7,0)))","v":"てん車"},{"$f":"IF(D46=\"\",\"\",IF(VLOOKUP(D46,漢字書き!$A$2:$N$502,7,0)=0,\"\",VLOOKUP(D46,漢字書き!$A$2:$N$502,7,0)))","v":"たい"},{"$f":"IF(E46=\"\",\"\",IF(VLOOKUP(E46,漢字書き!$A$2:$N$502,7,0)=0,\"\",VLOOKUP(E46,漢字書き!$A$2:$N$502,7,0)))","v":""},{"$f":"IF(F46=\"\",\"\",IF(VLOOKUP(F46,漢字書き!$A$2:$N$502,7,0)=0,\"\",VLOOKUP(F46,漢字書き!$A$2:$N$502,7,0)))","v":""},{"$f":"IF(G46=\"\",\"\",IF(VLOOKUP(G46,漢字書き!$A$2:$N$502,7,0)=0,\"\",VLOOKUP(G46,漢字書き!$A$2:$N$502,7,0)))","v":""},{"$f":"IF(H46=\"\",\"\",IF(VLOOKUP(H46,漢字書き!$A$2:$N$502,7,0)=0,\"\",VLOOKUP(H46,漢字書き!$A$2:$N$502,7,0)))","v":""},{"$f":"IF(I46=\"\",\"\",IF(VLOOKUP(I46,漢字書き!$A$2:$N$502,7,0)=0,\"\",VLOOKUP(I46,漢字書き!$A$2:$N$502,7,0)))","v":""},{"$f":"IF(J46=\"\",\"\",IF(VLOOKUP(J46,漢字書き!$A$2:$N$502,7,0)=0,\"\",VLOOKUP(J46,漢字書き!$A$2:$N$502,7,0)))","v":""},{"$f":"IF(K46=\"\",\"\",IF(VLOOKUP(K46,漢字読み!$A$2:$O$502,7,0)=0,\"\",VLOOKUP(K46,漢字読み!$A$2:$O$502,7,0)))","v":""},{"$f":"IF(L46=\"\",\"\",IF(VLOOKUP(L46,漢字読み!$A$2:$O$502,7,0)=0,\"\",VLOOKUP(L46,漢字読み!$A$2:$O$502,7,0)))","v":""},{"$f":"IF(M46=\"\",\"\",IF(VLOOKUP(M46,漢字読み!$A$2:$O$502,7,0)=0,\"\",VLOOKUP(M46,漢字読み!$A$2:$O$502,7,0)))","v":""},{"$f":"IF(N46=\"\",\"\",IF(VLOOKUP(N46,漢字読み!$A$2:$O$502,7,0)=0,\"\",VLOOKUP(N46,漢字読み!$A$2:$O$502,7,0)))","v":"人数"},{"$f":"IF(O46=\"\",\"\",IF(VLOOKUP(O46,漢字読み!$A$2:$O$502,7,0)=0,\"\",VLOOKUP(O46,漢字読み!$A$2:$O$502,7,0)))","v":""},{"$f":"IF(P46=\"\",\"\",IF(VLOOKUP(P46,漢字読み!$A$2:$O$502,7,0)=0,\"\",VLOOKUP(P46,漢字読み!$A$2:$O$502,7,0)))","v":"い"},{"$f":"IF(Q46=\"\",\"\",IF(VLOOKUP(Q46,漢字読み!$A$2:$O$502,7,0)=0,\"\",VLOOKUP(Q46,漢字読み!$A$2:$O$502,7,0)))","v":"かげ"},{"$f":"IF(R46=\"\",\"\",IF(VLOOKUP(R46,漢字読み!$A$2:$O$502,7,0)=0,\"\",VLOOKUP(R46,漢字読み!$A$2:$O$502,7,0)))","v":""},{"$f":"IF(S46=\"\",\"\",IF(VLOOKUP(S46,漢字読み!$A$2:$O$502,7,0)=0,\"\",VLOOKUP(S46,漢字読み!$A$2:$O$502,7,0)))","v":"える"},{"$f":"IF(T46=\"\",\"\",IF(VLOOKUP(T46,漢字読み!$A$2:$O$502,7,0)=0,\"\",VLOOKUP(T46,漢字読み!$A$2:$O$502,7,0)))","v":""},null,null,"和歌山県教育委員会"]
[{"$f":"A41","v":70},{"$f":"B41","v":13},{"$f":"C41","v":2},{"$f":"D41","v":53},{"$f":"E41","v":9},{"$f":"F41","v":54},{"$f":"G41","v":56},{"$f":"H41","v":67},{"$f":"I41","v":85},{"$f":"J41","v":82},{"$f":"K41","v":63},{"$f":"L41","v":53},{"$f":"M41","v":25},{"$f":"N41","v":100},{"$f":"O41","v":44},{"$f":"P41","v":88},{"$f":"Q41","v":26},{"$f":"R41","v":57},{"$f":"S41","v":41},{"$f":"T41","v":70}]
["⑳","⑲","⑱","⑰","⑯","⑮","⑭","⑬","⑫","⑪","⑩","⑨","⑧","⑦","⑥","⑤","④","③","②","①","次の［　　　　］の部分の漢字には読みがなをひらがなで書き、カタカナは漢字に直しなさい。",14,"「漢字の博士検定試験」練習問題　"]
[{"$f":"IF(A51=\"\",\"\",VLOOKUP(A51,漢字書き!$A$2:$N$506,6,0))","v":"テストに［ゴウ］かくする"},{"$f":"IF(B51=\"\",\"\",VLOOKUP(B51,漢字書き!$A$2:$N$506,6,0))","v":"［ウタゴエ］がひびく"},{"$f":"IF(C51=\"\",\"\",VLOOKUP(C51,漢字書き!$A$2:$N$506,6,0))","v":"とりの［ハネ］"},{"$f":"IF(D51=\"\",\"\",VLOOKUP(D51,漢字書き!$A$2:$N$506,6,0))","v":"［ゴゴ］のひととき"},{"$f":"IF(E51=\"\",\"\",VLOOKUP(E51,漢字書き!$A$2:$N$506,6,0))","v":"ながい［ナツヤス］み"},{"$f":"IF(F51=\"\",\"\",VLOOKUP(F51,漢字書き!$A$2:$N$506,6,0))","v":"先生の［ウシ］ろをあるく"},{"$f":"IF(G51=\"\",\"\",VLOOKUP(G51,漢字書き!$A$2:$N$506,6,0))","v":"むかしばなしを［カタ］る"},{"$f":"IF(H51=\"\",\"\",VLOOKUP(H51,漢字書き!$A$2:$N$506,6,0))","v":"ありの［ギョウ］れつ"},{"$f":"IF(I51=\"\",\"\",VLOOKUP(I51,漢字書き!$A$2:$N$506,6,0))","v":"［ケイサン］もんだい"},{"$f":"IF(J51=\"\",\"\",VLOOKUP(J51,漢字書き!$A$2:$N$506,6,0))","v":"［サクブン］をかく"},{"$f":"IF(K51=\"\",\"\",VLOOKUP(K51,漢字読み!$A$2:$O$506,6,0))","v":"［古文］をよむ"},{"$f":"IF(L51=\"\",\"\",VLOOKUP(L51,漢字読み!$A$2:$O$506,6,0))","v":"［形］をかえる"},{"$f":"IF(M51=\"\",\"\",VLOOKUP(M51,漢字読み!$A$2:$O$506,6,0))","v":"［外国］の町               "},{"$f":"IF(N51=\"\",\"\",VLOOKUP(N51,漢字読み!$A$2:$O$506,6,0))","v":"［思］いでをつくる"},{"$f":"IF(O51=\"\",\"\",VLOOKUP(O51,漢字読み!$A$2:$O$506,6,0))","v":"［魚］のむれ         "},{"$f":"IF(P51=\"\",\"\",VLOOKUP(P51,漢字読み!$A$2:$O$506,6,0))","v":"かれは［天才］だ    "},{"$f":"IF(Q51=\"\",\"\",VLOOKUP(Q51,漢字読み!$A$2:$O$506,6,0))","v":"［角］どをはかる"},{"$f":"IF(R51=\"\",\"\",VLOOKUP(R51,漢字読み!$A$2:$O$506,6,0))","v":"［元気］にあそぶ"},{"$f":"IF(S51=\"\",\"\",VLOOKUP(S51,漢字読み!$A$2:$O$506,6,0))","v":"［牛］をかう"},{"$f":"IF(T51=\"\",\"\",VLOOKUP(T51,漢字読み!$A$2:$O$506,6,0))","v":"［広］い原っぱ"},null,"級"]
[{"$f":"IF(A$11=\"\",\"\",VLOOKUP(A51,漢字書き!$A$2:$O$506,8,0))","v":"合"},{"$f":"IF(B$11=\"\",\"\",VLOOKUP(B51,漢字書き!$A$2:$O$506,8,0))","v":"歌声"},{"$f":"IF(C$11=\"\",\"\",VLOOKUP(C51,漢字書き!$A$2:$O$506,8,0))","v":"羽"},{"$f":"IF(D$11=\"\",\"\",VLOOKUP(D51,漢字書き!$A$2:$O$506,8,0))","v":"午後"},{"$f":"IF(E$11=\"\",\"\",VLOOKUP(E51,漢字書き!$A$2:$O$506,8,0))","v":"夏休"},{"$f":"IF(F$11=\"\",\"\",VLOOKUP(F51,漢字書き!$A$2:$O$506,8,0))","v":"後"},{"$f":"IF(G$11=\"\",\"\",VLOOKUP(G51,漢字書き!$A$2:$O$506,8,0))","v":"語"},{"$f":"IF(H$11=\"\",\"\",VLOOKUP(H51,漢字書き!$A$2:$O$506,8,0))","v":"行"},{"$f":"IF(I$11=\"\",\"\",VLOOKUP(I51,漢字書き!$A$2:$O$506,8,0))","v":"計算"},{"$f":"IF(J$11=\"\",\"\",VLOOKUP(J51,漢字書き!$A$2:$O$506,8,0))","v":"作文"},{"$f":"IF(K$11=\"\",\"\",VLOOKUP(K51,漢字読み!$A$2:$O$506,8,0))","v":"こぶん"},{"$f":"IF(L$11=\"\",\"\",VLOOKUP(L51,漢字読み!$A$2:$O$506,8,0))","v":"かたち"},{"$f":"IF(M$11=\"\",\"\",VLOOKUP(M51,漢字読み!$A$2:$O$506,8,0))","v":"がいこく"},{"$f":"IF(N$11=\"\",\"\",VLOOKUP(N51,漢字読み!$A$2:$O$506,8,0))","v":"おも"},{"$f":"IF(O$11=\"\",\"\",VLOOKUP(O51,漢字読み!$A$2:$O$506,8,0))","v":"さかな"},{"$f":"IF(P$11=\"\",\"\",VLOOKUP(P51,漢字読み!$A$2:$O$506,8,0))","v":"てんさい"},{"$f":"IF(Q$11=\"\",\"\",VLOOKUP(Q51,漢字読み!$A$2:$O$506,8,0))","v":"かく"},{"$f":"IF(R$11=\"\",\"\",VLOOKUP(R51,漢字読み!$A$2:$O$506,8,0))","v":"げんき"},{"$f":"IF(S$11=\"\",\"\",VLOOKUP(S51,漢字読み!$A$2:$O$506,8,0))","v":"うし"},{"$f":"IF(T$11=\"\",\"\",VLOOKUP(T51,漢字読み!$A$2:$O$506,8,0))","v":"ひろ"},null,"名前"]
[{"$f":"IF(A51=\"\",\"\",IF(VLOOKUP(A51,漢字書き!$A$2:$N$502,7,0)=0,\"\",VLOOKUP(A51,漢字書き!$A$2:$N$502,7,0)))","v":"かく"},{"$f":"IF(B51=\"\",\"\",IF(VLOOKUP(B51,漢字書き!$A$2:$N$502,7,0)=0,\"\",VLOOKUP(B51,漢字書き!$A$2:$N$502,7,0)))","v":""},{"$f":"IF(C51=\"\",\"\",IF(VLOOKUP(C51,漢字書き!$A$2:$N$502,7,0)=0,\"\",VLOOKUP(C51,漢字書き!$A$2:$N$502,7,0)))","v":""},{"$f":"IF(D51=\"\",\"\",IF(VLOOKUP(D51,漢字書き!$A$2:$N$502,7,0)=0,\"\",VLOOKUP(D51,漢字書き!$A$2:$N$502,7,0)))","v":""},{"$f":"IF(E51=\"\",\"\",IF(VLOOKUP(E51,漢字書き!$A$2:$N$502,7,0)=0,\"\",VLOOKUP(E51,漢字書き!$A$2:$N$502,7,0)))","v":"み"},{"$f":"IF(F51=\"\",\"\",IF(VLOOKUP(F51,漢字書き!$A$2:$N$502,7,0)=0,\"\",VLOOKUP(F51,漢字書き!$A$2:$N$502,7,0)))","v":"ろ"},{"$f":"IF(G51=\"\",\"\",IF(VLOOKUP(G51,漢字書き!$A$2:$N$502,7,0)=0,\"\",VLOOKUP(G51,漢字書き!$A$2:$N$502,7,0)))","v":"る"},{"$f":"IF(H51=\"\",\"\",IF(VLOOKUP(H51,漢字書き!$A$2:$N$502,7,0)=0,\"\",VLOOKUP(H51,漢字書き!$A$2:$N$502,7,0)))","v":"れつ"},{"$f":"IF(I51=\"\",\"\",IF(VLOOKUP(I51,漢字書き!$A$2:$N$502,7,0)=0,\"\",VLOOKUP(I51,漢字書き!$A$2:$N$502,7,0)))","v":""},{"$f":"IF(J51=\"\",\"\",IF(VLOOKUP(J51,漢字書き!$A$2:$N$502,7,0)=0,\"\",VLOOKUP(J51,漢字書き!$A$2:$N$502,7,0)))","v":""},{"$f":"IF(K51=\"\",\"\",IF(VLOOKUP(K51,漢字読み!$A$2:$O$502,7,0)=0,\"\",VLOOKUP(K51,漢字読み!$A$2:$O$502,7,0)))","v":""},{"$f":"IF(L51=\"\",\"\",IF(VLOOKUP(L51,漢字読み!$A$2:$O$502,7,0)=0,\"\",VLOOKUP(L51,漢字読み!$A$2:$O$502,7,0)))","v":""},{"$f":"IF(M51=\"\",\"\",IF(VLOOKUP(M51,漢字読み!$A$2:$O$502,7,0)=0,\"\",VLOOKUP(M51,漢字読み!$A$2:$O$502,7,0)))","v":""},{"$f":"IF(N51=\"\",\"\",IF(VLOOKUP(N51,漢字読み!$A$2:$O$502,7,0)=0,\"\",VLOOKUP(N51,漢字読み!$A$2:$O$502,7,0)))","v":"いで"},{"$f":"IF(O51=\"\",\"\",IF(VLOOKUP(O51,漢字読み!$A$2:$O$502,7,0)=0,\"\",VLOOKUP(O51,漢字読み!$A$2:$O$502,7,0)))","v":""},{"$f":"IF(P51=\"\",\"\",IF(VLOOKUP(P51,漢字読み!$A$2:$O$502,7,0)=0,\"\",VLOOKUP(P51,漢字読み!$A$2:$O$502,7,0)))","v":""},{"$f":"IF(Q51=\"\",\"\",IF(VLOOKUP(Q51,漢字読み!$A$2:$O$502,7,0)=0,\"\",VLOOKUP(Q51,漢字読み!$A$2:$O$502,7,0)))","v":"ど"},{"$f":"IF(R51=\"\",\"\",IF(VLOOKUP(R51,漢字読み!$A$2:$O$502,7,0)=0,\"\",VLOOKUP(R51,漢字読み!$A$2:$O$502,7,0)))","v":""},{"$f":"IF(S51=\"\",\"\",IF(VLOOKUP(S51,漢字読み!$A$2:$O$502,7,0)=0,\"\",VLOOKUP(S51,漢字読み!$A$2:$O$502,7,0)))","v":""},{"$f":"IF(T51=\"\",\"\",IF(VLOOKUP(T51,漢字読み!$A$2:$O$502,7,0)=0,\"\",VLOOKUP(T51,漢字読み!$A$2:$O$502,7,0)))","v":"い"},null,null,"和歌山県教育委員会"]
[{"$f":"A46","v":121},{"$f":"B46","v":107},{"$f":"C46","v":94},{"$f":"D46","v":61},{"$f":"E46","v":20},{"$f":"F46","v":57},{"$f":"G46","v":29},{"$f":"H46","v":39},{"$f":"I46","v":112},{"$f":"J46","v":73},{"$f":"K46","v":135},{"$f":"L46","v":144},{"$f":"M46","v":65},{"$f":"N46","v":120},{"$f":"O46","v":45},{"$f":"P46","v":81},{"$f":"Q46","v":32},{"$f":"R46","v":61},{"$f":"S46","v":137},{"$f":"T46","v":33}]
["⑳","⑲","⑱","⑰","⑯","⑮","⑭","⑬","⑫","⑪","⑩","⑨","⑧","⑦","⑥","⑤","④","③","②","①","次の［　　　　］の部分の漢字には読みがなをひらがなで書き、カタカナは漢字に直しなさい。",14,"「漢字の博士検定試験」練習問題　"]
[{"$f":"IF(A56=\"\",\"\",VLOOKUP(A56,漢字書き!$A$2:$N$506,6,0))","v":"よく［ハ］れた日"},{"$f":"IF(B56=\"\",\"\",VLOOKUP(B56,漢字書き!$A$2:$N$506,6,0))","v":"［イロ］えんぴつ"},{"$f":"IF(C56=\"\",\"\",VLOOKUP(C56,漢字書き!$A$2:$N$506,6,0))","v":"［ジ］てん車にのる"},{"$f":"IF(D56=\"\",\"\",VLOOKUP(D56,漢字書き!$A$2:$N$506,6,0))","v":"せんしゅの［コウ］たい"},{"$f":"IF(E56=\"\",\"\",VLOOKUP(E56,漢字書き!$A$2:$N$506,6,0))","v":"［エ］にかいて見せる"},{"$f":"IF(F56=\"\",\"\",VLOOKUP(F56,漢字書き!$A$2:$N$506,6,0))","v":"［ダイク］さんが家をたてる"},{"$f":"IF(G56=\"\",\"\",VLOOKUP(G56,漢字書き!$A$2:$N$506,6,0))","v":"おもちゃの［キシャ］"},{"$f":"IF(H56=\"\",\"\",VLOOKUP(H56,漢字書き!$A$2:$N$506,6,0))","v":"［スウジ］をよむ"},{"$f":"IF(I56=\"\",\"\",VLOOKUP(I56,漢字書き!$A$2:$N$506,6,0))","v":"ぞうの［オヤコ］"},{"$f":"IF(J56=\"\",\"\",VLOOKUP(J56,漢字書き!$A$2:$N$506,6,0))","v":"［ガイコク］に行く"},{"$f":"IF(K56=\"\",\"\",VLOOKUP(K56,漢字読み!$A$2:$O$506,6,0))","v":"［算数］のノート"},{"$f":"IF(L56=\"\",\"\",VLOOKUP(L56,漢字読み!$A$2:$O$506,6,0))","v":"［切手］をあつめる  "},{"$f":"IF(M56=\"\",\"\",VLOOKUP(M56,漢字読み!$A$2:$O$506,6,0))","v":"［午後］のひととき　　　"},{"$f":"IF(N56=\"\",\"\",VLOOKUP(N56,漢字読み!$A$2:$O$506,6,0))","v":"［少］人数のクラス"},{"$f":"IF(O56=\"\",\"\",VLOOKUP(O56,漢字読み!$A$2:$O$506,6,0))","v":"かわいい［金魚］"},{"$f":"IF(P56=\"\",\"\",VLOOKUP(P56,漢字読み!$A$2:$O$506,6,0))","v":"［黄色］いたんぽぽ"},{"$f":"IF(Q56=\"\",\"\",VLOOKUP(Q56,漢字読み!$A$2:$O$506,6,0))","v":"［岩］かげにかくれる       　　"},{"$f":"IF(R56=\"\",\"\",VLOOKUP(R56,漢字読み!$A$2:$O$506,6,0))","v":"［雨戸］をしめる"},{"$f":"IF(S56=\"\",\"\",VLOOKUP(S56,漢字読み!$A$2:$O$506,6,0))","v":"おはじきを［数］える　　"},{"$f":"IF(T56=\"\",\"\",VLOOKUP(T56,漢字読み!$A$2:$O$506,6,0))","v":"［岩石］のしゅるい"},null,"級"]
[{"$f":"IF(A$16=\"\",\"\",VLOOKUP(A56,漢字書き!$A$2:$O$506,8,0))","v":"晴"},{"$f":"IF(B$16=\"\",\"\",VLOOKUP(B56,漢字書き!$A$2:$O$506,8,0))","v":"色"},{"$f":"IF(C$16=\"\",\"\",VLOOKUP(C56,漢字書き!$A$2:$O$506,8,0))","v":"自"},{"$f":"IF(D$16=\"\",\"\",VLOOKUP(D56,漢字書き!$A$2:$O$506,8,0))","v":"交"},{"$f":"IF(E$16=\"\",\"\",VLOOKUP(E56,漢字書き!$A$2:$O$506,8,0))","v":"絵"},{"$f":"IF(F$16=\"\",\"\",VLOOKUP(F56,漢字書き!$A$2:$O$506,8,0))","v":"大工"},{"$f":"IF(G$16=\"\",\"\",VLOOKUP(G56,漢字書き!$A$2:$O$506,8,0))","v":"汽車"},{"$f":"IF(H$16=\"\",\"\",VLOOKUP(H56,漢字書き!$A$2:$O$506,8,0))","v":"数字"},{"$f":"IF(I$16=\"\",\"\",VLOOKUP(I56,漢字書き!$A$2:$O$506,8,0))","v":"親子"},{"$f":"IF(J$16=\"\",\"\",VLOOKUP(J56,漢字書き!$A$2:$O$506,8,0))","v":"外国"},{"$f":"IF(K$16=\"\",\"\",VLOOKUP(K56,漢字読み!$A$2:$O$506,8,0))","v":"さんすう"},{"$f":"IF(L$16=\"\",\"\",VLOOKUP(L56,漢字読み!$A$2:$O$506,8,0))","v":"きって"},{"$f":"IF(M$16=\"\",\"\",VLOOKUP(M56,漢字読み!$A$2:$O$506,8,0))","v":"ごご"},{"$f":"IF(N$16=\"\",\"\",VLOOKUP(N56,漢字読み!$A$2:$O$506,8,0))","v":"しょう"},{"$f":"IF(O$16=\"\",\"\",VLOOKUP(O56,漢字読み!$A$2:$O$506,8,0))","v":"きんぎょ"},{"$f":"IF(P$16=\"\",\"\",VLOOKUP(P56,漢字読み!$A$2:$O$506,8,0))","v":"きいろ"},{"$f":"IF(Q$16=\"\",\"\",VLOOKUP(Q56,漢字読み!$A$2:$O$506,8,0))","v":"いわ"},{"$f":"IF(R$16=\"\",\"\",VLOOKUP(R56,漢字読み!$A$2:$O$506,8,0))","v":"あまど"},{"$f":"IF(S$16=\"\",\"\",VLOOKUP(S56,漢字読み!$A$2:$O$506,8,0))","v":"かぞ"},{"$f":"IF(T$16=\"\",\"\",VLOOKUP(T56,漢字読み!$A$2:$O$506,8,0))","v":"がんせき"},null,"名前"]
[{"$f":"IF(A56=\"\",\"\",IF(VLOOKUP(A56,漢字書き!$A$2:$N$502,7,0)=0,\"\",VLOOKUP(A56,漢字書き!$A$2:$N$502,7,0)))","v":"れた"},{"$f":"IF(B56=\"\",\"\",IF(VLOOKUP(B56,漢字書き!$A$2:$N$502,7,0)=0,\"\",VLOOKUP(B56,漢字書き!$A$2:$N$502,7,0)))","v":""},{"$f":"IF(C56=\"\",\"\",IF(VLOOKUP(C56,漢字書き!$A$2:$N$502,7,0)=0,\"\",VLOOKUP(C56,漢字書き!$A$2:$N$502,7,0)))","v":"てん車"},{"$f":"IF(D56=\"\",\"\",IF(VLOOKUP(D56,漢字書き!$A$2:$N$502,7,0)=0,\"\",VLOOKUP(D56,漢字書き!$A$2:$N$502,7,0)))","v":"たい"},{"$f":"IF(E56=\"\",\"\",IF(VLOOKUP(E56,漢字書き!$A$2:$N$502,7,0)=0,\"\",VLOOKUP(E56,漢字書き!$A$2:$N$502,7,0)))","v":""},{"$f":"IF(F56=\"\",\"\",IF(VLOOKUP(F56,漢字書き!$A$2:$N$502,7,0)=0,\"\",VLOOKUP(F56,漢字書き!$A$2:$N$502,7,0)))","v":""},{"$f":"IF(G56=\"\",\"\",IF(VLOOKUP(G56,漢字書き!$A$2:$N$502,7,0)=0,\"\",VLOOKUP(G56,漢字書き!$A$2:$N$502,7,0)))","v":""},{"$f":"IF(H56=\"\",\"\",IF(VLOOKUP(H56,漢字書き!$A$2:$N$502,7,0)=0,\"\",VLOOKUP(H56,漢字書き!$A$2:$N$502,7,0)))","v":""},{"$f":"IF(I56=\"\",\"\",IF(VLOOKUP(I56,漢字書き!$A$2:$N$502,7,0)=0,\"\",VLOOKUP(I56,漢字書き!$A$2:$N$502,7,0)))","v":""},{"$f":"IF(J56=\"\",\"\",IF(VLOOKUP(J56,漢字書き!$A$2:$N$502,7,0)=0,\"\",VLOOKUP(J56,漢字書き!$A$2:$N$502,7,0)))","v":""},{"$f":"IF(K56=\"\",\"\",IF(VLOOKUP(K56,漢字読み!$A$2:$O$502,7,0)=0,\"\",VLOOKUP(K56,漢字読み!$A$2:$O$502,7,0)))","v":""},{"$f":"IF(L56=\"\",\"\",IF(VLOOKUP(L56,漢字読み!$A$2:$O$502,7,0)=0,\"\",VLOOKUP(L56,漢字読み!$A$2:$O$502,7,0)))","v":""},{"$f":"IF(M56=\"\",\"\",IF(VLOOKUP(M56,漢字読み!$A$2:$O$502,7,0)=0,\"\",VLOOKUP(M56,漢字読み!$A$2:$O$502,7,0)))","v":""},{"$f":"IF(N56=\"\",\"\",IF(VLOOKUP(N56,漢字読み!$A$2:$O$502,7,0)=0,\"\",VLOOKUP(N56,漢字読み!$A$2:$O$502,7,0)))","v":"人数"},{"$f":"IF(O56=\"\",\"\",IF(VLOOKUP(O56,漢字読み!$A$2:$O$502,7,0)=0,\"\",VLOOKUP(O56,漢字読み!$A$2:$O$502,7,0)))","v":""},{"$f":"IF(P56=\"\",\"\",IF(VLOOKUP(P56,漢字読み!$A$2:$O$502,7,0)=0,\"\",VLOOKUP(P56,漢字読み!$A$2:$O$502,7,0)))","v":"い"},{"$f":"IF(Q56=\"\",\"\",IF(VLOOKUP(Q56,漢字読み!$A$2:$O$502,7,0)=0,\"\",VLOOKUP(Q56,漢字読み!$A$2:$O$502,7,0)))","v":"かげ"},{"$f":"IF(R56=\"\",\"\",IF(VLOOKUP(R56,漢字読み!$A$2:$O$502,7,0)=0,\"\",VLOOKUP(R56,漢字読み!$A$2:$O$502,7,0)))","v":""},{"$f":"IF(S56=\"\",\"\",IF(VLOOKUP(S56,漢字読み!$A$2:$O$502,7,0)=0,\"\",VLOOKUP(S56,漢字読み!$A$2:$O$502,7,0)))","v":"える"},{"$f":"IF(T56=\"\",\"\",IF(VLOOKUP(T56,漢字読み!$A$2:$O$502,7,0)=0,\"\",VLOOKUP(T56,漢字読み!$A$2:$O$502,7,0)))","v":""},null,null,"和歌山県教育委員会"]
[{"$f":"INDIRECT(\"'関数（書き）'!C\" & COLUMN(B$1)+SUM($AD$2:$AD62))","v":19},{"$f":"INDIRECT(\"'関数（書き）'!C\" & COLUMN(C$1)+SUM($AD$2:$AD62))","v":89},{"$f":"INDIRECT(\"'関数（書き）'!C\" & COLUMN(D$1)+SUM($AD$2:$AD62))","v":120},{"$f":"INDIRECT(\"'関数（書き）'!C\" & COLUMN(E$1)+SUM($AD$2:$AD62))","v":25},{"$f":"INDIRECT(\"'関数（書き）'!C\" & COLUMN(F$1)+SUM($AD$2:$AD62))","v":93},{"$f":"INDIRECT(\"'関数（書き）'!C\" & COLUMN(G$1)+SUM($AD$2:$AD62))","v":8},{"$f":"INDIRECT(\"'関数（書き）'!C\" & COLUMN(H$1)+SUM($AD$2:$AD62))","v":33},{"$f":"INDIRECT(\"'関数（書き）'!C\" & COLUMN(I$1)+SUM($AD$2:$AD62))","v":116},{"$f":"INDIRECT(\"'関数（書き）'!C\" & COLUMN(J$1)+SUM($AD$2:$AD62))","v":75},{"$f":"INDIRECT(\"'関数（書き）'!C\" & COLUMN(K$1)+SUM($AD$2:$AD62))","v":23},{"$f":"INDIRECT(\"'関数（読み）'!C\" & COLUMN(B$1)+SUM($AD$2:$AD62))","v":58},{"$f":"INDIRECT(\"'関数（読み）'!C\" & COLUMN(C$1)+SUM($AD$2:$AD62))","v":140},{"$f":"INDIRECT(\"'関数（読み）'!C\" & COLUMN(D$1)+SUM($AD$2:$AD62))","v":146},{"$f":"INDIRECT(\"'関数（読み）'!C\" & COLUMN(E$1)+SUM($AD$2:$AD62))","v":78},{"$f":"INDIRECT(\"'関数（読み）'!C\" & COLUMN(F$1)+SUM($AD$2:$AD62))","v":113},{"$f":"INDIRECT(\"'関数（読み）'!C\" & COLUMN(G$1)+SUM($AD$2:$AD62))","v":124},{"$f":"INDIRECT(\"'関数（読み）'!C\" & COLUMN(H$1)+SUM($AD$2:$AD62))","v":4},{"$f":"INDIRECT(\"'関数（読み）'!C\" & COLUMN(I$1)+SUM($AD$2:$AD62))","v":109},{"$f":"INDIRECT(\"'関数（読み）'!C\" & COLUMN(J$1)+SUM($AD$2:$AD62))","v":138},{"$f":"INDIRECT(\"'関数（読み）'!C\" & COLUMN(K$1)+SUM($AD$2:$AD62))","v":29}]
["⑳","⑲","⑱","⑰","⑯","⑮","⑭","⑬","⑫","⑪","⑩","⑨","⑧","⑦","⑥","⑤","④","③","②","①","次の［　　　　］の部分の漢字には読みがなをひらがなで書き、カタカナは漢字に直しなさい。",14,"「漢字の博士検定試験」練習問題　",null,null,null,null,null,"←",10,"問",{"$f":"AH47+1","v":61},"～",{"$f":"SUM($AD$2:$AD62)+10","v":70},"問まで",{"$f":"COUNTIF($A$1:$T$200,T63)","v":2}]
[{"$f":"IF(A61=\"\",\"\",VLOOKUP(A61,漢字書き!$A$2:$N$506,6,0))","v":"［ウミ］べをさんぽする"},{"$f":"IF(B61=\"\",\"\",VLOOKUP(B61,漢字書き!$A$2:$N$506,6,0))","v":"［ヤ］がささる"},{"$f":"IF(C61=\"\",\"\",VLOOKUP(C61,漢字書き!$A$2:$N$506,6,0))","v":"［ホシゾラ］かんさつ"},{"$f":"IF(D61=\"\",\"\",VLOOKUP(D61,漢字書き!$A$2:$N$506,6,0))","v":"［ジカン］がすぎる"},{"$f":"IF(E61=\"\",\"\",VLOOKUP(E61,漢字書き!$A$2:$N$506,6,0))","v":"お［テラ］のかね"},{"$f":"IF(F61=\"\",\"\",VLOOKUP(F61,漢字書き!$A$2:$N$506,6,0))","v":"［カガク］のしんぽ"},{"$f":"IF(G61=\"\",\"\",VLOOKUP(G61,漢字書き!$A$2:$N$506,6,0))","v":"うまと［ウシ］"},{"$f":"IF(H61=\"\",\"\",VLOOKUP(H61,漢字書き!$A$2:$N$506,6,0))","v":"［スウジ］をならべる"},{"$f":"IF(I61=\"\",\"\",VLOOKUP(I61,漢字書き!$A$2:$N$506,6,0))","v":"［クロ］いふくをきる"},{"$f":"IF(J61=\"\",\"\",VLOOKUP(J61,漢字書き!$A$2:$N$506,6,0))","v":"［タノ］しくあそぶ"},{"$f":"IF(K61=\"\",\"\",VLOOKUP(K61,漢字読み!$A$2:$O$506,6,0))","v":"すきな［言］ば        "},{"$f":"IF(L61=\"\",\"\",VLOOKUP(L61,漢字読み!$A$2:$O$506,6,0))","v":"［星］ざをおぼえる"},{"$f":"IF(M61=\"\",\"\",VLOOKUP(M61,漢字読み!$A$2:$O$506,6,0))","v":"［雪］がふる         "},{"$f":"IF(N61=\"\",\"\",VLOOKUP(N61,漢字読み!$A$2:$O$506,6,0))","v":"いい［行］いをする"},{"$f":"IF(O61=\"\",\"\",VLOOKUP(O61,漢字読み!$A$2:$O$506,6,0))","v":"［首］わをする"},{"$f":"IF(P61=\"\",\"\",VLOOKUP(P61,漢字読み!$A$2:$O$506,6,0))","v":"［色］がかわる     "},{"$f":"IF(Q61=\"\",\"\",VLOOKUP(Q61,漢字読み!$A$2:$O$506,6,0))","v":"白い［雲］            "},{"$f":"IF(R61=\"\",\"\",VLOOKUP(R61,漢字読み!$A$2:$O$506,6,0))","v":"［会社］にいく       "},{"$f":"IF(S61=\"\",\"\",VLOOKUP(S61,漢字読み!$A$2:$O$506,6,0))","v":"［西］にしずむ夕日"},{"$f":"IF(T61=\"\",\"\",VLOOKUP(T61,漢字読み!$A$2:$O$506,6,0))","v":"たのしい学校［生活］"},null,"級"]
[null,null,null,null,null,null,null,null,null,null,null,null,null,null,null,null,null,null,null,null,null,"名前"]
[{"$f":"IF(A61=\"\",\"\",IF(VLOOKUP(A61,漢字書き!$A$2:$N$502,7,0)=0,\"\",VLOOKUP(A61,漢字書き!$A$2:$N$502,7,0)))","v":"べ"},{"$f":"IF(B61=\"\",\"\",IF(VLOOKUP(B61,漢字書き!$A$2:$N$502,7,0)=0,\"\",VLOOKUP(B61,漢字書き!$A$2:$N$502,7,0)))","v":""},{"$f":"IF(C61=\"\",\"\",IF(VLOOKUP(C61,漢字書き!$A$2:$N$502,7,0)=0,\"\",VLOOKUP(C61,漢字書き!$A$2:$N$502,7,0)))","v":""},{"$f":"IF(D61=\"\",\"\",IF(VLOOKUP(D61,漢字書き!$A$2:$N$502,7,0)=0,\"\",VLOOKUP(D61,漢字書き!$A$2:$N$502,7,0)))","v":""},{"$f":"IF(E61=\"\",\"\",IF(VLOOKUP(E61,漢字書き!$A$2:$N$502,7,0)=0,\"\",VLOOKUP(E61,漢字書き!$A$2:$N$502,7,0)))","v":""},{"$f":"IF(F61=\"\",\"\",IF(VLOOKUP(F61,漢字書き!$A$2:$N$502,7,0)=0,\"\",VLOOKUP(F61,漢字書き!$A$2:$N$502,7,0)))","v":""},{"$f":"IF(G61=\"\",\"\",IF(VLOOKUP(G61,漢字書き!$A$2:$N$502,7,0)=0,\"\",VLOOKUP(G61,漢字書き!$A$2:$N$502,7,0)))","v":""},{"$f":"IF(H61=\"\",\"\",IF(VLOOKUP(H61,漢字書き!$A$2:$N$502,7,0)=0,\"\",VLOOKUP(H61,漢字書き!$A$2:$N$502,7,0)))","v":""},{"$f":"IF(I61=\"\",\"\",IF(VLOOKUP(I61,漢字書き!$A$2:$N$502,7,0)=0,\"\",VLOOKUP(I61,漢字書き!$A$2:$N$502,7,0)))","v":"い"},{"$f":"IF(J61=\"\",\"\",IF(VLOOKUP(J61,漢字書き!$A$2:$N$502,7,0)=0,\"\",VLOOKUP(J61,漢字書き!$A$2:$N$502,7,0)))","v":"しく"},{"$f":"IF(K61=\"\",\"\",IF(VLOOKUP(K61,漢字読み!$A$2:$O$502,7,0)=0,\"\",VLOOKUP(K61,漢字読み!$A$2:$O$502,7,0)))","v":"ば"},{"$f":"IF(L61=\"\",\"\",IF(VLOOKUP(L61,漢字読み!$A$2:$O$502,7,0)=0,\"\",VLOOKUP(L61,漢字読み!$A$2:$O$502,7,0)))","v":"ざ"},{"$f":"IF(M61=\"\",\"\",IF(VLOOKUP(M61,漢字読み!$A$2:$O$502,7,0)=0,\"\",VLOOKUP(M61,漢字読み!$A$2:$O$502,7,0)))","v":""},{"$f":"IF(N61=\"\",\"\",IF(VLOOKUP(N61,漢字読み!$A$2:$O$502,7,0)=0,\"\",VLOOKUP(N61,漢字読み!$A$2:$O$502,7,0)))","v":"い"},{"$f":"IF(O61=\"\",\"\",IF(VLOOKUP(O61,漢字読み!$A$2:$O$502,7,0)=0,\"\",VLOOKUP(O61,漢字読み!$A$2:$O$502,7,0)))","v":"わ"},{"$f":"IF(P61=\"\",\"\",IF(VLOOKUP(P61,漢字読み!$A$2:$O$502,7,0)=0,\"\",VLOOKUP(P61,漢字読み!$A$2:$O$502,7,0)))","v":""},{"$f":"IF(Q61=\"\",\"\",IF(VLOOKUP(Q61,漢字読み!$A$2:$O$502,7,0)=0,\"\",VLOOKUP(Q61,漢字読み!$A$2:$O$502,7,0)))","v":""},{"$f":"IF(R61=\"\",\"\",IF(VLOOKUP(R61,漢字読み!$A$2:$O$502,7,0)=0,\"\",VLOOKUP(R61,漢字読み!$A$2:$O$502,7,0)))","v":""},{"$f":"IF(S61=\"\",\"\",IF(VLOOKUP(S61,漢字読み!$A$2:$O$502,7,0)=0,\"\",VLOOKUP(S61,漢字読み!$A$2:$O$502,7,0)))","v":""},{"$f":"IF(T61=\"\",\"\",IF(VLOOKUP(T61,漢字読み!$A$2:$O$502,7,0)=0,\"\",VLOOKUP(T61,漢字読み!$A$2:$O$502,7,0)))","v":""},null,null,"和歌山県教育委員会"]
[{"$f":"INDIRECT(\"'関数（書き）'!C\" & COLUMN(B$1)+SUM($AD$2:$AD67))","v":64},{"$f":"INDIRECT(\"'関数（書き）'!C\" & COLUMN(C$1)+SUM($AD$2:$AD67))","v":127},{"$f":"INDIRECT(\"'関数（書き）'!C\" & COLUMN(D$1)+SUM($AD$2:$AD67))","v":52},{"$f":"INDIRECT(\"'関数（書き）'!C\" & COLUMN(E$1)+SUM($AD$2:$AD67))","v":103},{"$f":"INDIRECT(\"'関数（書き）'!C\" & COLUMN(F$1)+SUM($AD$2:$AD67))","v":98},{"$f":"INDIRECT(\"'関数（書き）'!C\" & COLUMN(G$1)+SUM($AD$2:$AD67))","v":22},{"$f":"INDIRECT(\"'関数（書き）'!C\" & COLUMN(H$1)+SUM($AD$2:$AD67))","v":46},{"$f":"INDIRECT(\"'関数（書き）'!C\" & COLUMN(I$1)+SUM($AD$2:$AD67))","v":11},{"$f":"INDIRECT(\"'関数（書き）'!C\" & COLUMN(J$1)+SUM($AD$2:$AD67))","v":10},{"$f":"INDIRECT(\"'関数（書き）'!C\" & COLUMN(K$1)+SUM($AD$2:$AD67))","v":125},{"$f":"INDIRECT(\"'関数（読み）'!C\" & COLUMN(B$1)+SUM($AD$2:$AD67))","v":43},{"$f":"INDIRECT(\"'関数（読み）'!C\" & COLUMN(C$1)+SUM($AD$2:$AD67))","v":42},{"$f":"INDIRECT(\"'関数（読み）'!C\" & COLUMN(D$1)+SUM($AD$2:$AD67))","v":11},{"$f":"INDIRECT(\"'関数（読み）'!C\" & COLUMN(E$1)+SUM($AD$2:$AD67))","v":134},{"$f":"INDIRECT(\"'関数（読み）'!C\" & COLUMN(F$1)+SUM($AD$2:$AD67))","v":68},{"$f":"INDIRECT(\"'関数（読み）'!C\" & COLUMN(G$1)+SUM($AD$2:$AD67))","v":103},{"$f":"INDIRECT(\"'関数（読み）'!C\" & COLUMN(H$1)+SUM($AD$2:$AD67))","v":31},{"$f":"INDIRECT(\"'関数（読み）'!C\" & COLUMN(I$1)+SUM($AD$2:$AD67))","v":72},{"$f":"INDIRECT(\"'関数（読み）'!C\" & COLUMN(J$1)+SUM($AD$2:$AD67))","v":79},{"$f":"INDIRECT(\"'関数（読み）'!C\" & COLUMN(K$1)+SUM($AD$2:$AD67))","v":92}]
["⑳","⑲","⑱","⑰","⑯","⑮","⑭","⑬","⑫","⑪","⑩","⑨","⑧","⑦","⑥","⑤","④","③","②","①","次の［　　　　］の部分の漢字には読みがなをひらがなで書き、カタカナは漢字に直しなさい。",14,"「漢字の博士検定試験」練習問題　",null,null,null,null,null,"←",10,"問",{"$f":"AH62+1","v":71},"～",{"$f":"SUM($AD$2:$AD67)+10","v":80},"問まで",{"$f":"COUNTIF($A$1:$T$200,T68)","v":2}]
[{"$f":"IF(A66=\"\",\"\",VLOOKUP(A66,漢字書き!$A$2:$N$506,6,0))","v":"［ヒカリ］がさす"},{"$f":"IF(B66=\"\",\"\",VLOOKUP(B66,漢字書き!$A$2:$N$506,6,0))","v":"［マエ］を見る"},{"$f":"IF(C66=\"\",\"\",VLOOKUP(C66,漢字書き!$A$2:$N$506,6,0))","v":"［フル］い本"},{"$f":"IF(D66=\"\",\"\",VLOOKUP(D66,漢字書き!$A$2:$N$506,6,0))","v":"字を［カ］く"},{"$f":"IF(E66=\"\",\"\",VLOOKUP(E66,漢字書き!$A$2:$N$506,6,0))","v":"力が［ヨワ］い"},{"$f":"IF(F66=\"\",\"\",VLOOKUP(F66,漢字書き!$A$2:$N$506,6,0))","v":"［サンカク］形"},{"$f":"IF(G66=\"\",\"\",VLOOKUP(G66,漢字書き!$A$2:$N$506,6,0))","v":"ね［モト］に水をかける"},{"$f":"IF(H66=\"\",\"\",VLOOKUP(H66,漢字書き!$A$2:$N$506,6,0))","v":"［イエ］のはしら"},{"$f":"IF(I66=\"\",\"\",VLOOKUP(I66,漢字書き!$A$2:$N$506,6,0))","v":"あつい［ナツ］"},{"$f":"IF(J66=\"\",\"\",VLOOKUP(J66,漢字書き!$A$2:$N$506,6,0))","v":"［フネ］がみなとにつく"},{"$f":"IF(K66=\"\",\"\",VLOOKUP(K66,漢字読み!$A$2:$O$506,6,0))","v":"［水牛］のつの    "},{"$f":"IF(L66=\"\",\"\",VLOOKUP(L66,漢字読み!$A$2:$O$506,6,0))","v":"［牛］にゅうをのむ   "},{"$f":"IF(M66=\"\",\"\",VLOOKUP(M66,漢字読み!$A$2:$O$506,6,0))","v":"ある［夏］の日"},{"$f":"IF(N66=\"\",\"\",VLOOKUP(N66,漢字読み!$A$2:$O$506,6,0))","v":"［図書］室がすきだ"},{"$f":"IF(O66=\"\",\"\",VLOOKUP(O66,漢字読み!$A$2:$O$506,6,0))","v":"［公］みんかんに行く"},{"$f":"IF(P66=\"\",\"\",VLOOKUP(P66,漢字読み!$A$2:$O$506,6,0))","v":"お［寺］のかいだん"},{"$f":"IF(Q66=\"\",\"\",VLOOKUP(Q66,漢字読み!$A$2:$O$506,6,0))","v":"ちきゅうは［丸］い"},{"$f":"IF(R66=\"\",\"\",VLOOKUP(R66,漢字読み!$A$2:$O$506,6,0))","v":"［交］つうあんぜん"},{"$f":"IF(S66=\"\",\"\",VLOOKUP(S66,漢字読み!$A$2:$O$506,6,0))","v":"［高学年］になる      "},{"$f":"IF(T66=\"\",\"\",VLOOKUP(T66,漢字読み!$A$2:$O$506,6,0))","v":"文を［作］る"},null,"級"]
[null,null,null,null,null,null,null,null,null,null,null,null,null,null,null,null,null,null,null,null,null,"名前"]
[{"$f":"IF(A66=\"\",\"\",IF(VLOOKUP(A66,漢字書き!$A$2:$N$502,7,0)=0,\"\",VLOOKUP(A66,漢字書き!$A$2:$N$502,7,0)))","v":""},{"$f":"IF(B66=\"\",\"\",IF(VLOOKUP(B66,漢字書き!$A$2:$N$502,7,0)=0,\"\",VLOOKUP(B66,漢字書き!$A$2:$N$502,7,0)))","v":""},{"$f":"IF(C66=\"\",\"\",IF(VLOOKUP(C66,漢字書き!$A$2:$N$502,7,0)=0,\"\",VLOOKUP(C66,漢字書き!$A$2:$N$502,7,0)))","v":"い"},{"$f":"IF(D66=\"\",\"\",IF(VLOOKUP(D66,漢字書き!$A$2:$N$502,7,0)=0,\"\",VLOOKUP(D66,漢字書き!$A$2:$N$502,7,0)))","v":"く"},{"$f":"IF(E66=\"\",\"\",IF(VLOOKUP(E66,漢字書き!$A$2:$N$502,7,0)=0,\"\",VLOOKUP(E66,漢字書き!$A$2:$N$502,7,0)))","v":"い"},{"$f":"IF(F66=\"\",\"\",IF(VLOOKUP(F66,漢字書き!$A$2:$N$502,7,0)=0,\"\",VLOOKUP(F66,漢字書き!$A$2:$N$502,7,0)))","v":"形"},{"$f":"IF(G66=\"\",\"\",IF(VLOOKUP(G66,漢字書き!$A$2:$N$502,7,0)=0,\"\",VLOOKUP(G66,漢字書き!$A$2:$N$502,7,0)))","v":""},{"$f":"IF(H66=\"\",\"\",IF(VLOOKUP(H66,漢字書き!$A$2:$N$502,7,0)=0,\"\",VLOOKUP(H66,漢字書き!$A$2:$N$502,7,0)))","v":""},{"$f":"IF(I66=\"\",\"\",IF(VLOOKUP(I66,漢字書き!$A$2:$N$502,7,0)=0,\"\",VLOOKUP(I66,漢字書き!$A$2:$N$502,7,0)))","v":""},{"$f":"IF(J66=\"\",\"\",IF(VLOOKUP(J66,漢字書き!$A$2:$N$502,7,0)=0,\"\",VLOOKUP(J66,漢字書き!$A$2:$N$502,7,0)))","v":""},{"$f":"IF(K66=\"\",\"\",IF(VLOOKUP(K66,漢字読み!$A$2:$O$502,7,0)=0,\"\",VLOOKUP(K66,漢字読み!$A$2:$O$502,7,0)))","v":""},{"$f":"IF(L66=\"\",\"\",IF(VLOOKUP(L66,漢字読み!$A$2:$O$502,7,0)=0,\"\",VLOOKUP(L66,漢字読み!$A$2:$O$502,7,0)))","v":"にゅう"},{"$f":"IF(M66=\"\",\"\",IF(VLOOKUP(M66,漢字読み!$A$2:$O$502,7,0)=0,\"\",VLOOKUP(M66,漢字読み!$A$2:$O$502,7,0)))","v":""},{"$f":"IF(N66=\"\",\"\",IF(VLOOKUP(N66,漢字読み!$A$2:$O$502,7,0)=0,\"\",VLOOKUP(N66,漢字読み!$A$2:$O$502,7,0)))","v":"室"},{"$f":"IF(O66=\"\",\"\",IF(VLOOKUP(O66,漢字読み!$A$2:$O$502,7,0)=0,\"\",VLOOKUP(O66,漢字読み!$A$2:$O$502,7,0)))","v":"みんかん"},{"$f":"IF(P66=\"\",\"\",IF(VLOOKUP(P66,漢字読み!$A$2:$O$502,7,0)=0,\"\",VLOOKUP(P66,漢字読み!$A$2:$O$502,7,0)))","v":""},{"$f":"IF(Q66=\"\",\"\",IF(VLOOKUP(Q66,漢字読み!$A$2:$O$502,7,0)=0,\"\",VLOOKUP(Q66,漢字読み!$A$2:$O$502,7,0)))","v":"い"},{"$f":"IF(R66=\"\",\"\",IF(VLOOKUP(R66,漢字読み!$A$2:$O$502,7,0)=0,\"\",VLOOKUP(R66,漢字読み!$A$2:$O$502,7,0)))","v":"つう"},{"$f":"IF(S66=\"\",\"\",IF(VLOOKUP(S66,漢字読み!$A$2:$O$502,7,0)=0,\"\",VLOOKUP(S66,漢字読み!$A$2:$O$502,7,0)))","v":""},{"$f":"IF(T66=\"\",\"\",IF(VLOOKUP(T66,漢字読み!$A$2:$O$502,7,0)=0,\"\",VLOOKUP(T66,漢字読み!$A$2:$O$502,7,0)))","v":"る"},null,null,"和歌山県教育委員会"]
[{"$f":"A61","v":19},{"$f":"B61","v":89},{"$f":"C61","v":120},{"$f":"D61","v":25},{"$f":"E61","v":93},{"$f":"F61","v":8},{"$f":"G61","v":33},{"$f":"H61","v":116},{"$f":"I61","v":75},{"$f":"J61","v":23},{"$f":"K61","v":58},{"$f":"L61","v":140},{"$f":"M61","v":146},{"$f":"N61","v":78},{"$f":"O61","v":113},{"$f":"P61","v":124},{"$f":"Q61","v":4},{"$f":"R61","v":109},{"$f":"S61","v":138},{"$f":"T61","v":29}]
["⑳","⑲","⑱","⑰","⑯","⑮","⑭","⑬","⑫","⑪","⑩","⑨","⑧","⑦","⑥","⑤","④","③","②","①","次の［　　　　］の部分の漢字には読みがなをひらがなで書き、カタカナは漢字に直しなさい。",14,"「漢字の博士検定試験」練習問題　"]
[{"$f":"IF(A71=\"\",\"\",VLOOKUP(A71,漢字書き!$A$2:$N$506,6,0))","v":"［ウミ］べをさんぽする"},{"$f":"IF(B71=\"\",\"\",VLOOKUP(B71,漢字書き!$A$2:$N$506,6,0))","v":"［ヤ］がささる"},{"$f":"IF(C71=\"\",\"\",VLOOKUP(C71,漢字書き!$A$2:$N$506,6,0))","v":"［ホシゾラ］かんさつ"},{"$f":"IF(D71=\"\",\"\",VLOOKUP(D71,漢字書き!$A$2:$N$506,6,0))","v":"［ジカン］がすぎる"},{"$f":"IF(E71=\"\",\"\",VLOOKUP(E71,漢字書き!$A$2:$N$506,6,0))","v":"お［テラ］のかね"},{"$f":"IF(F71=\"\",\"\",VLOOKUP(F71,漢字書き!$A$2:$N$506,6,0))","v":"［カガク］のしんぽ"},{"$f":"IF(G71=\"\",\"\",VLOOKUP(G71,漢字書き!$A$2:$N$506,6,0))","v":"うまと［ウシ］"},{"$f":"IF(H71=\"\",\"\",VLOOKUP(H71,漢字書き!$A$2:$N$506,6,0))","v":"［スウジ］をならべる"},{"$f":"IF(I71=\"\",\"\",VLOOKUP(I71,漢字書き!$A$2:$N$506,6,0))","v":"［クロ］いふくをきる"},{"$f":"IF(J71=\"\",\"\",VLOOKUP(J71,漢字書き!$A$2:$N$506,6,0))","v":"［タノ］しくあそぶ"},{"$f":"IF(K71=\"\",\"\",VLOOKUP(K71,漢字読み!$A$2:$O$506,6,0))","v":"すきな［言］ば        "},{"$f":"IF(L71=\"\",\"\",VLOOKUP(L71,漢字読み!$A$2:$O$506,6,0))","v":"［星］ざをおぼえる"},{"$f":"IF(M71=\"\",\"\",VLOOKUP(M71,漢字読み!$A$2:$O$506,6,0))","v":"［雪］がふる         "},{"$f":"IF(N71=\"\",\"\",VLOOKUP(N71,漢字読み!$A$2:$O$506,6,0))","v":"いい［行］いをする"},{"$f":"IF(O71=\"\",\"\",VLOOKUP(O71,漢字読み!$A$2:$O$506,6,0))","v":"［首］わをする"},{"$f":"IF(P71=\"\",\"\",VLOOKUP(P71,漢字読み!$A$2:$O$506,6,0))","v":"［色］がかわる     "},{"$f":"IF(Q71=\"\",\"\",VLOOKUP(Q71,漢字読み!$A$2:$O$506,6,0))","v":"白い［雲］            "},{"$f":"IF(R71=\"\",\"\",VLOOKUP(R71,漢字読み!$A$2:$O$506,6,0))","v":"［会社］にいく       "},{"$f":"IF(S71=\"\",\"\",VLOOKUP(S71,漢字読み!$A$2:$O$506,6,0))","v":"［西］にしずむ夕日"},{"$f":"IF(T71=\"\",\"\",VLOOKUP(T71,漢字読み!$A$2:$O$506,6,0))","v":"たのしい学校［生活］"},null,"級"]
[{"$f":"IF(A$11=\"\",\"\",VLOOKUP(A71,漢字書き!$A$2:$O$506,8,0))","v":"海"},{"$f":"IF(B$11=\"\",\"\",VLOOKUP(B71,漢字書き!$A$2:$O$506,8,0))","v":"矢"},{"$f":"IF(C$11=\"\",\"\",VLOOKUP(C71,漢字書き!$A$2:$O$506,8,0))","v":"星空"},{"$f":"IF(D$11=\"\",\"\",VLOOKUP(D71,漢字書き!$A$2:$O$506,8,0))","v":"時間"},{"$f":"IF(E$11=\"\",\"\",VLOOKUP(E71,漢字書き!$A$2:$O$506,8,0))","v":"寺"},{"$f":"IF(F$11=\"\",\"\",VLOOKUP(F71,漢字書き!$A$2:$O$506,8,0))","v":"科学"},{"$f":"IF(G$11=\"\",\"\",VLOOKUP(G71,漢字書き!$A$2:$O$506,8,0))","v":"牛"},{"$f":"IF(H$11=\"\",\"\",VLOOKUP(H71,漢字書き!$A$2:$O$506,8,0))","v":"数字"},{"$f":"IF(I$11=\"\",\"\",VLOOKUP(I71,漢字書き!$A$2:$O$506,8,0))","v":"黒"},{"$f":"IF(J$11=\"\",\"\",VLOOKUP(J71,漢字書き!$A$2:$O$506,8,0))","v":"楽"},{"$f":"IF(K$11=\"\",\"\",VLOOKUP(K71,漢字読み!$A$2:$O$506,8,0))","v":"こと"},{"$f":"IF(L$11=\"\",\"\",VLOOKUP(L71,漢字読み!$A$2:$O$506,8,0))","v":"せい"},{"$f":"IF(M$11=\"\",\"\",VLOOKUP(M71,漢字読み!$A$2:$O$506,8,0))","v":"ゆき"},{"$f":"IF(N$11=\"\",\"\",VLOOKUP(N71,漢字読み!$A$2:$O$506,8,0))","v":"おこな"},{"$f":"IF(O$11=\"\",\"\",VLOOKUP(O71,漢字読み!$A$2:$O$506,8,0))","v":"くび"},{"$f":"IF(P$11=\"\",\"\",VLOOKUP(P71,漢字読み!$A$2:$O$506,8,0))","v":"いろ"},{"$f":"IF(Q$11=\"\",\"\",VLOOKUP(Q71,漢字読み!$A$2:$O$506,8,0))","v":"くも"},{"$f":"IF(R$11=\"\",\"\",VLOOKUP(R71,漢字読み!$A$2:$O$506,8,0))","v":"かいしゃ"},{"$f":"IF(S$11=\"\",\"\",VLOOKUP(S71,漢字読み!$A$2:$O$506,8,0))","v":"にし"},{"$f":"IF(T$11=\"\",\"\",VLOOKUP(T71,漢字読み!$A$2:$O$506,8,0))","v":"せいかつ"},null,"名前"]
[{"$f":"IF(A71=\"\",\"\",IF(VLOOKUP(A71,漢字書き!$A$2:$N$502,7,0)=0,\"\",VLOOKUP(A71,漢字書き!$A$2:$N$502,7,0)))","v":"べ"},{"$f":"IF(B71=\"\",\"\",IF(VLOOKUP(B71,漢字書き!$A$2:$N$502,7,0)=0,\"\",VLOOKUP(B71,漢字書き!$A$2:$N$502,7,0)))","v":""},{"$f":"IF(C71=\"\",\"\",IF(VLOOKUP(C71,漢字書き!$A$2:$N$502,7,0)=0,\"\",VLOOKUP(C71,漢字書き!$A$2:$N$502,7,0)))","v":""},{"$f":"IF(D71=\"\",\"\",IF(VLOOKUP(D71,漢字書き!$A$2:$N$502,7,0)=0,\"\",VLOOKUP(D71,漢字書き!$A$2:$N$502,7,0)))","v":""},{"$f":"IF(E71=\"\",\"\",IF(VLOOKUP(E71,漢字書き!$A$2:$N$502,7,0)=0,\"\",VLOOKUP(E71,漢字書き!$A$2:$N$502,7,0)))","v":""},{"$f":"IF(F71=\"\",\"\",IF(VLOOKUP(F71,漢字書き!$A$2:$N$502,7,0)=0,\"\",VLOOKUP(F71,漢字書き!$A$2:$N$502,7,0)))","v":""},{"$f":"IF(G71=\"\",\"\",IF(VLOOKUP(G71,漢字書き!$A$2:$N$502,7,0)=0,\"\",VLOOKUP(G71,漢字書き!$A$2:$N$502,7,0)))","v":""},{"$f":"IF(H71=\"\",\"\",IF(VLOOKUP(H71,漢字書き!$A$2:$N$502,7,0)=0,\"\",VLOOKUP(H71,漢字書き!$A$2:$N$502,7,0)))","v":""},{"$f":"IF(I71=\"\",\"\",IF(VLOOKUP(I71,漢字書き!$A$2:$N$502,7,0)=0,\"\",VLOOKUP(I71,漢字書き!$A$2:$N$502,7,0)))","v":"い"},{"$f":"IF(J71=\"\",\"\",IF(VLOOKUP(J71,漢字書き!$A$2:$N$502,7,0)=0,\"\",VLOOKUP(J71,漢字書き!$A$2:$N$502,7,0)))","v":"しく"},{"$f":"IF(K71=\"\",\"\",IF(VLOOKUP(K71,漢字読み!$A$2:$O$502,7,0)=0,\"\",VLOOKUP(K71,漢字読み!$A$2:$O$502,7,0)))","v":"ば"},{"$f":"IF(L71=\"\",\"\",IF(VLOOKUP(L71,漢字読み!$A$2:$O$502,7,0)=0,\"\",VLOOKUP(L71,漢字読み!$A$2:$O$502,7,0)))","v":"ざ"},{"$f":"IF(M71=\"\",\"\",IF(VLOOKUP(M71,漢字読み!$A$2:$O$502,7,0)=0,\"\",VLOOKUP(M71,漢字読み!$A$2:$O$502,7,0)))","v":""},{"$f":"IF(N71=\"\",\"\",IF(VLOOKUP(N71,漢字読み!$A$2:$O$502,7,0)=0,\"\",VLOOKUP(N71,漢字読み!$A$2:$O$502,7,0)))","v":"い"},{"$f":"IF(O71=\"\",\"\",IF(VLOOKUP(O71,漢字読み!$A$2:$O$502,7,0)=0,\"\",VLOOKUP(O71,漢字読み!$A$2:$O$502,7,0)))","v":"わ"},{"$f":"IF(P71=\"\",\"\",IF(VLOOKUP(P71,漢字読み!$A$2:$O$502,7,0)=0,\"\",VLOOKUP(P71,漢字読み!$A$2:$O$502,7,0)))","v":""},{"$f":"IF(Q71=\"\",\"\",IF(VLOOKUP(Q71,漢字読み!$A$2:$O$502,7,0)=0,\"\",VLOOKUP(Q71,漢字読み!$A$2:$O$502,7,0)))","v":""},{"$f":"IF(R71=\"\",\"\",IF(VLOOKUP(R71,漢字読み!$A$2:$O$502,7,0)=0,\"\",VLOOKUP(R71,漢字読み!$A$2:$O$502,7,0)))","v":""},{"$f":"IF(S71=\"\",\"\",IF(VLOOKUP(S71,漢字読み!$A$2:$O$502,7,0)=0,\"\",VLOOKUP(S71,漢字読み!$A$2:$O$502,7,0)))","v":""},{"$f":"IF(T71=\"\",\"\",IF(VLOOKUP(T71,漢字読み!$A$2:$O$502,7,0)=0,\"\",VLOOKUP(T71,漢字読み!$A$2:$O$502,7,0)))","v":""},null,null,"和歌山県教育委員会"]
[{"$f":"A66","v":64},{"$f":"B66","v":127},{"$f":"C66","v":52},{"$f":"D66","v":103},{"$f":"E66","v":98},{"$f":"F66","v":22},{"$f":"G66","v":46},{"$f":"H66","v":11},{"$f":"I66","v":10},{"$f":"J66","v":125},{"$f":"K66","v":43},{"$f":"L66","v":42},{"$f":"M66","v":11},{"$f":"N66","v":134},{"$f":"O66","v":68},{"$f":"P66","v":103},{"$f":"Q66","v":31},{"$f":"R66","v":72},{"$f":"S66","v":79},{"$f":"T66","v":92}]
["⑳","⑲","⑱","⑰","⑯","⑮","⑭","⑬","⑫","⑪","⑩","⑨","⑧","⑦","⑥","⑤","④","③","②","①","次の［　　　　］の部分の漢字には読みがなをひらがなで書き、カタカナは漢字に直しなさい。",14,"「漢字の博士検定試験」練習問題　"]
[{"$f":"IF(A76=\"\",\"\",VLOOKUP(A76,漢字書き!$A$2:$N$506,6,0))","v":"［ヒカリ］がさす"},{"$f":"IF(B76=\"\",\"\",VLOOKUP(B76,漢字書き!$A$2:$N$506,6,0))","v":"［マエ］を見る"},{"$f":"IF(C76=\"\",\"\",VLOOKUP(C76,漢字書き!$A$2:$N$506,6,0))","v":"［フル］い本"},{"$f":"IF(D76=\"\",\"\",VLOOKUP(D76,漢字書き!$A$2:$N$506,6,0))","v":"字を［カ］く"},{"$f":"IF(E76=\"\",\"\",VLOOKUP(E76,漢字書き!$A$2:$N$506,6,0))","v":"力が［ヨワ］い"},{"$f":"IF(F76=\"\",\"\",VLOOKUP(F76,漢字書き!$A$2:$N$506,6,0))","v":"［サンカク］形"},{"$f":"IF(G76=\"\",\"\",VLOOKUP(G76,漢字書き!$A$2:$N$506,6,0))","v":"ね［モト］に水をかける"},{"$f":"IF(H76=\"\",\"\",VLOOKUP(H76,漢字書き!$A$2:$N$506,6,0))","v":"［イエ］のはしら"},{"$f":"IF(I76=\"\",\"\",VLOOKUP(I76,漢字書き!$A$2:$N$506,6,0))","v":"あつい［ナツ］"},{"$f":"IF(J76=\"\",\"\",VLOOKUP(J76,漢字書き!$A$2:$N$506,6,0))","v":"［フネ］がみなとにつく"},{"$f":"IF(K76=\"\",\"\",VLOOKUP(K76,漢字読み!$A$2:$O$506,6,0))","v":"［水牛］のつの    "},{"$f":"IF(L76=\"\",\"\",VLOOKUP(L76,漢字読み!$A$2:$O$506,6,0))","v":"［牛］にゅうをのむ   "},{"$f":"IF(M76=\"\",\"\",VLOOKUP(M76,漢字読み!$A$2:$O$506,6,0))","v":"ある［夏］の日"},{"$f":"IF(N76=\"\",\"\",VLOOKUP(N76,漢字読み!$A$2:$O$506,6,0))","v":"［図書］室がすきだ"},{"$f":"IF(O76=\"\",\"\",VLOOKUP(O76,漢字読み!$A$2:$O$506,6,0))","v":"［公］みんかんに行く"},{"$f":"IF(P76=\"\",\"\",VLOOKUP(P76,漢字読み!$A$2:$O$506,6,0))","v":"お［寺］のかいだん"},{"$f":"IF(Q76=\"\",\"\",VLOOKUP(Q76,漢字読み!$A$2:$O$506,6,0))","v":"ちきゅうは［丸］い"},{"$f":"IF(R76=\"\",\"\",VLOOKUP(R76,漢字読み!$A$2:$O$506,6,0))","v":"［交］つうあんぜん"},{"$f":"IF(S76=\"\",\"\",VLOOKUP(S76,漢字読み!$A$2:$O$506,6,0))","v":"［高学年］になる      "},{"$f":"IF(T76=\"\",\"\",VLOOKUP(T76,漢字読み!$A$2:$O$506,6,0))","v":"文を［作］る"},null,"級"]
[{"$f":"IF(A$16=\"\",\"\",VLOOKUP(A76,漢字書き!$A$2:$O$506,8,0))","v":"光"},{"$f":"IF(B$16=\"\",\"\",VLOOKUP(B76,漢字書き!$A$2:$O$506,8,0))","v":"前"},{"$f":"IF(C$16=\"\",\"\",VLOOKUP(C76,漢字書き!$A$2:$O$506,8,0))","v":"古"},{"$f":"IF(D$16=\"\",\"\",VLOOKUP(D76,漢字書き!$A$2:$O$506,8,0))","v":"書"},{"$f":"IF(E$16=\"\",\"\",VLOOKUP(E76,漢字書き!$A$2:$O$506,8,0))","v":"弱"},{"$f":"IF(F$16=\"\",\"\",VLOOKUP(F76,漢字書き!$A$2:$O$506,8,0))","v":"三角"},{"$f":"IF(G$16=\"\",\"\",VLOOKUP(G76,漢字書き!$A$2:$O$506,8,0))","v":"元"},{"$f":"IF(H$16=\"\",\"\",VLOOKUP(H76,漢字書き!$A$2:$O$506,8,0))","v":"家"},{"$f":"IF(I$16=\"\",\"\",VLOOKUP(I76,漢字書き!$A$2:$O$506,8,0))","v":"夏"},{"$f":"IF(J$16=\"\",\"\",VLOOKUP(J76,漢字書き!$A$2:$O$506,8,0))","v":"船"},{"$f":"IF(K$16=\"\",\"\",VLOOKUP(K76,漢字読み!$A$2:$O$506,8,0))","v":"すいぎゅう"},{"$f":"IF(L$16=\"\",\"\",VLOOKUP(L76,漢字読み!$A$2:$O$506,8,0))","v":"ぎゅう"},{"$f":"IF(M$16=\"\",\"\",VLOOKUP(M76,漢字読み!$A$2:$O$506,8,0))","v":"なつ"},{"$f":"IF(N$16=\"\",\"\",VLOOKUP(N76,漢字読み!$A$2:$O$506,8,0))","v":"としょ"},{"$f":"IF(O$16=\"\",\"\",VLOOKUP(O76,漢字読み!$A$2:$O$506,8,0))","v":"こう"},{"$f":"IF(P$16=\"\",\"\",VLOOKUP(P76,漢字読み!$A$2:$O$506,8,0))","v":"てら"},{"$f":"IF(Q$16=\"\",\"\",VLOOKUP(Q76,漢字読み!$A$2:$O$506,8,0))","v":"まる"},{"$f":"IF(R$16=\"\",\"\",VLOOKUP(R76,漢字読み!$A$2:$O$506,8,0))","v":"こう"},{"$f":"IF(S$16=\"\",\"\",VLOOKUP(S76,漢字読み!$A$2:$O$506,8,0))","v":"こうがくねん"},{"$f":"IF(T$16=\"\",\"\",VLOOKUP(T76,漢字読み!$A$2:$O$506,8,0))","v":"つく"},null,"名前"]
[{"$f":"IF(A76=\"\",\"\",IF(VLOOKUP(A76,漢字書き!$A$2:$N$502,7,0)=0,\"\",VLOOKUP(A76,漢字書き!$A$2:$N$502,7,0)))","v":""},{"$f":"IF(B76=\"\",\"\",IF(VLOOKUP(B76,漢字書き!$A$2:$N$502,7,0)=0,\"\",VLOOKUP(B76,漢字書き!$A$2:$N$502,7,0)))","v":""},{"$f":"IF(C76=\"\",\"\",IF(VLOOKUP(C76,漢字書き!$A$2:$N$502,7,0)=0,\"\",VLOOKUP(C76,漢字書き!$A$2:$N$502,7,0)))","v":"い"},{"$f":"IF(D76=\"\",\"\",IF(VLOOKUP(D76,漢字書き!$A$2:$N$502,7,0)=0,\"\",VLOOKUP(D76,漢字書き!$A$2:$N$502,7,0)))","v":"く"},{"$f":"IF(E76=\"\",\"\",IF(VLOOKUP(E76,漢字書き!$A$2:$N$502,7,0)=0,\"\",VLOOKUP(E76,漢字書き!$A$2:$N$502,7,0)))","v":"い"},{"$f":"IF(F76=\"\",\"\",IF(VLOOKUP(F76,漢字書き!$A$2:$N$502,7,0)=0,\"\",VLOOKUP(F76,漢字書き!$A$2:$N$502,7,0)))","v":"形"},{"$f":"IF(G76=\"\",\"\",IF(VLOOKUP(G76,漢字書き!$A$2:$N$502,7,0)=0,\"\",VLOOKUP(G76,漢字書き!$A$2:$N$502,7,0)))","v":""},{"$f":"IF(H76=\"\",\"\",IF(VLOOKUP(H76,漢字書き!$A$2:$N$502,7,0)=0,\"\",VLOOKUP(H76,漢字書き!$A$2:$N$502,7,0)))","v":""},{"$f":"IF(I76=\"\",\"\",IF(VLOOKUP(I76,漢字書き!$A$2:$N$502,7,0)=0,\"\",VLOOKUP(I76,漢字書き!$A$2:$N$502,7,0)))","v":""},{"$f":"IF(J76=\"\",\"\",IF(VLOOKUP(J76,漢字書き!$A$2:$N$502,7,0)=0,\"\",VLOOKUP(J76,漢字書き!$A$2:$N$502,7,0)))","v":""},{"$f":"IF(K76=\"\",\"\",IF(VLOOKUP(K76,漢字読み!$A$2:$O$502,7,0)=0,\"\",VLOOKUP(K76,漢字読み!$A$2:$O$502,7,0)))","v":""},{"$f":"IF(L76=\"\",\"\",IF(VLOOKUP(L76,漢字読み!$A$2:$O$502,7,0)=0,\"\",VLOOKUP(L76,漢字読み!$A$2:$O$502,7,0)))","v":"にゅう"},{"$f":"IF(M76=\"\",\"\",IF(VLOOKUP(M76,漢字読み!$A$2:$O$502,7,0)=0,\"\",VLOOKUP(M76,漢字読み!$A$2:$O$502,7,0)))","v":""},{"$f":"IF(N76=\"\",\"\",IF(VLOOKUP(N76,漢字読み!$A$2:$O$502,7,0)=0,\"\",VLOOKUP(N76,漢字読み!$A$2:$O$502,7,0)))","v":"室"},{"$f":"IF(O76=\"\",\"\",IF(VLOOKUP(O76,漢字読み!$A$2:$O$502,7,0)=0,\"\",VLOOKUP(O76,漢字読み!$A$2:$O$502,7,0)))","v":"みんかん"},{"$f":"IF(P76=\"\",\"\",IF(VLOOKUP(P76,漢字読み!$A$2:$O$502,7,0)=0,\"\",VLOOKUP(P76,漢字読み!$A$2:$O$502,7,0)))","v":""},{"$f":"IF(Q76=\"\",\"\",IF(VLOOKUP(Q76,漢字読み!$A$2:$O$502,7,0)=0,\"\",VLOOKUP(Q76,漢字読み!$A$2:$O$502,7,0)))","v":"い"},{"$f":"IF(R76=\"\",\"\",IF(VLOOKUP(R76,漢字読み!$A$2:$O$502,7,0)=0,\"\",VLOOKUP(R76,漢字読み!$A$2:$O$502,7,0)))","v":"つう"},{"$f":"IF(S76=\"\",\"\",IF(VLOOKUP(S76,漢字読み!$A$2:$O$502,7,0)=0,\"\",VLOOKUP(S76,漢字読み!$A$2:$O$502,7,0)))","v":""},{"$f":"IF(T76=\"\",\"\",IF(VLOOKUP(T76,漢字読み!$A$2:$O$502,7,0)=0,\"\",VLOOKUP(T76,漢字読み!$A$2:$O$502,7,0)))","v":"る"},null,null,"和歌山県教育委員会"]
[{"$f":"INDIRECT(\"'関数（書き）'!C\" & COLUMN(B$1)+SUM($AD$2:$AD82))","v":91},{"$f":"INDIRECT(\"'関数（書き）'!C\" & COLUMN(C$1)+SUM($AD$2:$AD82))","v":96},{"$f":"INDIRECT(\"'関数（書き）'!C\" & COLUMN(D$1)+SUM($AD$2:$AD82))","v":28},{"$f":"INDIRECT(\"'関数（書き）'!C\" & COLUMN(E$1)+SUM($AD$2:$AD82))","v":79},{"$f":"INDIRECT(\"'関数（書き）'!C\" & COLUMN(F$1)+SUM($AD$2:$AD82))","v":87},{"$f":"INDIRECT(\"'関数（書き）'!C\" & COLUMN(G$1)+SUM($AD$2:$AD82))","v":129},{"$f":"INDIRECT(\"'関数（書き）'!C\" & COLUMN(H$1)+SUM($AD$2:$AD82))","v":55},{"$f":"INDIRECT(\"'関数（書き）'!C\" & COLUMN(I$1)+SUM($AD$2:$AD82))","v":68},{"$f":"INDIRECT(\"'関数（書き）'!C\" & COLUMN(J$1)+SUM($AD$2:$AD82))","v":113},{"$f":"INDIRECT(\"'関数（書き）'!C\" & COLUMN(K$1)+SUM($AD$2:$AD82))","v":131},{"$f":"INDIRECT(\"'関数（読み）'!C\" & COLUMN(B$1)+SUM($AD$2:$AD82))","v":34},{"$f":"INDIRECT(\"'関数（読み）'!C\" & COLUMN(C$1)+SUM($AD$2:$AD82))","v":9},{"$f":"INDIRECT(\"'関数（読み）'!C\" & COLUMN(D$1)+SUM($AD$2:$AD82))","v":143},{"$f":"INDIRECT(\"'関数（読み）'!C\" & COLUMN(E$1)+SUM($AD$2:$AD82))","v":102},{"$f":"INDIRECT(\"'関数（読み）'!C\" & COLUMN(F$1)+SUM($AD$2:$AD82))","v":24},{"$f":"INDIRECT(\"'関数（読み）'!C\" & COLUMN(G$1)+SUM($AD$2:$AD82))","v":20},{"$f":"INDIRECT(\"'関数（読み）'!C\" & COLUMN(H$1)+SUM($AD$2:$AD82))","v":147},{"$f":"INDIRECT(\"'関数（読み）'!C\" & COLUMN(I$1)+SUM($AD$2:$AD82))","v":115},{"$f":"INDIRECT(\"'関数（読み）'!C\" & COLUMN(J$1)+SUM($AD$2:$AD82))","v":152},{"$f":"INDIRECT(\"'関数（読み）'!C\" & COLUMN(K$1)+SUM($AD$2:$AD82))","v":73}]
["⑳","⑲","⑱","⑰","⑯","⑮","⑭","⑬","⑫","⑪","⑩","⑨","⑧","⑦","⑥","⑤","④","③","②","①","次の［　　　　］の部分の漢字には読みがなをひらがなで書き、カタカナは漢字に直しなさい。",14,"「漢字の博士検定試験」練習問題　",null,null,null,null,null,"←",10,"問",{"$f":"AH67+1","v":81},"～",{"$f":"SUM($AD$2:$AD82)+10","v":90},"問まで",{"$f":"COUNTIF($A$1:$T$200,T83)","v":2}]
[{"$f":"IF(A81=\"\",\"\",VLOOKUP(A81,漢字書き!$A$2:$N$506,6,0))","v":"たのしい［オモ］い出"},{"$f":"IF(B81=\"\",\"\",VLOOKUP(B81,漢字書き!$A$2:$N$506,6,0))","v":"［キョウシツ］をそうじする"},{"$f":"IF(C81=\"\",\"\",VLOOKUP(C81,漢字書き!$A$2:$N$506,6,0))","v":"［カオ］をあらう"},{"$f":"IF(D81=\"\",\"\",VLOOKUP(D81,漢字書き!$A$2:$N$506,6,0))","v":"［コマ］かい文字"},{"$f":"IF(E81=\"\",\"\",VLOOKUP(E81,漢字書き!$A$2:$N$506,6,0))","v":"車を［ト］める"},{"$f":"IF(F81=\"\",\"\",VLOOKUP(F81,漢字書き!$A$2:$N$506,6,0))","v":"かたを［ク］む"},{"$f":"IF(G81=\"\",\"\",VLOOKUP(G81,漢字書き!$A$2:$N$506,6,0))","v":"［コクゴ］の教か書"},{"$f":"IF(H81=\"\",\"\",VLOOKUP(H81,漢字書き!$A$2:$N$506,6,0))","v":"［タカ］いビル"},{"$f":"IF(I81=\"\",\"\",VLOOKUP(I81,漢字書き!$A$2:$N$506,6,0))","v":"［シタ］しいなかま"},{"$f":"IF(J81=\"\",\"\",VLOOKUP(J81,漢字書き!$A$2:$N$506,6,0))","v":"雲が［オオ］い"},{"$f":"IF(K81=\"\",\"\",VLOOKUP(K81,漢字読み!$A$2:$O$506,6,0))","v":"［顔］めんをうつ"},{"$f":"IF(L81=\"\",\"\",VLOOKUP(L81,漢字読み!$A$2:$O$506,6,0))","v":"［科学］のしんぽ　"},{"$f":"IF(M81=\"\",\"\",VLOOKUP(M81,漢字読み!$A$2:$O$506,6,0))","v":"［晴］れた空"},{"$f":"IF(N81=\"\",\"\",VLOOKUP(N81,漢字読み!$A$2:$O$506,6,0))","v":"［紙］しばいを見る　　　    "},{"$f":"IF(O81=\"\",\"\",VLOOKUP(O81,漢字読み!$A$2:$O$506,6,0))","v":"［外］がわをあるく"},{"$f":"IF(P81=\"\",\"\",VLOOKUP(P81,漢字読み!$A$2:$O$506,6,0))","v":"花火［大会］をする　　　　　"},{"$f":"IF(Q81=\"\",\"\",VLOOKUP(Q81,漢字読み!$A$2:$O$506,6,0))","v":"［船］がついた      "},{"$f":"IF(R81=\"\",\"\",VLOOKUP(R81,漢字読み!$A$2:$O$506,6,0))","v":"［今週］のニュース"},{"$f":"IF(S81=\"\",\"\",VLOOKUP(S81,漢字読み!$A$2:$O$506,6,0))","v":"しゅくだいが［多］い"},{"$f":"IF(T81=\"\",\"\",VLOOKUP(T81,漢字読み!$A$2:$O$506,6,0))","v":"線が［交］わる"},null,"級"]
[null,null,null,null,null,null,null,null,null,null,null,null,null,null,null,null,null,null,null,null,null,"名前"]
[{"$f":"IF(A81=\"\",\"\",IF(VLOOKUP(A81,漢字書き!$A$2:$N$502,7,0)=0,\"\",VLOOKUP(A81,漢字書き!$A$2:$N$502,7,0)))","v":"い出"},{"$f":"IF(B81=\"\",\"\",IF(VLOOKUP(B81,漢字書き!$A$2:$N$502,7,0)=0,\"\",VLOOKUP(B81,漢字書き!$A$2:$N$502,7,0)))","v":""},{"$f":"IF(C81=\"\",\"\",IF(VLOOKUP(C81,漢字書き!$A$2:$N$502,7,0)=0,\"\",VLOOKUP(C81,漢字書き!$A$2:$N$502,7,0)))","v":""},{"$f":"IF(D81=\"\",\"\",IF(VLOOKUP(D81,漢字書き!$A$2:$N$502,7,0)=0,\"\",VLOOKUP(D81,漢字書き!$A$2:$N$502,7,0)))","v":"かい"},{"$f":"IF(E81=\"\",\"\",IF(VLOOKUP(E81,漢字書き!$A$2:$N$502,7,0)=0,\"\",VLOOKUP(E81,漢字書き!$A$2:$N$502,7,0)))","v":"める"},{"$f":"IF(F81=\"\",\"\",IF(VLOOKUP(F81,漢字書き!$A$2:$N$502,7,0)=0,\"\",VLOOKUP(F81,漢字書き!$A$2:$N$502,7,0)))","v":"む"},{"$f":"IF(G81=\"\",\"\",IF(VLOOKUP(G81,漢字書き!$A$2:$N$502,7,0)=0,\"\",VLOOKUP(G81,漢字書き!$A$2:$N$502,7,0)))","v":""},{"$f":"IF(H81=\"\",\"\",IF(VLOOKUP(H81,漢字書き!$A$2:$N$502,7,0)=0,\"\",VLOOKUP(H81,漢字書き!$A$2:$N$502,7,0)))","v":"い"},{"$f":"IF(I81=\"\",\"\",IF(VLOOKUP(I81,漢字書き!$A$2:$N$502,7,0)=0,\"\",VLOOKUP(I81,漢字書き!$A$2:$N$502,7,0)))","v":"しい"},{"$f":"IF(J81=\"\",\"\",IF(VLOOKUP(J81,漢字書き!$A$2:$N$502,7,0)=0,\"\",VLOOKUP(J81,漢字書き!$A$2:$N$502,7,0)))","v":"い"},{"$f":"IF(K81=\"\",\"\",IF(VLOOKUP(K81,漢字読み!$A$2:$O$502,7,0)=0,\"\",VLOOKUP(K81,漢字読み!$A$2:$O$502,7,0)))","v":"めん"},{"$f":"IF(L81=\"\",\"\",IF(VLOOKUP(L81,漢字読み!$A$2:$O$502,7,0)=0,\"\",VLOOKUP(L81,漢字読み!$A$2:$O$502,7,0)))","v":""},{"$f":"IF(M81=\"\",\"\",IF(VLOOKUP(M81,漢字読み!$A$2:$O$502,7,0)=0,\"\",VLOOKUP(M81,漢字読み!$A$2:$O$502,7,0)))","v":"れた"},{"$f":"IF(N81=\"\",\"\",IF(VLOOKUP(N81,漢字読み!$A$2:$O$502,7,0)=0,\"\",VLOOKUP(N81,漢字読み!$A$2:$O$502,7,0)))","v":"しばい"},{"$f":"IF(O81=\"\",\"\",IF(VLOOKUP(O81,漢字読み!$A$2:$O$502,7,0)=0,\"\",VLOOKUP(O81,漢字読み!$A$2:$O$502,7,0)))","v":""},{"$f":"IF(P81=\"\",\"\",IF(VLOOKUP(P81,漢字読み!$A$2:$O$502,7,0)=0,\"\",VLOOKUP(P81,漢字読み!$A$2:$O$502,7,0)))","v":""},{"$f":"IF(Q81=\"\",\"\",IF(VLOOKUP(Q81,漢字読み!$A$2:$O$502,7,0)=0,\"\",VLOOKUP(Q81,漢字読み!$A$2:$O$502,7,0)))","v":""},{"$f":"IF(R81=\"\",\"\",IF(VLOOKUP(R81,漢字読み!$A$2:$O$502,7,0)=0,\"\",VLOOKUP(R81,漢字読み!$A$2:$O$502,7,0)))","v":""},{"$f":"IF(S81=\"\",\"\",IF(VLOOKUP(S81,漢字読み!$A$2:$O$502,7,0)=0,\"\",VLOOKUP(S81,漢字読み!$A$2:$O$502,7,0)))","v":"い"},{"$f":"IF(T81=\"\",\"\",IF(VLOOKUP(T81,漢字読み!$A$2:$O$502,7,0)=0,\"\",VLOOKUP(T81,漢字読み!$A$2:$O$502,7,0)))","v":"わる"},null,null,"和歌山県教育委員会"]
[{"$f":"INDIRECT(\"'関数（書き）'!C\" & COLUMN(B$1)+SUM($AD$2:$AD87))","v":3},{"$f":"INDIRECT(\"'関数（書き）'!C\" & COLUMN(C$1)+SUM($AD$2:$AD87))","v":34},{"$f":"INDIRECT(\"'関数（書き）'!C\" & COLUMN(D$1)+SUM($AD$2:$AD87))","v":97},{"$f":"INDIRECT(\"'関数（書き）'!C\" & COLUMN(E$1)+SUM($AD$2:$AD87))","v":130},{"$f":"INDIRECT(\"'関数（書き）'!C\" & COLUMN(F$1)+SUM($AD$2:$AD87))","v":1},{"$f":"INDIRECT(\"'関数（書き）'!C\" & COLUMN(G$1)+SUM($AD$2:$AD87))","v":65},{"$f":"INDIRECT(\"'関数（書き）'!C\" & COLUMN(H$1)+SUM($AD$2:$AD87))","v":47},{"$f":"INDIRECT(\"'関数（書き）'!C\" & COLUMN(I$1)+SUM($AD$2:$AD87))","v":16},{"$f":"INDIRECT(\"'関数（書き）'!C\" & COLUMN(J$1)+SUM($AD$2:$AD87))","v":86},{"$f":"INDIRECT(\"'関数（書き）'!C\" & COLUMN(K$1)+SUM($AD$2:$AD87))","v":40},{"$f":"INDIRECT(\"'関数（読み）'!C\" & COLUMN(B$1)+SUM($AD$2:$AD87))","v":18},{"$f":"INDIRECT(\"'関数（読み）'!C\" & COLUMN(C$1)+SUM($AD$2:$AD87))","v":125},{"$f":"INDIRECT(\"'関数（読み）'!C\" & COLUMN(D$1)+SUM($AD$2:$AD87))","v":66},{"$f":"INDIRECT(\"'関数（読み）'!C\" & COLUMN(E$1)+SUM($AD$2:$AD87))","v":126},{"$f":"INDIRECT(\"'関数（読み）'!C\" & COLUMN(F$1)+SUM($AD$2:$AD87))","v":86},{"$f":"INDIRECT(\"'関数（読み）'!C\" & COLUMN(G$1)+SUM($AD$2:$AD87))","v":76},{"$f":"INDIRECT(\"'関数（読み）'!C\" & COLUMN(H$1)+SUM($AD$2:$AD87))","v":50},{"$f":"INDIRECT(\"'関数（読み）'!C\" & COLUMN(I$1)+SUM($AD$2:$AD87))","v":54},{"$f":"INDIRECT(\"'関数（読み）'!C\" & COLUMN(J$1)+SUM($AD$2:$AD87))","v":136},{"$f":"INDIRECT(\"'関数（読み）'!C\" & COLUMN(K$1)+SUM($AD$2:$AD87))","v":5}]
["⑳","⑲","⑱","⑰","⑯","⑮","⑭","⑬","⑫","⑪","⑩","⑨","⑧","⑦","⑥","⑤","④","③","②","①","次の［　　　　］の部分の漢字には読みがなをひらがなで書き、カタカナは漢字に直しなさい。",14,"「漢字の博士検定試験」練習問題　",null,null,null,null,null,"←",10,"問",{"$f":"AH82+1","v":91},"～",{"$f":"SUM($AD$2:$AD87)+10","v":100},"問まで",{"$f":"COUNTIF($A$1:$T$200,T88)","v":2}]
[{"$f":"IF(A86=\"\",\"\",VLOOKUP(A86,漢字書き!$A$2:$N$506,6,0))","v":"白い［クモ］"},{"$f":"IF(B86=\"\",\"\",VLOOKUP(B86,漢字書き!$A$2:$N$506,6,0))","v":"［キンギョ］をかう"},{"$f":"IF(C86=\"\",\"\",VLOOKUP(C86,漢字書き!$A$2:$N$506,6,0))","v":"［シャカイ］のためにつくす"},{"$f":"IF(D86=\"\",\"\",VLOOKUP(D86,漢字書き!$A$2:$N$506,6,0))","v":"ぜん力で［ハシ］る"},{"$f":"IF(E86=\"\",\"\",VLOOKUP(E86,漢字書き!$A$2:$N$506,6,0))","v":"線を［ヒ］く"},{"$f":"IF(F86=\"\",\"\",VLOOKUP(F86,漢字書き!$A$2:$N$506,6,0))","v":"じっくり［カンガ］える"},{"$f":"IF(G86=\"\",\"\",VLOOKUP(G86,漢字書き!$A$2:$N$506,6,0))","v":"［ゲンキ］いっぱい"},{"$f":"IF(H86=\"\",\"\",VLOOKUP(H86,漢字書き!$A$2:$N$506,6,0))","v":"うんどう［カイ］"},{"$f":"IF(I86=\"\",\"\",VLOOKUP(I86,漢字書き!$A$2:$N$506,6,0))","v":"バスが［ト］まる"},{"$f":"IF(J86=\"\",\"\",VLOOKUP(J86,漢字書き!$A$2:$N$506,6,0))","v":"さん［スウ］がすき"},{"$f":"IF(K86=\"\",\"\",VLOOKUP(K86,漢字読み!$A$2:$O$506,6,0))","v":"目が［回］る"},{"$f":"IF(L86=\"\",\"\",VLOOKUP(L86,漢字読み!$A$2:$O$506,6,0))","v":"きゅう［食］とうばん"},{"$f":"IF(M86=\"\",\"\",VLOOKUP(M86,漢字読み!$A$2:$O$506,6,0))","v":"たん［語］をおぼえる"},{"$f":"IF(N86=\"\",\"\",VLOOKUP(N86,漢字読み!$A$2:$O$506,6,0))","v":"ごはんを［食］べる"},{"$f":"IF(O86=\"\",\"\",VLOOKUP(O86,漢字読み!$A$2:$O$506,6,0))","v":"［今］どこそがんばるぞ"},{"$f":"IF(P86=\"\",\"\",VLOOKUP(P86,漢字読み!$A$2:$O$506,6,0))","v":"こたえを［考］える    "},{"$f":"IF(Q86=\"\",\"\",VLOOKUP(Q86,漢字読み!$A$2:$O$506,6,0))","v":"先生に［教］わる  "},{"$f":"IF(R86=\"\",\"\",VLOOKUP(R86,漢字読み!$A$2:$O$506,6,0))","v":"［人形］げきをみる"},{"$f":"IF(S86=\"\",\"\",VLOOKUP(S86,漢字読み!$A$2:$O$506,6,0))","v":"［数字］をおぼえる　  "},{"$f":"IF(T86=\"\",\"\",VLOOKUP(T86,漢字読み!$A$2:$O$506,6,0))","v":"［公園］であそぶ   "},null,"級"]
[null,null,null,null,null,null,null,null,null,null,null,null,null,null,null,null,null,null,null,null,null,"名前"]
[{"$f":"IF(A86=\"\",\"\",IF(VLOOKUP(A86,漢字書き!$A$2:$N$502,7,0)=0,\"\",VLOOKUP(A86,漢字書き!$A$2:$N$502,7,0)))","v":""},{"$f":"IF(B86=\"\",\"\",IF(VLOOKUP(B86,漢字書き!$A$2:$N$502,7,0)=0,\"\",VLOOKUP(B86,漢字書き!$A$2:$N$502,7,0)))","v":""},{"$f":"IF(C86=\"\",\"\",IF(VLOOKUP(C86,漢字書き!$A$2:$N$502,7,0)=0,\"\",VLOOKUP(C86,漢字書き!$A$2:$N$502,7,0)))","v":""},{"$f":"IF(D86=\"\",\"\",IF(VLOOKUP(D86,漢字書き!$A$2:$N$502,7,0)=0,\"\",VLOOKUP(D86,漢字書き!$A$2:$N$502,7,0)))","v":"る"},{"$f":"IF(E86=\"\",\"\",IF(VLOOKUP(E86,漢字書き!$A$2:$N$502,7,0)=0,\"\",VLOOKUP(E86,漢字書き!$A$2:$N$502,7,0)))","v":"く"},{"$f":"IF(F86=\"\",\"\",IF(VLOOKUP(F86,漢字書き!$A$2:$N$502,7,0)=0,\"\",VLOOKUP(F86,漢字書き!$A$2:$N$502,7,0)))","v":"える"},{"$f":"IF(G86=\"\",\"\",IF(VLOOKUP(G86,漢字書き!$A$2:$N$502,7,0)=0,\"\",VLOOKUP(G86,漢字書き!$A$2:$N$502,7,0)))","v":""},{"$f":"IF(H86=\"\",\"\",IF(VLOOKUP(H86,漢字書き!$A$2:$N$502,7,0)=0,\"\",VLOOKUP(H86,漢字書き!$A$2:$N$502,7,0)))","v":""},{"$f":"IF(I86=\"\",\"\",IF(VLOOKUP(I86,漢字書き!$A$2:$N$502,7,0)=0,\"\",VLOOKUP(I86,漢字書き!$A$2:$N$502,7,0)))","v":"まる"},{"$f":"IF(J86=\"\",\"\",IF(VLOOKUP(J86,漢字書き!$A$2:$N$502,7,0)=0,\"\",VLOOKUP(J86,漢字書き!$A$2:$N$502,7,0)))","v":""},{"$f":"IF(K86=\"\",\"\",IF(VLOOKUP(K86,漢字読み!$A$2:$O$502,7,0)=0,\"\",VLOOKUP(K86,漢字読み!$A$2:$O$502,7,0)))","v":"る"},{"$f":"IF(L86=\"\",\"\",IF(VLOOKUP(L86,漢字読み!$A$2:$O$502,7,0)=0,\"\",VLOOKUP(L86,漢字読み!$A$2:$O$502,7,0)))","v":""},{"$f":"IF(M86=\"\",\"\",IF(VLOOKUP(M86,漢字読み!$A$2:$O$502,7,0)=0,\"\",VLOOKUP(M86,漢字読み!$A$2:$O$502,7,0)))","v":""},{"$f":"IF(N86=\"\",\"\",IF(VLOOKUP(N86,漢字読み!$A$2:$O$502,7,0)=0,\"\",VLOOKUP(N86,漢字読み!$A$2:$O$502,7,0)))","v":"べる"},{"$f":"IF(O86=\"\",\"\",IF(VLOOKUP(O86,漢字読み!$A$2:$O$502,7,0)=0,\"\",VLOOKUP(O86,漢字読み!$A$2:$O$502,7,0)))","v":"ど"},{"$f":"IF(P86=\"\",\"\",IF(VLOOKUP(P86,漢字読み!$A$2:$O$502,7,0)=0,\"\",VLOOKUP(P86,漢字読み!$A$2:$O$502,7,0)))","v":"える"},{"$f":"IF(Q86=\"\",\"\",IF(VLOOKUP(Q86,漢字読み!$A$2:$O$502,7,0)=0,\"\",VLOOKUP(Q86,漢字読み!$A$2:$O$502,7,0)))","v":"わる"},{"$f":"IF(R86=\"\",\"\",IF(VLOOKUP(R86,漢字読み!$A$2:$O$502,7,0)=0,\"\",VLOOKUP(R86,漢字読み!$A$2:$O$502,7,0)))","v":"げき"},{"$f":"IF(S86=\"\",\"\",IF(VLOOKUP(S86,漢字読み!$A$2:$O$502,7,0)=0,\"\",VLOOKUP(S86,漢字読み!$A$2:$O$502,7,0)))","v":""},{"$f":"IF(T86=\"\",\"\",IF(VLOOKUP(T86,漢字読み!$A$2:$O$502,7,0)=0,\"\",VLOOKUP(T86,漢字読み!$A$2:$O$502,7,0)))","v":""},null,null,"和歌山県教育委員会"]
[{"$f":"A81","v":91},{"$f":"B81","v":96},{"$f":"C81","v":28},{"$f":"D81","v":79},{"$f":"E81","v":87},{"$f":"F81","v":129},{"$f":"G81","v":55},{"$f":"H81","v":68},{"$f":"I81","v":113},{"$f":"J81","v":131},{"$f":"K81","v":34},{"$f":"L81","v":9},{"$f":"M81","v":143},{"$f":"N81","v":102},{"$f":"O81","v":24},{"$f":"P81","v":20},{"$f":"Q81","v":147},{"$f":"R81","v":115},{"$f":"S81","v":152},{"$f":"T81","v":73}]
["⑳","⑲","⑱","⑰","⑯","⑮","⑭","⑬","⑫","⑪","⑩","⑨","⑧","⑦","⑥","⑤","④","③","②","①","次の［　　　　］の部分の漢字には読みがなをひらがなで書き、カタカナは漢字に直しなさい。",14,"「漢字の博士検定試験」練習問題　"]
[{"$f":"IF(A91=\"\",\"\",VLOOKUP(A91,漢字書き!$A$2:$N$506,6,0))","v":"たのしい［オモ］い出"},{"$f":"IF(B91=\"\",\"\",VLOOKUP(B91,漢字書き!$A$2:$N$506,6,0))","v":"［キョウシツ］をそうじする"},{"$f":"IF(C91=\"\",\"\",VLOOKUP(C91,漢字書き!$A$2:$N$506,6,0))","v":"［カオ］をあらう"},{"$f":"IF(D91=\"\",\"\",VLOOKUP(D91,漢字書き!$A$2:$N$506,6,0))","v":"［コマ］かい文字"},{"$f":"IF(E91=\"\",\"\",VLOOKUP(E91,漢字書き!$A$2:$N$506,6,0))","v":"車を［ト］める"},{"$f":"IF(F91=\"\",\"\",VLOOKUP(F91,漢字書き!$A$2:$N$506,6,0))","v":"かたを［ク］む"},{"$f":"IF(G91=\"\",\"\",VLOOKUP(G91,漢字書き!$A$2:$N$506,6,0))","v":"［コクゴ］の教か書"},{"$f":"IF(H91=\"\",\"\",VLOOKUP(H91,漢字書き!$A$2:$N$506,6,0))","v":"［タカ］いビル"},{"$f":"IF(I91=\"\",\"\",VLOOKUP(I91,漢字書き!$A$2:$N$506,6,0))","v":"［シタ］しいなかま"},{"$f":"IF(J91=\"\",\"\",VLOOKUP(J91,漢字書き!$A$2:$N$506,6,0))","v":"雲が［オオ］い"},{"$f":"IF(K91=\"\",\"\",VLOOKUP(K91,漢字読み!$A$2:$O$506,6,0))","v":"［顔］めんをうつ"},{"$f":"IF(L91=\"\",\"\",VLOOKUP(L91,漢字読み!$A$2:$O$506,6,0))","v":"［科学］のしんぽ　"},{"$f":"IF(M91=\"\",\"\",VLOOKUP(M91,漢字読み!$A$2:$O$506,6,0))","v":"［晴］れた空"},{"$f":"IF(N91=\"\",\"\",VLOOKUP(N91,漢字読み!$A$2:$O$506,6,0))","v":"［紙］しばいを見る　　　    "},{"$f":"IF(O91=\"\",\"\",VLOOKUP(O91,漢字読み!$A$2:$O$506,6,0))","v":"［外］がわをあるく"},{"$f":"IF(P91=\"\",\"\",VLOOKUP(P91,漢字読み!$A$2:$O$506,6,0))","v":"花火［大会］をする　　　　　"},{"$f":"IF(Q91=\"\",\"\",VLOOKUP(Q91,漢字読み!$A$2:$O$506,6,0))","v":"［船］がついた      "},{"$f":"IF(R91=\"\",\"\",VLOOKUP(R91,漢字読み!$A$2:$O$506,6,0))","v":"［今週］のニュース"},{"$f":"IF(S91=\"\",\"\",VLOOKUP(S91,漢字読み!$A$2:$O$506,6,0))","v":"しゅくだいが［多］い"},{"$f":"IF(T91=\"\",\"\",VLOOKUP(T91,漢字読み!$A$2:$O$506,6,0))","v":"線が［交］わる"},null,"級"]
[{"$f":"IF(A$11=\"\",\"\",VLOOKUP(A91,漢字書き!$A$2:$O$506,8,0))","v":"思"},{"$f":"IF(B$11=\"\",\"\",VLOOKUP(B91,漢字書き!$A$2:$O$506,8,0))","v":"教室"},{"$f":"IF(C$11=\"\",\"\",VLOOKUP(C91,漢字書き!$A$2:$O$506,8,0))","v":"顔"},{"$f":"IF(D$11=\"\",\"\",VLOOKUP(D91,漢字書き!$A$2:$O$506,8,0))","v":"細"},{"$f":"IF(E$11=\"\",\"\",VLOOKUP(E91,漢字書き!$A$2:$O$506,8,0))","v":"止"},{"$f":"IF(F$11=\"\",\"\",VLOOKUP(F91,漢字書き!$A$2:$O$506,8,0))","v":"組"},{"$f":"IF(G$11=\"\",\"\",VLOOKUP(G91,漢字書き!$A$2:$O$506,8,0))","v":"国語"},{"$f":"IF(H$11=\"\",\"\",VLOOKUP(H91,漢字書き!$A$2:$O$506,8,0))","v":"高"},{"$f":"IF(I$11=\"\",\"\",VLOOKUP(I91,漢字書き!$A$2:$O$506,8,0))","v":"親"},{"$f":"IF(J$11=\"\",\"\",VLOOKUP(J91,漢字書き!$A$2:$O$506,8,0))","v":"多"},{"$f":"IF(K$11=\"\",\"\",VLOOKUP(K91,漢字読み!$A$2:$O$506,8,0))","v":"がん"},{"$f":"IF(L$11=\"\",\"\",VLOOKUP(L91,漢字読み!$A$2:$O$506,8,0))","v":"かがく"},{"$f":"IF(M$11=\"\",\"\",VLOOKUP(M91,漢字読み!$A$2:$O$506,8,0))","v":"は"},{"$f":"IF(N$11=\"\",\"\",VLOOKUP(N91,漢字読み!$A$2:$O$506,8,0))","v":"かみ"},{"$f":"IF(O$11=\"\",\"\",VLOOKUP(O91,漢字読み!$A$2:$O$506,8,0))","v":"そと"},{"$f":"IF(P$11=\"\",\"\",VLOOKUP(P91,漢字読み!$A$2:$O$506,8,0))","v":"たいかい"},{"$f":"IF(Q$11=\"\",\"\",VLOOKUP(Q91,漢字読み!$A$2:$O$506,8,0))","v":"ふね"},{"$f":"IF(R$11=\"\",\"\",VLOOKUP(R91,漢字読み!$A$2:$O$506,8,0))","v":"こんしゅう"},{"$f":"IF(S$11=\"\",\"\",VLOOKUP(S91,漢字読み!$A$2:$O$506,8,0))","v":"おお"},{"$f":"IF(T$11=\"\",\"\",VLOOKUP(T91,漢字読み!$A$2:$O$506,8,0))","v":"まじ"},null,"名前"]
[{"$f":"IF(A91=\"\",\"\",IF(VLOOKUP(A91,漢字書き!$A$2:$N$502,7,0)=0,\"\",VLOOKUP(A91,漢字書き!$A$2:$N$502,7,0)))","v":"い出"},{"$f":"IF(B91=\"\",\"\",IF(VLOOKUP(B91,漢字書き!$A$2:$N$502,7,0)=0,\"\",VLOOKUP(B91,漢字書き!$A$2:$N$502,7,0)))","v":""},{"$f":"IF(C91=\"\",\"\",IF(VLOOKUP(C91,漢字書き!$A$2:$N$502,7,0)=0,\"\",VLOOKUP(C91,漢字書き!$A$2:$N$502,7,0)))","v":""},{"$f":"IF(D91=\"\",\"\",IF(VLOOKUP(D91,漢字書き!$A$2:$N$502,7,0)=0,\"\",VLOOKUP(D91,漢字書き!$A$2:$N$502,7,0)))","v":"かい"},{"$f":"IF(E91=\"\",\"\",IF(VLOOKUP(E91,漢字書き!$A$2:$N$502,7,0)=0,\"\",VLOOKUP(E91,漢字書き!$A$2:$N$502,7,0)))","v":"める"},{"$f":"IF(F91=\"\",\"\",IF(VLOOKUP(F91,漢字書き!$A$2:$N$502,7,0)=0,\"\",VLOOKUP(F91,漢字書き!$A$2:$N$502,7,0)))","v":"む"},{"$f":"IF(G91=\"\",\"\",IF(VLOOKUP(G91,漢字書き!$A$2:$N$502,7,0)=0,\"\",VLOOKUP(G91,漢字書き!$A$2:$N$502,7,0)))","v":""},{"$f":"IF(H91=\"\",\"\",IF(VLOOKUP(H91,漢字書き!$A$2:$N$502,7,0)=0,\"\",VLOOKUP(H91,漢字書き!$A$2:$N$502,7,0)))","v":"い"},{"$f":"IF(I91=\"\",\"\",IF(VLOOKUP(I91,漢字書き!$A$2:$N$502,7,0)=0,\"\",VLOOKUP(I91,漢字書き!$A$2:$N$502,7,0)))","v":"しい"},{"$f":"IF(J91=\"\",\"\",IF(VLOOKUP(J91,漢字書き!$A$2:$N$502,7,0)=0,\"\",VLOOKUP(J91,漢字書き!$A$2:$N$502,7,0)))","v":"い"},{"$f":"IF(K91=\"\",\"\",IF(VLOOKUP(K91,漢字読み!$A$2:$O$502,7,0)=0,\"\",VLOOKUP(K91,漢字読み!$A$2:$O$502,7,0)))","v":"めん"},{"$f":"IF(L91=\"\",\"\",IF(VLOOKUP(L91,漢字読み!$A$2:$O$502,7,0)=0,\"\",VLOOKUP(L91,漢字読み!$A$2:$O$502,7,0)))","v":""},{"$f":"IF(M91=\"\",\"\",IF(VLOOKUP(M91,漢字読み!$A$2:$O$502,7,0)=0,\"\",VLOOKUP(M91,漢字読み!$A$2:$O$502,7,0)))","v":"れた"},{"$f":"IF(N91=\"\",\"\",IF(VLOOKUP(N91,漢字読み!$A$2:$O$502,7,0)=0,\"\",VLOOKUP(N91,漢字読み!$A$2:$O$502,7,0)))","v":"しばい"},{"$f":"IF(O91=\"\",\"\",IF(VLOOKUP(O91,漢字読み!$A$2:$O$502,7,0)=0,\"\",VLOOKUP(O91,漢字読み!$A$2:$O$502,7,0)))","v":""},{"$f":"IF(P91=\"\",\"\",IF(VLOOKUP(P91,漢字読み!$A$2:$O$502,7,0)=0,\"\",VLOOKUP(P91,漢字読み!$A$2:$O$502,7,0)))","v":""},{"$f":"IF(Q91=\"\",\"\",IF(VLOOKUP(Q91,漢字読み!$A$2:$O$502,7,0)=0,\"\",VLOOKUP(Q91,漢字読み!$A$2:$O$502,7,0)))","v":""},{"$f":"IF(R91=\"\",\"\",IF(VLOOKUP(R91,漢字読み!$A$2:$O$502,7,0)=0,\"\",VLOOKUP(R91,漢字読み!$A$2:$O$502,7,0)))","v":""},{"$f":"IF(S91=\"\",\"\",IF(VLOOKUP(S91,漢字読み!$A$2:$O$502,7,0)=0,\"\",VLOOKUP(S91,漢字読み!$A$2:$O$502,7,0)))","v":"い"},{"$f":"IF(T91=\"\",\"\",IF(VLOOKUP(T91,漢字読み!$A$2:$O$502,7,0)=0,\"\",VLOOKUP(T91,漢字読み!$A$2:$O$502,7,0)))","v":"わる"},null,null,"和歌山県教育委員会"]
[{"$f":"A86","v":3},{"$f":"B86","v":34},{"$f":"C86","v":97},{"$f":"D86","v":130},{"$f":"E86","v":1},{"$f":"F86","v":65},{"$f":"G86","v":47},{"$f":"H86","v":16},{"$f":"I86","v":86},{"$f":"J86","v":40},{"$f":"K86","v":18},{"$f":"L86","v":125},{"$f":"M86","v":66},{"$f":"N86","v":126},{"$f":"O86","v":86},{"$f":"P86","v":76},{"$f":"Q86","v":50},{"$f":"R86","v":54},{"$f":"S86","v":136},{"$f":"T86","v":5}]
["⑳","⑲","⑱","⑰","⑯","⑮","⑭","⑬","⑫","⑪","⑩","⑨","⑧","⑦","⑥","⑤","④","③","②","①","次の［　　　　］の部分の漢字には読みがなをひらがなで書き、カタカナは漢字に直しなさい。",14,"「漢字の博士検定試験」練習問題　"]
[{"$f":"IF(A96=\"\",\"\",VLOOKUP(A96,漢字書き!$A$2:$N$506,6,0))","v":"白い［クモ］"},{"$f":"IF(B96=\"\",\"\",VLOOKUP(B96,漢字書き!$A$2:$N$506,6,0))","v":"［キンギョ］をかう"},{"$f":"IF(C96=\"\",\"\",VLOOKUP(C96,漢字書き!$A$2:$N$506,6,0))","v":"［シャカイ］のためにつくす"},{"$f":"IF(D96=\"\",\"\",VLOOKUP(D96,漢字書き!$A$2:$N$506,6,0))","v":"ぜん力で［ハシ］る"},{"$f":"IF(E96=\"\",\"\",VLOOKUP(E96,漢字書き!$A$2:$N$506,6,0))","v":"線を［ヒ］く"},{"$f":"IF(F96=\"\",\"\",VLOOKUP(F96,漢字書き!$A$2:$N$506,6,0))","v":"じっくり［カンガ］える"},{"$f":"IF(G96=\"\",\"\",VLOOKUP(G96,漢字書き!$A$2:$N$506,6,0))","v":"［ゲンキ］いっぱい"},{"$f":"IF(H96=\"\",\"\",VLOOKUP(H96,漢字書き!$A$2:$N$506,6,0))","v":"うんどう［カイ］"},{"$f":"IF(I96=\"\",\"\",VLOOKUP(I96,漢字書き!$A$2:$N$506,6,0))","v":"バスが［ト］まる"},{"$f":"IF(J96=\"\",\"\",VLOOKUP(J96,漢字書き!$A$2:$N$506,6,0))","v":"さん［スウ］がすき"},{"$f":"IF(K96=\"\",\"\",VLOOKUP(K96,漢字読み!$A$2:$O$506,6,0))","v":"目が［回］る"},{"$f":"IF(L96=\"\",\"\",VLOOKUP(L96,漢字読み!$A$2:$O$506,6,0))","v":"きゅう［食］とうばん"},{"$f":"IF(M96=\"\",\"\",VLOOKUP(M96,漢字読み!$A$2:$O$506,6,0))","v":"たん［語］をおぼえる"},{"$f":"IF(N96=\"\",\"\",VLOOKUP(N96,漢字読み!$A$2:$O$506,6,0))","v":"ごはんを［食］べる"},{"$f":"IF(O96=\"\",\"\",VLOOKUP(O96,漢字読み!$A$2:$O$506,6,0))","v":"［今］どこそがんばるぞ"},{"$f":"IF(P96=\"\",\"\",VLOOKUP(P96,漢字読み!$A$2:$O$506,6,0))","v":"こたえを［考］える    "},{"$f":"IF(Q96=\"\",\"\",VLOOKUP(Q96,漢字読み!$A$2:$O$506,6,0))","v":"先生に［教］わる  "},{"$f":"IF(R96=\"\",\"\",VLOOKUP(R96,漢字読み!$A$2:$O$506,6,0))","v":"［人形］げきをみる"},{"$f":"IF(S96=\"\",\"\",VLOOKUP(S96,漢字読み!$A$2:$O$506,6,0))","v":"［数字］をおぼえる　  "},{"$f":"IF(T96=\"\",\"\",VLOOKUP(T96,漢字読み!$A$2:$O$506,6,0))","v":"［公園］であそぶ   "},null,"級"]
[{"$f":"IF(A$16=\"\",\"\",VLOOKUP(A96,漢字書き!$A$2:$O$506,8,0))","v":"雲"},{"$f":"IF(B$16=\"\",\"\",VLOOKUP(B96,漢字書き!$A$2:$O$506,8,0))","v":"金魚"},{"$f":"IF(C$16=\"\",\"\",VLOOKUP(C96,漢字書き!$A$2:$O$506,8,0))","v":"社会"},{"$f":"IF(D$16=\"\",\"\",VLOOKUP(D96,漢字書き!$A$2:$O$506,8,0))","v":"走"},{"$f":"IF(E$16=\"\",\"\",VLOOKUP(E96,漢字書き!$A$2:$O$506,8,0))","v":"引"},{"$f":"IF(F$16=\"\",\"\",VLOOKUP(F96,漢字書き!$A$2:$O$506,8,0))","v":"考"},{"$f":"IF(G$16=\"\",\"\",VLOOKUP(G96,漢字書き!$A$2:$O$506,8,0))","v":"元気"},{"$f":"IF(H$16=\"\",\"\",VLOOKUP(H96,漢字書き!$A$2:$O$506,8,0))","v":"会"},{"$f":"IF(I$16=\"\",\"\",VLOOKUP(I96,漢字書き!$A$2:$O$506,8,0))","v":"止"},{"$f":"IF(J$16=\"\",\"\",VLOOKUP(J96,漢字書き!$A$2:$O$506,8,0))","v":"数"},{"$f":"IF(K$16=\"\",\"\",VLOOKUP(K96,漢字読み!$A$2:$O$506,8,0))","v":"まわ"},{"$f":"IF(L$16=\"\",\"\",VLOOKUP(L96,漢字読み!$A$2:$O$506,8,0))","v":"しょく"},{"$f":"IF(M$16=\"\",\"\",VLOOKUP(M96,漢字読み!$A$2:$O$506,8,0))","v":"ご"},{"$f":"IF(N$16=\"\",\"\",VLOOKUP(N96,漢字読み!$A$2:$O$506,8,0))","v":"た"},{"$f":"IF(O$16=\"\",\"\",VLOOKUP(O96,漢字読み!$A$2:$O$506,8,0))","v":"こん"},{"$f":"IF(P$16=\"\",\"\",VLOOKUP(P96,漢字読み!$A$2:$O$506,8,0))","v":"かんが"},{"$f":"IF(Q$16=\"\",\"\",VLOOKUP(Q96,漢字読み!$A$2:$O$506,8,0))","v":"おそ"},{"$f":"IF(R$16=\"\",\"\",VLOOKUP(R96,漢字読み!$A$2:$O$506,8,0))","v":"にんぎょう"},{"$f":"IF(S$16=\"\",\"\",VLOOKUP(S96,漢字読み!$A$2:$O$506,8,0))","v":"すうじ"},{"$f":"IF(T$16=\"\",\"\",VLOOKUP(T96,漢字読み!$A$2:$O$506,8,0))","v":"こうえん"},null,"名前"]
[{"$f":"IF(A96=\"\",\"\",IF(VLOOKUP(A96,漢字書き!$A$2:$N$502,7,0)=0,\"\",VLOOKUP(A96,漢字書き!$A$2:$N$502,7,0)))","v":""},{"$f":"IF(B96=\"\",\"\",IF(VLOOKUP(B96,漢字書き!$A$2:$N$502,7,0)=0,\"\",VLOOKUP(B96,漢字書き!$A$2:$N$502,7,0)))","v":""},{"$f":"IF(C96=\"\",\"\",IF(VLOOKUP(C96,漢字書き!$A$2:$N$502,7,0)=0,\"\",VLOOKUP(C96,漢字書き!$A$2:$N$502,7,0)))","v":""},{"$f":"IF(D96=\"\",\"\",IF(VLOOKUP(D96,漢字書き!$A$2:$N$502,7,0)=0,\"\",VLOOKUP(D96,漢字書き!$A$2:$N$502,7,0)))","v":"る"},{"$f":"IF(E96=\"\",\"\",IF(VLOOKUP(E96,漢字書き!$A$2:$N$502,7,0)=0,\"\",VLOOKUP(E96,漢字書き!$A$2:$N$502,7,0)))","v":"く"},{"$f":"IF(F96=\"\",\"\",IF(VLOOKUP(F96,漢字書き!$A$2:$N$502,7,0)=0,\"\",VLOOKUP(F96,漢字書き!$A$2:$N$502,7,0)))","v":"える"},{"$f":"IF(G96=\"\",\"\",IF(VLOOKUP(G96,漢字書き!$A$2:$N$502,7,0)=0,\"\",VLOOKUP(G96,漢字書き!$A$2:$N$502,7,0)))","v":""},{"$f":"IF(H96=\"\",\"\",IF(VLOOKUP(H96,漢字書き!$A$2:$N$502,7,0)=0,\"\",VLOOKUP(H96,漢字書き!$A$2:$N$502,7,0)))","v":""},{"$f":"IF(I96=\"\",\"\",IF(VLOOKUP(I96,漢字書き!$A$2:$N$502,7,0)=0,\"\",VLOOKUP(I96,漢字書き!$A$2:$N$502,7,0)))","v":"まる"},{"$f":"IF(J96=\"\",\"\",IF(VLOOKUP(J96,漢字書き!$A$2:$N$502,7,0)=0,\"\",VLOOKUP(J96,漢字書き!$A$2:$N$502,7,0)))","v":""},{"$f":"IF(K96=\"\",\"\",IF(VLOOKUP(K96,漢字読み!$A$2:$O$502,7,0)=0,\"\",VLOOKUP(K96,漢字読み!$A$2:$O$502,7,0)))","v":"る"},{"$f":"IF(L96=\"\",\"\",IF(VLOOKUP(L96,漢字読み!$A$2:$O$502,7,0)=0,\"\",VLOOKUP(L96,漢字読み!$A$2:$O$502,7,0)))","v":""},{"$f":"IF(M96=\"\",\"\",IF(VLOOKUP(M96,漢字読み!$A$2:$O$502,7,0)=0,\"\",VLOOKUP(M96,漢字読み!$A$2:$O$502,7,0)))","v":""},{"$f":"IF(N96=\"\",\"\",IF(VLOOKUP(N96,漢字読み!$A$2:$O$502,7,0)=0,\"\",VLOOKUP(N96,漢字読み!$A$2:$O$502,7,0)))","v":"べる"},{"$f":"IF(O96=\"\",\"\",IF(VLOOKUP(O96,漢字読み!$A$2:$O$502,7,0)=0,\"\",VLOOKUP(O96,漢字読み!$A$2:$O$502,7,0)))","v":"ど"},{"$f":"IF(P96=\"\",\"\",IF(VLOOKUP(P96,漢字読み!$A$2:$O$502,7,0)=0,\"\",VLOOKUP(P96,漢字読み!$A$2:$O$502,7,0)))","v":"える"},{"$f":"IF(Q96=\"\",\"\",IF(VLOOKUP(Q96,漢字読み!$A$2:$O$502,7,0)=0,\"\",VLOOKUP(Q96,漢字読み!$A$2:$O$502,7,0)))","v":"わる"},{"$f":"IF(R96=\"\",\"\",IF(VLOOKUP(R96,漢字読み!$A$2:$O$502,7,0)=0,\"\",VLOOKUP(R96,漢字読み!$A$2:$O$502,7,0)))","v":"げき"},{"$f":"IF(S96=\"\",\"\",IF(VLOOKUP(S96,漢字読み!$A$2:$O$502,7,0)=0,\"\",VLOOKUP(S96,漢字読み!$A$2:$O$502,7,0)))","v":""},{"$f":"IF(T96=\"\",\"\",IF(VLOOKUP(T96,漢字読み!$A$2:$O$502,7,0)=0,\"\",VLOOKUP(T96,漢字読み!$A$2:$O$502,7,0)))","v":""},null,null,"和歌山県教育委員会"]
[{"$f":"INDIRECT(\"'関数（書き）'!C\" & COLUMN(B$1)+SUM($AD$2:$AD102))","v":88},{"$f":"INDIRECT(\"'関数（書き）'!C\" & COLUMN(C$1)+SUM($AD$2:$AD102))","v":115},{"$f":"INDIRECT(\"'関数（書き）'!C\" & COLUMN(D$1)+SUM($AD$2:$AD102))","v":126},{"$f":"INDIRECT(\"'関数（書き）'!C\" & COLUMN(E$1)+SUM($AD$2:$AD102))","v":44},{"$f":"INDIRECT(\"'関数（書き）'!C\" & COLUMN(F$1)+SUM($AD$2:$AD102))","v":80},{"$f":"INDIRECT(\"'関数（書き）'!C\" & COLUMN(G$1)+SUM($AD$2:$AD102))","v":72},{"$f":"INDIRECT(\"'関数（書き）'!C\" & COLUMN(H$1)+SUM($AD$2:$AD102))","v":59},{"$f":"INDIRECT(\"'関数（書き）'!C\" & COLUMN(I$1)+SUM($AD$2:$AD102))","v":21},{"$f":"INDIRECT(\"'関数（書き）'!C\" & COLUMN(J$1)+SUM($AD$2:$AD102))","v":58},{"$f":"INDIRECT(\"'関数（書き）'!C\" & COLUMN(K$1)+SUM($AD$2:$AD102))","v":24},{"$f":"INDIRECT(\"'関数（読み）'!C\" & COLUMN(B$1)+SUM($AD$2:$AD102))","v":94},{"$f":"INDIRECT(\"'関数（読み）'!C\" & COLUMN(C$1)+SUM($AD$2:$AD102))","v":59},{"$f":"INDIRECT(\"'関数（読み）'!C\" & COLUMN(D$1)+SUM($AD$2:$AD102))","v":108},{"$f":"INDIRECT(\"'関数（読み）'!C\" & COLUMN(E$1)+SUM($AD$2:$AD102))","v":151},{"$f":"INDIRECT(\"'関数（読み）'!C\" & COLUMN(F$1)+SUM($AD$2:$AD102))","v":62},{"$f":"INDIRECT(\"'関数（読み）'!C\" & COLUMN(G$1)+SUM($AD$2:$AD102))","v":30},{"$f":"INDIRECT(\"'関数（読み）'!C\" & COLUMN(H$1)+SUM($AD$2:$AD102))","v":130},{"$f":"INDIRECT(\"'関数（読み）'!C\" & COLUMN(I$1)+SUM($AD$2:$AD102))","v":35},{"$f":"INDIRECT(\"'関数（読み）'!C\" & COLUMN(J$1)+SUM($AD$2:$AD102))","v":39},{"$f":"INDIRECT(\"'関数（読み）'!C\" & COLUMN(K$1)+SUM($AD$2:$AD102))","v":48}]
["⑳","⑲","⑱","⑰","⑯","⑮","⑭","⑬","⑫","⑪","⑩","⑨","⑧","⑦","⑥","⑤","④","③","②","①","次の［　　　　］の部分の漢字には読みがなをひらがなで書き、カタカナは漢字に直しなさい。",14,"「漢字の博士検定試験」練習問題　",null,null,null,null,null,"←",10,"問",{"$f":"AH87+1","v":101},"～",{"$f":"SUM($AD$2:$AD102)+10","v":110},"問まで",{"$f":"COUNTIF($A$1:$T$200,T103)","v":2}]
[{"$f":"IF(A101=\"\",\"\",VLOOKUP(A101,漢字書き!$A$2:$N$506,6,0))","v":"［イチバ］にむかう"},{"$f":"IF(B101=\"\",\"\",VLOOKUP(B101,漢字書き!$A$2:$N$506,6,0))","v":"［トショ］かんにいく"},{"$f":"IF(C101=\"\",\"\",VLOOKUP(C101,漢字書き!$A$2:$N$506,6,0))","v":"まっすぐな［セン］を引く"},{"$f":"IF(D101=\"\",\"\",VLOOKUP(D101,漢字書き!$A$2:$N$506,6,0))","v":"［ケイカク］を立てる"},{"$f":"IF(E101=\"\",\"\",VLOOKUP(E101,漢字書き!$A$2:$N$506,6,0))","v":"［ホソ］いひも"},{"$f":"IF(F101=\"\",\"\",VLOOKUP(F101,漢字書き!$A$2:$N$506,6,0))","v":"ふかい［タニ］"},{"$f":"IF(G101=\"\",\"\",VLOOKUP(G101,漢字書き!$A$2:$N$506,6,0))","v":"［ヒロ］い海"},{"$f":"IF(H101=\"\",\"\",VLOOKUP(H101,漢字書き!$A$2:$N$506,6,0))","v":"［ソト］であそぶ"},{"$f":"IF(I101=\"\",\"\",VLOOKUP(I101,漢字書き!$A$2:$N$506,6,0))","v":"［コウ］がいのない町"},{"$f":"IF(J101=\"\",\"\",VLOOKUP(J101,漢字書き!$A$2:$N$506,6,0))","v":"［カツ］やくする"},{"$f":"IF(K101=\"\",\"\",VLOOKUP(K101,漢字読み!$A$2:$O$506,6,0))","v":"えんそくが［中止］になる"},{"$f":"IF(L101=\"\",\"\",VLOOKUP(L101,漢字読み!$A$2:$O$506,6,0))","v":"みんなに［言］う"},{"$f":"IF(M101=\"\",\"\",VLOOKUP(M101,漢字読み!$A$2:$O$506,6,0))","v":"［室外］に出る       　"},{"$f":"IF(N101=\"\",\"\",VLOOKUP(N101,漢字読み!$A$2:$O$506,6,0))","v":"うまが［走］る"},{"$f":"IF(O101=\"\",\"\",VLOOKUP(O101,漢字読み!$A$2:$O$506,6,0))","v":"［戸］があいた"},{"$f":"IF(P101=\"\",\"\",VLOOKUP(P101,漢字読み!$A$2:$O$506,6,0))","v":"［時間］がすぎる 　　"},{"$f":"IF(Q101=\"\",\"\",VLOOKUP(Q101,漢字読み!$A$2:$O$506,6,0))","v":"［新］しいくつをはく"},{"$f":"IF(R101=\"\",\"\",VLOOKUP(R101,漢字読み!$A$2:$O$506,6,0))","v":"［顔］をあらう    "},{"$f":"IF(S101=\"\",\"\",VLOOKUP(S101,漢字読み!$A$2:$O$506,6,0))","v":"いっしょに［帰］る "},{"$f":"IF(T101=\"\",\"\",VLOOKUP(T101,漢字読み!$A$2:$O$506,6,0))","v":"［教］え合う　　   　"},null,"級"]
[null,null,null,null,null,null,null,null,null,null,null,null,null,null,null,null,null,null,null,null,null,"名前"]
[{"$f":"IF(A101=\"\",\"\",IF(VLOOKUP(A101,漢字書き!$A$2:$N$502,7,0)=0,\"\",VLOOKUP(A101,漢字書き!$A$2:$N$502,7,0)))","v":""},{"$f":"IF(B101=\"\",\"\",IF(VLOOKUP(B101,漢字書き!$A$2:$N$502,7,0)=0,\"\",VLOOKUP(B101,漢字書き!$A$2:$N$502,7,0)))","v":"かん"},{"$f":"IF(C101=\"\",\"\",IF(VLOOKUP(C101,漢字書き!$A$2:$N$502,7,0)=0,\"\",VLOOKUP(C101,漢字書き!$A$2:$N$502,7,0)))","v":""},{"$f":"IF(D101=\"\",\"\",IF(VLOOKUP(D101,漢字書き!$A$2:$N$502,7,0)=0,\"\",VLOOKUP(D101,漢字書き!$A$2:$N$502,7,0)))","v":""},{"$f":"IF(E101=\"\",\"\",IF(VLOOKUP(E101,漢字書き!$A$2:$N$502,7,0)=0,\"\",VLOOKUP(E101,漢字書き!$A$2:$N$502,7,0)))","v":"い"},{"$f":"IF(F101=\"\",\"\",IF(VLOOKUP(F101,漢字書き!$A$2:$N$502,7,0)=0,\"\",VLOOKUP(F101,漢字書き!$A$2:$N$502,7,0)))","v":""},{"$f":"IF(G101=\"\",\"\",IF(VLOOKUP(G101,漢字書き!$A$2:$N$502,7,0)=0,\"\",VLOOKUP(G101,漢字書き!$A$2:$N$502,7,0)))","v":"い"},{"$f":"IF(H101=\"\",\"\",IF(VLOOKUP(H101,漢字書き!$A$2:$N$502,7,0)=0,\"\",VLOOKUP(H101,漢字書き!$A$2:$N$502,7,0)))","v":""},{"$f":"IF(I101=\"\",\"\",IF(VLOOKUP(I101,漢字書き!$A$2:$N$502,7,0)=0,\"\",VLOOKUP(I101,漢字書き!$A$2:$N$502,7,0)))","v":"がい"},{"$f":"IF(J101=\"\",\"\",IF(VLOOKUP(J101,漢字書き!$A$2:$N$502,7,0)=0,\"\",VLOOKUP(J101,漢字書き!$A$2:$N$502,7,0)))","v":"やく"},{"$f":"IF(K101=\"\",\"\",IF(VLOOKUP(K101,漢字読み!$A$2:$O$502,7,0)=0,\"\",VLOOKUP(K101,漢字読み!$A$2:$O$502,7,0)))","v":""},{"$f":"IF(L101=\"\",\"\",IF(VLOOKUP(L101,漢字読み!$A$2:$O$502,7,0)=0,\"\",VLOOKUP(L101,漢字読み!$A$2:$O$502,7,0)))","v":"う"},{"$f":"IF(M101=\"\",\"\",IF(VLOOKUP(M101,漢字読み!$A$2:$O$502,7,0)=0,\"\",VLOOKUP(M101,漢字読み!$A$2:$O$502,7,0)))","v":""},{"$f":"IF(N101=\"\",\"\",IF(VLOOKUP(N101,漢字読み!$A$2:$O$502,7,0)=0,\"\",VLOOKUP(N101,漢字読み!$A$2:$O$502,7,0)))","v":"る"},{"$f":"IF(O101=\"\",\"\",IF(VLOOKUP(O101,漢字読み!$A$2:$O$502,7,0)=0,\"\",VLOOKUP(O101,漢字読み!$A$2:$O$502,7,0)))","v":""},{"$f":"IF(P101=\"\",\"\",IF(VLOOKUP(P101,漢字読み!$A$2:$O$502,7,0)=0,\"\",VLOOKUP(P101,漢字読み!$A$2:$O$502,7,0)))","v":""},{"$f":"IF(Q101=\"\",\"\",IF(VLOOKUP(Q101,漢字読み!$A$2:$O$502,7,0)=0,\"\",VLOOKUP(Q101,漢字読み!$A$2:$O$502,7,0)))","v":"しい"},{"$f":"IF(R101=\"\",\"\",IF(VLOOKUP(R101,漢字読み!$A$2:$O$502,7,0)=0,\"\",VLOOKUP(R101,漢字読み!$A$2:$O$502,7,0)))","v":""},{"$f":"IF(S101=\"\",\"\",IF(VLOOKUP(S101,漢字読み!$A$2:$O$502,7,0)=0,\"\",VLOOKUP(S101,漢字読み!$A$2:$O$502,7,0)))","v":"る"},{"$f":"IF(T101=\"\",\"\",IF(VLOOKUP(T101,漢字読み!$A$2:$O$502,7,0)=0,\"\",VLOOKUP(T101,漢字読み!$A$2:$O$502,7,0)))","v":"え"},null,null,"和歌山県教育委員会"]
[{"$f":"INDIRECT(\"'関数（書き）'!C\" & COLUMN(B$1)+SUM($AD$2:$AD107))","v":78},{"$f":"INDIRECT(\"'関数（書き）'!C\" & COLUMN(C$1)+SUM($AD$2:$AD107))","v":84},{"$f":"INDIRECT(\"'関数（書き）'!C\" & COLUMN(D$1)+SUM($AD$2:$AD107))","v":4},{"$f":"INDIRECT(\"'関数（書き）'!C\" & COLUMN(E$1)+SUM($AD$2:$AD107))","v":12},{"$f":"INDIRECT(\"'関数（書き）'!C\" & COLUMN(F$1)+SUM($AD$2:$AD107))","v":69},{"$f":"INDIRECT(\"'関数（書き）'!C\" & COLUMN(G$1)+SUM($AD$2:$AD107))","v":36},{"$f":"INDIRECT(\"'関数（書き）'!C\" & COLUMN(H$1)+SUM($AD$2:$AD107))","v":32},{"$f":"INDIRECT(\"'関数（書き）'!C\" & COLUMN(I$1)+SUM($AD$2:$AD107))","v":106},{"$f":"INDIRECT(\"'関数（書き）'!C\" & COLUMN(J$1)+SUM($AD$2:$AD107))","v":14},{"$f":"INDIRECT(\"'関数（書き）'!C\" & COLUMN(K$1)+SUM($AD$2:$AD107))","v":48},{"$f":"INDIRECT(\"'関数（読み）'!C\" & COLUMN(B$1)+SUM($AD$2:$AD107))","v":122},{"$f":"INDIRECT(\"'関数（読み）'!C\" & COLUMN(C$1)+SUM($AD$2:$AD107))","v":56},{"$f":"INDIRECT(\"'関数（読み）'!C\" & COLUMN(D$1)+SUM($AD$2:$AD107))","v":116},{"$f":"INDIRECT(\"'関数（読み）'!C\" & COLUMN(E$1)+SUM($AD$2:$AD107))","v":22},{"$f":"INDIRECT(\"'関数（読み）'!C\" & COLUMN(F$1)+SUM($AD$2:$AD107))","v":123},{"$f":"INDIRECT(\"'関数（読み）'!C\" & COLUMN(G$1)+SUM($AD$2:$AD107))","v":3},{"$f":"INDIRECT(\"'関数（読み）'!C\" & COLUMN(H$1)+SUM($AD$2:$AD107))","v":16},{"$f":"INDIRECT(\"'関数（読み）'!C\" & COLUMN(I$1)+SUM($AD$2:$AD107))","v":80},{"$f":"INDIRECT(\"'関数（読み）'!C\" & COLUMN(J$1)+SUM($AD$2:$AD107))","v":107},{"$f":"INDIRECT(\"'関数（読み）'!C\" & COLUMN(K$1)+SUM($AD$2:$AD107))","v":1}]
["⑳","⑲","⑱","⑰","⑯","⑮","⑭","⑬","⑫","⑪","⑩","⑨","⑧","⑦","⑥","⑤","④","③","②","①","次の［　　　　］の部分の漢字には読みがなをひらがなで書き、カタカナは漢字に直しなさい。",14,"「漢字の博士検定試験」練習問題　",null,null,null,null,null,"←",10,"問",{"$f":"AH102+1","v":111},"～",{"$f":"SUM($AD$2:$AD107)+10","v":120},"問まで",{"$f":"COUNTIF($A$1:$T$200,T108)","v":2}]
[{"$f":"IF(A106=\"\",\"\",VLOOKUP(A106,漢字書き!$A$2:$N$506,6,0))","v":"［ト］をあける"},{"$f":"IF(B106=\"\",\"\",VLOOKUP(B106,漢字書き!$A$2:$N$506,6,0))","v":"［サンスウ］のもんだい"},{"$f":"IF(C106=\"\",\"\",VLOOKUP(C106,漢字書き!$A$2:$N$506,6,0))","v":"［コウエン］であそぶ"},{"$f":"IF(D106=\"\",\"\",VLOOKUP(D106,漢字書き!$A$2:$N$506,6,0))","v":"日本の［コッカ］"},{"$f":"IF(E106=\"\",\"\",VLOOKUP(E106,漢字書き!$A$2:$N$506,6,0))","v":"［キイロ］のクレヨン"},{"$f":"IF(F106=\"\",\"\",VLOOKUP(F106,漢字書き!$A$2:$N$506,6,0))","v":"［キョウ］のみやこ"},{"$f":"IF(G106=\"\",\"\",VLOOKUP(G106,漢字書き!$A$2:$N$506,6,0))","v":"［ユミ］の名人"},{"$f":"IF(H106=\"\",\"\",VLOOKUP(H106,漢字書き!$A$2:$N$506,6,0))","v":"うんどう［ジョウ］であそぶ"},{"$f":"IF(I106=\"\",\"\",VLOOKUP(I106,漢字書き!$A$2:$N$506,6,0))","v":"ゆうめいな［ガカ］"},{"$f":"IF(J106=\"\",\"\",VLOOKUP(J106,漢字書き!$A$2:$N$506,6,0))","v":"［ゲンゴ］のちがいをしる"},{"$f":"IF(K106=\"\",\"\",VLOOKUP(K106,漢字読み!$A$2:$O$506,6,0))","v":"［広場］でサッカーをする"},{"$f":"IF(L106=\"\",\"\",VLOOKUP(L106,漢字読み!$A$2:$O$506,6,0))","v":"［足元］におとす"},{"$f":"IF(M106=\"\",\"\",VLOOKUP(M106,漢字読み!$A$2:$O$506,6,0))","v":"［先週］はさむかった"},{"$f":"IF(N106=\"\",\"\",VLOOKUP(N106,漢字読み!$A$2:$O$506,6,0))","v":"［絵］をかく     　"},{"$f":"IF(O106=\"\",\"\",VLOOKUP(O106,漢字読み!$A$2:$O$506,6,0))","v":"［色紙］にサインをする"},{"$f":"IF(P106=\"\",\"\",VLOOKUP(P106,漢字読み!$A$2:$O$506,6,0))","v":"まほうの［羽］"},{"$f":"IF(Q106=\"\",\"\",VLOOKUP(Q106,漢字読み!$A$2:$O$506,6,0))","v":"かん字の［画数］ 　"},{"$f":"IF(R106=\"\",\"\",VLOOKUP(R106,漢字読み!$A$2:$O$506,6,0))","v":"［高］い山にのぼる      "},{"$f":"IF(S106=\"\",\"\",VLOOKUP(S106,漢字読み!$A$2:$O$506,6,0))","v":"［時間］がたつ      "},{"$f":"IF(T106=\"\",\"\",VLOOKUP(T106,漢字読み!$A$2:$O$506,6,0))","v":"［引力］がはたらく"},null,"級"]
[null,null,null,null,null,null,null,null,null,null,null,null,null,null,null,null,null,null,null,null,null,"名前"]
[{"$f":"IF(A106=\"\",\"\",IF(VLOOKUP(A106,漢字書き!$A$2:$N$502,7,0)=0,\"\",VLOOKUP(A106,漢字書き!$A$2:$N$502,7,0)))","v":""},{"$f":"IF(B106=\"\",\"\",IF(VLOOKUP(B106,漢字書き!$A$2:$N$502,7,0)=0,\"\",VLOOKUP(B106,漢字書き!$A$2:$N$502,7,0)))","v":""},{"$f":"IF(C106=\"\",\"\",IF(VLOOKUP(C106,漢字書き!$A$2:$N$502,7,0)=0,\"\",VLOOKUP(C106,漢字書き!$A$2:$N$502,7,0)))","v":""},{"$f":"IF(D106=\"\",\"\",IF(VLOOKUP(D106,漢字書き!$A$2:$N$502,7,0)=0,\"\",VLOOKUP(D106,漢字書き!$A$2:$N$502,7,0)))","v":""},{"$f":"IF(E106=\"\",\"\",IF(VLOOKUP(E106,漢字書き!$A$2:$N$502,7,0)=0,\"\",VLOOKUP(E106,漢字書き!$A$2:$N$502,7,0)))","v":""},{"$f":"IF(F106=\"\",\"\",IF(VLOOKUP(F106,漢字書き!$A$2:$N$502,7,0)=0,\"\",VLOOKUP(F106,漢字書き!$A$2:$N$502,7,0)))","v":""},{"$f":"IF(G106=\"\",\"\",IF(VLOOKUP(G106,漢字書き!$A$2:$N$502,7,0)=0,\"\",VLOOKUP(G106,漢字書き!$A$2:$N$502,7,0)))","v":""},{"$f":"IF(H106=\"\",\"\",IF(VLOOKUP(H106,漢字書き!$A$2:$N$502,7,0)=0,\"\",VLOOKUP(H106,漢字書き!$A$2:$N$502,7,0)))","v":""},{"$f":"IF(I106=\"\",\"\",IF(VLOOKUP(I106,漢字書き!$A$2:$N$502,7,0)=0,\"\",VLOOKUP(I106,漢字書き!$A$2:$N$502,7,0)))","v":""},{"$f":"IF(J106=\"\",\"\",IF(VLOOKUP(J106,漢字書き!$A$2:$N$502,7,0)=0,\"\",VLOOKUP(J106,漢字書き!$A$2:$N$502,7,0)))","v":""},{"$f":"IF(K106=\"\",\"\",IF(VLOOKUP(K106,漢字読み!$A$2:$O$502,7,0)=0,\"\",VLOOKUP(K106,漢字読み!$A$2:$O$502,7,0)))","v":""},{"$f":"IF(L106=\"\",\"\",IF(VLOOKUP(L106,漢字読み!$A$2:$O$502,7,0)=0,\"\",VLOOKUP(L106,漢字読み!$A$2:$O$502,7,0)))","v":""},{"$f":"IF(M106=\"\",\"\",IF(VLOOKUP(M106,漢字読み!$A$2:$O$502,7,0)=0,\"\",VLOOKUP(M106,漢字読み!$A$2:$O$502,7,0)))","v":""},{"$f":"IF(N106=\"\",\"\",IF(VLOOKUP(N106,漢字読み!$A$2:$O$502,7,0)=0,\"\",VLOOKUP(N106,漢字読み!$A$2:$O$502,7,0)))","v":"　"},{"$f":"IF(O106=\"\",\"\",IF(VLOOKUP(O106,漢字読み!$A$2:$O$502,7,0)=0,\"\",VLOOKUP(O106,漢字読み!$A$2:$O$502,7,0)))","v":""},{"$f":"IF(P106=\"\",\"\",IF(VLOOKUP(P106,漢字読み!$A$2:$O$502,7,0)=0,\"\",VLOOKUP(P106,漢字読み!$A$2:$O$502,7,0)))","v":""},{"$f":"IF(Q106=\"\",\"\",IF(VLOOKUP(Q106,漢字読み!$A$2:$O$502,7,0)=0,\"\",VLOOKUP(Q106,漢字読み!$A$2:$O$502,7,0)))","v":""},{"$f":"IF(R106=\"\",\"\",IF(VLOOKUP(R106,漢字読み!$A$2:$O$502,7,0)=0,\"\",VLOOKUP(R106,漢字読み!$A$2:$O$502,7,0)))","v":"い"},{"$f":"IF(S106=\"\",\"\",IF(VLOOKUP(S106,漢字読み!$A$2:$O$502,7,0)=0,\"\",VLOOKUP(S106,漢字読み!$A$2:$O$502,7,0)))","v":""},{"$f":"IF(T106=\"\",\"\",IF(VLOOKUP(T106,漢字読み!$A$2:$O$502,7,0)=0,\"\",VLOOKUP(T106,漢字読み!$A$2:$O$502,7,0)))","v":""},null,null,"和歌山県教育委員会"]
[{"$f":"A101","v":88},{"$f":"B101","v":115},{"$f":"C101","v":126},{"$f":"D101","v":44},{"$f":"E101","v":80},{"$f":"F101","v":72},{"$f":"G101","v":59},{"$f":"H101","v":21},{"$f":"I101","v":58},{"$f":"J101","v":24},{"$f":"K101","v":94},{"$f":"L101","v":59},{"$f":"M101","v":108},{"$f":"N101","v":151},{"$f":"O101","v":62},{"$f":"P101","v":30},{"$f":"Q101","v":130},{"$f":"R101","v":35},{"$f":"S101","v":39},{"$f":"T101","v":48}]
["⑳","⑲","⑱","⑰","⑯","⑮","⑭","⑬","⑫","⑪","⑩","⑨","⑧","⑦","⑥","⑤","④","③","②","①","次の［　　　　］の部分の漢字には読みがなをひらがなで書き、カタカナは漢字に直しなさい。",14,"「漢字の博士検定試験」練習問題　"]
[{"$f":"IF(A111=\"\",\"\",VLOOKUP(A111,漢字書き!$A$2:$N$506,6,0))","v":"［イチバ］にむかう"},{"$f":"IF(B111=\"\",\"\",VLOOKUP(B111,漢字書き!$A$2:$N$506,6,0))","v":"［トショ］かんにいく"},{"$f":"IF(C111=\"\",\"\",VLOOKUP(C111,漢字書き!$A$2:$N$506,6,0))","v":"まっすぐな［セン］を引く"},{"$f":"IF(D111=\"\",\"\",VLOOKUP(D111,漢字書き!$A$2:$N$506,6,0))","v":"［ケイカク］を立てる"},{"$f":"IF(E111=\"\",\"\",VLOOKUP(E111,漢字書き!$A$2:$N$506,6,0))","v":"［ホソ］いひも"},{"$f":"IF(F111=\"\",\"\",VLOOKUP(F111,漢字書き!$A$2:$N$506,6,0))","v":"ふかい［タニ］"},{"$f":"IF(G111=\"\",\"\",VLOOKUP(G111,漢字書き!$A$2:$N$506,6,0))","v":"［ヒロ］い海"},{"$f":"IF(H111=\"\",\"\",VLOOKUP(H111,漢字書き!$A$2:$N$506,6,0))","v":"［ソト］であそぶ"},{"$f":"IF(I111=\"\",\"\",VLOOKUP(I111,漢字書き!$A$2:$N$506,6,0))","v":"［コウ］がいのない町"},{"$f":"IF(J111=\"\",\"\",VLOOKUP(J111,漢字書き!$A$2:$N$506,6,0))","v":"［カツ］やくする"},{"$f":"IF(K111=\"\",\"\",VLOOKUP(K111,漢字読み!$A$2:$O$506,6,0))","v":"えんそくが［中止］になる"},{"$f":"IF(L111=\"\",\"\",VLOOKUP(L111,漢字読み!$A$2:$O$506,6,0))","v":"みんなに［言］う"},{"$f":"IF(M111=\"\",\"\",VLOOKUP(M111,漢字読み!$A$2:$O$506,6,0))","v":"［室外］に出る       　"},{"$f":"IF(N111=\"\",\"\",VLOOKUP(N111,漢字読み!$A$2:$O$506,6,0))","v":"うまが［走］る"},{"$f":"IF(O111=\"\",\"\",VLOOKUP(O111,漢字読み!$A$2:$O$506,6,0))","v":"［戸］があいた"},{"$f":"IF(P111=\"\",\"\",VLOOKUP(P111,漢字読み!$A$2:$O$506,6,0))","v":"［時間］がすぎる 　　"},{"$f":"IF(Q111=\"\",\"\",VLOOKUP(Q111,漢字読み!$A$2:$O$506,6,0))","v":"［新］しいくつをはく"},{"$f":"IF(R111=\"\",\"\",VLOOKUP(R111,漢字読み!$A$2:$O$506,6,0))","v":"［顔］をあらう    "},{"$f":"IF(S111=\"\",\"\",VLOOKUP(S111,漢字読み!$A$2:$O$506,6,0))","v":"いっしょに［帰］る "},{"$f":"IF(T111=\"\",\"\",VLOOKUP(T111,漢字読み!$A$2:$O$506,6,0))","v":"［教］え合う　　   　"},null,"級"]
[{"$f":"IF(A$11=\"\",\"\",VLOOKUP(A111,漢字書き!$A$2:$O$506,8,0))","v":"市場"},{"$f":"IF(B$11=\"\",\"\",VLOOKUP(B111,漢字書き!$A$2:$O$506,8,0))","v":"図書"},{"$f":"IF(C$11=\"\",\"\",VLOOKUP(C111,漢字書き!$A$2:$O$506,8,0))","v":"線"},{"$f":"IF(D$11=\"\",\"\",VLOOKUP(D111,漢字書き!$A$2:$O$506,8,0))","v":"計画"},{"$f":"IF(E$11=\"\",\"\",VLOOKUP(E111,漢字書き!$A$2:$O$506,8,0))","v":"細"},{"$f":"IF(F$11=\"\",\"\",VLOOKUP(F111,漢字書き!$A$2:$O$506,8,0))","v":"谷"},{"$f":"IF(G$11=\"\",\"\",VLOOKUP(G111,漢字書き!$A$2:$O$506,8,0))","v":"広"},{"$f":"IF(H$11=\"\",\"\",VLOOKUP(H111,漢字書き!$A$2:$O$506,8,0))","v":"外"},{"$f":"IF(I$11=\"\",\"\",VLOOKUP(I111,漢字書き!$A$2:$O$506,8,0))","v":"公"},{"$f":"IF(J$11=\"\",\"\",VLOOKUP(J111,漢字書き!$A$2:$O$506,8,0))","v":"活"},{"$f":"IF(K$11=\"\",\"\",VLOOKUP(K111,漢字読み!$A$2:$O$506,8,0))","v":"ちゅうし"},{"$f":"IF(L$11=\"\",\"\",VLOOKUP(L111,漢字読み!$A$2:$O$506,8,0))","v":"い"},{"$f":"IF(M$11=\"\",\"\",VLOOKUP(M111,漢字読み!$A$2:$O$506,8,0))","v":"しつがい"},{"$f":"IF(N$11=\"\",\"\",VLOOKUP(N111,漢字読み!$A$2:$O$506,8,0))","v":"はし"},{"$f":"IF(O$11=\"\",\"\",VLOOKUP(O111,漢字読み!$A$2:$O$506,8,0))","v":"と"},{"$f":"IF(P$11=\"\",\"\",VLOOKUP(P111,漢字読み!$A$2:$O$506,8,0))","v":"じかん"},{"$f":"IF(Q$11=\"\",\"\",VLOOKUP(Q111,漢字読み!$A$2:$O$506,8,0))","v":"あたら"},{"$f":"IF(R$11=\"\",\"\",VLOOKUP(R111,漢字読み!$A$2:$O$506,8,0))","v":"かお"},{"$f":"IF(S$11=\"\",\"\",VLOOKUP(S111,漢字読み!$A$2:$O$506,8,0))","v":"かえ"},{"$f":"IF(T$11=\"\",\"\",VLOOKUP(T111,漢字読み!$A$2:$O$506,8,0))","v":"おし"},null,"名前"]
[{"$f":"IF(A111=\"\",\"\",IF(VLOOKUP(A111,漢字書き!$A$2:$N$502,7,0)=0,\"\",VLOOKUP(A111,漢字書き!$A$2:$N$502,7,0)))","v":""},{"$f":"IF(B111=\"\",\"\",IF(VLOOKUP(B111,漢字書き!$A$2:$N$502,7,0)=0,\"\",VLOOKUP(B111,漢字書き!$A$2:$N$502,7,0)))","v":"かん"},{"$f":"IF(C111=\"\",\"\",IF(VLOOKUP(C111,漢字書き!$A$2:$N$502,7,0)=0,\"\",VLOOKUP(C111,漢字書き!$A$2:$N$502,7,0)))","v":""},{"$f":"IF(D111=\"\",\"\",IF(VLOOKUP(D111,漢字書き!$A$2:$N$502,7,0)=0,\"\",VLOOKUP(D111,漢字書き!$A$2:$N$502,7,0)))","v":""},{"$f":"IF(E111=\"\",\"\",IF(VLOOKUP(E111,漢字書き!$A$2:$N$502,7,0)=0,\"\",VLOOKUP(E111,漢字書き!$A$2:$N$502,7,0)))","v":"い"},{"$f":"IF(F111=\"\",\"\",IF(VLOOKUP(F111,漢字書き!$A$2:$N$502,7,0)=0,\"\",VLOOKUP(F111,漢字書き!$A$2:$N$502,7,0)))","v":""},{"$f":"IF(G111=\"\",\"\",IF(VLOOKUP(G111,漢字書き!$A$2:$N$502,7,0)=0,\"\",VLOOKUP(G111,漢字書き!$A$2:$N$502,7,0)))","v":"い"},{"$f":"IF(H111=\"\",\"\",IF(VLOOKUP(H111,漢字書き!$A$2:$N$502,7,0)=0,\"\",VLOOKUP(H111,漢字書き!$A$2:$N$502,7,0)))","v":""},{"$f":"IF(I111=\"\",\"\",IF(VLOOKUP(I111,漢字書き!$A$2:$N$502,7,0)=0,\"\",VLOOKUP(I111,漢字書き!$A$2:$N$502,7,0)))","v":"がい"},{"$f":"IF(J111=\"\",\"\",IF(VLOOKUP(J111,漢字書き!$A$2:$N$502,7,0)=0,\"\",VLOOKUP(J111,漢字書き!$A$2:$N$502,7,0)))","v":"やく"},{"$f":"IF(K111=\"\",\"\",IF(VLOOKUP(K111,漢字読み!$A$2:$O$502,7,0)=0,\"\",VLOOKUP(K111,漢字読み!$A$2:$O$502,7,0)))","v":""},{"$f":"IF(L111=\"\",\"\",IF(VLOOKUP(L111,漢字読み!$A$2:$O$502,7,0)=0,\"\",VLOOKUP(L111,漢字読み!$A$2:$O$502,7,0)))","v":"う"},{"$f":"IF(M111=\"\",\"\",IF(VLOOKUP(M111,漢字読み!$A$2:$O$502,7,0)=0,\"\",VLOOKUP(M111,漢字読み!$A$2:$O$502,7,0)))","v":""},{"$f":"IF(N111=\"\",\"\",IF(VLOOKUP(N111,漢字読み!$A$2:$O$502,7,0)=0,\"\",VLOOKUP(N111,漢字読み!$A$2:$O$502,7,0)))","v":"る"},{"$f":"IF(O111=\"\",\"\",IF(VLOOKUP(O111,漢字読み!$A$2:$O$502,7,0)=0,\"\",VLOOKUP(O111,漢字読み!$A$2:$O$502,7,0)))","v":""},{"$f":"IF(P111=\"\",\"\",IF(VLOOKUP(P111,漢字読み!$A$2:$O$502,7,0)=0,\"\",VLOOKUP(P111,漢字読み!$A$2:$O$502,7,0)))","v":""},{"$f":"IF(Q111=\"\",\"\",IF(VLOOKUP(Q111,漢字読み!$A$2:$O$502,7,0)=0,\"\",VLOOKUP(Q111,漢字読み!$A$2:$O$502,7,0)))","v":"しい"},{"$f":"IF(R111=\"\",\"\",IF(VLOOKUP(R111,漢字読み!$A$2:$O$502,7,0)=0,\"\",VLOOKUP(R111,漢字読み!$A$2:$O$502,7,0)))","v":""},{"$f":"IF(S111=\"\",\"\",IF(VLOOKUP(S111,漢字読み!$A$2:$O$502,7,0)=0,\"\",VLOOKUP(S111,漢字読み!$A$2:$O$502,7,0)))","v":"る"},{"$f":"IF(T111=\"\",\"\",IF(VLOOKUP(T111,漢字読み!$A$2:$O$502,7,0)=0,\"\",VLOOKUP(T111,漢字読み!$A$2:$O$502,7,0)))","v":"え"},null,null,"和歌山県教育委員会"]
[{"$f":"A106","v":78},{"$f":"B106","v":84},{"$f":"C106","v":4},{"$f":"D106","v":12},{"$f":"E106","v":69},{"$f":"F106","v":36},{"$f":"G106","v":32},{"$f":"H106","v":106},{"$f":"I106","v":14},{"$f":"J106","v":48},{"$f":"K106","v":122},{"$f":"L106","v":56},{"$f":"M106","v":116},{"$f":"N106","v":22},{"$f":"O106","v":123},{"$f":"P106","v":3},{"$f":"Q106","v":16},{"$f":"R106","v":80},{"$f":"S106","v":107},{"$f":"T106","v":1}]
["⑳","⑲","⑱","⑰","⑯","⑮","⑭","⑬","⑫","⑪","⑩","⑨","⑧","⑦","⑥","⑤","④","③","②","①","次の［　　　　］の部分の漢字には読みがなをひらがなで書き、カタカナは漢字に直しなさい。",14,"「漢字の博士検定試験」練習問題　"]
[{"$f":"IF(A116=\"\",\"\",VLOOKUP(A116,漢字書き!$A$2:$N$506,6,0))","v":"［ト］をあける"},{"$f":"IF(B116=\"\",\"\",VLOOKUP(B116,漢字書き!$A$2:$N$506,6,0))","v":"［サンスウ］のもんだい"},{"$f":"IF(C116=\"\",\"\",VLOOKUP(C116,漢字書き!$A$2:$N$506,6,0))","v":"［コウエン］であそぶ"},{"$f":"IF(D116=\"\",\"\",VLOOKUP(D116,漢字書き!$A$2:$N$506,6,0))","v":"日本の［コッカ］"},{"$f":"IF(E116=\"\",\"\",VLOOKUP(E116,漢字書き!$A$2:$N$506,6,0))","v":"［キイロ］のクレヨン"},{"$f":"IF(F116=\"\",\"\",VLOOKUP(F116,漢字書き!$A$2:$N$506,6,0))","v":"［キョウ］のみやこ"},{"$f":"IF(G116=\"\",\"\",VLOOKUP(G116,漢字書き!$A$2:$N$506,6,0))","v":"［ユミ］の名人"},{"$f":"IF(H116=\"\",\"\",VLOOKUP(H116,漢字書き!$A$2:$N$506,6,0))","v":"うんどう［ジョウ］であそぶ"},{"$f":"IF(I116=\"\",\"\",VLOOKUP(I116,漢字書き!$A$2:$N$506,6,0))","v":"ゆうめいな［ガカ］"},{"$f":"IF(J116=\"\",\"\",VLOOKUP(J116,漢字書き!$A$2:$N$506,6,0))","v":"［ゲンゴ］のちがいをしる"},{"$f":"IF(K116=\"\",\"\",VLOOKUP(K116,漢字読み!$A$2:$O$506,6,0))","v":"［広場］でサッカーをする"},{"$f":"IF(L116=\"\",\"\",VLOOKUP(L116,漢字読み!$A$2:$O$506,6,0))","v":"［足元］におとす"},{"$f":"IF(M116=\"\",\"\",VLOOKUP(M116,漢字読み!$A$2:$O$506,6,0))","v":"［先週］はさむかった"},{"$f":"IF(N116=\"\",\"\",VLOOKUP(N116,漢字読み!$A$2:$O$506,6,0))","v":"［絵］をかく     　"},{"$f":"IF(O116=\"\",\"\",VLOOKUP(O116,漢字読み!$A$2:$O$506,6,0))","v":"［色紙］にサインをする"},{"$f":"IF(P116=\"\",\"\",VLOOKUP(P116,漢字読み!$A$2:$O$506,6,0))","v":"まほうの［羽］"},{"$f":"IF(Q116=\"\",\"\",VLOOKUP(Q116,漢字読み!$A$2:$O$506,6,0))","v":"かん字の［画数］ 　"},{"$f":"IF(R116=\"\",\"\",VLOOKUP(R116,漢字読み!$A$2:$O$506,6,0))","v":"［高］い山にのぼる      "},{"$f":"IF(S116=\"\",\"\",VLOOKUP(S116,漢字読み!$A$2:$O$506,6,0))","v":"［時間］がたつ      "},{"$f":"IF(T116=\"\",\"\",VLOOKUP(T116,漢字読み!$A$2:$O$506,6,0))","v":"［引力］がはたらく"},null,"級"]
[{"$f":"IF(A$16=\"\",\"\",VLOOKUP(A116,漢字書き!$A$2:$O$506,8,0))","v":"戸"},{"$f":"IF(B$16=\"\",\"\",VLOOKUP(B116,漢字書き!$A$2:$O$506,8,0))","v":"算数"},{"$f":"IF(C$16=\"\",\"\",VLOOKUP(C116,漢字書き!$A$2:$O$506,8,0))","v":"公園"},{"$f":"IF(D$16=\"\",\"\",VLOOKUP(D116,漢字書き!$A$2:$O$506,8,0))","v":"国家"},{"$f":"IF(E$16=\"\",\"\",VLOOKUP(E116,漢字書き!$A$2:$O$506,8,0))","v":"黄色"},{"$f":"IF(F$16=\"\",\"\",VLOOKUP(F116,漢字書き!$A$2:$O$506,8,0))","v":"京"},{"$f":"IF(G$16=\"\",\"\",VLOOKUP(G116,漢字書き!$A$2:$O$506,8,0))","v":"弓"},{"$f":"IF(H$16=\"\",\"\",VLOOKUP(H116,漢字書き!$A$2:$O$506,8,0))","v":"場"},{"$f":"IF(I$16=\"\",\"\",VLOOKUP(I116,漢字書き!$A$2:$O$506,8,0))","v":"画家"},{"$f":"IF(J$16=\"\",\"\",VLOOKUP(J116,漢字書き!$A$2:$O$506,8,0))","v":"言語"},{"$f":"IF(K$16=\"\",\"\",VLOOKUP(K116,漢字読み!$A$2:$O$506,8,0))","v":"ひろば"},{"$f":"IF(L$16=\"\",\"\",VLOOKUP(L116,漢字読み!$A$2:$O$506,8,0))","v":"あしもと"},{"$f":"IF(M$16=\"\",\"\",VLOOKUP(M116,漢字読み!$A$2:$O$506,8,0))","v":"せんしゅう"},{"$f":"IF(N$16=\"\",\"\",VLOOKUP(N116,漢字読み!$A$2:$O$506,8,0))","v":"え"},{"$f":"IF(O$16=\"\",\"\",VLOOKUP(O116,漢字読み!$A$2:$O$506,8,0))","v":"しきし"},{"$f":"IF(P$16=\"\",\"\",VLOOKUP(P116,漢字読み!$A$2:$O$506,8,0))","v":"はね"},{"$f":"IF(Q$16=\"\",\"\",VLOOKUP(Q116,漢字読み!$A$2:$O$506,8,0))","v":"かくすう"},{"$f":"IF(R$16=\"\",\"\",VLOOKUP(R116,漢字読み!$A$2:$O$506,8,0))","v":"たか"},{"$f":"IF(S$16=\"\",\"\",VLOOKUP(S116,漢字読み!$A$2:$O$506,8,0))","v":"じかん"},{"$f":"IF(T$16=\"\",\"\",VLOOKUP(T116,漢字読み!$A$2:$O$506,8,0))","v":"いんりょく"},null,"名前"]
[{"$f":"IF(A116=\"\",\"\",IF(VLOOKUP(A116,漢字書き!$A$2:$N$502,7,0)=0,\"\",VLOOKUP(A116,漢字書き!$A$2:$N$502,7,0)))","v":""},{"$f":"IF(B116=\"\",\"\",IF(VLOOKUP(B116,漢字書き!$A$2:$N$502,7,0)=0,\"\",VLOOKUP(B116,漢字書き!$A$2:$N$502,7,0)))","v":""},{"$f":"IF(C116=\"\",\"\",IF(VLOOKUP(C116,漢字書き!$A$2:$N$502,7,0)=0,\"\",VLOOKUP(C116,漢字書き!$A$2:$N$502,7,0)))","v":""},{"$f":"IF(D116=\"\",\"\",IF(VLOOKUP(D116,漢字書き!$A$2:$N$502,7,0)=0,\"\",VLOOKUP(D116,漢字書き!$A$2:$N$502,7,0)))","v":""},{"$f":"IF(E116=\"\",\"\",IF(VLOOKUP(E116,漢字書き!$A$2:$N$502,7,0)=0,\"\",VLOOKUP(E116,漢字書き!$A$2:$N$502,7,0)))","v":""},{"$f":"IF(F116=\"\",\"\",IF(VLOOKUP(F116,漢字書き!$A$2:$N$502,7,0)=0,\"\",VLOOKUP(F116,漢字書き!$A$2:$N$502,7,0)))","v":""},{"$f":"IF(G116=\"\",\"\",IF(VLOOKUP(G116,漢字書き!$A$2:$N$502,7,0)=0,\"\",VLOOKUP(G116,漢字書き!$A$2:$N$502,7,0)))","v":""},{"$f":"IF(H116=\"\",\"\",IF(VLOOKUP(H116,漢字書き!$A$2:$N$502,7,0)=0,\"\",VLOOKUP(H116,漢字書き!$A$2:$N$502,7,0)))","v":""},{"$f":"IF(I116=\"\",\"\",IF(VLOOKUP(I116,漢字書き!$A$2:$N$502,7,0)=0,\"\",VLOOKUP(I116,漢字書き!$A$2:$N$502,7,0)))","v":""},{"$f":"IF(J116=\"\",\"\",IF(VLOOKUP(J116,漢字書き!$A$2:$N$502,7,0)=0,\"\",VLOOKUP(J116,漢字書き!$A$2:$N$502,7,0)))","v":""},{"$f":"IF(K116=\"\",\"\",IF(VLOOKUP(K116,漢字読み!$A$2:$O$502,7,0)=0,\"\",VLOOKUP(K116,漢字読み!$A$2:$O$502,7,0)))","v":""},{"$f":"IF(L116=\"\",\"\",IF(VLOOKUP(L116,漢字読み!$A$2:$O$502,7,0)=0,\"\",VLOOKUP(L116,漢字読み!$A$2:$O$502,7,0)))","v":""},{"$f":"IF(M116=\"\",\"\",IF(VLOOKUP(M116,漢字読み!$A$2:$O$502,7,0)=0,\"\",VLOOKUP(M116,漢字読み!$A$2:$O$502,7,0)))","v":""},{"$f":"IF(N116=\"\",\"\",IF(VLOOKUP(N116,漢字読み!$A$2:$O$502,7,0)=0,\"\",VLOOKUP(N116,漢字読み!$A$2:$O$502,7,0)))","v":"　"},{"$f":"IF(O116=\"\",\"\",IF(VLOOKUP(O116,漢字読み!$A$2:$O$502,7,0)=0,\"\",VLOOKUP(O116,漢字読み!$A$2:$O$502,7,0)))","v":""},{"$f":"IF(P116=\"\",\"\",IF(VLOOKUP(P116,漢字読み!$A$2:$O$502,7,0)=0,\"\",VLOOKUP(P116,漢字読み!$A$2:$O$502,7,0)))","v":""},{"$f":"IF(Q116=\"\",\"\",IF(VLOOKUP(Q116,漢字読み!$A$2:$O$502,7,0)=0,\"\",VLOOKUP(Q116,漢字読み!$A$2:$O$502,7,0)))","v":""},{"$f":"IF(R116=\"\",\"\",IF(VLOOKUP(R116,漢字読み!$A$2:$O$502,7,0)=0,\"\",VLOOKUP(R116,漢字読み!$A$2:$O$502,7,0)))","v":"い"},{"$f":"IF(S116=\"\",\"\",IF(VLOOKUP(S116,漢字読み!$A$2:$O$502,7,0)=0,\"\",VLOOKUP(S116,漢字読み!$A$2:$O$502,7,0)))","v":""},{"$f":"IF(T116=\"\",\"\",IF(VLOOKUP(T116,漢字読み!$A$2:$O$502,7,0)=0,\"\",VLOOKUP(T116,漢字読み!$A$2:$O$502,7,0)))","v":""},null,null,"和歌山県教育委員会"]
[{"$f":"INDIRECT(\"'関数（書き）'!C\" & COLUMN(B$1)+SUM($AD$2:$AD122))","v":49},{"$f":"INDIRECT(\"'関数（書き）'!C\" & COLUMN(C$1)+SUM($AD$2:$AD122))","v":51},{"$f":"INDIRECT(\"'関数（書き）'!C\" & COLUMN(D$1)+SUM($AD$2:$AD122))","v":76},{"$f":"INDIRECT(\"'関数（書き）'!C\" & COLUMN(E$1)+SUM($AD$2:$AD122))","v":71},{"$f":"INDIRECT(\"'関数（書き）'!C\" & COLUMN(F$1)+SUM($AD$2:$AD122))","v":119},{"$f":"INDIRECT(\"'関数（書き）'!C\" & COLUMN(G$1)+SUM($AD$2:$AD122))","v":114},{"$f":"INDIRECT(\"'関数（書き）'!C\" & COLUMN(H$1)+SUM($AD$2:$AD122))","v":60},{"$f":"INDIRECT(\"'関数（書き）'!C\" & COLUMN(I$1)+SUM($AD$2:$AD122))","v":128},{"$f":"INDIRECT(\"'関数（書き）'!C\" & COLUMN(J$1)+SUM($AD$2:$AD122))","v":66},{"$f":"INDIRECT(\"'関数（書き）'!C\" & COLUMN(K$1)+SUM($AD$2:$AD122))","v":124},{"$f":"INDIRECT(\"'関数（読み）'!C\" & COLUMN(B$1)+SUM($AD$2:$AD122))","v":118},{"$f":"INDIRECT(\"'関数（読み）'!C\" & COLUMN(C$1)+SUM($AD$2:$AD122))","v":28},{"$f":"INDIRECT(\"'関数（読み）'!C\" & COLUMN(D$1)+SUM($AD$2:$AD122))","v":37},{"$f":"INDIRECT(\"'関数（読み）'!C\" & COLUMN(E$1)+SUM($AD$2:$AD122))","v":112},{"$f":"INDIRECT(\"'関数（読み）'!C\" & COLUMN(F$1)+SUM($AD$2:$AD122))","v":145},{"$f":"INDIRECT(\"'関数（読み）'!C\" & COLUMN(G$1)+SUM($AD$2:$AD122))","v":142},{"$f":"INDIRECT(\"'関数（読み）'!C\" & COLUMN(H$1)+SUM($AD$2:$AD122))","v":51},{"$f":"INDIRECT(\"'関数（読み）'!C\" & COLUMN(I$1)+SUM($AD$2:$AD122))","v":15},{"$f":"INDIRECT(\"'関数（読み）'!C\" & COLUMN(J$1)+SUM($AD$2:$AD122))","v":83},{"$f":"INDIRECT(\"'関数（読み）'!C\" & COLUMN(K$1)+SUM($AD$2:$AD122))","v":106}]
["⑳","⑲","⑱","⑰","⑯","⑮","⑭","⑬","⑫","⑪","⑩","⑨","⑧","⑦","⑥","⑤","④","③","②","①","次の［　　　　］の部分の漢字には読みがなをひらがなで書き、カタカナは漢字に直しなさい。",14,"「漢字の博士検定試験」練習問題　",null,null,null,null,null,"←",10,"問",{"$f":"AH107+1","v":121},"～",{"$f":"SUM($AD$2:$AD122)+10","v":130},"問まで",{"$f":"COUNTIF($A$1:$T$200,T123)","v":2}]
[{"$f":"IF(A121=\"\",\"\",VLOOKUP(A121,漢字書き!$A$2:$N$506,6,0))","v":"いけんを［イ］う"},{"$f":"IF(B121=\"\",\"\",VLOOKUP(B121,漢字書き!$A$2:$N$506,6,0))","v":"［ト］をあける"},{"$f":"IF(C121=\"\",\"\",VLOOKUP(C121,漢字書き!$A$2:$N$506,6,0))","v":"［イマ］ついたところです"},{"$f":"IF(D121=\"\",\"\",VLOOKUP(D121,漢字書き!$A$2:$N$506,6,0))","v":"二つを［ア］わせる"},{"$f":"IF(E121=\"\",\"\",VLOOKUP(E121,漢字書き!$A$2:$N$506,6,0))","v":"［ホシ］がかがやく"},{"$f":"IF(F121=\"\",\"\",VLOOKUP(F121,漢字書き!$A$2:$N$506,6,0))","v":"［ズコウ］の時間"},{"$f":"IF(G121=\"\",\"\",VLOOKUP(G121,漢字書き!$A$2:$N$506,6,0))","v":"［ヒロバ］であそぶ"},{"$f":"IF(H121=\"\",\"\",VLOOKUP(H121,漢字書き!$A$2:$N$506,6,0))","v":"二年［ヨンクミ］"},{"$f":"IF(I121=\"\",\"\",VLOOKUP(I121,漢字書き!$A$2:$N$506,6,0))","v":"［ギョウ］じにさんかする"},{"$f":"IF(J121=\"\",\"\",VLOOKUP(J121,漢字書き!$A$2:$N$506,6,0))","v":"［ユキ］がふる"},{"$f":"IF(K121=\"\",\"\",VLOOKUP(K121,漢字読み!$A$2:$O$506,6,0))","v":"［春］ぶんの日"},{"$f":"IF(L121=\"\",\"\",VLOOKUP(L121,漢字読み!$A$2:$O$506,6,0))","v":"［音楽］をきく"},{"$f":"IF(M121=\"\",\"\",VLOOKUP(M121,漢字読み!$A$2:$O$506,6,0))","v":"［汽車］にのる 　　"},{"$f":"IF(N121=\"\",\"\",VLOOKUP(N121,漢字読み!$A$2:$O$506,6,0))","v":"［首］かざり"},{"$f":"IF(O121=\"\",\"\",VLOOKUP(O121,漢字読み!$A$2:$O$506,6,0))","v":"えだを［切］る       "},{"$f":"IF(P121=\"\",\"\",VLOOKUP(P121,漢字読み!$A$2:$O$506,6,0))","v":"きれいな［星空］     "},{"$f":"IF(Q121=\"\",\"\",VLOOKUP(Q121,漢字読み!$A$2:$O$506,6,0))","v":"［近］いおみせ"},{"$f":"IF(R121=\"\",\"\",VLOOKUP(R121,漢字読み!$A$2:$O$506,6,0))","v":"［図画］がすきだ"},{"$f":"IF(S121=\"\",\"\",VLOOKUP(S121,漢字読み!$A$2:$O$506,6,0))","v":"［谷］にふくかぜ"},{"$f":"IF(T121=\"\",\"\",VLOOKUP(T121,漢字読み!$A$2:$O$506,6,0))","v":"［時］がすぎる"},null,"級"]
[null,null,null,null,null,null,null,null,null,null,null,null,null,null,null,null,null,null,null,null,null,"名前"]
[{"$f":"IF(A121=\"\",\"\",IF(VLOOKUP(A121,漢字書き!$A$2:$N$502,7,0)=0,\"\",VLOOKUP(A121,漢字書き!$A$2:$N$502,7,0)))","v":"う"},{"$f":"IF(B121=\"\",\"\",IF(VLOOKUP(B121,漢字書き!$A$2:$N$502,7,0)=0,\"\",VLOOKUP(B121,漢字書き!$A$2:$N$502,7,0)))","v":""},{"$f":"IF(C121=\"\",\"\",IF(VLOOKUP(C121,漢字書き!$A$2:$N$502,7,0)=0,\"\",VLOOKUP(C121,漢字書き!$A$2:$N$502,7,0)))","v":""},{"$f":"IF(D121=\"\",\"\",IF(VLOOKUP(D121,漢字書き!$A$2:$N$502,7,0)=0,\"\",VLOOKUP(D121,漢字書き!$A$2:$N$502,7,0)))","v":"わせる"},{"$f":"IF(E121=\"\",\"\",IF(VLOOKUP(E121,漢字書き!$A$2:$N$502,7,0)=0,\"\",VLOOKUP(E121,漢字書き!$A$2:$N$502,7,0)))","v":""},{"$f":"IF(F121=\"\",\"\",IF(VLOOKUP(F121,漢字書き!$A$2:$N$502,7,0)=0,\"\",VLOOKUP(F121,漢字書き!$A$2:$N$502,7,0)))","v":""},{"$f":"IF(G121=\"\",\"\",IF(VLOOKUP(G121,漢字書き!$A$2:$N$502,7,0)=0,\"\",VLOOKUP(G121,漢字書き!$A$2:$N$502,7,0)))","v":""},{"$f":"IF(H121=\"\",\"\",IF(VLOOKUP(H121,漢字書き!$A$2:$N$502,7,0)=0,\"\",VLOOKUP(H121,漢字書き!$A$2:$N$502,7,0)))","v":""},{"$f":"IF(I121=\"\",\"\",IF(VLOOKUP(I121,漢字書き!$A$2:$N$502,7,0)=0,\"\",VLOOKUP(I121,漢字書き!$A$2:$N$502,7,0)))","v":"じ"},{"$f":"IF(J121=\"\",\"\",IF(VLOOKUP(J121,漢字書き!$A$2:$N$502,7,0)=0,\"\",VLOOKUP(J121,漢字書き!$A$2:$N$502,7,0)))","v":""},{"$f":"IF(K121=\"\",\"\",IF(VLOOKUP(K121,漢字読み!$A$2:$O$502,7,0)=0,\"\",VLOOKUP(K121,漢字読み!$A$2:$O$502,7,0)))","v":"ぶん"},{"$f":"IF(L121=\"\",\"\",IF(VLOOKUP(L121,漢字読み!$A$2:$O$502,7,0)=0,\"\",VLOOKUP(L121,漢字読み!$A$2:$O$502,7,0)))","v":""},{"$f":"IF(M121=\"\",\"\",IF(VLOOKUP(M121,漢字読み!$A$2:$O$502,7,0)=0,\"\",VLOOKUP(M121,漢字読み!$A$2:$O$502,7,0)))","v":""},{"$f":"IF(N121=\"\",\"\",IF(VLOOKUP(N121,漢字読み!$A$2:$O$502,7,0)=0,\"\",VLOOKUP(N121,漢字読み!$A$2:$O$502,7,0)))","v":""},{"$f":"IF(O121=\"\",\"\",IF(VLOOKUP(O121,漢字読み!$A$2:$O$502,7,0)=0,\"\",VLOOKUP(O121,漢字読み!$A$2:$O$502,7,0)))","v":"る"},{"$f":"IF(P121=\"\",\"\",IF(VLOOKUP(P121,漢字読み!$A$2:$O$502,7,0)=0,\"\",VLOOKUP(P121,漢字読み!$A$2:$O$502,7,0)))","v":""},{"$f":"IF(Q121=\"\",\"\",IF(VLOOKUP(Q121,漢字読み!$A$2:$O$502,7,0)=0,\"\",VLOOKUP(Q121,漢字読み!$A$2:$O$502,7,0)))","v":"い"},{"$f":"IF(R121=\"\",\"\",IF(VLOOKUP(R121,漢字読み!$A$2:$O$502,7,0)=0,\"\",VLOOKUP(R121,漢字読み!$A$2:$O$502,7,0)))","v":""},{"$f":"IF(S121=\"\",\"\",IF(VLOOKUP(S121,漢字読み!$A$2:$O$502,7,0)=0,\"\",VLOOKUP(S121,漢字読み!$A$2:$O$502,7,0)))","v":""},{"$f":"IF(T121=\"\",\"\",IF(VLOOKUP(T121,漢字読み!$A$2:$O$502,7,0)=0,\"\",VLOOKUP(T121,漢字読み!$A$2:$O$502,7,0)))","v":""},null,null,"和歌山県教育委員会"]
[{"$f":"INDIRECT(\"'関数（書き）'!C\" & COLUMN(B$1)+SUM($AD$2:$AD127))","v":18},{"$f":"INDIRECT(\"'関数（書き）'!C\" & COLUMN(C$1)+SUM($AD$2:$AD127))","v":0},{"$f":"INDIRECT(\"'関数（書き）'!C\" & COLUMN(D$1)+SUM($AD$2:$AD127))","v":0},{"$f":"INDIRECT(\"'関数（書き）'!C\" & COLUMN(E$1)+SUM($AD$2:$AD127))","v":0},{"$f":"INDIRECT(\"'関数（書き）'!C\" & COLUMN(F$1)+SUM($AD$2:$AD127))","v":0},{"$f":"INDIRECT(\"'関数（書き）'!C\" & COLUMN(G$1)+SUM($AD$2:$AD127))","v":0},{"$f":"INDIRECT(\"'関数（書き）'!C\" & COLUMN(H$1)+SUM($AD$2:$AD127))","v":0},{"$f":"INDIRECT(\"'関数（書き）'!C\" & COLUMN(I$1)+SUM($AD$2:$AD127))","v":0},{"$f":"INDIRECT(\"'関数（書き）'!C\" & COLUMN(J$1)+SUM($AD$2:$AD127))","v":0},{"$f":"INDIRECT(\"'関数（書き）'!C\" & COLUMN(K$1)+SUM($AD$2:$AD127))","v":0},{"$f":"INDIRECT(\"'関数（読み）'!C\" & COLUMN(B$1)+SUM($AD$2:$AD127))","v":67},{"$f":"INDIRECT(\"'関数（読み）'!C\" & COLUMN(C$1)+SUM($AD$2:$AD127))","v":129},{"$f":"INDIRECT(\"'関数（読み）'!C\" & COLUMN(D$1)+SUM($AD$2:$AD127))","v":8},{"$f":"INDIRECT(\"'関数（読み）'!C\" & COLUMN(E$1)+SUM($AD$2:$AD127))","v":105},{"$f":"INDIRECT(\"'関数（読み）'!C\" & COLUMN(F$1)+SUM($AD$2:$AD127))","v":21},{"$f":"INDIRECT(\"'関数（読み）'!C\" & COLUMN(G$1)+SUM($AD$2:$AD127))","v":141},{"$f":"INDIRECT(\"'関数（読み）'!C\" & COLUMN(H$1)+SUM($AD$2:$AD127))","v":71},{"$f":"INDIRECT(\"'関数（読み）'!C\" & COLUMN(I$1)+SUM($AD$2:$AD127))","v":93},{"$f":"INDIRECT(\"'関数（読み）'!C\" & COLUMN(J$1)+SUM($AD$2:$AD127))","v":133},{"$f":"INDIRECT(\"'関数（読み）'!C\" & COLUMN(K$1)+SUM($AD$2:$AD127))","v":91}]
["⑳","⑲","⑱","⑰","⑯","⑮","⑭","⑬","⑫","⑪","⑩","⑨","⑧","⑦","⑥","⑤","④","③","②","①","次の［　　　　］の部分の漢字には読みがなをひらがなで書き、カタカナは漢字に直しなさい。",14,"「漢字の博士検定試験」練習問題　",null,null,null,null,null,"←",10,"問",{"$f":"AH122+1","v":131},"～",{"$f":"SUM($AD$2:$AD127)+10","v":140},"問まで",{"$f":"COUNTIF($A$1:$T$200,T128)","v":2}]
[{"$f":"IF(A126=\"\",\"\",VLOOKUP(A126,漢字書き!$A$2:$N$506,6,0))","v":"［ウミ］でおよぐ"},{"$f":"IF(B126=\"\",\"\",VLOOKUP(B126,漢字書き!$A$2:$N$506,6,0))","v":{"$error":"#N/A"}},{"$f":"IF(C126=\"\",\"\",VLOOKUP(C126,漢字書き!$A$2:$N$506,6,0))","v":{"$error":"#N/A"}},{"$f":"IF(D126=\"\",\"\",VLOOKUP(D126,漢字書き!$A$2:$N$506,6,0))","v":{"$error":"#N/A"}},{"$f":"IF(E126=\"\",\"\",VLOOKUP(E126,漢字書き!$A$2:$N$506,6,0))","v":{"$error":"#N/A"}},{"$f":"IF(F126=\"\",\"\",VLOOKUP(F126,漢字書き!$A$2:$N$506,6,0))","v":{"$error":"#N/A"}},{"$f":"IF(G126=\"\",\"\",VLOOKUP(G126,漢字書き!$A$2:$N$506,6,0))","v":{"$error":"#N/A"}},{"$f":"IF(H126=\"\",\"\",VLOOKUP(H126,漢字書き!$A$2:$N$506,6,0))","v":{"$error":"#N/A"}},{"$f":"IF(I126=\"\",\"\",VLOOKUP(I126,漢字書き!$A$2:$N$506,6,0))","v":{"$error":"#N/A"}},{"$f":"IF(J126=\"\",\"\",VLOOKUP(J126,漢字書き!$A$2:$N$506,6,0))","v":{"$error":"#N/A"}},{"$f":"IF(K126=\"\",\"\",VLOOKUP(K126,漢字読み!$A$2:$O$506,6,0))","v":"むかしばなしを［語］る"},{"$f":"IF(L126=\"\",\"\",VLOOKUP(L126,漢字読み!$A$2:$O$506,6,0))","v":"［新年］のおいわい"},{"$f":"IF(M126=\"\",\"\",VLOOKUP(M126,漢字読み!$A$2:$O$506,6,0))","v":"今、［何時］ですか"},{"$f":"IF(N126=\"\",\"\",VLOOKUP(N126,漢字読み!$A$2:$O$506,6,0))","v":"［自］こしょうかいをする"},{"$f":"IF(O126=\"\",\"\",VLOOKUP(O126,漢字読み!$A$2:$O$506,6,0))","v":"［海］にうかぶボート  　"},{"$f":"IF(P126=\"\",\"\",VLOOKUP(P126,漢字読み!$A$2:$O$506,6,0))","v":"［星］のかがやき"},{"$f":"IF(Q126=\"\",\"\",VLOOKUP(Q126,漢字読み!$A$2:$O$506,6,0))","v":"［広場］であそぶ"},{"$f":"IF(R126=\"\",\"\",VLOOKUP(R126,漢字読み!$A$2:$O$506,6,0))","v":"かけ［算］のれんしゅう"},{"$f":"IF(S126=\"\",\"\",VLOOKUP(S126,漢字読み!$A$2:$O$506,6,0))","v":"ライオンの［親子］　　　"},{"$f":"IF(T126=\"\",\"\",VLOOKUP(T126,漢字読み!$A$2:$O$506,6,0))","v":"［作文］をよむ         "},null,"級"]
[null,null,null,null,null,null,null,null,null,null,null,null,null,null,null,null,null,null,null,null,null,"名前"]
[{"$f":"IF(A126=\"\",\"\",IF(VLOOKUP(A126,漢字書き!$A$2:$N$502,7,0)=0,\"\",VLOOKUP(A126,漢字書き!$A$2:$N$502,7,0)))","v":""},{"$f":"IF(B126=\"\",\"\",IF(VLOOKUP(B126,漢字書き!$A$2:$N$502,7,0)=0,\"\",VLOOKUP(B126,漢字書き!$A$2:$N$502,7,0)))","v":{"$error":"#N/A"}},{"$f":"IF(C126=\"\",\"\",IF(VLOOKUP(C126,漢字書き!$A$2:$N$502,7,0)=0,\"\",VLOOKUP(C126,漢字書き!$A$2:$N$502,7,0)))","v":{"$error":"#N/A"}},{"$f":"IF(D126=\"\",\"\",IF(VLOOKUP(D126,漢字書き!$A$2:$N$502,7,0)=0,\"\",VLOOKUP(D126,漢字書き!$A$2:$N$502,7,0)))","v":{"$error":"#N/A"}},{"$f":"IF(E126=\"\",\"\",IF(VLOOKUP(E126,漢字書き!$A$2:$N$502,7,0)=0,\"\",VLOOKUP(E126,漢字書き!$A$2:$N$502,7,0)))","v":{"$error":"#N/A"}},{"$f":"IF(F126=\"\",\"\",IF(VLOOKUP(F126,漢字書き!$A$2:$N$502,7,0)=0,\"\",VLOOKUP(F126,漢字書き!$A$2:$N$502,7,0)))","v":{"$error":"#N/A"}},{"$f":"IF(G126=\"\",\"\",IF(VLOOKUP(G126,漢字書き!$A$2:$N$502,7,0)=0,\"\",VLOOKUP(G126,漢字書き!$A$2:$N$502,7,0)))","v":{"$error":"#N/A"}},{"$f":"IF(H126=\"\",\"\",IF(VLOOKUP(H126,漢字書き!$A$2:$N$502,7,0)=0,\"\",VLOOKUP(H126,漢字書き!$A$2:$N$502,7,0)))","v":{"$error":"#N/A"}},{"$f":"IF(I126=\"\",\"\",IF(VLOOKUP(I126,漢字書き!$A$2:$N$502,7,0)=0,\"\",VLOOKUP(I126,漢字書き!$A$2:$N$502,7,0)))","v":{"$error":"#N/A"}},{"$f":"IF(J126=\"\",\"\",IF(VLOOKUP(J126,漢字書き!$A$2:$N$502,7,0)=0,\"\",VLOOKUP(J126,漢字書き!$A$2:$N$502,7,0)))","v":{"$error":"#N/A"}},{"$f":"IF(K126=\"\",\"\",IF(VLOOKUP(K126,漢字読み!$A$2:$O$502,7,0)=0,\"\",VLOOKUP(K126,漢字読み!$A$2:$O$502,7,0)))","v":"る"},{"$f":"IF(L126=\"\",\"\",IF(VLOOKUP(L126,漢字読み!$A$2:$O$502,7,0)=0,\"\",VLOOKUP(L126,漢字読み!$A$2:$O$502,7,0)))","v":""},{"$f":"IF(M126=\"\",\"\",IF(VLOOKUP(M126,漢字読み!$A$2:$O$502,7,0)=0,\"\",VLOOKUP(M126,漢字読み!$A$2:$O$502,7,0)))","v":""},{"$f":"IF(N126=\"\",\"\",IF(VLOOKUP(N126,漢字読み!$A$2:$O$502,7,0)=0,\"\",VLOOKUP(N126,漢字読み!$A$2:$O$502,7,0)))","v":"こしょうかい"},{"$f":"IF(O126=\"\",\"\",IF(VLOOKUP(O126,漢字読み!$A$2:$O$502,7,0)=0,\"\",VLOOKUP(O126,漢字読み!$A$2:$O$502,7,0)))","v":""},{"$f":"IF(P126=\"\",\"\",IF(VLOOKUP(P126,漢字読み!$A$2:$O$502,7,0)=0,\"\",VLOOKUP(P126,漢字読み!$A$2:$O$502,7,0)))","v":""},{"$f":"IF(Q126=\"\",\"\",IF(VLOOKUP(Q126,漢字読み!$A$2:$O$502,7,0)=0,\"\",VLOOKUP(Q126,漢字読み!$A$2:$O$502,7,0)))","v":""},{"$f":"IF(R126=\"\",\"\",IF(VLOOKUP(R126,漢字読み!$A$2:$O$502,7,0)=0,\"\",VLOOKUP(R126,漢字読み!$A$2:$O$502,7,0)))","v":""},{"$f":"IF(S126=\"\",\"\",IF(VLOOKUP(S126,漢字読み!$A$2:$O$502,7,0)=0,\"\",VLOOKUP(S126,漢字読み!$A$2:$O$502,7,0)))","v":""},{"$f":"IF(T126=\"\",\"\",IF(VLOOKUP(T126,漢字読み!$A$2:$O$502,7,0)=0,\"\",VLOOKUP(T126,漢字読み!$A$2:$O$502,7,0)))","v":""},null,null,"和歌山県教育委員会"]
[{"$f":"A121","v":49},{"$f":"B121","v":51},{"$f":"C121","v":76},{"$f":"D121","v":71},{"$f":"E121","v":119},{"$f":"F121","v":114},{"$f":"G121","v":60},{"$f":"H121","v":128},{"$f":"I121","v":66},{"$f":"J121","v":124},{"$f":"K121","v":118},{"$f":"L121","v":28},{"$f":"M121","v":37},{"$f":"N121","v":112},{"$f":"O121","v":145},{"$f":"P121","v":142},{"$f":"Q121","v":51},{"$f":"R121","v":15},{"$f":"S121","v":83},{"$f":"T121","v":106}]
["⑳","⑲","⑱","⑰","⑯","⑮","⑭","⑬","⑫","⑪","⑩","⑨","⑧","⑦","⑥","⑤","④","③","②","①","次の［　　　　］の部分の漢字には読みがなをひらがなで書き、カタカナは漢字に直しなさい。",14,"「漢字の博士検定試験」練習問題　"]
[{"$f":"IF(A131=\"\",\"\",VLOOKUP(A131,漢字書き!$A$2:$N$506,6,0))","v":"いけんを［イ］う"},{"$f":"IF(B131=\"\",\"\",VLOOKUP(B131,漢字書き!$A$2:$N$506,6,0))","v":"［ト］をあける"},{"$f":"IF(C131=\"\",\"\",VLOOKUP(C131,漢字書き!$A$2:$N$506,6,0))","v":"［イマ］ついたところです"},{"$f":"IF(D131=\"\",\"\",VLOOKUP(D131,漢字書き!$A$2:$N$506,6,0))","v":"二つを［ア］わせる"},{"$f":"IF(E131=\"\",\"\",VLOOKUP(E131,漢字書き!$A$2:$N$506,6,0))","v":"［ホシ］がかがやく"},{"$f":"IF(F131=\"\",\"\",VLOOKUP(F131,漢字書き!$A$2:$N$506,6,0))","v":"［ズコウ］の時間"},{"$f":"IF(G131=\"\",\"\",VLOOKUP(G131,漢字書き!$A$2:$N$506,6,0))","v":"［ヒロバ］であそぶ"},{"$f":"IF(H131=\"\",\"\",VLOOKUP(H131,漢字書き!$A$2:$N$506,6,0))","v":"二年［ヨンクミ］"},{"$f":"IF(I131=\"\",\"\",VLOOKUP(I131,漢字書き!$A$2:$N$506,6,0))","v":"［ギョウ］じにさんかする"},{"$f":"IF(J131=\"\",\"\",VLOOKUP(J131,漢字書き!$A$2:$N$506,6,0))","v":"［ユキ］がふる"},{"$f":"IF(K131=\"\",\"\",VLOOKUP(K131,漢字読み!$A$2:$O$506,6,0))","v":"［春］ぶんの日"},{"$f":"IF(L131=\"\",\"\",VLOOKUP(L131,漢字読み!$A$2:$O$506,6,0))","v":"［音楽］をきく"},{"$f":"IF(M131=\"\",\"\",VLOOKUP(M131,漢字読み!$A$2:$O$506,6,0))","v":"［汽車］にのる 　　"},{"$f":"IF(N131=\"\",\"\",VLOOKUP(N131,漢字読み!$A$2:$O$506,6,0))","v":"［首］かざり"},{"$f":"IF(O131=\"\",\"\",VLOOKUP(O131,漢字読み!$A$2:$O$506,6,0))","v":"えだを［切］る       "},{"$f":"IF(P131=\"\",\"\",VLOOKUP(P131,漢字読み!$A$2:$O$506,6,0))","v":"きれいな［星空］     "},{"$f":"IF(Q131=\"\",\"\",VLOOKUP(Q131,漢字読み!$A$2:$O$506,6,0))","v":"［近］いおみせ"},{"$f":"IF(R131=\"\",\"\",VLOOKUP(R131,漢字読み!$A$2:$O$506,6,0))","v":"［図画］がすきだ"},{"$f":"IF(S131=\"\",\"\",VLOOKUP(S131,漢字読み!$A$2:$O$506,6,0))","v":"［谷］にふくかぜ"},{"$f":"IF(T131=\"\",\"\",VLOOKUP(T131,漢字読み!$A$2:$O$506,6,0))","v":"［時］がすぎる"},null,"級"]
[{"$f":"IF(A$11=\"\",\"\",VLOOKUP(A131,漢字書き!$A$2:$O$506,8,0))","v":"言"},{"$f":"IF(B$11=\"\",\"\",VLOOKUP(B131,漢字書き!$A$2:$O$506,8,0))","v":"戸"},{"$f":"IF(C$11=\"\",\"\",VLOOKUP(C131,漢字書き!$A$2:$O$506,8,0))","v":"今"},{"$f":"IF(D$11=\"\",\"\",VLOOKUP(D131,漢字書き!$A$2:$O$506,8,0))","v":"合"},{"$f":"IF(E$11=\"\",\"\",VLOOKUP(E131,漢字書き!$A$2:$O$506,8,0))","v":"星"},{"$f":"IF(F$11=\"\",\"\",VLOOKUP(F131,漢字書き!$A$2:$O$506,8,0))","v":"図工"},{"$f":"IF(G$11=\"\",\"\",VLOOKUP(G131,漢字書き!$A$2:$O$506,8,0))","v":"広場"},{"$f":"IF(H$11=\"\",\"\",VLOOKUP(H131,漢字書き!$A$2:$O$506,8,0))","v":"四組"},{"$f":"IF(I$11=\"\",\"\",VLOOKUP(I131,漢字書き!$A$2:$O$506,8,0))","v":"行"},{"$f":"IF(J$11=\"\",\"\",VLOOKUP(J131,漢字書き!$A$2:$O$506,8,0))","v":"雪"},{"$f":"IF(K$11=\"\",\"\",VLOOKUP(K131,漢字読み!$A$2:$O$506,8,0))","v":"しゅん"},{"$f":"IF(L$11=\"\",\"\",VLOOKUP(L131,漢字読み!$A$2:$O$506,8,0))","v":"おんがく"},{"$f":"IF(M$11=\"\",\"\",VLOOKUP(M131,漢字読み!$A$2:$O$506,8,0))","v":"きしゃ"},{"$f":"IF(N$11=\"\",\"\",VLOOKUP(N131,漢字読み!$A$2:$O$506,8,0))","v":"くび"},{"$f":"IF(O$11=\"\",\"\",VLOOKUP(O131,漢字読み!$A$2:$O$506,8,0))","v":"き"},{"$f":"IF(P$11=\"\",\"\",VLOOKUP(P131,漢字読み!$A$2:$O$506,8,0))","v":"ほしぞら"},{"$f":"IF(Q$11=\"\",\"\",VLOOKUP(Q131,漢字読み!$A$2:$O$506,8,0))","v":"ちか"},{"$f":"IF(R$11=\"\",\"\",VLOOKUP(R131,漢字読み!$A$2:$O$506,8,0))","v":"ずが"},{"$f":"IF(S$11=\"\",\"\",VLOOKUP(S131,漢字読み!$A$2:$O$506,8,0))","v":"たに"},{"$f":"IF(T$11=\"\",\"\",VLOOKUP(T131,漢字読み!$A$2:$O$506,8,0))","v":"とき"},null,"名前"]
[{"$f":"IF(A131=\"\",\"\",IF(VLOOKUP(A131,漢字書き!$A$2:$N$502,7,0)=0,\"\",VLOOKUP(A131,漢字書き!$A$2:$N$502,7,0)))","v":"う"},{"$f":"IF(B131=\"\",\"\",IF(VLOOKUP(B131,漢字書き!$A$2:$N$502,7,0)=0,\"\",VLOOKUP(B131,漢字書き!$A$2:$N$502,7,0)))","v":""},{"$f":"IF(C131=\"\",\"\",IF(VLOOKUP(C131,漢字書き!$A$2:$N$502,7,0)=0,\"\",VLOOKUP(C131,漢字書き!$A$2:$N$502,7,0)))","v":""},{"$f":"IF(D131=\"\",\"\",IF(VLOOKUP(D131,漢字書き!$A$2:$N$502,7,0)=0,\"\",VLOOKUP(D131,漢字書き!$A$2:$N$502,7,0)))","v":"わせる"},{"$f":"IF(E131=\"\",\"\",IF(VLOOKUP(E131,漢字書き!$A$2:$N$502,7,0)=0,\"\",VLOOKUP(E131,漢字書き!$A$2:$N$502,7,0)))","v":""},{"$f":"IF(F131=\"\",\"\",IF(VLOOKUP(F131,漢字書き!$A$2:$N$502,7,0)=0,\"\",VLOOKUP(F131,漢字書き!$A$2:$N$502,7,0)))","v":""},{"$f":"IF(G131=\"\",\"\",IF(VLOOKUP(G131,漢字書き!$A$2:$N$502,7,0)=0,\"\",VLOOKUP(G131,漢字書き!$A$2:$N$502,7,0)))","v":""},{"$f":"IF(H131=\"\",\"\",IF(VLOOKUP(H131,漢字書き!$A$2:$N$502,7,0)=0,\"\",VLOOKUP(H131,漢字書き!$A$2:$N$502,7,0)))","v":""},{"$f":"IF(I131=\"\",\"\",IF(VLOOKUP(I131,漢字書き!$A$2:$N$502,7,0)=0,\"\",VLOOKUP(I131,漢字書き!$A$2:$N$502,7,0)))","v":"じ"},{"$f":"IF(J131=\"\",\"\",IF(VLOOKUP(J131,漢字書き!$A$2:$N$502,7,0)=0,\"\",VLOOKUP(J131,漢字書き!$A$2:$N$502,7,0)))","v":""},{"$f":"IF(K131=\"\",\"\",IF(VLOOKUP(K131,漢字読み!$A$2:$O$502,7,0)=0,\"\",VLOOKUP(K131,漢字読み!$A$2:$O$502,7,0)))","v":"ぶん"},{"$f":"IF(L131=\"\",\"\",IF(VLOOKUP(L131,漢字読み!$A$2:$O$502,7,0)=0,\"\",VLOOKUP(L131,漢字読み!$A$2:$O$502,7,0)))","v":""},{"$f":"IF(M131=\"\",\"\",IF(VLOOKUP(M131,漢字読み!$A$2:$O$502,7,0)=0,\"\",VLOOKUP(M131,漢字読み!$A$2:$O$502,7,0)))","v":""},{"$f":"IF(N131=\"\",\"\",IF(VLOOKUP(N131,漢字読み!$A$2:$O$502,7,0)=0,\"\",VLOOKUP(N131,漢字読み!$A$2:$O$502,7,0)))","v":""},{"$f":"IF(O131=\"\",\"\",IF(VLOOKUP(O131,漢字読み!$A$2:$O$502,7,0)=0,\"\",VLOOKUP(O131,漢字読み!$A$2:$O$502,7,0)))","v":"る"},{"$f":"IF(P131=\"\",\"\",IF(VLOOKUP(P131,漢字読み!$A$2:$O$502,7,0)=0,\"\",VLOOKUP(P131,漢字読み!$A$2:$O$502,7,0)))","v":""},{"$f":"IF(Q131=\"\",\"\",IF(VLOOKUP(Q131,漢字読み!$A$2:$O$502,7,0)=0,\"\",VLOOKUP(Q131,漢字読み!$A$2:$O$502,7,0)))","v":"い"},{"$f":"IF(R131=\"\",\"\",IF(VLOOKUP(R131,漢字読み!$A$2:$O$502,7,0)=0,\"\",VLOOKUP(R131,漢字読み!$A$2:$O$502,7,0)))","v":""},{"$f":"IF(S131=\"\",\"\",IF(VLOOKUP(S131,漢字読み!$A$2:$O$502,7,0)=0,\"\",VLOOKUP(S131,漢字読み!$A$2:$O$502,7,0)))","v":""},{"$f":"IF(T131=\"\",\"\",IF(VLOOKUP(T131,漢字読み!$A$2:$O$502,7,0)=0,\"\",VLOOKUP(T131,漢字読み!$A$2:$O$502,7,0)))","v":""},null,null,"和歌山県教育委員会"]
[{"$f":"A126","v":18},{"$f":"B126","v":0},{"$f":"C126","v":0},{"$f":"D126","v":0},{"$f":"E126","v":0},{"$f":"F126","v":0},{"$f":"G126","v":0},{"$f":"H126","v":0},{"$f":"I126","v":0},{"$f":"J126","v":0},{"$f":"K126","v":67},{"$f":"L126","v":129},{"$f":"M126","v":8},{"$f":"N126","v":105},{"$f":"O126","v":21},{"$f":"P126","v":141},{"$f":"Q126","v":71},{"$f":"R126","v":93},{"$f":"S126","v":133},{"$f":"T126","v":91}]
["⑳","⑲","⑱","⑰","⑯","⑮","⑭","⑬","⑫","⑪","⑩","⑨","⑧","⑦","⑥","⑤","④","③","②","①","次の［　　　　］の部分の漢字には読みがなをひらがなで書き、カタカナは漢字に直しなさい。",14,"「漢字の博士検定試験」練習問題　"]
[{"$f":"IF(A136=\"\",\"\",VLOOKUP(A136,漢字書き!$A$2:$N$506,6,0))","v":"［ウミ］でおよぐ"},{"$f":"IF(B136=\"\",\"\",VLOOKUP(B136,漢字書き!$A$2:$N$506,6,0))","v":{"$error":"#N/A"}},{"$f":"IF(C136=\"\",\"\",VLOOKUP(C136,漢字書き!$A$2:$N$506,6,0))","v":{"$error":"#N/A"}},{"$f":"IF(D136=\"\",\"\",VLOOKUP(D136,漢字書き!$A$2:$N$506,6,0))","v":{"$error":"#N/A"}},{"$f":"IF(E136=\"\",\"\",VLOOKUP(E136,漢字書き!$A$2:$N$506,6,0))","v":{"$error":"#N/A"}},{"$f":"IF(F136=\"\",\"\",VLOOKUP(F136,漢字書き!$A$2:$N$506,6,0))","v":{"$error":"#N/A"}},{"$f":"IF(G136=\"\",\"\",VLOOKUP(G136,漢字書き!$A$2:$N$506,6,0))","v":{"$error":"#N/A"}},{"$f":"IF(H136=\"\",\"\",VLOOKUP(H136,漢字書き!$A$2:$N$506,6,0))","v":{"$error":"#N/A"}},{"$f":"IF(I136=\"\",\"\",VLOOKUP(I136,漢字書き!$A$2:$N$506,6,0))","v":{"$error":"#N/A"}},{"$f":"IF(J136=\"\",\"\",VLOOKUP(J136,漢字書き!$A$2:$N$506,6,0))","v":{"$error":"#N/A"}},{"$f":"IF(K136=\"\",\"\",VLOOKUP(K136,漢字読み!$A$2:$O$506,6,0))","v":"むかしばなしを［語］る"},{"$f":"IF(L136=\"\",\"\",VLOOKUP(L136,漢字読み!$A$2:$O$506,6,0))","v":"［新年］のおいわい"},{"$f":"IF(M136=\"\",\"\",VLOOKUP(M136,漢字読み!$A$2:$O$506,6,0))","v":"今、［何時］ですか"},{"$f":"IF(N136=\"\",\"\",VLOOKUP(N136,漢字読み!$A$2:$O$506,6,0))","v":"［自］こしょうかいをする"},{"$f":"IF(O136=\"\",\"\",VLOOKUP(O136,漢字読み!$A$2:$O$506,6,0))","v":"［海］にうかぶボート  　"},{"$f":"IF(P136=\"\",\"\",VLOOKUP(P136,漢字読み!$A$2:$O$506,6,0))","v":"［星］のかがやき"},{"$f":"IF(Q136=\"\",\"\",VLOOKUP(Q136,漢字読み!$A$2:$O$506,6,0))","v":"［広場］であそぶ"},{"$f":"IF(R136=\"\",\"\",VLOOKUP(R136,漢字読み!$A$2:$O$506,6,0))","v":"かけ［算］のれんしゅう"},{"$f":"IF(S136=\"\",\"\",VLOOKUP(S136,漢字読み!$A$2:$O$506,6,0))","v":"ライオンの［親子］　　　"},{"$f":"IF(T136=\"\",\"\",VLOOKUP(T136,漢字読み!$A$2:$O$506,6,0))","v":"［作文］をよむ         "},null,"級"]
[{"$f":"IF(A$16=\"\",\"\",VLOOKUP(A136,漢字書き!$A$2:$O$506,8,0))","v":"海"},{"$f":"IF(B$16=\"\",\"\",VLOOKUP(B136,漢字書き!$A$2:$O$506,8,0))","v":{"$error":"#N/A"}},{"$f":"IF(C$16=\"\",\"\",VLOOKUP(C136,漢字書き!$A$2:$O$506,8,0))","v":{"$error":"#N/A"}},{"$f":"IF(D$16=\"\",\"\",VLOOKUP(D136,漢字書き!$A$2:$O$506,8,0))","v":{"$error":"#N/A"}},{"$f":"IF(E$16=\"\",\"\",VLOOKUP(E136,漢字書き!$A$2:$O$506,8,0))","v":{"$error":"#N/A"}},{"$f":"IF(F$16=\"\",\"\",VLOOKUP(F136,漢字書き!$A$2:$O$506,8,0))","v":{"$error":"#N/A"}},{"$f":"IF(G$16=\"\",\"\",VLOOKUP(G136,漢字書き!$A$2:$O$506,8,0))","v":{"$error":"#N/A"}},{"$f":"IF(H$16=\"\",\"\",VLOOKUP(H136,漢字書き!$A$2:$O$506,8,0))","v":{"$error":"#N/A"}},{"$f":"IF(I$16=\"\",\"\",VLOOKUP(I136,漢字書き!$A$2:$O$506,8,0))","v":{"$error":"#N/A"}},{"$f":"IF(J$16=\"\",\"\",VLOOKUP(J136,漢字書き!$A$2:$O$506,8,0))","v":{"$error":"#N/A"}},{"$f":"IF(K$16=\"\",\"\",VLOOKUP(K136,漢字読み!$A$2:$O$506,8,0))","v":"かた"},{"$f":"IF(L$16=\"\",\"\",VLOOKUP(L136,漢字読み!$A$2:$O$506,8,0))","v":"しんねん"},{"$f":"IF(M$16=\"\",\"\",VLOOKUP(M136,漢字読み!$A$2:$O$506,8,0))","v":"なんじ"},{"$f":"IF(N$16=\"\",\"\",VLOOKUP(N136,漢字読み!$A$2:$O$506,8,0))","v":"じ"},{"$f":"IF(O$16=\"\",\"\",VLOOKUP(O136,漢字読み!$A$2:$O$506,8,0))","v":"うみ"},{"$f":"IF(P$16=\"\",\"\",VLOOKUP(P136,漢字読み!$A$2:$O$506,8,0))","v":"ほし"},{"$f":"IF(Q$16=\"\",\"\",VLOOKUP(Q136,漢字読み!$A$2:$O$506,8,0))","v":"ひろば"},{"$f":"IF(R$16=\"\",\"\",VLOOKUP(R136,漢字読み!$A$2:$O$506,8,0))","v":"ざん"},{"$f":"IF(S$16=\"\",\"\",VLOOKUP(S136,漢字読み!$A$2:$O$506,8,0))","v":"おやこ"},{"$f":"IF(T$16=\"\",\"\",VLOOKUP(T136,漢字読み!$A$2:$O$506,8,0))","v":"さくぶん"},null,"名前"]
[{"$f":"IF(A136=\"\",\"\",IF(VLOOKUP(A136,漢字書き!$A$2:$N$502,7,0)=0,\"\",VLOOKUP(A136,漢字書き!$A$2:$N$502,7,0)))","v":""},{"$f":"IF(B136=\"\",\"\",IF(VLOOKUP(B136,漢字書き!$A$2:$N$502,7,0)=0,\"\",VLOOKUP(B136,漢字書き!$A$2:$N$502,7,0)))","v":{"$error":"#N/A"}},{"$f":"IF(C136=\"\",\"\",IF(VLOOKUP(C136,漢字書き!$A$2:$N$502,7,0)=0,\"\",VLOOKUP(C136,漢字書き!$A$2:$N$502,7,0)))","v":{"$error":"#N/A"}},{"$f":"IF(D136=\"\",\"\",IF(VLOOKUP(D136,漢字書き!$A$2:$N$502,7,0)=0,\"\",VLOOKUP(D136,漢字書き!$A$2:$N$502,7,0)))","v":{"$error":"#N/A"}},{"$f":"IF(E136=\"\",\"\",IF(VLOOKUP(E136,漢字書き!$A$2:$N$502,7,0)=0,\"\",VLOOKUP(E136,漢字書き!$A$2:$N$502,7,0)))","v":{"$error":"#N/A"}},{"$f":"IF(F136=\"\",\"\",IF(VLOOKUP(F136,漢字書き!$A$2:$N$502,7,0)=0,\"\",VLOOKUP(F136,漢字書き!$A$2:$N$502,7,0)))","v":{"$error":"#N/A"}},{"$f":"IF(G136=\"\",\"\",IF(VLOOKUP(G136,漢字書き!$A$2:$N$502,7,0)=0,\"\",VLOOKUP(G136,漢字書き!$A$2:$N$502,7,0)))","v":{"$error":"#N/A"}},{"$f":"IF(H136=\"\",\"\",IF(VLOOKUP(H136,漢字書き!$A$2:$N$502,7,0)=0,\"\",VLOOKUP(H136,漢字書き!$A$2:$N$502,7,0)))","v":{"$error":"#N/A"}},{"$f":"IF(I136=\"\",\"\",IF(VLOOKUP(I136,漢字書き!$A$2:$N$502,7,0)=0,\"\",VLOOKUP(I136,漢字書き!$A$2:$N$502,7,0)))","v":{"$error":"#N/A"}},{"$f":"IF(J136=\"\",\"\",IF(VLOOKUP(J136,漢字書き!$A$2:$N$502,7,0)=0,\"\",VLOOKUP(J136,漢字書き!$A$2:$N$502,7,0)))","v":{"$error":"#N/A"}},{"$f":"IF(K136=\"\",\"\",IF(VLOOKUP(K136,漢字読み!$A$2:$O$502,7,0)=0,\"\",VLOOKUP(K136,漢字読み!$A$2:$O$502,7,0)))","v":"る"},{"$f":"IF(L136=\"\",\"\",IF(VLOOKUP(L136,漢字読み!$A$2:$O$502,7,0)=0,\"\",VLOOKUP(L136,漢字読み!$A$2:$O$502,7,0)))","v":""},{"$f":"IF(M136=\"\",\"\",IF(VLOOKUP(M136,漢字読み!$A$2:$O$502,7,0)=0,\"\",VLOOKUP(M136,漢字読み!$A$2:$O$502,7,0)))","v":""},{"$f":"IF(N136=\"\",\"\",IF(VLOOKUP(N136,漢字読み!$A$2:$O$502,7,0)=0,\"\",VLOOKUP(N136,漢字読み!$A$2:$O$502,7,0)))","v":"こしょうかい"},{"$f":"IF(O136=\"\",\"\",IF(VLOOKUP(O136,漢字読み!$A$2:$O$502,7,0)=0,\"\",VLOOKUP(O136,漢字読み!$A$2:$O$502,7,0)))","v":""},{"$f":"IF(P136=\"\",\"\",IF(VLOOKUP(P136,漢字読み!$A$2:$O$502,7,0)=0,\"\",VLOOKUP(P136,漢字読み!$A$2:$O$502,7,0)))","v":""},{"$f":"IF(Q136=\"\",\"\",IF(VLOOKUP(Q136,漢字読み!$A$2:$O$502,7,0)=0,\"\",VLOOKUP(Q136,漢字読み!$A$2:$O$502,7,0)))","v":""},{"$f":"IF(R136=\"\",\"\",IF(VLOOKUP(R136,漢字読み!$A$2:$O$502,7,0)=0,\"\",VLOOKUP(R136,漢字読み!$A$2:$O$502,7,0)))","v":""},{"$f":"IF(S136=\"\",\"\",IF(VLOOKUP(S136,漢字読み!$A$2:$O$502,7,0)=0,\"\",VLOOKUP(S136,漢字読み!$A$2:$O$502,7,0)))","v":""},{"$f":"IF(T136=\"\",\"\",IF(VLOOKUP(T136,漢字読み!$A$2:$O$502,7,0)=0,\"\",VLOOKUP(T136,漢字読み!$A$2:$O$502,7,0)))","v":""},null,null,"和歌山県教育委員会"]
[{"$f":"INDIRECT(\"'関数（書き）'!C\" & COLUMN(B$1)+SUM($AD$2:$AD142))","v":0},{"$f":"INDIRECT(\"'関数（書き）'!C\" & COLUMN(C$1)+SUM($AD$2:$AD142))","v":0},{"$f":"INDIRECT(\"'関数（書き）'!C\" & COLUMN(D$1)+SUM($AD$2:$AD142))","v":0},{"$f":"INDIRECT(\"'関数（書き）'!C\" & COLUMN(E$1)+SUM($AD$2:$AD142))","v":0},{"$f":"INDIRECT(\"'関数（書き）'!C\" & COLUMN(F$1)+SUM($AD$2:$AD142))","v":0},{"$f":"INDIRECT(\"'関数（書き）'!C\" & COLUMN(G$1)+SUM($AD$2:$AD142))","v":0},{"$f":"INDIRECT(\"'関数（書き）'!C\" & COLUMN(H$1)+SUM($AD$2:$AD142))","v":0},{"$f":"INDIRECT(\"'関数（書き）'!C\" & COLUMN(I$1)+SUM($AD$2:$AD142))","v":0},{"$f":"INDIRECT(\"'関数（書き）'!C\" & COLUMN(J$1)+SUM($AD$2:$AD142))","v":0},{"$f":"INDIRECT(\"'関数（書き）'!C\" & COLUMN(K$1)+SUM($AD$2:$AD142))","v":0},{"$f":"INDIRECT(\"'関数（読み）'!C\" & COLUMN(B$1)+SUM($AD$2:$AD142))","v":121},{"$f":"INDIRECT(\"'関数（読み）'!C\" & COLUMN(C$1)+SUM($AD$2:$AD142))","v":13},{"$f":"INDIRECT(\"'関数（読み）'!C\" & COLUMN(D$1)+SUM($AD$2:$AD142))","v":64},{"$f":"INDIRECT(\"'関数（読み）'!C\" & COLUMN(E$1)+SUM($AD$2:$AD142))","v":82},{"$f":"INDIRECT(\"'関数（読み）'!C\" & COLUMN(F$1)+SUM($AD$2:$AD142))","v":52},{"$f":"INDIRECT(\"'関数（読み）'!C\" & COLUMN(G$1)+SUM($AD$2:$AD142))","v":89},{"$f":"INDIRECT(\"'関数（読み）'!C\" & COLUMN(H$1)+SUM($AD$2:$AD142))","v":148},{"$f":"INDIRECT(\"'関数（読み）'!C\" & COLUMN(I$1)+SUM($AD$2:$AD142))","v":27},{"$f":"INDIRECT(\"'関数（読み）'!C\" & COLUMN(J$1)+SUM($AD$2:$AD142))","v":14},{"$f":"INDIRECT(\"'関数（読み）'!C\" & COLUMN(K$1)+SUM($AD$2:$AD142))","v":6}]
["⑳","⑲","⑱","⑰","⑯","⑮","⑭","⑬","⑫","⑪","⑩","⑨","⑧","⑦","⑥","⑤","④","③","②","①","次の［　　　　］の部分の漢字には読みがなをひらがなで書き、カタカナは漢字に直しなさい。",14,"「漢字の博士検定試験」練習問題　",null,null,null,null,null,"←",10,"問",{"$f":"AH127+1","v":141},"～",{"$f":"SUM($AD$2:$AD142)+10","v":150},"問まで",{"$f":"COUNTIF($A$1:$T$200,T143)","v":2}]
[{"$f":"IF(A141=\"\",\"\",VLOOKUP(A141,漢字書き!$A$2:$N$506,6,0))","v":{"$error":"#N/A"}},{"$f":"IF(B141=\"\",\"\",VLOOKUP(B141,漢字書き!$A$2:$N$506,6,0))","v":{"$error":"#N/A"}},{"$f":"IF(C141=\"\",\"\",VLOOKUP(C141,漢字書き!$A$2:$N$506,6,0))","v":{"$error":"#N/A"}},{"$f":"IF(D141=\"\",\"\",VLOOKUP(D141,漢字書き!$A$2:$N$506,6,0))","v":{"$error":"#N/A"}},{"$f":"IF(E141=\"\",\"\",VLOOKUP(E141,漢字書き!$A$2:$N$506,6,0))","v":{"$error":"#N/A"}},{"$f":"IF(F141=\"\",\"\",VLOOKUP(F141,漢字書き!$A$2:$N$506,6,0))","v":{"$error":"#N/A"}},{"$f":"IF(G141=\"\",\"\",VLOOKUP(G141,漢字書き!$A$2:$N$506,6,0))","v":{"$error":"#N/A"}},{"$f":"IF(H141=\"\",\"\",VLOOKUP(H141,漢字書き!$A$2:$N$506,6,0))","v":{"$error":"#N/A"}},{"$f":"IF(I141=\"\",\"\",VLOOKUP(I141,漢字書き!$A$2:$N$506,6,0))","v":{"$error":"#N/A"}},{"$f":"IF(J141=\"\",\"\",VLOOKUP(J141,漢字書き!$A$2:$N$506,6,0))","v":{"$error":"#N/A"}},{"$f":"IF(K141=\"\",\"\",VLOOKUP(K141,漢字読み!$A$2:$O$506,6,0))","v":"［少］ない水"},{"$f":"IF(L141=\"\",\"\",VLOOKUP(L141,漢字読み!$A$2:$O$506,6,0))","v":"［歌声］がひびく　    "},{"$f":"IF(M141=\"\",\"\",VLOOKUP(M141,漢字読み!$A$2:$O$506,6,0))","v":"［古］いタイヤ       "},{"$f":"IF(N141=\"\",\"\",VLOOKUP(N141,漢字読み!$A$2:$O$506,6,0))","v":"えきにしゅう［合］する"},{"$f":"IF(O141=\"\",\"\",VLOOKUP(O141,漢字読み!$A$2:$O$506,6,0))","v":"やさしい［兄］がいる    "},{"$f":"IF(P141=\"\",\"\",VLOOKUP(P141,漢字読み!$A$2:$O$506,6,0))","v":"［細］い糸"},{"$f":"IF(Q141=\"\",\"\",VLOOKUP(Q141,漢字読み!$A$2:$O$506,6,0))","v":"［線］を引く　      "},{"$f":"IF(R141=\"\",\"\",VLOOKUP(R141,漢字読み!$A$2:$O$506,6,0))","v":"［角］をまがる"},{"$f":"IF(S141=\"\",\"\",VLOOKUP(S141,漢字読み!$A$2:$O$506,6,0))","v":"［校歌］をおぼえる　　　"},{"$f":"IF(T141=\"\",\"\",VLOOKUP(T141,漢字読み!$A$2:$O$506,6,0))","v":"［遠］くに行く"},null,"級"]
[null,null,null,null,null,null,null,null,null,null,null,null,null,null,null,null,null,null,null,null,null,"名前"]
[{"$f":"IF(A141=\"\",\"\",IF(VLOOKUP(A141,漢字書き!$A$2:$N$502,7,0)=0,\"\",VLOOKUP(A141,漢字書き!$A$2:$N$502,7,0)))","v":{"$error":"#N/A"}},{"$f":"IF(B141=\"\",\"\",IF(VLOOKUP(B141,漢字書き!$A$2:$N$502,7,0)=0,\"\",VLOOKUP(B141,漢字書き!$A$2:$N$502,7,0)))","v":{"$error":"#N/A"}},{"$f":"IF(C141=\"\",\"\",IF(VLOOKUP(C141,漢字書き!$A$2:$N$502,7,0)=0,\"\",VLOOKUP(C141,漢字書き!$A$2:$N$502,7,0)))","v":{"$error":"#N/A"}},{"$f":"IF(D141=\"\",\"\",IF(VLOOKUP(D141,漢字書き!$A$2:$N$502,7,0)=0,\"\",VLOOKUP(D141,漢字書き!$A$2:$N$502,7,0)))","v":{"$error":"#N/A"}},{"$f":"IF(E141=\"\",\"\",IF(VLOOKUP(E141,漢字書き!$A$2:$N$502,7,0)=0,\"\",VLOOKUP(E141,漢字書き!$A$2:$N$502,7,0)))","v":{"$error":"#N/A"}},{"$f":"IF(F141=\"\",\"\",IF(VLOOKUP(F141,漢字書き!$A$2:$N$502,7,0)=0,\"\",VLOOKUP(F141,漢字書き!$A$2:$N$502,7,0)))","v":{"$error":"#N/A"}},{"$f":"IF(G141=\"\",\"\",IF(VLOOKUP(G141,漢字書き!$A$2:$N$502,7,0)=0,\"\",VLOOKUP(G141,漢字書き!$A$2:$N$502,7,0)))","v":{"$error":"#N/A"}},{"$f":"IF(H141=\"\",\"\",IF(VLOOKUP(H141,漢字書き!$A$2:$N$502,7,0)=0,\"\",VLOOKUP(H141,漢字書き!$A$2:$N$502,7,0)))","v":{"$error":"#N/A"}},{"$f":"IF(I141=\"\",\"\",IF(VLOOKUP(I141,漢字書き!$A$2:$N$502,7,0)=0,\"\",VLOOKUP(I141,漢字書き!$A$2:$N$502,7,0)))","v":{"$error":"#N/A"}},{"$f":"IF(J141=\"\",\"\",IF(VLOOKUP(J141,漢字書き!$A$2:$N$502,7,0)=0,\"\",VLOOKUP(J141,漢字書き!$A$2:$N$502,7,0)))","v":{"$error":"#N/A"}},{"$f":"IF(K141=\"\",\"\",IF(VLOOKUP(K141,漢字読み!$A$2:$O$502,7,0)=0,\"\",VLOOKUP(K141,漢字読み!$A$2:$O$502,7,0)))","v":"ない"},{"$f":"IF(L141=\"\",\"\",IF(VLOOKUP(L141,漢字読み!$A$2:$O$502,7,0)=0,\"\",VLOOKUP(L141,漢字読み!$A$2:$O$502,7,0)))","v":""},{"$f":"IF(M141=\"\",\"\",IF(VLOOKUP(M141,漢字読み!$A$2:$O$502,7,0)=0,\"\",VLOOKUP(M141,漢字読み!$A$2:$O$502,7,0)))","v":"い"},{"$f":"IF(N141=\"\",\"\",IF(VLOOKUP(N141,漢字読み!$A$2:$O$502,7,0)=0,\"\",VLOOKUP(N141,漢字読み!$A$2:$O$502,7,0)))","v":""},{"$f":"IF(O141=\"\",\"\",IF(VLOOKUP(O141,漢字読み!$A$2:$O$502,7,0)=0,\"\",VLOOKUP(O141,漢字読み!$A$2:$O$502,7,0)))","v":""},{"$f":"IF(P141=\"\",\"\",IF(VLOOKUP(P141,漢字読み!$A$2:$O$502,7,0)=0,\"\",VLOOKUP(P141,漢字読み!$A$2:$O$502,7,0)))","v":"い"},{"$f":"IF(Q141=\"\",\"\",IF(VLOOKUP(Q141,漢字読み!$A$2:$O$502,7,0)=0,\"\",VLOOKUP(Q141,漢字読み!$A$2:$O$502,7,0)))","v":""},{"$f":"IF(R141=\"\",\"\",IF(VLOOKUP(R141,漢字読み!$A$2:$O$502,7,0)=0,\"\",VLOOKUP(R141,漢字読み!$A$2:$O$502,7,0)))","v":""},{"$f":"IF(S141=\"\",\"\",IF(VLOOKUP(S141,漢字読み!$A$2:$O$502,7,0)=0,\"\",VLOOKUP(S141,漢字読み!$A$2:$O$502,7,0)))","v":""},{"$f":"IF(T141=\"\",\"\",IF(VLOOKUP(T141,漢字読み!$A$2:$O$502,7,0)=0,\"\",VLOOKUP(T141,漢字読み!$A$2:$O$502,7,0)))","v":"く"},null,null,"和歌山県教育委員会"]
[{"$f":"INDIRECT(\"'関数（書き）'!C\" & COLUMN(B$1)+SUM($AD$2:$AD147))","v":0},{"$f":"INDIRECT(\"'関数（書き）'!C\" & COLUMN(C$1)+SUM($AD$2:$AD147))","v":0},{"$f":"INDIRECT(\"'関数（書き）'!C\" & COLUMN(D$1)+SUM($AD$2:$AD147))","v":0},{"$f":"INDIRECT(\"'関数（書き）'!C\" & COLUMN(E$1)+SUM($AD$2:$AD147))","v":0},{"$f":"INDIRECT(\"'関数（書き）'!C\" & COLUMN(F$1)+SUM($AD$2:$AD147))","v":0},{"$f":"INDIRECT(\"'関数（書き）'!C\" & COLUMN(G$1)+SUM($AD$2:$AD147))","v":0},{"$f":"INDIRECT(\"'関数（書き）'!C\" & COLUMN(H$1)+SUM($AD$2:$AD147))","v":0},{"$f":"INDIRECT(\"'関数（書き）'!C\" & COLUMN(I$1)+SUM($AD$2:$AD147))","v":0},{"$f":"INDIRECT(\"'関数（書き）'!C\" & COLUMN(J$1)+SUM($AD$2:$AD147))","v":0},{"$f":"INDIRECT(\"'関数（書き）'!C\" & COLUMN(K$1)+SUM($AD$2:$AD147))","v":0},{"$f":"INDIRECT(\"'関数（読み）'!C\" & COLUMN(B$1)+SUM($AD$2:$AD147))","v":2},{"$f":"INDIRECT(\"'関数（読み）'!C\" & COLUMN(C$1)+SUM($AD$2:$AD147))","v":150},{"$f":"INDIRECT(\"'関数（読み）'!C\" & COLUMN(D$1)+SUM($AD$2:$AD147))","v":0},{"$f":"INDIRECT(\"'関数（読み）'!C\" & COLUMN(E$1)+SUM($AD$2:$AD147))","v":0},{"$f":"INDIRECT(\"'関数（読み）'!C\" & COLUMN(F$1)+SUM($AD$2:$AD147))","v":0},{"$f":"INDIRECT(\"'関数（読み）'!C\" & COLUMN(G$1)+SUM($AD$2:$AD147))","v":0},{"$f":"INDIRECT(\"'関数（読み）'!C\" & COLUMN(H$1)+SUM($AD$2:$AD147))","v":0},{"$f":"INDIRECT(\"'関数（読み）'!C\" & COLUMN(I$1)+SUM($AD$2:$AD147))","v":0},{"$f":"INDIRECT(\"'関数（読み）'!C\" & COLUMN(J$1)+SUM($AD$2:$AD147))","v":0},{"$f":"INDIRECT(\"'関数（読み）'!C\" & COLUMN(K$1)+SUM($AD$2:$AD147))","v":0}]
["⑳","⑲","⑱","⑰","⑯","⑮","⑭","⑬","⑫","⑪","⑩","⑨","⑧","⑦","⑥","⑤","④","③","②","①","次の［　　　　］の部分の漢字には読みがなをひらがなで書き、カタカナは漢字に直しなさい。",14,"「漢字の博士検定試験」練習問題　",null,null,null,null,null,"←",10,"問",{"$f":"AH142+1","v":151},"～",{"$f":"SUM($AD$2:$AD147)+10","v":160},"問まで",{"$f":"COUNTIF($A$1:$T$200,T148)","v":585}]
[{"$f":"IF(A146=\"\",\"\",VLOOKUP(A146,漢字書き!$A$2:$N$506,6,0))","v":{"$error":"#N/A"}},{"$f":"IF(B146=\"\",\"\",VLOOKUP(B146,漢字書き!$A$2:$N$506,6,0))","v":{"$error":"#N/A"}},{"$f":"IF(C146=\"\",\"\",VLOOKUP(C146,漢字書き!$A$2:$N$506,6,0))","v":{"$error":"#N/A"}},{"$f":"IF(D146=\"\",\"\",VLOOKUP(D146,漢字書き!$A$2:$N$506,6,0))","v":{"$error":"#N/A"}},{"$f":"IF(E146=\"\",\"\",VLOOKUP(E146,漢字書き!$A$2:$N$506,6,0))","v":{"$error":"#N/A"}},{"$f":"IF(F146=\"\",\"\",VLOOKUP(F146,漢字書き!$A$2:$N$506,6,0))","v":{"$error":"#N/A"}},{"$f":"IF(G146=\"\",\"\",VLOOKUP(G146,漢字書き!$A$2:$N$506,6,0))","v":{"$error":"#N/A"}},{"$f":"IF(H146=\"\",\"\",VLOOKUP(H146,漢字書き!$A$2:$N$506,6,0))","v":{"$error":"#N/A"}},{"$f":"IF(I146=\"\",\"\",VLOOKUP(I146,漢字書き!$A$2:$N$506,6,0))","v":{"$error":"#N/A"}},{"$f":"IF(J146=\"\",\"\",VLOOKUP(J146,漢字書き!$A$2:$N$506,6,0))","v":{"$error":"#N/A"}},{"$f":"IF(K146=\"\",\"\",VLOOKUP(K146,漢字読み!$A$2:$O$506,6,0))","v":"つなを［引］く"},{"$f":"IF(L146=\"\",\"\",VLOOKUP(L146,漢字読み!$A$2:$O$506,6,0))","v":"おなじ［組］の人"},{"$f":"IF(M146=\"\",\"\",VLOOKUP(M146,漢字読み!$A$2:$O$506,6,0))","v":{"$error":"#N/A"}},{"$f":"IF(N146=\"\",\"\",VLOOKUP(N146,漢字読み!$A$2:$O$506,6,0))","v":{"$error":"#N/A"}},{"$f":"IF(O146=\"\",\"\",VLOOKUP(O146,漢字読み!$A$2:$O$506,6,0))","v":{"$error":"#N/A"}},{"$f":"IF(P146=\"\",\"\",VLOOKUP(P146,漢字読み!$A$2:$O$506,6,0))","v":{"$error":"#N/A"}},{"$f":"IF(Q146=\"\",\"\",VLOOKUP(Q146,漢字読み!$A$2:$O$506,6,0))","v":{"$error":"#N/A"}},{"$f":"IF(R146=\"\",\"\",VLOOKUP(R146,漢字読み!$A$2:$O$506,6,0))","v":{"$error":"#N/A"}},{"$f":"IF(S146=\"\",\"\",VLOOKUP(S146,漢字読み!$A$2:$O$506,6,0))","v":{"$error":"#N/A"}},{"$f":"IF(T146=\"\",\"\",VLOOKUP(T146,漢字読み!$A$2:$O$506,6,0))","v":{"$error":"#N/A"}},null,"級"]
[null,null,null,null,null,null,null,null,null,null,null,null,null,null,null,null,null,null,null,null,null,"名前"]
[{"$f":"IF(A146=\"\",\"\",IF(VLOOKUP(A146,漢字書き!$A$2:$N$502,7,0)=0,\"\",VLOOKUP(A146,漢字書き!$A$2:$N$502,7,0)))","v":{"$error":"#N/A"}},{"$f":"IF(B146=\"\",\"\",IF(VLOOKUP(B146,漢字書き!$A$2:$N$502,7,0)=0,\"\",VLOOKUP(B146,漢字書き!$A$2:$N$502,7,0)))","v":{"$error":"#N/A"}},{"$f":"IF(C146=\"\",\"\",IF(VLOOKUP(C146,漢字書き!$A$2:$N$502,7,0)=0,\"\",VLOOKUP(C146,漢字書き!$A$2:$N$502,7,0)))","v":{"$error":"#N/A"}},{"$f":"IF(D146=\"\",\"\",IF(VLOOKUP(D146,漢字書き!$A$2:$N$502,7,0)=0,\"\",VLOOKUP(D146,漢字書き!$A$2:$N$502,7,0)))","v":{"$error":"#N/A"}},{"$f":"IF(E146=\"\",\"\",IF(VLOOKUP(E146,漢字書き!$A$2:$N$502,7,0)=0,\"\",VLOOKUP(E146,漢字書き!$A$2:$N$502,7,0)))","v":{"$error":"#N/A"}},{"$f":"IF(F146=\"\",\"\",IF(VLOOKUP(F146,漢字書き!$A$2:$N$502,7,0)=0,\"\",VLOOKUP(F146,漢字書き!$A$2:$N$502,7,0)))","v":{"$error":"#N/A"}},{"$f":"IF(G146=\"\",\"\",IF(VLOOKUP(G146,漢字書き!$A$2:$N$502,7,0)=0,\"\",VLOOKUP(G146,漢字書き!$A$2:$N$502,7,0)))","v":{"$error":"#N/A"}},{"$f":"IF(H146=\"\",\"\",IF(VLOOKUP(H146,漢字書き!$A$2:$N$502,7,0)=0,\"\",VLOOKUP(H146,漢字書き!$A$2:$N$502,7,0)))","v":{"$error":"#N/A"}},{"$f":"IF(I146=\"\",\"\",IF(VLOOKUP(I146,漢字書き!$A$2:$N$502,7,0)=0,\"\",VLOOKUP(I146,漢字書き!$A$2:$N$502,7,0)))","v":{"$error":"#N/A"}},{"$f":"IF(J146=\"\",\"\",IF(VLOOKUP(J146,漢字書き!$A$2:$N$502,7,0)=0,\"\",VLOOKUP(J146,漢字書き!$A$2:$N$502,7,0)))","v":{"$error":"#N/A"}},{"$f":"IF(K146=\"\",\"\",IF(VLOOKUP(K146,漢字読み!$A$2:$O$502,7,0)=0,\"\",VLOOKUP(K146,漢字読み!$A$2:$O$502,7,0)))","v":"く"},{"$f":"IF(L146=\"\",\"\",IF(VLOOKUP(L146,漢字読み!$A$2:$O$502,7,0)=0,\"\",VLOOKUP(L146,漢字読み!$A$2:$O$502,7,0)))","v":""},{"$f":"IF(M146=\"\",\"\",IF(VLOOKUP(M146,漢字読み!$A$2:$O$502,7,0)=0,\"\",VLOOKUP(M146,漢字読み!$A$2:$O$502,7,0)))","v":{"$error":"#N/A"}},{"$f":"IF(N146=\"\",\"\",IF(VLOOKUP(N146,漢字読み!$A$2:$O$502,7,0)=0,\"\",VLOOKUP(N146,漢字読み!$A$2:$O$502,7,0)))","v":{"$error":"#N/A"}},{"$f":"IF(O146=\"\",\"\",IF(VLOOKUP(O146,漢字読み!$A$2:$O$502,7,0)=0,\"\",VLOOKUP(O146,漢字読み!$A$2:$O$502,7,0)))","v":{"$error":"#N/A"}},{"$f":"IF(P146=\"\",\"\",IF(VLOOKUP(P146,漢字読み!$A$2:$O$502,7,0)=0,\"\",VLOOKUP(P146,漢字読み!$A$2:$O$502,7,0)))","v":{"$error":"#N/A"}},{"$f":"IF(Q146=\"\",\"\",IF(VLOOKUP(Q146,漢字読み!$A$2:$O$502,7,0)=0,\"\",VLOOKUP(Q146,漢字読み!$A$2:$O$502,7,0)))","v":{"$error":"#N/A"}},{"$f":"IF(R146=\"\",\"\",IF(VLOOKUP(R146,漢字読み!$A$2:$O$502,7,0)=0,\"\",VLOOKUP(R146,漢字読み!$A$2:$O$502,7,0)))","v":{"$error":"#N/A"}},{"$f":"IF(S146=\"\",\"\",IF(VLOOKUP(S146,漢字読み!$A$2:$O$502,7,0)=0,\"\",VLOOKUP(S146,漢字読み!$A$2:$O$502,7,0)))","v":{"$error":"#N/A"}},{"$f":"IF(T146=\"\",\"\",IF(VLOOKUP(T146,漢字読み!$A$2:$O$502,7,0)=0,\"\",VLOOKUP(T146,漢字読み!$A$2:$O$502,7,0)))","v":{"$error":"#N/A"}},null,null,"和歌山県教育委員会"]
[{"$f":"A141","v":0},{"$f":"B141","v":0},{"$f":"C141","v":0},{"$f":"D141","v":0},{"$f":"E141","v":0},{"$f":"F141","v":0},{"$f":"G141","v":0},{"$f":"H141","v":0},{"$f":"I141","v":0},{"$f":"J141","v":0},{"$f":"K141","v":121},{"$f":"L141","v":13},{"$f":"M141","v":64},{"$f":"N141","v":82},{"$f":"O141","v":52},{"$f":"P141","v":89},{"$f":"Q141","v":148},{"$f":"R141","v":27},{"$f":"S141","v":14},{"$f":"T141","v":6}]
["⑳","⑲","⑱","⑰","⑯","⑮","⑭","⑬","⑫","⑪","⑩","⑨","⑧","⑦","⑥","⑤","④","③","②","①","次の［　　　　］の部分の漢字には読みがなをひらがなで書き、カタカナは漢字に直しなさい。",14,"「漢字の博士検定試験」練習問題　"]
[{"$f":"IF(A151=\"\",\"\",VLOOKUP(A151,漢字書き!$A$2:$N$506,6,0))","v":{"$error":"#N/A"}},{"$f":"IF(B151=\"\",\"\",VLOOKUP(B151,漢字書き!$A$2:$N$506,6,0))","v":{"$error":"#N/A"}},{"$f":"IF(C151=\"\",\"\",VLOOKUP(C151,漢字書き!$A$2:$N$506,6,0))","v":{"$error":"#N/A"}},{"$f":"IF(D151=\"\",\"\",VLOOKUP(D151,漢字書き!$A$2:$N$506,6,0))","v":{"$error":"#N/A"}},{"$f":"IF(E151=\"\",\"\",VLOOKUP(E151,漢字書き!$A$2:$N$506,6,0))","v":{"$error":"#N/A"}},{"$f":"IF(F151=\"\",\"\",VLOOKUP(F151,漢字書き!$A$2:$N$506,6,0))","v":{"$error":"#N/A"}},{"$f":"IF(G151=\"\",\"\",VLOOKUP(G151,漢字書き!$A$2:$N$506,6,0))","v":{"$error":"#N/A"}},{"$f":"IF(H151=\"\",\"\",VLOOKUP(H151,漢字書き!$A$2:$N$506,6,0))","v":{"$error":"#N/A"}},{"$f":"IF(I151=\"\",\"\",VLOOKUP(I151,漢字書き!$A$2:$N$506,6,0))","v":{"$error":"#N/A"}},{"$f":"IF(J151=\"\",\"\",VLOOKUP(J151,漢字書き!$A$2:$N$506,6,0))","v":{"$error":"#N/A"}},{"$f":"IF(K151=\"\",\"\",VLOOKUP(K151,漢字読み!$A$2:$O$506,6,0))","v":"［少］ない水"},{"$f":"IF(L151=\"\",\"\",VLOOKUP(L151,漢字読み!$A$2:$O$506,6,0))","v":"［歌声］がひびく　    "},{"$f":"IF(M151=\"\",\"\",VLOOKUP(M151,漢字読み!$A$2:$O$506,6,0))","v":"［古］いタイヤ       "},{"$f":"IF(N151=\"\",\"\",VLOOKUP(N151,漢字読み!$A$2:$O$506,6,0))","v":"えきにしゅう［合］する"},{"$f":"IF(O151=\"\",\"\",VLOOKUP(O151,漢字読み!$A$2:$O$506,6,0))","v":"やさしい［兄］がいる    "},{"$f":"IF(P151=\"\",\"\",VLOOKUP(P151,漢字読み!$A$2:$O$506,6,0))","v":"［細］い糸"},{"$f":"IF(Q151=\"\",\"\",VLOOKUP(Q151,漢字読み!$A$2:$O$506,6,0))","v":"［線］を引く　      "},{"$f":"IF(R151=\"\",\"\",VLOOKUP(R151,漢字読み!$A$2:$O$506,6,0))","v":"［角］をまがる"},{"$f":"IF(S151=\"\",\"\",VLOOKUP(S151,漢字読み!$A$2:$O$506,6,0))","v":"［校歌］をおぼえる　　　"},{"$f":"IF(T151=\"\",\"\",VLOOKUP(T151,漢字読み!$A$2:$O$506,6,0))","v":"［遠］くに行く"},null,"級"]
[{"$f":"IF(A$11=\"\",\"\",VLOOKUP(A151,漢字書き!$A$2:$O$506,8,0))","v":{"$error":"#N/A"}},{"$f":"IF(B$11=\"\",\"\",VLOOKUP(B151,漢字書き!$A$2:$O$506,8,0))","v":{"$error":"#N/A"}},{"$f":"IF(C$11=\"\",\"\",VLOOKUP(C151,漢字書き!$A$2:$O$506,8,0))","v":{"$error":"#N/A"}},{"$f":"IF(D$11=\"\",\"\",VLOOKUP(D151,漢字書き!$A$2:$O$506,8,0))","v":{"$error":"#N/A"}},{"$f":"IF(E$11=\"\",\"\",VLOOKUP(E151,漢字書き!$A$2:$O$506,8,0))","v":{"$error":"#N/A"}},{"$f":"IF(F$11=\"\",\"\",VLOOKUP(F151,漢字書き!$A$2:$O$506,8,0))","v":{"$error":"#N/A"}},{"$f":"IF(G$11=\"\",\"\",VLOOKUP(G151,漢字書き!$A$2:$O$506,8,0))","v":{"$error":"#N/A"}},{"$f":"IF(H$11=\"\",\"\",VLOOKUP(H151,漢字書き!$A$2:$O$506,8,0))","v":{"$error":"#N/A"}},{"$f":"IF(I$11=\"\",\"\",VLOOKUP(I151,漢字書き!$A$2:$O$506,8,0))","v":{"$error":"#N/A"}},{"$f":"IF(J$11=\"\",\"\",VLOOKUP(J151,漢字書き!$A$2:$O$506,8,0))","v":{"$error":"#N/A"}},{"$f":"IF(K$11=\"\",\"\",VLOOKUP(K151,漢字読み!$A$2:$O$506,8,0))","v":"すく"},{"$f":"IF(L$11=\"\",\"\",VLOOKUP(L151,漢字読み!$A$2:$O$506,8,0))","v":"うたごえ"},{"$f":"IF(M$11=\"\",\"\",VLOOKUP(M151,漢字読み!$A$2:$O$506,8,0))","v":"ふる"},{"$f":"IF(N$11=\"\",\"\",VLOOKUP(N151,漢字読み!$A$2:$O$506,8,0))","v":"ごう"},{"$f":"IF(O$11=\"\",\"\",VLOOKUP(O151,漢字読み!$A$2:$O$506,8,0))","v":"あに"},{"$f":"IF(P$11=\"\",\"\",VLOOKUP(P151,漢字読み!$A$2:$O$506,8,0))","v":"ほそ"},{"$f":"IF(Q$11=\"\",\"\",VLOOKUP(Q151,漢字読み!$A$2:$O$506,8,0))","v":"せん"},{"$f":"IF(R$11=\"\",\"\",VLOOKUP(R151,漢字読み!$A$2:$O$506,8,0))","v":"かど"},{"$f":"IF(S$11=\"\",\"\",VLOOKUP(S151,漢字読み!$A$2:$O$506,8,0))","v":"こうか"},{"$f":"IF(T$11=\"\",\"\",VLOOKUP(T151,漢字読み!$A$2:$O$506,8,0))","v":"とお"},null,"名前"]
[{"$f":"IF(A151=\"\",\"\",IF(VLOOKUP(A151,漢字書き!$A$2:$N$502,7,0)=0,\"\",VLOOKUP(A151,漢字書き!$A$2:$N$502,7,0)))","v":{"$error":"#N/A"}},{"$f":"IF(B151=\"\",\"\",IF(VLOOKUP(B151,漢字書き!$A$2:$N$502,7,0)=0,\"\",VLOOKUP(B151,漢字書き!$A$2:$N$502,7,0)))","v":{"$error":"#N/A"}},{"$f":"IF(C151=\"\",\"\",IF(VLOOKUP(C151,漢字書き!$A$2:$N$502,7,0)=0,\"\",VLOOKUP(C151,漢字書き!$A$2:$N$502,7,0)))","v":{"$error":"#N/A"}},{"$f":"IF(D151=\"\",\"\",IF(VLOOKUP(D151,漢字書き!$A$2:$N$502,7,0)=0,\"\",VLOOKUP(D151,漢字書き!$A$2:$N$502,7,0)))","v":{"$error":"#N/A"}},{"$f":"IF(E151=\"\",\"\",IF(VLOOKUP(E151,漢字書き!$A$2:$N$502,7,0)=0,\"\",VLOOKUP(E151,漢字書き!$A$2:$N$502,7,0)))","v":{"$error":"#N/A"}},{"$f":"IF(F151=\"\",\"\",IF(VLOOKUP(F151,漢字書き!$A$2:$N$502,7,0)=0,\"\",VLOOKUP(F151,漢字書き!$A$2:$N$502,7,0)))","v":{"$error":"#N/A"}},{"$f":"IF(G151=\"\",\"\",IF(VLOOKUP(G151,漢字書き!$A$2:$N$502,7,0)=0,\"\",VLOOKUP(G151,漢字書き!$A$2:$N$502,7,0)))","v":{"$error":"#N/A"}},{"$f":"IF(H151=\"\",\"\",IF(VLOOKUP(H151,漢字書き!$A$2:$N$502,7,0)=0,\"\",VLOOKUP(H151,漢字書き!$A$2:$N$502,7,0)))","v":{"$error":"#N/A"}},{"$f":"IF(I151=\"\",\"\",IF(VLOOKUP(I151,漢字書き!$A$2:$N$502,7,0)=0,\"\",VLOOKUP(I151,漢字書き!$A$2:$N$502,7,0)))","v":{"$error":"#N/A"}},{"$f":"IF(J151=\"\",\"\",IF(VLOOKUP(J151,漢字書き!$A$2:$N$502,7,0)=0,\"\",VLOOKUP(J151,漢字書き!$A$2:$N$502,7,0)))","v":{"$error":"#N/A"}},{"$f":"IF(K151=\"\",\"\",IF(VLOOKUP(K151,漢字読み!$A$2:$O$502,7,0)=0,\"\",VLOOKUP(K151,漢字読み!$A$2:$O$502,7,0)))","v":"ない"},{"$f":"IF(L151=\"\",\"\",IF(VLOOKUP(L151,漢字読み!$A$2:$O$502,7,0)=0,\"\",VLOOKUP(L151,漢字読み!$A$2:$O$502,7,0)))","v":""},{"$f":"IF(M151=\"\",\"\",IF(VLOOKUP(M151,漢字読み!$A$2:$O$502,7,0)=0,\"\",VLOOKUP(M151,漢字読み!$A$2:$O$502,7,0)))","v":"い"},{"$f":"IF(N151=\"\",\"\",IF(VLOOKUP(N151,漢字読み!$A$2:$O$502,7,0)=0,\"\",VLOOKUP(N151,漢字読み!$A$2:$O$502,7,0)))","v":""},{"$f":"IF(O151=\"\",\"\",IF(VLOOKUP(O151,漢字読み!$A$2:$O$502,7,0)=0,\"\",VLOOKUP(O151,漢字読み!$A$2:$O$502,7,0)))","v":""},{"$f":"IF(P151=\"\",\"\",IF(VLOOKUP(P151,漢字読み!$A$2:$O$502,7,0)=0,\"\",VLOOKUP(P151,漢字読み!$A$2:$O$502,7,0)))","v":"い"},{"$f":"IF(Q151=\"\",\"\",IF(VLOOKUP(Q151,漢字読み!$A$2:$O$502,7,0)=0,\"\",VLOOKUP(Q151,漢字読み!$A$2:$O$502,7,0)))","v":""},{"$f":"IF(R151=\"\",\"\",IF(VLOOKUP(R151,漢字読み!$A$2:$O$502,7,0)=0,\"\",VLOOKUP(R151,漢字読み!$A$2:$O$502,7,0)))","v":""},{"$f":"IF(S151=\"\",\"\",IF(VLOOKUP(S151,漢字読み!$A$2:$O$502,7,0)=0,\"\",VLOOKUP(S151,漢字読み!$A$2:$O$502,7,0)))","v":""},{"$f":"IF(T151=\"\",\"\",IF(VLOOKUP(T151,漢字読み!$A$2:$O$502,7,0)=0,\"\",VLOOKUP(T151,漢字読み!$A$2:$O$502,7,0)))","v":"く"},null,null,"和歌山県教育委員会"]
[{"$f":"A146","v":0},{"$f":"B146","v":0},{"$f":"C146","v":0},{"$f":"D146","v":0},{"$f":"E146","v":0},{"$f":"F146","v":0},{"$f":"G146","v":0},{"$f":"H146","v":0},{"$f":"I146","v":0},{"$f":"J146","v":0},{"$f":"K146","v":2},{"$f":"L146","v":150},{"$f":"M146","v":0},{"$f":"N146","v":0},{"$f":"O146","v":0},{"$f":"P146","v":0},{"$f":"Q146","v":0},{"$f":"R146","v":0},{"$f":"S146","v":0},{"$f":"T146","v":0}]
["⑳","⑲","⑱","⑰","⑯","⑮","⑭","⑬","⑫","⑪","⑩","⑨","⑧","⑦","⑥","⑤","④","③","②","①","次の［　　　　］の部分の漢字には読みがなをひらがなで書き、カタカナは漢字に直しなさい。",14,"「漢字の博士検定試験」練習問題　"]
[{"$f":"IF(A156=\"\",\"\",VLOOKUP(A156,漢字書き!$A$2:$N$506,6,0))","v":{"$error":"#N/A"}},{"$f":"IF(B156=\"\",\"\",VLOOKUP(B156,漢字書き!$A$2:$N$506,6,0))","v":{"$error":"#N/A"}},{"$f":"IF(C156=\"\",\"\",VLOOKUP(C156,漢字書き!$A$2:$N$506,6,0))","v":{"$error":"#N/A"}},{"$f":"IF(D156=\"\",\"\",VLOOKUP(D156,漢字書き!$A$2:$N$506,6,0))","v":{"$error":"#N/A"}},{"$f":"IF(E156=\"\",\"\",VLOOKUP(E156,漢字書き!$A$2:$N$506,6,0))","v":{"$error":"#N/A"}},{"$f":"IF(F156=\"\",\"\",VLOOKUP(F156,漢字書き!$A$2:$N$506,6,0))","v":{"$error":"#N/A"}},{"$f":"IF(G156=\"\",\"\",VLOOKUP(G156,漢字書き!$A$2:$N$506,6,0))","v":{"$error":"#N/A"}},{"$f":"IF(H156=\"\",\"\",VLOOKUP(H156,漢字書き!$A$2:$N$506,6,0))","v":{"$error":"#N/A"}},{"$f":"IF(I156=\"\",\"\",VLOOKUP(I156,漢字書き!$A$2:$N$506,6,0))","v":{"$error":"#N/A"}},{"$f":"IF(J156=\"\",\"\",VLOOKUP(J156,漢字書き!$A$2:$N$506,6,0))","v":{"$error":"#N/A"}},{"$f":"IF(K156=\"\",\"\",VLOOKUP(K156,漢字読み!$A$2:$O$506,6,0))","v":"つなを［引］く"},{"$f":"IF(L156=\"\",\"\",VLOOKUP(L156,漢字読み!$A$2:$O$506,6,0))","v":"おなじ［組］の人"},{"$f":"IF(M156=\"\",\"\",VLOOKUP(M156,漢字読み!$A$2:$O$506,6,0))","v":{"$error":"#N/A"}},{"$f":"IF(N156=\"\",\"\",VLOOKUP(N156,漢字読み!$A$2:$O$506,6,0))","v":{"$error":"#N/A"}},{"$f":"IF(O156=\"\",\"\",VLOOKUP(O156,漢字読み!$A$2:$O$506,6,0))","v":{"$error":"#N/A"}},{"$f":"IF(P156=\"\",\"\",VLOOKUP(P156,漢字読み!$A$2:$O$506,6,0))","v":{"$error":"#N/A"}},{"$f":"IF(Q156=\"\",\"\",VLOOKUP(Q156,漢字読み!$A$2:$O$506,6,0))","v":{"$error":"#N/A"}},{"$f":"IF(R156=\"\",\"\",VLOOKUP(R156,漢字読み!$A$2:$O$506,6,0))","v":{"$error":"#N/A"}},{"$f":"IF(S156=\"\",\"\",VLOOKUP(S156,漢字読み!$A$2:$O$506,6,0))","v":{"$error":"#N/A"}},{"$f":"IF(T156=\"\",\"\",VLOOKUP(T156,漢字読み!$A$2:$O$506,6,0))","v":{"$error":"#N/A"}},null,"級"]
[{"$f":"IF(A$16=\"\",\"\",VLOOKUP(A156,漢字書き!$A$2:$O$506,8,0))","v":{"$error":"#N/A"}},{"$f":"IF(B$16=\"\",\"\",VLOOKUP(B156,漢字書き!$A$2:$O$506,8,0))","v":{"$error":"#N/A"}},{"$f":"IF(C$16=\"\",\"\",VLOOKUP(C156,漢字書き!$A$2:$O$506,8,0))","v":{"$error":"#N/A"}},{"$f":"IF(D$16=\"\",\"\",VLOOKUP(D156,漢字書き!$A$2:$O$506,8,0))","v":{"$error":"#N/A"}},{"$f":"IF(E$16=\"\",\"\",VLOOKUP(E156,漢字書き!$A$2:$O$506,8,0))","v":{"$error":"#N/A"}},{"$f":"IF(F$16=\"\",\"\",VLOOKUP(F156,漢字書き!$A$2:$O$506,8,0))","v":{"$error":"#N/A"}},{"$f":"IF(G$16=\"\",\"\",VLOOKUP(G156,漢字書き!$A$2:$O$506,8,0))","v":{"$error":"#N/A"}},{"$f":"IF(H$16=\"\",\"\",VLOOKUP(H156,漢字書き!$A$2:$O$506,8,0))","v":{"$error":"#N/A"}},{"$f":"IF(I$16=\"\",\"\",VLOOKUP(I156,漢字書き!$A$2:$O$506,8,0))","v":{"$error":"#N/A"}},{"$f":"IF(J$16=\"\",\"\",VLOOKUP(J156,漢字書き!$A$2:$O$506,8,0))","v":{"$error":"#N/A"}},{"$f":"IF(K$16=\"\",\"\",VLOOKUP(K156,漢字読み!$A$2:$O$506,8,0))","v":"ひ"},{"$f":"IF(L$16=\"\",\"\",VLOOKUP(L156,漢字読み!$A$2:$O$506,8,0))","v":"くみ"},{"$f":"IF(M$16=\"\",\"\",VLOOKUP(M156,漢字読み!$A$2:$O$506,8,0))","v":{"$error":"#N/A"}},{"$f":"IF(N$16=\"\",\"\",VLOOKUP(N156,漢字読み!$A$2:$O$506,8,0))","v":{"$error":"#N/A"}},{"$f":"IF(O$16=\"\",\"\",VLOOKUP(O156,漢字読み!$A$2:$O$506,8,0))","v":{"$error":"#N/A"}},{"$f":"IF(P$16=\"\",\"\",VLOOKUP(P156,漢字読み!$A$2:$O$506,8,0))","v":{"$error":"#N/A"}},{"$f":"IF(Q$16=\"\",\"\",VLOOKUP(Q156,漢字読み!$A$2:$O$506,8,0))","v":{"$error":"#N/A"}},{"$f":"IF(R$16=\"\",\"\",VLOOKUP(R156,漢字読み!$A$2:$O$506,8,0))","v":{"$error":"#N/A"}},{"$f":"IF(S$16=\"\",\"\",VLOOKUP(S156,漢字読み!$A$2:$O$506,8,0))","v":{"$error":"#N/A"}},{"$f":"IF(T$16=\"\",\"\",VLOOKUP(T156,漢字読み!$A$2:$O$506,8,0))","v":{"$error":"#N/A"}},null,"名前"]
[{"$f":"IF(A156=\"\",\"\",IF(VLOOKUP(A156,漢字書き!$A$2:$N$502,7,0)=0,\"\",VLOOKUP(A156,漢字書き!$A$2:$N$502,7,0)))","v":{"$error":"#N/A"}},{"$f":"IF(B156=\"\",\"\",IF(VLOOKUP(B156,漢字書き!$A$2:$N$502,7,0)=0,\"\",VLOOKUP(B156,漢字書き!$A$2:$N$502,7,0)))","v":{"$error":"#N/A"}},{"$f":"IF(C156=\"\",\"\",IF(VLOOKUP(C156,漢字書き!$A$2:$N$502,7,0)=0,\"\",VLOOKUP(C156,漢字書き!$A$2:$N$502,7,0)))","v":{"$error":"#N/A"}},{"$f":"IF(D156=\"\",\"\",IF(VLOOKUP(D156,漢字書き!$A$2:$N$502,7,0)=0,\"\",VLOOKUP(D156,漢字書き!$A$2:$N$502,7,0)))","v":{"$error":"#N/A"}},{"$f":"IF(E156=\"\",\"\",IF(VLOOKUP(E156,漢字書き!$A$2:$N$502,7,0)=0,\"\",VLOOKUP(E156,漢字書き!$A$2:$N$502,7,0)))","v":{"$error":"#N/A"}},{"$f":"IF(F156=\"\",\"\",IF(VLOOKUP(F156,漢字書き!$A$2:$N$502,7,0)=0,\"\",VLOOKUP(F156,漢字書き!$A$2:$N$502,7,0)))","v":{"$error":"#N/A"}},{"$f":"IF(G156=\"\",\"\",IF(VLOOKUP(G156,漢字書き!$A$2:$N$502,7,0)=0,\"\",VLOOKUP(G156,漢字書き!$A$2:$N$502,7,0)))","v":{"$error":"#N/A"}},{"$f":"IF(H156=\"\",\"\",IF(VLOOKUP(H156,漢字書き!$A$2:$N$502,7,0)=0,\"\",VLOOKUP(H156,漢字書き!$A$2:$N$502,7,0)))","v":{"$error":"#N/A"}},{"$f":"IF(I156=\"\",\"\",IF(VLOOKUP(I156,漢字書き!$A$2:$N$502,7,0)=0,\"\",VLOOKUP(I156,漢字書き!$A$2:$N$502,7,0)))","v":{"$error":"#N/A"}},{"$f":"IF(J156=\"\",\"\",IF(VLOOKUP(J156,漢字書き!$A$2:$N$502,7,0)=0,\"\",VLOOKUP(J156,漢字書き!$A$2:$N$502,7,0)))","v":{"$error":"#N/A"}},{"$f":"IF(K156=\"\",\"\",IF(VLOOKUP(K156,漢字読み!$A$2:$O$502,7,0)=0,\"\",VLOOKUP(K156,漢字読み!$A$2:$O$502,7,0)))","v":"く"},{"$f":"IF(L156=\"\",\"\",IF(VLOOKUP(L156,漢字読み!$A$2:$O$502,7,0)=0,\"\",VLOOKUP(L156,漢字読み!$A$2:$O$502,7,0)))","v":""},{"$f":"IF(M156=\"\",\"\",IF(VLOOKUP(M156,漢字読み!$A$2:$O$502,7,0)=0,\"\",VLOOKUP(M156,漢字読み!$A$2:$O$502,7,0)))","v":{"$error":"#N/A"}},{"$f":"IF(N156=\"\",\"\",IF(VLOOKUP(N156,漢字読み!$A$2:$O$502,7,0)=0,\"\",VLOOKUP(N156,漢字読み!$A$2:$O$502,7,0)))","v":{"$error":"#N/A"}},{"$f":"IF(O156=\"\",\"\",IF(VLOOKUP(O156,漢字読み!$A$2:$O$502,7,0)=0,\"\",VLOOKUP(O156,漢字読み!$A$2:$O$502,7,0)))","v":{"$error":"#N/A"}},{"$f":"IF(P156=\"\",\"\",IF(VLOOKUP(P156,漢字読み!$A$2:$O$502,7,0)=0,\"\",VLOOKUP(P156,漢字読み!$A$2:$O$502,7,0)))","v":{"$error":"#N/A"}},{"$f":"IF(Q156=\"\",\"\",IF(VLOOKUP(Q156,漢字読み!$A$2:$O$502,7,0)=0,\"\",VLOOKUP(Q156,漢字読み!$A$2:$O$502,7,0)))","v":{"$error":"#N/A"}},{"$f":"IF(R156=\"\",\"\",IF(VLOOKUP(R156,漢字読み!$A$2:$O$502,7,0)=0,\"\",VLOOKUP(R156,漢字読み!$A$2:$O$502,7,0)))","v":{"$error":"#N/A"}},{"$f":"IF(S156=\"\",\"\",IF(VLOOKUP(S156,漢字読み!$A$2:$O$502,7,0)=0,\"\",VLOOKUP(S156,漢字読み!$A$2:$O$502,7,0)))","v":{"$error":"#N/A"}},{"$f":"IF(T156=\"\",\"\",IF(VLOOKUP(T156,漢字読み!$A$2:$O$502,7,0)=0,\"\",VLOOKUP(T156,漢字読み!$A$2:$O$502,7,0)))","v":{"$error":"#N/A"}},null,null,"和歌山県教育委員会"]
[{"$f":"INDIRECT(\"'関数（書き）'!C\" & COLUMN(B$1)+SUM($AD$2:$AD162))","v":0},{"$f":"INDIRECT(\"'関数（書き）'!C\" & COLUMN(C$1)+SUM($AD$2:$AD162))","v":0},{"$f":"INDIRECT(\"'関数（書き）'!C\" & COLUMN(D$1)+SUM($AD$2:$AD162))","v":0},{"$f":"INDIRECT(\"'関数（書き）'!C\" & COLUMN(E$1)+SUM($AD$2:$AD162))","v":0},{"$f":"INDIRECT(\"'関数（書き）'!C\" & COLUMN(F$1)+SUM($AD$2:$AD162))","v":0},{"$f":"INDIRECT(\"'関数（書き）'!C\" & COLUMN(G$1)+SUM($AD$2:$AD162))","v":0},{"$f":"INDIRECT(\"'関数（書き）'!C\" & COLUMN(H$1)+SUM($AD$2:$AD162))","v":0},{"$f":"INDIRECT(\"'関数（書き）'!C\" & COLUMN(I$1)+SUM($AD$2:$AD162))","v":0},{"$f":"INDIRECT(\"'関数（書き）'!C\" & COLUMN(J$1)+SUM($AD$2:$AD162))","v":0},{"$f":"INDIRECT(\"'関数（書き）'!C\" & COLUMN(K$1)+SUM($AD$2:$AD162))","v":0},{"$f":"INDIRECT(\"'関数（読み）'!C\" & COLUMN(B$1)+SUM($AD$2:$AD162))","v":0},{"$f":"INDIRECT(\"'関数（読み）'!C\" & COLUMN(C$1)+SUM($AD$2:$AD162))","v":0},{"$f":"INDIRECT(\"'関数（読み）'!C\" & COLUMN(D$1)+SUM($AD$2:$AD162))","v":0},{"$f":"INDIRECT(\"'関数（読み）'!C\" & COLUMN(E$1)+SUM($AD$2:$AD162))","v":0},{"$f":"INDIRECT(\"'関数（読み）'!C\" & COLUMN(F$1)+SUM($AD$2:$AD162))","v":0},{"$f":"INDIRECT(\"'関数（読み）'!C\" & COLUMN(G$1)+SUM($AD$2:$AD162))","v":0},{"$f":"INDIRECT(\"'関数（読み）'!C\" & COLUMN(H$1)+SUM($AD$2:$AD162))","v":0},{"$f":"INDIRECT(\"'関数（読み）'!C\" & COLUMN(I$1)+SUM($AD$2:$AD162))","v":0},{"$f":"INDIRECT(\"'関数（読み）'!C\" & COLUMN(J$1)+SUM($AD$2:$AD162))","v":0},{"$f":"INDIRECT(\"'関数（読み）'!C\" & COLUMN(K$1)+SUM($AD$2:$AD162))","v":0}]
["⑳","⑲","⑱","⑰","⑯","⑮","⑭","⑬","⑫","⑪","⑩","⑨","⑧","⑦","⑥","⑤","④","③","②","①","次の［　　　　］の部分の漢字には読みがなをひらがなで書き、カタカナは漢字に直しなさい。",14,"「漢字の博士検定試験」練習問題　",null,null,null,null,null,"←",10,"問",{"$f":"AH147+1","v":161},"～",{"$f":"SUM($AD$2:$AD162)+10","v":170},"問まで",{"$f":"COUNTIF($A$1:$T$200,T163)","v":585}]
[{"$f":"IF(A161=\"\",\"\",VLOOKUP(A161,漢字書き!$A$2:$N$506,6,0))","v":{"$error":"#N/A"}},{"$f":"IF(B161=\"\",\"\",VLOOKUP(B161,漢字書き!$A$2:$N$506,6,0))","v":{"$error":"#N/A"}},{"$f":"IF(C161=\"\",\"\",VLOOKUP(C161,漢字書き!$A$2:$N$506,6,0))","v":{"$error":"#N/A"}},{"$f":"IF(D161=\"\",\"\",VLOOKUP(D161,漢字書き!$A$2:$N$506,6,0))","v":{"$error":"#N/A"}},{"$f":"IF(E161=\"\",\"\",VLOOKUP(E161,漢字書き!$A$2:$N$506,6,0))","v":{"$error":"#N/A"}},{"$f":"IF(F161=\"\",\"\",VLOOKUP(F161,漢字書き!$A$2:$N$506,6,0))","v":{"$error":"#N/A"}},{"$f":"IF(G161=\"\",\"\",VLOOKUP(G161,漢字書き!$A$2:$N$506,6,0))","v":{"$error":"#N/A"}},{"$f":"IF(H161=\"\",\"\",VLOOKUP(H161,漢字書き!$A$2:$N$506,6,0))","v":{"$error":"#N/A"}},{"$f":"IF(I161=\"\",\"\",VLOOKUP(I161,漢字書き!$A$2:$N$506,6,0))","v":{"$error":"#N/A"}},{"$f":"IF(J161=\"\",\"\",VLOOKUP(J161,漢字書き!$A$2:$N$506,6,0))","v":{"$error":"#N/A"}},{"$f":"IF(K161=\"\",\"\",VLOOKUP(K161,漢字読み!$A$2:$O$506,6,0))","v":{"$error":"#N/A"}},{"$f":"IF(L161=\"\",\"\",VLOOKUP(L161,漢字読み!$A$2:$O$506,6,0))","v":{"$error":"#N/A"}},{"$f":"IF(M161=\"\",\"\",VLOOKUP(M161,漢字読み!$A$2:$O$506,6,0))","v":{"$error":"#N/A"}},{"$f":"IF(N161=\"\",\"\",VLOOKUP(N161,漢字読み!$A$2:$O$506,6,0))","v":{"$error":"#N/A"}},{"$f":"IF(O161=\"\",\"\",VLOOKUP(O161,漢字読み!$A$2:$O$506,6,0))","v":{"$error":"#N/A"}},{"$f":"IF(P161=\"\",\"\",VLOOKUP(P161,漢字読み!$A$2:$O$506,6,0))","v":{"$error":"#N/A"}},{"$f":"IF(Q161=\"\",\"\",VLOOKUP(Q161,漢字読み!$A$2:$O$506,6,0))","v":{"$error":"#N/A"}},{"$f":"IF(R161=\"\",\"\",VLOOKUP(R161,漢字読み!$A$2:$O$506,6,0))","v":{"$error":"#N/A"}},{"$f":"IF(S161=\"\",\"\",VLOOKUP(S161,漢字読み!$A$2:$O$506,6,0))","v":{"$error":"#N/A"}},{"$f":"IF(T161=\"\",\"\",VLOOKUP(T161,漢字読み!$A$2:$O$506,6,0))","v":{"$error":"#N/A"}},null,"級"]
[null,null,null,null,null,null,null,null,null,null,null,null,null,null,null,null,null,null,null,null,null,"名前"]
[{"$f":"IF(A161=\"\",\"\",IF(VLOOKUP(A161,漢字書き!$A$2:$N$502,7,0)=0,\"\",VLOOKUP(A161,漢字書き!$A$2:$N$502,7,0)))","v":{"$error":"#N/A"}},{"$f":"IF(B161=\"\",\"\",IF(VLOOKUP(B161,漢字書き!$A$2:$N$502,7,0)=0,\"\",VLOOKUP(B161,漢字書き!$A$2:$N$502,7,0)))","v":{"$error":"#N/A"}},{"$f":"IF(C161=\"\",\"\",IF(VLOOKUP(C161,漢字書き!$A$2:$N$502,7,0)=0,\"\",VLOOKUP(C161,漢字書き!$A$2:$N$502,7,0)))","v":{"$error":"#N/A"}},{"$f":"IF(D161=\"\",\"\",IF(VLOOKUP(D161,漢字書き!$A$2:$N$502,7,0)=0,\"\",VLOOKUP(D161,漢字書き!$A$2:$N$502,7,0)))","v":{"$error":"#N/A"}},{"$f":"IF(E161=\"\",\"\",IF(VLOOKUP(E161,漢字書き!$A$2:$N$502,7,0)=0,\"\",VLOOKUP(E161,漢字書き!$A$2:$N$502,7,0)))","v":{"$error":"#N/A"}},{"$f":"IF(F161=\"\",\"\",IF(VLOOKUP(F161,漢字書き!$A$2:$N$502,7,0)=0,\"\",VLOOKUP(F161,漢字書き!$A$2:$N$502,7,0)))","v":{"$error":"#N/A"}},{"$f":"IF(G161=\"\",\"\",IF(VLOOKUP(G161,漢字書き!$A$2:$N$502,7,0)=0,\"\",VLOOKUP(G161,漢字書き!$A$2:$N$502,7,0)))","v":{"$error":"#N/A"}},{"$f":"IF(H161=\"\",\"\",IF(VLOOKUP(H161,漢字書き!$A$2:$N$502,7,0)=0,\"\",VLOOKUP(H161,漢字書き!$A$2:$N$502,7,0)))","v":{"$error":"#N/A"}},{"$f":"IF(I161=\"\",\"\",IF(VLOOKUP(I161,漢字書き!$A$2:$N$502,7,0)=0,\"\",VLOOKUP(I161,漢字書き!$A$2:$N$502,7,0)))","v":{"$error":"#N/A"}},{"$f":"IF(J161=\"\",\"\",IF(VLOOKUP(J161,漢字書き!$A$2:$N$502,7,0)=0,\"\",VLOOKUP(J161,漢字書き!$A$2:$N$502,7,0)))","v":{"$error":"#N/A"}},{"$f":"IF(K161=\"\",\"\",IF(VLOOKUP(K161,漢字読み!$A$2:$O$502,7,0)=0,\"\",VLOOKUP(K161,漢字読み!$A$2:$O$502,7,0)))","v":{"$error":"#N/A"}},{"$f":"IF(L161=\"\",\"\",IF(VLOOKUP(L161,漢字読み!$A$2:$O$502,7,0)=0,\"\",VLOOKUP(L161,漢字読み!$A$2:$O$502,7,0)))","v":{"$error":"#N/A"}},{"$f":"IF(M161=\"\",\"\",IF(VLOOKUP(M161,漢字読み!$A$2:$O$502,7,0)=0,\"\",VLOOKUP(M161,漢字読み!$A$2:$O$502,7,0)))","v":{"$error":"#N/A"}},{"$f":"IF(N161=\"\",\"\",IF(VLOOKUP(N161,漢字読み!$A$2:$O$502,7,0)=0,\"\",VLOOKUP(N161,漢字読み!$A$2:$O$502,7,0)))","v":{"$error":"#N/A"}},{"$f":"IF(O161=\"\",\"\",IF(VLOOKUP(O161,漢字読み!$A$2:$O$502,7,0)=0,\"\",VLOOKUP(O161,漢字読み!$A$2:$O$502,7,0)))","v":{"$error":"#N/A"}},{"$f":"IF(P161=\"\",\"\",IF(VLOOKUP(P161,漢字読み!$A$2:$O$502,7,0)=0,\"\",VLOOKUP(P161,漢字読み!$A$2:$O$502,7,0)))","v":{"$error":"#N/A"}},{"$f":"IF(Q161=\"\",\"\",IF(VLOOKUP(Q161,漢字読み!$A$2:$O$502,7,0)=0,\"\",VLOOKUP(Q161,漢字読み!$A$2:$O$502,7,0)))","v":{"$error":"#N/A"}},{"$f":"IF(R161=\"\",\"\",IF(VLOOKUP(R161,漢字読み!$A$2:$O$502,7,0)=0,\"\",VLOOKUP(R161,漢字読み!$A$2:$O$502,7,0)))","v":{"$error":"#N/A"}},{"$f":"IF(S161=\"\",\"\",IF(VLOOKUP(S161,漢字読み!$A$2:$O$502,7,0)=0,\"\",VLOOKUP(S161,漢字読み!$A$2:$O$502,7,0)))","v":{"$error":"#N/A"}},{"$f":"IF(T161=\"\",\"\",IF(VLOOKUP(T161,漢字読み!$A$2:$O$502,7,0)=0,\"\",VLOOKUP(T161,漢字読み!$A$2:$O$502,7,0)))","v":{"$error":"#N/A"}},null,null,"和歌山県教育委員会"]
[{"$f":"INDIRECT(\"'関数（書き）'!C\" & COLUMN(B$1)+SUM($AD$2:$AD167))","v":0},{"$f":"INDIRECT(\"'関数（書き）'!C\" & COLUMN(C$1)+SUM($AD$2:$AD167))","v":0},{"$f":"INDIRECT(\"'関数（書き）'!C\" & COLUMN(D$1)+SUM($AD$2:$AD167))","v":0},{"$f":"INDIRECT(\"'関数（書き）'!C\" & COLUMN(E$1)+SUM($AD$2:$AD167))","v":0},{"$f":"INDIRECT(\"'関数（書き）'!C\" & COLUMN(F$1)+SUM($AD$2:$AD167))","v":0},{"$f":"INDIRECT(\"'関数（書き）'!C\" & COLUMN(G$1)+SUM($AD$2:$AD167))","v":0},{"$f":"INDIRECT(\"'関数（書き）'!C\" & COLUMN(H$1)+SUM($AD$2:$AD167))","v":0},{"$f":"INDIRECT(\"'関数（書き）'!C\" & COLUMN(I$1)+SUM($AD$2:$AD167))","v":0},{"$f":"INDIRECT(\"'関数（書き）'!C\" & COLUMN(J$1)+SUM($AD$2:$AD167))","v":0},{"$f":"INDIRECT(\"'関数（書き）'!C\" & COLUMN(K$1)+SUM($AD$2:$AD167))","v":0},{"$f":"INDIRECT(\"'関数（読み）'!C\" & COLUMN(B$1)+SUM($AD$2:$AD167))","v":0},{"$f":"INDIRECT(\"'関数（読み）'!C\" & COLUMN(C$1)+SUM($AD$2:$AD167))","v":0},{"$f":"INDIRECT(\"'関数（読み）'!C\" & COLUMN(D$1)+SUM($AD$2:$AD167))","v":0},{"$f":"INDIRECT(\"'関数（読み）'!C\" & COLUMN(E$1)+SUM($AD$2:$AD167))","v":0},{"$f":"INDIRECT(\"'関数（読み）'!C\" & COLUMN(F$1)+SUM($AD$2:$AD167))","v":0},{"$f":"INDIRECT(\"'関数（読み）'!C\" & COLUMN(G$1)+SUM($AD$2:$AD167))","v":0},{"$f":"INDIRECT(\"'関数（読み）'!C\" & COLUMN(H$1)+SUM($AD$2:$AD167))","v":0},{"$f":"INDIRECT(\"'関数（読み）'!C\" & COLUMN(I$1)+SUM($AD$2:$AD167))","v":0},{"$f":"INDIRECT(\"'関数（読み）'!C\" & COLUMN(J$1)+SUM($AD$2:$AD167))","v":0},{"$f":"INDIRECT(\"'関数（読み）'!C\" & COLUMN(K$1)+SUM($AD$2:$AD167))","v":0}]
["⑳","⑲","⑱","⑰","⑯","⑮","⑭","⑬","⑫","⑪","⑩","⑨","⑧","⑦","⑥","⑤","④","③","②","①","次の［　　　　］の部分の漢字には読みがなをひらがなで書き、カタカナは漢字に直しなさい。",14,"「漢字の博士検定試験」練習問題　",null,null,null,null,null,"←",10,"問",{"$f":"AH162+1","v":171},"～",{"$f":"SUM($AD$2:$AD167)+10","v":180},"問まで",{"$f":"COUNTIF($A$1:$T$200,T168)","v":585}]
[{"$f":"IF(A166=\"\",\"\",VLOOKUP(A166,漢字書き!$A$2:$N$506,6,0))","v":{"$error":"#N/A"}},{"$f":"IF(B166=\"\",\"\",VLOOKUP(B166,漢字書き!$A$2:$N$506,6,0))","v":{"$error":"#N/A"}},{"$f":"IF(C166=\"\",\"\",VLOOKUP(C166,漢字書き!$A$2:$N$506,6,0))","v":{"$error":"#N/A"}},{"$f":"IF(D166=\"\",\"\",VLOOKUP(D166,漢字書き!$A$2:$N$506,6,0))","v":{"$error":"#N/A"}},{"$f":"IF(E166=\"\",\"\",VLOOKUP(E166,漢字書き!$A$2:$N$506,6,0))","v":{"$error":"#N/A"}},{"$f":"IF(F166=\"\",\"\",VLOOKUP(F166,漢字書き!$A$2:$N$506,6,0))","v":{"$error":"#N/A"}},{"$f":"IF(G166=\"\",\"\",VLOOKUP(G166,漢字書き!$A$2:$N$506,6,0))","v":{"$error":"#N/A"}},{"$f":"IF(H166=\"\",\"\",VLOOKUP(H166,漢字書き!$A$2:$N$506,6,0))","v":{"$error":"#N/A"}},{"$f":"IF(I166=\"\",\"\",VLOOKUP(I166,漢字書き!$A$2:$N$506,6,0))","v":{"$error":"#N/A"}},{"$f":"IF(J166=\"\",\"\",VLOOKUP(J166,漢字書き!$A$2:$N$506,6,0))","v":{"$error":"#N/A"}},{"$f":"IF(K166=\"\",\"\",VLOOKUP(K166,漢字読み!$A$2:$O$506,6,0))","v":{"$error":"#N/A"}},{"$f":"IF(L166=\"\",\"\",VLOOKUP(L166,漢字読み!$A$2:$O$506,6,0))","v":{"$error":"#N/A"}},{"$f":"IF(M166=\"\",\"\",VLOOKUP(M166,漢字読み!$A$2:$O$506,6,0))","v":{"$error":"#N/A"}},{"$f":"IF(N166=\"\",\"\",VLOOKUP(N166,漢字読み!$A$2:$O$506,6,0))","v":{"$error":"#N/A"}},{"$f":"IF(O166=\"\",\"\",VLOOKUP(O166,漢字読み!$A$2:$O$506,6,0))","v":{"$error":"#N/A"}},{"$f":"IF(P166=\"\",\"\",VLOOKUP(P166,漢字読み!$A$2:$O$506,6,0))","v":{"$error":"#N/A"}},{"$f":"IF(Q166=\"\",\"\",VLOOKUP(Q166,漢字読み!$A$2:$O$506,6,0))","v":{"$error":"#N/A"}},{"$f":"IF(R166=\"\",\"\",VLOOKUP(R166,漢字読み!$A$2:$O$506,6,0))","v":{"$error":"#N/A"}},{"$f":"IF(S166=\"\",\"\",VLOOKUP(S166,漢字読み!$A$2:$O$506,6,0))","v":{"$error":"#N/A"}},{"$f":"IF(T166=\"\",\"\",VLOOKUP(T166,漢字読み!$A$2:$O$506,6,0))","v":{"$error":"#N/A"}},null,"級"]
[null,null,null,null,null,null,null,null,null,null,null,null,null,null,null,null,null,null,null,null,null,"名前"]
[{"$f":"IF(A166=\"\",\"\",IF(VLOOKUP(A166,漢字書き!$A$2:$N$502,7,0)=0,\"\",VLOOKUP(A166,漢字書き!$A$2:$N$502,7,0)))","v":{"$error":"#N/A"}},{"$f":"IF(B166=\"\",\"\",IF(VLOOKUP(B166,漢字書き!$A$2:$N$502,7,0)=0,\"\",VLOOKUP(B166,漢字書き!$A$2:$N$502,7,0)))","v":{"$error":"#N/A"}},{"$f":"IF(C166=\"\",\"\",IF(VLOOKUP(C166,漢字書き!$A$2:$N$502,7,0)=0,\"\",VLOOKUP(C166,漢字書き!$A$2:$N$502,7,0)))","v":{"$error":"#N/A"}},{"$f":"IF(D166=\"\",\"\",IF(VLOOKUP(D166,漢字書き!$A$2:$N$502,7,0)=0,\"\",VLOOKUP(D166,漢字書き!$A$2:$N$502,7,0)))","v":{"$error":"#N/A"}},{"$f":"IF(E166=\"\",\"\",IF(VLOOKUP(E166,漢字書き!$A$2:$N$502,7,0)=0,\"\",VLOOKUP(E166,漢字書き!$A$2:$N$502,7,0)))","v":{"$error":"#N/A"}},{"$f":"IF(F166=\"\",\"\",IF(VLOOKUP(F166,漢字書き!$A$2:$N$502,7,0)=0,\"\",VLOOKUP(F166,漢字書き!$A$2:$N$502,7,0)))","v":{"$error":"#N/A"}},{"$f":"IF(G166=\"\",\"\",IF(VLOOKUP(G166,漢字書き!$A$2:$N$502,7,0)=0,\"\",VLOOKUP(G166,漢字書き!$A$2:$N$502,7,0)))","v":{"$error":"#N/A"}},{"$f":"IF(H166=\"\",\"\",IF(VLOOKUP(H166,漢字書き!$A$2:$N$502,7,0)=0,\"\",VLOOKUP(H166,漢字書き!$A$2:$N$502,7,0)))","v":{"$error":"#N/A"}},{"$f":"IF(I166=\"\",\"\",IF(VLOOKUP(I166,漢字書き!$A$2:$N$502,7,0)=0,\"\",VLOOKUP(I166,漢字書き!$A$2:$N$502,7,0)))","v":{"$error":"#N/A"}},{"$f":"IF(J166=\"\",\"\",IF(VLOOKUP(J166,漢字書き!$A$2:$N$502,7,0)=0,\"\",VLOOKUP(J166,漢字書き!$A$2:$N$502,7,0)))","v":{"$error":"#N/A"}},{"$f":"IF(K166=\"\",\"\",IF(VLOOKUP(K166,漢字読み!$A$2:$O$502,7,0)=0,\"\",VLOOKUP(K166,漢字読み!$A$2:$O$502,7,0)))","v":{"$error":"#N/A"}},{"$f":"IF(L166=\"\",\"\",IF(VLOOKUP(L166,漢字読み!$A$2:$O$502,7,0)=0,\"\",VLOOKUP(L166,漢字読み!$A$2:$O$502,7,0)))","v":{"$error":"#N/A"}},{"$f":"IF(M166=\"\",\"\",IF(VLOOKUP(M166,漢字読み!$A$2:$O$502,7,0)=0,\"\",VLOOKUP(M166,漢字読み!$A$2:$O$502,7,0)))","v":{"$error":"#N/A"}},{"$f":"IF(N166=\"\",\"\",IF(VLOOKUP(N166,漢字読み!$A$2:$O$502,7,0)=0,\"\",VLOOKUP(N166,漢字読み!$A$2:$O$502,7,0)))","v":{"$error":"#N/A"}},{"$f":"IF(O166=\"\",\"\",IF(VLOOKUP(O166,漢字読み!$A$2:$O$502,7,0)=0,\"\",VLOOKUP(O166,漢字読み!$A$2:$O$502,7,0)))","v":{"$error":"#N/A"}},{"$f":"IF(P166=\"\",\"\",IF(VLOOKUP(P166,漢字読み!$A$2:$O$502,7,0)=0,\"\",VLOOKUP(P166,漢字読み!$A$2:$O$502,7,0)))","v":{"$error":"#N/A"}},{"$f":"IF(Q166=\"\",\"\",IF(VLOOKUP(Q166,漢字読み!$A$2:$O$502,7,0)=0,\"\",VLOOKUP(Q166,漢字読み!$A$2:$O$502,7,0)))","v":{"$error":"#N/A"}},{"$f":"IF(R166=\"\",\"\",IF(VLOOKUP(R166,漢字読み!$A$2:$O$502,7,0)=0,\"\",VLOOKUP(R166,漢字読み!$A$2:$O$502,7,0)))","v":{"$error":"#N/A"}},{"$f":"IF(S166=\"\",\"\",IF(VLOOKUP(S166,漢字読み!$A$2:$O$502,7,0)=0,\"\",VLOOKUP(S166,漢字読み!$A$2:$O$502,7,0)))","v":{"$error":"#N/A"}},{"$f":"IF(T166=\"\",\"\",IF(VLOOKUP(T166,漢字読み!$A$2:$O$502,7,0)=0,\"\",VLOOKUP(T166,漢字読み!$A$2:$O$502,7,0)))","v":{"$error":"#N/A"}},null,null,"和歌山県教育委員会"]
[{"$f":"A161","v":0},{"$f":"B161","v":0},{"$f":"C161","v":0},{"$f":"D161","v":0},{"$f":"E161","v":0},{"$f":"F161","v":0},{"$f":"G161","v":0},{"$f":"H161","v":0},{"$f":"I161","v":0},{"$f":"J161","v":0},{"$f":"K161","v":0},{"$f":"L161","v":0},{"$f":"M161","v":0},{"$f":"N161","v":0},{"$f":"O161","v":0},{"$f":"P161","v":0},{"$f":"Q161","v":0},{"$f":"R161","v":0},{"$f":"S161","v":0},{"$f":"T161","v":0}]
["⑳","⑲","⑱","⑰","⑯","⑮","⑭","⑬","⑫","⑪","⑩","⑨","⑧","⑦","⑥","⑤","④","③","②","①","次の［　　　　］の部分の漢字には読みがなをひらがなで書き、カタカナは漢字に直しなさい。",14,"「漢字の博士検定試験」練習問題　"]
[{"$f":"IF(A171=\"\",\"\",VLOOKUP(A171,漢字書き!$A$2:$N$506,6,0))","v":{"$error":"#N/A"}},{"$f":"IF(B171=\"\",\"\",VLOOKUP(B171,漢字書き!$A$2:$N$506,6,0))","v":{"$error":"#N/A"}},{"$f":"IF(C171=\"\",\"\",VLOOKUP(C171,漢字書き!$A$2:$N$506,6,0))","v":{"$error":"#N/A"}},{"$f":"IF(D171=\"\",\"\",VLOOKUP(D171,漢字書き!$A$2:$N$506,6,0))","v":{"$error":"#N/A"}},{"$f":"IF(E171=\"\",\"\",VLOOKUP(E171,漢字書き!$A$2:$N$506,6,0))","v":{"$error":"#N/A"}},{"$f":"IF(F171=\"\",\"\",VLOOKUP(F171,漢字書き!$A$2:$N$506,6,0))","v":{"$error":"#N/A"}},{"$f":"IF(G171=\"\",\"\",VLOOKUP(G171,漢字書き!$A$2:$N$506,6,0))","v":{"$error":"#N/A"}},{"$f":"IF(H171=\"\",\"\",VLOOKUP(H171,漢字書き!$A$2:$N$506,6,0))","v":{"$error":"#N/A"}},{"$f":"IF(I171=\"\",\"\",VLOOKUP(I171,漢字書き!$A$2:$N$506,6,0))","v":{"$error":"#N/A"}},{"$f":"IF(J171=\"\",\"\",VLOOKUP(J171,漢字書き!$A$2:$N$506,6,0))","v":{"$error":"#N/A"}},{"$f":"IF(K171=\"\",\"\",VLOOKUP(K171,漢字読み!$A$2:$O$506,6,0))","v":{"$error":"#N/A"}},{"$f":"IF(L171=\"\",\"\",VLOOKUP(L171,漢字読み!$A$2:$O$506,6,0))","v":{"$error":"#N/A"}},{"$f":"IF(M171=\"\",\"\",VLOOKUP(M171,漢字読み!$A$2:$O$506,6,0))","v":{"$error":"#N/A"}},{"$f":"IF(N171=\"\",\"\",VLOOKUP(N171,漢字読み!$A$2:$O$506,6,0))","v":{"$error":"#N/A"}},{"$f":"IF(O171=\"\",\"\",VLOOKUP(O171,漢字読み!$A$2:$O$506,6,0))","v":{"$error":"#N/A"}},{"$f":"IF(P171=\"\",\"\",VLOOKUP(P171,漢字読み!$A$2:$O$506,6,0))","v":{"$error":"#N/A"}},{"$f":"IF(Q171=\"\",\"\",VLOOKUP(Q171,漢字読み!$A$2:$O$506,6,0))","v":{"$error":"#N/A"}},{"$f":"IF(R171=\"\",\"\",VLOOKUP(R171,漢字読み!$A$2:$O$506,6,0))","v":{"$error":"#N/A"}},{"$f":"IF(S171=\"\",\"\",VLOOKUP(S171,漢字読み!$A$2:$O$506,6,0))","v":{"$error":"#N/A"}},{"$f":"IF(T171=\"\",\"\",VLOOKUP(T171,漢字読み!$A$2:$O$506,6,0))","v":{"$error":"#N/A"}},null,"級"]
[{"$f":"IF(A$11=\"\",\"\",VLOOKUP(A171,漢字書き!$A$2:$O$506,8,0))","v":{"$error":"#N/A"}},{"$f":"IF(B$11=\"\",\"\",VLOOKUP(B171,漢字書き!$A$2:$O$506,8,0))","v":{"$error":"#N/A"}},{"$f":"IF(C$11=\"\",\"\",VLOOKUP(C171,漢字書き!$A$2:$O$506,8,0))","v":{"$error":"#N/A"}},{"$f":"IF(D$11=\"\",\"\",VLOOKUP(D171,漢字書き!$A$2:$O$506,8,0))","v":{"$error":"#N/A"}},{"$f":"IF(E$11=\"\",\"\",VLOOKUP(E171,漢字書き!$A$2:$O$506,8,0))","v":{"$error":"#N/A"}},{"$f":"IF(F$11=\"\",\"\",VLOOKUP(F171,漢字書き!$A$2:$O$506,8,0))","v":{"$error":"#N/A"}},{"$f":"IF(G$11=\"\",\"\",VLOOKUP(G171,漢字書き!$A$2:$O$506,8,0))","v":{"$error":"#N/A"}},{"$f":"IF(H$11=\"\",\"\",VLOOKUP(H171,漢字書き!$A$2:$O$506,8,0))","v":{"$error":"#N/A"}},{"$f":"IF(I$11=\"\",\"\",VLOOKUP(I171,漢字書き!$A$2:$O$506,8,0))","v":{"$error":"#N/A"}},{"$f":"IF(J$11=\"\",\"\",VLOOKUP(J171,漢字書き!$A$2:$O$506,8,0))","v":{"$error":"#N/A"}},{"$f":"IF(K$11=\"\",\"\",VLOOKUP(K171,漢字読み!$A$2:$O$506,8,0))","v":{"$error":"#N/A"}},{"$f":"IF(L$11=\"\",\"\",VLOOKUP(L171,漢字読み!$A$2:$O$506,8,0))","v":{"$error":"#N/A"}},{"$f":"IF(M$11=\"\",\"\",VLOOKUP(M171,漢字読み!$A$2:$O$506,8,0))","v":{"$error":"#N/A"}},{"$f":"IF(N$11=\"\",\"\",VLOOKUP(N171,漢字読み!$A$2:$O$506,8,0))","v":{"$error":"#N/A"}},{"$f":"IF(O$11=\"\",\"\",VLOOKUP(O171,漢字読み!$A$2:$O$506,8,0))","v":{"$error":"#N/A"}},{"$f":"IF(P$11=\"\",\"\",VLOOKUP(P171,漢字読み!$A$2:$O$506,8,0))","v":{"$error":"#N/A"}},{"$f":"IF(Q$11=\"\",\"\",VLOOKUP(Q171,漢字読み!$A$2:$O$506,8,0))","v":{"$error":"#N/A"}},{"$f":"IF(R$11=\"\",\"\",VLOOKUP(R171,漢字読み!$A$2:$O$506,8,0))","v":{"$error":"#N/A"}},{"$f":"IF(S$11=\"\",\"\",VLOOKUP(S171,漢字読み!$A$2:$O$506,8,0))","v":{"$error":"#N/A"}},{"$f":"IF(T$11=\"\",\"\",VLOOKUP(T171,漢字読み!$A$2:$O$506,8,0))","v":{"$error":"#N/A"}},null,"名前"]
[{"$f":"IF(A171=\"\",\"\",IF(VLOOKUP(A171,漢字書き!$A$2:$N$502,7,0)=0,\"\",VLOOKUP(A171,漢字書き!$A$2:$N$502,7,0)))","v":{"$error":"#N/A"}},{"$f":"IF(B171=\"\",\"\",IF(VLOOKUP(B171,漢字書き!$A$2:$N$502,7,0)=0,\"\",VLOOKUP(B171,漢字書き!$A$2:$N$502,7,0)))","v":{"$error":"#N/A"}},{"$f":"IF(C171=\"\",\"\",IF(VLOOKUP(C171,漢字書き!$A$2:$N$502,7,0)=0,\"\",VLOOKUP(C171,漢字書き!$A$2:$N$502,7,0)))","v":{"$error":"#N/A"}},{"$f":"IF(D171=\"\",\"\",IF(VLOOKUP(D171,漢字書き!$A$2:$N$502,7,0)=0,\"\",VLOOKUP(D171,漢字書き!$A$2:$N$502,7,0)))","v":{"$error":"#N/A"}},{"$f":"IF(E171=\"\",\"\",IF(VLOOKUP(E171,漢字書き!$A$2:$N$502,7,0)=0,\"\",VLOOKUP(E171,漢字書き!$A$2:$N$502,7,0)))","v":{"$error":"#N/A"}},{"$f":"IF(F171=\"\",\"\",IF(VLOOKUP(F171,漢字書き!$A$2:$N$502,7,0)=0,\"\",VLOOKUP(F171,漢字書き!$A$2:$N$502,7,0)))","v":{"$error":"#N/A"}},{"$f":"IF(G171=\"\",\"\",IF(VLOOKUP(G171,漢字書き!$A$2:$N$502,7,0)=0,\"\",VLOOKUP(G171,漢字書き!$A$2:$N$502,7,0)))","v":{"$error":"#N/A"}},{"$f":"IF(H171=\"\",\"\",IF(VLOOKUP(H171,漢字書き!$A$2:$N$502,7,0)=0,\"\",VLOOKUP(H171,漢字書き!$A$2:$N$502,7,0)))","v":{"$error":"#N/A"}},{"$f":"IF(I171=\"\",\"\",IF(VLOOKUP(I171,漢字書き!$A$2:$N$502,7,0)=0,\"\",VLOOKUP(I171,漢字書き!$A$2:$N$502,7,0)))","v":{"$error":"#N/A"}},{"$f":"IF(J171=\"\",\"\",IF(VLOOKUP(J171,漢字書き!$A$2:$N$502,7,0)=0,\"\",VLOOKUP(J171,漢字書き!$A$2:$N$502,7,0)))","v":{"$error":"#N/A"}},{"$f":"IF(K171=\"\",\"\",IF(VLOOKUP(K171,漢字読み!$A$2:$O$502,7,0)=0,\"\",VLOOKUP(K171,漢字読み!$A$2:$O$502,7,0)))","v":{"$error":"#N/A"}},{"$f":"IF(L171=\"\",\"\",IF(VLOOKUP(L171,漢字読み!$A$2:$O$502,7,0)=0,\"\",VLOOKUP(L171,漢字読み!$A$2:$O$502,7,0)))","v":{"$error":"#N/A"}},{"$f":"IF(M171=\"\",\"\",IF(VLOOKUP(M171,漢字読み!$A$2:$O$502,7,0)=0,\"\",VLOOKUP(M171,漢字読み!$A$2:$O$502,7,0)))","v":{"$error":"#N/A"}},{"$f":"IF(N171=\"\",\"\",IF(VLOOKUP(N171,漢字読み!$A$2:$O$502,7,0)=0,\"\",VLOOKUP(N171,漢字読み!$A$2:$O$502,7,0)))","v":{"$error":"#N/A"}},{"$f":"IF(O171=\"\",\"\",IF(VLOOKUP(O171,漢字読み!$A$2:$O$502,7,0)=0,\"\",VLOOKUP(O171,漢字読み!$A$2:$O$502,7,0)))","v":{"$error":"#N/A"}},{"$f":"IF(P171=\"\",\"\",IF(VLOOKUP(P171,漢字読み!$A$2:$O$502,7,0)=0,\"\",VLOOKUP(P171,漢字読み!$A$2:$O$502,7,0)))","v":{"$error":"#N/A"}},{"$f":"IF(Q171=\"\",\"\",IF(VLOOKUP(Q171,漢字読み!$A$2:$O$502,7,0)=0,\"\",VLOOKUP(Q171,漢字読み!$A$2:$O$502,7,0)))","v":{"$error":"#N/A"}},{"$f":"IF(R171=\"\",\"\",IF(VLOOKUP(R171,漢字読み!$A$2:$O$502,7,0)=0,\"\",VLOOKUP(R171,漢字読み!$A$2:$O$502,7,0)))","v":{"$error":"#N/A"}},{"$f":"IF(S171=\"\",\"\",IF(VLOOKUP(S171,漢字読み!$A$2:$O$502,7,0)=0,\"\",VLOOKUP(S171,漢字読み!$A$2:$O$502,7,0)))","v":{"$error":"#N/A"}},{"$f":"IF(T171=\"\",\"\",IF(VLOOKUP(T171,漢字読み!$A$2:$O$502,7,0)=0,\"\",VLOOKUP(T171,漢字読み!$A$2:$O$502,7,0)))","v":{"$error":"#N/A"}},null,null,"和歌山県教育委員会"]
[{"$f":"A166","v":0},{"$f":"B166","v":0},{"$f":"C166","v":0},{"$f":"D166","v":0},{"$f":"E166","v":0},{"$f":"F166","v":0},{"$f":"G166","v":0},{"$f":"H166","v":0},{"$f":"I166","v":0},{"$f":"J166","v":0},{"$f":"K166","v":0},{"$f":"L166","v":0},{"$f":"M166","v":0},{"$f":"N166","v":0},{"$f":"O166","v":0},{"$f":"P166","v":0},{"$f":"Q166","v":0},{"$f":"R166","v":0},{"$f":"S166","v":0},{"$f":"T166","v":0}]
["⑳","⑲","⑱","⑰","⑯","⑮","⑭","⑬","⑫","⑪","⑩","⑨","⑧","⑦","⑥","⑤","④","③","②","①","次の［　　　　］の部分の漢字には読みがなをひらがなで書き、カタカナは漢字に直しなさい。",14,"「漢字の博士検定試験」練習問題　"]
[{"$f":"IF(A176=\"\",\"\",VLOOKUP(A176,漢字書き!$A$2:$N$506,6,0))","v":{"$error":"#N/A"}},{"$f":"IF(B176=\"\",\"\",VLOOKUP(B176,漢字書き!$A$2:$N$506,6,0))","v":{"$error":"#N/A"}},{"$f":"IF(C176=\"\",\"\",VLOOKUP(C176,漢字書き!$A$2:$N$506,6,0))","v":{"$error":"#N/A"}},{"$f":"IF(D176=\"\",\"\",VLOOKUP(D176,漢字書き!$A$2:$N$506,6,0))","v":{"$error":"#N/A"}},{"$f":"IF(E176=\"\",\"\",VLOOKUP(E176,漢字書き!$A$2:$N$506,6,0))","v":{"$error":"#N/A"}},{"$f":"IF(F176=\"\",\"\",VLOOKUP(F176,漢字書き!$A$2:$N$506,6,0))","v":{"$error":"#N/A"}},{"$f":"IF(G176=\"\",\"\",VLOOKUP(G176,漢字書き!$A$2:$N$506,6,0))","v":{"$error":"#N/A"}},{"$f":"IF(H176=\"\",\"\",VLOOKUP(H176,漢字書き!$A$2:$N$506,6,0))","v":{"$error":"#N/A"}},{"$f":"IF(I176=\"\",\"\",VLOOKUP(I176,漢字書き!$A$2:$N$506,6,0))","v":{"$error":"#N/A"}},{"$f":"IF(J176=\"\",\"\",VLOOKUP(J176,漢字書き!$A$2:$N$506,6,0))","v":{"$error":"#N/A"}},{"$f":"IF(K176=\"\",\"\",VLOOKUP(K176,漢字読み!$A$2:$O$506,6,0))","v":{"$error":"#N/A"}},{"$f":"IF(L176=\"\",\"\",VLOOKUP(L176,漢字読み!$A$2:$O$506,6,0))","v":{"$error":"#N/A"}},{"$f":"IF(M176=\"\",\"\",VLOOKUP(M176,漢字読み!$A$2:$O$506,6,0))","v":{"$error":"#N/A"}},{"$f":"IF(N176=\"\",\"\",VLOOKUP(N176,漢字読み!$A$2:$O$506,6,0))","v":{"$error":"#N/A"}},{"$f":"IF(O176=\"\",\"\",VLOOKUP(O176,漢字読み!$A$2:$O$506,6,0))","v":{"$error":"#N/A"}},{"$f":"IF(P176=\"\",\"\",VLOOKUP(P176,漢字読み!$A$2:$O$506,6,0))","v":{"$error":"#N/A"}},{"$f":"IF(Q176=\"\",\"\",VLOOKUP(Q176,漢字読み!$A$2:$O$506,6,0))","v":{"$error":"#N/A"}},{"$f":"IF(R176=\"\",\"\",VLOOKUP(R176,漢字読み!$A$2:$O$506,6,0))","v":{"$error":"#N/A"}},{"$f":"IF(S176=\"\",\"\",VLOOKUP(S176,漢字読み!$A$2:$O$506,6,0))","v":{"$error":"#N/A"}},{"$f":"IF(T176=\"\",\"\",VLOOKUP(T176,漢字読み!$A$2:$O$506,6,0))","v":{"$error":"#N/A"}},null,"級"]
[{"$f":"IF(A$16=\"\",\"\",VLOOKUP(A176,漢字書き!$A$2:$O$506,8,0))","v":{"$error":"#N/A"}},{"$f":"IF(B$16=\"\",\"\",VLOOKUP(B176,漢字書き!$A$2:$O$506,8,0))","v":{"$error":"#N/A"}},{"$f":"IF(C$16=\"\",\"\",VLOOKUP(C176,漢字書き!$A$2:$O$506,8,0))","v":{"$error":"#N/A"}},{"$f":"IF(D$16=\"\",\"\",VLOOKUP(D176,漢字書き!$A$2:$O$506,8,0))","v":{"$error":"#N/A"}},{"$f":"IF(E$16=\"\",\"\",VLOOKUP(E176,漢字書き!$A$2:$O$506,8,0))","v":{"$error":"#N/A"}},{"$f":"IF(F$16=\"\",\"\",VLOOKUP(F176,漢字書き!$A$2:$O$506,8,0))","v":{"$error":"#N/A"}},{"$f":"IF(G$16=\"\",\"\",VLOOKUP(G176,漢字書き!$A$2:$O$506,8,0))","v":{"$error":"#N/A"}},{"$f":"IF(H$16=\"\",\"\",VLOOKUP(H176,漢字書き!$A$2:$O$506,8,0))","v":{"$error":"#N/A"}},{"$f":"IF(I$16=\"\",\"\",VLOOKUP(I176,漢字書き!$A$2:$O$506,8,0))","v":{"$error":"#N/A"}},{"$f":"IF(J$16=\"\",\"\",VLOOKUP(J176,漢字書き!$A$2:$O$506,8,0))","v":{"$error":"#N/A"}},{"$f":"IF(K$16=\"\",\"\",VLOOKUP(K176,漢字読み!$A$2:$O$506,8,0))","v":{"$error":"#N/A"}},{"$f":"IF(L$16=\"\",\"\",VLOOKUP(L176,漢字読み!$A$2:$O$506,8,0))","v":{"$error":"#N/A"}},{"$f":"IF(M$16=\"\",\"\",VLOOKUP(M176,漢字読み!$A$2:$O$506,8,0))","v":{"$error":"#N/A"}},{"$f":"IF(N$16=\"\",\"\",VLOOKUP(N176,漢字読み!$A$2:$O$506,8,0))","v":{"$error":"#N/A"}},{"$f":"IF(O$16=\"\",\"\",VLOOKUP(O176,漢字読み!$A$2:$O$506,8,0))","v":{"$error":"#N/A"}},{"$f":"IF(P$16=\"\",\"\",VLOOKUP(P176,漢字読み!$A$2:$O$506,8,0))","v":{"$error":"#N/A"}},{"$f":"IF(Q$16=\"\",\"\",VLOOKUP(Q176,漢字読み!$A$2:$O$506,8,0))","v":{"$error":"#N/A"}},{"$f":"IF(R$16=\"\",\"\",VLOOKUP(R176,漢字読み!$A$2:$O$506,8,0))","v":{"$error":"#N/A"}},{"$f":"IF(S$16=\"\",\"\",VLOOKUP(S176,漢字読み!$A$2:$O$506,8,0))","v":{"$error":"#N/A"}},{"$f":"IF(T$16=\"\",\"\",VLOOKUP(T176,漢字読み!$A$2:$O$506,8,0))","v":{"$error":"#N/A"}},null,"名前"]
[{"$f":"IF(A176=\"\",\"\",IF(VLOOKUP(A176,漢字書き!$A$2:$N$502,7,0)=0,\"\",VLOOKUP(A176,漢字書き!$A$2:$N$502,7,0)))","v":{"$error":"#N/A"}},{"$f":"IF(B176=\"\",\"\",IF(VLOOKUP(B176,漢字書き!$A$2:$N$502,7,0)=0,\"\",VLOOKUP(B176,漢字書き!$A$2:$N$502,7,0)))","v":{"$error":"#N/A"}},{"$f":"IF(C176=\"\",\"\",IF(VLOOKUP(C176,漢字書き!$A$2:$N$502,7,0)=0,\"\",VLOOKUP(C176,漢字書き!$A$2:$N$502,7,0)))","v":{"$error":"#N/A"}},{"$f":"IF(D176=\"\",\"\",IF(VLOOKUP(D176,漢字書き!$A$2:$N$502,7,0)=0,\"\",VLOOKUP(D176,漢字書き!$A$2:$N$502,7,0)))","v":{"$error":"#N/A"}},{"$f":"IF(E176=\"\",\"\",IF(VLOOKUP(E176,漢字書き!$A$2:$N$502,7,0)=0,\"\",VLOOKUP(E176,漢字書き!$A$2:$N$502,7,0)))","v":{"$error":"#N/A"}},{"$f":"IF(F176=\"\",\"\",IF(VLOOKUP(F176,漢字書き!$A$2:$N$502,7,0)=0,\"\",VLOOKUP(F176,漢字書き!$A$2:$N$502,7,0)))","v":{"$error":"#N/A"}},{"$f":"IF(G176=\"\",\"\",IF(VLOOKUP(G176,漢字書き!$A$2:$N$502,7,0)=0,\"\",VLOOKUP(G176,漢字書き!$A$2:$N$502,7,0)))","v":{"$error":"#N/A"}},{"$f":"IF(H176=\"\",\"\",IF(VLOOKUP(H176,漢字書き!$A$2:$N$502,7,0)=0,\"\",VLOOKUP(H176,漢字書き!$A$2:$N$502,7,0)))","v":{"$error":"#N/A"}},{"$f":"IF(I176=\"\",\"\",IF(VLOOKUP(I176,漢字書き!$A$2:$N$502,7,0)=0,\"\",VLOOKUP(I176,漢字書き!$A$2:$N$502,7,0)))","v":{"$error":"#N/A"}},{"$f":"IF(J176=\"\",\"\",IF(VLOOKUP(J176,漢字書き!$A$2:$N$502,7,0)=0,\"\",VLOOKUP(J176,漢字書き!$A$2:$N$502,7,0)))","v":{"$error":"#N/A"}},{"$f":"IF(K176=\"\",\"\",IF(VLOOKUP(K176,漢字読み!$A$2:$O$502,7,0)=0,\"\",VLOOKUP(K176,漢字読み!$A$2:$O$502,7,0)))","v":{"$error":"#N/A"}},{"$f":"IF(L176=\"\",\"\",IF(VLOOKUP(L176,漢字読み!$A$2:$O$502,7,0)=0,\"\",VLOOKUP(L176,漢字読み!$A$2:$O$502,7,0)))","v":{"$error":"#N/A"}},{"$f":"IF(M176=\"\",\"\",IF(VLOOKUP(M176,漢字読み!$A$2:$O$502,7,0)=0,\"\",VLOOKUP(M176,漢字読み!$A$2:$O$502,7,0)))","v":{"$error":"#N/A"}},{"$f":"IF(N176=\"\",\"\",IF(VLOOKUP(N176,漢字読み!$A$2:$O$502,7,0)=0,\"\",VLOOKUP(N176,漢字読み!$A$2:$O$502,7,0)))","v":{"$error":"#N/A"}},{"$f":"IF(O176=\"\",\"\",IF(VLOOKUP(O176,漢字読み!$A$2:$O$502,7,0)=0,\"\",VLOOKUP(O176,漢字読み!$A$2:$O$502,7,0)))","v":{"$error":"#N/A"}},{"$f":"IF(P176=\"\",\"\",IF(VLOOKUP(P176,漢字読み!$A$2:$O$502,7,0)=0,\"\",VLOOKUP(P176,漢字読み!$A$2:$O$502,7,0)))","v":{"$error":"#N/A"}},{"$f":"IF(Q176=\"\",\"\",IF(VLOOKUP(Q176,漢字読み!$A$2:$O$502,7,0)=0,\"\",VLOOKUP(Q176,漢字読み!$A$2:$O$502,7,0)))","v":{"$error":"#N/A"}},{"$f":"IF(R176=\"\",\"\",IF(VLOOKUP(R176,漢字読み!$A$2:$O$502,7,0)=0,\"\",VLOOKUP(R176,漢字読み!$A$2:$O$502,7,0)))","v":{"$error":"#N/A"}},{"$f":"IF(S176=\"\",\"\",IF(VLOOKUP(S176,漢字読み!$A$2:$O$502,7,0)=0,\"\",VLOOKUP(S176,漢字読み!$A$2:$O$502,7,0)))","v":{"$error":"#N/A"}},{"$f":"IF(T176=\"\",\"\",IF(VLOOKUP(T176,漢字読み!$A$2:$O$502,7,0)=0,\"\",VLOOKUP(T176,漢字読み!$A$2:$O$502,7,0)))","v":{"$error":"#N/A"}},null,null,"和歌山県教育委員会"]
[{"$f":"INDIRECT(\"'関数（書き）'!C\" & COLUMN(B$1)+SUM($AD$2:$AD182))","v":0},{"$f":"INDIRECT(\"'関数（書き）'!C\" & COLUMN(C$1)+SUM($AD$2:$AD182))","v":0},{"$f":"INDIRECT(\"'関数（書き）'!C\" & COLUMN(D$1)+SUM($AD$2:$AD182))","v":0},{"$f":"INDIRECT(\"'関数（書き）'!C\" & COLUMN(E$1)+SUM($AD$2:$AD182))","v":0},{"$f":"INDIRECT(\"'関数（書き）'!C\" & COLUMN(F$1)+SUM($AD$2:$AD182))","v":0},{"$f":"INDIRECT(\"'関数（書き）'!C\" & COLUMN(G$1)+SUM($AD$2:$AD182))","v":0},{"$f":"INDIRECT(\"'関数（書き）'!C\" & COLUMN(H$1)+SUM($AD$2:$AD182))","v":0},{"$f":"INDIRECT(\"'関数（書き）'!C\" & COLUMN(I$1)+SUM($AD$2:$AD182))","v":0},{"$f":"INDIRECT(\"'関数（書き）'!C\" & COLUMN(J$1)+SUM($AD$2:$AD182))","v":0},{"$f":"INDIRECT(\"'関数（書き）'!C\" & COLUMN(K$1)+SUM($AD$2:$AD182))","v":0},{"$f":"INDIRECT(\"'関数（読み）'!C\" & COLUMN(B$1)+SUM($AD$2:$AD182))","v":0},{"$f":"INDIRECT(\"'関数（読み）'!C\" & COLUMN(C$1)+SUM($AD$2:$AD182))","v":0},{"$f":"INDIRECT(\"'関数（読み）'!C\" & COLUMN(D$1)+SUM($AD$2:$AD182))","v":0},{"$f":"INDIRECT(\"'関数（読み）'!C\" & COLUMN(E$1)+SUM($AD$2:$AD182))","v":0},{"$f":"INDIRECT(\"'関数（読み）'!C\" & COLUMN(F$1)+SUM($AD$2:$AD182))","v":0},{"$f":"INDIRECT(\"'関数（読み）'!C\" & COLUMN(G$1)+SUM($AD$2:$AD182))","v":0},{"$f":"INDIRECT(\"'関数（読み）'!C\" & COLUMN(H$1)+SUM($AD$2:$AD182))","v":0},{"$f":"INDIRECT(\"'関数（読み）'!C\" & COLUMN(I$1)+SUM($AD$2:$AD182))","v":0},{"$f":"INDIRECT(\"'関数（読み）'!C\" & COLUMN(J$1)+SUM($AD$2:$AD182))","v":0},{"$f":"INDIRECT(\"'関数（読み）'!C\" & COLUMN(K$1)+SUM($AD$2:$AD182))","v":0}]
["⑳","⑲","⑱","⑰","⑯","⑮","⑭","⑬","⑫","⑪","⑩","⑨","⑧","⑦","⑥","⑤","④","③","②","①","次の［　　　　］の部分の漢字には読みがなをひらがなで書き、カタカナは漢字に直しなさい。",14,"「漢字の博士検定試験」練習問題　",null,null,null,null,null,"←",10,"問",{"$f":"AH167+1","v":181},"～",{"$f":"SUM($AD$2:$AD182)+10","v":190},"問まで",{"$f":"COUNTIF($A$1:$T$200,T183)","v":585}]
[{"$f":"IF(A181=\"\",\"\",VLOOKUP(A181,漢字書き!$A$2:$N$506,6,0))","v":{"$error":"#N/A"}},{"$f":"IF(B181=\"\",\"\",VLOOKUP(B181,漢字書き!$A$2:$N$506,6,0))","v":{"$error":"#N/A"}},{"$f":"IF(C181=\"\",\"\",VLOOKUP(C181,漢字書き!$A$2:$N$506,6,0))","v":{"$error":"#N/A"}},{"$f":"IF(D181=\"\",\"\",VLOOKUP(D181,漢字書き!$A$2:$N$506,6,0))","v":{"$error":"#N/A"}},{"$f":"IF(E181=\"\",\"\",VLOOKUP(E181,漢字書き!$A$2:$N$506,6,0))","v":{"$error":"#N/A"}},{"$f":"IF(F181=\"\",\"\",VLOOKUP(F181,漢字書き!$A$2:$N$506,6,0))","v":{"$error":"#N/A"}},{"$f":"IF(G181=\"\",\"\",VLOOKUP(G181,漢字書き!$A$2:$N$506,6,0))","v":{"$error":"#N/A"}},{"$f":"IF(H181=\"\",\"\",VLOOKUP(H181,漢字書き!$A$2:$N$506,6,0))","v":{"$error":"#N/A"}},{"$f":"IF(I181=\"\",\"\",VLOOKUP(I181,漢字書き!$A$2:$N$506,6,0))","v":{"$error":"#N/A"}},{"$f":"IF(J181=\"\",\"\",VLOOKUP(J181,漢字書き!$A$2:$N$506,6,0))","v":{"$error":"#N/A"}},{"$f":"IF(K181=\"\",\"\",VLOOKUP(K181,漢字読み!$A$2:$O$506,6,0))","v":{"$error":"#N/A"}},{"$f":"IF(L181=\"\",\"\",VLOOKUP(L181,漢字読み!$A$2:$O$506,6,0))","v":{"$error":"#N/A"}},{"$f":"IF(M181=\"\",\"\",VLOOKUP(M181,漢字読み!$A$2:$O$506,6,0))","v":{"$error":"#N/A"}},{"$f":"IF(N181=\"\",\"\",VLOOKUP(N181,漢字読み!$A$2:$O$506,6,0))","v":{"$error":"#N/A"}},{"$f":"IF(O181=\"\",\"\",VLOOKUP(O181,漢字読み!$A$2:$O$506,6,0))","v":{"$error":"#N/A"}},{"$f":"IF(P181=\"\",\"\",VLOOKUP(P181,漢字読み!$A$2:$O$506,6,0))","v":{"$error":"#N/A"}},{"$f":"IF(Q181=\"\",\"\",VLOOKUP(Q181,漢字読み!$A$2:$O$506,6,0))","v":{"$error":"#N/A"}},{"$f":"IF(R181=\"\",\"\",VLOOKUP(R181,漢字読み!$A$2:$O$506,6,0))","v":{"$error":"#N/A"}},{"$f":"IF(S181=\"\",\"\",VLOOKUP(S181,漢字読み!$A$2:$O$506,6,0))","v":{"$error":"#N/A"}},{"$f":"IF(T181=\"\",\"\",VLOOKUP(T181,漢字読み!$A$2:$O$506,6,0))","v":{"$error":"#N/A"}},null,"級"]
[null,null,null,null,null,null,null,null,null,null,null,null,null,null,null,null,null,null,null,null,null,"名前"]
[{"$f":"IF(A181=\"\",\"\",IF(VLOOKUP(A181,漢字書き!$A$2:$N$502,7,0)=0,\"\",VLOOKUP(A181,漢字書き!$A$2:$N$502,7,0)))","v":{"$error":"#N/A"}},{"$f":"IF(B181=\"\",\"\",IF(VLOOKUP(B181,漢字書き!$A$2:$N$502,7,0)=0,\"\",VLOOKUP(B181,漢字書き!$A$2:$N$502,7,0)))","v":{"$error":"#N/A"}},{"$f":"IF(C181=\"\",\"\",IF(VLOOKUP(C181,漢字書き!$A$2:$N$502,7,0)=0,\"\",VLOOKUP(C181,漢字書き!$A$2:$N$502,7,0)))","v":{"$error":"#N/A"}},{"$f":"IF(D181=\"\",\"\",IF(VLOOKUP(D181,漢字書き!$A$2:$N$502,7,0)=0,\"\",VLOOKUP(D181,漢字書き!$A$2:$N$502,7,0)))","v":{"$error":"#N/A"}},{"$f":"IF(E181=\"\",\"\",IF(VLOOKUP(E181,漢字書き!$A$2:$N$502,7,0)=0,\"\",VLOOKUP(E181,漢字書き!$A$2:$N$502,7,0)))","v":{"$error":"#N/A"}},{"$f":"IF(F181=\"\",\"\",IF(VLOOKUP(F181,漢字書き!$A$2:$N$502,7,0)=0,\"\",VLOOKUP(F181,漢字書き!$A$2:$N$502,7,0)))","v":{"$error":"#N/A"}},{"$f":"IF(G181=\"\",\"\",IF(VLOOKUP(G181,漢字書き!$A$2:$N$502,7,0)=0,\"\",VLOOKUP(G181,漢字書き!$A$2:$N$502,7,0)))","v":{"$error":"#N/A"}},{"$f":"IF(H181=\"\",\"\",IF(VLOOKUP(H181,漢字書き!$A$2:$N$502,7,0)=0,\"\",VLOOKUP(H181,漢字書き!$A$2:$N$502,7,0)))","v":{"$error":"#N/A"}},{"$f":"IF(I181=\"\",\"\",IF(VLOOKUP(I181,漢字書き!$A$2:$N$502,7,0)=0,\"\",VLOOKUP(I181,漢字書き!$A$2:$N$502,7,0)))","v":{"$error":"#N/A"}},{"$f":"IF(J181=\"\",\"\",IF(VLOOKUP(J181,漢字書き!$A$2:$N$502,7,0)=0,\"\",VLOOKUP(J181,漢字書き!$A$2:$N$502,7,0)))","v":{"$error":"#N/A"}},{"$f":"IF(K181=\"\",\"\",IF(VLOOKUP(K181,漢字読み!$A$2:$O$502,7,0)=0,\"\",VLOOKUP(K181,漢字読み!$A$2:$O$502,7,0)))","v":{"$error":"#N/A"}},{"$f":"IF(L181=\"\",\"\",IF(VLOOKUP(L181,漢字読み!$A$2:$O$502,7,0)=0,\"\",VLOOKUP(L181,漢字読み!$A$2:$O$502,7,0)))","v":{"$error":"#N/A"}},{"$f":"IF(M181=\"\",\"\",IF(VLOOKUP(M181,漢字読み!$A$2:$O$502,7,0)=0,\"\",VLOOKUP(M181,漢字読み!$A$2:$O$502,7,0)))","v":{"$error":"#N/A"}},{"$f":"IF(N181=\"\",\"\",IF(VLOOKUP(N181,漢字読み!$A$2:$O$502,7,0)=0,\"\",VLOOKUP(N181,漢字読み!$A$2:$O$502,7,0)))","v":{"$error":"#N/A"}},{"$f":"IF(O181=\"\",\"\",IF(VLOOKUP(O181,漢字読み!$A$2:$O$502,7,0)=0,\"\",VLOOKUP(O181,漢字読み!$A$2:$O$502,7,0)))","v":{"$error":"#N/A"}},{"$f":"IF(P181=\"\",\"\",IF(VLOOKUP(P181,漢字読み!$A$2:$O$502,7,0)=0,\"\",VLOOKUP(P181,漢字読み!$A$2:$O$502,7,0)))","v":{"$error":"#N/A"}},{"$f":"IF(Q181=\"\",\"\",IF(VLOOKUP(Q181,漢字読み!$A$2:$O$502,7,0)=0,\"\",VLOOKUP(Q181,漢字読み!$A$2:$O$502,7,0)))","v":{"$error":"#N/A"}},{"$f":"IF(R181=\"\",\"\",IF(VLOOKUP(R181,漢字読み!$A$2:$O$502,7,0)=0,\"\",VLOOKUP(R181,漢字読み!$A$2:$O$502,7,0)))","v":{"$error":"#N/A"}},{"$f":"IF(S181=\"\",\"\",IF(VLOOKUP(S181,漢字読み!$A$2:$O$502,7,0)=0,\"\",VLOOKUP(S181,漢字読み!$A$2:$O$502,7,0)))","v":{"$error":"#N/A"}},{"$f":"IF(T181=\"\",\"\",IF(VLOOKUP(T181,漢字読み!$A$2:$O$502,7,0)=0,\"\",VLOOKUP(T181,漢字読み!$A$2:$O$502,7,0)))","v":{"$error":"#N/A"}},null,null,"和歌山県教育委員会"]
[{"$f":"INDIRECT(\"'関数（書き）'!C\" & COLUMN(B$1)+SUM($AD$2:$AD187))","v":0},{"$f":"INDIRECT(\"'関数（書き）'!C\" & COLUMN(C$1)+SUM($AD$2:$AD187))","v":0},{"$f":"INDIRECT(\"'関数（書き）'!C\" & COLUMN(D$1)+SUM($AD$2:$AD187))","v":0},{"$f":"INDIRECT(\"'関数（書き）'!C\" & COLUMN(E$1)+SUM($AD$2:$AD187))","v":0},{"$f":"INDIRECT(\"'関数（書き）'!C\" & COLUMN(F$1)+SUM($AD$2:$AD187))","v":0},{"$f":"INDIRECT(\"'関数（書き）'!C\" & COLUMN(G$1)+SUM($AD$2:$AD187))","v":0},{"$f":"INDIRECT(\"'関数（書き）'!C\" & COLUMN(H$1)+SUM($AD$2:$AD187))","v":0},{"$f":"INDIRECT(\"'関数（書き）'!C\" & COLUMN(I$1)+SUM($AD$2:$AD187))","v":0},{"$f":"INDIRECT(\"'関数（書き）'!C\" & COLUMN(J$1)+SUM($AD$2:$AD187))","v":0},{"$f":"INDIRECT(\"'関数（書き）'!C\" & COLUMN(K$1)+SUM($AD$2:$AD187))","v":0},{"$f":"INDIRECT(\"'関数（読み）'!C\" & COLUMN(B$1)+SUM($AD$2:$AD187))","v":0},{"$f":"INDIRECT(\"'関数（読み）'!C\" & COLUMN(C$1)+SUM($AD$2:$AD187))","v":0},{"$f":"INDIRECT(\"'関数（読み）'!C\" & COLUMN(D$1)+SUM($AD$2:$AD187))","v":0},{"$f":"INDIRECT(\"'関数（読み）'!C\" & COLUMN(E$1)+SUM($AD$2:$AD187))","v":0},{"$f":"INDIRECT(\"'関数（読み）'!C\" & COLUMN(F$1)+SUM($AD$2:$AD187))","v":0},{"$f":"INDIRECT(\"'関数（読み）'!C\" & COLUMN(G$1)+SUM($AD$2:$AD187))","v":0},{"$f":"INDIRECT(\"'関数（読み）'!C\" & COLUMN(H$1)+SUM($AD$2:$AD187))","v":0},{"$f":"INDIRECT(\"'関数（読み）'!C\" & COLUMN(I$1)+SUM($AD$2:$AD187))","v":0},{"$f":"INDIRECT(\"'関数（読み）'!C\" & COLUMN(J$1)+SUM($AD$2:$AD187))","v":0},{"$f":"INDIRECT(\"'関数（読み）'!C\" & COLUMN(K$1)+SUM($AD$2:$AD187))","v":0}]
["⑳","⑲","⑱","⑰","⑯","⑮","⑭","⑬","⑫","⑪","⑩","⑨","⑧","⑦","⑥","⑤","④","③","②","①","次の［　　　　］の部分の漢字には読みがなをひらがなで書き、カタカナは漢字に直しなさい。",14,"「漢字の博士検定試験」練習問題　",null,null,null,null,null,"←",10,"問",{"$f":"AH182+1","v":191},"～",{"$f":"SUM($AD$2:$AD187)+10","v":200},"問まで",{"$f":"COUNTIF($A$1:$T$200,T188)","v":585}]
[{"$f":"IF(A186=\"\",\"\",VLOOKUP(A186,漢字書き!$A$2:$N$506,6,0))","v":{"$error":"#N/A"}},{"$f":"IF(B186=\"\",\"\",VLOOKUP(B186,漢字書き!$A$2:$N$506,6,0))","v":{"$error":"#N/A"}},{"$f":"IF(C186=\"\",\"\",VLOOKUP(C186,漢字書き!$A$2:$N$506,6,0))","v":{"$error":"#N/A"}},{"$f":"IF(D186=\"\",\"\",VLOOKUP(D186,漢字書き!$A$2:$N$506,6,0))","v":{"$error":"#N/A"}},{"$f":"IF(E186=\"\",\"\",VLOOKUP(E186,漢字書き!$A$2:$N$506,6,0))","v":{"$error":"#N/A"}},{"$f":"IF(F186=\"\",\"\",VLOOKUP(F186,漢字書き!$A$2:$N$506,6,0))","v":{"$error":"#N/A"}},{"$f":"IF(G186=\"\",\"\",VLOOKUP(G186,漢字書き!$A$2:$N$506,6,0))","v":{"$error":"#N/A"}},{"$f":"IF(H186=\"\",\"\",VLOOKUP(H186,漢字書き!$A$2:$N$506,6,0))","v":{"$error":"#N/A"}},{"$f":"IF(I186=\"\",\"\",VLOOKUP(I186,漢字書き!$A$2:$N$506,6,0))","v":{"$error":"#N/A"}},{"$f":"IF(J186=\"\",\"\",VLOOKUP(J186,漢字書き!$A$2:$N$506,6,0))","v":{"$error":"#N/A"}},{"$f":"IF(K186=\"\",\"\",VLOOKUP(K186,漢字読み!$A$2:$O$506,6,0))","v":{"$error":"#N/A"}},{"$f":"IF(L186=\"\",\"\",VLOOKUP(L186,漢字読み!$A$2:$O$506,6,0))","v":{"$error":"#N/A"}},{"$f":"IF(M186=\"\",\"\",VLOOKUP(M186,漢字読み!$A$2:$O$506,6,0))","v":{"$error":"#N/A"}},{"$f":"IF(N186=\"\",\"\",VLOOKUP(N186,漢字読み!$A$2:$O$506,6,0))","v":{"$error":"#N/A"}},{"$f":"IF(O186=\"\",\"\",VLOOKUP(O186,漢字読み!$A$2:$O$506,6,0))","v":{"$error":"#N/A"}},{"$f":"IF(P186=\"\",\"\",VLOOKUP(P186,漢字読み!$A$2:$O$506,6,0))","v":{"$error":"#N/A"}},{"$f":"IF(Q186=\"\",\"\",VLOOKUP(Q186,漢字読み!$A$2:$O$506,6,0))","v":{"$error":"#N/A"}},{"$f":"IF(R186=\"\",\"\",VLOOKUP(R186,漢字読み!$A$2:$O$506,6,0))","v":{"$error":"#N/A"}},{"$f":"IF(S186=\"\",\"\",VLOOKUP(S186,漢字読み!$A$2:$O$506,6,0))","v":{"$error":"#N/A"}},{"$f":"IF(T186=\"\",\"\",VLOOKUP(T186,漢字読み!$A$2:$O$506,6,0))","v":{"$error":"#N/A"}},null,"級"]
[null,null,null,null,null,null,null,null,null,null,null,null,null,null,null,null,null,null,null,null,null,"名前"]
[{"$f":"IF(A186=\"\",\"\",IF(VLOOKUP(A186,漢字書き!$A$2:$N$502,7,0)=0,\"\",VLOOKUP(A186,漢字書き!$A$2:$N$502,7,0)))","v":{"$error":"#N/A"}},{"$f":"IF(B186=\"\",\"\",IF(VLOOKUP(B186,漢字書き!$A$2:$N$502,7,0)=0,\"\",VLOOKUP(B186,漢字書き!$A$2:$N$502,7,0)))","v":{"$error":"#N/A"}},{"$f":"IF(C186=\"\",\"\",IF(VLOOKUP(C186,漢字書き!$A$2:$N$502,7,0)=0,\"\",VLOOKUP(C186,漢字書き!$A$2:$N$502,7,0)))","v":{"$error":"#N/A"}},{"$f":"IF(D186=\"\",\"\",IF(VLOOKUP(D186,漢字書き!$A$2:$N$502,7,0)=0,\"\",VLOOKUP(D186,漢字書き!$A$2:$N$502,7,0)))","v":{"$error":"#N/A"}},{"$f":"IF(E186=\"\",\"\",IF(VLOOKUP(E186,漢字書き!$A$2:$N$502,7,0)=0,\"\",VLOOKUP(E186,漢字書き!$A$2:$N$502,7,0)))","v":{"$error":"#N/A"}},{"$f":"IF(F186=\"\",\"\",IF(VLOOKUP(F186,漢字書き!$A$2:$N$502,7,0)=0,\"\",VLOOKUP(F186,漢字書き!$A$2:$N$502,7,0)))","v":{"$error":"#N/A"}},{"$f":"IF(G186=\"\",\"\",IF(VLOOKUP(G186,漢字書き!$A$2:$N$502,7,0)=0,\"\",VLOOKUP(G186,漢字書き!$A$2:$N$502,7,0)))","v":{"$error":"#N/A"}},{"$f":"IF(H186=\"\",\"\",IF(VLOOKUP(H186,漢字書き!$A$2:$N$502,7,0)=0,\"\",VLOOKUP(H186,漢字書き!$A$2:$N$502,7,0)))","v":{"$error":"#N/A"}},{"$f":"IF(I186=\"\",\"\",IF(VLOOKUP(I186,漢字書き!$A$2:$N$502,7,0)=0,\"\",VLOOKUP(I186,漢字書き!$A$2:$N$502,7,0)))","v":{"$error":"#N/A"}},{"$f":"IF(J186=\"\",\"\",IF(VLOOKUP(J186,漢字書き!$A$2:$N$502,7,0)=0,\"\",VLOOKUP(J186,漢字書き!$A$2:$N$502,7,0)))","v":{"$error":"#N/A"}},{"$f":"IF(K186=\"\",\"\",IF(VLOOKUP(K186,漢字読み!$A$2:$O$502,7,0)=0,\"\",VLOOKUP(K186,漢字読み!$A$2:$O$502,7,0)))","v":{"$error":"#N/A"}},{"$f":"IF(L186=\"\",\"\",IF(VLOOKUP(L186,漢字読み!$A$2:$O$502,7,0)=0,\"\",VLOOKUP(L186,漢字読み!$A$2:$O$502,7,0)))","v":{"$error":"#N/A"}},{"$f":"IF(M186=\"\",\"\",IF(VLOOKUP(M186,漢字読み!$A$2:$O$502,7,0)=0,\"\",VLOOKUP(M186,漢字読み!$A$2:$O$502,7,0)))","v":{"$error":"#N/A"}},{"$f":"IF(N186=\"\",\"\",IF(VLOOKUP(N186,漢字読み!$A$2:$O$502,7,0)=0,\"\",VLOOKUP(N186,漢字読み!$A$2:$O$502,7,0)))","v":{"$error":"#N/A"}},{"$f":"IF(O186=\"\",\"\",IF(VLOOKUP(O186,漢字読み!$A$2:$O$502,7,0)=0,\"\",VLOOKUP(O186,漢字読み!$A$2:$O$502,7,0)))","v":{"$error":"#N/A"}},{"$f":"IF(P186=\"\",\"\",IF(VLOOKUP(P186,漢字読み!$A$2:$O$502,7,0)=0,\"\",VLOOKUP(P186,漢字読み!$A$2:$O$502,7,0)))","v":{"$error":"#N/A"}},{"$f":"IF(Q186=\"\",\"\",IF(VLOOKUP(Q186,漢字読み!$A$2:$O$502,7,0)=0,\"\",VLOOKUP(Q186,漢字読み!$A$2:$O$502,7,0)))","v":{"$error":"#N/A"}},{"$f":"IF(R186=\"\",\"\",IF(VLOOKUP(R186,漢字読み!$A$2:$O$502,7,0)=0,\"\",VLOOKUP(R186,漢字読み!$A$2:$O$502,7,0)))","v":{"$error":"#N/A"}},{"$f":"IF(S186=\"\",\"\",IF(VLOOKUP(S186,漢字読み!$A$2:$O$502,7,0)=0,\"\",VLOOKUP(S186,漢字読み!$A$2:$O$502,7,0)))","v":{"$error":"#N/A"}},{"$f":"IF(T186=\"\",\"\",IF(VLOOKUP(T186,漢字読み!$A$2:$O$502,7,0)=0,\"\",VLOOKUP(T186,漢字読み!$A$2:$O$502,7,0)))","v":{"$error":"#N/A"}},null,null,"和歌山県教育委員会"]
[{"$f":"A181","v":0},{"$f":"B181","v":0},{"$f":"C181","v":0},{"$f":"D181","v":0},{"$f":"E181","v":0},{"$f":"F181","v":0},{"$f":"G181","v":0},{"$f":"H181","v":0},{"$f":"I181","v":0},{"$f":"J181","v":0},{"$f":"K181","v":0},{"$f":"L181","v":0},{"$f":"M181","v":0},{"$f":"N181","v":0},{"$f":"O181","v":0},{"$f":"P181","v":0},{"$f":"Q181","v":0},{"$f":"R181","v":0},{"$f":"S181","v":0},{"$f":"T181","v":0}]
["⑳","⑲","⑱","⑰","⑯","⑮","⑭","⑬","⑫","⑪","⑩","⑨","⑧","⑦","⑥","⑤","④","③","②","①","次の［　　　　］の部分の漢字には読みがなをひらがなで書き、カタカナは漢字に直しなさい。",14,"「漢字の博士検定試験」練習問題　"]
[{"$f":"IF(A191=\"\",\"\",VLOOKUP(A191,漢字書き!$A$2:$N$506,6,0))","v":{"$error":"#N/A"}},{"$f":"IF(B191=\"\",\"\",VLOOKUP(B191,漢字書き!$A$2:$N$506,6,0))","v":{"$error":"#N/A"}},{"$f":"IF(C191=\"\",\"\",VLOOKUP(C191,漢字書き!$A$2:$N$506,6,0))","v":{"$error":"#N/A"}},{"$f":"IF(D191=\"\",\"\",VLOOKUP(D191,漢字書き!$A$2:$N$506,6,0))","v":{"$error":"#N/A"}},{"$f":"IF(E191=\"\",\"\",VLOOKUP(E191,漢字書き!$A$2:$N$506,6,0))","v":{"$error":"#N/A"}},{"$f":"IF(F191=\"\",\"\",VLOOKUP(F191,漢字書き!$A$2:$N$506,6,0))","v":{"$error":"#N/A"}},{"$f":"IF(G191=\"\",\"\",VLOOKUP(G191,漢字書き!$A$2:$N$506,6,0))","v":{"$error":"#N/A"}},{"$f":"IF(H191=\"\",\"\",VLOOKUP(H191,漢字書き!$A$2:$N$506,6,0))","v":{"$error":"#N/A"}},{"$f":"IF(I191=\"\",\"\",VLOOKUP(I191,漢字書き!$A$2:$N$506,6,0))","v":{"$error":"#N/A"}},{"$f":"IF(J191=\"\",\"\",VLOOKUP(J191,漢字書き!$A$2:$N$506,6,0))","v":{"$error":"#N/A"}},{"$f":"IF(K191=\"\",\"\",VLOOKUP(K191,漢字読み!$A$2:$O$506,6,0))","v":{"$error":"#N/A"}},{"$f":"IF(L191=\"\",\"\",VLOOKUP(L191,漢字読み!$A$2:$O$506,6,0))","v":{"$error":"#N/A"}},{"$f":"IF(M191=\"\",\"\",VLOOKUP(M191,漢字読み!$A$2:$O$506,6,0))","v":{"$error":"#N/A"}},{"$f":"IF(N191=\"\",\"\",VLOOKUP(N191,漢字読み!$A$2:$O$506,6,0))","v":{"$error":"#N/A"}},{"$f":"IF(O191=\"\",\"\",VLOOKUP(O191,漢字読み!$A$2:$O$506,6,0))","v":{"$error":"#N/A"}},{"$f":"IF(P191=\"\",\"\",VLOOKUP(P191,漢字読み!$A$2:$O$506,6,0))","v":{"$error":"#N/A"}},{"$f":"IF(Q191=\"\",\"\",VLOOKUP(Q191,漢字読み!$A$2:$O$506,6,0))","v":{"$error":"#N/A"}},{"$f":"IF(R191=\"\",\"\",VLOOKUP(R191,漢字読み!$A$2:$O$506,6,0))","v":{"$error":"#N/A"}},{"$f":"IF(S191=\"\",\"\",VLOOKUP(S191,漢字読み!$A$2:$O$506,6,0))","v":{"$error":"#N/A"}},{"$f":"IF(T191=\"\",\"\",VLOOKUP(T191,漢字読み!$A$2:$O$506,6,0))","v":{"$error":"#N/A"}},null,"級"]
[{"$f":"IF(A$11=\"\",\"\",VLOOKUP(A191,漢字書き!$A$2:$O$506,8,0))","v":{"$error":"#N/A"}},{"$f":"IF(B$11=\"\",\"\",VLOOKUP(B191,漢字書き!$A$2:$O$506,8,0))","v":{"$error":"#N/A"}},{"$f":"IF(C$11=\"\",\"\",VLOOKUP(C191,漢字書き!$A$2:$O$506,8,0))","v":{"$error":"#N/A"}},{"$f":"IF(D$11=\"\",\"\",VLOOKUP(D191,漢字書き!$A$2:$O$506,8,0))","v":{"$error":"#N/A"}},{"$f":"IF(E$11=\"\",\"\",VLOOKUP(E191,漢字書き!$A$2:$O$506,8,0))","v":{"$error":"#N/A"}},{"$f":"IF(F$11=\"\",\"\",VLOOKUP(F191,漢字書き!$A$2:$O$506,8,0))","v":{"$error":"#N/A"}},{"$f":"IF(G$11=\"\",\"\",VLOOKUP(G191,漢字書き!$A$2:$O$506,8,0))","v":{"$error":"#N/A"}},{"$f":"IF(H$11=\"\",\"\",VLOOKUP(H191,漢字書き!$A$2:$O$506,8,0))","v":{"$error":"#N/A"}},{"$f":"IF(I$11=\"\",\"\",VLOOKUP(I191,漢字書き!$A$2:$O$506,8,0))","v":{"$error":"#N/A"}},{"$f":"IF(J$11=\"\",\"\",VLOOKUP(J191,漢字書き!$A$2:$O$506,8,0))","v":{"$error":"#N/A"}},{"$f":"IF(K$11=\"\",\"\",VLOOKUP(K191,漢字読み!$A$2:$O$506,8,0))","v":{"$error":"#N/A"}},{"$f":"IF(L$11=\"\",\"\",VLOOKUP(L191,漢字読み!$A$2:$O$506,8,0))","v":{"$error":"#N/A"}},{"$f":"IF(M$11=\"\",\"\",VLOOKUP(M191,漢字読み!$A$2:$O$506,8,0))","v":{"$error":"#N/A"}},{"$f":"IF(N$11=\"\",\"\",VLOOKUP(N191,漢字読み!$A$2:$O$506,8,0))","v":{"$error":"#N/A"}},{"$f":"IF(O$11=\"\",\"\",VLOOKUP(O191,漢字読み!$A$2:$O$506,8,0))","v":{"$error":"#N/A"}},{"$f":"IF(P$11=\"\",\"\",VLOOKUP(P191,漢字読み!$A$2:$O$506,8,0))","v":{"$error":"#N/A"}},{"$f":"IF(Q$11=\"\",\"\",VLOOKUP(Q191,漢字読み!$A$2:$O$506,8,0))","v":{"$error":"#N/A"}},{"$f":"IF(R$11=\"\",\"\",VLOOKUP(R191,漢字読み!$A$2:$O$506,8,0))","v":{"$error":"#N/A"}},{"$f":"IF(S$11=\"\",\"\",VLOOKUP(S191,漢字読み!$A$2:$O$506,8,0))","v":{"$error":"#N/A"}},{"$f":"IF(T$11=\"\",\"\",VLOOKUP(T191,漢字読み!$A$2:$O$506,8,0))","v":{"$error":"#N/A"}},null,"名前"]
[{"$f":"IF(A191=\"\",\"\",IF(VLOOKUP(A191,漢字書き!$A$2:$N$502,7,0)=0,\"\",VLOOKUP(A191,漢字書き!$A$2:$N$502,7,0)))","v":{"$error":"#N/A"}},{"$f":"IF(B191=\"\",\"\",IF(VLOOKUP(B191,漢字書き!$A$2:$N$502,7,0)=0,\"\",VLOOKUP(B191,漢字書き!$A$2:$N$502,7,0)))","v":{"$error":"#N/A"}},{"$f":"IF(C191=\"\",\"\",IF(VLOOKUP(C191,漢字書き!$A$2:$N$502,7,0)=0,\"\",VLOOKUP(C191,漢字書き!$A$2:$N$502,7,0)))","v":{"$error":"#N/A"}},{"$f":"IF(D191=\"\",\"\",IF(VLOOKUP(D191,漢字書き!$A$2:$N$502,7,0)=0,\"\",VLOOKUP(D191,漢字書き!$A$2:$N$502,7,0)))","v":{"$error":"#N/A"}},{"$f":"IF(E191=\"\",\"\",IF(VLOOKUP(E191,漢字書き!$A$2:$N$502,7,0)=0,\"\",VLOOKUP(E191,漢字書き!$A$2:$N$502,7,0)))","v":{"$error":"#N/A"}},{"$f":"IF(F191=\"\",\"\",IF(VLOOKUP(F191,漢字書き!$A$2:$N$502,7,0)=0,\"\",VLOOKUP(F191,漢字書き!$A$2:$N$502,7,0)))","v":{"$error":"#N/A"}},{"$f":"IF(G191=\"\",\"\",IF(VLOOKUP(G191,漢字書き!$A$2:$N$502,7,0)=0,\"\",VLOOKUP(G191,漢字書き!$A$2:$N$502,7,0)))","v":{"$error":"#N/A"}},{"$f":"IF(H191=\"\",\"\",IF(VLOOKUP(H191,漢字書き!$A$2:$N$502,7,0)=0,\"\",VLOOKUP(H191,漢字書き!$A$2:$N$502,7,0)))","v":{"$error":"#N/A"}},{"$f":"IF(I191=\"\",\"\",IF(VLOOKUP(I191,漢字書き!$A$2:$N$502,7,0)=0,\"\",VLOOKUP(I191,漢字書き!$A$2:$N$502,7,0)))","v":{"$error":"#N/A"}},{"$f":"IF(J191=\"\",\"\",IF(VLOOKUP(J191,漢字書き!$A$2:$N$502,7,0)=0,\"\",VLOOKUP(J191,漢字書き!$A$2:$N$502,7,0)))","v":{"$error":"#N/A"}},{"$f":"IF(K191=\"\",\"\",IF(VLOOKUP(K191,漢字読み!$A$2:$O$502,7,0)=0,\"\",VLOOKUP(K191,漢字読み!$A$2:$O$502,7,0)))","v":{"$error":"#N/A"}},{"$f":"IF(L191=\"\",\"\",IF(VLOOKUP(L191,漢字読み!$A$2:$O$502,7,0)=0,\"\",VLOOKUP(L191,漢字読み!$A$2:$O$502,7,0)))","v":{"$error":"#N/A"}},{"$f":"IF(M191=\"\",\"\",IF(VLOOKUP(M191,漢字読み!$A$2:$O$502,7,0)=0,\"\",VLOOKUP(M191,漢字読み!$A$2:$O$502,7,0)))","v":{"$error":"#N/A"}},{"$f":"IF(N191=\"\",\"\",IF(VLOOKUP(N191,漢字読み!$A$2:$O$502,7,0)=0,\"\",VLOOKUP(N191,漢字読み!$A$2:$O$502,7,0)))","v":{"$error":"#N/A"}},{"$f":"IF(O191=\"\",\"\",IF(VLOOKUP(O191,漢字読み!$A$2:$O$502,7,0)=0,\"\",VLOOKUP(O191,漢字読み!$A$2:$O$502,7,0)))","v":{"$error":"#N/A"}},{"$f":"IF(P191=\"\",\"\",IF(VLOOKUP(P191,漢字読み!$A$2:$O$502,7,0)=0,\"\",VLOOKUP(P191,漢字読み!$A$2:$O$502,7,0)))","v":{"$error":"#N/A"}},{"$f":"IF(Q191=\"\",\"\",IF(VLOOKUP(Q191,漢字読み!$A$2:$O$502,7,0)=0,\"\",VLOOKUP(Q191,漢字読み!$A$2:$O$502,7,0)))","v":{"$error":"#N/A"}},{"$f":"IF(R191=\"\",\"\",IF(VLOOKUP(R191,漢字読み!$A$2:$O$502,7,0)=0,\"\",VLOOKUP(R191,漢字読み!$A$2:$O$502,7,0)))","v":{"$error":"#N/A"}},{"$f":"IF(S191=\"\",\"\",IF(VLOOKUP(S191,漢字読み!$A$2:$O$502,7,0)=0,\"\",VLOOKUP(S191,漢字読み!$A$2:$O$502,7,0)))","v":{"$error":"#N/A"}},{"$f":"IF(T191=\"\",\"\",IF(VLOOKUP(T191,漢字読み!$A$2:$O$502,7,0)=0,\"\",VLOOKUP(T191,漢字読み!$A$2:$O$502,7,0)))","v":{"$error":"#N/A"}},null,null,"和歌山県教育委員会"]
[{"$f":"A186","v":0},{"$f":"B186","v":0},{"$f":"C186","v":0},{"$f":"D186","v":0},{"$f":"E186","v":0},{"$f":"F186","v":0},{"$f":"G186","v":0},{"$f":"H186","v":0},{"$f":"I186","v":0},{"$f":"J186","v":0},{"$f":"K186","v":0},{"$f":"L186","v":0},{"$f":"M186","v":0},{"$f":"N186","v":0},{"$f":"O186","v":0},{"$f":"P186","v":0},{"$f":"Q186","v":0},{"$f":"R186","v":0},{"$f":"S186","v":0},{"$f":"T186","v":0}]
["⑳","⑲","⑱","⑰","⑯","⑮","⑭","⑬","⑫","⑪","⑩","⑨","⑧","⑦","⑥","⑤","④","③","②","①","次の［　　　　］の部分の漢字には読みがなをひらがなで書き、カタカナは漢字に直しなさい。",14,"「漢字の博士検定試験」練習問題　"]
[{"$f":"IF(A196=\"\",\"\",VLOOKUP(A196,漢字書き!$A$2:$N$506,6,0))","v":{"$error":"#N/A"}},{"$f":"IF(B196=\"\",\"\",VLOOKUP(B196,漢字書き!$A$2:$N$506,6,0))","v":{"$error":"#N/A"}},{"$f":"IF(C196=\"\",\"\",VLOOKUP(C196,漢字書き!$A$2:$N$506,6,0))","v":{"$error":"#N/A"}},{"$f":"IF(D196=\"\",\"\",VLOOKUP(D196,漢字書き!$A$2:$N$506,6,0))","v":{"$error":"#N/A"}},{"$f":"IF(E196=\"\",\"\",VLOOKUP(E196,漢字書き!$A$2:$N$506,6,0))","v":{"$error":"#N/A"}},{"$f":"IF(F196=\"\",\"\",VLOOKUP(F196,漢字書き!$A$2:$N$506,6,0))","v":{"$error":"#N/A"}},{"$f":"IF(G196=\"\",\"\",VLOOKUP(G196,漢字書き!$A$2:$N$506,6,0))","v":{"$error":"#N/A"}},{"$f":"IF(H196=\"\",\"\",VLOOKUP(H196,漢字書き!$A$2:$N$506,6,0))","v":{"$error":"#N/A"}},{"$f":"IF(I196=\"\",\"\",VLOOKUP(I196,漢字書き!$A$2:$N$506,6,0))","v":{"$error":"#N/A"}},{"$f":"IF(J196=\"\",\"\",VLOOKUP(J196,漢字書き!$A$2:$N$506,6,0))","v":{"$error":"#N/A"}},{"$f":"IF(K196=\"\",\"\",VLOOKUP(K196,漢字読み!$A$2:$O$506,6,0))","v":{"$error":"#N/A"}},{"$f":"IF(L196=\"\",\"\",VLOOKUP(L196,漢字読み!$A$2:$O$506,6,0))","v":{"$error":"#N/A"}},{"$f":"IF(M196=\"\",\"\",VLOOKUP(M196,漢字読み!$A$2:$O$506,6,0))","v":{"$error":"#N/A"}},{"$f":"IF(N196=\"\",\"\",VLOOKUP(N196,漢字読み!$A$2:$O$506,6,0))","v":{"$error":"#N/A"}},{"$f":"IF(O196=\"\",\"\",VLOOKUP(O196,漢字読み!$A$2:$O$506,6,0))","v":{"$error":"#N/A"}},{"$f":"IF(P196=\"\",\"\",VLOOKUP(P196,漢字読み!$A$2:$O$506,6,0))","v":{"$error":"#N/A"}},{"$f":"IF(Q196=\"\",\"\",VLOOKUP(Q196,漢字読み!$A$2:$O$506,6,0))","v":{"$error":"#N/A"}},{"$f":"IF(R196=\"\",\"\",VLOOKUP(R196,漢字読み!$A$2:$O$506,6,0))","v":{"$error":"#N/A"}},{"$f":"IF(S196=\"\",\"\",VLOOKUP(S196,漢字読み!$A$2:$O$506,6,0))","v":{"$error":"#N/A"}},{"$f":"IF(T196=\"\",\"\",VLOOKUP(T196,漢字読み!$A$2:$O$506,6,0))","v":{"$error":"#N/A"}},null,"級"]
[{"$f":"IF(A$16=\"\",\"\",VLOOKUP(A196,漢字書き!$A$2:$O$506,8,0))","v":{"$error":"#N/A"}},{"$f":"IF(B$16=\"\",\"\",VLOOKUP(B196,漢字書き!$A$2:$O$506,8,0))","v":{"$error":"#N/A"}},{"$f":"IF(C$16=\"\",\"\",VLOOKUP(C196,漢字書き!$A$2:$O$506,8,0))","v":{"$error":"#N/A"}},{"$f":"IF(D$16=\"\",\"\",VLOOKUP(D196,漢字書き!$A$2:$O$506,8,0))","v":{"$error":"#N/A"}},{"$f":"IF(E$16=\"\",\"\",VLOOKUP(E196,漢字書き!$A$2:$O$506,8,0))","v":{"$error":"#N/A"}},{"$f":"IF(F$16=\"\",\"\",VLOOKUP(F196,漢字書き!$A$2:$O$506,8,0))","v":{"$error":"#N/A"}},{"$f":"IF(G$16=\"\",\"\",VLOOKUP(G196,漢字書き!$A$2:$O$506,8,0))","v":{"$error":"#N/A"}},{"$f":"IF(H$16=\"\",\"\",VLOOKUP(H196,漢字書き!$A$2:$O$506,8,0))","v":{"$error":"#N/A"}},{"$f":"IF(I$16=\"\",\"\",VLOOKUP(I196,漢字書き!$A$2:$O$506,8,0))","v":{"$error":"#N/A"}},{"$f":"IF(J$16=\"\",\"\",VLOOKUP(J196,漢字書き!$A$2:$O$506,8,0))","v":{"$error":"#N/A"}},{"$f":"IF(K$16=\"\",\"\",VLOOKUP(K196,漢字読み!$A$2:$O$506,8,0))","v":{"$error":"#N/A"}},{"$f":"IF(L$16=\"\",\"\",VLOOKUP(L196,漢字読み!$A$2:$O$506,8,0))","v":{"$error":"#N/A"}},{"$f":"IF(M$16=\"\",\"\",VLOOKUP(M196,漢字読み!$A$2:$O$506,8,0))","v":{"$error":"#N/A"}},{"$f":"IF(N$16=\"\",\"\",VLOOKUP(N196,漢字読み!$A$2:$O$506,8,0))","v":{"$error":"#N/A"}},{"$f":"IF(O$16=\"\",\"\",VLOOKUP(O196,漢字読み!$A$2:$O$506,8,0))","v":{"$error":"#N/A"}},{"$f":"IF(P$16=\"\",\"\",VLOOKUP(P196,漢字読み!$A$2:$O$506,8,0))","v":{"$error":"#N/A"}},{"$f":"IF(Q$16=\"\",\"\",VLOOKUP(Q196,漢字読み!$A$2:$O$506,8,0))","v":{"$error":"#N/A"}},{"$f":"IF(R$16=\"\",\"\",VLOOKUP(R196,漢字読み!$A$2:$O$506,8,0))","v":{"$error":"#N/A"}},{"$f":"IF(S$16=\"\",\"\",VLOOKUP(S196,漢字読み!$A$2:$O$506,8,0))","v":{"$error":"#N/A"}},{"$f":"IF(T$16=\"\",\"\",VLOOKUP(T196,漢字読み!$A$2:$O$506,8,0))","v":{"$error":"#N/A"}},null,"名前"]
[{"$f":"IF(A196=\"\",\"\",IF(VLOOKUP(A196,漢字書き!$A$2:$N$502,7,0)=0,\"\",VLOOKUP(A196,漢字書き!$A$2:$N$502,7,0)))","v":{"$error":"#N/A"}},{"$f":"IF(B196=\"\",\"\",IF(VLOOKUP(B196,漢字書き!$A$2:$N$502,7,0)=0,\"\",VLOOKUP(B196,漢字書き!$A$2:$N$502,7,0)))","v":{"$error":"#N/A"}},{"$f":"IF(C196=\"\",\"\",IF(VLOOKUP(C196,漢字書き!$A$2:$N$502,7,0)=0,\"\",VLOOKUP(C196,漢字書き!$A$2:$N$502,7,0)))","v":{"$error":"#N/A"}},{"$f":"IF(D196=\"\",\"\",IF(VLOOKUP(D196,漢字書き!$A$2:$N$502,7,0)=0,\"\",VLOOKUP(D196,漢字書き!$A$2:$N$502,7,0)))","v":{"$error":"#N/A"}},{"$f":"IF(E196=\"\",\"\",IF(VLOOKUP(E196,漢字書き!$A$2:$N$502,7,0)=0,\"\",VLOOKUP(E196,漢字書き!$A$2:$N$502,7,0)))","v":{"$error":"#N/A"}},{"$f":"IF(F196=\"\",\"\",IF(VLOOKUP(F196,漢字書き!$A$2:$N$502,7,0)=0,\"\",VLOOKUP(F196,漢字書き!$A$2:$N$502,7,0)))","v":{"$error":"#N/A"}},{"$f":"IF(G196=\"\",\"\",IF(VLOOKUP(G196,漢字書き!$A$2:$N$502,7,0)=0,\"\",VLOOKUP(G196,漢字書き!$A$2:$N$502,7,0)))","v":{"$error":"#N/A"}},{"$f":"IF(H196=\"\",\"\",IF(VLOOKUP(H196,漢字書き!$A$2:$N$502,7,0)=0,\"\",VLOOKUP(H196,漢字書き!$A$2:$N$502,7,0)))","v":{"$error":"#N/A"}},{"$f":"IF(I196=\"\",\"\",IF(VLOOKUP(I196,漢字書き!$A$2:$N$502,7,0)=0,\"\",VLOOKUP(I196,漢字書き!$A$2:$N$502,7,0)))","v":{"$error":"#N/A"}},{"$f":"IF(J196=\"\",\"\",IF(VLOOKUP(J196,漢字書き!$A$2:$N$502,7,0)=0,\"\",VLOOKUP(J196,漢字書き!$A$2:$N$502,7,0)))","v":{"$error":"#N/A"}},{"$f":"IF(K196=\"\",\"\",IF(VLOOKUP(K196,漢字読み!$A$2:$O$502,7,0)=0,\"\",VLOOKUP(K196,漢字読み!$A$2:$O$502,7,0)))","v":{"$error":"#N/A"}},{"$f":"IF(L196=\"\",\"\",IF(VLOOKUP(L196,漢字読み!$A$2:$O$502,7,0)=0,\"\",VLOOKUP(L196,漢字読み!$A$2:$O$502,7,0)))","v":{"$error":"#N/A"}},{"$f":"IF(M196=\"\",\"\",IF(VLOOKUP(M196,漢字読み!$A$2:$O$502,7,0)=0,\"\",VLOOKUP(M196,漢字読み!$A$2:$O$502,7,0)))","v":{"$error":"#N/A"}},{"$f":"IF(N196=\"\",\"\",IF(VLOOKUP(N196,漢字読み!$A$2:$O$502,7,0)=0,\"\",VLOOKUP(N196,漢字読み!$A$2:$O$502,7,0)))","v":{"$error":"#N/A"}},{"$f":"IF(O196=\"\",\"\",IF(VLOOKUP(O196,漢字読み!$A$2:$O$502,7,0)=0,\"\",VLOOKUP(O196,漢字読み!$A$2:$O$502,7,0)))","v":{"$error":"#N/A"}},{"$f":"IF(P196=\"\",\"\",IF(VLOOKUP(P196,漢字読み!$A$2:$O$502,7,0)=0,\"\",VLOOKUP(P196,漢字読み!$A$2:$O$502,7,0)))","v":{"$error":"#N/A"}},{"$f":"IF(Q196=\"\",\"\",IF(VLOOKUP(Q196,漢字読み!$A$2:$O$502,7,0)=0,\"\",VLOOKUP(Q196,漢字読み!$A$2:$O$502,7,0)))","v":{"$error":"#N/A"}},{"$f":"IF(R196=\"\",\"\",IF(VLOOKUP(R196,漢字読み!$A$2:$O$502,7,0)=0,\"\",VLOOKUP(R196,漢字読み!$A$2:$O$502,7,0)))","v":{"$error":"#N/A"}},{"$f":"IF(S196=\"\",\"\",IF(VLOOKUP(S196,漢字読み!$A$2:$O$502,7,0)=0,\"\",VLOOKUP(S196,漢字読み!$A$2:$O$502,7,0)))","v":{"$error":"#N/A"}},{"$f":"IF(T196=\"\",\"\",IF(VLOOKUP(T196,漢字読み!$A$2:$O$502,7,0)=0,\"\",VLOOKUP(T196,漢字読み!$A$2:$O$502,7,0)))","v":{"$error":"#N/A"}},null,null,"和歌山県教育委員会"]
[{"$f":"INDIRECT(\"'関数（書き）'!C\" & COLUMN(B$1)+SUM($AD$2:$AD202))","v":0},{"$f":"INDIRECT(\"'関数（書き）'!C\" & COLUMN(C$1)+SUM($AD$2:$AD202))","v":0},{"$f":"INDIRECT(\"'関数（書き）'!C\" & COLUMN(D$1)+SUM($AD$2:$AD202))","v":0},{"$f":"INDIRECT(\"'関数（書き）'!C\" & COLUMN(E$1)+SUM($AD$2:$AD202))","v":0},{"$f":"INDIRECT(\"'関数（書き）'!C\" & COLUMN(F$1)+SUM($AD$2:$AD202))","v":0},{"$f":"INDIRECT(\"'関数（書き）'!C\" & COLUMN(G$1)+SUM($AD$2:$AD202))","v":0},{"$f":"INDIRECT(\"'関数（書き）'!C\" & COLUMN(H$1)+SUM($AD$2:$AD202))","v":0},{"$f":"INDIRECT(\"'関数（書き）'!C\" & COLUMN(I$1)+SUM($AD$2:$AD202))","v":0},{"$f":"INDIRECT(\"'関数（書き）'!C\" & COLUMN(J$1)+SUM($AD$2:$AD202))","v":0},{"$f":"INDIRECT(\"'関数（書き）'!C\" & COLUMN(K$1)+SUM($AD$2:$AD202))","v":0},{"$f":"INDIRECT(\"'関数（読み）'!C\" & COLUMN(B$1)+SUM($AD$2:$AD202))","v":0},{"$f":"INDIRECT(\"'関数（読み）'!C\" & COLUMN(C$1)+SUM($AD$2:$AD202))","v":0},{"$f":"INDIRECT(\"'関数（読み）'!C\" & COLUMN(D$1)+SUM($AD$2:$AD202))","v":0},{"$f":"INDIRECT(\"'関数（読み）'!C\" & COLUMN(E$1)+SUM($AD$2:$AD202))","v":0},{"$f":"INDIRECT(\"'関数（読み）'!C\" & COLUMN(F$1)+SUM($AD$2:$AD202))","v":0},{"$f":"INDIRECT(\"'関数（読み）'!C\" & COLUMN(G$1)+SUM($AD$2:$AD202))","v":0},{"$f":"INDIRECT(\"'関数（読み）'!C\" & COLUMN(H$1)+SUM($AD$2:$AD202))","v":0},{"$f":"INDIRECT(\"'関数（読み）'!C\" & COLUMN(I$1)+SUM($AD$2:$AD202))","v":0},{"$f":"INDIRECT(\"'関数（読み）'!C\" & COLUMN(J$1)+SUM($AD$2:$AD202))","v":0},{"$f":"INDIRECT(\"'関数（読み）'!C\" & COLUMN(K$1)+SUM($AD$2:$AD202))","v":0}]
["⑳","⑲","⑱","⑰","⑯","⑮","⑭","⑬","⑫","⑪","⑩","⑨","⑧","⑦","⑥","⑤","④","③","②","①","次の［　　　　］の部分の漢字には読みがなをひらがなで書き、カタカナは漢字に直しなさい。",14,"「漢字の博士検定試験」練習問題　",null,null,null,null,null,"←",10,"問",{"$f":"AH187+1","v":201},"～",{"$f":"SUM($AD$2:$AD202)+10","v":210},"問まで",{"$f":"COUNTIF($A$1:$T$200,T203)","v":585}]
[{"$f":"IF(A201=\"\",\"\",VLOOKUP(A201,漢字書き!$A$2:$N$506,6,0))","v":{"$error":"#N/A"}},{"$f":"IF(B201=\"\",\"\",VLOOKUP(B201,漢字書き!$A$2:$N$506,6,0))","v":{"$error":"#N/A"}},{"$f":"IF(C201=\"\",\"\",VLOOKUP(C201,漢字書き!$A$2:$N$506,6,0))","v":{"$error":"#N/A"}},{"$f":"IF(D201=\"\",\"\",VLOOKUP(D201,漢字書き!$A$2:$N$506,6,0))","v":{"$error":"#N/A"}},{"$f":"IF(E201=\"\",\"\",VLOOKUP(E201,漢字書き!$A$2:$N$506,6,0))","v":{"$error":"#N/A"}},{"$f":"IF(F201=\"\",\"\",VLOOKUP(F201,漢字書き!$A$2:$N$506,6,0))","v":{"$error":"#N/A"}},{"$f":"IF(G201=\"\",\"\",VLOOKUP(G201,漢字書き!$A$2:$N$506,6,0))","v":{"$error":"#N/A"}},{"$f":"IF(H201=\"\",\"\",VLOOKUP(H201,漢字書き!$A$2:$N$506,6,0))","v":{"$error":"#N/A"}},{"$f":"IF(I201=\"\",\"\",VLOOKUP(I201,漢字書き!$A$2:$N$506,6,0))","v":{"$error":"#N/A"}},{"$f":"IF(J201=\"\",\"\",VLOOKUP(J201,漢字書き!$A$2:$N$506,6,0))","v":{"$error":"#N/A"}},{"$f":"IF(K201=\"\",\"\",VLOOKUP(K201,漢字読み!$A$2:$O$506,6,0))","v":{"$error":"#N/A"}},{"$f":"IF(L201=\"\",\"\",VLOOKUP(L201,漢字読み!$A$2:$O$506,6,0))","v":{"$error":"#N/A"}},{"$f":"IF(M201=\"\",\"\",VLOOKUP(M201,漢字読み!$A$2:$O$506,6,0))","v":{"$error":"#N/A"}},{"$f":"IF(N201=\"\",\"\",VLOOKUP(N201,漢字読み!$A$2:$O$506,6,0))","v":{"$error":"#N/A"}},{"$f":"IF(O201=\"\",\"\",VLOOKUP(O201,漢字読み!$A$2:$O$506,6,0))","v":{"$error":"#N/A"}},{"$f":"IF(P201=\"\",\"\",VLOOKUP(P201,漢字読み!$A$2:$O$506,6,0))","v":{"$error":"#N/A"}},{"$f":"IF(Q201=\"\",\"\",VLOOKUP(Q201,漢字読み!$A$2:$O$506,6,0))","v":{"$error":"#N/A"}},{"$f":"IF(R201=\"\",\"\",VLOOKUP(R201,漢字読み!$A$2:$O$506,6,0))","v":{"$error":"#N/A"}},{"$f":"IF(S201=\"\",\"\",VLOOKUP(S201,漢字読み!$A$2:$O$506,6,0))","v":{"$error":"#N/A"}},{"$f":"IF(T201=\"\",\"\",VLOOKUP(T201,漢字読み!$A$2:$O$506,6,0))","v":{"$error":"#N/A"}},null,"級"]
[null,null,null,null,null,null,null,null,null,null,null,null,null,null,null,null,null,null,null,null,null,"名前"]
[{"$f":"IF(A201=\"\",\"\",IF(VLOOKUP(A201,漢字書き!$A$2:$N$502,7,0)=0,\"\",VLOOKUP(A201,漢字書き!$A$2:$N$502,7,0)))","v":{"$error":"#N/A"}},{"$f":"IF(B201=\"\",\"\",IF(VLOOKUP(B201,漢字書き!$A$2:$N$502,7,0)=0,\"\",VLOOKUP(B201,漢字書き!$A$2:$N$502,7,0)))","v":{"$error":"#N/A"}},{"$f":"IF(C201=\"\",\"\",IF(VLOOKUP(C201,漢字書き!$A$2:$N$502,7,0)=0,\"\",VLOOKUP(C201,漢字書き!$A$2:$N$502,7,0)))","v":{"$error":"#N/A"}},{"$f":"IF(D201=\"\",\"\",IF(VLOOKUP(D201,漢字書き!$A$2:$N$502,7,0)=0,\"\",VLOOKUP(D201,漢字書き!$A$2:$N$502,7,0)))","v":{"$error":"#N/A"}},{"$f":"IF(E201=\"\",\"\",IF(VLOOKUP(E201,漢字書き!$A$2:$N$502,7,0)=0,\"\",VLOOKUP(E201,漢字書き!$A$2:$N$502,7,0)))","v":{"$error":"#N/A"}},{"$f":"IF(F201=\"\",\"\",IF(VLOOKUP(F201,漢字書き!$A$2:$N$502,7,0)=0,\"\",VLOOKUP(F201,漢字書き!$A$2:$N$502,7,0)))","v":{"$error":"#N/A"}},{"$f":"IF(G201=\"\",\"\",IF(VLOOKUP(G201,漢字書き!$A$2:$N$502,7,0)=0,\"\",VLOOKUP(G201,漢字書き!$A$2:$N$502,7,0)))","v":{"$error":"#N/A"}},{"$f":"IF(H201=\"\",\"\",IF(VLOOKUP(H201,漢字書き!$A$2:$N$502,7,0)=0,\"\",VLOOKUP(H201,漢字書き!$A$2:$N$502,7,0)))","v":{"$error":"#N/A"}},{"$f":"IF(I201=\"\",\"\",IF(VLOOKUP(I201,漢字書き!$A$2:$N$502,7,0)=0,\"\",VLOOKUP(I201,漢字書き!$A$2:$N$502,7,0)))","v":{"$error":"#N/A"}},{"$f":"IF(J201=\"\",\"\",IF(VLOOKUP(J201,漢字書き!$A$2:$N$502,7,0)=0,\"\",VLOOKUP(J201,漢字書き!$A$2:$N$502,7,0)))","v":{"$error":"#N/A"}},{"$f":"IF(K201=\"\",\"\",IF(VLOOKUP(K201,漢字読み!$A$2:$O$502,7,0)=0,\"\",VLOOKUP(K201,漢字読み!$A$2:$O$502,7,0)))","v":{"$error":"#N/A"}},{"$f":"IF(L201=\"\",\"\",IF(VLOOKUP(L201,漢字読み!$A$2:$O$502,7,0)=0,\"\",VLOOKUP(L201,漢字読み!$A$2:$O$502,7,0)))","v":{"$error":"#N/A"}},{"$f":"IF(M201=\"\",\"\",IF(VLOOKUP(M201,漢字読み!$A$2:$O$502,7,0)=0,\"\",VLOOKUP(M201,漢字読み!$A$2:$O$502,7,0)))","v":{"$error":"#N/A"}},{"$f":"IF(N201=\"\",\"\",IF(VLOOKUP(N201,漢字読み!$A$2:$O$502,7,0)=0,\"\",VLOOKUP(N201,漢字読み!$A$2:$O$502,7,0)))","v":{"$error":"#N/A"}},{"$f":"IF(O201=\"\",\"\",IF(VLOOKUP(O201,漢字読み!$A$2:$O$502,7,0)=0,\"\",VLOOKUP(O201,漢字読み!$A$2:$O$502,7,0)))","v":{"$error":"#N/A"}},{"$f":"IF(P201=\"\",\"\",IF(VLOOKUP(P201,漢字読み!$A$2:$O$502,7,0)=0,\"\",VLOOKUP(P201,漢字読み!$A$2:$O$502,7,0)))","v":{"$error":"#N/A"}},{"$f":"IF(Q201=\"\",\"\",IF(VLOOKUP(Q201,漢字読み!$A$2:$O$502,7,0)=0,\"\",VLOOKUP(Q201,漢字読み!$A$2:$O$502,7,0)))","v":{"$error":"#N/A"}},{"$f":"IF(R201=\"\",\"\",IF(VLOOKUP(R201,漢字読み!$A$2:$O$502,7,0)=0,\"\",VLOOKUP(R201,漢字読み!$A$2:$O$502,7,0)))","v":{"$error":"#N/A"}},{"$f":"IF(S201=\"\",\"\",IF(VLOOKUP(S201,漢字読み!$A$2:$O$502,7,0)=0,\"\",VLOOKUP(S201,漢字読み!$A$2:$O$502,7,0)))","v":{"$error":"#N/A"}},{"$f":"IF(T201=\"\",\"\",IF(VLOOKUP(T201,漢字読み!$A$2:$O$502,7,0)=0,\"\",VLOOKUP(T201,漢字読み!$A$2:$O$502,7,0)))","v":{"$error":"#N/A"}},null,null,"和歌山県教育委員会"]
[{"$f":"INDIRECT(\"'関数（書き）'!C\" & COLUMN(B$1)+SUM($AD$2:$AD207))","v":0},{"$f":"INDIRECT(\"'関数（書き）'!C\" & COLUMN(C$1)+SUM($AD$2:$AD207))","v":0},{"$f":"INDIRECT(\"'関数（書き）'!C\" & COLUMN(D$1)+SUM($AD$2:$AD207))","v":0},{"$f":"INDIRECT(\"'関数（書き）'!C\" & COLUMN(E$1)+SUM($AD$2:$AD207))","v":0},{"$f":"INDIRECT(\"'関数（書き）'!C\" & COLUMN(F$1)+SUM($AD$2:$AD207))","v":0},{"$f":"INDIRECT(\"'関数（書き）'!C\" & COLUMN(G$1)+SUM($AD$2:$AD207))","v":0},{"$f":"INDIRECT(\"'関数（書き）'!C\" & COLUMN(H$1)+SUM($AD$2:$AD207))","v":0},{"$f":"INDIRECT(\"'関数（書き）'!C\" & COLUMN(I$1)+SUM($AD$2:$AD207))","v":0},{"$f":"INDIRECT(\"'関数（書き）'!C\" & COLUMN(J$1)+SUM($AD$2:$AD207))","v":0},{"$f":"INDIRECT(\"'関数（書き）'!C\" & COLUMN(K$1)+SUM($AD$2:$AD207))","v":0},{"$f":"INDIRECT(\"'関数（読み）'!C\" & COLUMN(B$1)+SUM($AD$2:$AD207))","v":0},{"$f":"INDIRECT(\"'関数（読み）'!C\" & COLUMN(C$1)+SUM($AD$2:$AD207))","v":0},{"$f":"INDIRECT(\"'関数（読み）'!C\" & COLUMN(D$1)+SUM($AD$2:$AD207))","v":0},{"$f":"INDIRECT(\"'関数（読み）'!C\" & COLUMN(E$1)+SUM($AD$2:$AD207))","v":0},{"$f":"INDIRECT(\"'関数（読み）'!C\" & COLUMN(F$1)+SUM($AD$2:$AD207))","v":0},{"$f":"INDIRECT(\"'関数（読み）'!C\" & COLUMN(G$1)+SUM($AD$2:$AD207))","v":0},{"$f":"INDIRECT(\"'関数（読み）'!C\" & COLUMN(H$1)+SUM($AD$2:$AD207))","v":0},{"$f":"INDIRECT(\"'関数（読み）'!C\" & COLUMN(I$1)+SUM($AD$2:$AD207))","v":0},{"$f":"INDIRECT(\"'関数（読み）'!C\" & COLUMN(J$1)+SUM($AD$2:$AD207))","v":0},{"$f":"INDIRECT(\"'関数（読み）'!C\" & COLUMN(K$1)+SUM($AD$2:$AD207))","v":0}]
["⑳","⑲","⑱","⑰","⑯","⑮","⑭","⑬","⑫","⑪","⑩","⑨","⑧","⑦","⑥","⑤","④","③","②","①","次の［　　　　］の部分の漢字には読みがなをひらがなで書き、カタカナは漢字に直しなさい。",14,"「漢字の博士検定試験」練習問題　",null,null,null,null,null,"←",10,"問",{"$f":"AH202+1","v":211},"～",{"$f":"SUM($AD$2:$AD207)+10","v":220},"問まで",{"$f":"COUNTIF($A$1:$T$200,T208)","v":585}]
[{"$f":"IF(A206=\"\",\"\",VLOOKUP(A206,漢字書き!$A$2:$N$506,6,0))","v":{"$error":"#N/A"}},{"$f":"IF(B206=\"\",\"\",VLOOKUP(B206,漢字書き!$A$2:$N$506,6,0))","v":{"$error":"#N/A"}},{"$f":"IF(C206=\"\",\"\",VLOOKUP(C206,漢字書き!$A$2:$N$506,6,0))","v":{"$error":"#N/A"}},{"$f":"IF(D206=\"\",\"\",VLOOKUP(D206,漢字書き!$A$2:$N$506,6,0))","v":{"$error":"#N/A"}},{"$f":"IF(E206=\"\",\"\",VLOOKUP(E206,漢字書き!$A$2:$N$506,6,0))","v":{"$error":"#N/A"}},{"$f":"IF(F206=\"\",\"\",VLOOKUP(F206,漢字書き!$A$2:$N$506,6,0))","v":{"$error":"#N/A"}},{"$f":"IF(G206=\"\",\"\",VLOOKUP(G206,漢字書き!$A$2:$N$506,6,0))","v":{"$error":"#N/A"}},{"$f":"IF(H206=\"\",\"\",VLOOKUP(H206,漢字書き!$A$2:$N$506,6,0))","v":{"$error":"#N/A"}},{"$f":"IF(I206=\"\",\"\",VLOOKUP(I206,漢字書き!$A$2:$N$506,6,0))","v":{"$error":"#N/A"}},{"$f":"IF(J206=\"\",\"\",VLOOKUP(J206,漢字書き!$A$2:$N$506,6,0))","v":{"$error":"#N/A"}},{"$f":"IF(K206=\"\",\"\",VLOOKUP(K206,漢字読み!$A$2:$O$506,6,0))","v":{"$error":"#N/A"}},{"$f":"IF(L206=\"\",\"\",VLOOKUP(L206,漢字読み!$A$2:$O$506,6,0))","v":{"$error":"#N/A"}},{"$f":"IF(M206=\"\",\"\",VLOOKUP(M206,漢字読み!$A$2:$O$506,6,0))","v":{"$error":"#N/A"}},{"$f":"IF(N206=\"\",\"\",VLOOKUP(N206,漢字読み!$A$2:$O$506,6,0))","v":{"$error":"#N/A"}},{"$f":"IF(O206=\"\",\"\",VLOOKUP(O206,漢字読み!$A$2:$O$506,6,0))","v":{"$error":"#N/A"}},{"$f":"IF(P206=\"\",\"\",VLOOKUP(P206,漢字読み!$A$2:$O$506,6,0))","v":{"$error":"#N/A"}},{"$f":"IF(Q206=\"\",\"\",VLOOKUP(Q206,漢字読み!$A$2:$O$506,6,0))","v":{"$error":"#N/A"}},{"$f":"IF(R206=\"\",\"\",VLOOKUP(R206,漢字読み!$A$2:$O$506,6,0))","v":{"$error":"#N/A"}},{"$f":"IF(S206=\"\",\"\",VLOOKUP(S206,漢字読み!$A$2:$O$506,6,0))","v":{"$error":"#N/A"}},{"$f":"IF(T206=\"\",\"\",VLOOKUP(T206,漢字読み!$A$2:$O$506,6,0))","v":{"$error":"#N/A"}},null,"級"]
[null,null,null,null,null,null,null,null,null,null,null,null,null,null,null,null,null,null,null,null,null,"名前"]
[{"$f":"IF(A206=\"\",\"\",IF(VLOOKUP(A206,漢字書き!$A$2:$N$502,7,0)=0,\"\",VLOOKUP(A206,漢字書き!$A$2:$N$502,7,0)))","v":{"$error":"#N/A"}},{"$f":"IF(B206=\"\",\"\",IF(VLOOKUP(B206,漢字書き!$A$2:$N$502,7,0)=0,\"\",VLOOKUP(B206,漢字書き!$A$2:$N$502,7,0)))","v":{"$error":"#N/A"}},{"$f":"IF(C206=\"\",\"\",IF(VLOOKUP(C206,漢字書き!$A$2:$N$502,7,0)=0,\"\",VLOOKUP(C206,漢字書き!$A$2:$N$502,7,0)))","v":{"$error":"#N/A"}},{"$f":"IF(D206=\"\",\"\",IF(VLOOKUP(D206,漢字書き!$A$2:$N$502,7,0)=0,\"\",VLOOKUP(D206,漢字書き!$A$2:$N$502,7,0)))","v":{"$error":"#N/A"}},{"$f":"IF(E206=\"\",\"\",IF(VLOOKUP(E206,漢字書き!$A$2:$N$502,7,0)=0,\"\",VLOOKUP(E206,漢字書き!$A$2:$N$502,7,0)))","v":{"$error":"#N/A"}},{"$f":"IF(F206=\"\",\"\",IF(VLOOKUP(F206,漢字書き!$A$2:$N$502,7,0)=0,\"\",VLOOKUP(F206,漢字書き!$A$2:$N$502,7,0)))","v":{"$error":"#N/A"}},{"$f":"IF(G206=\"\",\"\",IF(VLOOKUP(G206,漢字書き!$A$2:$N$502,7,0)=0,\"\",VLOOKUP(G206,漢字書き!$A$2:$N$502,7,0)))","v":{"$error":"#N/A"}},{"$f":"IF(H206=\"\",\"\",IF(VLOOKUP(H206,漢字書き!$A$2:$N$502,7,0)=0,\"\",VLOOKUP(H206,漢字書き!$A$2:$N$502,7,0)))","v":{"$error":"#N/A"}},{"$f":"IF(I206=\"\",\"\",IF(VLOOKUP(I206,漢字書き!$A$2:$N$502,7,0)=0,\"\",VLOOKUP(I206,漢字書き!$A$2:$N$502,7,0)))","v":{"$error":"#N/A"}},{"$f":"IF(J206=\"\",\"\",IF(VLOOKUP(J206,漢字書き!$A$2:$N$502,7,0)=0,\"\",VLOOKUP(J206,漢字書き!$A$2:$N$502,7,0)))","v":{"$error":"#N/A"}},{"$f":"IF(K206=\"\",\"\",IF(VLOOKUP(K206,漢字読み!$A$2:$O$502,7,0)=0,\"\",VLOOKUP(K206,漢字読み!$A$2:$O$502,7,0)))","v":{"$error":"#N/A"}},{"$f":"IF(L206=\"\",\"\",IF(VLOOKUP(L206,漢字読み!$A$2:$O$502,7,0)=0,\"\",VLOOKUP(L206,漢字読み!$A$2:$O$502,7,0)))","v":{"$error":"#N/A"}},{"$f":"IF(M206=\"\",\"\",IF(VLOOKUP(M206,漢字読み!$A$2:$O$502,7,0)=0,\"\",VLOOKUP(M206,漢字読み!$A$2:$O$502,7,0)))","v":{"$error":"#N/A"}},{"$f":"IF(N206=\"\",\"\",IF(VLOOKUP(N206,漢字読み!$A$2:$O$502,7,0)=0,\"\",VLOOKUP(N206,漢字読み!$A$2:$O$502,7,0)))","v":{"$error":"#N/A"}},{"$f":"IF(O206=\"\",\"\",IF(VLOOKUP(O206,漢字読み!$A$2:$O$502,7,0)=0,\"\",VLOOKUP(O206,漢字読み!$A$2:$O$502,7,0)))","v":{"$error":"#N/A"}},{"$f":"IF(P206=\"\",\"\",IF(VLOOKUP(P206,漢字読み!$A$2:$O$502,7,0)=0,\"\",VLOOKUP(P206,漢字読み!$A$2:$O$502,7,0)))","v":{"$error":"#N/A"}},{"$f":"IF(Q206=\"\",\"\",IF(VLOOKUP(Q206,漢字読み!$A$2:$O$502,7,0)=0,\"\",VLOOKUP(Q206,漢字読み!$A$2:$O$502,7,0)))","v":{"$error":"#N/A"}},{"$f":"IF(R206=\"\",\"\",IF(VLOOKUP(R206,漢字読み!$A$2:$O$502,7,0)=0,\"\",VLOOKUP(R206,漢字読み!$A$2:$O$502,7,0)))","v":{"$error":"#N/A"}},{"$f":"IF(S206=\"\",\"\",IF(VLOOKUP(S206,漢字読み!$A$2:$O$502,7,0)=0,\"\",VLOOKUP(S206,漢字読み!$A$2:$O$502,7,0)))","v":{"$error":"#N/A"}},{"$f":"IF(T206=\"\",\"\",IF(VLOOKUP(T206,漢字読み!$A$2:$O$502,7,0)=0,\"\",VLOOKUP(T206,漢字読み!$A$2:$O$502,7,0)))","v":{"$error":"#N/A"}},null,null,"和歌山県教育委員会"]
[{"$f":"A201","v":0},{"$f":"B201","v":0},{"$f":"C201","v":0},{"$f":"D201","v":0},{"$f":"E201","v":0},{"$f":"F201","v":0},{"$f":"G201","v":0},{"$f":"H201","v":0},{"$f":"I201","v":0},{"$f":"J201","v":0},{"$f":"K201","v":0},{"$f":"L201","v":0},{"$f":"M201","v":0},{"$f":"N201","v":0},{"$f":"O201","v":0},{"$f":"P201","v":0},{"$f":"Q201","v":0},{"$f":"R201","v":0},{"$f":"S201","v":0},{"$f":"T201","v":0}]
["⑳","⑲","⑱","⑰","⑯","⑮","⑭","⑬","⑫","⑪","⑩","⑨","⑧","⑦","⑥","⑤","④","③","②","①","次の［　　　　］の部分の漢字には読みがなをひらがなで書き、カタカナは漢字に直しなさい。",14,"「漢字の博士検定試験」練習問題　"]
[{"$f":"IF(A211=\"\",\"\",VLOOKUP(A211,漢字書き!$A$2:$N$506,6,0))","v":{"$error":"#N/A"}},{"$f":"IF(B211=\"\",\"\",VLOOKUP(B211,漢字書き!$A$2:$N$506,6,0))","v":{"$error":"#N/A"}},{"$f":"IF(C211=\"\",\"\",VLOOKUP(C211,漢字書き!$A$2:$N$506,6,0))","v":{"$error":"#N/A"}},{"$f":"IF(D211=\"\",\"\",VLOOKUP(D211,漢字書き!$A$2:$N$506,6,0))","v":{"$error":"#N/A"}},{"$f":"IF(E211=\"\",\"\",VLOOKUP(E211,漢字書き!$A$2:$N$506,6,0))","v":{"$error":"#N/A"}},{"$f":"IF(F211=\"\",\"\",VLOOKUP(F211,漢字書き!$A$2:$N$506,6,0))","v":{"$error":"#N/A"}},{"$f":"IF(G211=\"\",\"\",VLOOKUP(G211,漢字書き!$A$2:$N$506,6,0))","v":{"$error":"#N/A"}},{"$f":"IF(H211=\"\",\"\",VLOOKUP(H211,漢字書き!$A$2:$N$506,6,0))","v":{"$error":"#N/A"}},{"$f":"IF(I211=\"\",\"\",VLOOKUP(I211,漢字書き!$A$2:$N$506,6,0))","v":{"$error":"#N/A"}},{"$f":"IF(J211=\"\",\"\",VLOOKUP(J211,漢字書き!$A$2:$N$506,6,0))","v":{"$error":"#N/A"}},{"$f":"IF(K211=\"\",\"\",VLOOKUP(K211,漢字読み!$A$2:$O$506,6,0))","v":{"$error":"#N/A"}},{"$f":"IF(L211=\"\",\"\",VLOOKUP(L211,漢字読み!$A$2:$O$506,6,0))","v":{"$error":"#N/A"}},{"$f":"IF(M211=\"\",\"\",VLOOKUP(M211,漢字読み!$A$2:$O$506,6,0))","v":{"$error":"#N/A"}},{"$f":"IF(N211=\"\",\"\",VLOOKUP(N211,漢字読み!$A$2:$O$506,6,0))","v":{"$error":"#N/A"}},{"$f":"IF(O211=\"\",\"\",VLOOKUP(O211,漢字読み!$A$2:$O$506,6,0))","v":{"$error":"#N/A"}},{"$f":"IF(P211=\"\",\"\",VLOOKUP(P211,漢字読み!$A$2:$O$506,6,0))","v":{"$error":"#N/A"}},{"$f":"IF(Q211=\"\",\"\",VLOOKUP(Q211,漢字読み!$A$2:$O$506,6,0))","v":{"$error":"#N/A"}},{"$f":"IF(R211=\"\",\"\",VLOOKUP(R211,漢字読み!$A$2:$O$506,6,0))","v":{"$error":"#N/A"}},{"$f":"IF(S211=\"\",\"\",VLOOKUP(S211,漢字読み!$A$2:$O$506,6,0))","v":{"$error":"#N/A"}},{"$f":"IF(T211=\"\",\"\",VLOOKUP(T211,漢字読み!$A$2:$O$506,6,0))","v":{"$error":"#N/A"}},null,"級"]
[{"$f":"IF(A$11=\"\",\"\",VLOOKUP(A211,漢字書き!$A$2:$O$506,8,0))","v":{"$error":"#N/A"}},{"$f":"IF(B$11=\"\",\"\",VLOOKUP(B211,漢字書き!$A$2:$O$506,8,0))","v":{"$error":"#N/A"}},{"$f":"IF(C$11=\"\",\"\",VLOOKUP(C211,漢字書き!$A$2:$O$506,8,0))","v":{"$error":"#N/A"}},{"$f":"IF(D$11=\"\",\"\",VLOOKUP(D211,漢字書き!$A$2:$O$506,8,0))","v":{"$error":"#N/A"}},{"$f":"IF(E$11=\"\",\"\",VLOOKUP(E211,漢字書き!$A$2:$O$506,8,0))","v":{"$error":"#N/A"}},{"$f":"IF(F$11=\"\",\"\",VLOOKUP(F211,漢字書き!$A$2:$O$506,8,0))","v":{"$error":"#N/A"}},{"$f":"IF(G$11=\"\",\"\",VLOOKUP(G211,漢字書き!$A$2:$O$506,8,0))","v":{"$error":"#N/A"}},{"$f":"IF(H$11=\"\",\"\",VLOOKUP(H211,漢字書き!$A$2:$O$506,8,0))","v":{"$error":"#N/A"}},{"$f":"IF(I$11=\"\",\"\",VLOOKUP(I211,漢字書き!$A$2:$O$506,8,0))","v":{"$error":"#N/A"}},{"$f":"IF(J$11=\"\",\"\",VLOOKUP(J211,漢字書き!$A$2:$O$506,8,0))","v":{"$error":"#N/A"}},{"$f":"IF(K$11=\"\",\"\",VLOOKUP(K211,漢字読み!$A$2:$O$506,8,0))","v":{"$error":"#N/A"}},{"$f":"IF(L$11=\"\",\"\",VLOOKUP(L211,漢字読み!$A$2:$O$506,8,0))","v":{"$error":"#N/A"}},{"$f":"IF(M$11=\"\",\"\",VLOOKUP(M211,漢字読み!$A$2:$O$506,8,0))","v":{"$error":"#N/A"}},{"$f":"IF(N$11=\"\",\"\",VLOOKUP(N211,漢字読み!$A$2:$O$506,8,0))","v":{"$error":"#N/A"}},{"$f":"IF(O$11=\"\",\"\",VLOOKUP(O211,漢字読み!$A$2:$O$506,8,0))","v":{"$error":"#N/A"}},{"$f":"IF(P$11=\"\",\"\",VLOOKUP(P211,漢字読み!$A$2:$O$506,8,0))","v":{"$error":"#N/A"}},{"$f":"IF(Q$11=\"\",\"\",VLOOKUP(Q211,漢字読み!$A$2:$O$506,8,0))","v":{"$error":"#N/A"}},{"$f":"IF(R$11=\"\",\"\",VLOOKUP(R211,漢字読み!$A$2:$O$506,8,0))","v":{"$error":"#N/A"}},{"$f":"IF(S$11=\"\",\"\",VLOOKUP(S211,漢字読み!$A$2:$O$506,8,0))","v":{"$error":"#N/A"}},{"$f":"IF(T$11=\"\",\"\",VLOOKUP(T211,漢字読み!$A$2:$O$506,8,0))","v":{"$error":"#N/A"}},null,"名前"]
[{"$f":"IF(A211=\"\",\"\",IF(VLOOKUP(A211,漢字書き!$A$2:$N$502,7,0)=0,\"\",VLOOKUP(A211,漢字書き!$A$2:$N$502,7,0)))","v":{"$error":"#N/A"}},{"$f":"IF(B211=\"\",\"\",IF(VLOOKUP(B211,漢字書き!$A$2:$N$502,7,0)=0,\"\",VLOOKUP(B211,漢字書き!$A$2:$N$502,7,0)))","v":{"$error":"#N/A"}},{"$f":"IF(C211=\"\",\"\",IF(VLOOKUP(C211,漢字書き!$A$2:$N$502,7,0)=0,\"\",VLOOKUP(C211,漢字書き!$A$2:$N$502,7,0)))","v":{"$error":"#N/A"}},{"$f":"IF(D211=\"\",\"\",IF(VLOOKUP(D211,漢字書き!$A$2:$N$502,7,0)=0,\"\",VLOOKUP(D211,漢字書き!$A$2:$N$502,7,0)))","v":{"$error":"#N/A"}},{"$f":"IF(E211=\"\",\"\",IF(VLOOKUP(E211,漢字書き!$A$2:$N$502,7,0)=0,\"\",VLOOKUP(E211,漢字書き!$A$2:$N$502,7,0)))","v":{"$error":"#N/A"}},{"$f":"IF(F211=\"\",\"\",IF(VLOOKUP(F211,漢字書き!$A$2:$N$502,7,0)=0,\"\",VLOOKUP(F211,漢字書き!$A$2:$N$502,7,0)))","v":{"$error":"#N/A"}},{"$f":"IF(G211=\"\",\"\",IF(VLOOKUP(G211,漢字書き!$A$2:$N$502,7,0)=0,\"\",VLOOKUP(G211,漢字書き!$A$2:$N$502,7,0)))","v":{"$error":"#N/A"}},{"$f":"IF(H211=\"\",\"\",IF(VLOOKUP(H211,漢字書き!$A$2:$N$502,7,0)=0,\"\",VLOOKUP(H211,漢字書き!$A$2:$N$502,7,0)))","v":{"$error":"#N/A"}},{"$f":"IF(I211=\"\",\"\",IF(VLOOKUP(I211,漢字書き!$A$2:$N$502,7,0)=0,\"\",VLOOKUP(I211,漢字書き!$A$2:$N$502,7,0)))","v":{"$error":"#N/A"}},{"$f":"IF(J211=\"\",\"\",IF(VLOOKUP(J211,漢字書き!$A$2:$N$502,7,0)=0,\"\",VLOOKUP(J211,漢字書き!$A$2:$N$502,7,0)))","v":{"$error":"#N/A"}},{"$f":"IF(K211=\"\",\"\",IF(VLOOKUP(K211,漢字読み!$A$2:$O$502,7,0)=0,\"\",VLOOKUP(K211,漢字読み!$A$2:$O$502,7,0)))","v":{"$error":"#N/A"}},{"$f":"IF(L211=\"\",\"\",IF(VLOOKUP(L211,漢字読み!$A$2:$O$502,7,0)=0,\"\",VLOOKUP(L211,漢字読み!$A$2:$O$502,7,0)))","v":{"$error":"#N/A"}},{"$f":"IF(M211=\"\",\"\",IF(VLOOKUP(M211,漢字読み!$A$2:$O$502,7,0)=0,\"\",VLOOKUP(M211,漢字読み!$A$2:$O$502,7,0)))","v":{"$error":"#N/A"}},{"$f":"IF(N211=\"\",\"\",IF(VLOOKUP(N211,漢字読み!$A$2:$O$502,7,0)=0,\"\",VLOOKUP(N211,漢字読み!$A$2:$O$502,7,0)))","v":{"$error":"#N/A"}},{"$f":"IF(O211=\"\",\"\",IF(VLOOKUP(O211,漢字読み!$A$2:$O$502,7,0)=0,\"\",VLOOKUP(O211,漢字読み!$A$2:$O$502,7,0)))","v":{"$error":"#N/A"}},{"$f":"IF(P211=\"\",\"\",IF(VLOOKUP(P211,漢字読み!$A$2:$O$502,7,0)=0,\"\",VLOOKUP(P211,漢字読み!$A$2:$O$502,7,0)))","v":{"$error":"#N/A"}},{"$f":"IF(Q211=\"\",\"\",IF(VLOOKUP(Q211,漢字読み!$A$2:$O$502,7,0)=0,\"\",VLOOKUP(Q211,漢字読み!$A$2:$O$502,7,0)))","v":{"$error":"#N/A"}},{"$f":"IF(R211=\"\",\"\",IF(VLOOKUP(R211,漢字読み!$A$2:$O$502,7,0)=0,\"\",VLOOKUP(R211,漢字読み!$A$2:$O$502,7,0)))","v":{"$error":"#N/A"}},{"$f":"IF(S211=\"\",\"\",IF(VLOOKUP(S211,漢字読み!$A$2:$O$502,7,0)=0,\"\",VLOOKUP(S211,漢字読み!$A$2:$O$502,7,0)))","v":{"$error":"#N/A"}},{"$f":"IF(T211=\"\",\"\",IF(VLOOKUP(T211,漢字読み!$A$2:$O$502,7,0)=0,\"\",VLOOKUP(T211,漢字読み!$A$2:$O$502,7,0)))","v":{"$error":"#N/A"}},null,null,"和歌山県教育委員会"]
[{"$f":"A206","v":0},{"$f":"B206","v":0},{"$f":"C206","v":0},{"$f":"D206","v":0},{"$f":"E206","v":0},{"$f":"F206","v":0},{"$f":"G206","v":0},{"$f":"H206","v":0},{"$f":"I206","v":0},{"$f":"J206","v":0},{"$f":"K206","v":0},{"$f":"L206","v":0},{"$f":"M206","v":0},{"$f":"N206","v":0},{"$f":"O206","v":0},{"$f":"P206","v":0},{"$f":"Q206","v":0},{"$f":"R206","v":0},{"$f":"S206","v":0},{"$f":"T206","v":0}]
["⑳","⑲","⑱","⑰","⑯","⑮","⑭","⑬","⑫","⑪","⑩","⑨","⑧","⑦","⑥","⑤","④","③","②","①","次の［　　　　］の部分の漢字には読みがなをひらがなで書き、カタカナは漢字に直しなさい。",14,"「漢字の博士検定試験」練習問題　"]
[{"$f":"IF(A216=\"\",\"\",VLOOKUP(A216,漢字書き!$A$2:$N$506,6,0))","v":{"$error":"#N/A"}},{"$f":"IF(B216=\"\",\"\",VLOOKUP(B216,漢字書き!$A$2:$N$506,6,0))","v":{"$error":"#N/A"}},{"$f":"IF(C216=\"\",\"\",VLOOKUP(C216,漢字書き!$A$2:$N$506,6,0))","v":{"$error":"#N/A"}},{"$f":"IF(D216=\"\",\"\",VLOOKUP(D216,漢字書き!$A$2:$N$506,6,0))","v":{"$error":"#N/A"}},{"$f":"IF(E216=\"\",\"\",VLOOKUP(E216,漢字書き!$A$2:$N$506,6,0))","v":{"$error":"#N/A"}},{"$f":"IF(F216=\"\",\"\",VLOOKUP(F216,漢字書き!$A$2:$N$506,6,0))","v":{"$error":"#N/A"}},{"$f":"IF(G216=\"\",\"\",VLOOKUP(G216,漢字書き!$A$2:$N$506,6,0))","v":{"$error":"#N/A"}},{"$f":"IF(H216=\"\",\"\",VLOOKUP(H216,漢字書き!$A$2:$N$506,6,0))","v":{"$error":"#N/A"}},{"$f":"IF(I216=\"\",\"\",VLOOKUP(I216,漢字書き!$A$2:$N$506,6,0))","v":{"$error":"#N/A"}},{"$f":"IF(J216=\"\",\"\",VLOOKUP(J216,漢字書き!$A$2:$N$506,6,0))","v":{"$error":"#N/A"}},{"$f":"IF(K216=\"\",\"\",VLOOKUP(K216,漢字読み!$A$2:$O$506,6,0))","v":{"$error":"#N/A"}},{"$f":"IF(L216=\"\",\"\",VLOOKUP(L216,漢字読み!$A$2:$O$506,6,0))","v":{"$error":"#N/A"}},{"$f":"IF(M216=\"\",\"\",VLOOKUP(M216,漢字読み!$A$2:$O$506,6,0))","v":{"$error":"#N/A"}},{"$f":"IF(N216=\"\",\"\",VLOOKUP(N216,漢字読み!$A$2:$O$506,6,0))","v":{"$error":"#N/A"}},{"$f":"IF(O216=\"\",\"\",VLOOKUP(O216,漢字読み!$A$2:$O$506,6,0))","v":{"$error":"#N/A"}},{"$f":"IF(P216=\"\",\"\",VLOOKUP(P216,漢字読み!$A$2:$O$506,6,0))","v":{"$error":"#N/A"}},{"$f":"IF(Q216=\"\",\"\",VLOOKUP(Q216,漢字読み!$A$2:$O$506,6,0))","v":{"$error":"#N/A"}},{"$f":"IF(R216=\"\",\"\",VLOOKUP(R216,漢字読み!$A$2:$O$506,6,0))","v":{"$error":"#N/A"}},{"$f":"IF(S216=\"\",\"\",VLOOKUP(S216,漢字読み!$A$2:$O$506,6,0))","v":{"$error":"#N/A"}},{"$f":"IF(T216=\"\",\"\",VLOOKUP(T216,漢字読み!$A$2:$O$506,6,0))","v":{"$error":"#N/A"}},null,"級"]
[{"$f":"IF(A$16=\"\",\"\",VLOOKUP(A216,漢字書き!$A$2:$O$506,8,0))","v":{"$error":"#N/A"}},{"$f":"IF(B$16=\"\",\"\",VLOOKUP(B216,漢字書き!$A$2:$O$506,8,0))","v":{"$error":"#N/A"}},{"$f":"IF(C$16=\"\",\"\",VLOOKUP(C216,漢字書き!$A$2:$O$506,8,0))","v":{"$error":"#N/A"}},{"$f":"IF(D$16=\"\",\"\",VLOOKUP(D216,漢字書き!$A$2:$O$506,8,0))","v":{"$error":"#N/A"}},{"$f":"IF(E$16=\"\",\"\",VLOOKUP(E216,漢字書き!$A$2:$O$506,8,0))","v":{"$error":"#N/A"}},{"$f":"IF(F$16=\"\",\"\",VLOOKUP(F216,漢字書き!$A$2:$O$506,8,0))","v":{"$error":"#N/A"}},{"$f":"IF(G$16=\"\",\"\",VLOOKUP(G216,漢字書き!$A$2:$O$506,8,0))","v":{"$error":"#N/A"}},{"$f":"IF(H$16=\"\",\"\",VLOOKUP(H216,漢字書き!$A$2:$O$506,8,0))","v":{"$error":"#N/A"}},{"$f":"IF(I$16=\"\",\"\",VLOOKUP(I216,漢字書き!$A$2:$O$506,8,0))","v":{"$error":"#N/A"}},{"$f":"IF(J$16=\"\",\"\",VLOOKUP(J216,漢字書き!$A$2:$O$506,8,0))","v":{"$error":"#N/A"}},{"$f":"IF(K$16=\"\",\"\",VLOOKUP(K216,漢字読み!$A$2:$O$506,8,0))","v":{"$error":"#N/A"}},{"$f":"IF(L$16=\"\",\"\",VLOOKUP(L216,漢字読み!$A$2:$O$506,8,0))","v":{"$error":"#N/A"}},{"$f":"IF(M$16=\"\",\"\",VLOOKUP(M216,漢字読み!$A$2:$O$506,8,0))","v":{"$error":"#N/A"}},{"$f":"IF(N$16=\"\",\"\",VLOOKUP(N216,漢字読み!$A$2:$O$506,8,0))","v":{"$error":"#N/A"}},{"$f":"IF(O$16=\"\",\"\",VLOOKUP(O216,漢字読み!$A$2:$O$506,8,0))","v":{"$error":"#N/A"}},{"$f":"IF(P$16=\"\",\"\",VLOOKUP(P216,漢字読み!$A$2:$O$506,8,0))","v":{"$error":"#N/A"}},{"$f":"IF(Q$16=\"\",\"\",VLOOKUP(Q216,漢字読み!$A$2:$O$506,8,0))","v":{"$error":"#N/A"}},{"$f":"IF(R$16=\"\",\"\",VLOOKUP(R216,漢字読み!$A$2:$O$506,8,0))","v":{"$error":"#N/A"}},{"$f":"IF(S$16=\"\",\"\",VLOOKUP(S216,漢字読み!$A$2:$O$506,8,0))","v":{"$error":"#N/A"}},{"$f":"IF(T$16=\"\",\"\",VLOOKUP(T216,漢字読み!$A$2:$O$506,8,0))","v":{"$error":"#N/A"}},null,"名前"]
[{"$f":"IF(A216=\"\",\"\",IF(VLOOKUP(A216,漢字書き!$A$2:$N$502,7,0)=0,\"\",VLOOKUP(A216,漢字書き!$A$2:$N$502,7,0)))","v":{"$error":"#N/A"}},{"$f":"IF(B216=\"\",\"\",IF(VLOOKUP(B216,漢字書き!$A$2:$N$502,7,0)=0,\"\",VLOOKUP(B216,漢字書き!$A$2:$N$502,7,0)))","v":{"$error":"#N/A"}},{"$f":"IF(C216=\"\",\"\",IF(VLOOKUP(C216,漢字書き!$A$2:$N$502,7,0)=0,\"\",VLOOKUP(C216,漢字書き!$A$2:$N$502,7,0)))","v":{"$error":"#N/A"}},{"$f":"IF(D216=\"\",\"\",IF(VLOOKUP(D216,漢字書き!$A$2:$N$502,7,0)=0,\"\",VLOOKUP(D216,漢字書き!$A$2:$N$502,7,0)))","v":{"$error":"#N/A"}},{"$f":"IF(E216=\"\",\"\",IF(VLOOKUP(E216,漢字書き!$A$2:$N$502,7,0)=0,\"\",VLOOKUP(E216,漢字書き!$A$2:$N$502,7,0)))","v":{"$error":"#N/A"}},{"$f":"IF(F216=\"\",\"\",IF(VLOOKUP(F216,漢字書き!$A$2:$N$502,7,0)=0,\"\",VLOOKUP(F216,漢字書き!$A$2:$N$502,7,0)))","v":{"$error":"#N/A"}},{"$f":"IF(G216=\"\",\"\",IF(VLOOKUP(G216,漢字書き!$A$2:$N$502,7,0)=0,\"\",VLOOKUP(G216,漢字書き!$A$2:$N$502,7,0)))","v":{"$error":"#N/A"}},{"$f":"IF(H216=\"\",\"\",IF(VLOOKUP(H216,漢字書き!$A$2:$N$502,7,0)=0,\"\",VLOOKUP(H216,漢字書き!$A$2:$N$502,7,0)))","v":{"$error":"#N/A"}},{"$f":"IF(I216=\"\",\"\",IF(VLOOKUP(I216,漢字書き!$A$2:$N$502,7,0)=0,\"\",VLOOKUP(I216,漢字書き!$A$2:$N$502,7,0)))","v":{"$error":"#N/A"}},{"$f":"IF(J216=\"\",\"\",IF(VLOOKUP(J216,漢字書き!$A$2:$N$502,7,0)=0,\"\",VLOOKUP(J216,漢字書き!$A$2:$N$502,7,0)))","v":{"$error":"#N/A"}},{"$f":"IF(K216=\"\",\"\",IF(VLOOKUP(K216,漢字読み!$A$2:$O$502,7,0)=0,\"\",VLOOKUP(K216,漢字読み!$A$2:$O$502,7,0)))","v":{"$error":"#N/A"}},{"$f":"IF(L216=\"\",\"\",IF(VLOOKUP(L216,漢字読み!$A$2:$O$502,7,0)=0,\"\",VLOOKUP(L216,漢字読み!$A$2:$O$502,7,0)))","v":{"$error":"#N/A"}},{"$f":"IF(M216=\"\",\"\",IF(VLOOKUP(M216,漢字読み!$A$2:$O$502,7,0)=0,\"\",VLOOKUP(M216,漢字読み!$A$2:$O$502,7,0)))","v":{"$error":"#N/A"}},{"$f":"IF(N216=\"\",\"\",IF(VLOOKUP(N216,漢字読み!$A$2:$O$502,7,0)=0,\"\",VLOOKUP(N216,漢字読み!$A$2:$O$502,7,0)))","v":{"$error":"#N/A"}},{"$f":"IF(O216=\"\",\"\",IF(VLOOKUP(O216,漢字読み!$A$2:$O$502,7,0)=0,\"\",VLOOKUP(O216,漢字読み!$A$2:$O$502,7,0)))","v":{"$error":"#N/A"}},{"$f":"IF(P216=\"\",\"\",IF(VLOOKUP(P216,漢字読み!$A$2:$O$502,7,0)=0,\"\",VLOOKUP(P216,漢字読み!$A$2:$O$502,7,0)))","v":{"$error":"#N/A"}},{"$f":"IF(Q216=\"\",\"\",IF(VLOOKUP(Q216,漢字読み!$A$2:$O$502,7,0)=0,\"\",VLOOKUP(Q216,漢字読み!$A$2:$O$502,7,0)))","v":{"$error":"#N/A"}},{"$f":"IF(R216=\"\",\"\",IF(VLOOKUP(R216,漢字読み!$A$2:$O$502,7,0)=0,\"\",VLOOKUP(R216,漢字読み!$A$2:$O$502,7,0)))","v":{"$error":"#N/A"}},{"$f":"IF(S216=\"\",\"\",IF(VLOOKUP(S216,漢字読み!$A$2:$O$502,7,0)=0,\"\",VLOOKUP(S216,漢字読み!$A$2:$O$502,7,0)))","v":{"$error":"#N/A"}},{"$f":"IF(T216=\"\",\"\",IF(VLOOKUP(T216,漢字読み!$A$2:$O$502,7,0)=0,\"\",VLOOKUP(T216,漢字読み!$A$2:$O$502,7,0)))","v":{"$error":"#N/A"}},null,null,"和歌山県教育委員会"]
[{"$f":"INDIRECT(\"'関数（書き）'!C\" & COLUMN(B$1)+SUM($AD$2:$AD222))","v":0},{"$f":"INDIRECT(\"'関数（書き）'!C\" & COLUMN(C$1)+SUM($AD$2:$AD222))","v":0},{"$f":"INDIRECT(\"'関数（書き）'!C\" & COLUMN(D$1)+SUM($AD$2:$AD222))","v":0},{"$f":"INDIRECT(\"'関数（書き）'!C\" & COLUMN(E$1)+SUM($AD$2:$AD222))","v":0},{"$f":"INDIRECT(\"'関数（書き）'!C\" & COLUMN(F$1)+SUM($AD$2:$AD222))","v":0},{"$f":"INDIRECT(\"'関数（書き）'!C\" & COLUMN(G$1)+SUM($AD$2:$AD222))","v":0},{"$f":"INDIRECT(\"'関数（書き）'!C\" & COLUMN(H$1)+SUM($AD$2:$AD222))","v":0},{"$f":"INDIRECT(\"'関数（書き）'!C\" & COLUMN(I$1)+SUM($AD$2:$AD222))","v":0},{"$f":"INDIRECT(\"'関数（書き）'!C\" & COLUMN(J$1)+SUM($AD$2:$AD222))","v":0},{"$f":"INDIRECT(\"'関数（書き）'!C\" & COLUMN(K$1)+SUM($AD$2:$AD222))","v":0},{"$f":"INDIRECT(\"'関数（読み）'!C\" & COLUMN(B$1)+SUM($AD$2:$AD222))","v":0},{"$f":"INDIRECT(\"'関数（読み）'!C\" & COLUMN(C$1)+SUM($AD$2:$AD222))","v":0},{"$f":"INDIRECT(\"'関数（読み）'!C\" & COLUMN(D$1)+SUM($AD$2:$AD222))","v":0},{"$f":"INDIRECT(\"'関数（読み）'!C\" & COLUMN(E$1)+SUM($AD$2:$AD222))","v":0},{"$f":"INDIRECT(\"'関数（読み）'!C\" & COLUMN(F$1)+SUM($AD$2:$AD222))","v":0},{"$f":"INDIRECT(\"'関数（読み）'!C\" & COLUMN(G$1)+SUM($AD$2:$AD222))","v":0},{"$f":"INDIRECT(\"'関数（読み）'!C\" & COLUMN(H$1)+SUM($AD$2:$AD222))","v":0},{"$f":"INDIRECT(\"'関数（読み）'!C\" & COLUMN(I$1)+SUM($AD$2:$AD222))","v":0},{"$f":"INDIRECT(\"'関数（読み）'!C\" & COLUMN(J$1)+SUM($AD$2:$AD222))","v":0},{"$f":"INDIRECT(\"'関数（読み）'!C\" & COLUMN(K$1)+SUM($AD$2:$AD222))","v":0}]
["⑳","⑲","⑱","⑰","⑯","⑮","⑭","⑬","⑫","⑪","⑩","⑨","⑧","⑦","⑥","⑤","④","③","②","①","次の［　　　　］の部分の漢字には読みがなをひらがなで書き、カタカナは漢字に直しなさい。",14,"「漢字の博士検定試験」練習問題　",null,null,null,null,null,"←",10,"問",{"$f":"AH207+1","v":221},"～",{"$f":"SUM($AD$2:$AD222)+10","v":230},"問まで",{"$f":"COUNTIF($A$1:$T$200,T223)","v":585}]
[{"$f":"IF(A221=\"\",\"\",VLOOKUP(A221,漢字書き!$A$2:$N$506,6,0))","v":{"$error":"#N/A"}},{"$f":"IF(B221=\"\",\"\",VLOOKUP(B221,漢字書き!$A$2:$N$506,6,0))","v":{"$error":"#N/A"}},{"$f":"IF(C221=\"\",\"\",VLOOKUP(C221,漢字書き!$A$2:$N$506,6,0))","v":{"$error":"#N/A"}},{"$f":"IF(D221=\"\",\"\",VLOOKUP(D221,漢字書き!$A$2:$N$506,6,0))","v":{"$error":"#N/A"}},{"$f":"IF(E221=\"\",\"\",VLOOKUP(E221,漢字書き!$A$2:$N$506,6,0))","v":{"$error":"#N/A"}},{"$f":"IF(F221=\"\",\"\",VLOOKUP(F221,漢字書き!$A$2:$N$506,6,0))","v":{"$error":"#N/A"}},{"$f":"IF(G221=\"\",\"\",VLOOKUP(G221,漢字書き!$A$2:$N$506,6,0))","v":{"$error":"#N/A"}},{"$f":"IF(H221=\"\",\"\",VLOOKUP(H221,漢字書き!$A$2:$N$506,6,0))","v":{"$error":"#N/A"}},{"$f":"IF(I221=\"\",\"\",VLOOKUP(I221,漢字書き!$A$2:$N$506,6,0))","v":{"$error":"#N/A"}},{"$f":"IF(J221=\"\",\"\",VLOOKUP(J221,漢字書き!$A$2:$N$506,6,0))","v":{"$error":"#N/A"}},{"$f":"IF(K221=\"\",\"\",VLOOKUP(K221,漢字読み!$A$2:$O$506,6,0))","v":{"$error":"#N/A"}},{"$f":"IF(L221=\"\",\"\",VLOOKUP(L221,漢字読み!$A$2:$O$506,6,0))","v":{"$error":"#N/A"}},{"$f":"IF(M221=\"\",\"\",VLOOKUP(M221,漢字読み!$A$2:$O$506,6,0))","v":{"$error":"#N/A"}},{"$f":"IF(N221=\"\",\"\",VLOOKUP(N221,漢字読み!$A$2:$O$506,6,0))","v":{"$error":"#N/A"}},{"$f":"IF(O221=\"\",\"\",VLOOKUP(O221,漢字読み!$A$2:$O$506,6,0))","v":{"$error":"#N/A"}},{"$f":"IF(P221=\"\",\"\",VLOOKUP(P221,漢字読み!$A$2:$O$506,6,0))","v":{"$error":"#N/A"}},{"$f":"IF(Q221=\"\",\"\",VLOOKUP(Q221,漢字読み!$A$2:$O$506,6,0))","v":{"$error":"#N/A"}},{"$f":"IF(R221=\"\",\"\",VLOOKUP(R221,漢字読み!$A$2:$O$506,6,0))","v":{"$error":"#N/A"}},{"$f":"IF(S221=\"\",\"\",VLOOKUP(S221,漢字読み!$A$2:$O$506,6,0))","v":{"$error":"#N/A"}},{"$f":"IF(T221=\"\",\"\",VLOOKUP(T221,漢字読み!$A$2:$O$506,6,0))","v":{"$error":"#N/A"}},null,"級"]
[null,null,null,null,null,null,null,null,null,null,null,null,null,null,null,null,null,null,null,null,null,"名前"]
[{"$f":"IF(A221=\"\",\"\",IF(VLOOKUP(A221,漢字書き!$A$2:$N$502,7,0)=0,\"\",VLOOKUP(A221,漢字書き!$A$2:$N$502,7,0)))","v":{"$error":"#N/A"}},{"$f":"IF(B221=\"\",\"\",IF(VLOOKUP(B221,漢字書き!$A$2:$N$502,7,0)=0,\"\",VLOOKUP(B221,漢字書き!$A$2:$N$502,7,0)))","v":{"$error":"#N/A"}},{"$f":"IF(C221=\"\",\"\",IF(VLOOKUP(C221,漢字書き!$A$2:$N$502,7,0)=0,\"\",VLOOKUP(C221,漢字書き!$A$2:$N$502,7,0)))","v":{"$error":"#N/A"}},{"$f":"IF(D221=\"\",\"\",IF(VLOOKUP(D221,漢字書き!$A$2:$N$502,7,0)=0,\"\",VLOOKUP(D221,漢字書き!$A$2:$N$502,7,0)))","v":{"$error":"#N/A"}},{"$f":"IF(E221=\"\",\"\",IF(VLOOKUP(E221,漢字書き!$A$2:$N$502,7,0)=0,\"\",VLOOKUP(E221,漢字書き!$A$2:$N$502,7,0)))","v":{"$error":"#N/A"}},{"$f":"IF(F221=\"\",\"\",IF(VLOOKUP(F221,漢字書き!$A$2:$N$502,7,0)=0,\"\",VLOOKUP(F221,漢字書き!$A$2:$N$502,7,0)))","v":{"$error":"#N/A"}},{"$f":"IF(G221=\"\",\"\",IF(VLOOKUP(G221,漢字書き!$A$2:$N$502,7,0)=0,\"\",VLOOKUP(G221,漢字書き!$A$2:$N$502,7,0)))","v":{"$error":"#N/A"}},{"$f":"IF(H221=\"\",\"\",IF(VLOOKUP(H221,漢字書き!$A$2:$N$502,7,0)=0,\"\",VLOOKUP(H221,漢字書き!$A$2:$N$502,7,0)))","v":{"$error":"#N/A"}},{"$f":"IF(I221=\"\",\"\",IF(VLOOKUP(I221,漢字書き!$A$2:$N$502,7,0)=0,\"\",VLOOKUP(I221,漢字書き!$A$2:$N$502,7,0)))","v":{"$error":"#N/A"}},{"$f":"IF(J221=\"\",\"\",IF(VLOOKUP(J221,漢字書き!$A$2:$N$502,7,0)=0,\"\",VLOOKUP(J221,漢字書き!$A$2:$N$502,7,0)))","v":{"$error":"#N/A"}},{"$f":"IF(K221=\"\",\"\",IF(VLOOKUP(K221,漢字読み!$A$2:$O$502,7,0)=0,\"\",VLOOKUP(K221,漢字読み!$A$2:$O$502,7,0)))","v":{"$error":"#N/A"}},{"$f":"IF(L221=\"\",\"\",IF(VLOOKUP(L221,漢字読み!$A$2:$O$502,7,0)=0,\"\",VLOOKUP(L221,漢字読み!$A$2:$O$502,7,0)))","v":{"$error":"#N/A"}},{"$f":"IF(M221=\"\",\"\",IF(VLOOKUP(M221,漢字読み!$A$2:$O$502,7,0)=0,\"\",VLOOKUP(M221,漢字読み!$A$2:$O$502,7,0)))","v":{"$error":"#N/A"}},{"$f":"IF(N221=\"\",\"\",IF(VLOOKUP(N221,漢字読み!$A$2:$O$502,7,0)=0,\"\",VLOOKUP(N221,漢字読み!$A$2:$O$502,7,0)))","v":{"$error":"#N/A"}},{"$f":"IF(O221=\"\",\"\",IF(VLOOKUP(O221,漢字読み!$A$2:$O$502,7,0)=0,\"\",VLOOKUP(O221,漢字読み!$A$2:$O$502,7,0)))","v":{"$error":"#N/A"}},{"$f":"IF(P221=\"\",\"\",IF(VLOOKUP(P221,漢字読み!$A$2:$O$502,7,0)=0,\"\",VLOOKUP(P221,漢字読み!$A$2:$O$502,7,0)))","v":{"$error":"#N/A"}},{"$f":"IF(Q221=\"\",\"\",IF(VLOOKUP(Q221,漢字読み!$A$2:$O$502,7,0)=0,\"\",VLOOKUP(Q221,漢字読み!$A$2:$O$502,7,0)))","v":{"$error":"#N/A"}},{"$f":"IF(R221=\"\",\"\",IF(VLOOKUP(R221,漢字読み!$A$2:$O$502,7,0)=0,\"\",VLOOKUP(R221,漢字読み!$A$2:$O$502,7,0)))","v":{"$error":"#N/A"}},{"$f":"IF(S221=\"\",\"\",IF(VLOOKUP(S221,漢字読み!$A$2:$O$502,7,0)=0,\"\",VLOOKUP(S221,漢字読み!$A$2:$O$502,7,0)))","v":{"$error":"#N/A"}},{"$f":"IF(T221=\"\",\"\",IF(VLOOKUP(T221,漢字読み!$A$2:$O$502,7,0)=0,\"\",VLOOKUP(T221,漢字読み!$A$2:$O$502,7,0)))","v":{"$error":"#N/A"}},null,null,"和歌山県教育委員会"]
[{"$f":"INDIRECT(\"'関数（書き）'!C\" & COLUMN(B$1)+SUM($AD$2:$AD227))","v":0},{"$f":"INDIRECT(\"'関数（書き）'!C\" & COLUMN(C$1)+SUM($AD$2:$AD227))","v":0},{"$f":"INDIRECT(\"'関数（書き）'!C\" & COLUMN(D$1)+SUM($AD$2:$AD227))","v":0},{"$f":"INDIRECT(\"'関数（書き）'!C\" & COLUMN(E$1)+SUM($AD$2:$AD227))","v":0},{"$f":"INDIRECT(\"'関数（書き）'!C\" & COLUMN(F$1)+SUM($AD$2:$AD227))","v":0},{"$f":"INDIRECT(\"'関数（書き）'!C\" & COLUMN(G$1)+SUM($AD$2:$AD227))","v":0},{"$f":"INDIRECT(\"'関数（書き）'!C\" & COLUMN(H$1)+SUM($AD$2:$AD227))","v":0},{"$f":"INDIRECT(\"'関数（書き）'!C\" & COLUMN(I$1)+SUM($AD$2:$AD227))","v":0},{"$f":"INDIRECT(\"'関数（書き）'!C\" & COLUMN(J$1)+SUM($AD$2:$AD227))","v":0},{"$f":"INDIRECT(\"'関数（書き）'!C\" & COLUMN(K$1)+SUM($AD$2:$AD227))","v":0},{"$f":"INDIRECT(\"'関数（読み）'!C\" & COLUMN(B$1)+SUM($AD$2:$AD227))","v":0},{"$f":"INDIRECT(\"'関数（読み）'!C\" & COLUMN(C$1)+SUM($AD$2:$AD227))","v":0},{"$f":"INDIRECT(\"'関数（読み）'!C\" & COLUMN(D$1)+SUM($AD$2:$AD227))","v":0},{"$f":"INDIRECT(\"'関数（読み）'!C\" & COLUMN(E$1)+SUM($AD$2:$AD227))","v":0},{"$f":"INDIRECT(\"'関数（読み）'!C\" & COLUMN(F$1)+SUM($AD$2:$AD227))","v":0},{"$f":"INDIRECT(\"'関数（読み）'!C\" & COLUMN(G$1)+SUM($AD$2:$AD227))","v":0},{"$f":"INDIRECT(\"'関数（読み）'!C\" & COLUMN(H$1)+SUM($AD$2:$AD227))","v":0},{"$f":"INDIRECT(\"'関数（読み）'!C\" & COLUMN(I$1)+SUM($AD$2:$AD227))","v":0},{"$f":"INDIRECT(\"'関数（読み）'!C\" & COLUMN(J$1)+SUM($AD$2:$AD227))","v":0},{"$f":"INDIRECT(\"'関数（読み）'!C\" & COLUMN(K$1)+SUM($AD$2:$AD227))","v":0}]
["⑳","⑲","⑱","⑰","⑯","⑮","⑭","⑬","⑫","⑪","⑩","⑨","⑧","⑦","⑥","⑤","④","③","②","①","次の［　　　　］の部分の漢字には読みがなをひらがなで書き、カタカナは漢字に直しなさい。",14,"「漢字の博士検定試験」練習問題　",null,null,null,null,null,"←",10,"問",{"$f":"AH222+1","v":231},"～",{"$f":"SUM($AD$2:$AD227)+10","v":240},"問まで",{"$f":"COUNTIF($A$1:$T$200,T228)","v":585}]
[{"$f":"IF(A226=\"\",\"\",VLOOKUP(A226,漢字書き!$A$2:$N$506,6,0))","v":{"$error":"#N/A"}},{"$f":"IF(B226=\"\",\"\",VLOOKUP(B226,漢字書き!$A$2:$N$506,6,0))","v":{"$error":"#N/A"}},{"$f":"IF(C226=\"\",\"\",VLOOKUP(C226,漢字書き!$A$2:$N$506,6,0))","v":{"$error":"#N/A"}},{"$f":"IF(D226=\"\",\"\",VLOOKUP(D226,漢字書き!$A$2:$N$506,6,0))","v":{"$error":"#N/A"}},{"$f":"IF(E226=\"\",\"\",VLOOKUP(E226,漢字書き!$A$2:$N$506,6,0))","v":{"$error":"#N/A"}},{"$f":"IF(F226=\"\",\"\",VLOOKUP(F226,漢字書き!$A$2:$N$506,6,0))","v":{"$error":"#N/A"}},{"$f":"IF(G226=\"\",\"\",VLOOKUP(G226,漢字書き!$A$2:$N$506,6,0))","v":{"$error":"#N/A"}},{"$f":"IF(H226=\"\",\"\",VLOOKUP(H226,漢字書き!$A$2:$N$506,6,0))","v":{"$error":"#N/A"}},{"$f":"IF(I226=\"\",\"\",VLOOKUP(I226,漢字書き!$A$2:$N$506,6,0))","v":{"$error":"#N/A"}},{"$f":"IF(J226=\"\",\"\",VLOOKUP(J226,漢字書き!$A$2:$N$506,6,0))","v":{"$error":"#N/A"}},{"$f":"IF(K226=\"\",\"\",VLOOKUP(K226,漢字読み!$A$2:$O$506,6,0))","v":{"$error":"#N/A"}},{"$f":"IF(L226=\"\",\"\",VLOOKUP(L226,漢字読み!$A$2:$O$506,6,0))","v":{"$error":"#N/A"}},{"$f":"IF(M226=\"\",\"\",VLOOKUP(M226,漢字読み!$A$2:$O$506,6,0))","v":{"$error":"#N/A"}},{"$f":"IF(N226=\"\",\"\",VLOOKUP(N226,漢字読み!$A$2:$O$506,6,0))","v":{"$error":"#N/A"}},{"$f":"IF(O226=\"\",\"\",VLOOKUP(O226,漢字読み!$A$2:$O$506,6,0))","v":{"$error":"#N/A"}},{"$f":"IF(P226=\"\",\"\",VLOOKUP(P226,漢字読み!$A$2:$O$506,6,0))","v":{"$error":"#N/A"}},{"$f":"IF(Q226=\"\",\"\",VLOOKUP(Q226,漢字読み!$A$2:$O$506,6,0))","v":{"$error":"#N/A"}},{"$f":"IF(R226=\"\",\"\",VLOOKUP(R226,漢字読み!$A$2:$O$506,6,0))","v":{"$error":"#N/A"}},{"$f":"IF(S226=\"\",\"\",VLOOKUP(S226,漢字読み!$A$2:$O$506,6,0))","v":{"$error":"#N/A"}},{"$f":"IF(T226=\"\",\"\",VLOOKUP(T226,漢字読み!$A$2:$O$506,6,0))","v":{"$error":"#N/A"}},null,"級"]
[null,null,null,null,null,null,null,null,null,null,null,null,null,null,null,null,null,null,null,null,null,"名前"]
[{"$f":"IF(A226=\"\",\"\",IF(VLOOKUP(A226,漢字書き!$A$2:$N$502,7,0)=0,\"\",VLOOKUP(A226,漢字書き!$A$2:$N$502,7,0)))","v":{"$error":"#N/A"}},{"$f":"IF(B226=\"\",\"\",IF(VLOOKUP(B226,漢字書き!$A$2:$N$502,7,0)=0,\"\",VLOOKUP(B226,漢字書き!$A$2:$N$502,7,0)))","v":{"$error":"#N/A"}},{"$f":"IF(C226=\"\",\"\",IF(VLOOKUP(C226,漢字書き!$A$2:$N$502,7,0)=0,\"\",VLOOKUP(C226,漢字書き!$A$2:$N$502,7,0)))","v":{"$error":"#N/A"}},{"$f":"IF(D226=\"\",\"\",IF(VLOOKUP(D226,漢字書き!$A$2:$N$502,7,0)=0,\"\",VLOOKUP(D226,漢字書き!$A$2:$N$502,7,0)))","v":{"$error":"#N/A"}},{"$f":"IF(E226=\"\",\"\",IF(VLOOKUP(E226,漢字書き!$A$2:$N$502,7,0)=0,\"\",VLOOKUP(E226,漢字書き!$A$2:$N$502,7,0)))","v":{"$error":"#N/A"}},{"$f":"IF(F226=\"\",\"\",IF(VLOOKUP(F226,漢字書き!$A$2:$N$502,7,0)=0,\"\",VLOOKUP(F226,漢字書き!$A$2:$N$502,7,0)))","v":{"$error":"#N/A"}},{"$f":"IF(G226=\"\",\"\",IF(VLOOKUP(G226,漢字書き!$A$2:$N$502,7,0)=0,\"\",VLOOKUP(G226,漢字書き!$A$2:$N$502,7,0)))","v":{"$error":"#N/A"}},{"$f":"IF(H226=\"\",\"\",IF(VLOOKUP(H226,漢字書き!$A$2:$N$502,7,0)=0,\"\",VLOOKUP(H226,漢字書き!$A$2:$N$502,7,0)))","v":{"$error":"#N/A"}},{"$f":"IF(I226=\"\",\"\",IF(VLOOKUP(I226,漢字書き!$A$2:$N$502,7,0)=0,\"\",VLOOKUP(I226,漢字書き!$A$2:$N$502,7,0)))","v":{"$error":"#N/A"}},{"$f":"IF(J226=\"\",\"\",IF(VLOOKUP(J226,漢字書き!$A$2:$N$502,7,0)=0,\"\",VLOOKUP(J226,漢字書き!$A$2:$N$502,7,0)))","v":{"$error":"#N/A"}},{"$f":"IF(K226=\"\",\"\",IF(VLOOKUP(K226,漢字読み!$A$2:$O$502,7,0)=0,\"\",VLOOKUP(K226,漢字読み!$A$2:$O$502,7,0)))","v":{"$error":"#N/A"}},{"$f":"IF(L226=\"\",\"\",IF(VLOOKUP(L226,漢字読み!$A$2:$O$502,7,0)=0,\"\",VLOOKUP(L226,漢字読み!$A$2:$O$502,7,0)))","v":{"$error":"#N/A"}},{"$f":"IF(M226=\"\",\"\",IF(VLOOKUP(M226,漢字読み!$A$2:$O$502,7,0)=0,\"\",VLOOKUP(M226,漢字読み!$A$2:$O$502,7,0)))","v":{"$error":"#N/A"}},{"$f":"IF(N226=\"\",\"\",IF(VLOOKUP(N226,漢字読み!$A$2:$O$502,7,0)=0,\"\",VLOOKUP(N226,漢字読み!$A$2:$O$502,7,0)))","v":{"$error":"#N/A"}},{"$f":"IF(O226=\"\",\"\",IF(VLOOKUP(O226,漢字読み!$A$2:$O$502,7,0)=0,\"\",VLOOKUP(O226,漢字読み!$A$2:$O$502,7,0)))","v":{"$error":"#N/A"}},{"$f":"IF(P226=\"\",\"\",IF(VLOOKUP(P226,漢字読み!$A$2:$O$502,7,0)=0,\"\",VLOOKUP(P226,漢字読み!$A$2:$O$502,7,0)))","v":{"$error":"#N/A"}},{"$f":"IF(Q226=\"\",\"\",IF(VLOOKUP(Q226,漢字読み!$A$2:$O$502,7,0)=0,\"\",VLOOKUP(Q226,漢字読み!$A$2:$O$502,7,0)))","v":{"$error":"#N/A"}},{"$f":"IF(R226=\"\",\"\",IF(VLOOKUP(R226,漢字読み!$A$2:$O$502,7,0)=0,\"\",VLOOKUP(R226,漢字読み!$A$2:$O$502,7,0)))","v":{"$error":"#N/A"}},{"$f":"IF(S226=\"\",\"\",IF(VLOOKUP(S226,漢字読み!$A$2:$O$502,7,0)=0,\"\",VLOOKUP(S226,漢字読み!$A$2:$O$502,7,0)))","v":{"$error":"#N/A"}},{"$f":"IF(T226=\"\",\"\",IF(VLOOKUP(T226,漢字読み!$A$2:$O$502,7,0)=0,\"\",VLOOKUP(T226,漢字読み!$A$2:$O$502,7,0)))","v":{"$error":"#N/A"}},null,null,"和歌山県教育委員会"]
[{"$f":"A221","v":0},{"$f":"B221","v":0},{"$f":"C221","v":0},{"$f":"D221","v":0},{"$f":"E221","v":0},{"$f":"F221","v":0},{"$f":"G221","v":0},{"$f":"H221","v":0},{"$f":"I221","v":0},{"$f":"J221","v":0},{"$f":"K221","v":0},{"$f":"L221","v":0},{"$f":"M221","v":0},{"$f":"N221","v":0},{"$f":"O221","v":0},{"$f":"P221","v":0},{"$f":"Q221","v":0},{"$f":"R221","v":0},{"$f":"S221","v":0},{"$f":"T221","v":0}]
["⑳","⑲","⑱","⑰","⑯","⑮","⑭","⑬","⑫","⑪","⑩","⑨","⑧","⑦","⑥","⑤","④","③","②","①","次の［　　　　］の部分の漢字には読みがなをひらがなで書き、カタカナは漢字に直しなさい。",14,"「漢字の博士検定試験」練習問題　"]
[{"$f":"IF(A231=\"\",\"\",VLOOKUP(A231,漢字書き!$A$2:$N$506,6,0))","v":{"$error":"#N/A"}},{"$f":"IF(B231=\"\",\"\",VLOOKUP(B231,漢字書き!$A$2:$N$506,6,0))","v":{"$error":"#N/A"}},{"$f":"IF(C231=\"\",\"\",VLOOKUP(C231,漢字書き!$A$2:$N$506,6,0))","v":{"$error":"#N/A"}},{"$f":"IF(D231=\"\",\"\",VLOOKUP(D231,漢字書き!$A$2:$N$506,6,0))","v":{"$error":"#N/A"}},{"$f":"IF(E231=\"\",\"\",VLOOKUP(E231,漢字書き!$A$2:$N$506,6,0))","v":{"$error":"#N/A"}},{"$f":"IF(F231=\"\",\"\",VLOOKUP(F231,漢字書き!$A$2:$N$506,6,0))","v":{"$error":"#N/A"}},{"$f":"IF(G231=\"\",\"\",VLOOKUP(G231,漢字書き!$A$2:$N$506,6,0))","v":{"$error":"#N/A"}},{"$f":"IF(H231=\"\",\"\",VLOOKUP(H231,漢字書き!$A$2:$N$506,6,0))","v":{"$error":"#N/A"}},{"$f":"IF(I231=\"\",\"\",VLOOKUP(I231,漢字書き!$A$2:$N$506,6,0))","v":{"$error":"#N/A"}},{"$f":"IF(J231=\"\",\"\",VLOOKUP(J231,漢字書き!$A$2:$N$506,6,0))","v":{"$error":"#N/A"}},{"$f":"IF(K231=\"\",\"\",VLOOKUP(K231,漢字読み!$A$2:$O$506,6,0))","v":{"$error":"#N/A"}},{"$f":"IF(L231=\"\",\"\",VLOOKUP(L231,漢字読み!$A$2:$O$506,6,0))","v":{"$error":"#N/A"}},{"$f":"IF(M231=\"\",\"\",VLOOKUP(M231,漢字読み!$A$2:$O$506,6,0))","v":{"$error":"#N/A"}},{"$f":"IF(N231=\"\",\"\",VLOOKUP(N231,漢字読み!$A$2:$O$506,6,0))","v":{"$error":"#N/A"}},{"$f":"IF(O231=\"\",\"\",VLOOKUP(O231,漢字読み!$A$2:$O$506,6,0))","v":{"$error":"#N/A"}},{"$f":"IF(P231=\"\",\"\",VLOOKUP(P231,漢字読み!$A$2:$O$506,6,0))","v":{"$error":"#N/A"}},{"$f":"IF(Q231=\"\",\"\",VLOOKUP(Q231,漢字読み!$A$2:$O$506,6,0))","v":{"$error":"#N/A"}},{"$f":"IF(R231=\"\",\"\",VLOOKUP(R231,漢字読み!$A$2:$O$506,6,0))","v":{"$error":"#N/A"}},{"$f":"IF(S231=\"\",\"\",VLOOKUP(S231,漢字読み!$A$2:$O$506,6,0))","v":{"$error":"#N/A"}},{"$f":"IF(T231=\"\",\"\",VLOOKUP(T231,漢字読み!$A$2:$O$506,6,0))","v":{"$error":"#N/A"}},null,"級"]
[{"$f":"IF(A$11=\"\",\"\",VLOOKUP(A231,漢字書き!$A$2:$O$506,8,0))","v":{"$error":"#N/A"}},{"$f":"IF(B$11=\"\",\"\",VLOOKUP(B231,漢字書き!$A$2:$O$506,8,0))","v":{"$error":"#N/A"}},{"$f":"IF(C$11=\"\",\"\",VLOOKUP(C231,漢字書き!$A$2:$O$506,8,0))","v":{"$error":"#N/A"}},{"$f":"IF(D$11=\"\",\"\",VLOOKUP(D231,漢字書き!$A$2:$O$506,8,0))","v":{"$error":"#N/A"}},{"$f":"IF(E$11=\"\",\"\",VLOOKUP(E231,漢字書き!$A$2:$O$506,8,0))","v":{"$error":"#N/A"}},{"$f":"IF(F$11=\"\",\"\",VLOOKUP(F231,漢字書き!$A$2:$O$506,8,0))","v":{"$error":"#N/A"}},{"$f":"IF(G$11=\"\",\"\",VLOOKUP(G231,漢字書き!$A$2:$O$506,8,0))","v":{"$error":"#N/A"}},{"$f":"IF(H$11=\"\",\"\",VLOOKUP(H231,漢字書き!$A$2:$O$506,8,0))","v":{"$error":"#N/A"}},{"$f":"IF(I$11=\"\",\"\",VLOOKUP(I231,漢字書き!$A$2:$O$506,8,0))","v":{"$error":"#N/A"}},{"$f":"IF(J$11=\"\",\"\",VLOOKUP(J231,漢字書き!$A$2:$O$506,8,0))","v":{"$error":"#N/A"}},{"$f":"IF(K$11=\"\",\"\",VLOOKUP(K231,漢字読み!$A$2:$O$506,8,0))","v":{"$error":"#N/A"}},{"$f":"IF(L$11=\"\",\"\",VLOOKUP(L231,漢字読み!$A$2:$O$506,8,0))","v":{"$error":"#N/A"}},{"$f":"IF(M$11=\"\",\"\",VLOOKUP(M231,漢字読み!$A$2:$O$506,8,0))","v":{"$error":"#N/A"}},{"$f":"IF(N$11=\"\",\"\",VLOOKUP(N231,漢字読み!$A$2:$O$506,8,0))","v":{"$error":"#N/A"}},{"$f":"IF(O$11=\"\",\"\",VLOOKUP(O231,漢字読み!$A$2:$O$506,8,0))","v":{"$error":"#N/A"}},{"$f":"IF(P$11=\"\",\"\",VLOOKUP(P231,漢字読み!$A$2:$O$506,8,0))","v":{"$error":"#N/A"}},{"$f":"IF(Q$11=\"\",\"\",VLOOKUP(Q231,漢字読み!$A$2:$O$506,8,0))","v":{"$error":"#N/A"}},{"$f":"IF(R$11=\"\",\"\",VLOOKUP(R231,漢字読み!$A$2:$O$506,8,0))","v":{"$error":"#N/A"}},{"$f":"IF(S$11=\"\",\"\",VLOOKUP(S231,漢字読み!$A$2:$O$506,8,0))","v":{"$error":"#N/A"}},{"$f":"IF(T$11=\"\",\"\",VLOOKUP(T231,漢字読み!$A$2:$O$506,8,0))","v":{"$error":"#N/A"}},null,"名前"]
[{"$f":"IF(A231=\"\",\"\",IF(VLOOKUP(A231,漢字書き!$A$2:$N$502,7,0)=0,\"\",VLOOKUP(A231,漢字書き!$A$2:$N$502,7,0)))","v":{"$error":"#N/A"}},{"$f":"IF(B231=\"\",\"\",IF(VLOOKUP(B231,漢字書き!$A$2:$N$502,7,0)=0,\"\",VLOOKUP(B231,漢字書き!$A$2:$N$502,7,0)))","v":{"$error":"#N/A"}},{"$f":"IF(C231=\"\",\"\",IF(VLOOKUP(C231,漢字書き!$A$2:$N$502,7,0)=0,\"\",VLOOKUP(C231,漢字書き!$A$2:$N$502,7,0)))","v":{"$error":"#N/A"}},{"$f":"IF(D231=\"\",\"\",IF(VLOOKUP(D231,漢字書き!$A$2:$N$502,7,0)=0,\"\",VLOOKUP(D231,漢字書き!$A$2:$N$502,7,0)))","v":{"$error":"#N/A"}},{"$f":"IF(E231=\"\",\"\",IF(VLOOKUP(E231,漢字書き!$A$2:$N$502,7,0)=0,\"\",VLOOKUP(E231,漢字書き!$A$2:$N$502,7,0)))","v":{"$error":"#N/A"}},{"$f":"IF(F231=\"\",\"\",IF(VLOOKUP(F231,漢字書き!$A$2:$N$502,7,0)=0,\"\",VLOOKUP(F231,漢字書き!$A$2:$N$502,7,0)))","v":{"$error":"#N/A"}},{"$f":"IF(G231=\"\",\"\",IF(VLOOKUP(G231,漢字書き!$A$2:$N$502,7,0)=0,\"\",VLOOKUP(G231,漢字書き!$A$2:$N$502,7,0)))","v":{"$error":"#N/A"}},{"$f":"IF(H231=\"\",\"\",IF(VLOOKUP(H231,漢字書き!$A$2:$N$502,7,0)=0,\"\",VLOOKUP(H231,漢字書き!$A$2:$N$502,7,0)))","v":{"$error":"#N/A"}},{"$f":"IF(I231=\"\",\"\",IF(VLOOKUP(I231,漢字書き!$A$2:$N$502,7,0)=0,\"\",VLOOKUP(I231,漢字書き!$A$2:$N$502,7,0)))","v":{"$error":"#N/A"}},{"$f":"IF(J231=\"\",\"\",IF(VLOOKUP(J231,漢字書き!$A$2:$N$502,7,0)=0,\"\",VLOOKUP(J231,漢字書き!$A$2:$N$502,7,0)))","v":{"$error":"#N/A"}},{"$f":"IF(K231=\"\",\"\",IF(VLOOKUP(K231,漢字読み!$A$2:$O$502,7,0)=0,\"\",VLOOKUP(K231,漢字読み!$A$2:$O$502,7,0)))","v":{"$error":"#N/A"}},{"$f":"IF(L231=\"\",\"\",IF(VLOOKUP(L231,漢字読み!$A$2:$O$502,7,0)=0,\"\",VLOOKUP(L231,漢字読み!$A$2:$O$502,7,0)))","v":{"$error":"#N/A"}},{"$f":"IF(M231=\"\",\"\",IF(VLOOKUP(M231,漢字読み!$A$2:$O$502,7,0)=0,\"\",VLOOKUP(M231,漢字読み!$A$2:$O$502,7,0)))","v":{"$error":"#N/A"}},{"$f":"IF(N231=\"\",\"\",IF(VLOOKUP(N231,漢字読み!$A$2:$O$502,7,0)=0,\"\",VLOOKUP(N231,漢字読み!$A$2:$O$502,7,0)))","v":{"$error":"#N/A"}},{"$f":"IF(O231=\"\",\"\",IF(VLOOKUP(O231,漢字読み!$A$2:$O$502,7,0)=0,\"\",VLOOKUP(O231,漢字読み!$A$2:$O$502,7,0)))","v":{"$error":"#N/A"}},{"$f":"IF(P231=\"\",\"\",IF(VLOOKUP(P231,漢字読み!$A$2:$O$502,7,0)=0,\"\",VLOOKUP(P231,漢字読み!$A$2:$O$502,7,0)))","v":{"$error":"#N/A"}},{"$f":"IF(Q231=\"\",\"\",IF(VLOOKUP(Q231,漢字読み!$A$2:$O$502,7,0)=0,\"\",VLOOKUP(Q231,漢字読み!$A$2:$O$502,7,0)))","v":{"$error":"#N/A"}},{"$f":"IF(R231=\"\",\"\",IF(VLOOKUP(R231,漢字読み!$A$2:$O$502,7,0)=0,\"\",VLOOKUP(R231,漢字読み!$A$2:$O$502,7,0)))","v":{"$error":"#N/A"}},{"$f":"IF(S231=\"\",\"\",IF(VLOOKUP(S231,漢字読み!$A$2:$O$502,7,0)=0,\"\",VLOOKUP(S231,漢字読み!$A$2:$O$502,7,0)))","v":{"$error":"#N/A"}},{"$f":"IF(T231=\"\",\"\",IF(VLOOKUP(T231,漢字読み!$A$2:$O$502,7,0)=0,\"\",VLOOKUP(T231,漢字読み!$A$2:$O$502,7,0)))","v":{"$error":"#N/A"}},null,null,"和歌山県教育委員会"]
[{"$f":"A226","v":0},{"$f":"B226","v":0},{"$f":"C226","v":0},{"$f":"D226","v":0},{"$f":"E226","v":0},{"$f":"F226","v":0},{"$f":"G226","v":0},{"$f":"H226","v":0},{"$f":"I226","v":0},{"$f":"J226","v":0},{"$f":"K226","v":0},{"$f":"L226","v":0},{"$f":"M226","v":0},{"$f":"N226","v":0},{"$f":"O226","v":0},{"$f":"P226","v":0},{"$f":"Q226","v":0},{"$f":"R226","v":0},{"$f":"S226","v":0},{"$f":"T226","v":0}]
["⑳","⑲","⑱","⑰","⑯","⑮","⑭","⑬","⑫","⑪","⑩","⑨","⑧","⑦","⑥","⑤","④","③","②","①","次の［　　　　］の部分の漢字には読みがなをひらがなで書き、カタカナは漢字に直しなさい。",14,"「漢字の博士検定試験」練習問題　"]
[{"$f":"IF(A236=\"\",\"\",VLOOKUP(A236,漢字書き!$A$2:$N$506,6,0))","v":{"$error":"#N/A"}},{"$f":"IF(B236=\"\",\"\",VLOOKUP(B236,漢字書き!$A$2:$N$506,6,0))","v":{"$error":"#N/A"}},{"$f":"IF(C236=\"\",\"\",VLOOKUP(C236,漢字書き!$A$2:$N$506,6,0))","v":{"$error":"#N/A"}},{"$f":"IF(D236=\"\",\"\",VLOOKUP(D236,漢字書き!$A$2:$N$506,6,0))","v":{"$error":"#N/A"}},{"$f":"IF(E236=\"\",\"\",VLOOKUP(E236,漢字書き!$A$2:$N$506,6,0))","v":{"$error":"#N/A"}},{"$f":"IF(F236=\"\",\"\",VLOOKUP(F236,漢字書き!$A$2:$N$506,6,0))","v":{"$error":"#N/A"}},{"$f":"IF(G236=\"\",\"\",VLOOKUP(G236,漢字書き!$A$2:$N$506,6,0))","v":{"$error":"#N/A"}},{"$f":"IF(H236=\"\",\"\",VLOOKUP(H236,漢字書き!$A$2:$N$506,6,0))","v":{"$error":"#N/A"}},{"$f":"IF(I236=\"\",\"\",VLOOKUP(I236,漢字書き!$A$2:$N$506,6,0))","v":{"$error":"#N/A"}},{"$f":"IF(J236=\"\",\"\",VLOOKUP(J236,漢字書き!$A$2:$N$506,6,0))","v":{"$error":"#N/A"}},{"$f":"IF(K236=\"\",\"\",VLOOKUP(K236,漢字読み!$A$2:$O$506,6,0))","v":{"$error":"#N/A"}},{"$f":"IF(L236=\"\",\"\",VLOOKUP(L236,漢字読み!$A$2:$O$506,6,0))","v":{"$error":"#N/A"}},{"$f":"IF(M236=\"\",\"\",VLOOKUP(M236,漢字読み!$A$2:$O$506,6,0))","v":{"$error":"#N/A"}},{"$f":"IF(N236=\"\",\"\",VLOOKUP(N236,漢字読み!$A$2:$O$506,6,0))","v":{"$error":"#N/A"}},{"$f":"IF(O236=\"\",\"\",VLOOKUP(O236,漢字読み!$A$2:$O$506,6,0))","v":{"$error":"#N/A"}},{"$f":"IF(P236=\"\",\"\",VLOOKUP(P236,漢字読み!$A$2:$O$506,6,0))","v":{"$error":"#N/A"}},{"$f":"IF(Q236=\"\",\"\",VLOOKUP(Q236,漢字読み!$A$2:$O$506,6,0))","v":{"$error":"#N/A"}},{"$f":"IF(R236=\"\",\"\",VLOOKUP(R236,漢字読み!$A$2:$O$506,6,0))","v":{"$error":"#N/A"}},{"$f":"IF(S236=\"\",\"\",VLOOKUP(S236,漢字読み!$A$2:$O$506,6,0))","v":{"$error":"#N/A"}},{"$f":"IF(T236=\"\",\"\",VLOOKUP(T236,漢字読み!$A$2:$O$506,6,0))","v":{"$error":"#N/A"}},null,"級"]
[{"$f":"IF(A$16=\"\",\"\",VLOOKUP(A236,漢字書き!$A$2:$O$506,8,0))","v":{"$error":"#N/A"}},{"$f":"IF(B$16=\"\",\"\",VLOOKUP(B236,漢字書き!$A$2:$O$506,8,0))","v":{"$error":"#N/A"}},{"$f":"IF(C$16=\"\",\"\",VLOOKUP(C236,漢字書き!$A$2:$O$506,8,0))","v":{"$error":"#N/A"}},{"$f":"IF(D$16=\"\",\"\",VLOOKUP(D236,漢字書き!$A$2:$O$506,8,0))","v":{"$error":"#N/A"}},{"$f":"IF(E$16=\"\",\"\",VLOOKUP(E236,漢字書き!$A$2:$O$506,8,0))","v":{"$error":"#N/A"}},{"$f":"IF(F$16=\"\",\"\",VLOOKUP(F236,漢字書き!$A$2:$O$506,8,0))","v":{"$error":"#N/A"}},{"$f":"IF(G$16=\"\",\"\",VLOOKUP(G236,漢字書き!$A$2:$O$506,8,0))","v":{"$error":"#N/A"}},{"$f":"IF(H$16=\"\",\"\",VLOOKUP(H236,漢字書き!$A$2:$O$506,8,0))","v":{"$error":"#N/A"}},{"$f":"IF(I$16=\"\",\"\",VLOOKUP(I236,漢字書き!$A$2:$O$506,8,0))","v":{"$error":"#N/A"}},{"$f":"IF(J$16=\"\",\"\",VLOOKUP(J236,漢字書き!$A$2:$O$506,8,0))","v":{"$error":"#N/A"}},{"$f":"IF(K$16=\"\",\"\",VLOOKUP(K236,漢字読み!$A$2:$O$506,8,0))","v":{"$error":"#N/A"}},{"$f":"IF(L$16=\"\",\"\",VLOOKUP(L236,漢字読み!$A$2:$O$506,8,0))","v":{"$error":"#N/A"}},{"$f":"IF(M$16=\"\",\"\",VLOOKUP(M236,漢字読み!$A$2:$O$506,8,0))","v":{"$error":"#N/A"}},{"$f":"IF(N$16=\"\",\"\",VLOOKUP(N236,漢字読み!$A$2:$O$506,8,0))","v":{"$error":"#N/A"}},{"$f":"IF(O$16=\"\",\"\",VLOOKUP(O236,漢字読み!$A$2:$O$506,8,0))","v":{"$error":"#N/A"}},{"$f":"IF(P$16=\"\",\"\",VLOOKUP(P236,漢字読み!$A$2:$O$506,8,0))","v":{"$error":"#N/A"}},{"$f":"IF(Q$16=\"\",\"\",VLOOKUP(Q236,漢字読み!$A$2:$O$506,8,0))","v":{"$error":"#N/A"}},{"$f":"IF(R$16=\"\",\"\",VLOOKUP(R236,漢字読み!$A$2:$O$506,8,0))","v":{"$error":"#N/A"}},{"$f":"IF(S$16=\"\",\"\",VLOOKUP(S236,漢字読み!$A$2:$O$506,8,0))","v":{"$error":"#N/A"}},{"$f":"IF(T$16=\"\",\"\",VLOOKUP(T236,漢字読み!$A$2:$O$506,8,0))","v":{"$error":"#N/A"}},null,"名前"]
[{"$f":"IF(A236=\"\",\"\",IF(VLOOKUP(A236,漢字書き!$A$2:$N$502,7,0)=0,\"\",VLOOKUP(A236,漢字書き!$A$2:$N$502,7,0)))","v":{"$error":"#N/A"}},{"$f":"IF(B236=\"\",\"\",IF(VLOOKUP(B236,漢字書き!$A$2:$N$502,7,0)=0,\"\",VLOOKUP(B236,漢字書き!$A$2:$N$502,7,0)))","v":{"$error":"#N/A"}},{"$f":"IF(C236=\"\",\"\",IF(VLOOKUP(C236,漢字書き!$A$2:$N$502,7,0)=0,\"\",VLOOKUP(C236,漢字書き!$A$2:$N$502,7,0)))","v":{"$error":"#N/A"}},{"$f":"IF(D236=\"\",\"\",IF(VLOOKUP(D236,漢字書き!$A$2:$N$502,7,0)=0,\"\",VLOOKUP(D236,漢字書き!$A$2:$N$502,7,0)))","v":{"$error":"#N/A"}},{"$f":"IF(E236=\"\",\"\",IF(VLOOKUP(E236,漢字書き!$A$2:$N$502,7,0)=0,\"\",VLOOKUP(E236,漢字書き!$A$2:$N$502,7,0)))","v":{"$error":"#N/A"}},{"$f":"IF(F236=\"\",\"\",IF(VLOOKUP(F236,漢字書き!$A$2:$N$502,7,0)=0,\"\",VLOOKUP(F236,漢字書き!$A$2:$N$502,7,0)))","v":{"$error":"#N/A"}},{"$f":"IF(G236=\"\",\"\",IF(VLOOKUP(G236,漢字書き!$A$2:$N$502,7,0)=0,\"\",VLOOKUP(G236,漢字書き!$A$2:$N$502,7,0)))","v":{"$error":"#N/A"}},{"$f":"IF(H236=\"\",\"\",IF(VLOOKUP(H236,漢字書き!$A$2:$N$502,7,0)=0,\"\",VLOOKUP(H236,漢字書き!$A$2:$N$502,7,0)))","v":{"$error":"#N/A"}},{"$f":"IF(I236=\"\",\"\",IF(VLOOKUP(I236,漢字書き!$A$2:$N$502,7,0)=0,\"\",VLOOKUP(I236,漢字書き!$A$2:$N$502,7,0)))","v":{"$error":"#N/A"}},{"$f":"IF(J236=\"\",\"\",IF(VLOOKUP(J236,漢字書き!$A$2:$N$502,7,0)=0,\"\",VLOOKUP(J236,漢字書き!$A$2:$N$502,7,0)))","v":{"$error":"#N/A"}},{"$f":"IF(K236=\"\",\"\",IF(VLOOKUP(K236,漢字読み!$A$2:$O$502,7,0)=0,\"\",VLOOKUP(K236,漢字読み!$A$2:$O$502,7,0)))","v":{"$error":"#N/A"}},{"$f":"IF(L236=\"\",\"\",IF(VLOOKUP(L236,漢字読み!$A$2:$O$502,7,0)=0,\"\",VLOOKUP(L236,漢字読み!$A$2:$O$502,7,0)))","v":{"$error":"#N/A"}},{"$f":"IF(M236=\"\",\"\",IF(VLOOKUP(M236,漢字読み!$A$2:$O$502,7,0)=0,\"\",VLOOKUP(M236,漢字読み!$A$2:$O$502,7,0)))","v":{"$error":"#N/A"}},{"$f":"IF(N236=\"\",\"\",IF(VLOOKUP(N236,漢字読み!$A$2:$O$502,7,0)=0,\"\",VLOOKUP(N236,漢字読み!$A$2:$O$502,7,0)))","v":{"$error":"#N/A"}},{"$f":"IF(O236=\"\",\"\",IF(VLOOKUP(O236,漢字読み!$A$2:$O$502,7,0)=0,\"\",VLOOKUP(O236,漢字読み!$A$2:$O$502,7,0)))","v":{"$error":"#N/A"}},{"$f":"IF(P236=\"\",\"\",IF(VLOOKUP(P236,漢字読み!$A$2:$O$502,7,0)=0,\"\",VLOOKUP(P236,漢字読み!$A$2:$O$502,7,0)))","v":{"$error":"#N/A"}},{"$f":"IF(Q236=\"\",\"\",IF(VLOOKUP(Q236,漢字読み!$A$2:$O$502,7,0)=0,\"\",VLOOKUP(Q236,漢字読み!$A$2:$O$502,7,0)))","v":{"$error":"#N/A"}},{"$f":"IF(R236=\"\",\"\",IF(VLOOKUP(R236,漢字読み!$A$2:$O$502,7,0)=0,\"\",VLOOKUP(R236,漢字読み!$A$2:$O$502,7,0)))","v":{"$error":"#N/A"}},{"$f":"IF(S236=\"\",\"\",IF(VLOOKUP(S236,漢字読み!$A$2:$O$502,7,0)=0,\"\",VLOOKUP(S236,漢字読み!$A$2:$O$502,7,0)))","v":{"$error":"#N/A"}},{"$f":"IF(T236=\"\",\"\",IF(VLOOKUP(T236,漢字読み!$A$2:$O$502,7,0)=0,\"\",VLOOKUP(T236,漢字読み!$A$2:$O$502,7,0)))","v":{"$error":"#N/A"}},null,null,"和歌山県教育委員会"]
[{"$f":"INDIRECT(\"'関数（書き）'!C\" & COLUMN(B$1)+SUM($AD$2:$AD242))","v":0},{"$f":"INDIRECT(\"'関数（書き）'!C\" & COLUMN(C$1)+SUM($AD$2:$AD242))","v":0},{"$f":"INDIRECT(\"'関数（書き）'!C\" & COLUMN(D$1)+SUM($AD$2:$AD242))","v":0},{"$f":"INDIRECT(\"'関数（書き）'!C\" & COLUMN(E$1)+SUM($AD$2:$AD242))","v":0},{"$f":"INDIRECT(\"'関数（書き）'!C\" & COLUMN(F$1)+SUM($AD$2:$AD242))","v":0},{"$f":"INDIRECT(\"'関数（書き）'!C\" & COLUMN(G$1)+SUM($AD$2:$AD242))","v":0},{"$f":"INDIRECT(\"'関数（書き）'!C\" & COLUMN(H$1)+SUM($AD$2:$AD242))","v":0},{"$f":"INDIRECT(\"'関数（書き）'!C\" & COLUMN(I$1)+SUM($AD$2:$AD242))","v":0},{"$f":"INDIRECT(\"'関数（書き）'!C\" & COLUMN(J$1)+SUM($AD$2:$AD242))","v":0},{"$f":"INDIRECT(\"'関数（書き）'!C\" & COLUMN(K$1)+SUM($AD$2:$AD242))","v":0},{"$f":"INDIRECT(\"'関数（読み）'!C\" & COLUMN(B$1)+SUM($AD$2:$AD242))","v":0},{"$f":"INDIRECT(\"'関数（読み）'!C\" & COLUMN(C$1)+SUM($AD$2:$AD242))","v":0},{"$f":"INDIRECT(\"'関数（読み）'!C\" & COLUMN(D$1)+SUM($AD$2:$AD242))","v":0},{"$f":"INDIRECT(\"'関数（読み）'!C\" & COLUMN(E$1)+SUM($AD$2:$AD242))","v":0},{"$f":"INDIRECT(\"'関数（読み）'!C\" & COLUMN(F$1)+SUM($AD$2:$AD242))","v":0},{"$f":"INDIRECT(\"'関数（読み）'!C\" & COLUMN(G$1)+SUM($AD$2:$AD242))","v":0},{"$f":"INDIRECT(\"'関数（読み）'!C\" & COLUMN(H$1)+SUM($AD$2:$AD242))","v":0},{"$f":"INDIRECT(\"'関数（読み）'!C\" & COLUMN(I$1)+SUM($AD$2:$AD242))","v":0},{"$f":"INDIRECT(\"'関数（読み）'!C\" & COLUMN(J$1)+SUM($AD$2:$AD242))","v":0},{"$f":"INDIRECT(\"'関数（読み）'!C\" & COLUMN(K$1)+SUM($AD$2:$AD242))","v":0}]
["⑳","⑲","⑱","⑰","⑯","⑮","⑭","⑬","⑫","⑪","⑩","⑨","⑧","⑦","⑥","⑤","④","③","②","①","次の［　　　　］の部分の漢字には読みがなをひらがなで書き、カタカナは漢字に直しなさい。",14,"「漢字の博士検定試験」練習問題　",null,null,null,null,null,"←",10,"問",{"$f":"AH227+1","v":241},"～",{"$f":"SUM($AD$2:$AD242)+10","v":250},"問まで",{"$f":"COUNTIF($A$1:$T$200,T243)","v":585}]
[{"$f":"IF(A241=\"\",\"\",VLOOKUP(A241,漢字書き!$A$2:$N$506,6,0))","v":{"$error":"#N/A"}},{"$f":"IF(B241=\"\",\"\",VLOOKUP(B241,漢字書き!$A$2:$N$506,6,0))","v":{"$error":"#N/A"}},{"$f":"IF(C241=\"\",\"\",VLOOKUP(C241,漢字書き!$A$2:$N$506,6,0))","v":{"$error":"#N/A"}},{"$f":"IF(D241=\"\",\"\",VLOOKUP(D241,漢字書き!$A$2:$N$506,6,0))","v":{"$error":"#N/A"}},{"$f":"IF(E241=\"\",\"\",VLOOKUP(E241,漢字書き!$A$2:$N$506,6,0))","v":{"$error":"#N/A"}},{"$f":"IF(F241=\"\",\"\",VLOOKUP(F241,漢字書き!$A$2:$N$506,6,0))","v":{"$error":"#N/A"}},{"$f":"IF(G241=\"\",\"\",VLOOKUP(G241,漢字書き!$A$2:$N$506,6,0))","v":{"$error":"#N/A"}},{"$f":"IF(H241=\"\",\"\",VLOOKUP(H241,漢字書き!$A$2:$N$506,6,0))","v":{"$error":"#N/A"}},{"$f":"IF(I241=\"\",\"\",VLOOKUP(I241,漢字書き!$A$2:$N$506,6,0))","v":{"$error":"#N/A"}},{"$f":"IF(J241=\"\",\"\",VLOOKUP(J241,漢字書き!$A$2:$N$506,6,0))","v":{"$error":"#N/A"}},{"$f":"IF(K241=\"\",\"\",VLOOKUP(K241,漢字読み!$A$2:$O$506,6,0))","v":{"$error":"#N/A"}},{"$f":"IF(L241=\"\",\"\",VLOOKUP(L241,漢字読み!$A$2:$O$506,6,0))","v":{"$error":"#N/A"}},{"$f":"IF(M241=\"\",\"\",VLOOKUP(M241,漢字読み!$A$2:$O$506,6,0))","v":{"$error":"#N/A"}},{"$f":"IF(N241=\"\",\"\",VLOOKUP(N241,漢字読み!$A$2:$O$506,6,0))","v":{"$error":"#N/A"}},{"$f":"IF(O241=\"\",\"\",VLOOKUP(O241,漢字読み!$A$2:$O$506,6,0))","v":{"$error":"#N/A"}},{"$f":"IF(P241=\"\",\"\",VLOOKUP(P241,漢字読み!$A$2:$O$506,6,0))","v":{"$error":"#N/A"}},{"$f":"IF(Q241=\"\",\"\",VLOOKUP(Q241,漢字読み!$A$2:$O$506,6,0))","v":{"$error":"#N/A"}},{"$f":"IF(R241=\"\",\"\",VLOOKUP(R241,漢字読み!$A$2:$O$506,6,0))","v":{"$error":"#N/A"}},{"$f":"IF(S241=\"\",\"\",VLOOKUP(S241,漢字読み!$A$2:$O$506,6,0))","v":{"$error":"#N/A"}},{"$f":"IF(T241=\"\",\"\",VLOOKUP(T241,漢字読み!$A$2:$O$506,6,0))","v":{"$error":"#N/A"}},null,"級"]
[null,null,null,null,null,null,null,null,null,null,null,null,null,null,null,null,null,null,null,null,null,"名前"]
[{"$f":"IF(A241=\"\",\"\",IF(VLOOKUP(A241,漢字書き!$A$2:$N$502,7,0)=0,\"\",VLOOKUP(A241,漢字書き!$A$2:$N$502,7,0)))","v":{"$error":"#N/A"}},{"$f":"IF(B241=\"\",\"\",IF(VLOOKUP(B241,漢字書き!$A$2:$N$502,7,0)=0,\"\",VLOOKUP(B241,漢字書き!$A$2:$N$502,7,0)))","v":{"$error":"#N/A"}},{"$f":"IF(C241=\"\",\"\",IF(VLOOKUP(C241,漢字書き!$A$2:$N$502,7,0)=0,\"\",VLOOKUP(C241,漢字書き!$A$2:$N$502,7,0)))","v":{"$error":"#N/A"}},{"$f":"IF(D241=\"\",\"\",IF(VLOOKUP(D241,漢字書き!$A$2:$N$502,7,0)=0,\"\",VLOOKUP(D241,漢字書き!$A$2:$N$502,7,0)))","v":{"$error":"#N/A"}},{"$f":"IF(E241=\"\",\"\",IF(VLOOKUP(E241,漢字書き!$A$2:$N$502,7,0)=0,\"\",VLOOKUP(E241,漢字書き!$A$2:$N$502,7,0)))","v":{"$error":"#N/A"}},{"$f":"IF(F241=\"\",\"\",IF(VLOOKUP(F241,漢字書き!$A$2:$N$502,7,0)=0,\"\",VLOOKUP(F241,漢字書き!$A$2:$N$502,7,0)))","v":{"$error":"#N/A"}},{"$f":"IF(G241=\"\",\"\",IF(VLOOKUP(G241,漢字書き!$A$2:$N$502,7,0)=0,\"\",VLOOKUP(G241,漢字書き!$A$2:$N$502,7,0)))","v":{"$error":"#N/A"}},{"$f":"IF(H241=\"\",\"\",IF(VLOOKUP(H241,漢字書き!$A$2:$N$502,7,0)=0,\"\",VLOOKUP(H241,漢字書き!$A$2:$N$502,7,0)))","v":{"$error":"#N/A"}},{"$f":"IF(I241=\"\",\"\",IF(VLOOKUP(I241,漢字書き!$A$2:$N$502,7,0)=0,\"\",VLOOKUP(I241,漢字書き!$A$2:$N$502,7,0)))","v":{"$error":"#N/A"}},{"$f":"IF(J241=\"\",\"\",IF(VLOOKUP(J241,漢字書き!$A$2:$N$502,7,0)=0,\"\",VLOOKUP(J241,漢字書き!$A$2:$N$502,7,0)))","v":{"$error":"#N/A"}},{"$f":"IF(K241=\"\",\"\",IF(VLOOKUP(K241,漢字読み!$A$2:$O$502,7,0)=0,\"\",VLOOKUP(K241,漢字読み!$A$2:$O$502,7,0)))","v":{"$error":"#N/A"}},{"$f":"IF(L241=\"\",\"\",IF(VLOOKUP(L241,漢字読み!$A$2:$O$502,7,0)=0,\"\",VLOOKUP(L241,漢字読み!$A$2:$O$502,7,0)))","v":{"$error":"#N/A"}},{"$f":"IF(M241=\"\",\"\",IF(VLOOKUP(M241,漢字読み!$A$2:$O$502,7,0)=0,\"\",VLOOKUP(M241,漢字読み!$A$2:$O$502,7,0)))","v":{"$error":"#N/A"}},{"$f":"IF(N241=\"\",\"\",IF(VLOOKUP(N241,漢字読み!$A$2:$O$502,7,0)=0,\"\",VLOOKUP(N241,漢字読み!$A$2:$O$502,7,0)))","v":{"$error":"#N/A"}},{"$f":"IF(O241=\"\",\"\",IF(VLOOKUP(O241,漢字読み!$A$2:$O$502,7,0)=0,\"\",VLOOKUP(O241,漢字読み!$A$2:$O$502,7,0)))","v":{"$error":"#N/A"}},{"$f":"IF(P241=\"\",\"\",IF(VLOOKUP(P241,漢字読み!$A$2:$O$502,7,0)=0,\"\",VLOOKUP(P241,漢字読み!$A$2:$O$502,7,0)))","v":{"$error":"#N/A"}},{"$f":"IF(Q241=\"\",\"\",IF(VLOOKUP(Q241,漢字読み!$A$2:$O$502,7,0)=0,\"\",VLOOKUP(Q241,漢字読み!$A$2:$O$502,7,0)))","v":{"$error":"#N/A"}},{"$f":"IF(R241=\"\",\"\",IF(VLOOKUP(R241,漢字読み!$A$2:$O$502,7,0)=0,\"\",VLOOKUP(R241,漢字読み!$A$2:$O$502,7,0)))","v":{"$error":"#N/A"}},{"$f":"IF(S241=\"\",\"\",IF(VLOOKUP(S241,漢字読み!$A$2:$O$502,7,0)=0,\"\",VLOOKUP(S241,漢字読み!$A$2:$O$502,7,0)))","v":{"$error":"#N/A"}},{"$f":"IF(T241=\"\",\"\",IF(VLOOKUP(T241,漢字読み!$A$2:$O$502,7,0)=0,\"\",VLOOKUP(T241,漢字読み!$A$2:$O$502,7,0)))","v":{"$error":"#N/A"}},null,null,"和歌山県教育委員会"]
[{"$f":"INDIRECT(\"'関数（書き）'!C\" & COLUMN(B$1)+SUM($AD$2:$AD247))","v":0},{"$f":"INDIRECT(\"'関数（書き）'!C\" & COLUMN(C$1)+SUM($AD$2:$AD247))","v":0},{"$f":"INDIRECT(\"'関数（書き）'!C\" & COLUMN(D$1)+SUM($AD$2:$AD247))","v":0},{"$f":"INDIRECT(\"'関数（書き）'!C\" & COLUMN(E$1)+SUM($AD$2:$AD247))","v":0},{"$f":"INDIRECT(\"'関数（書き）'!C\" & COLUMN(F$1)+SUM($AD$2:$AD247))","v":0},{"$f":"INDIRECT(\"'関数（書き）'!C\" & COLUMN(G$1)+SUM($AD$2:$AD247))","v":0},{"$f":"INDIRECT(\"'関数（書き）'!C\" & COLUMN(H$1)+SUM($AD$2:$AD247))","v":0},{"$f":"INDIRECT(\"'関数（書き）'!C\" & COLUMN(I$1)+SUM($AD$2:$AD247))","v":0},{"$f":"INDIRECT(\"'関数（書き）'!C\" & COLUMN(J$1)+SUM($AD$2:$AD247))","v":0},{"$f":"INDIRECT(\"'関数（書き）'!C\" & COLUMN(K$1)+SUM($AD$2:$AD247))","v":0},{"$f":"INDIRECT(\"'関数（読み）'!C\" & COLUMN(B$1)+SUM($AD$2:$AD247))","v":0},{"$f":"INDIRECT(\"'関数（読み）'!C\" & COLUMN(C$1)+SUM($AD$2:$AD247))","v":0},{"$f":"INDIRECT(\"'関数（読み）'!C\" & COLUMN(D$1)+SUM($AD$2:$AD247))","v":0},{"$f":"INDIRECT(\"'関数（読み）'!C\" & COLUMN(E$1)+SUM($AD$2:$AD247))","v":0},{"$f":"INDIRECT(\"'関数（読み）'!C\" & COLUMN(F$1)+SUM($AD$2:$AD247))","v":0},{"$f":"INDIRECT(\"'関数（読み）'!C\" & COLUMN(G$1)+SUM($AD$2:$AD247))","v":0},{"$f":"INDIRECT(\"'関数（読み）'!C\" & COLUMN(H$1)+SUM($AD$2:$AD247))","v":0},{"$f":"INDIRECT(\"'関数（読み）'!C\" & COLUMN(I$1)+SUM($AD$2:$AD247))","v":0},{"$f":"INDIRECT(\"'関数（読み）'!C\" & COLUMN(J$1)+SUM($AD$2:$AD247))","v":0},{"$f":"INDIRECT(\"'関数（読み）'!C\" & COLUMN(K$1)+SUM($AD$2:$AD247))","v":0}]
["⑳","⑲","⑱","⑰","⑯","⑮","⑭","⑬","⑫","⑪","⑩","⑨","⑧","⑦","⑥","⑤","④","③","②","①","次の［　　　　］の部分の漢字には読みがなをひらがなで書き、カタカナは漢字に直しなさい。",14,"「漢字の博士検定試験」練習問題　",null,null,null,null,null,"←",10,"問",{"$f":"AH242+1","v":251},"～",{"$f":"SUM($AD$2:$AD247)+10","v":260},"問まで",{"$f":"COUNTIF($A$1:$T$200,T248)","v":585}]
[{"$f":"IF(A246=\"\",\"\",VLOOKUP(A246,漢字書き!$A$2:$N$506,6,0))","v":{"$error":"#N/A"}},{"$f":"IF(B246=\"\",\"\",VLOOKUP(B246,漢字書き!$A$2:$N$506,6,0))","v":{"$error":"#N/A"}},{"$f":"IF(C246=\"\",\"\",VLOOKUP(C246,漢字書き!$A$2:$N$506,6,0))","v":{"$error":"#N/A"}},{"$f":"IF(D246=\"\",\"\",VLOOKUP(D246,漢字書き!$A$2:$N$506,6,0))","v":{"$error":"#N/A"}},{"$f":"IF(E246=\"\",\"\",VLOOKUP(E246,漢字書き!$A$2:$N$506,6,0))","v":{"$error":"#N/A"}},{"$f":"IF(F246=\"\",\"\",VLOOKUP(F246,漢字書き!$A$2:$N$506,6,0))","v":{"$error":"#N/A"}},{"$f":"IF(G246=\"\",\"\",VLOOKUP(G246,漢字書き!$A$2:$N$506,6,0))","v":{"$error":"#N/A"}},{"$f":"IF(H246=\"\",\"\",VLOOKUP(H246,漢字書き!$A$2:$N$506,6,0))","v":{"$error":"#N/A"}},{"$f":"IF(I246=\"\",\"\",VLOOKUP(I246,漢字書き!$A$2:$N$506,6,0))","v":{"$error":"#N/A"}},{"$f":"IF(J246=\"\",\"\",VLOOKUP(J246,漢字書き!$A$2:$N$506,6,0))","v":{"$error":"#N/A"}},{"$f":"IF(K246=\"\",\"\",VLOOKUP(K246,漢字読み!$A$2:$O$506,6,0))","v":{"$error":"#N/A"}},{"$f":"IF(L246=\"\",\"\",VLOOKUP(L246,漢字読み!$A$2:$O$506,6,0))","v":{"$error":"#N/A"}},{"$f":"IF(M246=\"\",\"\",VLOOKUP(M246,漢字読み!$A$2:$O$506,6,0))","v":{"$error":"#N/A"}},{"$f":"IF(N246=\"\",\"\",VLOOKUP(N246,漢字読み!$A$2:$O$506,6,0))","v":{"$error":"#N/A"}},{"$f":"IF(O246=\"\",\"\",VLOOKUP(O246,漢字読み!$A$2:$O$506,6,0))","v":{"$error":"#N/A"}},{"$f":"IF(P246=\"\",\"\",VLOOKUP(P246,漢字読み!$A$2:$O$506,6,0))","v":{"$error":"#N/A"}},{"$f":"IF(Q246=\"\",\"\",VLOOKUP(Q246,漢字読み!$A$2:$O$506,6,0))","v":{"$error":"#N/A"}},{"$f":"IF(R246=\"\",\"\",VLOOKUP(R246,漢字読み!$A$2:$O$506,6,0))","v":{"$error":"#N/A"}},{"$f":"IF(S246=\"\",\"\",VLOOKUP(S246,漢字読み!$A$2:$O$506,6,0))","v":{"$error":"#N/A"}},{"$f":"IF(T246=\"\",\"\",VLOOKUP(T246,漢字読み!$A$2:$O$506,6,0))","v":{"$error":"#N/A"}},null,"級"]
[null,null,null,null,null,null,null,null,null,null,null,null,null,null,null,null,null,null,null,null,null,"名前"]
[{"$f":"IF(A246=\"\",\"\",IF(VLOOKUP(A246,漢字書き!$A$2:$N$502,7,0)=0,\"\",VLOOKUP(A246,漢字書き!$A$2:$N$502,7,0)))","v":{"$error":"#N/A"}},{"$f":"IF(B246=\"\",\"\",IF(VLOOKUP(B246,漢字書き!$A$2:$N$502,7,0)=0,\"\",VLOOKUP(B246,漢字書き!$A$2:$N$502,7,0)))","v":{"$error":"#N/A"}},{"$f":"IF(C246=\"\",\"\",IF(VLOOKUP(C246,漢字書き!$A$2:$N$502,7,0)=0,\"\",VLOOKUP(C246,漢字書き!$A$2:$N$502,7,0)))","v":{"$error":"#N/A"}},{"$f":"IF(D246=\"\",\"\",IF(VLOOKUP(D246,漢字書き!$A$2:$N$502,7,0)=0,\"\",VLOOKUP(D246,漢字書き!$A$2:$N$502,7,0)))","v":{"$error":"#N/A"}},{"$f":"IF(E246=\"\",\"\",IF(VLOOKUP(E246,漢字書き!$A$2:$N$502,7,0)=0,\"\",VLOOKUP(E246,漢字書き!$A$2:$N$502,7,0)))","v":{"$error":"#N/A"}},{"$f":"IF(F246=\"\",\"\",IF(VLOOKUP(F246,漢字書き!$A$2:$N$502,7,0)=0,\"\",VLOOKUP(F246,漢字書き!$A$2:$N$502,7,0)))","v":{"$error":"#N/A"}},{"$f":"IF(G246=\"\",\"\",IF(VLOOKUP(G246,漢字書き!$A$2:$N$502,7,0)=0,\"\",VLOOKUP(G246,漢字書き!$A$2:$N$502,7,0)))","v":{"$error":"#N/A"}},{"$f":"IF(H246=\"\",\"\",IF(VLOOKUP(H246,漢字書き!$A$2:$N$502,7,0)=0,\"\",VLOOKUP(H246,漢字書き!$A$2:$N$502,7,0)))","v":{"$error":"#N/A"}},{"$f":"IF(I246=\"\",\"\",IF(VLOOKUP(I246,漢字書き!$A$2:$N$502,7,0)=0,\"\",VLOOKUP(I246,漢字書き!$A$2:$N$502,7,0)))","v":{"$error":"#N/A"}},{"$f":"IF(J246=\"\",\"\",IF(VLOOKUP(J246,漢字書き!$A$2:$N$502,7,0)=0,\"\",VLOOKUP(J246,漢字書き!$A$2:$N$502,7,0)))","v":{"$error":"#N/A"}},{"$f":"IF(K246=\"\",\"\",IF(VLOOKUP(K246,漢字読み!$A$2:$O$502,7,0)=0,\"\",VLOOKUP(K246,漢字読み!$A$2:$O$502,7,0)))","v":{"$error":"#N/A"}},{"$f":"IF(L246=\"\",\"\",IF(VLOOKUP(L246,漢字読み!$A$2:$O$502,7,0)=0,\"\",VLOOKUP(L246,漢字読み!$A$2:$O$502,7,0)))","v":{"$error":"#N/A"}},{"$f":"IF(M246=\"\",\"\",IF(VLOOKUP(M246,漢字読み!$A$2:$O$502,7,0)=0,\"\",VLOOKUP(M246,漢字読み!$A$2:$O$502,7,0)))","v":{"$error":"#N/A"}},{"$f":"IF(N246=\"\",\"\",IF(VLOOKUP(N246,漢字読み!$A$2:$O$502,7,0)=0,\"\",VLOOKUP(N246,漢字読み!$A$2:$O$502,7,0)))","v":{"$error":"#N/A"}},{"$f":"IF(O246=\"\",\"\",IF(VLOOKUP(O246,漢字読み!$A$2:$O$502,7,0)=0,\"\",VLOOKUP(O246,漢字読み!$A$2:$O$502,7,0)))","v":{"$error":"#N/A"}},{"$f":"IF(P246=\"\",\"\",IF(VLOOKUP(P246,漢字読み!$A$2:$O$502,7,0)=0,\"\",VLOOKUP(P246,漢字読み!$A$2:$O$502,7,0)))","v":{"$error":"#N/A"}},{"$f":"IF(Q246=\"\",\"\",IF(VLOOKUP(Q246,漢字読み!$A$2:$O$502,7,0)=0,\"\",VLOOKUP(Q246,漢字読み!$A$2:$O$502,7,0)))","v":{"$error":"#N/A"}},{"$f":"IF(R246=\"\",\"\",IF(VLOOKUP(R246,漢字読み!$A$2:$O$502,7,0)=0,\"\",VLOOKUP(R246,漢字読み!$A$2:$O$502,7,0)))","v":{"$error":"#N/A"}},{"$f":"IF(S246=\"\",\"\",IF(VLOOKUP(S246,漢字読み!$A$2:$O$502,7,0)=0,\"\",VLOOKUP(S246,漢字読み!$A$2:$O$502,7,0)))","v":{"$error":"#N/A"}},{"$f":"IF(T246=\"\",\"\",IF(VLOOKUP(T246,漢字読み!$A$2:$O$502,7,0)=0,\"\",VLOOKUP(T246,漢字読み!$A$2:$O$502,7,0)))","v":{"$error":"#N/A"}},null,null,"和歌山県教育委員会"]
[{"$f":"A241","v":0},{"$f":"B241","v":0},{"$f":"C241","v":0},{"$f":"D241","v":0},{"$f":"E241","v":0},{"$f":"F241","v":0},{"$f":"G241","v":0},{"$f":"H241","v":0},{"$f":"I241","v":0},{"$f":"J241","v":0},{"$f":"K241","v":0},{"$f":"L241","v":0},{"$f":"M241","v":0},{"$f":"N241","v":0},{"$f":"O241","v":0},{"$f":"P241","v":0},{"$f":"Q241","v":0},{"$f":"R241","v":0},{"$f":"S241","v":0},{"$f":"T241","v":0}]
["⑳","⑲","⑱","⑰","⑯","⑮","⑭","⑬","⑫","⑪","⑩","⑨","⑧","⑦","⑥","⑤","④","③","②","①","次の［　　　　］の部分の漢字には読みがなをひらがなで書き、カタカナは漢字に直しなさい。",14,"「漢字の博士検定試験」練習問題　"]
[{"$f":"IF(A251=\"\",\"\",VLOOKUP(A251,漢字書き!$A$2:$N$506,6,0))","v":{"$error":"#N/A"}},{"$f":"IF(B251=\"\",\"\",VLOOKUP(B251,漢字書き!$A$2:$N$506,6,0))","v":{"$error":"#N/A"}},{"$f":"IF(C251=\"\",\"\",VLOOKUP(C251,漢字書き!$A$2:$N$506,6,0))","v":{"$error":"#N/A"}},{"$f":"IF(D251=\"\",\"\",VLOOKUP(D251,漢字書き!$A$2:$N$506,6,0))","v":{"$error":"#N/A"}},{"$f":"IF(E251=\"\",\"\",VLOOKUP(E251,漢字書き!$A$2:$N$506,6,0))","v":{"$error":"#N/A"}},{"$f":"IF(F251=\"\",\"\",VLOOKUP(F251,漢字書き!$A$2:$N$506,6,0))","v":{"$error":"#N/A"}},{"$f":"IF(G251=\"\",\"\",VLOOKUP(G251,漢字書き!$A$2:$N$506,6,0))","v":{"$error":"#N/A"}},{"$f":"IF(H251=\"\",\"\",VLOOKUP(H251,漢字書き!$A$2:$N$506,6,0))","v":{"$error":"#N/A"}},{"$f":"IF(I251=\"\",\"\",VLOOKUP(I251,漢字書き!$A$2:$N$506,6,0))","v":{"$error":"#N/A"}},{"$f":"IF(J251=\"\",\"\",VLOOKUP(J251,漢字書き!$A$2:$N$506,6,0))","v":{"$error":"#N/A"}},{"$f":"IF(K251=\"\",\"\",VLOOKUP(K251,漢字読み!$A$2:$O$506,6,0))","v":{"$error":"#N/A"}},{"$f":"IF(L251=\"\",\"\",VLOOKUP(L251,漢字読み!$A$2:$O$506,6,0))","v":{"$error":"#N/A"}},{"$f":"IF(M251=\"\",\"\",VLOOKUP(M251,漢字読み!$A$2:$O$506,6,0))","v":{"$error":"#N/A"}},{"$f":"IF(N251=\"\",\"\",VLOOKUP(N251,漢字読み!$A$2:$O$506,6,0))","v":{"$error":"#N/A"}},{"$f":"IF(O251=\"\",\"\",VLOOKUP(O251,漢字読み!$A$2:$O$506,6,0))","v":{"$error":"#N/A"}},{"$f":"IF(P251=\"\",\"\",VLOOKUP(P251,漢字読み!$A$2:$O$506,6,0))","v":{"$error":"#N/A"}},{"$f":"IF(Q251=\"\",\"\",VLOOKUP(Q251,漢字読み!$A$2:$O$506,6,0))","v":{"$error":"#N/A"}},{"$f":"IF(R251=\"\",\"\",VLOOKUP(R251,漢字読み!$A$2:$O$506,6,0))","v":{"$error":"#N/A"}},{"$f":"IF(S251=\"\",\"\",VLOOKUP(S251,漢字読み!$A$2:$O$506,6,0))","v":{"$error":"#N/A"}},{"$f":"IF(T251=\"\",\"\",VLOOKUP(T251,漢字読み!$A$2:$O$506,6,0))","v":{"$error":"#N/A"}},null,"級"]
[{"$f":"IF(A$11=\"\",\"\",VLOOKUP(A251,漢字書き!$A$2:$O$506,8,0))","v":{"$error":"#N/A"}},{"$f":"IF(B$11=\"\",\"\",VLOOKUP(B251,漢字書き!$A$2:$O$506,8,0))","v":{"$error":"#N/A"}},{"$f":"IF(C$11=\"\",\"\",VLOOKUP(C251,漢字書き!$A$2:$O$506,8,0))","v":{"$error":"#N/A"}},{"$f":"IF(D$11=\"\",\"\",VLOOKUP(D251,漢字書き!$A$2:$O$506,8,0))","v":{"$error":"#N/A"}},{"$f":"IF(E$11=\"\",\"\",VLOOKUP(E251,漢字書き!$A$2:$O$506,8,0))","v":{"$error":"#N/A"}},{"$f":"IF(F$11=\"\",\"\",VLOOKUP(F251,漢字書き!$A$2:$O$506,8,0))","v":{"$error":"#N/A"}},{"$f":"IF(G$11=\"\",\"\",VLOOKUP(G251,漢字書き!$A$2:$O$506,8,0))","v":{"$error":"#N/A"}},{"$f":"IF(H$11=\"\",\"\",VLOOKUP(H251,漢字書き!$A$2:$O$506,8,0))","v":{"$error":"#N/A"}},{"$f":"IF(I$11=\"\",\"\",VLOOKUP(I251,漢字書き!$A$2:$O$506,8,0))","v":{"$error":"#N/A"}},{"$f":"IF(J$11=\"\",\"\",VLOOKUP(J251,漢字書き!$A$2:$O$506,8,0))","v":{"$error":"#N/A"}},{"$f":"IF(K$11=\"\",\"\",VLOOKUP(K251,漢字読み!$A$2:$O$506,8,0))","v":{"$error":"#N/A"}},{"$f":"IF(L$11=\"\",\"\",VLOOKUP(L251,漢字読み!$A$2:$O$506,8,0))","v":{"$error":"#N/A"}},{"$f":"IF(M$11=\"\",\"\",VLOOKUP(M251,漢字読み!$A$2:$O$506,8,0))","v":{"$error":"#N/A"}},{"$f":"IF(N$11=\"\",\"\",VLOOKUP(N251,漢字読み!$A$2:$O$506,8,0))","v":{"$error":"#N/A"}},{"$f":"IF(O$11=\"\",\"\",VLOOKUP(O251,漢字読み!$A$2:$O$506,8,0))","v":{"$error":"#N/A"}},{"$f":"IF(P$11=\"\",\"\",VLOOKUP(P251,漢字読み!$A$2:$O$506,8,0))","v":{"$error":"#N/A"}},{"$f":"IF(Q$11=\"\",\"\",VLOOKUP(Q251,漢字読み!$A$2:$O$506,8,0))","v":{"$error":"#N/A"}},{"$f":"IF(R$11=\"\",\"\",VLOOKUP(R251,漢字読み!$A$2:$O$506,8,0))","v":{"$error":"#N/A"}},{"$f":"IF(S$11=\"\",\"\",VLOOKUP(S251,漢字読み!$A$2:$O$506,8,0))","v":{"$error":"#N/A"}},{"$f":"IF(T$11=\"\",\"\",VLOOKUP(T251,漢字読み!$A$2:$O$506,8,0))","v":{"$error":"#N/A"}},null,"名前"]
[{"$f":"IF(A251=\"\",\"\",IF(VLOOKUP(A251,漢字書き!$A$2:$N$502,7,0)=0,\"\",VLOOKUP(A251,漢字書き!$A$2:$N$502,7,0)))","v":{"$error":"#N/A"}},{"$f":"IF(B251=\"\",\"\",IF(VLOOKUP(B251,漢字書き!$A$2:$N$502,7,0)=0,\"\",VLOOKUP(B251,漢字書き!$A$2:$N$502,7,0)))","v":{"$error":"#N/A"}},{"$f":"IF(C251=\"\",\"\",IF(VLOOKUP(C251,漢字書き!$A$2:$N$502,7,0)=0,\"\",VLOOKUP(C251,漢字書き!$A$2:$N$502,7,0)))","v":{"$error":"#N/A"}},{"$f":"IF(D251=\"\",\"\",IF(VLOOKUP(D251,漢字書き!$A$2:$N$502,7,0)=0,\"\",VLOOKUP(D251,漢字書き!$A$2:$N$502,7,0)))","v":{"$error":"#N/A"}},{"$f":"IF(E251=\"\",\"\",IF(VLOOKUP(E251,漢字書き!$A$2:$N$502,7,0)=0,\"\",VLOOKUP(E251,漢字書き!$A$2:$N$502,7,0)))","v":{"$error":"#N/A"}},{"$f":"IF(F251=\"\",\"\",IF(VLOOKUP(F251,漢字書き!$A$2:$N$502,7,0)=0,\"\",VLOOKUP(F251,漢字書き!$A$2:$N$502,7,0)))","v":{"$error":"#N/A"}},{"$f":"IF(G251=\"\",\"\",IF(VLOOKUP(G251,漢字書き!$A$2:$N$502,7,0)=0,\"\",VLOOKUP(G251,漢字書き!$A$2:$N$502,7,0)))","v":{"$error":"#N/A"}},{"$f":"IF(H251=\"\",\"\",IF(VLOOKUP(H251,漢字書き!$A$2:$N$502,7,0)=0,\"\",VLOOKUP(H251,漢字書き!$A$2:$N$502,7,0)))","v":{"$error":"#N/A"}},{"$f":"IF(I251=\"\",\"\",IF(VLOOKUP(I251,漢字書き!$A$2:$N$502,7,0)=0,\"\",VLOOKUP(I251,漢字書き!$A$2:$N$502,7,0)))","v":{"$error":"#N/A"}},{"$f":"IF(J251=\"\",\"\",IF(VLOOKUP(J251,漢字書き!$A$2:$N$502,7,0)=0,\"\",VLOOKUP(J251,漢字書き!$A$2:$N$502,7,0)))","v":{"$error":"#N/A"}},{"$f":"IF(K251=\"\",\"\",IF(VLOOKUP(K251,漢字読み!$A$2:$O$502,7,0)=0,\"\",VLOOKUP(K251,漢字読み!$A$2:$O$502,7,0)))","v":{"$error":"#N/A"}},{"$f":"IF(L251=\"\",\"\",IF(VLOOKUP(L251,漢字読み!$A$2:$O$502,7,0)=0,\"\",VLOOKUP(L251,漢字読み!$A$2:$O$502,7,0)))","v":{"$error":"#N/A"}},{"$f":"IF(M251=\"\",\"\",IF(VLOOKUP(M251,漢字読み!$A$2:$O$502,7,0)=0,\"\",VLOOKUP(M251,漢字読み!$A$2:$O$502,7,0)))","v":{"$error":"#N/A"}},{"$f":"IF(N251=\"\",\"\",IF(VLOOKUP(N251,漢字読み!$A$2:$O$502,7,0)=0,\"\",VLOOKUP(N251,漢字読み!$A$2:$O$502,7,0)))","v":{"$error":"#N/A"}},{"$f":"IF(O251=\"\",\"\",IF(VLOOKUP(O251,漢字読み!$A$2:$O$502,7,0)=0,\"\",VLOOKUP(O251,漢字読み!$A$2:$O$502,7,0)))","v":{"$error":"#N/A"}},{"$f":"IF(P251=\"\",\"\",IF(VLOOKUP(P251,漢字読み!$A$2:$O$502,7,0)=0,\"\",VLOOKUP(P251,漢字読み!$A$2:$O$502,7,0)))","v":{"$error":"#N/A"}},{"$f":"IF(Q251=\"\",\"\",IF(VLOOKUP(Q251,漢字読み!$A$2:$O$502,7,0)=0,\"\",VLOOKUP(Q251,漢字読み!$A$2:$O$502,7,0)))","v":{"$error":"#N/A"}},{"$f":"IF(R251=\"\",\"\",IF(VLOOKUP(R251,漢字読み!$A$2:$O$502,7,0)=0,\"\",VLOOKUP(R251,漢字読み!$A$2:$O$502,7,0)))","v":{"$error":"#N/A"}},{"$f":"IF(S251=\"\",\"\",IF(VLOOKUP(S251,漢字読み!$A$2:$O$502,7,0)=0,\"\",VLOOKUP(S251,漢字読み!$A$2:$O$502,7,0)))","v":{"$error":"#N/A"}},{"$f":"IF(T251=\"\",\"\",IF(VLOOKUP(T251,漢字読み!$A$2:$O$502,7,0)=0,\"\",VLOOKUP(T251,漢字読み!$A$2:$O$502,7,0)))","v":{"$error":"#N/A"}},null,null,"和歌山県教育委員会"]
[{"$f":"A246","v":0},{"$f":"B246","v":0},{"$f":"C246","v":0},{"$f":"D246","v":0},{"$f":"E246","v":0},{"$f":"F246","v":0},{"$f":"G246","v":0},{"$f":"H246","v":0},{"$f":"I246","v":0},{"$f":"J246","v":0},{"$f":"K246","v":0},{"$f":"L246","v":0},{"$f":"M246","v":0},{"$f":"N246","v":0},{"$f":"O246","v":0},{"$f":"P246","v":0},{"$f":"Q246","v":0},{"$f":"R246","v":0},{"$f":"S246","v":0},{"$f":"T246","v":0}]
["⑳","⑲","⑱","⑰","⑯","⑮","⑭","⑬","⑫","⑪","⑩","⑨","⑧","⑦","⑥","⑤","④","③","②","①","次の［　　　　］の部分の漢字には読みがなをひらがなで書き、カタカナは漢字に直しなさい。",14,"「漢字の博士検定試験」練習問題　"]
[{"$f":"IF(A256=\"\",\"\",VLOOKUP(A256,漢字書き!$A$2:$N$506,6,0))","v":{"$error":"#N/A"}},{"$f":"IF(B256=\"\",\"\",VLOOKUP(B256,漢字書き!$A$2:$N$506,6,0))","v":{"$error":"#N/A"}},{"$f":"IF(C256=\"\",\"\",VLOOKUP(C256,漢字書き!$A$2:$N$506,6,0))","v":{"$error":"#N/A"}},{"$f":"IF(D256=\"\",\"\",VLOOKUP(D256,漢字書き!$A$2:$N$506,6,0))","v":{"$error":"#N/A"}},{"$f":"IF(E256=\"\",\"\",VLOOKUP(E256,漢字書き!$A$2:$N$506,6,0))","v":{"$error":"#N/A"}},{"$f":"IF(F256=\"\",\"\",VLOOKUP(F256,漢字書き!$A$2:$N$506,6,0))","v":{"$error":"#N/A"}},{"$f":"IF(G256=\"\",\"\",VLOOKUP(G256,漢字書き!$A$2:$N$506,6,0))","v":{"$error":"#N/A"}},{"$f":"IF(H256=\"\",\"\",VLOOKUP(H256,漢字書き!$A$2:$N$506,6,0))","v":{"$error":"#N/A"}},{"$f":"IF(I256=\"\",\"\",VLOOKUP(I256,漢字書き!$A$2:$N$506,6,0))","v":{"$error":"#N/A"}},{"$f":"IF(J256=\"\",\"\",VLOOKUP(J256,漢字書き!$A$2:$N$506,6,0))","v":{"$error":"#N/A"}},{"$f":"IF(K256=\"\",\"\",VLOOKUP(K256,漢字読み!$A$2:$O$506,6,0))","v":{"$error":"#N/A"}},{"$f":"IF(L256=\"\",\"\",VLOOKUP(L256,漢字読み!$A$2:$O$506,6,0))","v":{"$error":"#N/A"}},{"$f":"IF(M256=\"\",\"\",VLOOKUP(M256,漢字読み!$A$2:$O$506,6,0))","v":{"$error":"#N/A"}},{"$f":"IF(N256=\"\",\"\",VLOOKUP(N256,漢字読み!$A$2:$O$506,6,0))","v":{"$error":"#N/A"}},{"$f":"IF(O256=\"\",\"\",VLOOKUP(O256,漢字読み!$A$2:$O$506,6,0))","v":{"$error":"#N/A"}},{"$f":"IF(P256=\"\",\"\",VLOOKUP(P256,漢字読み!$A$2:$O$506,6,0))","v":{"$error":"#N/A"}},{"$f":"IF(Q256=\"\",\"\",VLOOKUP(Q256,漢字読み!$A$2:$O$506,6,0))","v":{"$error":"#N/A"}},{"$f":"IF(R256=\"\",\"\",VLOOKUP(R256,漢字読み!$A$2:$O$506,6,0))","v":{"$error":"#N/A"}},{"$f":"IF(S256=\"\",\"\",VLOOKUP(S256,漢字読み!$A$2:$O$506,6,0))","v":{"$error":"#N/A"}},{"$f":"IF(T256=\"\",\"\",VLOOKUP(T256,漢字読み!$A$2:$O$506,6,0))","v":{"$error":"#N/A"}},null,"級"]
[{"$f":"IF(A$16=\"\",\"\",VLOOKUP(A256,漢字書き!$A$2:$O$506,8,0))","v":{"$error":"#N/A"}},{"$f":"IF(B$16=\"\",\"\",VLOOKUP(B256,漢字書き!$A$2:$O$506,8,0))","v":{"$error":"#N/A"}},{"$f":"IF(C$16=\"\",\"\",VLOOKUP(C256,漢字書き!$A$2:$O$506,8,0))","v":{"$error":"#N/A"}},{"$f":"IF(D$16=\"\",\"\",VLOOKUP(D256,漢字書き!$A$2:$O$506,8,0))","v":{"$error":"#N/A"}},{"$f":"IF(E$16=\"\",\"\",VLOOKUP(E256,漢字書き!$A$2:$O$506,8,0))","v":{"$error":"#N/A"}},{"$f":"IF(F$16=\"\",\"\",VLOOKUP(F256,漢字書き!$A$2:$O$506,8,0))","v":{"$error":"#N/A"}},{"$f":"IF(G$16=\"\",\"\",VLOOKUP(G256,漢字書き!$A$2:$O$506,8,0))","v":{"$error":"#N/A"}},{"$f":"IF(H$16=\"\",\"\",VLOOKUP(H256,漢字書き!$A$2:$O$506,8,0))","v":{"$error":"#N/A"}},{"$f":"IF(I$16=\"\",\"\",VLOOKUP(I256,漢字書き!$A$2:$O$506,8,0))","v":{"$error":"#N/A"}},{"$f":"IF(J$16=\"\",\"\",VLOOKUP(J256,漢字書き!$A$2:$O$506,8,0))","v":{"$error":"#N/A"}},{"$f":"IF(K$16=\"\",\"\",VLOOKUP(K256,漢字読み!$A$2:$O$506,8,0))","v":{"$error":"#N/A"}},{"$f":"IF(L$16=\"\",\"\",VLOOKUP(L256,漢字読み!$A$2:$O$506,8,0))","v":{"$error":"#N/A"}},{"$f":"IF(M$16=\"\",\"\",VLOOKUP(M256,漢字読み!$A$2:$O$506,8,0))","v":{"$error":"#N/A"}},{"$f":"IF(N$16=\"\",\"\",VLOOKUP(N256,漢字読み!$A$2:$O$506,8,0))","v":{"$error":"#N/A"}},{"$f":"IF(O$16=\"\",\"\",VLOOKUP(O256,漢字読み!$A$2:$O$506,8,0))","v":{"$error":"#N/A"}},{"$f":"IF(P$16=\"\",\"\",VLOOKUP(P256,漢字読み!$A$2:$O$506,8,0))","v":{"$error":"#N/A"}},{"$f":"IF(Q$16=\"\",\"\",VLOOKUP(Q256,漢字読み!$A$2:$O$506,8,0))","v":{"$error":"#N/A"}},{"$f":"IF(R$16=\"\",\"\",VLOOKUP(R256,漢字読み!$A$2:$O$506,8,0))","v":{"$error":"#N/A"}},{"$f":"IF(S$16=\"\",\"\",VLOOKUP(S256,漢字読み!$A$2:$O$506,8,0))","v":{"$error":"#N/A"}},{"$f":"IF(T$16=\"\",\"\",VLOOKUP(T256,漢字読み!$A$2:$O$506,8,0))","v":{"$error":"#N/A"}},null,"名前"]
[{"$f":"IF(A256=\"\",\"\",IF(VLOOKUP(A256,漢字書き!$A$2:$N$502,7,0)=0,\"\",VLOOKUP(A256,漢字書き!$A$2:$N$502,7,0)))","v":{"$error":"#N/A"}},{"$f":"IF(B256=\"\",\"\",IF(VLOOKUP(B256,漢字書き!$A$2:$N$502,7,0)=0,\"\",VLOOKUP(B256,漢字書き!$A$2:$N$502,7,0)))","v":{"$error":"#N/A"}},{"$f":"IF(C256=\"\",\"\",IF(VLOOKUP(C256,漢字書き!$A$2:$N$502,7,0)=0,\"\",VLOOKUP(C256,漢字書き!$A$2:$N$502,7,0)))","v":{"$error":"#N/A"}},{"$f":"IF(D256=\"\",\"\",IF(VLOOKUP(D256,漢字書き!$A$2:$N$502,7,0)=0,\"\",VLOOKUP(D256,漢字書き!$A$2:$N$502,7,0)))","v":{"$error":"#N/A"}},{"$f":"IF(E256=\"\",\"\",IF(VLOOKUP(E256,漢字書き!$A$2:$N$502,7,0)=0,\"\",VLOOKUP(E256,漢字書き!$A$2:$N$502,7,0)))","v":{"$error":"#N/A"}},{"$f":"IF(F256=\"\",\"\",IF(VLOOKUP(F256,漢字書き!$A$2:$N$502,7,0)=0,\"\",VLOOKUP(F256,漢字書き!$A$2:$N$502,7,0)))","v":{"$error":"#N/A"}},{"$f":"IF(G256=\"\",\"\",IF(VLOOKUP(G256,漢字書き!$A$2:$N$502,7,0)=0,\"\",VLOOKUP(G256,漢字書き!$A$2:$N$502,7,0)))","v":{"$error":"#N/A"}},{"$f":"IF(H256=\"\",\"\",IF(VLOOKUP(H256,漢字書き!$A$2:$N$502,7,0)=0,\"\",VLOOKUP(H256,漢字書き!$A$2:$N$502,7,0)))","v":{"$error":"#N/A"}},{"$f":"IF(I256=\"\",\"\",IF(VLOOKUP(I256,漢字書き!$A$2:$N$502,7,0)=0,\"\",VLOOKUP(I256,漢字書き!$A$2:$N$502,7,0)))","v":{"$error":"#N/A"}},{"$f":"IF(J256=\"\",\"\",IF(VLOOKUP(J256,漢字書き!$A$2:$N$502,7,0)=0,\"\",VLOOKUP(J256,漢字書き!$A$2:$N$502,7,0)))","v":{"$error":"#N/A"}},{"$f":"IF(K256=\"\",\"\",IF(VLOOKUP(K256,漢字読み!$A$2:$O$502,7,0)=0,\"\",VLOOKUP(K256,漢字読み!$A$2:$O$502,7,0)))","v":{"$error":"#N/A"}},{"$f":"IF(L256=\"\",\"\",IF(VLOOKUP(L256,漢字読み!$A$2:$O$502,7,0)=0,\"\",VLOOKUP(L256,漢字読み!$A$2:$O$502,7,0)))","v":{"$error":"#N/A"}},{"$f":"IF(M256=\"\",\"\",IF(VLOOKUP(M256,漢字読み!$A$2:$O$502,7,0)=0,\"\",VLOOKUP(M256,漢字読み!$A$2:$O$502,7,0)))","v":{"$error":"#N/A"}},{"$f":"IF(N256=\"\",\"\",IF(VLOOKUP(N256,漢字読み!$A$2:$O$502,7,0)=0,\"\",VLOOKUP(N256,漢字読み!$A$2:$O$502,7,0)))","v":{"$error":"#N/A"}},{"$f":"IF(O256=\"\",\"\",IF(VLOOKUP(O256,漢字読み!$A$2:$O$502,7,0)=0,\"\",VLOOKUP(O256,漢字読み!$A$2:$O$502,7,0)))","v":{"$error":"#N/A"}},{"$f":"IF(P256=\"\",\"\",IF(VLOOKUP(P256,漢字読み!$A$2:$O$502,7,0)=0,\"\",VLOOKUP(P256,漢字読み!$A$2:$O$502,7,0)))","v":{"$error":"#N/A"}},{"$f":"IF(Q256=\"\",\"\",IF(VLOOKUP(Q256,漢字読み!$A$2:$O$502,7,0)=0,\"\",VLOOKUP(Q256,漢字読み!$A$2:$O$502,7,0)))","v":{"$error":"#N/A"}},{"$f":"IF(R256=\"\",\"\",IF(VLOOKUP(R256,漢字読み!$A$2:$O$502,7,0)=0,\"\",VLOOKUP(R256,漢字読み!$A$2:$O$502,7,0)))","v":{"$error":"#N/A"}},{"$f":"IF(S256=\"\",\"\",IF(VLOOKUP(S256,漢字読み!$A$2:$O$502,7,0)=0,\"\",VLOOKUP(S256,漢字読み!$A$2:$O$502,7,0)))","v":{"$error":"#N/A"}},{"$f":"IF(T256=\"\",\"\",IF(VLOOKUP(T256,漢字読み!$A$2:$O$502,7,0)=0,\"\",VLOOKUP(T256,漢字読み!$A$2:$O$502,7,0)))","v":{"$error":"#N/A"}},null,null,"和歌山県教育委員会"]
[{"$f":"INDIRECT(\"'関数（書き）'!C\" & COLUMN(B$1)+SUM($AD$2:$AD262))","v":0},{"$f":"INDIRECT(\"'関数（書き）'!C\" & COLUMN(C$1)+SUM($AD$2:$AD262))","v":0},{"$f":"INDIRECT(\"'関数（書き）'!C\" & COLUMN(D$1)+SUM($AD$2:$AD262))","v":0},{"$f":"INDIRECT(\"'関数（書き）'!C\" & COLUMN(E$1)+SUM($AD$2:$AD262))","v":0},{"$f":"INDIRECT(\"'関数（書き）'!C\" & COLUMN(F$1)+SUM($AD$2:$AD262))","v":0},{"$f":"INDIRECT(\"'関数（書き）'!C\" & COLUMN(G$1)+SUM($AD$2:$AD262))","v":0},{"$f":"INDIRECT(\"'関数（書き）'!C\" & COLUMN(H$1)+SUM($AD$2:$AD262))","v":0},{"$f":"INDIRECT(\"'関数（書き）'!C\" & COLUMN(I$1)+SUM($AD$2:$AD262))","v":0},{"$f":"INDIRECT(\"'関数（書き）'!C\" & COLUMN(J$1)+SUM($AD$2:$AD262))","v":0},{"$f":"INDIRECT(\"'関数（書き）'!C\" & COLUMN(K$1)+SUM($AD$2:$AD262))","v":0},{"$f":"INDIRECT(\"'関数（読み）'!C\" & COLUMN(B$1)+SUM($AD$2:$AD262))","v":0},{"$f":"INDIRECT(\"'関数（読み）'!C\" & COLUMN(C$1)+SUM($AD$2:$AD262))","v":0},{"$f":"INDIRECT(\"'関数（読み）'!C\" & COLUMN(D$1)+SUM($AD$2:$AD262))","v":0},{"$f":"INDIRECT(\"'関数（読み）'!C\" & COLUMN(E$1)+SUM($AD$2:$AD262))","v":0},{"$f":"INDIRECT(\"'関数（読み）'!C\" & COLUMN(F$1)+SUM($AD$2:$AD262))","v":0},{"$f":"INDIRECT(\"'関数（読み）'!C\" & COLUMN(G$1)+SUM($AD$2:$AD262))","v":0},{"$f":"INDIRECT(\"'関数（読み）'!C\" & COLUMN(H$1)+SUM($AD$2:$AD262))","v":0},{"$f":"INDIRECT(\"'関数（読み）'!C\" & COLUMN(I$1)+SUM($AD$2:$AD262))","v":0},{"$f":"INDIRECT(\"'関数（読み）'!C\" & COLUMN(J$1)+SUM($AD$2:$AD262))","v":0},{"$f":"INDIRECT(\"'関数（読み）'!C\" & COLUMN(K$1)+SUM($AD$2:$AD262))","v":0}]
["⑳","⑲","⑱","⑰","⑯","⑮","⑭","⑬","⑫","⑪","⑩","⑨","⑧","⑦","⑥","⑤","④","③","②","①","次の［　　　　］の部分の漢字には読みがなをひらがなで書き、カタカナは漢字に直しなさい。",14,"「漢字の博士検定試験」練習問題　",null,null,null,null,null,"←",10,"問",{"$f":"AH247+1","v":261},"～",{"$f":"SUM($AD$2:$AD262)+10","v":270},"問まで",{"$f":"COUNTIF($A$1:$T$200,T263)","v":585}]
[{"$f":"IF(A261=\"\",\"\",VLOOKUP(A261,漢字書き!$A$2:$N$506,6,0))","v":{"$error":"#N/A"}},{"$f":"IF(B261=\"\",\"\",VLOOKUP(B261,漢字書き!$A$2:$N$506,6,0))","v":{"$error":"#N/A"}},{"$f":"IF(C261=\"\",\"\",VLOOKUP(C261,漢字書き!$A$2:$N$506,6,0))","v":{"$error":"#N/A"}},{"$f":"IF(D261=\"\",\"\",VLOOKUP(D261,漢字書き!$A$2:$N$506,6,0))","v":{"$error":"#N/A"}},{"$f":"IF(E261=\"\",\"\",VLOOKUP(E261,漢字書き!$A$2:$N$506,6,0))","v":{"$error":"#N/A"}},{"$f":"IF(F261=\"\",\"\",VLOOKUP(F261,漢字書き!$A$2:$N$506,6,0))","v":{"$error":"#N/A"}},{"$f":"IF(G261=\"\",\"\",VLOOKUP(G261,漢字書き!$A$2:$N$506,6,0))","v":{"$error":"#N/A"}},{"$f":"IF(H261=\"\",\"\",VLOOKUP(H261,漢字書き!$A$2:$N$506,6,0))","v":{"$error":"#N/A"}},{"$f":"IF(I261=\"\",\"\",VLOOKUP(I261,漢字書き!$A$2:$N$506,6,0))","v":{"$error":"#N/A"}},{"$f":"IF(J261=\"\",\"\",VLOOKUP(J261,漢字書き!$A$2:$N$506,6,0))","v":{"$error":"#N/A"}},{"$f":"IF(K261=\"\",\"\",VLOOKUP(K261,漢字読み!$A$2:$O$506,6,0))","v":{"$error":"#N/A"}},{"$f":"IF(L261=\"\",\"\",VLOOKUP(L261,漢字読み!$A$2:$O$506,6,0))","v":{"$error":"#N/A"}},{"$f":"IF(M261=\"\",\"\",VLOOKUP(M261,漢字読み!$A$2:$O$506,6,0))","v":{"$error":"#N/A"}},{"$f":"IF(N261=\"\",\"\",VLOOKUP(N261,漢字読み!$A$2:$O$506,6,0))","v":{"$error":"#N/A"}},{"$f":"IF(O261=\"\",\"\",VLOOKUP(O261,漢字読み!$A$2:$O$506,6,0))","v":{"$error":"#N/A"}},{"$f":"IF(P261=\"\",\"\",VLOOKUP(P261,漢字読み!$A$2:$O$506,6,0))","v":{"$error":"#N/A"}},{"$f":"IF(Q261=\"\",\"\",VLOOKUP(Q261,漢字読み!$A$2:$O$506,6,0))","v":{"$error":"#N/A"}},{"$f":"IF(R261=\"\",\"\",VLOOKUP(R261,漢字読み!$A$2:$O$506,6,0))","v":{"$error":"#N/A"}},{"$f":"IF(S261=\"\",\"\",VLOOKUP(S261,漢字読み!$A$2:$O$506,6,0))","v":{"$error":"#N/A"}},{"$f":"IF(T261=\"\",\"\",VLOOKUP(T261,漢字読み!$A$2:$O$506,6,0))","v":{"$error":"#N/A"}},null,"級"]
[null,null,null,null,null,null,null,null,null,null,null,null,null,null,null,null,null,null,null,null,null,"名前"]
[{"$f":"IF(A261=\"\",\"\",IF(VLOOKUP(A261,漢字書き!$A$2:$N$502,7,0)=0,\"\",VLOOKUP(A261,漢字書き!$A$2:$N$502,7,0)))","v":{"$error":"#N/A"}},{"$f":"IF(B261=\"\",\"\",IF(VLOOKUP(B261,漢字書き!$A$2:$N$502,7,0)=0,\"\",VLOOKUP(B261,漢字書き!$A$2:$N$502,7,0)))","v":{"$error":"#N/A"}},{"$f":"IF(C261=\"\",\"\",IF(VLOOKUP(C261,漢字書き!$A$2:$N$502,7,0)=0,\"\",VLOOKUP(C261,漢字書き!$A$2:$N$502,7,0)))","v":{"$error":"#N/A"}},{"$f":"IF(D261=\"\",\"\",IF(VLOOKUP(D261,漢字書き!$A$2:$N$502,7,0)=0,\"\",VLOOKUP(D261,漢字書き!$A$2:$N$502,7,0)))","v":{"$error":"#N/A"}},{"$f":"IF(E261=\"\",\"\",IF(VLOOKUP(E261,漢字書き!$A$2:$N$502,7,0)=0,\"\",VLOOKUP(E261,漢字書き!$A$2:$N$502,7,0)))","v":{"$error":"#N/A"}},{"$f":"IF(F261=\"\",\"\",IF(VLOOKUP(F261,漢字書き!$A$2:$N$502,7,0)=0,\"\",VLOOKUP(F261,漢字書き!$A$2:$N$502,7,0)))","v":{"$error":"#N/A"}},{"$f":"IF(G261=\"\",\"\",IF(VLOOKUP(G261,漢字書き!$A$2:$N$502,7,0)=0,\"\",VLOOKUP(G261,漢字書き!$A$2:$N$502,7,0)))","v":{"$error":"#N/A"}},{"$f":"IF(H261=\"\",\"\",IF(VLOOKUP(H261,漢字書き!$A$2:$N$502,7,0)=0,\"\",VLOOKUP(H261,漢字書き!$A$2:$N$502,7,0)))","v":{"$error":"#N/A"}},{"$f":"IF(I261=\"\",\"\",IF(VLOOKUP(I261,漢字書き!$A$2:$N$502,7,0)=0,\"\",VLOOKUP(I261,漢字書き!$A$2:$N$502,7,0)))","v":{"$error":"#N/A"}},{"$f":"IF(J261=\"\",\"\",IF(VLOOKUP(J261,漢字書き!$A$2:$N$502,7,0)=0,\"\",VLOOKUP(J261,漢字書き!$A$2:$N$502,7,0)))","v":{"$error":"#N/A"}},{"$f":"IF(K261=\"\",\"\",IF(VLOOKUP(K261,漢字読み!$A$2:$O$502,7,0)=0,\"\",VLOOKUP(K261,漢字読み!$A$2:$O$502,7,0)))","v":{"$error":"#N/A"}},{"$f":"IF(L261=\"\",\"\",IF(VLOOKUP(L261,漢字読み!$A$2:$O$502,7,0)=0,\"\",VLOOKUP(L261,漢字読み!$A$2:$O$502,7,0)))","v":{"$error":"#N/A"}},{"$f":"IF(M261=\"\",\"\",IF(VLOOKUP(M261,漢字読み!$A$2:$O$502,7,0)=0,\"\",VLOOKUP(M261,漢字読み!$A$2:$O$502,7,0)))","v":{"$error":"#N/A"}},{"$f":"IF(N261=\"\",\"\",IF(VLOOKUP(N261,漢字読み!$A$2:$O$502,7,0)=0,\"\",VLOOKUP(N261,漢字読み!$A$2:$O$502,7,0)))","v":{"$error":"#N/A"}},{"$f":"IF(O261=\"\",\"\",IF(VLOOKUP(O261,漢字読み!$A$2:$O$502,7,0)=0,\"\",VLOOKUP(O261,漢字読み!$A$2:$O$502,7,0)))","v":{"$error":"#N/A"}},{"$f":"IF(P261=\"\",\"\",IF(VLOOKUP(P261,漢字読み!$A$2:$O$502,7,0)=0,\"\",VLOOKUP(P261,漢字読み!$A$2:$O$502,7,0)))","v":{"$error":"#N/A"}},{"$f":"IF(Q261=\"\",\"\",IF(VLOOKUP(Q261,漢字読み!$A$2:$O$502,7,0)=0,\"\",VLOOKUP(Q261,漢字読み!$A$2:$O$502,7,0)))","v":{"$error":"#N/A"}},{"$f":"IF(R261=\"\",\"\",IF(VLOOKUP(R261,漢字読み!$A$2:$O$502,7,0)=0,\"\",VLOOKUP(R261,漢字読み!$A$2:$O$502,7,0)))","v":{"$error":"#N/A"}},{"$f":"IF(S261=\"\",\"\",IF(VLOOKUP(S261,漢字読み!$A$2:$O$502,7,0)=0,\"\",VLOOKUP(S261,漢字読み!$A$2:$O$502,7,0)))","v":{"$error":"#N/A"}},{"$f":"IF(T261=\"\",\"\",IF(VLOOKUP(T261,漢字読み!$A$2:$O$502,7,0)=0,\"\",VLOOKUP(T261,漢字読み!$A$2:$O$502,7,0)))","v":{"$error":"#N/A"}},null,null,"和歌山県教育委員会"]
[{"$f":"INDIRECT(\"'関数（書き）'!C\" & COLUMN(B$1)+SUM($AD$2:$AD267))","v":0},{"$f":"INDIRECT(\"'関数（書き）'!C\" & COLUMN(C$1)+SUM($AD$2:$AD267))","v":0},{"$f":"INDIRECT(\"'関数（書き）'!C\" & COLUMN(D$1)+SUM($AD$2:$AD267))","v":0},{"$f":"INDIRECT(\"'関数（書き）'!C\" & COLUMN(E$1)+SUM($AD$2:$AD267))","v":0},{"$f":"INDIRECT(\"'関数（書き）'!C\" & COLUMN(F$1)+SUM($AD$2:$AD267))","v":0},{"$f":"INDIRECT(\"'関数（書き）'!C\" & COLUMN(G$1)+SUM($AD$2:$AD267))","v":0},{"$f":"INDIRECT(\"'関数（書き）'!C\" & COLUMN(H$1)+SUM($AD$2:$AD267))","v":0},{"$f":"INDIRECT(\"'関数（書き）'!C\" & COLUMN(I$1)+SUM($AD$2:$AD267))","v":0},{"$f":"INDIRECT(\"'関数（書き）'!C\" & COLUMN(J$1)+SUM($AD$2:$AD267))","v":0},{"$f":"INDIRECT(\"'関数（書き）'!C\" & COLUMN(K$1)+SUM($AD$2:$AD267))","v":0},{"$f":"INDIRECT(\"'関数（読み）'!C\" & COLUMN(B$1)+SUM($AD$2:$AD267))","v":0},{"$f":"INDIRECT(\"'関数（読み）'!C\" & COLUMN(C$1)+SUM($AD$2:$AD267))","v":0},{"$f":"INDIRECT(\"'関数（読み）'!C\" & COLUMN(D$1)+SUM($AD$2:$AD267))","v":0},{"$f":"INDIRECT(\"'関数（読み）'!C\" & COLUMN(E$1)+SUM($AD$2:$AD267))","v":0},{"$f":"INDIRECT(\"'関数（読み）'!C\" & COLUMN(F$1)+SUM($AD$2:$AD267))","v":0},{"$f":"INDIRECT(\"'関数（読み）'!C\" & COLUMN(G$1)+SUM($AD$2:$AD267))","v":0},{"$f":"INDIRECT(\"'関数（読み）'!C\" & COLUMN(H$1)+SUM($AD$2:$AD267))","v":0},{"$f":"INDIRECT(\"'関数（読み）'!C\" & COLUMN(I$1)+SUM($AD$2:$AD267))","v":0},{"$f":"INDIRECT(\"'関数（読み）'!C\" & COLUMN(J$1)+SUM($AD$2:$AD267))","v":0},{"$f":"INDIRECT(\"'関数（読み）'!C\" & COLUMN(K$1)+SUM($AD$2:$AD267))","v":0}]
["⑳","⑲","⑱","⑰","⑯","⑮","⑭","⑬","⑫","⑪","⑩","⑨","⑧","⑦","⑥","⑤","④","③","②","①","次の［　　　　］の部分の漢字には読みがなをひらがなで書き、カタカナは漢字に直しなさい。",14,"「漢字の博士検定試験」練習問題　",null,null,null,null,null,"←",10,"問",{"$f":"AH262+1","v":271},"～",{"$f":"SUM($AD$2:$AD267)+10","v":280},"問まで",{"$f":"COUNTIF($A$1:$T$200,T268)","v":585}]
[{"$f":"IF(A266=\"\",\"\",VLOOKUP(A266,漢字書き!$A$2:$N$506,6,0))","v":{"$error":"#N/A"}},{"$f":"IF(B266=\"\",\"\",VLOOKUP(B266,漢字書き!$A$2:$N$506,6,0))","v":{"$error":"#N/A"}},{"$f":"IF(C266=\"\",\"\",VLOOKUP(C266,漢字書き!$A$2:$N$506,6,0))","v":{"$error":"#N/A"}},{"$f":"IF(D266=\"\",\"\",VLOOKUP(D266,漢字書き!$A$2:$N$506,6,0))","v":{"$error":"#N/A"}},{"$f":"IF(E266=\"\",\"\",VLOOKUP(E266,漢字書き!$A$2:$N$506,6,0))","v":{"$error":"#N/A"}},{"$f":"IF(F266=\"\",\"\",VLOOKUP(F266,漢字書き!$A$2:$N$506,6,0))","v":{"$error":"#N/A"}},{"$f":"IF(G266=\"\",\"\",VLOOKUP(G266,漢字書き!$A$2:$N$506,6,0))","v":{"$error":"#N/A"}},{"$f":"IF(H266=\"\",\"\",VLOOKUP(H266,漢字書き!$A$2:$N$506,6,0))","v":{"$error":"#N/A"}},{"$f":"IF(I266=\"\",\"\",VLOOKUP(I266,漢字書き!$A$2:$N$506,6,0))","v":{"$error":"#N/A"}},{"$f":"IF(J266=\"\",\"\",VLOOKUP(J266,漢字書き!$A$2:$N$506,6,0))","v":{"$error":"#N/A"}},{"$f":"IF(K266=\"\",\"\",VLOOKUP(K266,漢字読み!$A$2:$O$506,6,0))","v":{"$error":"#N/A"}},{"$f":"IF(L266=\"\",\"\",VLOOKUP(L266,漢字読み!$A$2:$O$506,6,0))","v":{"$error":"#N/A"}},{"$f":"IF(M266=\"\",\"\",VLOOKUP(M266,漢字読み!$A$2:$O$506,6,0))","v":{"$error":"#N/A"}},{"$f":"IF(N266=\"\",\"\",VLOOKUP(N266,漢字読み!$A$2:$O$506,6,0))","v":{"$error":"#N/A"}},{"$f":"IF(O266=\"\",\"\",VLOOKUP(O266,漢字読み!$A$2:$O$506,6,0))","v":{"$error":"#N/A"}},{"$f":"IF(P266=\"\",\"\",VLOOKUP(P266,漢字読み!$A$2:$O$506,6,0))","v":{"$error":"#N/A"}},{"$f":"IF(Q266=\"\",\"\",VLOOKUP(Q266,漢字読み!$A$2:$O$506,6,0))","v":{"$error":"#N/A"}},{"$f":"IF(R266=\"\",\"\",VLOOKUP(R266,漢字読み!$A$2:$O$506,6,0))","v":{"$error":"#N/A"}},{"$f":"IF(S266=\"\",\"\",VLOOKUP(S266,漢字読み!$A$2:$O$506,6,0))","v":{"$error":"#N/A"}},{"$f":"IF(T266=\"\",\"\",VLOOKUP(T266,漢字読み!$A$2:$O$506,6,0))","v":{"$error":"#N/A"}},null,"級"]
[null,null,null,null,null,null,null,null,null,null,null,null,null,null,null,null,null,null,null,null,null,"名前"]
[{"$f":"IF(A266=\"\",\"\",IF(VLOOKUP(A266,漢字書き!$A$2:$N$502,7,0)=0,\"\",VLOOKUP(A266,漢字書き!$A$2:$N$502,7,0)))","v":{"$error":"#N/A"}},{"$f":"IF(B266=\"\",\"\",IF(VLOOKUP(B266,漢字書き!$A$2:$N$502,7,0)=0,\"\",VLOOKUP(B266,漢字書き!$A$2:$N$502,7,0)))","v":{"$error":"#N/A"}},{"$f":"IF(C266=\"\",\"\",IF(VLOOKUP(C266,漢字書き!$A$2:$N$502,7,0)=0,\"\",VLOOKUP(C266,漢字書き!$A$2:$N$502,7,0)))","v":{"$error":"#N/A"}},{"$f":"IF(D266=\"\",\"\",IF(VLOOKUP(D266,漢字書き!$A$2:$N$502,7,0)=0,\"\",VLOOKUP(D266,漢字書き!$A$2:$N$502,7,0)))","v":{"$error":"#N/A"}},{"$f":"IF(E266=\"\",\"\",IF(VLOOKUP(E266,漢字書き!$A$2:$N$502,7,0)=0,\"\",VLOOKUP(E266,漢字書き!$A$2:$N$502,7,0)))","v":{"$error":"#N/A"}},{"$f":"IF(F266=\"\",\"\",IF(VLOOKUP(F266,漢字書き!$A$2:$N$502,7,0)=0,\"\",VLOOKUP(F266,漢字書き!$A$2:$N$502,7,0)))","v":{"$error":"#N/A"}},{"$f":"IF(G266=\"\",\"\",IF(VLOOKUP(G266,漢字書き!$A$2:$N$502,7,0)=0,\"\",VLOOKUP(G266,漢字書き!$A$2:$N$502,7,0)))","v":{"$error":"#N/A"}},{"$f":"IF(H266=\"\",\"\",IF(VLOOKUP(H266,漢字書き!$A$2:$N$502,7,0)=0,\"\",VLOOKUP(H266,漢字書き!$A$2:$N$502,7,0)))","v":{"$error":"#N/A"}},{"$f":"IF(I266=\"\",\"\",IF(VLOOKUP(I266,漢字書き!$A$2:$N$502,7,0)=0,\"\",VLOOKUP(I266,漢字書き!$A$2:$N$502,7,0)))","v":{"$error":"#N/A"}},{"$f":"IF(J266=\"\",\"\",IF(VLOOKUP(J266,漢字書き!$A$2:$N$502,7,0)=0,\"\",VLOOKUP(J266,漢字書き!$A$2:$N$502,7,0)))","v":{"$error":"#N/A"}},{"$f":"IF(K266=\"\",\"\",IF(VLOOKUP(K266,漢字読み!$A$2:$O$502,7,0)=0,\"\",VLOOKUP(K266,漢字読み!$A$2:$O$502,7,0)))","v":{"$error":"#N/A"}},{"$f":"IF(L266=\"\",\"\",IF(VLOOKUP(L266,漢字読み!$A$2:$O$502,7,0)=0,\"\",VLOOKUP(L266,漢字読み!$A$2:$O$502,7,0)))","v":{"$error":"#N/A"}},{"$f":"IF(M266=\"\",\"\",IF(VLOOKUP(M266,漢字読み!$A$2:$O$502,7,0)=0,\"\",VLOOKUP(M266,漢字読み!$A$2:$O$502,7,0)))","v":{"$error":"#N/A"}},{"$f":"IF(N266=\"\",\"\",IF(VLOOKUP(N266,漢字読み!$A$2:$O$502,7,0)=0,\"\",VLOOKUP(N266,漢字読み!$A$2:$O$502,7,0)))","v":{"$error":"#N/A"}},{"$f":"IF(O266=\"\",\"\",IF(VLOOKUP(O266,漢字読み!$A$2:$O$502,7,0)=0,\"\",VLOOKUP(O266,漢字読み!$A$2:$O$502,7,0)))","v":{"$error":"#N/A"}},{"$f":"IF(P266=\"\",\"\",IF(VLOOKUP(P266,漢字読み!$A$2:$O$502,7,0)=0,\"\",VLOOKUP(P266,漢字読み!$A$2:$O$502,7,0)))","v":{"$error":"#N/A"}},{"$f":"IF(Q266=\"\",\"\",IF(VLOOKUP(Q266,漢字読み!$A$2:$O$502,7,0)=0,\"\",VLOOKUP(Q266,漢字読み!$A$2:$O$502,7,0)))","v":{"$error":"#N/A"}},{"$f":"IF(R266=\"\",\"\",IF(VLOOKUP(R266,漢字読み!$A$2:$O$502,7,0)=0,\"\",VLOOKUP(R266,漢字読み!$A$2:$O$502,7,0)))","v":{"$error":"#N/A"}},{"$f":"IF(S266=\"\",\"\",IF(VLOOKUP(S266,漢字読み!$A$2:$O$502,7,0)=0,\"\",VLOOKUP(S266,漢字読み!$A$2:$O$502,7,0)))","v":{"$error":"#N/A"}},{"$f":"IF(T266=\"\",\"\",IF(VLOOKUP(T266,漢字読み!$A$2:$O$502,7,0)=0,\"\",VLOOKUP(T266,漢字読み!$A$2:$O$502,7,0)))","v":{"$error":"#N/A"}},null,null,"和歌山県教育委員会"]
[{"$f":"A261","v":0},{"$f":"B261","v":0},{"$f":"C261","v":0},{"$f":"D261","v":0},{"$f":"E261","v":0},{"$f":"F261","v":0},{"$f":"G261","v":0},{"$f":"H261","v":0},{"$f":"I261","v":0},{"$f":"J261","v":0},{"$f":"K261","v":0},{"$f":"L261","v":0},{"$f":"M261","v":0},{"$f":"N261","v":0},{"$f":"O261","v":0},{"$f":"P261","v":0},{"$f":"Q261","v":0},{"$f":"R261","v":0},{"$f":"S261","v":0},{"$f":"T261","v":0}]
["⑳","⑲","⑱","⑰","⑯","⑮","⑭","⑬","⑫","⑪","⑩","⑨","⑧","⑦","⑥","⑤","④","③","②","①","次の［　　　　］の部分の漢字には読みがなをひらがなで書き、カタカナは漢字に直しなさい。",14,"「漢字の博士検定試験」練習問題　"]
[{"$f":"IF(A271=\"\",\"\",VLOOKUP(A271,漢字書き!$A$2:$N$506,6,0))","v":{"$error":"#N/A"}},{"$f":"IF(B271=\"\",\"\",VLOOKUP(B271,漢字書き!$A$2:$N$506,6,0))","v":{"$error":"#N/A"}},{"$f":"IF(C271=\"\",\"\",VLOOKUP(C271,漢字書き!$A$2:$N$506,6,0))","v":{"$error":"#N/A"}},{"$f":"IF(D271=\"\",\"\",VLOOKUP(D271,漢字書き!$A$2:$N$506,6,0))","v":{"$error":"#N/A"}},{"$f":"IF(E271=\"\",\"\",VLOOKUP(E271,漢字書き!$A$2:$N$506,6,0))","v":{"$error":"#N/A"}},{"$f":"IF(F271=\"\",\"\",VLOOKUP(F271,漢字書き!$A$2:$N$506,6,0))","v":{"$error":"#N/A"}},{"$f":"IF(G271=\"\",\"\",VLOOKUP(G271,漢字書き!$A$2:$N$506,6,0))","v":{"$error":"#N/A"}},{"$f":"IF(H271=\"\",\"\",VLOOKUP(H271,漢字書き!$A$2:$N$506,6,0))","v":{"$error":"#N/A"}},{"$f":"IF(I271=\"\",\"\",VLOOKUP(I271,漢字書き!$A$2:$N$506,6,0))","v":{"$error":"#N/A"}},{"$f":"IF(J271=\"\",\"\",VLOOKUP(J271,漢字書き!$A$2:$N$506,6,0))","v":{"$error":"#N/A"}},{"$f":"IF(K271=\"\",\"\",VLOOKUP(K271,漢字読み!$A$2:$O$506,6,0))","v":{"$error":"#N/A"}},{"$f":"IF(L271=\"\",\"\",VLOOKUP(L271,漢字読み!$A$2:$O$506,6,0))","v":{"$error":"#N/A"}},{"$f":"IF(M271=\"\",\"\",VLOOKUP(M271,漢字読み!$A$2:$O$506,6,0))","v":{"$error":"#N/A"}},{"$f":"IF(N271=\"\",\"\",VLOOKUP(N271,漢字読み!$A$2:$O$506,6,0))","v":{"$error":"#N/A"}},{"$f":"IF(O271=\"\",\"\",VLOOKUP(O271,漢字読み!$A$2:$O$506,6,0))","v":{"$error":"#N/A"}},{"$f":"IF(P271=\"\",\"\",VLOOKUP(P271,漢字読み!$A$2:$O$506,6,0))","v":{"$error":"#N/A"}},{"$f":"IF(Q271=\"\",\"\",VLOOKUP(Q271,漢字読み!$A$2:$O$506,6,0))","v":{"$error":"#N/A"}},{"$f":"IF(R271=\"\",\"\",VLOOKUP(R271,漢字読み!$A$2:$O$506,6,0))","v":{"$error":"#N/A"}},{"$f":"IF(S271=\"\",\"\",VLOOKUP(S271,漢字読み!$A$2:$O$506,6,0))","v":{"$error":"#N/A"}},{"$f":"IF(T271=\"\",\"\",VLOOKUP(T271,漢字読み!$A$2:$O$506,6,0))","v":{"$error":"#N/A"}},null,"級"]
[{"$f":"IF(A$11=\"\",\"\",VLOOKUP(A271,漢字書き!$A$2:$O$506,8,0))","v":{"$error":"#N/A"}},{"$f":"IF(B$11=\"\",\"\",VLOOKUP(B271,漢字書き!$A$2:$O$506,8,0))","v":{"$error":"#N/A"}},{"$f":"IF(C$11=\"\",\"\",VLOOKUP(C271,漢字書き!$A$2:$O$506,8,0))","v":{"$error":"#N/A"}},{"$f":"IF(D$11=\"\",\"\",VLOOKUP(D271,漢字書き!$A$2:$O$506,8,0))","v":{"$error":"#N/A"}},{"$f":"IF(E$11=\"\",\"\",VLOOKUP(E271,漢字書き!$A$2:$O$506,8,0))","v":{"$error":"#N/A"}},{"$f":"IF(F$11=\"\",\"\",VLOOKUP(F271,漢字書き!$A$2:$O$506,8,0))","v":{"$error":"#N/A"}},{"$f":"IF(G$11=\"\",\"\",VLOOKUP(G271,漢字書き!$A$2:$O$506,8,0))","v":{"$error":"#N/A"}},{"$f":"IF(H$11=\"\",\"\",VLOOKUP(H271,漢字書き!$A$2:$O$506,8,0))","v":{"$error":"#N/A"}},{"$f":"IF(I$11=\"\",\"\",VLOOKUP(I271,漢字書き!$A$2:$O$506,8,0))","v":{"$error":"#N/A"}},{"$f":"IF(J$11=\"\",\"\",VLOOKUP(J271,漢字書き!$A$2:$O$506,8,0))","v":{"$error":"#N/A"}},{"$f":"IF(K$11=\"\",\"\",VLOOKUP(K271,漢字読み!$A$2:$O$506,8,0))","v":{"$error":"#N/A"}},{"$f":"IF(L$11=\"\",\"\",VLOOKUP(L271,漢字読み!$A$2:$O$506,8,0))","v":{"$error":"#N/A"}},{"$f":"IF(M$11=\"\",\"\",VLOOKUP(M271,漢字読み!$A$2:$O$506,8,0))","v":{"$error":"#N/A"}},{"$f":"IF(N$11=\"\",\"\",VLOOKUP(N271,漢字読み!$A$2:$O$506,8,0))","v":{"$error":"#N/A"}},{"$f":"IF(O$11=\"\",\"\",VLOOKUP(O271,漢字読み!$A$2:$O$506,8,0))","v":{"$error":"#N/A"}},{"$f":"IF(P$11=\"\",\"\",VLOOKUP(P271,漢字読み!$A$2:$O$506,8,0))","v":{"$error":"#N/A"}},{"$f":"IF(Q$11=\"\",\"\",VLOOKUP(Q271,漢字読み!$A$2:$O$506,8,0))","v":{"$error":"#N/A"}},{"$f":"IF(R$11=\"\",\"\",VLOOKUP(R271,漢字読み!$A$2:$O$506,8,0))","v":{"$error":"#N/A"}},{"$f":"IF(S$11=\"\",\"\",VLOOKUP(S271,漢字読み!$A$2:$O$506,8,0))","v":{"$error":"#N/A"}},{"$f":"IF(T$11=\"\",\"\",VLOOKUP(T271,漢字読み!$A$2:$O$506,8,0))","v":{"$error":"#N/A"}},null,"名前"]
[{"$f":"IF(A271=\"\",\"\",IF(VLOOKUP(A271,漢字書き!$A$2:$N$502,7,0)=0,\"\",VLOOKUP(A271,漢字書き!$A$2:$N$502,7,0)))","v":{"$error":"#N/A"}},{"$f":"IF(B271=\"\",\"\",IF(VLOOKUP(B271,漢字書き!$A$2:$N$502,7,0)=0,\"\",VLOOKUP(B271,漢字書き!$A$2:$N$502,7,0)))","v":{"$error":"#N/A"}},{"$f":"IF(C271=\"\",\"\",IF(VLOOKUP(C271,漢字書き!$A$2:$N$502,7,0)=0,\"\",VLOOKUP(C271,漢字書き!$A$2:$N$502,7,0)))","v":{"$error":"#N/A"}},{"$f":"IF(D271=\"\",\"\",IF(VLOOKUP(D271,漢字書き!$A$2:$N$502,7,0)=0,\"\",VLOOKUP(D271,漢字書き!$A$2:$N$502,7,0)))","v":{"$error":"#N/A"}},{"$f":"IF(E271=\"\",\"\",IF(VLOOKUP(E271,漢字書き!$A$2:$N$502,7,0)=0,\"\",VLOOKUP(E271,漢字書き!$A$2:$N$502,7,0)))","v":{"$error":"#N/A"}},{"$f":"IF(F271=\"\",\"\",IF(VLOOKUP(F271,漢字書き!$A$2:$N$502,7,0)=0,\"\",VLOOKUP(F271,漢字書き!$A$2:$N$502,7,0)))","v":{"$error":"#N/A"}},{"$f":"IF(G271=\"\",\"\",IF(VLOOKUP(G271,漢字書き!$A$2:$N$502,7,0)=0,\"\",VLOOKUP(G271,漢字書き!$A$2:$N$502,7,0)))","v":{"$error":"#N/A"}},{"$f":"IF(H271=\"\",\"\",IF(VLOOKUP(H271,漢字書き!$A$2:$N$502,7,0)=0,\"\",VLOOKUP(H271,漢字書き!$A$2:$N$502,7,0)))","v":{"$error":"#N/A"}},{"$f":"IF(I271=\"\",\"\",IF(VLOOKUP(I271,漢字書き!$A$2:$N$502,7,0)=0,\"\",VLOOKUP(I271,漢字書き!$A$2:$N$502,7,0)))","v":{"$error":"#N/A"}},{"$f":"IF(J271=\"\",\"\",IF(VLOOKUP(J271,漢字書き!$A$2:$N$502,7,0)=0,\"\",VLOOKUP(J271,漢字書き!$A$2:$N$502,7,0)))","v":{"$error":"#N/A"}},{"$f":"IF(K271=\"\",\"\",IF(VLOOKUP(K271,漢字読み!$A$2:$O$502,7,0)=0,\"\",VLOOKUP(K271,漢字読み!$A$2:$O$502,7,0)))","v":{"$error":"#N/A"}},{"$f":"IF(L271=\"\",\"\",IF(VLOOKUP(L271,漢字読み!$A$2:$O$502,7,0)=0,\"\",VLOOKUP(L271,漢字読み!$A$2:$O$502,7,0)))","v":{"$error":"#N/A"}},{"$f":"IF(M271=\"\",\"\",IF(VLOOKUP(M271,漢字読み!$A$2:$O$502,7,0)=0,\"\",VLOOKUP(M271,漢字読み!$A$2:$O$502,7,0)))","v":{"$error":"#N/A"}},{"$f":"IF(N271=\"\",\"\",IF(VLOOKUP(N271,漢字読み!$A$2:$O$502,7,0)=0,\"\",VLOOKUP(N271,漢字読み!$A$2:$O$502,7,0)))","v":{"$error":"#N/A"}},{"$f":"IF(O271=\"\",\"\",IF(VLOOKUP(O271,漢字読み!$A$2:$O$502,7,0)=0,\"\",VLOOKUP(O271,漢字読み!$A$2:$O$502,7,0)))","v":{"$error":"#N/A"}},{"$f":"IF(P271=\"\",\"\",IF(VLOOKUP(P271,漢字読み!$A$2:$O$502,7,0)=0,\"\",VLOOKUP(P271,漢字読み!$A$2:$O$502,7,0)))","v":{"$error":"#N/A"}},{"$f":"IF(Q271=\"\",\"\",IF(VLOOKUP(Q271,漢字読み!$A$2:$O$502,7,0)=0,\"\",VLOOKUP(Q271,漢字読み!$A$2:$O$502,7,0)))","v":{"$error":"#N/A"}},{"$f":"IF(R271=\"\",\"\",IF(VLOOKUP(R271,漢字読み!$A$2:$O$502,7,0)=0,\"\",VLOOKUP(R271,漢字読み!$A$2:$O$502,7,0)))","v":{"$error":"#N/A"}},{"$f":"IF(S271=\"\",\"\",IF(VLOOKUP(S271,漢字読み!$A$2:$O$502,7,0)=0,\"\",VLOOKUP(S271,漢字読み!$A$2:$O$502,7,0)))","v":{"$error":"#N/A"}},{"$f":"IF(T271=\"\",\"\",IF(VLOOKUP(T271,漢字読み!$A$2:$O$502,7,0)=0,\"\",VLOOKUP(T271,漢字読み!$A$2:$O$502,7,0)))","v":{"$error":"#N/A"}},null,null,"和歌山県教育委員会"]
[{"$f":"A266","v":0},{"$f":"B266","v":0},{"$f":"C266","v":0},{"$f":"D266","v":0},{"$f":"E266","v":0},{"$f":"F266","v":0},{"$f":"G266","v":0},{"$f":"H266","v":0},{"$f":"I266","v":0},{"$f":"J266","v":0},{"$f":"K266","v":0},{"$f":"L266","v":0},{"$f":"M266","v":0},{"$f":"N266","v":0},{"$f":"O266","v":0},{"$f":"P266","v":0},{"$f":"Q266","v":0},{"$f":"R266","v":0},{"$f":"S266","v":0},{"$f":"T266","v":0}]
["⑳","⑲","⑱","⑰","⑯","⑮","⑭","⑬","⑫","⑪","⑩","⑨","⑧","⑦","⑥","⑤","④","③","②","①","次の［　　　　］の部分の漢字には読みがなをひらがなで書き、カタカナは漢字に直しなさい。",14,"「漢字の博士検定試験」練習問題　"]
[{"$f":"IF(A276=\"\",\"\",VLOOKUP(A276,漢字書き!$A$2:$N$506,6,0))","v":{"$error":"#N/A"}},{"$f":"IF(B276=\"\",\"\",VLOOKUP(B276,漢字書き!$A$2:$N$506,6,0))","v":{"$error":"#N/A"}},{"$f":"IF(C276=\"\",\"\",VLOOKUP(C276,漢字書き!$A$2:$N$506,6,0))","v":{"$error":"#N/A"}},{"$f":"IF(D276=\"\",\"\",VLOOKUP(D276,漢字書き!$A$2:$N$506,6,0))","v":{"$error":"#N/A"}},{"$f":"IF(E276=\"\",\"\",VLOOKUP(E276,漢字書き!$A$2:$N$506,6,0))","v":{"$error":"#N/A"}},{"$f":"IF(F276=\"\",\"\",VLOOKUP(F276,漢字書き!$A$2:$N$506,6,0))","v":{"$error":"#N/A"}},{"$f":"IF(G276=\"\",\"\",VLOOKUP(G276,漢字書き!$A$2:$N$506,6,0))","v":{"$error":"#N/A"}},{"$f":"IF(H276=\"\",\"\",VLOOKUP(H276,漢字書き!$A$2:$N$506,6,0))","v":{"$error":"#N/A"}},{"$f":"IF(I276=\"\",\"\",VLOOKUP(I276,漢字書き!$A$2:$N$506,6,0))","v":{"$error":"#N/A"}},{"$f":"IF(J276=\"\",\"\",VLOOKUP(J276,漢字書き!$A$2:$N$506,6,0))","v":{"$error":"#N/A"}},{"$f":"IF(K276=\"\",\"\",VLOOKUP(K276,漢字読み!$A$2:$O$506,6,0))","v":{"$error":"#N/A"}},{"$f":"IF(L276=\"\",\"\",VLOOKUP(L276,漢字読み!$A$2:$O$506,6,0))","v":{"$error":"#N/A"}},{"$f":"IF(M276=\"\",\"\",VLOOKUP(M276,漢字読み!$A$2:$O$506,6,0))","v":{"$error":"#N/A"}},{"$f":"IF(N276=\"\",\"\",VLOOKUP(N276,漢字読み!$A$2:$O$506,6,0))","v":{"$error":"#N/A"}},{"$f":"IF(O276=\"\",\"\",VLOOKUP(O276,漢字読み!$A$2:$O$506,6,0))","v":{"$error":"#N/A"}},{"$f":"IF(P276=\"\",\"\",VLOOKUP(P276,漢字読み!$A$2:$O$506,6,0))","v":{"$error":"#N/A"}},{"$f":"IF(Q276=\"\",\"\",VLOOKUP(Q276,漢字読み!$A$2:$O$506,6,0))","v":{"$error":"#N/A"}},{"$f":"IF(R276=\"\",\"\",VLOOKUP(R276,漢字読み!$A$2:$O$506,6,0))","v":{"$error":"#N/A"}},{"$f":"IF(S276=\"\",\"\",VLOOKUP(S276,漢字読み!$A$2:$O$506,6,0))","v":{"$error":"#N/A"}},{"$f":"IF(T276=\"\",\"\",VLOOKUP(T276,漢字読み!$A$2:$O$506,6,0))","v":{"$error":"#N/A"}},null,"級"]
[{"$f":"IF(A$16=\"\",\"\",VLOOKUP(A276,漢字書き!$A$2:$O$506,8,0))","v":{"$error":"#N/A"}},{"$f":"IF(B$16=\"\",\"\",VLOOKUP(B276,漢字書き!$A$2:$O$506,8,0))","v":{"$error":"#N/A"}},{"$f":"IF(C$16=\"\",\"\",VLOOKUP(C276,漢字書き!$A$2:$O$506,8,0))","v":{"$error":"#N/A"}},{"$f":"IF(D$16=\"\",\"\",VLOOKUP(D276,漢字書き!$A$2:$O$506,8,0))","v":{"$error":"#N/A"}},{"$f":"IF(E$16=\"\",\"\",VLOOKUP(E276,漢字書き!$A$2:$O$506,8,0))","v":{"$error":"#N/A"}},{"$f":"IF(F$16=\"\",\"\",VLOOKUP(F276,漢字書き!$A$2:$O$506,8,0))","v":{"$error":"#N/A"}},{"$f":"IF(G$16=\"\",\"\",VLOOKUP(G276,漢字書き!$A$2:$O$506,8,0))","v":{"$error":"#N/A"}},{"$f":"IF(H$16=\"\",\"\",VLOOKUP(H276,漢字書き!$A$2:$O$506,8,0))","v":{"$error":"#N/A"}},{"$f":"IF(I$16=\"\",\"\",VLOOKUP(I276,漢字書き!$A$2:$O$506,8,0))","v":{"$error":"#N/A"}},{"$f":"IF(J$16=\"\",\"\",VLOOKUP(J276,漢字書き!$A$2:$O$506,8,0))","v":{"$error":"#N/A"}},{"$f":"IF(K$16=\"\",\"\",VLOOKUP(K276,漢字読み!$A$2:$O$506,8,0))","v":{"$error":"#N/A"}},{"$f":"IF(L$16=\"\",\"\",VLOOKUP(L276,漢字読み!$A$2:$O$506,8,0))","v":{"$error":"#N/A"}},{"$f":"IF(M$16=\"\",\"\",VLOOKUP(M276,漢字読み!$A$2:$O$506,8,0))","v":{"$error":"#N/A"}},{"$f":"IF(N$16=\"\",\"\",VLOOKUP(N276,漢字読み!$A$2:$O$506,8,0))","v":{"$error":"#N/A"}},{"$f":"IF(O$16=\"\",\"\",VLOOKUP(O276,漢字読み!$A$2:$O$506,8,0))","v":{"$error":"#N/A"}},{"$f":"IF(P$16=\"\",\"\",VLOOKUP(P276,漢字読み!$A$2:$O$506,8,0))","v":{"$error":"#N/A"}},{"$f":"IF(Q$16=\"\",\"\",VLOOKUP(Q276,漢字読み!$A$2:$O$506,8,0))","v":{"$error":"#N/A"}},{"$f":"IF(R$16=\"\",\"\",VLOOKUP(R276,漢字読み!$A$2:$O$506,8,0))","v":{"$error":"#N/A"}},{"$f":"IF(S$16=\"\",\"\",VLOOKUP(S276,漢字読み!$A$2:$O$506,8,0))","v":{"$error":"#N/A"}},{"$f":"IF(T$16=\"\",\"\",VLOOKUP(T276,漢字読み!$A$2:$O$506,8,0))","v":{"$error":"#N/A"}},null,"名前"]
[{"$f":"IF(A276=\"\",\"\",IF(VLOOKUP(A276,漢字書き!$A$2:$N$502,7,0)=0,\"\",VLOOKUP(A276,漢字書き!$A$2:$N$502,7,0)))","v":{"$error":"#N/A"}},{"$f":"IF(B276=\"\",\"\",IF(VLOOKUP(B276,漢字書き!$A$2:$N$502,7,0)=0,\"\",VLOOKUP(B276,漢字書き!$A$2:$N$502,7,0)))","v":{"$error":"#N/A"}},{"$f":"IF(C276=\"\",\"\",IF(VLOOKUP(C276,漢字書き!$A$2:$N$502,7,0)=0,\"\",VLOOKUP(C276,漢字書き!$A$2:$N$502,7,0)))","v":{"$error":"#N/A"}},{"$f":"IF(D276=\"\",\"\",IF(VLOOKUP(D276,漢字書き!$A$2:$N$502,7,0)=0,\"\",VLOOKUP(D276,漢字書き!$A$2:$N$502,7,0)))","v":{"$error":"#N/A"}},{"$f":"IF(E276=\"\",\"\",IF(VLOOKUP(E276,漢字書き!$A$2:$N$502,7,0)=0,\"\",VLOOKUP(E276,漢字書き!$A$2:$N$502,7,0)))","v":{"$error":"#N/A"}},{"$f":"IF(F276=\"\",\"\",IF(VLOOKUP(F276,漢字書き!$A$2:$N$502,7,0)=0,\"\",VLOOKUP(F276,漢字書き!$A$2:$N$502,7,0)))","v":{"$error":"#N/A"}},{"$f":"IF(G276=\"\",\"\",IF(VLOOKUP(G276,漢字書き!$A$2:$N$502,7,0)=0,\"\",VLOOKUP(G276,漢字書き!$A$2:$N$502,7,0)))","v":{"$error":"#N/A"}},{"$f":"IF(H276=\"\",\"\",IF(VLOOKUP(H276,漢字書き!$A$2:$N$502,7,0)=0,\"\",VLOOKUP(H276,漢字書き!$A$2:$N$502,7,0)))","v":{"$error":"#N/A"}},{"$f":"IF(I276=\"\",\"\",IF(VLOOKUP(I276,漢字書き!$A$2:$N$502,7,0)=0,\"\",VLOOKUP(I276,漢字書き!$A$2:$N$502,7,0)))","v":{"$error":"#N/A"}},{"$f":"IF(J276=\"\",\"\",IF(VLOOKUP(J276,漢字書き!$A$2:$N$502,7,0)=0,\"\",VLOOKUP(J276,漢字書き!$A$2:$N$502,7,0)))","v":{"$error":"#N/A"}},{"$f":"IF(K276=\"\",\"\",IF(VLOOKUP(K276,漢字読み!$A$2:$O$502,7,0)=0,\"\",VLOOKUP(K276,漢字読み!$A$2:$O$502,7,0)))","v":{"$error":"#N/A"}},{"$f":"IF(L276=\"\",\"\",IF(VLOOKUP(L276,漢字読み!$A$2:$O$502,7,0)=0,\"\",VLOOKUP(L276,漢字読み!$A$2:$O$502,7,0)))","v":{"$error":"#N/A"}},{"$f":"IF(M276=\"\",\"\",IF(VLOOKUP(M276,漢字読み!$A$2:$O$502,7,0)=0,\"\",VLOOKUP(M276,漢字読み!$A$2:$O$502,7,0)))","v":{"$error":"#N/A"}},{"$f":"IF(N276=\"\",\"\",IF(VLOOKUP(N276,漢字読み!$A$2:$O$502,7,0)=0,\"\",VLOOKUP(N276,漢字読み!$A$2:$O$502,7,0)))","v":{"$error":"#N/A"}},{"$f":"IF(O276=\"\",\"\",IF(VLOOKUP(O276,漢字読み!$A$2:$O$502,7,0)=0,\"\",VLOOKUP(O276,漢字読み!$A$2:$O$502,7,0)))","v":{"$error":"#N/A"}},{"$f":"IF(P276=\"\",\"\",IF(VLOOKUP(P276,漢字読み!$A$2:$O$502,7,0)=0,\"\",VLOOKUP(P276,漢字読み!$A$2:$O$502,7,0)))","v":{"$error":"#N/A"}},{"$f":"IF(Q276=\"\",\"\",IF(VLOOKUP(Q276,漢字読み!$A$2:$O$502,7,0)=0,\"\",VLOOKUP(Q276,漢字読み!$A$2:$O$502,7,0)))","v":{"$error":"#N/A"}},{"$f":"IF(R276=\"\",\"\",IF(VLOOKUP(R276,漢字読み!$A$2:$O$502,7,0)=0,\"\",VLOOKUP(R276,漢字読み!$A$2:$O$502,7,0)))","v":{"$error":"#N/A"}},{"$f":"IF(S276=\"\",\"\",IF(VLOOKUP(S276,漢字読み!$A$2:$O$502,7,0)=0,\"\",VLOOKUP(S276,漢字読み!$A$2:$O$502,7,0)))","v":{"$error":"#N/A"}},{"$f":"IF(T276=\"\",\"\",IF(VLOOKUP(T276,漢字読み!$A$2:$O$502,7,0)=0,\"\",VLOOKUP(T276,漢字読み!$A$2:$O$502,7,0)))","v":{"$error":"#N/A"}},null,null,"和歌山県教育委員会"]
[{"$f":"INDIRECT(\"'関数（書き）'!C\" & COLUMN(B$1)+SUM($AD$2:$AD282))","v":0},{"$f":"INDIRECT(\"'関数（書き）'!C\" & COLUMN(C$1)+SUM($AD$2:$AD282))","v":0},{"$f":"INDIRECT(\"'関数（書き）'!C\" & COLUMN(D$1)+SUM($AD$2:$AD282))","v":0},{"$f":"INDIRECT(\"'関数（書き）'!C\" & COLUMN(E$1)+SUM($AD$2:$AD282))","v":0},{"$f":"INDIRECT(\"'関数（書き）'!C\" & COLUMN(F$1)+SUM($AD$2:$AD282))","v":0},{"$f":"INDIRECT(\"'関数（書き）'!C\" & COLUMN(G$1)+SUM($AD$2:$AD282))","v":0},{"$f":"INDIRECT(\"'関数（書き）'!C\" & COLUMN(H$1)+SUM($AD$2:$AD282))","v":0},{"$f":"INDIRECT(\"'関数（書き）'!C\" & COLUMN(I$1)+SUM($AD$2:$AD282))","v":0},{"$f":"INDIRECT(\"'関数（書き）'!C\" & COLUMN(J$1)+SUM($AD$2:$AD282))","v":0},{"$f":"INDIRECT(\"'関数（書き）'!C\" & COLUMN(K$1)+SUM($AD$2:$AD282))","v":0},{"$f":"INDIRECT(\"'関数（読み）'!C\" & COLUMN(B$1)+SUM($AD$2:$AD282))","v":0},{"$f":"INDIRECT(\"'関数（読み）'!C\" & COLUMN(C$1)+SUM($AD$2:$AD282))","v":0},{"$f":"INDIRECT(\"'関数（読み）'!C\" & COLUMN(D$1)+SUM($AD$2:$AD282))","v":0},{"$f":"INDIRECT(\"'関数（読み）'!C\" & COLUMN(E$1)+SUM($AD$2:$AD282))","v":0},{"$f":"INDIRECT(\"'関数（読み）'!C\" & COLUMN(F$1)+SUM($AD$2:$AD282))","v":0},{"$f":"INDIRECT(\"'関数（読み）'!C\" & COLUMN(G$1)+SUM($AD$2:$AD282))","v":0},{"$f":"INDIRECT(\"'関数（読み）'!C\" & COLUMN(H$1)+SUM($AD$2:$AD282))","v":0},{"$f":"INDIRECT(\"'関数（読み）'!C\" & COLUMN(I$1)+SUM($AD$2:$AD282))","v":0},{"$f":"INDIRECT(\"'関数（読み）'!C\" & COLUMN(J$1)+SUM($AD$2:$AD282))","v":0},{"$f":"INDIRECT(\"'関数（読み）'!C\" & COLUMN(K$1)+SUM($AD$2:$AD282))","v":0}]
["⑳","⑲","⑱","⑰","⑯","⑮","⑭","⑬","⑫","⑪","⑩","⑨","⑧","⑦","⑥","⑤","④","③","②","①","次の［　　　　］の部分の漢字には読みがなをひらがなで書き、カタカナは漢字に直しなさい。",14,"「漢字の博士検定試験」練習問題　",null,null,null,null,null,"←",10,"問",{"$f":"AH267+1","v":281},"～",{"$f":"SUM($AD$2:$AD282)+10","v":290},"問まで",{"$f":"COUNTIF($A$1:$T$200,T283)","v":585}]
[{"$f":"IF(A281=\"\",\"\",VLOOKUP(A281,漢字書き!$A$2:$N$506,6,0))","v":{"$error":"#N/A"}},{"$f":"IF(B281=\"\",\"\",VLOOKUP(B281,漢字書き!$A$2:$N$506,6,0))","v":{"$error":"#N/A"}},{"$f":"IF(C281=\"\",\"\",VLOOKUP(C281,漢字書き!$A$2:$N$506,6,0))","v":{"$error":"#N/A"}},{"$f":"IF(D281=\"\",\"\",VLOOKUP(D281,漢字書き!$A$2:$N$506,6,0))","v":{"$error":"#N/A"}},{"$f":"IF(E281=\"\",\"\",VLOOKUP(E281,漢字書き!$A$2:$N$506,6,0))","v":{"$error":"#N/A"}},{"$f":"IF(F281=\"\",\"\",VLOOKUP(F281,漢字書き!$A$2:$N$506,6,0))","v":{"$error":"#N/A"}},{"$f":"IF(G281=\"\",\"\",VLOOKUP(G281,漢字書き!$A$2:$N$506,6,0))","v":{"$error":"#N/A"}},{"$f":"IF(H281=\"\",\"\",VLOOKUP(H281,漢字書き!$A$2:$N$506,6,0))","v":{"$error":"#N/A"}},{"$f":"IF(I281=\"\",\"\",VLOOKUP(I281,漢字書き!$A$2:$N$506,6,0))","v":{"$error":"#N/A"}},{"$f":"IF(J281=\"\",\"\",VLOOKUP(J281,漢字書き!$A$2:$N$506,6,0))","v":{"$error":"#N/A"}},{"$f":"IF(K281=\"\",\"\",VLOOKUP(K281,漢字読み!$A$2:$O$506,6,0))","v":{"$error":"#N/A"}},{"$f":"IF(L281=\"\",\"\",VLOOKUP(L281,漢字読み!$A$2:$O$506,6,0))","v":{"$error":"#N/A"}},{"$f":"IF(M281=\"\",\"\",VLOOKUP(M281,漢字読み!$A$2:$O$506,6,0))","v":{"$error":"#N/A"}},{"$f":"IF(N281=\"\",\"\",VLOOKUP(N281,漢字読み!$A$2:$O$506,6,0))","v":{"$error":"#N/A"}},{"$f":"IF(O281=\"\",\"\",VLOOKUP(O281,漢字読み!$A$2:$O$506,6,0))","v":{"$error":"#N/A"}},{"$f":"IF(P281=\"\",\"\",VLOOKUP(P281,漢字読み!$A$2:$O$506,6,0))","v":{"$error":"#N/A"}},{"$f":"IF(Q281=\"\",\"\",VLOOKUP(Q281,漢字読み!$A$2:$O$506,6,0))","v":{"$error":"#N/A"}},{"$f":"IF(R281=\"\",\"\",VLOOKUP(R281,漢字読み!$A$2:$O$506,6,0))","v":{"$error":"#N/A"}},{"$f":"IF(S281=\"\",\"\",VLOOKUP(S281,漢字読み!$A$2:$O$506,6,0))","v":{"$error":"#N/A"}},{"$f":"IF(T281=\"\",\"\",VLOOKUP(T281,漢字読み!$A$2:$O$506,6,0))","v":{"$error":"#N/A"}},null,"級"]
[null,null,null,null,null,null,null,null,null,null,null,null,null,null,null,null,null,null,null,null,null,"名前"]
[{"$f":"IF(A281=\"\",\"\",IF(VLOOKUP(A281,漢字書き!$A$2:$N$502,7,0)=0,\"\",VLOOKUP(A281,漢字書き!$A$2:$N$502,7,0)))","v":{"$error":"#N/A"}},{"$f":"IF(B281=\"\",\"\",IF(VLOOKUP(B281,漢字書き!$A$2:$N$502,7,0)=0,\"\",VLOOKUP(B281,漢字書き!$A$2:$N$502,7,0)))","v":{"$error":"#N/A"}},{"$f":"IF(C281=\"\",\"\",IF(VLOOKUP(C281,漢字書き!$A$2:$N$502,7,0)=0,\"\",VLOOKUP(C281,漢字書き!$A$2:$N$502,7,0)))","v":{"$error":"#N/A"}},{"$f":"IF(D281=\"\",\"\",IF(VLOOKUP(D281,漢字書き!$A$2:$N$502,7,0)=0,\"\",VLOOKUP(D281,漢字書き!$A$2:$N$502,7,0)))","v":{"$error":"#N/A"}},{"$f":"IF(E281=\"\",\"\",IF(VLOOKUP(E281,漢字書き!$A$2:$N$502,7,0)=0,\"\",VLOOKUP(E281,漢字書き!$A$2:$N$502,7,0)))","v":{"$error":"#N/A"}},{"$f":"IF(F281=\"\",\"\",IF(VLOOKUP(F281,漢字書き!$A$2:$N$502,7,0)=0,\"\",VLOOKUP(F281,漢字書き!$A$2:$N$502,7,0)))","v":{"$error":"#N/A"}},{"$f":"IF(G281=\"\",\"\",IF(VLOOKUP(G281,漢字書き!$A$2:$N$502,7,0)=0,\"\",VLOOKUP(G281,漢字書き!$A$2:$N$502,7,0)))","v":{"$error":"#N/A"}},{"$f":"IF(H281=\"\",\"\",IF(VLOOKUP(H281,漢字書き!$A$2:$N$502,7,0)=0,\"\",VLOOKUP(H281,漢字書き!$A$2:$N$502,7,0)))","v":{"$error":"#N/A"}},{"$f":"IF(I281=\"\",\"\",IF(VLOOKUP(I281,漢字書き!$A$2:$N$502,7,0)=0,\"\",VLOOKUP(I281,漢字書き!$A$2:$N$502,7,0)))","v":{"$error":"#N/A"}},{"$f":"IF(J281=\"\",\"\",IF(VLOOKUP(J281,漢字書き!$A$2:$N$502,7,0)=0,\"\",VLOOKUP(J281,漢字書き!$A$2:$N$502,7,0)))","v":{"$error":"#N/A"}},{"$f":"IF(K281=\"\",\"\",IF(VLOOKUP(K281,漢字読み!$A$2:$O$502,7,0)=0,\"\",VLOOKUP(K281,漢字読み!$A$2:$O$502,7,0)))","v":{"$error":"#N/A"}},{"$f":"IF(L281=\"\",\"\",IF(VLOOKUP(L281,漢字読み!$A$2:$O$502,7,0)=0,\"\",VLOOKUP(L281,漢字読み!$A$2:$O$502,7,0)))","v":{"$error":"#N/A"}},{"$f":"IF(M281=\"\",\"\",IF(VLOOKUP(M281,漢字読み!$A$2:$O$502,7,0)=0,\"\",VLOOKUP(M281,漢字読み!$A$2:$O$502,7,0)))","v":{"$error":"#N/A"}},{"$f":"IF(N281=\"\",\"\",IF(VLOOKUP(N281,漢字読み!$A$2:$O$502,7,0)=0,\"\",VLOOKUP(N281,漢字読み!$A$2:$O$502,7,0)))","v":{"$error":"#N/A"}},{"$f":"IF(O281=\"\",\"\",IF(VLOOKUP(O281,漢字読み!$A$2:$O$502,7,0)=0,\"\",VLOOKUP(O281,漢字読み!$A$2:$O$502,7,0)))","v":{"$error":"#N/A"}},{"$f":"IF(P281=\"\",\"\",IF(VLOOKUP(P281,漢字読み!$A$2:$O$502,7,0)=0,\"\",VLOOKUP(P281,漢字読み!$A$2:$O$502,7,0)))","v":{"$error":"#N/A"}},{"$f":"IF(Q281=\"\",\"\",IF(VLOOKUP(Q281,漢字読み!$A$2:$O$502,7,0)=0,\"\",VLOOKUP(Q281,漢字読み!$A$2:$O$502,7,0)))","v":{"$error":"#N/A"}},{"$f":"IF(R281=\"\",\"\",IF(VLOOKUP(R281,漢字読み!$A$2:$O$502,7,0)=0,\"\",VLOOKUP(R281,漢字読み!$A$2:$O$502,7,0)))","v":{"$error":"#N/A"}},{"$f":"IF(S281=\"\",\"\",IF(VLOOKUP(S281,漢字読み!$A$2:$O$502,7,0)=0,\"\",VLOOKUP(S281,漢字読み!$A$2:$O$502,7,0)))","v":{"$error":"#N/A"}},{"$f":"IF(T281=\"\",\"\",IF(VLOOKUP(T281,漢字読み!$A$2:$O$502,7,0)=0,\"\",VLOOKUP(T281,漢字読み!$A$2:$O$502,7,0)))","v":{"$error":"#N/A"}},null,null,"和歌山県教育委員会"]
[{"$f":"INDIRECT(\"'関数（書き）'!C\" & COLUMN(B$1)+SUM($AD$2:$AD287))","v":0},{"$f":"INDIRECT(\"'関数（書き）'!C\" & COLUMN(C$1)+SUM($AD$2:$AD287))","v":0},{"$f":"INDIRECT(\"'関数（書き）'!C\" & COLUMN(D$1)+SUM($AD$2:$AD287))","v":0},{"$f":"INDIRECT(\"'関数（書き）'!C\" & COLUMN(E$1)+SUM($AD$2:$AD287))","v":0},{"$f":"INDIRECT(\"'関数（書き）'!C\" & COLUMN(F$1)+SUM($AD$2:$AD287))","v":0},{"$f":"INDIRECT(\"'関数（書き）'!C\" & COLUMN(G$1)+SUM($AD$2:$AD287))","v":0},{"$f":"INDIRECT(\"'関数（書き）'!C\" & COLUMN(H$1)+SUM($AD$2:$AD287))","v":0},{"$f":"INDIRECT(\"'関数（書き）'!C\" & COLUMN(I$1)+SUM($AD$2:$AD287))","v":0},{"$f":"INDIRECT(\"'関数（書き）'!C\" & COLUMN(J$1)+SUM($AD$2:$AD287))","v":0},{"$f":"INDIRECT(\"'関数（書き）'!C\" & COLUMN(K$1)+SUM($AD$2:$AD287))","v":0},{"$f":"INDIRECT(\"'関数（読み）'!C\" & COLUMN(B$1)+SUM($AD$2:$AD287))","v":0},{"$f":"INDIRECT(\"'関数（読み）'!C\" & COLUMN(C$1)+SUM($AD$2:$AD287))","v":0},{"$f":"INDIRECT(\"'関数（読み）'!C\" & COLUMN(D$1)+SUM($AD$2:$AD287))","v":0},{"$f":"INDIRECT(\"'関数（読み）'!C\" & COLUMN(E$1)+SUM($AD$2:$AD287))","v":0},{"$f":"INDIRECT(\"'関数（読み）'!C\" & COLUMN(F$1)+SUM($AD$2:$AD287))","v":0},{"$f":"INDIRECT(\"'関数（読み）'!C\" & COLUMN(G$1)+SUM($AD$2:$AD287))","v":0},{"$f":"INDIRECT(\"'関数（読み）'!C\" & COLUMN(H$1)+SUM($AD$2:$AD287))","v":0},{"$f":"INDIRECT(\"'関数（読み）'!C\" & COLUMN(I$1)+SUM($AD$2:$AD287))","v":0},{"$f":"INDIRECT(\"'関数（読み）'!C\" & COLUMN(J$1)+SUM($AD$2:$AD287))","v":0},{"$f":"INDIRECT(\"'関数（読み）'!C\" & COLUMN(K$1)+SUM($AD$2:$AD287))","v":0}]
["⑳","⑲","⑱","⑰","⑯","⑮","⑭","⑬","⑫","⑪","⑩","⑨","⑧","⑦","⑥","⑤","④","③","②","①","次の［　　　　］の部分の漢字には読みがなをひらがなで書き、カタカナは漢字に直しなさい。",14,"「漢字の博士検定試験」練習問題　",null,null,null,null,null,"←",10,"問",{"$f":"AH282+1","v":291},"～",{"$f":"SUM($AD$2:$AD287)+10","v":300},"問まで",{"$f":"COUNTIF($A$1:$T$200,T288)","v":585}]
[{"$f":"IF(A286=\"\",\"\",VLOOKUP(A286,漢字書き!$A$2:$N$506,6,0))","v":{"$error":"#N/A"}},{"$f":"IF(B286=\"\",\"\",VLOOKUP(B286,漢字書き!$A$2:$N$506,6,0))","v":{"$error":"#N/A"}},{"$f":"IF(C286=\"\",\"\",VLOOKUP(C286,漢字書き!$A$2:$N$506,6,0))","v":{"$error":"#N/A"}},{"$f":"IF(D286=\"\",\"\",VLOOKUP(D286,漢字書き!$A$2:$N$506,6,0))","v":{"$error":"#N/A"}},{"$f":"IF(E286=\"\",\"\",VLOOKUP(E286,漢字書き!$A$2:$N$506,6,0))","v":{"$error":"#N/A"}},{"$f":"IF(F286=\"\",\"\",VLOOKUP(F286,漢字書き!$A$2:$N$506,6,0))","v":{"$error":"#N/A"}},{"$f":"IF(G286=\"\",\"\",VLOOKUP(G286,漢字書き!$A$2:$N$506,6,0))","v":{"$error":"#N/A"}},{"$f":"IF(H286=\"\",\"\",VLOOKUP(H286,漢字書き!$A$2:$N$506,6,0))","v":{"$error":"#N/A"}},{"$f":"IF(I286=\"\",\"\",VLOOKUP(I286,漢字書き!$A$2:$N$506,6,0))","v":{"$error":"#N/A"}},{"$f":"IF(J286=\"\",\"\",VLOOKUP(J286,漢字書き!$A$2:$N$506,6,0))","v":{"$error":"#N/A"}},{"$f":"IF(K286=\"\",\"\",VLOOKUP(K286,漢字読み!$A$2:$O$506,6,0))","v":{"$error":"#N/A"}},{"$f":"IF(L286=\"\",\"\",VLOOKUP(L286,漢字読み!$A$2:$O$506,6,0))","v":{"$error":"#N/A"}},{"$f":"IF(M286=\"\",\"\",VLOOKUP(M286,漢字読み!$A$2:$O$506,6,0))","v":{"$error":"#N/A"}},{"$f":"IF(N286=\"\",\"\",VLOOKUP(N286,漢字読み!$A$2:$O$506,6,0))","v":{"$error":"#N/A"}},{"$f":"IF(O286=\"\",\"\",VLOOKUP(O286,漢字読み!$A$2:$O$506,6,0))","v":{"$error":"#N/A"}},{"$f":"IF(P286=\"\",\"\",VLOOKUP(P286,漢字読み!$A$2:$O$506,6,0))","v":{"$error":"#N/A"}},{"$f":"IF(Q286=\"\",\"\",VLOOKUP(Q286,漢字読み!$A$2:$O$506,6,0))","v":{"$error":"#N/A"}},{"$f":"IF(R286=\"\",\"\",VLOOKUP(R286,漢字読み!$A$2:$O$506,6,0))","v":{"$error":"#N/A"}},{"$f":"IF(S286=\"\",\"\",VLOOKUP(S286,漢字読み!$A$2:$O$506,6,0))","v":{"$error":"#N/A"}},{"$f":"IF(T286=\"\",\"\",VLOOKUP(T286,漢字読み!$A$2:$O$506,6,0))","v":{"$error":"#N/A"}},null,"級"]
[null,null,null,null,null,null,null,null,null,null,null,null,null,null,null,null,null,null,null,null,null,"名前"]
[{"$f":"IF(A286=\"\",\"\",IF(VLOOKUP(A286,漢字書き!$A$2:$N$502,7,0)=0,\"\",VLOOKUP(A286,漢字書き!$A$2:$N$502,7,0)))","v":{"$error":"#N/A"}},{"$f":"IF(B286=\"\",\"\",IF(VLOOKUP(B286,漢字書き!$A$2:$N$502,7,0)=0,\"\",VLOOKUP(B286,漢字書き!$A$2:$N$502,7,0)))","v":{"$error":"#N/A"}},{"$f":"IF(C286=\"\",\"\",IF(VLOOKUP(C286,漢字書き!$A$2:$N$502,7,0)=0,\"\",VLOOKUP(C286,漢字書き!$A$2:$N$502,7,0)))","v":{"$error":"#N/A"}},{"$f":"IF(D286=\"\",\"\",IF(VLOOKUP(D286,漢字書き!$A$2:$N$502,7,0)=0,\"\",VLOOKUP(D286,漢字書き!$A$2:$N$502,7,0)))","v":{"$error":"#N/A"}},{"$f":"IF(E286=\"\",\"\",IF(VLOOKUP(E286,漢字書き!$A$2:$N$502,7,0)=0,\"\",VLOOKUP(E286,漢字書き!$A$2:$N$502,7,0)))","v":{"$error":"#N/A"}},{"$f":"IF(F286=\"\",\"\",IF(VLOOKUP(F286,漢字書き!$A$2:$N$502,7,0)=0,\"\",VLOOKUP(F286,漢字書き!$A$2:$N$502,7,0)))","v":{"$error":"#N/A"}},{"$f":"IF(G286=\"\",\"\",IF(VLOOKUP(G286,漢字書き!$A$2:$N$502,7,0)=0,\"\",VLOOKUP(G286,漢字書き!$A$2:$N$502,7,0)))","v":{"$error":"#N/A"}},{"$f":"IF(H286=\"\",\"\",IF(VLOOKUP(H286,漢字書き!$A$2:$N$502,7,0)=0,\"\",VLOOKUP(H286,漢字書き!$A$2:$N$502,7,0)))","v":{"$error":"#N/A"}},{"$f":"IF(I286=\"\",\"\",IF(VLOOKUP(I286,漢字書き!$A$2:$N$502,7,0)=0,\"\",VLOOKUP(I286,漢字書き!$A$2:$N$502,7,0)))","v":{"$error":"#N/A"}},{"$f":"IF(J286=\"\",\"\",IF(VLOOKUP(J286,漢字書き!$A$2:$N$502,7,0)=0,\"\",VLOOKUP(J286,漢字書き!$A$2:$N$502,7,0)))","v":{"$error":"#N/A"}},{"$f":"IF(K286=\"\",\"\",IF(VLOOKUP(K286,漢字読み!$A$2:$O$502,7,0)=0,\"\",VLOOKUP(K286,漢字読み!$A$2:$O$502,7,0)))","v":{"$error":"#N/A"}},{"$f":"IF(L286=\"\",\"\",IF(VLOOKUP(L286,漢字読み!$A$2:$O$502,7,0)=0,\"\",VLOOKUP(L286,漢字読み!$A$2:$O$502,7,0)))","v":{"$error":"#N/A"}},{"$f":"IF(M286=\"\",\"\",IF(VLOOKUP(M286,漢字読み!$A$2:$O$502,7,0)=0,\"\",VLOOKUP(M286,漢字読み!$A$2:$O$502,7,0)))","v":{"$error":"#N/A"}},{"$f":"IF(N286=\"\",\"\",IF(VLOOKUP(N286,漢字読み!$A$2:$O$502,7,0)=0,\"\",VLOOKUP(N286,漢字読み!$A$2:$O$502,7,0)))","v":{"$error":"#N/A"}},{"$f":"IF(O286=\"\",\"\",IF(VLOOKUP(O286,漢字読み!$A$2:$O$502,7,0)=0,\"\",VLOOKUP(O286,漢字読み!$A$2:$O$502,7,0)))","v":{"$error":"#N/A"}},{"$f":"IF(P286=\"\",\"\",IF(VLOOKUP(P286,漢字読み!$A$2:$O$502,7,0)=0,\"\",VLOOKUP(P286,漢字読み!$A$2:$O$502,7,0)))","v":{"$error":"#N/A"}},{"$f":"IF(Q286=\"\",\"\",IF(VLOOKUP(Q286,漢字読み!$A$2:$O$502,7,0)=0,\"\",VLOOKUP(Q286,漢字読み!$A$2:$O$502,7,0)))","v":{"$error":"#N/A"}},{"$f":"IF(R286=\"\",\"\",IF(VLOOKUP(R286,漢字読み!$A$2:$O$502,7,0)=0,\"\",VLOOKUP(R286,漢字読み!$A$2:$O$502,7,0)))","v":{"$error":"#N/A"}},{"$f":"IF(S286=\"\",\"\",IF(VLOOKUP(S286,漢字読み!$A$2:$O$502,7,0)=0,\"\",VLOOKUP(S286,漢字読み!$A$2:$O$502,7,0)))","v":{"$error":"#N/A"}},{"$f":"IF(T286=\"\",\"\",IF(VLOOKUP(T286,漢字読み!$A$2:$O$502,7,0)=0,\"\",VLOOKUP(T286,漢字読み!$A$2:$O$502,7,0)))","v":{"$error":"#N/A"}},null,null,"和歌山県教育委員会"]
[{"$f":"A281","v":0},{"$f":"B281","v":0},{"$f":"C281","v":0},{"$f":"D281","v":0},{"$f":"E281","v":0},{"$f":"F281","v":0},{"$f":"G281","v":0},{"$f":"H281","v":0},{"$f":"I281","v":0},{"$f":"J281","v":0},{"$f":"K281","v":0},{"$f":"L281","v":0},{"$f":"M281","v":0},{"$f":"N281","v":0},{"$f":"O281","v":0},{"$f":"P281","v":0},{"$f":"Q281","v":0},{"$f":"R281","v":0},{"$f":"S281","v":0},{"$f":"T281","v":0}]
["⑳","⑲","⑱","⑰","⑯","⑮","⑭","⑬","⑫","⑪","⑩","⑨","⑧","⑦","⑥","⑤","④","③","②","①","次の［　　　　］の部分の漢字には読みがなをひらがなで書き、カタカナは漢字に直しなさい。",14,"「漢字の博士検定試験」練習問題　"]
[{"$f":"IF(A291=\"\",\"\",VLOOKUP(A291,漢字書き!$A$2:$N$506,6,0))","v":{"$error":"#N/A"}},{"$f":"IF(B291=\"\",\"\",VLOOKUP(B291,漢字書き!$A$2:$N$506,6,0))","v":{"$error":"#N/A"}},{"$f":"IF(C291=\"\",\"\",VLOOKUP(C291,漢字書き!$A$2:$N$506,6,0))","v":{"$error":"#N/A"}},{"$f":"IF(D291=\"\",\"\",VLOOKUP(D291,漢字書き!$A$2:$N$506,6,0))","v":{"$error":"#N/A"}},{"$f":"IF(E291=\"\",\"\",VLOOKUP(E291,漢字書き!$A$2:$N$506,6,0))","v":{"$error":"#N/A"}},{"$f":"IF(F291=\"\",\"\",VLOOKUP(F291,漢字書き!$A$2:$N$506,6,0))","v":{"$error":"#N/A"}},{"$f":"IF(G291=\"\",\"\",VLOOKUP(G291,漢字書き!$A$2:$N$506,6,0))","v":{"$error":"#N/A"}},{"$f":"IF(H291=\"\",\"\",VLOOKUP(H291,漢字書き!$A$2:$N$506,6,0))","v":{"$error":"#N/A"}},{"$f":"IF(I291=\"\",\"\",VLOOKUP(I291,漢字書き!$A$2:$N$506,6,0))","v":{"$error":"#N/A"}},{"$f":"IF(J291=\"\",\"\",VLOOKUP(J291,漢字書き!$A$2:$N$506,6,0))","v":{"$error":"#N/A"}},{"$f":"IF(K291=\"\",\"\",VLOOKUP(K291,漢字読み!$A$2:$O$506,6,0))","v":{"$error":"#N/A"}},{"$f":"IF(L291=\"\",\"\",VLOOKUP(L291,漢字読み!$A$2:$O$506,6,0))","v":{"$error":"#N/A"}},{"$f":"IF(M291=\"\",\"\",VLOOKUP(M291,漢字読み!$A$2:$O$506,6,0))","v":{"$error":"#N/A"}},{"$f":"IF(N291=\"\",\"\",VLOOKUP(N291,漢字読み!$A$2:$O$506,6,0))","v":{"$error":"#N/A"}},{"$f":"IF(O291=\"\",\"\",VLOOKUP(O291,漢字読み!$A$2:$O$506,6,0))","v":{"$error":"#N/A"}},{"$f":"IF(P291=\"\",\"\",VLOOKUP(P291,漢字読み!$A$2:$O$506,6,0))","v":{"$error":"#N/A"}},{"$f":"IF(Q291=\"\",\"\",VLOOKUP(Q291,漢字読み!$A$2:$O$506,6,0))","v":{"$error":"#N/A"}},{"$f":"IF(R291=\"\",\"\",VLOOKUP(R291,漢字読み!$A$2:$O$506,6,0))","v":{"$error":"#N/A"}},{"$f":"IF(S291=\"\",\"\",VLOOKUP(S291,漢字読み!$A$2:$O$506,6,0))","v":{"$error":"#N/A"}},{"$f":"IF(T291=\"\",\"\",VLOOKUP(T291,漢字読み!$A$2:$O$506,6,0))","v":{"$error":"#N/A"}},null,"級"]
[{"$f":"IF(A$11=\"\",\"\",VLOOKUP(A291,漢字書き!$A$2:$O$506,8,0))","v":{"$error":"#N/A"}},{"$f":"IF(B$11=\"\",\"\",VLOOKUP(B291,漢字書き!$A$2:$O$506,8,0))","v":{"$error":"#N/A"}},{"$f":"IF(C$11=\"\",\"\",VLOOKUP(C291,漢字書き!$A$2:$O$506,8,0))","v":{"$error":"#N/A"}},{"$f":"IF(D$11=\"\",\"\",VLOOKUP(D291,漢字書き!$A$2:$O$506,8,0))","v":{"$error":"#N/A"}},{"$f":"IF(E$11=\"\",\"\",VLOOKUP(E291,漢字書き!$A$2:$O$506,8,0))","v":{"$error":"#N/A"}},{"$f":"IF(F$11=\"\",\"\",VLOOKUP(F291,漢字書き!$A$2:$O$506,8,0))","v":{"$error":"#N/A"}},{"$f":"IF(G$11=\"\",\"\",VLOOKUP(G291,漢字書き!$A$2:$O$506,8,0))","v":{"$error":"#N/A"}},{"$f":"IF(H$11=\"\",\"\",VLOOKUP(H291,漢字書き!$A$2:$O$506,8,0))","v":{"$error":"#N/A"}},{"$f":"IF(I$11=\"\",\"\",VLOOKUP(I291,漢字書き!$A$2:$O$506,8,0))","v":{"$error":"#N/A"}},{"$f":"IF(J$11=\"\",\"\",VLOOKUP(J291,漢字書き!$A$2:$O$506,8,0))","v":{"$error":"#N/A"}},{"$f":"IF(K$11=\"\",\"\",VLOOKUP(K291,漢字読み!$A$2:$O$506,8,0))","v":{"$error":"#N/A"}},{"$f":"IF(L$11=\"\",\"\",VLOOKUP(L291,漢字読み!$A$2:$O$506,8,0))","v":{"$error":"#N/A"}},{"$f":"IF(M$11=\"\",\"\",VLOOKUP(M291,漢字読み!$A$2:$O$506,8,0))","v":{"$error":"#N/A"}},{"$f":"IF(N$11=\"\",\"\",VLOOKUP(N291,漢字読み!$A$2:$O$506,8,0))","v":{"$error":"#N/A"}},{"$f":"IF(O$11=\"\",\"\",VLOOKUP(O291,漢字読み!$A$2:$O$506,8,0))","v":{"$error":"#N/A"}},{"$f":"IF(P$11=\"\",\"\",VLOOKUP(P291,漢字読み!$A$2:$O$506,8,0))","v":{"$error":"#N/A"}},{"$f":"IF(Q$11=\"\",\"\",VLOOKUP(Q291,漢字読み!$A$2:$O$506,8,0))","v":{"$error":"#N/A"}},{"$f":"IF(R$11=\"\",\"\",VLOOKUP(R291,漢字読み!$A$2:$O$506,8,0))","v":{"$error":"#N/A"}},{"$f":"IF(S$11=\"\",\"\",VLOOKUP(S291,漢字読み!$A$2:$O$506,8,0))","v":{"$error":"#N/A"}},{"$f":"IF(T$11=\"\",\"\",VLOOKUP(T291,漢字読み!$A$2:$O$506,8,0))","v":{"$error":"#N/A"}},null,"名前"]
[{"$f":"IF(A291=\"\",\"\",IF(VLOOKUP(A291,漢字書き!$A$2:$N$502,7,0)=0,\"\",VLOOKUP(A291,漢字書き!$A$2:$N$502,7,0)))","v":{"$error":"#N/A"}},{"$f":"IF(B291=\"\",\"\",IF(VLOOKUP(B291,漢字書き!$A$2:$N$502,7,0)=0,\"\",VLOOKUP(B291,漢字書き!$A$2:$N$502,7,0)))","v":{"$error":"#N/A"}},{"$f":"IF(C291=\"\",\"\",IF(VLOOKUP(C291,漢字書き!$A$2:$N$502,7,0)=0,\"\",VLOOKUP(C291,漢字書き!$A$2:$N$502,7,0)))","v":{"$error":"#N/A"}},{"$f":"IF(D291=\"\",\"\",IF(VLOOKUP(D291,漢字書き!$A$2:$N$502,7,0)=0,\"\",VLOOKUP(D291,漢字書き!$A$2:$N$502,7,0)))","v":{"$error":"#N/A"}},{"$f":"IF(E291=\"\",\"\",IF(VLOOKUP(E291,漢字書き!$A$2:$N$502,7,0)=0,\"\",VLOOKUP(E291,漢字書き!$A$2:$N$502,7,0)))","v":{"$error":"#N/A"}},{"$f":"IF(F291=\"\",\"\",IF(VLOOKUP(F291,漢字書き!$A$2:$N$502,7,0)=0,\"\",VLOOKUP(F291,漢字書き!$A$2:$N$502,7,0)))","v":{"$error":"#N/A"}},{"$f":"IF(G291=\"\",\"\",IF(VLOOKUP(G291,漢字書き!$A$2:$N$502,7,0)=0,\"\",VLOOKUP(G291,漢字書き!$A$2:$N$502,7,0)))","v":{"$error":"#N/A"}},{"$f":"IF(H291=\"\",\"\",IF(VLOOKUP(H291,漢字書き!$A$2:$N$502,7,0)=0,\"\",VLOOKUP(H291,漢字書き!$A$2:$N$502,7,0)))","v":{"$error":"#N/A"}},{"$f":"IF(I291=\"\",\"\",IF(VLOOKUP(I291,漢字書き!$A$2:$N$502,7,0)=0,\"\",VLOOKUP(I291,漢字書き!$A$2:$N$502,7,0)))","v":{"$error":"#N/A"}},{"$f":"IF(J291=\"\",\"\",IF(VLOOKUP(J291,漢字書き!$A$2:$N$502,7,0)=0,\"\",VLOOKUP(J291,漢字書き!$A$2:$N$502,7,0)))","v":{"$error":"#N/A"}},{"$f":"IF(K291=\"\",\"\",IF(VLOOKUP(K291,漢字読み!$A$2:$O$502,7,0)=0,\"\",VLOOKUP(K291,漢字読み!$A$2:$O$502,7,0)))","v":{"$error":"#N/A"}},{"$f":"IF(L291=\"\",\"\",IF(VLOOKUP(L291,漢字読み!$A$2:$O$502,7,0)=0,\"\",VLOOKUP(L291,漢字読み!$A$2:$O$502,7,0)))","v":{"$error":"#N/A"}},{"$f":"IF(M291=\"\",\"\",IF(VLOOKUP(M291,漢字読み!$A$2:$O$502,7,0)=0,\"\",VLOOKUP(M291,漢字読み!$A$2:$O$502,7,0)))","v":{"$error":"#N/A"}},{"$f":"IF(N291=\"\",\"\",IF(VLOOKUP(N291,漢字読み!$A$2:$O$502,7,0)=0,\"\",VLOOKUP(N291,漢字読み!$A$2:$O$502,7,0)))","v":{"$error":"#N/A"}},{"$f":"IF(O291=\"\",\"\",IF(VLOOKUP(O291,漢字読み!$A$2:$O$502,7,0)=0,\"\",VLOOKUP(O291,漢字読み!$A$2:$O$502,7,0)))","v":{"$error":"#N/A"}},{"$f":"IF(P291=\"\",\"\",IF(VLOOKUP(P291,漢字読み!$A$2:$O$502,7,0)=0,\"\",VLOOKUP(P291,漢字読み!$A$2:$O$502,7,0)))","v":{"$error":"#N/A"}},{"$f":"IF(Q291=\"\",\"\",IF(VLOOKUP(Q291,漢字読み!$A$2:$O$502,7,0)=0,\"\",VLOOKUP(Q291,漢字読み!$A$2:$O$502,7,0)))","v":{"$error":"#N/A"}},{"$f":"IF(R291=\"\",\"\",IF(VLOOKUP(R291,漢字読み!$A$2:$O$502,7,0)=0,\"\",VLOOKUP(R291,漢字読み!$A$2:$O$502,7,0)))","v":{"$error":"#N/A"}},{"$f":"IF(S291=\"\",\"\",IF(VLOOKUP(S291,漢字読み!$A$2:$O$502,7,0)=0,\"\",VLOOKUP(S291,漢字読み!$A$2:$O$502,7,0)))","v":{"$error":"#N/A"}},{"$f":"IF(T291=\"\",\"\",IF(VLOOKUP(T291,漢字読み!$A$2:$O$502,7,0)=0,\"\",VLOOKUP(T291,漢字読み!$A$2:$O$502,7,0)))","v":{"$error":"#N/A"}},null,null,"和歌山県教育委員会"]
[{"$f":"A286","v":0},{"$f":"B286","v":0},{"$f":"C286","v":0},{"$f":"D286","v":0},{"$f":"E286","v":0},{"$f":"F286","v":0},{"$f":"G286","v":0},{"$f":"H286","v":0},{"$f":"I286","v":0},{"$f":"J286","v":0},{"$f":"K286","v":0},{"$f":"L286","v":0},{"$f":"M286","v":0},{"$f":"N286","v":0},{"$f":"O286","v":0},{"$f":"P286","v":0},{"$f":"Q286","v":0},{"$f":"R286","v":0},{"$f":"S286","v":0},{"$f":"T286","v":0}]
["⑳","⑲","⑱","⑰","⑯","⑮","⑭","⑬","⑫","⑪","⑩","⑨","⑧","⑦","⑥","⑤","④","③","②","①","次の［　　　　］の部分の漢字には読みがなをひらがなで書き、カタカナは漢字に直しなさい。",14,"「漢字の博士検定試験」練習問題　"]
[{"$f":"IF(A296=\"\",\"\",VLOOKUP(A296,漢字書き!$A$2:$N$506,6,0))","v":{"$error":"#N/A"}},{"$f":"IF(B296=\"\",\"\",VLOOKUP(B296,漢字書き!$A$2:$N$506,6,0))","v":{"$error":"#N/A"}},{"$f":"IF(C296=\"\",\"\",VLOOKUP(C296,漢字書き!$A$2:$N$506,6,0))","v":{"$error":"#N/A"}},{"$f":"IF(D296=\"\",\"\",VLOOKUP(D296,漢字書き!$A$2:$N$506,6,0))","v":{"$error":"#N/A"}},{"$f":"IF(E296=\"\",\"\",VLOOKUP(E296,漢字書き!$A$2:$N$506,6,0))","v":{"$error":"#N/A"}},{"$f":"IF(F296=\"\",\"\",VLOOKUP(F296,漢字書き!$A$2:$N$506,6,0))","v":{"$error":"#N/A"}},{"$f":"IF(G296=\"\",\"\",VLOOKUP(G296,漢字書き!$A$2:$N$506,6,0))","v":{"$error":"#N/A"}},{"$f":"IF(H296=\"\",\"\",VLOOKUP(H296,漢字書き!$A$2:$N$506,6,0))","v":{"$error":"#N/A"}},{"$f":"IF(I296=\"\",\"\",VLOOKUP(I296,漢字書き!$A$2:$N$506,6,0))","v":{"$error":"#N/A"}},{"$f":"IF(J296=\"\",\"\",VLOOKUP(J296,漢字書き!$A$2:$N$506,6,0))","v":{"$error":"#N/A"}},{"$f":"IF(K296=\"\",\"\",VLOOKUP(K296,漢字読み!$A$2:$O$506,6,0))","v":{"$error":"#N/A"}},{"$f":"IF(L296=\"\",\"\",VLOOKUP(L296,漢字読み!$A$2:$O$506,6,0))","v":{"$error":"#N/A"}},{"$f":"IF(M296=\"\",\"\",VLOOKUP(M296,漢字読み!$A$2:$O$506,6,0))","v":{"$error":"#N/A"}},{"$f":"IF(N296=\"\",\"\",VLOOKUP(N296,漢字読み!$A$2:$O$506,6,0))","v":{"$error":"#N/A"}},{"$f":"IF(O296=\"\",\"\",VLOOKUP(O296,漢字読み!$A$2:$O$506,6,0))","v":{"$error":"#N/A"}},{"$f":"IF(P296=\"\",\"\",VLOOKUP(P296,漢字読み!$A$2:$O$506,6,0))","v":{"$error":"#N/A"}},{"$f":"IF(Q296=\"\",\"\",VLOOKUP(Q296,漢字読み!$A$2:$O$506,6,0))","v":{"$error":"#N/A"}},{"$f":"IF(R296=\"\",\"\",VLOOKUP(R296,漢字読み!$A$2:$O$506,6,0))","v":{"$error":"#N/A"}},{"$f":"IF(S296=\"\",\"\",VLOOKUP(S296,漢字読み!$A$2:$O$506,6,0))","v":{"$error":"#N/A"}},{"$f":"IF(T296=\"\",\"\",VLOOKUP(T296,漢字読み!$A$2:$O$506,6,0))","v":{"$error":"#N/A"}},null,"級"]
[{"$f":"IF(A$16=\"\",\"\",VLOOKUP(A296,漢字書き!$A$2:$O$506,8,0))","v":{"$error":"#N/A"}},{"$f":"IF(B$16=\"\",\"\",VLOOKUP(B296,漢字書き!$A$2:$O$506,8,0))","v":{"$error":"#N/A"}},{"$f":"IF(C$16=\"\",\"\",VLOOKUP(C296,漢字書き!$A$2:$O$506,8,0))","v":{"$error":"#N/A"}},{"$f":"IF(D$16=\"\",\"\",VLOOKUP(D296,漢字書き!$A$2:$O$506,8,0))","v":{"$error":"#N/A"}},{"$f":"IF(E$16=\"\",\"\",VLOOKUP(E296,漢字書き!$A$2:$O$506,8,0))","v":{"$error":"#N/A"}},{"$f":"IF(F$16=\"\",\"\",VLOOKUP(F296,漢字書き!$A$2:$O$506,8,0))","v":{"$error":"#N/A"}},{"$f":"IF(G$16=\"\",\"\",VLOOKUP(G296,漢字書き!$A$2:$O$506,8,0))","v":{"$error":"#N/A"}},{"$f":"IF(H$16=\"\",\"\",VLOOKUP(H296,漢字書き!$A$2:$O$506,8,0))","v":{"$error":"#N/A"}},{"$f":"IF(I$16=\"\",\"\",VLOOKUP(I296,漢字書き!$A$2:$O$506,8,0))","v":{"$error":"#N/A"}},{"$f":"IF(J$16=\"\",\"\",VLOOKUP(J296,漢字書き!$A$2:$O$506,8,0))","v":{"$error":"#N/A"}},{"$f":"IF(K$16=\"\",\"\",VLOOKUP(K296,漢字読み!$A$2:$O$506,8,0))","v":{"$error":"#N/A"}},{"$f":"IF(L$16=\"\",\"\",VLOOKUP(L296,漢字読み!$A$2:$O$506,8,0))","v":{"$error":"#N/A"}},{"$f":"IF(M$16=\"\",\"\",VLOOKUP(M296,漢字読み!$A$2:$O$506,8,0))","v":{"$error":"#N/A"}},{"$f":"IF(N$16=\"\",\"\",VLOOKUP(N296,漢字読み!$A$2:$O$506,8,0))","v":{"$error":"#N/A"}},{"$f":"IF(O$16=\"\",\"\",VLOOKUP(O296,漢字読み!$A$2:$O$506,8,0))","v":{"$error":"#N/A"}},{"$f":"IF(P$16=\"\",\"\",VLOOKUP(P296,漢字読み!$A$2:$O$506,8,0))","v":{"$error":"#N/A"}},{"$f":"IF(Q$16=\"\",\"\",VLOOKUP(Q296,漢字読み!$A$2:$O$506,8,0))","v":{"$error":"#N/A"}},{"$f":"IF(R$16=\"\",\"\",VLOOKUP(R296,漢字読み!$A$2:$O$506,8,0))","v":{"$error":"#N/A"}},{"$f":"IF(S$16=\"\",\"\",VLOOKUP(S296,漢字読み!$A$2:$O$506,8,0))","v":{"$error":"#N/A"}},{"$f":"IF(T$16=\"\",\"\",VLOOKUP(T296,漢字読み!$A$2:$O$506,8,0))","v":{"$error":"#N/A"}},null,"名前"]
[{"$f":"IF(A296=\"\",\"\",IF(VLOOKUP(A296,漢字書き!$A$2:$N$502,7,0)=0,\"\",VLOOKUP(A296,漢字書き!$A$2:$N$502,7,0)))","v":{"$error":"#N/A"}},{"$f":"IF(B296=\"\",\"\",IF(VLOOKUP(B296,漢字書き!$A$2:$N$502,7,0)=0,\"\",VLOOKUP(B296,漢字書き!$A$2:$N$502,7,0)))","v":{"$error":"#N/A"}},{"$f":"IF(C296=\"\",\"\",IF(VLOOKUP(C296,漢字書き!$A$2:$N$502,7,0)=0,\"\",VLOOKUP(C296,漢字書き!$A$2:$N$502,7,0)))","v":{"$error":"#N/A"}},{"$f":"IF(D296=\"\",\"\",IF(VLOOKUP(D296,漢字書き!$A$2:$N$502,7,0)=0,\"\",VLOOKUP(D296,漢字書き!$A$2:$N$502,7,0)))","v":{"$error":"#N/A"}},{"$f":"IF(E296=\"\",\"\",IF(VLOOKUP(E296,漢字書き!$A$2:$N$502,7,0)=0,\"\",VLOOKUP(E296,漢字書き!$A$2:$N$502,7,0)))","v":{"$error":"#N/A"}},{"$f":"IF(F296=\"\",\"\",IF(VLOOKUP(F296,漢字書き!$A$2:$N$502,7,0)=0,\"\",VLOOKUP(F296,漢字書き!$A$2:$N$502,7,0)))","v":{"$error":"#N/A"}},{"$f":"IF(G296=\"\",\"\",IF(VLOOKUP(G296,漢字書き!$A$2:$N$502,7,0)=0,\"\",VLOOKUP(G296,漢字書き!$A$2:$N$502,7,0)))","v":{"$error":"#N/A"}},{"$f":"IF(H296=\"\",\"\",IF(VLOOKUP(H296,漢字書き!$A$2:$N$502,7,0)=0,\"\",VLOOKUP(H296,漢字書き!$A$2:$N$502,7,0)))","v":{"$error":"#N/A"}},{"$f":"IF(I296=\"\",\"\",IF(VLOOKUP(I296,漢字書き!$A$2:$N$502,7,0)=0,\"\",VLOOKUP(I296,漢字書き!$A$2:$N$502,7,0)))","v":{"$error":"#N/A"}},{"$f":"IF(J296=\"\",\"\",IF(VLOOKUP(J296,漢字書き!$A$2:$N$502,7,0)=0,\"\",VLOOKUP(J296,漢字書き!$A$2:$N$502,7,0)))","v":{"$error":"#N/A"}},{"$f":"IF(K296=\"\",\"\",IF(VLOOKUP(K296,漢字読み!$A$2:$O$502,7,0)=0,\"\",VLOOKUP(K296,漢字読み!$A$2:$O$502,7,0)))","v":{"$error":"#N/A"}},{"$f":"IF(L296=\"\",\"\",IF(VLOOKUP(L296,漢字読み!$A$2:$O$502,7,0)=0,\"\",VLOOKUP(L296,漢字読み!$A$2:$O$502,7,0)))","v":{"$error":"#N/A"}},{"$f":"IF(M296=\"\",\"\",IF(VLOOKUP(M296,漢字読み!$A$2:$O$502,7,0)=0,\"\",VLOOKUP(M296,漢字読み!$A$2:$O$502,7,0)))","v":{"$error":"#N/A"}},{"$f":"IF(N296=\"\",\"\",IF(VLOOKUP(N296,漢字読み!$A$2:$O$502,7,0)=0,\"\",VLOOKUP(N296,漢字読み!$A$2:$O$502,7,0)))","v":{"$error":"#N/A"}},{"$f":"IF(O296=\"\",\"\",IF(VLOOKUP(O296,漢字読み!$A$2:$O$502,7,0)=0,\"\",VLOOKUP(O296,漢字読み!$A$2:$O$502,7,0)))","v":{"$error":"#N/A"}},{"$f":"IF(P296=\"\",\"\",IF(VLOOKUP(P296,漢字読み!$A$2:$O$502,7,0)=0,\"\",VLOOKUP(P296,漢字読み!$A$2:$O$502,7,0)))","v":{"$error":"#N/A"}},{"$f":"IF(Q296=\"\",\"\",IF(VLOOKUP(Q296,漢字読み!$A$2:$O$502,7,0)=0,\"\",VLOOKUP(Q296,漢字読み!$A$2:$O$502,7,0)))","v":{"$error":"#N/A"}},{"$f":"IF(R296=\"\",\"\",IF(VLOOKUP(R296,漢字読み!$A$2:$O$502,7,0)=0,\"\",VLOOKUP(R296,漢字読み!$A$2:$O$502,7,0)))","v":{"$error":"#N/A"}},{"$f":"IF(S296=\"\",\"\",IF(VLOOKUP(S296,漢字読み!$A$2:$O$502,7,0)=0,\"\",VLOOKUP(S296,漢字読み!$A$2:$O$502,7,0)))","v":{"$error":"#N/A"}},{"$f":"IF(T296=\"\",\"\",IF(VLOOKUP(T296,漢字読み!$A$2:$O$502,7,0)=0,\"\",VLOOKUP(T296,漢字読み!$A$2:$O$502,7,0)))","v":{"$error":"#N/A"}},null,null,"和歌山県教育委員会"]
[{"$f":"INDIRECT(\"'関数（書き）'!C\" & COLUMN(B$1)+SUM($AD$2:$AD302))","v":0},{"$f":"INDIRECT(\"'関数（書き）'!C\" & COLUMN(C$1)+SUM($AD$2:$AD302))","v":0},{"$f":"INDIRECT(\"'関数（書き）'!C\" & COLUMN(D$1)+SUM($AD$2:$AD302))","v":0},{"$f":"INDIRECT(\"'関数（書き）'!C\" & COLUMN(E$1)+SUM($AD$2:$AD302))","v":0},{"$f":"INDIRECT(\"'関数（書き）'!C\" & COLUMN(F$1)+SUM($AD$2:$AD302))","v":0},{"$f":"INDIRECT(\"'関数（書き）'!C\" & COLUMN(G$1)+SUM($AD$2:$AD302))","v":0},{"$f":"INDIRECT(\"'関数（書き）'!C\" & COLUMN(H$1)+SUM($AD$2:$AD302))","v":0},{"$f":"INDIRECT(\"'関数（書き）'!C\" & COLUMN(I$1)+SUM($AD$2:$AD302))","v":0},{"$f":"INDIRECT(\"'関数（書き）'!C\" & COLUMN(J$1)+SUM($AD$2:$AD302))","v":0},{"$f":"INDIRECT(\"'関数（書き）'!C\" & COLUMN(K$1)+SUM($AD$2:$AD302))","v":0},{"$f":"INDIRECT(\"'関数（読み）'!C\" & COLUMN(B$1)+SUM($AD$2:$AD302))","v":0},{"$f":"INDIRECT(\"'関数（読み）'!C\" & COLUMN(C$1)+SUM($AD$2:$AD302))","v":0},{"$f":"INDIRECT(\"'関数（読み）'!C\" & COLUMN(D$1)+SUM($AD$2:$AD302))","v":0},{"$f":"INDIRECT(\"'関数（読み）'!C\" & COLUMN(E$1)+SUM($AD$2:$AD302))","v":0},{"$f":"INDIRECT(\"'関数（読み）'!C\" & COLUMN(F$1)+SUM($AD$2:$AD302))","v":0},{"$f":"INDIRECT(\"'関数（読み）'!C\" & COLUMN(G$1)+SUM($AD$2:$AD302))","v":0},{"$f":"INDIRECT(\"'関数（読み）'!C\" & COLUMN(H$1)+SUM($AD$2:$AD302))","v":0},{"$f":"INDIRECT(\"'関数（読み）'!C\" & COLUMN(I$1)+SUM($AD$2:$AD302))","v":0},{"$f":"INDIRECT(\"'関数（読み）'!C\" & COLUMN(J$1)+SUM($AD$2:$AD302))","v":0},{"$f":"INDIRECT(\"'関数（読み）'!C\" & COLUMN(K$1)+SUM($AD$2:$AD302))","v":0}]
["⑳","⑲","⑱","⑰","⑯","⑮","⑭","⑬","⑫","⑪","⑩","⑨","⑧","⑦","⑥","⑤","④","③","②","①","次の［　　　　］の部分の漢字には読みがなをひらがなで書き、カタカナは漢字に直しなさい。",14,"「漢字の博士検定試験」練習問題　",null,null,null,null,null,"←",10,"問",{"$f":"AH287+1","v":301},"～",{"$f":"SUM($AD$2:$AD302)+10","v":310},"問まで",{"$f":"COUNTIF($A$1:$T$200,T303)","v":585}]
[{"$f":"IF(A301=\"\",\"\",VLOOKUP(A301,漢字書き!$A$2:$N$506,6,0))","v":{"$error":"#N/A"}},{"$f":"IF(B301=\"\",\"\",VLOOKUP(B301,漢字書き!$A$2:$N$506,6,0))","v":{"$error":"#N/A"}},{"$f":"IF(C301=\"\",\"\",VLOOKUP(C301,漢字書き!$A$2:$N$506,6,0))","v":{"$error":"#N/A"}},{"$f":"IF(D301=\"\",\"\",VLOOKUP(D301,漢字書き!$A$2:$N$506,6,0))","v":{"$error":"#N/A"}},{"$f":"IF(E301=\"\",\"\",VLOOKUP(E301,漢字書き!$A$2:$N$506,6,0))","v":{"$error":"#N/A"}},{"$f":"IF(F301=\"\",\"\",VLOOKUP(F301,漢字書き!$A$2:$N$506,6,0))","v":{"$error":"#N/A"}},{"$f":"IF(G301=\"\",\"\",VLOOKUP(G301,漢字書き!$A$2:$N$506,6,0))","v":{"$error":"#N/A"}},{"$f":"IF(H301=\"\",\"\",VLOOKUP(H301,漢字書き!$A$2:$N$506,6,0))","v":{"$error":"#N/A"}},{"$f":"IF(I301=\"\",\"\",VLOOKUP(I301,漢字書き!$A$2:$N$506,6,0))","v":{"$error":"#N/A"}},{"$f":"IF(J301=\"\",\"\",VLOOKUP(J301,漢字書き!$A$2:$N$506,6,0))","v":{"$error":"#N/A"}},{"$f":"IF(K301=\"\",\"\",VLOOKUP(K301,漢字読み!$A$2:$O$506,6,0))","v":{"$error":"#N/A"}},{"$f":"IF(L301=\"\",\"\",VLOOKUP(L301,漢字読み!$A$2:$O$506,6,0))","v":{"$error":"#N/A"}},{"$f":"IF(M301=\"\",\"\",VLOOKUP(M301,漢字読み!$A$2:$O$506,6,0))","v":{"$error":"#N/A"}},{"$f":"IF(N301=\"\",\"\",VLOOKUP(N301,漢字読み!$A$2:$O$506,6,0))","v":{"$error":"#N/A"}},{"$f":"IF(O301=\"\",\"\",VLOOKUP(O301,漢字読み!$A$2:$O$506,6,0))","v":{"$error":"#N/A"}},{"$f":"IF(P301=\"\",\"\",VLOOKUP(P301,漢字読み!$A$2:$O$506,6,0))","v":{"$error":"#N/A"}},{"$f":"IF(Q301=\"\",\"\",VLOOKUP(Q301,漢字読み!$A$2:$O$506,6,0))","v":{"$error":"#N/A"}},{"$f":"IF(R301=\"\",\"\",VLOOKUP(R301,漢字読み!$A$2:$O$506,6,0))","v":{"$error":"#N/A"}},{"$f":"IF(S301=\"\",\"\",VLOOKUP(S301,漢字読み!$A$2:$O$506,6,0))","v":{"$error":"#N/A"}},{"$f":"IF(T301=\"\",\"\",VLOOKUP(T301,漢字読み!$A$2:$O$506,6,0))","v":{"$error":"#N/A"}},null,"級"]
[null,null,null,null,null,null,null,null,null,null,null,null,null,null,null,null,null,null,null,null,null,"名前"]
[{"$f":"IF(A301=\"\",\"\",IF(VLOOKUP(A301,漢字書き!$A$2:$N$502,7,0)=0,\"\",VLOOKUP(A301,漢字書き!$A$2:$N$502,7,0)))","v":{"$error":"#N/A"}},{"$f":"IF(B301=\"\",\"\",IF(VLOOKUP(B301,漢字書き!$A$2:$N$502,7,0)=0,\"\",VLOOKUP(B301,漢字書き!$A$2:$N$502,7,0)))","v":{"$error":"#N/A"}},{"$f":"IF(C301=\"\",\"\",IF(VLOOKUP(C301,漢字書き!$A$2:$N$502,7,0)=0,\"\",VLOOKUP(C301,漢字書き!$A$2:$N$502,7,0)))","v":{"$error":"#N/A"}},{"$f":"IF(D301=\"\",\"\",IF(VLOOKUP(D301,漢字書き!$A$2:$N$502,7,0)=0,\"\",VLOOKUP(D301,漢字書き!$A$2:$N$502,7,0)))","v":{"$error":"#N/A"}},{"$f":"IF(E301=\"\",\"\",IF(VLOOKUP(E301,漢字書き!$A$2:$N$502,7,0)=0,\"\",VLOOKUP(E301,漢字書き!$A$2:$N$502,7,0)))","v":{"$error":"#N/A"}},{"$f":"IF(F301=\"\",\"\",IF(VLOOKUP(F301,漢字書き!$A$2:$N$502,7,0)=0,\"\",VLOOKUP(F301,漢字書き!$A$2:$N$502,7,0)))","v":{"$error":"#N/A"}},{"$f":"IF(G301=\"\",\"\",IF(VLOOKUP(G301,漢字書き!$A$2:$N$502,7,0)=0,\"\",VLOOKUP(G301,漢字書き!$A$2:$N$502,7,0)))","v":{"$error":"#N/A"}},{"$f":"IF(H301=\"\",\"\",IF(VLOOKUP(H301,漢字書き!$A$2:$N$502,7,0)=0,\"\",VLOOKUP(H301,漢字書き!$A$2:$N$502,7,0)))","v":{"$error":"#N/A"}},{"$f":"IF(I301=\"\",\"\",IF(VLOOKUP(I301,漢字書き!$A$2:$N$502,7,0)=0,\"\",VLOOKUP(I301,漢字書き!$A$2:$N$502,7,0)))","v":{"$error":"#N/A"}},{"$f":"IF(J301=\"\",\"\",IF(VLOOKUP(J301,漢字書き!$A$2:$N$502,7,0)=0,\"\",VLOOKUP(J301,漢字書き!$A$2:$N$502,7,0)))","v":{"$error":"#N/A"}},{"$f":"IF(K301=\"\",\"\",IF(VLOOKUP(K301,漢字読み!$A$2:$O$502,7,0)=0,\"\",VLOOKUP(K301,漢字読み!$A$2:$O$502,7,0)))","v":{"$error":"#N/A"}},{"$f":"IF(L301=\"\",\"\",IF(VLOOKUP(L301,漢字読み!$A$2:$O$502,7,0)=0,\"\",VLOOKUP(L301,漢字読み!$A$2:$O$502,7,0)))","v":{"$error":"#N/A"}},{"$f":"IF(M301=\"\",\"\",IF(VLOOKUP(M301,漢字読み!$A$2:$O$502,7,0)=0,\"\",VLOOKUP(M301,漢字読み!$A$2:$O$502,7,0)))","v":{"$error":"#N/A"}},{"$f":"IF(N301=\"\",\"\",IF(VLOOKUP(N301,漢字読み!$A$2:$O$502,7,0)=0,\"\",VLOOKUP(N301,漢字読み!$A$2:$O$502,7,0)))","v":{"$error":"#N/A"}},{"$f":"IF(O301=\"\",\"\",IF(VLOOKUP(O301,漢字読み!$A$2:$O$502,7,0)=0,\"\",VLOOKUP(O301,漢字読み!$A$2:$O$502,7,0)))","v":{"$error":"#N/A"}},{"$f":"IF(P301=\"\",\"\",IF(VLOOKUP(P301,漢字読み!$A$2:$O$502,7,0)=0,\"\",VLOOKUP(P301,漢字読み!$A$2:$O$502,7,0)))","v":{"$error":"#N/A"}},{"$f":"IF(Q301=\"\",\"\",IF(VLOOKUP(Q301,漢字読み!$A$2:$O$502,7,0)=0,\"\",VLOOKUP(Q301,漢字読み!$A$2:$O$502,7,0)))","v":{"$error":"#N/A"}},{"$f":"IF(R301=\"\",\"\",IF(VLOOKUP(R301,漢字読み!$A$2:$O$502,7,0)=0,\"\",VLOOKUP(R301,漢字読み!$A$2:$O$502,7,0)))","v":{"$error":"#N/A"}},{"$f":"IF(S301=\"\",\"\",IF(VLOOKUP(S301,漢字読み!$A$2:$O$502,7,0)=0,\"\",VLOOKUP(S301,漢字読み!$A$2:$O$502,7,0)))","v":{"$error":"#N/A"}},{"$f":"IF(T301=\"\",\"\",IF(VLOOKUP(T301,漢字読み!$A$2:$O$502,7,0)=0,\"\",VLOOKUP(T301,漢字読み!$A$2:$O$502,7,0)))","v":{"$error":"#N/A"}},null,null,"和歌山県教育委員会"]
[{"$f":"INDIRECT(\"'関数（書き）'!C\" & COLUMN(B$1)+SUM($AD$2:$AD307))","v":0},{"$f":"INDIRECT(\"'関数（書き）'!C\" & COLUMN(C$1)+SUM($AD$2:$AD307))","v":0},{"$f":"INDIRECT(\"'関数（書き）'!C\" & COLUMN(D$1)+SUM($AD$2:$AD307))","v":0},{"$f":"INDIRECT(\"'関数（書き）'!C\" & COLUMN(E$1)+SUM($AD$2:$AD307))","v":0},{"$f":"INDIRECT(\"'関数（書き）'!C\" & COLUMN(F$1)+SUM($AD$2:$AD307))","v":0},{"$f":"INDIRECT(\"'関数（書き）'!C\" & COLUMN(G$1)+SUM($AD$2:$AD307))","v":0},{"$f":"INDIRECT(\"'関数（書き）'!C\" & COLUMN(H$1)+SUM($AD$2:$AD307))","v":0},{"$f":"INDIRECT(\"'関数（書き）'!C\" & COLUMN(I$1)+SUM($AD$2:$AD307))","v":0},{"$f":"INDIRECT(\"'関数（書き）'!C\" & COLUMN(J$1)+SUM($AD$2:$AD307))","v":0},{"$f":"INDIRECT(\"'関数（書き）'!C\" & COLUMN(K$1)+SUM($AD$2:$AD307))","v":0},{"$f":"INDIRECT(\"'関数（読み）'!C\" & COLUMN(B$1)+SUM($AD$2:$AD307))","v":0},{"$f":"INDIRECT(\"'関数（読み）'!C\" & COLUMN(C$1)+SUM($AD$2:$AD307))","v":0},{"$f":"INDIRECT(\"'関数（読み）'!C\" & COLUMN(D$1)+SUM($AD$2:$AD307))","v":0},{"$f":"INDIRECT(\"'関数（読み）'!C\" & COLUMN(E$1)+SUM($AD$2:$AD307))","v":0},{"$f":"INDIRECT(\"'関数（読み）'!C\" & COLUMN(F$1)+SUM($AD$2:$AD307))","v":0},{"$f":"INDIRECT(\"'関数（読み）'!C\" & COLUMN(G$1)+SUM($AD$2:$AD307))","v":0},{"$f":"INDIRECT(\"'関数（読み）'!C\" & COLUMN(H$1)+SUM($AD$2:$AD307))","v":0},{"$f":"INDIRECT(\"'関数（読み）'!C\" & COLUMN(I$1)+SUM($AD$2:$AD307))","v":0},{"$f":"INDIRECT(\"'関数（読み）'!C\" & COLUMN(J$1)+SUM($AD$2:$AD307))","v":0},{"$f":"INDIRECT(\"'関数（読み）'!C\" & COLUMN(K$1)+SUM($AD$2:$AD307))","v":0}]
["⑳","⑲","⑱","⑰","⑯","⑮","⑭","⑬","⑫","⑪","⑩","⑨","⑧","⑦","⑥","⑤","④","③","②","①","次の［　　　　］の部分の漢字には読みがなをひらがなで書き、カタカナは漢字に直しなさい。",14,"「漢字の博士検定試験」練習問題　",null,null,null,null,null,"←",10,"問",{"$f":"AH302+1","v":311},"～",{"$f":"SUM($AD$2:$AD307)+10","v":320},"問まで",{"$f":"COUNTIF($A$1:$T$200,T308)","v":585}]
[{"$f":"IF(A306=\"\",\"\",VLOOKUP(A306,漢字書き!$A$2:$N$506,6,0))","v":{"$error":"#N/A"}},{"$f":"IF(B306=\"\",\"\",VLOOKUP(B306,漢字書き!$A$2:$N$506,6,0))","v":{"$error":"#N/A"}},{"$f":"IF(C306=\"\",\"\",VLOOKUP(C306,漢字書き!$A$2:$N$506,6,0))","v":{"$error":"#N/A"}},{"$f":"IF(D306=\"\",\"\",VLOOKUP(D306,漢字書き!$A$2:$N$506,6,0))","v":{"$error":"#N/A"}},{"$f":"IF(E306=\"\",\"\",VLOOKUP(E306,漢字書き!$A$2:$N$506,6,0))","v":{"$error":"#N/A"}},{"$f":"IF(F306=\"\",\"\",VLOOKUP(F306,漢字書き!$A$2:$N$506,6,0))","v":{"$error":"#N/A"}},{"$f":"IF(G306=\"\",\"\",VLOOKUP(G306,漢字書き!$A$2:$N$506,6,0))","v":{"$error":"#N/A"}},{"$f":"IF(H306=\"\",\"\",VLOOKUP(H306,漢字書き!$A$2:$N$506,6,0))","v":{"$error":"#N/A"}},{"$f":"IF(I306=\"\",\"\",VLOOKUP(I306,漢字書き!$A$2:$N$506,6,0))","v":{"$error":"#N/A"}},{"$f":"IF(J306=\"\",\"\",VLOOKUP(J306,漢字書き!$A$2:$N$506,6,0))","v":{"$error":"#N/A"}},{"$f":"IF(K306=\"\",\"\",VLOOKUP(K306,漢字読み!$A$2:$O$506,6,0))","v":{"$error":"#N/A"}},{"$f":"IF(L306=\"\",\"\",VLOOKUP(L306,漢字読み!$A$2:$O$506,6,0))","v":{"$error":"#N/A"}},{"$f":"IF(M306=\"\",\"\",VLOOKUP(M306,漢字読み!$A$2:$O$506,6,0))","v":{"$error":"#N/A"}},{"$f":"IF(N306=\"\",\"\",VLOOKUP(N306,漢字読み!$A$2:$O$506,6,0))","v":{"$error":"#N/A"}},{"$f":"IF(O306=\"\",\"\",VLOOKUP(O306,漢字読み!$A$2:$O$506,6,0))","v":{"$error":"#N/A"}},{"$f":"IF(P306=\"\",\"\",VLOOKUP(P306,漢字読み!$A$2:$O$506,6,0))","v":{"$error":"#N/A"}},{"$f":"IF(Q306=\"\",\"\",VLOOKUP(Q306,漢字読み!$A$2:$O$506,6,0))","v":{"$error":"#N/A"}},{"$f":"IF(R306=\"\",\"\",VLOOKUP(R306,漢字読み!$A$2:$O$506,6,0))","v":{"$error":"#N/A"}},{"$f":"IF(S306=\"\",\"\",VLOOKUP(S306,漢字読み!$A$2:$O$506,6,0))","v":{"$error":"#N/A"}},{"$f":"IF(T306=\"\",\"\",VLOOKUP(T306,漢字読み!$A$2:$O$506,6,0))","v":{"$error":"#N/A"}},null,"級"]
[null,null,null,null,null,null,null,null,null,null,null,null,null,null,null,null,null,null,null,null,null,"名前"]
[{"$f":"IF(A306=\"\",\"\",IF(VLOOKUP(A306,漢字書き!$A$2:$N$502,7,0)=0,\"\",VLOOKUP(A306,漢字書き!$A$2:$N$502,7,0)))","v":{"$error":"#N/A"}},{"$f":"IF(B306=\"\",\"\",IF(VLOOKUP(B306,漢字書き!$A$2:$N$502,7,0)=0,\"\",VLOOKUP(B306,漢字書き!$A$2:$N$502,7,0)))","v":{"$error":"#N/A"}},{"$f":"IF(C306=\"\",\"\",IF(VLOOKUP(C306,漢字書き!$A$2:$N$502,7,0)=0,\"\",VLOOKUP(C306,漢字書き!$A$2:$N$502,7,0)))","v":{"$error":"#N/A"}},{"$f":"IF(D306=\"\",\"\",IF(VLOOKUP(D306,漢字書き!$A$2:$N$502,7,0)=0,\"\",VLOOKUP(D306,漢字書き!$A$2:$N$502,7,0)))","v":{"$error":"#N/A"}},{"$f":"IF(E306=\"\",\"\",IF(VLOOKUP(E306,漢字書き!$A$2:$N$502,7,0)=0,\"\",VLOOKUP(E306,漢字書き!$A$2:$N$502,7,0)))","v":{"$error":"#N/A"}},{"$f":"IF(F306=\"\",\"\",IF(VLOOKUP(F306,漢字書き!$A$2:$N$502,7,0)=0,\"\",VLOOKUP(F306,漢字書き!$A$2:$N$502,7,0)))","v":{"$error":"#N/A"}},{"$f":"IF(G306=\"\",\"\",IF(VLOOKUP(G306,漢字書き!$A$2:$N$502,7,0)=0,\"\",VLOOKUP(G306,漢字書き!$A$2:$N$502,7,0)))","v":{"$error":"#N/A"}},{"$f":"IF(H306=\"\",\"\",IF(VLOOKUP(H306,漢字書き!$A$2:$N$502,7,0)=0,\"\",VLOOKUP(H306,漢字書き!$A$2:$N$502,7,0)))","v":{"$error":"#N/A"}},{"$f":"IF(I306=\"\",\"\",IF(VLOOKUP(I306,漢字書き!$A$2:$N$502,7,0)=0,\"\",VLOOKUP(I306,漢字書き!$A$2:$N$502,7,0)))","v":{"$error":"#N/A"}},{"$f":"IF(J306=\"\",\"\",IF(VLOOKUP(J306,漢字書き!$A$2:$N$502,7,0)=0,\"\",VLOOKUP(J306,漢字書き!$A$2:$N$502,7,0)))","v":{"$error":"#N/A"}},{"$f":"IF(K306=\"\",\"\",IF(VLOOKUP(K306,漢字読み!$A$2:$O$502,7,0)=0,\"\",VLOOKUP(K306,漢字読み!$A$2:$O$502,7,0)))","v":{"$error":"#N/A"}},{"$f":"IF(L306=\"\",\"\",IF(VLOOKUP(L306,漢字読み!$A$2:$O$502,7,0)=0,\"\",VLOOKUP(L306,漢字読み!$A$2:$O$502,7,0)))","v":{"$error":"#N/A"}},{"$f":"IF(M306=\"\",\"\",IF(VLOOKUP(M306,漢字読み!$A$2:$O$502,7,0)=0,\"\",VLOOKUP(M306,漢字読み!$A$2:$O$502,7,0)))","v":{"$error":"#N/A"}},{"$f":"IF(N306=\"\",\"\",IF(VLOOKUP(N306,漢字読み!$A$2:$O$502,7,0)=0,\"\",VLOOKUP(N306,漢字読み!$A$2:$O$502,7,0)))","v":{"$error":"#N/A"}},{"$f":"IF(O306=\"\",\"\",IF(VLOOKUP(O306,漢字読み!$A$2:$O$502,7,0)=0,\"\",VLOOKUP(O306,漢字読み!$A$2:$O$502,7,0)))","v":{"$error":"#N/A"}},{"$f":"IF(P306=\"\",\"\",IF(VLOOKUP(P306,漢字読み!$A$2:$O$502,7,0)=0,\"\",VLOOKUP(P306,漢字読み!$A$2:$O$502,7,0)))","v":{"$error":"#N/A"}},{"$f":"IF(Q306=\"\",\"\",IF(VLOOKUP(Q306,漢字読み!$A$2:$O$502,7,0)=0,\"\",VLOOKUP(Q306,漢字読み!$A$2:$O$502,7,0)))","v":{"$error":"#N/A"}},{"$f":"IF(R306=\"\",\"\",IF(VLOOKUP(R306,漢字読み!$A$2:$O$502,7,0)=0,\"\",VLOOKUP(R306,漢字読み!$A$2:$O$502,7,0)))","v":{"$error":"#N/A"}},{"$f":"IF(S306=\"\",\"\",IF(VLOOKUP(S306,漢字読み!$A$2:$O$502,7,0)=0,\"\",VLOOKUP(S306,漢字読み!$A$2:$O$502,7,0)))","v":{"$error":"#N/A"}},{"$f":"IF(T306=\"\",\"\",IF(VLOOKUP(T306,漢字読み!$A$2:$O$502,7,0)=0,\"\",VLOOKUP(T306,漢字読み!$A$2:$O$502,7,0)))","v":{"$error":"#N/A"}},null,null,"和歌山県教育委員会"]
[{"$f":"A301","v":0},{"$f":"B301","v":0},{"$f":"C301","v":0},{"$f":"D301","v":0},{"$f":"E301","v":0},{"$f":"F301","v":0},{"$f":"G301","v":0},{"$f":"H301","v":0},{"$f":"I301","v":0},{"$f":"J301","v":0},{"$f":"K301","v":0},{"$f":"L301","v":0},{"$f":"M301","v":0},{"$f":"N301","v":0},{"$f":"O301","v":0},{"$f":"P301","v":0},{"$f":"Q301","v":0},{"$f":"R301","v":0},{"$f":"S301","v":0},{"$f":"T301","v":0}]
["⑳","⑲","⑱","⑰","⑯","⑮","⑭","⑬","⑫","⑪","⑩","⑨","⑧","⑦","⑥","⑤","④","③","②","①","次の［　　　　］の部分の漢字には読みがなをひらがなで書き、カタカナは漢字に直しなさい。",14,"「漢字の博士検定試験」練習問題　"]
[{"$f":"IF(A311=\"\",\"\",VLOOKUP(A311,漢字書き!$A$2:$N$506,6,0))","v":{"$error":"#N/A"}},{"$f":"IF(B311=\"\",\"\",VLOOKUP(B311,漢字書き!$A$2:$N$506,6,0))","v":{"$error":"#N/A"}},{"$f":"IF(C311=\"\",\"\",VLOOKUP(C311,漢字書き!$A$2:$N$506,6,0))","v":{"$error":"#N/A"}},{"$f":"IF(D311=\"\",\"\",VLOOKUP(D311,漢字書き!$A$2:$N$506,6,0))","v":{"$error":"#N/A"}},{"$f":"IF(E311=\"\",\"\",VLOOKUP(E311,漢字書き!$A$2:$N$506,6,0))","v":{"$error":"#N/A"}},{"$f":"IF(F311=\"\",\"\",VLOOKUP(F311,漢字書き!$A$2:$N$506,6,0))","v":{"$error":"#N/A"}},{"$f":"IF(G311=\"\",\"\",VLOOKUP(G311,漢字書き!$A$2:$N$506,6,0))","v":{"$error":"#N/A"}},{"$f":"IF(H311=\"\",\"\",VLOOKUP(H311,漢字書き!$A$2:$N$506,6,0))","v":{"$error":"#N/A"}},{"$f":"IF(I311=\"\",\"\",VLOOKUP(I311,漢字書き!$A$2:$N$506,6,0))","v":{"$error":"#N/A"}},{"$f":"IF(J311=\"\",\"\",VLOOKUP(J311,漢字書き!$A$2:$N$506,6,0))","v":{"$error":"#N/A"}},{"$f":"IF(K311=\"\",\"\",VLOOKUP(K311,漢字読み!$A$2:$O$506,6,0))","v":{"$error":"#N/A"}},{"$f":"IF(L311=\"\",\"\",VLOOKUP(L311,漢字読み!$A$2:$O$506,6,0))","v":{"$error":"#N/A"}},{"$f":"IF(M311=\"\",\"\",VLOOKUP(M311,漢字読み!$A$2:$O$506,6,0))","v":{"$error":"#N/A"}},{"$f":"IF(N311=\"\",\"\",VLOOKUP(N311,漢字読み!$A$2:$O$506,6,0))","v":{"$error":"#N/A"}},{"$f":"IF(O311=\"\",\"\",VLOOKUP(O311,漢字読み!$A$2:$O$506,6,0))","v":{"$error":"#N/A"}},{"$f":"IF(P311=\"\",\"\",VLOOKUP(P311,漢字読み!$A$2:$O$506,6,0))","v":{"$error":"#N/A"}},{"$f":"IF(Q311=\"\",\"\",VLOOKUP(Q311,漢字読み!$A$2:$O$506,6,0))","v":{"$error":"#N/A"}},{"$f":"IF(R311=\"\",\"\",VLOOKUP(R311,漢字読み!$A$2:$O$506,6,0))","v":{"$error":"#N/A"}},{"$f":"IF(S311=\"\",\"\",VLOOKUP(S311,漢字読み!$A$2:$O$506,6,0))","v":{"$error":"#N/A"}},{"$f":"IF(T311=\"\",\"\",VLOOKUP(T311,漢字読み!$A$2:$O$506,6,0))","v":{"$error":"#N/A"}},null,"級"]
[{"$f":"IF(A$11=\"\",\"\",VLOOKUP(A311,漢字書き!$A$2:$O$506,8,0))","v":{"$error":"#N/A"}},{"$f":"IF(B$11=\"\",\"\",VLOOKUP(B311,漢字書き!$A$2:$O$506,8,0))","v":{"$error":"#N/A"}},{"$f":"IF(C$11=\"\",\"\",VLOOKUP(C311,漢字書き!$A$2:$O$506,8,0))","v":{"$error":"#N/A"}},{"$f":"IF(D$11=\"\",\"\",VLOOKUP(D311,漢字書き!$A$2:$O$506,8,0))","v":{"$error":"#N/A"}},{"$f":"IF(E$11=\"\",\"\",VLOOKUP(E311,漢字書き!$A$2:$O$506,8,0))","v":{"$error":"#N/A"}},{"$f":"IF(F$11=\"\",\"\",VLOOKUP(F311,漢字書き!$A$2:$O$506,8,0))","v":{"$error":"#N/A"}},{"$f":"IF(G$11=\"\",\"\",VLOOKUP(G311,漢字書き!$A$2:$O$506,8,0))","v":{"$error":"#N/A"}},{"$f":"IF(H$11=\"\",\"\",VLOOKUP(H311,漢字書き!$A$2:$O$506,8,0))","v":{"$error":"#N/A"}},{"$f":"IF(I$11=\"\",\"\",VLOOKUP(I311,漢字書き!$A$2:$O$506,8,0))","v":{"$error":"#N/A"}},{"$f":"IF(J$11=\"\",\"\",VLOOKUP(J311,漢字書き!$A$2:$O$506,8,0))","v":{"$error":"#N/A"}},{"$f":"IF(K$11=\"\",\"\",VLOOKUP(K311,漢字読み!$A$2:$O$506,8,0))","v":{"$error":"#N/A"}},{"$f":"IF(L$11=\"\",\"\",VLOOKUP(L311,漢字読み!$A$2:$O$506,8,0))","v":{"$error":"#N/A"}},{"$f":"IF(M$11=\"\",\"\",VLOOKUP(M311,漢字読み!$A$2:$O$506,8,0))","v":{"$error":"#N/A"}},{"$f":"IF(N$11=\"\",\"\",VLOOKUP(N311,漢字読み!$A$2:$O$506,8,0))","v":{"$error":"#N/A"}},{"$f":"IF(O$11=\"\",\"\",VLOOKUP(O311,漢字読み!$A$2:$O$506,8,0))","v":{"$error":"#N/A"}},{"$f":"IF(P$11=\"\",\"\",VLOOKUP(P311,漢字読み!$A$2:$O$506,8,0))","v":{"$error":"#N/A"}},{"$f":"IF(Q$11=\"\",\"\",VLOOKUP(Q311,漢字読み!$A$2:$O$506,8,0))","v":{"$error":"#N/A"}},{"$f":"IF(R$11=\"\",\"\",VLOOKUP(R311,漢字読み!$A$2:$O$506,8,0))","v":{"$error":"#N/A"}},{"$f":"IF(S$11=\"\",\"\",VLOOKUP(S311,漢字読み!$A$2:$O$506,8,0))","v":{"$error":"#N/A"}},{"$f":"IF(T$11=\"\",\"\",VLOOKUP(T311,漢字読み!$A$2:$O$506,8,0))","v":{"$error":"#N/A"}},null,"名前"]
[{"$f":"IF(A311=\"\",\"\",IF(VLOOKUP(A311,漢字書き!$A$2:$N$502,7,0)=0,\"\",VLOOKUP(A311,漢字書き!$A$2:$N$502,7,0)))","v":{"$error":"#N/A"}},{"$f":"IF(B311=\"\",\"\",IF(VLOOKUP(B311,漢字書き!$A$2:$N$502,7,0)=0,\"\",VLOOKUP(B311,漢字書き!$A$2:$N$502,7,0)))","v":{"$error":"#N/A"}},{"$f":"IF(C311=\"\",\"\",IF(VLOOKUP(C311,漢字書き!$A$2:$N$502,7,0)=0,\"\",VLOOKUP(C311,漢字書き!$A$2:$N$502,7,0)))","v":{"$error":"#N/A"}},{"$f":"IF(D311=\"\",\"\",IF(VLOOKUP(D311,漢字書き!$A$2:$N$502,7,0)=0,\"\",VLOOKUP(D311,漢字書き!$A$2:$N$502,7,0)))","v":{"$error":"#N/A"}},{"$f":"IF(E311=\"\",\"\",IF(VLOOKUP(E311,漢字書き!$A$2:$N$502,7,0)=0,\"\",VLOOKUP(E311,漢字書き!$A$2:$N$502,7,0)))","v":{"$error":"#N/A"}},{"$f":"IF(F311=\"\",\"\",IF(VLOOKUP(F311,漢字書き!$A$2:$N$502,7,0)=0,\"\",VLOOKUP(F311,漢字書き!$A$2:$N$502,7,0)))","v":{"$error":"#N/A"}},{"$f":"IF(G311=\"\",\"\",IF(VLOOKUP(G311,漢字書き!$A$2:$N$502,7,0)=0,\"\",VLOOKUP(G311,漢字書き!$A$2:$N$502,7,0)))","v":{"$error":"#N/A"}},{"$f":"IF(H311=\"\",\"\",IF(VLOOKUP(H311,漢字書き!$A$2:$N$502,7,0)=0,\"\",VLOOKUP(H311,漢字書き!$A$2:$N$502,7,0)))","v":{"$error":"#N/A"}},{"$f":"IF(I311=\"\",\"\",IF(VLOOKUP(I311,漢字書き!$A$2:$N$502,7,0)=0,\"\",VLOOKUP(I311,漢字書き!$A$2:$N$502,7,0)))","v":{"$error":"#N/A"}},{"$f":"IF(J311=\"\",\"\",IF(VLOOKUP(J311,漢字書き!$A$2:$N$502,7,0)=0,\"\",VLOOKUP(J311,漢字書き!$A$2:$N$502,7,0)))","v":{"$error":"#N/A"}},{"$f":"IF(K311=\"\",\"\",IF(VLOOKUP(K311,漢字読み!$A$2:$O$502,7,0)=0,\"\",VLOOKUP(K311,漢字読み!$A$2:$O$502,7,0)))","v":{"$error":"#N/A"}},{"$f":"IF(L311=\"\",\"\",IF(VLOOKUP(L311,漢字読み!$A$2:$O$502,7,0)=0,\"\",VLOOKUP(L311,漢字読み!$A$2:$O$502,7,0)))","v":{"$error":"#N/A"}},{"$f":"IF(M311=\"\",\"\",IF(VLOOKUP(M311,漢字読み!$A$2:$O$502,7,0)=0,\"\",VLOOKUP(M311,漢字読み!$A$2:$O$502,7,0)))","v":{"$error":"#N/A"}},{"$f":"IF(N311=\"\",\"\",IF(VLOOKUP(N311,漢字読み!$A$2:$O$502,7,0)=0,\"\",VLOOKUP(N311,漢字読み!$A$2:$O$502,7,0)))","v":{"$error":"#N/A"}},{"$f":"IF(O311=\"\",\"\",IF(VLOOKUP(O311,漢字読み!$A$2:$O$502,7,0)=0,\"\",VLOOKUP(O311,漢字読み!$A$2:$O$502,7,0)))","v":{"$error":"#N/A"}},{"$f":"IF(P311=\"\",\"\",IF(VLOOKUP(P311,漢字読み!$A$2:$O$502,7,0)=0,\"\",VLOOKUP(P311,漢字読み!$A$2:$O$502,7,0)))","v":{"$error":"#N/A"}},{"$f":"IF(Q311=\"\",\"\",IF(VLOOKUP(Q311,漢字読み!$A$2:$O$502,7,0)=0,\"\",VLOOKUP(Q311,漢字読み!$A$2:$O$502,7,0)))","v":{"$error":"#N/A"}},{"$f":"IF(R311=\"\",\"\",IF(VLOOKUP(R311,漢字読み!$A$2:$O$502,7,0)=0,\"\",VLOOKUP(R311,漢字読み!$A$2:$O$502,7,0)))","v":{"$error":"#N/A"}},{"$f":"IF(S311=\"\",\"\",IF(VLOOKUP(S311,漢字読み!$A$2:$O$502,7,0)=0,\"\",VLOOKUP(S311,漢字読み!$A$2:$O$502,7,0)))","v":{"$error":"#N/A"}},{"$f":"IF(T311=\"\",\"\",IF(VLOOKUP(T311,漢字読み!$A$2:$O$502,7,0)=0,\"\",VLOOKUP(T311,漢字読み!$A$2:$O$502,7,0)))","v":{"$error":"#N/A"}},null,null,"和歌山県教育委員会"]
[{"$f":"A306","v":0},{"$f":"B306","v":0},{"$f":"C306","v":0},{"$f":"D306","v":0},{"$f":"E306","v":0},{"$f":"F306","v":0},{"$f":"G306","v":0},{"$f":"H306","v":0},{"$f":"I306","v":0},{"$f":"J306","v":0},{"$f":"K306","v":0},{"$f":"L306","v":0},{"$f":"M306","v":0},{"$f":"N306","v":0},{"$f":"O306","v":0},{"$f":"P306","v":0},{"$f":"Q306","v":0},{"$f":"R306","v":0},{"$f":"S306","v":0},{"$f":"T306","v":0}]
["⑳","⑲","⑱","⑰","⑯","⑮","⑭","⑬","⑫","⑪","⑩","⑨","⑧","⑦","⑥","⑤","④","③","②","①","次の［　　　　］の部分の漢字には読みがなをひらがなで書き、カタカナは漢字に直しなさい。",14,"「漢字の博士検定試験」練習問題　"]
[{"$f":"IF(A316=\"\",\"\",VLOOKUP(A316,漢字書き!$A$2:$N$506,6,0))","v":{"$error":"#N/A"}},{"$f":"IF(B316=\"\",\"\",VLOOKUP(B316,漢字書き!$A$2:$N$506,6,0))","v":{"$error":"#N/A"}},{"$f":"IF(C316=\"\",\"\",VLOOKUP(C316,漢字書き!$A$2:$N$506,6,0))","v":{"$error":"#N/A"}},{"$f":"IF(D316=\"\",\"\",VLOOKUP(D316,漢字書き!$A$2:$N$506,6,0))","v":{"$error":"#N/A"}},{"$f":"IF(E316=\"\",\"\",VLOOKUP(E316,漢字書き!$A$2:$N$506,6,0))","v":{"$error":"#N/A"}},{"$f":"IF(F316=\"\",\"\",VLOOKUP(F316,漢字書き!$A$2:$N$506,6,0))","v":{"$error":"#N/A"}},{"$f":"IF(G316=\"\",\"\",VLOOKUP(G316,漢字書き!$A$2:$N$506,6,0))","v":{"$error":"#N/A"}},{"$f":"IF(H316=\"\",\"\",VLOOKUP(H316,漢字書き!$A$2:$N$506,6,0))","v":{"$error":"#N/A"}},{"$f":"IF(I316=\"\",\"\",VLOOKUP(I316,漢字書き!$A$2:$N$506,6,0))","v":{"$error":"#N/A"}},{"$f":"IF(J316=\"\",\"\",VLOOKUP(J316,漢字書き!$A$2:$N$506,6,0))","v":{"$error":"#N/A"}},{"$f":"IF(K316=\"\",\"\",VLOOKUP(K316,漢字読み!$A$2:$O$506,6,0))","v":{"$error":"#N/A"}},{"$f":"IF(L316=\"\",\"\",VLOOKUP(L316,漢字読み!$A$2:$O$506,6,0))","v":{"$error":"#N/A"}},{"$f":"IF(M316=\"\",\"\",VLOOKUP(M316,漢字読み!$A$2:$O$506,6,0))","v":{"$error":"#N/A"}},{"$f":"IF(N316=\"\",\"\",VLOOKUP(N316,漢字読み!$A$2:$O$506,6,0))","v":{"$error":"#N/A"}},{"$f":"IF(O316=\"\",\"\",VLOOKUP(O316,漢字読み!$A$2:$O$506,6,0))","v":{"$error":"#N/A"}},{"$f":"IF(P316=\"\",\"\",VLOOKUP(P316,漢字読み!$A$2:$O$506,6,0))","v":{"$error":"#N/A"}},{"$f":"IF(Q316=\"\",\"\",VLOOKUP(Q316,漢字読み!$A$2:$O$506,6,0))","v":{"$error":"#N/A"}},{"$f":"IF(R316=\"\",\"\",VLOOKUP(R316,漢字読み!$A$2:$O$506,6,0))","v":{"$error":"#N/A"}},{"$f":"IF(S316=\"\",\"\",VLOOKUP(S316,漢字読み!$A$2:$O$506,6,0))","v":{"$error":"#N/A"}},{"$f":"IF(T316=\"\",\"\",VLOOKUP(T316,漢字読み!$A$2:$O$506,6,0))","v":{"$error":"#N/A"}},null,"級"]
[{"$f":"IF(A$16=\"\",\"\",VLOOKUP(A316,漢字書き!$A$2:$O$506,8,0))","v":{"$error":"#N/A"}},{"$f":"IF(B$16=\"\",\"\",VLOOKUP(B316,漢字書き!$A$2:$O$506,8,0))","v":{"$error":"#N/A"}},{"$f":"IF(C$16=\"\",\"\",VLOOKUP(C316,漢字書き!$A$2:$O$506,8,0))","v":{"$error":"#N/A"}},{"$f":"IF(D$16=\"\",\"\",VLOOKUP(D316,漢字書き!$A$2:$O$506,8,0))","v":{"$error":"#N/A"}},{"$f":"IF(E$16=\"\",\"\",VLOOKUP(E316,漢字書き!$A$2:$O$506,8,0))","v":{"$error":"#N/A"}},{"$f":"IF(F$16=\"\",\"\",VLOOKUP(F316,漢字書き!$A$2:$O$506,8,0))","v":{"$error":"#N/A"}},{"$f":"IF(G$16=\"\",\"\",VLOOKUP(G316,漢字書き!$A$2:$O$506,8,0))","v":{"$error":"#N/A"}},{"$f":"IF(H$16=\"\",\"\",VLOOKUP(H316,漢字書き!$A$2:$O$506,8,0))","v":{"$error":"#N/A"}},{"$f":"IF(I$16=\"\",\"\",VLOOKUP(I316,漢字書き!$A$2:$O$506,8,0))","v":{"$error":"#N/A"}},{"$f":"IF(J$16=\"\",\"\",VLOOKUP(J316,漢字書き!$A$2:$O$506,8,0))","v":{"$error":"#N/A"}},{"$f":"IF(K$16=\"\",\"\",VLOOKUP(K316,漢字読み!$A$2:$O$506,8,0))","v":{"$error":"#N/A"}},{"$f":"IF(L$16=\"\",\"\",VLOOKUP(L316,漢字読み!$A$2:$O$506,8,0))","v":{"$error":"#N/A"}},{"$f":"IF(M$16=\"\",\"\",VLOOKUP(M316,漢字読み!$A$2:$O$506,8,0))","v":{"$error":"#N/A"}},{"$f":"IF(N$16=\"\",\"\",VLOOKUP(N316,漢字読み!$A$2:$O$506,8,0))","v":{"$error":"#N/A"}},{"$f":"IF(O$16=\"\",\"\",VLOOKUP(O316,漢字読み!$A$2:$O$506,8,0))","v":{"$error":"#N/A"}},{"$f":"IF(P$16=\"\",\"\",VLOOKUP(P316,漢字読み!$A$2:$O$506,8,0))","v":{"$error":"#N/A"}},{"$f":"IF(Q$16=\"\",\"\",VLOOKUP(Q316,漢字読み!$A$2:$O$506,8,0))","v":{"$error":"#N/A"}},{"$f":"IF(R$16=\"\",\"\",VLOOKUP(R316,漢字読み!$A$2:$O$506,8,0))","v":{"$error":"#N/A"}},{"$f":"IF(S$16=\"\",\"\",VLOOKUP(S316,漢字読み!$A$2:$O$506,8,0))","v":{"$error":"#N/A"}},{"$f":"IF(T$16=\"\",\"\",VLOOKUP(T316,漢字読み!$A$2:$O$506,8,0))","v":{"$error":"#N/A"}},null,"名前"]
[{"$f":"IF(A316=\"\",\"\",IF(VLOOKUP(A316,漢字書き!$A$2:$N$502,7,0)=0,\"\",VLOOKUP(A316,漢字書き!$A$2:$N$502,7,0)))","v":{"$error":"#N/A"}},{"$f":"IF(B316=\"\",\"\",IF(VLOOKUP(B316,漢字書き!$A$2:$N$502,7,0)=0,\"\",VLOOKUP(B316,漢字書き!$A$2:$N$502,7,0)))","v":{"$error":"#N/A"}},{"$f":"IF(C316=\"\",\"\",IF(VLOOKUP(C316,漢字書き!$A$2:$N$502,7,0)=0,\"\",VLOOKUP(C316,漢字書き!$A$2:$N$502,7,0)))","v":{"$error":"#N/A"}},{"$f":"IF(D316=\"\",\"\",IF(VLOOKUP(D316,漢字書き!$A$2:$N$502,7,0)=0,\"\",VLOOKUP(D316,漢字書き!$A$2:$N$502,7,0)))","v":{"$error":"#N/A"}},{"$f":"IF(E316=\"\",\"\",IF(VLOOKUP(E316,漢字書き!$A$2:$N$502,7,0)=0,\"\",VLOOKUP(E316,漢字書き!$A$2:$N$502,7,0)))","v":{"$error":"#N/A"}},{"$f":"IF(F316=\"\",\"\",IF(VLOOKUP(F316,漢字書き!$A$2:$N$502,7,0)=0,\"\",VLOOKUP(F316,漢字書き!$A$2:$N$502,7,0)))","v":{"$error":"#N/A"}},{"$f":"IF(G316=\"\",\"\",IF(VLOOKUP(G316,漢字書き!$A$2:$N$502,7,0)=0,\"\",VLOOKUP(G316,漢字書き!$A$2:$N$502,7,0)))","v":{"$error":"#N/A"}},{"$f":"IF(H316=\"\",\"\",IF(VLOOKUP(H316,漢字書き!$A$2:$N$502,7,0)=0,\"\",VLOOKUP(H316,漢字書き!$A$2:$N$502,7,0)))","v":{"$error":"#N/A"}},{"$f":"IF(I316=\"\",\"\",IF(VLOOKUP(I316,漢字書き!$A$2:$N$502,7,0)=0,\"\",VLOOKUP(I316,漢字書き!$A$2:$N$502,7,0)))","v":{"$error":"#N/A"}},{"$f":"IF(J316=\"\",\"\",IF(VLOOKUP(J316,漢字書き!$A$2:$N$502,7,0)=0,\"\",VLOOKUP(J316,漢字書き!$A$2:$N$502,7,0)))","v":{"$error":"#N/A"}},{"$f":"IF(K316=\"\",\"\",IF(VLOOKUP(K316,漢字読み!$A$2:$O$502,7,0)=0,\"\",VLOOKUP(K316,漢字読み!$A$2:$O$502,7,0)))","v":{"$error":"#N/A"}},{"$f":"IF(L316=\"\",\"\",IF(VLOOKUP(L316,漢字読み!$A$2:$O$502,7,0)=0,\"\",VLOOKUP(L316,漢字読み!$A$2:$O$502,7,0)))","v":{"$error":"#N/A"}},{"$f":"IF(M316=\"\",\"\",IF(VLOOKUP(M316,漢字読み!$A$2:$O$502,7,0)=0,\"\",VLOOKUP(M316,漢字読み!$A$2:$O$502,7,0)))","v":{"$error":"#N/A"}},{"$f":"IF(N316=\"\",\"\",IF(VLOOKUP(N316,漢字読み!$A$2:$O$502,7,0)=0,\"\",VLOOKUP(N316,漢字読み!$A$2:$O$502,7,0)))","v":{"$error":"#N/A"}},{"$f":"IF(O316=\"\",\"\",IF(VLOOKUP(O316,漢字読み!$A$2:$O$502,7,0)=0,\"\",VLOOKUP(O316,漢字読み!$A$2:$O$502,7,0)))","v":{"$error":"#N/A"}},{"$f":"IF(P316=\"\",\"\",IF(VLOOKUP(P316,漢字読み!$A$2:$O$502,7,0)=0,\"\",VLOOKUP(P316,漢字読み!$A$2:$O$502,7,0)))","v":{"$error":"#N/A"}},{"$f":"IF(Q316=\"\",\"\",IF(VLOOKUP(Q316,漢字読み!$A$2:$O$502,7,0)=0,\"\",VLOOKUP(Q316,漢字読み!$A$2:$O$502,7,0)))","v":{"$error":"#N/A"}},{"$f":"IF(R316=\"\",\"\",IF(VLOOKUP(R316,漢字読み!$A$2:$O$502,7,0)=0,\"\",VLOOKUP(R316,漢字読み!$A$2:$O$502,7,0)))","v":{"$error":"#N/A"}},{"$f":"IF(S316=\"\",\"\",IF(VLOOKUP(S316,漢字読み!$A$2:$O$502,7,0)=0,\"\",VLOOKUP(S316,漢字読み!$A$2:$O$502,7,0)))","v":{"$error":"#N/A"}},{"$f":"IF(T316=\"\",\"\",IF(VLOOKUP(T316,漢字読み!$A$2:$O$502,7,0)=0,\"\",VLOOKUP(T316,漢字読み!$A$2:$O$502,7,0)))","v":{"$error":"#N/A"}},null,null,"和歌山県教育委員会"]
[{"$f":"INDIRECT(\"'関数（書き）'!C\" & COLUMN(B$1)+SUM($AD$2:$AD322))","v":0},{"$f":"INDIRECT(\"'関数（書き）'!C\" & COLUMN(C$1)+SUM($AD$2:$AD322))","v":0},{"$f":"INDIRECT(\"'関数（書き）'!C\" & COLUMN(D$1)+SUM($AD$2:$AD322))","v":0},{"$f":"INDIRECT(\"'関数（書き）'!C\" & COLUMN(E$1)+SUM($AD$2:$AD322))","v":0},{"$f":"INDIRECT(\"'関数（書き）'!C\" & COLUMN(F$1)+SUM($AD$2:$AD322))","v":0},{"$f":"INDIRECT(\"'関数（書き）'!C\" & COLUMN(G$1)+SUM($AD$2:$AD322))","v":0},{"$f":"INDIRECT(\"'関数（書き）'!C\" & COLUMN(H$1)+SUM($AD$2:$AD322))","v":0},{"$f":"INDIRECT(\"'関数（書き）'!C\" & COLUMN(I$1)+SUM($AD$2:$AD322))","v":0},{"$f":"INDIRECT(\"'関数（書き）'!C\" & COLUMN(J$1)+SUM($AD$2:$AD322))","v":0},{"$f":"INDIRECT(\"'関数（書き）'!C\" & COLUMN(K$1)+SUM($AD$2:$AD322))","v":0},{"$f":"INDIRECT(\"'関数（読み）'!C\" & COLUMN(B$1)+SUM($AD$2:$AD322))","v":0},{"$f":"INDIRECT(\"'関数（読み）'!C\" & COLUMN(C$1)+SUM($AD$2:$AD322))","v":0},{"$f":"INDIRECT(\"'関数（読み）'!C\" & COLUMN(D$1)+SUM($AD$2:$AD322))","v":0},{"$f":"INDIRECT(\"'関数（読み）'!C\" & COLUMN(E$1)+SUM($AD$2:$AD322))","v":0},{"$f":"INDIRECT(\"'関数（読み）'!C\" & COLUMN(F$1)+SUM($AD$2:$AD322))","v":0},{"$f":"INDIRECT(\"'関数（読み）'!C\" & COLUMN(G$1)+SUM($AD$2:$AD322))","v":0},{"$f":"INDIRECT(\"'関数（読み）'!C\" & COLUMN(H$1)+SUM($AD$2:$AD322))","v":0},{"$f":"INDIRECT(\"'関数（読み）'!C\" & COLUMN(I$1)+SUM($AD$2:$AD322))","v":0},{"$f":"INDIRECT(\"'関数（読み）'!C\" & COLUMN(J$1)+SUM($AD$2:$AD322))","v":0},{"$f":"INDIRECT(\"'関数（読み）'!C\" & COLUMN(K$1)+SUM($AD$2:$AD322))","v":0}]
["⑳","⑲","⑱","⑰","⑯","⑮","⑭","⑬","⑫","⑪","⑩","⑨","⑧","⑦","⑥","⑤","④","③","②","①","次の［　　　　］の部分の漢字には読みがなをひらがなで書き、カタカナは漢字に直しなさい。",14,"「漢字の博士検定試験」練習問題　",null,null,null,null,null,"←",10,"問",{"$f":"AH307+1","v":321},"～",{"$f":"SUM($AD$2:$AD322)+10","v":330},"問まで",{"$f":"COUNTIF($A$1:$T$200,T323)","v":585}]
[{"$f":"IF(A321=\"\",\"\",VLOOKUP(A321,漢字書き!$A$2:$N$506,6,0))","v":{"$error":"#N/A"}},{"$f":"IF(B321=\"\",\"\",VLOOKUP(B321,漢字書き!$A$2:$N$506,6,0))","v":{"$error":"#N/A"}},{"$f":"IF(C321=\"\",\"\",VLOOKUP(C321,漢字書き!$A$2:$N$506,6,0))","v":{"$error":"#N/A"}},{"$f":"IF(D321=\"\",\"\",VLOOKUP(D321,漢字書き!$A$2:$N$506,6,0))","v":{"$error":"#N/A"}},{"$f":"IF(E321=\"\",\"\",VLOOKUP(E321,漢字書き!$A$2:$N$506,6,0))","v":{"$error":"#N/A"}},{"$f":"IF(F321=\"\",\"\",VLOOKUP(F321,漢字書き!$A$2:$N$506,6,0))","v":{"$error":"#N/A"}},{"$f":"IF(G321=\"\",\"\",VLOOKUP(G321,漢字書き!$A$2:$N$506,6,0))","v":{"$error":"#N/A"}},{"$f":"IF(H321=\"\",\"\",VLOOKUP(H321,漢字書き!$A$2:$N$506,6,0))","v":{"$error":"#N/A"}},{"$f":"IF(I321=\"\",\"\",VLOOKUP(I321,漢字書き!$A$2:$N$506,6,0))","v":{"$error":"#N/A"}},{"$f":"IF(J321=\"\",\"\",VLOOKUP(J321,漢字書き!$A$2:$N$506,6,0))","v":{"$error":"#N/A"}},{"$f":"IF(K321=\"\",\"\",VLOOKUP(K321,漢字読み!$A$2:$O$506,6,0))","v":{"$error":"#N/A"}},{"$f":"IF(L321=\"\",\"\",VLOOKUP(L321,漢字読み!$A$2:$O$506,6,0))","v":{"$error":"#N/A"}},{"$f":"IF(M321=\"\",\"\",VLOOKUP(M321,漢字読み!$A$2:$O$506,6,0))","v":{"$error":"#N/A"}},{"$f":"IF(N321=\"\",\"\",VLOOKUP(N321,漢字読み!$A$2:$O$506,6,0))","v":{"$error":"#N/A"}},{"$f":"IF(O321=\"\",\"\",VLOOKUP(O321,漢字読み!$A$2:$O$506,6,0))","v":{"$error":"#N/A"}},{"$f":"IF(P321=\"\",\"\",VLOOKUP(P321,漢字読み!$A$2:$O$506,6,0))","v":{"$error":"#N/A"}},{"$f":"IF(Q321=\"\",\"\",VLOOKUP(Q321,漢字読み!$A$2:$O$506,6,0))","v":{"$error":"#N/A"}},{"$f":"IF(R321=\"\",\"\",VLOOKUP(R321,漢字読み!$A$2:$O$506,6,0))","v":{"$error":"#N/A"}},{"$f":"IF(S321=\"\",\"\",VLOOKUP(S321,漢字読み!$A$2:$O$506,6,0))","v":{"$error":"#N/A"}},{"$f":"IF(T321=\"\",\"\",VLOOKUP(T321,漢字読み!$A$2:$O$506,6,0))","v":{"$error":"#N/A"}},null,"級"]
[null,null,null,null,null,null,null,null,null,null,null,null,null,null,null,null,null,null,null,null,null,"名前"]
[{"$f":"IF(A321=\"\",\"\",IF(VLOOKUP(A321,漢字書き!$A$2:$N$502,7,0)=0,\"\",VLOOKUP(A321,漢字書き!$A$2:$N$502,7,0)))","v":{"$error":"#N/A"}},{"$f":"IF(B321=\"\",\"\",IF(VLOOKUP(B321,漢字書き!$A$2:$N$502,7,0)=0,\"\",VLOOKUP(B321,漢字書き!$A$2:$N$502,7,0)))","v":{"$error":"#N/A"}},{"$f":"IF(C321=\"\",\"\",IF(VLOOKUP(C321,漢字書き!$A$2:$N$502,7,0)=0,\"\",VLOOKUP(C321,漢字書き!$A$2:$N$502,7,0)))","v":{"$error":"#N/A"}},{"$f":"IF(D321=\"\",\"\",IF(VLOOKUP(D321,漢字書き!$A$2:$N$502,7,0)=0,\"\",VLOOKUP(D321,漢字書き!$A$2:$N$502,7,0)))","v":{"$error":"#N/A"}},{"$f":"IF(E321=\"\",\"\",IF(VLOOKUP(E321,漢字書き!$A$2:$N$502,7,0)=0,\"\",VLOOKUP(E321,漢字書き!$A$2:$N$502,7,0)))","v":{"$error":"#N/A"}},{"$f":"IF(F321=\"\",\"\",IF(VLOOKUP(F321,漢字書き!$A$2:$N$502,7,0)=0,\"\",VLOOKUP(F321,漢字書き!$A$2:$N$502,7,0)))","v":{"$error":"#N/A"}},{"$f":"IF(G321=\"\",\"\",IF(VLOOKUP(G321,漢字書き!$A$2:$N$502,7,0)=0,\"\",VLOOKUP(G321,漢字書き!$A$2:$N$502,7,0)))","v":{"$error":"#N/A"}},{"$f":"IF(H321=\"\",\"\",IF(VLOOKUP(H321,漢字書き!$A$2:$N$502,7,0)=0,\"\",VLOOKUP(H321,漢字書き!$A$2:$N$502,7,0)))","v":{"$error":"#N/A"}},{"$f":"IF(I321=\"\",\"\",IF(VLOOKUP(I321,漢字書き!$A$2:$N$502,7,0)=0,\"\",VLOOKUP(I321,漢字書き!$A$2:$N$502,7,0)))","v":{"$error":"#N/A"}},{"$f":"IF(J321=\"\",\"\",IF(VLOOKUP(J321,漢字書き!$A$2:$N$502,7,0)=0,\"\",VLOOKUP(J321,漢字書き!$A$2:$N$502,7,0)))","v":{"$error":"#N/A"}},{"$f":"IF(K321=\"\",\"\",IF(VLOOKUP(K321,漢字読み!$A$2:$O$502,7,0)=0,\"\",VLOOKUP(K321,漢字読み!$A$2:$O$502,7,0)))","v":{"$error":"#N/A"}},{"$f":"IF(L321=\"\",\"\",IF(VLOOKUP(L321,漢字読み!$A$2:$O$502,7,0)=0,\"\",VLOOKUP(L321,漢字読み!$A$2:$O$502,7,0)))","v":{"$error":"#N/A"}},{"$f":"IF(M321=\"\",\"\",IF(VLOOKUP(M321,漢字読み!$A$2:$O$502,7,0)=0,\"\",VLOOKUP(M321,漢字読み!$A$2:$O$502,7,0)))","v":{"$error":"#N/A"}},{"$f":"IF(N321=\"\",\"\",IF(VLOOKUP(N321,漢字読み!$A$2:$O$502,7,0)=0,\"\",VLOOKUP(N321,漢字読み!$A$2:$O$502,7,0)))","v":{"$error":"#N/A"}},{"$f":"IF(O321=\"\",\"\",IF(VLOOKUP(O321,漢字読み!$A$2:$O$502,7,0)=0,\"\",VLOOKUP(O321,漢字読み!$A$2:$O$502,7,0)))","v":{"$error":"#N/A"}},{"$f":"IF(P321=\"\",\"\",IF(VLOOKUP(P321,漢字読み!$A$2:$O$502,7,0)=0,\"\",VLOOKUP(P321,漢字読み!$A$2:$O$502,7,0)))","v":{"$error":"#N/A"}},{"$f":"IF(Q321=\"\",\"\",IF(VLOOKUP(Q321,漢字読み!$A$2:$O$502,7,0)=0,\"\",VLOOKUP(Q321,漢字読み!$A$2:$O$502,7,0)))","v":{"$error":"#N/A"}},{"$f":"IF(R321=\"\",\"\",IF(VLOOKUP(R321,漢字読み!$A$2:$O$502,7,0)=0,\"\",VLOOKUP(R321,漢字読み!$A$2:$O$502,7,0)))","v":{"$error":"#N/A"}},{"$f":"IF(S321=\"\",\"\",IF(VLOOKUP(S321,漢字読み!$A$2:$O$502,7,0)=0,\"\",VLOOKUP(S321,漢字読み!$A$2:$O$502,7,0)))","v":{"$error":"#N/A"}},{"$f":"IF(T321=\"\",\"\",IF(VLOOKUP(T321,漢字読み!$A$2:$O$502,7,0)=0,\"\",VLOOKUP(T321,漢字読み!$A$2:$O$502,7,0)))","v":{"$error":"#N/A"}},null,null,"和歌山県教育委員会"]
[{"$f":"INDIRECT(\"'関数（書き）'!C\" & COLUMN(B$1)+SUM($AD$2:$AD327))","v":0},{"$f":"INDIRECT(\"'関数（書き）'!C\" & COLUMN(C$1)+SUM($AD$2:$AD327))","v":0},{"$f":"INDIRECT(\"'関数（書き）'!C\" & COLUMN(D$1)+SUM($AD$2:$AD327))","v":0},{"$f":"INDIRECT(\"'関数（書き）'!C\" & COLUMN(E$1)+SUM($AD$2:$AD327))","v":0},{"$f":"INDIRECT(\"'関数（書き）'!C\" & COLUMN(F$1)+SUM($AD$2:$AD327))","v":0},{"$f":"INDIRECT(\"'関数（書き）'!C\" & COLUMN(G$1)+SUM($AD$2:$AD327))","v":0},{"$f":"INDIRECT(\"'関数（書き）'!C\" & COLUMN(H$1)+SUM($AD$2:$AD327))","v":0},{"$f":"INDIRECT(\"'関数（書き）'!C\" & COLUMN(I$1)+SUM($AD$2:$AD327))","v":0},{"$f":"INDIRECT(\"'関数（書き）'!C\" & COLUMN(J$1)+SUM($AD$2:$AD327))","v":0},{"$f":"INDIRECT(\"'関数（書き）'!C\" & COLUMN(K$1)+SUM($AD$2:$AD327))","v":0},{"$f":"INDIRECT(\"'関数（読み）'!C\" & COLUMN(B$1)+SUM($AD$2:$AD327))","v":0},{"$f":"INDIRECT(\"'関数（読み）'!C\" & COLUMN(C$1)+SUM($AD$2:$AD327))","v":0},{"$f":"INDIRECT(\"'関数（読み）'!C\" & COLUMN(D$1)+SUM($AD$2:$AD327))","v":0},{"$f":"INDIRECT(\"'関数（読み）'!C\" & COLUMN(E$1)+SUM($AD$2:$AD327))","v":0},{"$f":"INDIRECT(\"'関数（読み）'!C\" & COLUMN(F$1)+SUM($AD$2:$AD327))","v":0},{"$f":"INDIRECT(\"'関数（読み）'!C\" & COLUMN(G$1)+SUM($AD$2:$AD327))","v":0},{"$f":"INDIRECT(\"'関数（読み）'!C\" & COLUMN(H$1)+SUM($AD$2:$AD327))","v":0},{"$f":"INDIRECT(\"'関数（読み）'!C\" & COLUMN(I$1)+SUM($AD$2:$AD327))","v":0},{"$f":"INDIRECT(\"'関数（読み）'!C\" & COLUMN(J$1)+SUM($AD$2:$AD327))","v":0},{"$f":"INDIRECT(\"'関数（読み）'!C\" & COLUMN(K$1)+SUM($AD$2:$AD327))","v":0}]
["⑳","⑲","⑱","⑰","⑯","⑮","⑭","⑬","⑫","⑪","⑩","⑨","⑧","⑦","⑥","⑤","④","③","②","①","次の［　　　　］の部分の漢字には読みがなをひらがなで書き、カタカナは漢字に直しなさい。",14,"「漢字の博士検定試験」練習問題　",null,null,null,null,null,"←",10,"問",{"$f":"AH322+1","v":331},"～",{"$f":"SUM($AD$2:$AD327)+10","v":340},"問まで",{"$f":"COUNTIF($A$1:$T$200,T328)","v":585}]
[{"$f":"IF(A326=\"\",\"\",VLOOKUP(A326,漢字書き!$A$2:$N$506,6,0))","v":{"$error":"#N/A"}},{"$f":"IF(B326=\"\",\"\",VLOOKUP(B326,漢字書き!$A$2:$N$506,6,0))","v":{"$error":"#N/A"}},{"$f":"IF(C326=\"\",\"\",VLOOKUP(C326,漢字書き!$A$2:$N$506,6,0))","v":{"$error":"#N/A"}},{"$f":"IF(D326=\"\",\"\",VLOOKUP(D326,漢字書き!$A$2:$N$506,6,0))","v":{"$error":"#N/A"}},{"$f":"IF(E326=\"\",\"\",VLOOKUP(E326,漢字書き!$A$2:$N$506,6,0))","v":{"$error":"#N/A"}},{"$f":"IF(F326=\"\",\"\",VLOOKUP(F326,漢字書き!$A$2:$N$506,6,0))","v":{"$error":"#N/A"}},{"$f":"IF(G326=\"\",\"\",VLOOKUP(G326,漢字書き!$A$2:$N$506,6,0))","v":{"$error":"#N/A"}},{"$f":"IF(H326=\"\",\"\",VLOOKUP(H326,漢字書き!$A$2:$N$506,6,0))","v":{"$error":"#N/A"}},{"$f":"IF(I326=\"\",\"\",VLOOKUP(I326,漢字書き!$A$2:$N$506,6,0))","v":{"$error":"#N/A"}},{"$f":"IF(J326=\"\",\"\",VLOOKUP(J326,漢字書き!$A$2:$N$506,6,0))","v":{"$error":"#N/A"}},{"$f":"IF(K326=\"\",\"\",VLOOKUP(K326,漢字読み!$A$2:$O$506,6,0))","v":{"$error":"#N/A"}},{"$f":"IF(L326=\"\",\"\",VLOOKUP(L326,漢字読み!$A$2:$O$506,6,0))","v":{"$error":"#N/A"}},{"$f":"IF(M326=\"\",\"\",VLOOKUP(M326,漢字読み!$A$2:$O$506,6,0))","v":{"$error":"#N/A"}},{"$f":"IF(N326=\"\",\"\",VLOOKUP(N326,漢字読み!$A$2:$O$506,6,0))","v":{"$error":"#N/A"}},{"$f":"IF(O326=\"\",\"\",VLOOKUP(O326,漢字読み!$A$2:$O$506,6,0))","v":{"$error":"#N/A"}},{"$f":"IF(P326=\"\",\"\",VLOOKUP(P326,漢字読み!$A$2:$O$506,6,0))","v":{"$error":"#N/A"}},{"$f":"IF(Q326=\"\",\"\",VLOOKUP(Q326,漢字読み!$A$2:$O$506,6,0))","v":{"$error":"#N/A"}},{"$f":"IF(R326=\"\",\"\",VLOOKUP(R326,漢字読み!$A$2:$O$506,6,0))","v":{"$error":"#N/A"}},{"$f":"IF(S326=\"\",\"\",VLOOKUP(S326,漢字読み!$A$2:$O$506,6,0))","v":{"$error":"#N/A"}},{"$f":"IF(T326=\"\",\"\",VLOOKUP(T326,漢字読み!$A$2:$O$506,6,0))","v":{"$error":"#N/A"}},null,"級"]
[null,null,null,null,null,null,null,null,null,null,null,null,null,null,null,null,null,null,null,null,null,"名前"]
[{"$f":"IF(A326=\"\",\"\",IF(VLOOKUP(A326,漢字書き!$A$2:$N$502,7,0)=0,\"\",VLOOKUP(A326,漢字書き!$A$2:$N$502,7,0)))","v":{"$error":"#N/A"}},{"$f":"IF(B326=\"\",\"\",IF(VLOOKUP(B326,漢字書き!$A$2:$N$502,7,0)=0,\"\",VLOOKUP(B326,漢字書き!$A$2:$N$502,7,0)))","v":{"$error":"#N/A"}},{"$f":"IF(C326=\"\",\"\",IF(VLOOKUP(C326,漢字書き!$A$2:$N$502,7,0)=0,\"\",VLOOKUP(C326,漢字書き!$A$2:$N$502,7,0)))","v":{"$error":"#N/A"}},{"$f":"IF(D326=\"\",\"\",IF(VLOOKUP(D326,漢字書き!$A$2:$N$502,7,0)=0,\"\",VLOOKUP(D326,漢字書き!$A$2:$N$502,7,0)))","v":{"$error":"#N/A"}},{"$f":"IF(E326=\"\",\"\",IF(VLOOKUP(E326,漢字書き!$A$2:$N$502,7,0)=0,\"\",VLOOKUP(E326,漢字書き!$A$2:$N$502,7,0)))","v":{"$error":"#N/A"}},{"$f":"IF(F326=\"\",\"\",IF(VLOOKUP(F326,漢字書き!$A$2:$N$502,7,0)=0,\"\",VLOOKUP(F326,漢字書き!$A$2:$N$502,7,0)))","v":{"$error":"#N/A"}},{"$f":"IF(G326=\"\",\"\",IF(VLOOKUP(G326,漢字書き!$A$2:$N$502,7,0)=0,\"\",VLOOKUP(G326,漢字書き!$A$2:$N$502,7,0)))","v":{"$error":"#N/A"}},{"$f":"IF(H326=\"\",\"\",IF(VLOOKUP(H326,漢字書き!$A$2:$N$502,7,0)=0,\"\",VLOOKUP(H326,漢字書き!$A$2:$N$502,7,0)))","v":{"$error":"#N/A"}},{"$f":"IF(I326=\"\",\"\",IF(VLOOKUP(I326,漢字書き!$A$2:$N$502,7,0)=0,\"\",VLOOKUP(I326,漢字書き!$A$2:$N$502,7,0)))","v":{"$error":"#N/A"}},{"$f":"IF(J326=\"\",\"\",IF(VLOOKUP(J326,漢字書き!$A$2:$N$502,7,0)=0,\"\",VLOOKUP(J326,漢字書き!$A$2:$N$502,7,0)))","v":{"$error":"#N/A"}},{"$f":"IF(K326=\"\",\"\",IF(VLOOKUP(K326,漢字読み!$A$2:$O$502,7,0)=0,\"\",VLOOKUP(K326,漢字読み!$A$2:$O$502,7,0)))","v":{"$error":"#N/A"}},{"$f":"IF(L326=\"\",\"\",IF(VLOOKUP(L326,漢字読み!$A$2:$O$502,7,0)=0,\"\",VLOOKUP(L326,漢字読み!$A$2:$O$502,7,0)))","v":{"$error":"#N/A"}},{"$f":"IF(M326=\"\",\"\",IF(VLOOKUP(M326,漢字読み!$A$2:$O$502,7,0)=0,\"\",VLOOKUP(M326,漢字読み!$A$2:$O$502,7,0)))","v":{"$error":"#N/A"}},{"$f":"IF(N326=\"\",\"\",IF(VLOOKUP(N326,漢字読み!$A$2:$O$502,7,0)=0,\"\",VLOOKUP(N326,漢字読み!$A$2:$O$502,7,0)))","v":{"$error":"#N/A"}},{"$f":"IF(O326=\"\",\"\",IF(VLOOKUP(O326,漢字読み!$A$2:$O$502,7,0)=0,\"\",VLOOKUP(O326,漢字読み!$A$2:$O$502,7,0)))","v":{"$error":"#N/A"}},{"$f":"IF(P326=\"\",\"\",IF(VLOOKUP(P326,漢字読み!$A$2:$O$502,7,0)=0,\"\",VLOOKUP(P326,漢字読み!$A$2:$O$502,7,0)))","v":{"$error":"#N/A"}},{"$f":"IF(Q326=\"\",\"\",IF(VLOOKUP(Q326,漢字読み!$A$2:$O$502,7,0)=0,\"\",VLOOKUP(Q326,漢字読み!$A$2:$O$502,7,0)))","v":{"$error":"#N/A"}},{"$f":"IF(R326=\"\",\"\",IF(VLOOKUP(R326,漢字読み!$A$2:$O$502,7,0)=0,\"\",VLOOKUP(R326,漢字読み!$A$2:$O$502,7,0)))","v":{"$error":"#N/A"}},{"$f":"IF(S326=\"\",\"\",IF(VLOOKUP(S326,漢字読み!$A$2:$O$502,7,0)=0,\"\",VLOOKUP(S326,漢字読み!$A$2:$O$502,7,0)))","v":{"$error":"#N/A"}},{"$f":"IF(T326=\"\",\"\",IF(VLOOKUP(T326,漢字読み!$A$2:$O$502,7,0)=0,\"\",VLOOKUP(T326,漢字読み!$A$2:$O$502,7,0)))","v":{"$error":"#N/A"}},null,null,"和歌山県教育委員会"]
[{"$f":"A321","v":0},{"$f":"B321","v":0},{"$f":"C321","v":0},{"$f":"D321","v":0},{"$f":"E321","v":0},{"$f":"F321","v":0},{"$f":"G321","v":0},{"$f":"H321","v":0},{"$f":"I321","v":0},{"$f":"J321","v":0},{"$f":"K321","v":0},{"$f":"L321","v":0},{"$f":"M321","v":0},{"$f":"N321","v":0},{"$f":"O321","v":0},{"$f":"P321","v":0},{"$f":"Q321","v":0},{"$f":"R321","v":0},{"$f":"S321","v":0},{"$f":"T321","v":0}]
["⑳","⑲","⑱","⑰","⑯","⑮","⑭","⑬","⑫","⑪","⑩","⑨","⑧","⑦","⑥","⑤","④","③","②","①","次の［　　　　］の部分の漢字には読みがなをひらがなで書き、カタカナは漢字に直しなさい。",14,"「漢字の博士検定試験」練習問題　"]
[{"$f":"IF(A331=\"\",\"\",VLOOKUP(A331,漢字書き!$A$2:$N$506,6,0))","v":{"$error":"#N/A"}},{"$f":"IF(B331=\"\",\"\",VLOOKUP(B331,漢字書き!$A$2:$N$506,6,0))","v":{"$error":"#N/A"}},{"$f":"IF(C331=\"\",\"\",VLOOKUP(C331,漢字書き!$A$2:$N$506,6,0))","v":{"$error":"#N/A"}},{"$f":"IF(D331=\"\",\"\",VLOOKUP(D331,漢字書き!$A$2:$N$506,6,0))","v":{"$error":"#N/A"}},{"$f":"IF(E331=\"\",\"\",VLOOKUP(E331,漢字書き!$A$2:$N$506,6,0))","v":{"$error":"#N/A"}},{"$f":"IF(F331=\"\",\"\",VLOOKUP(F331,漢字書き!$A$2:$N$506,6,0))","v":{"$error":"#N/A"}},{"$f":"IF(G331=\"\",\"\",VLOOKUP(G331,漢字書き!$A$2:$N$506,6,0))","v":{"$error":"#N/A"}},{"$f":"IF(H331=\"\",\"\",VLOOKUP(H331,漢字書き!$A$2:$N$506,6,0))","v":{"$error":"#N/A"}},{"$f":"IF(I331=\"\",\"\",VLOOKUP(I331,漢字書き!$A$2:$N$506,6,0))","v":{"$error":"#N/A"}},{"$f":"IF(J331=\"\",\"\",VLOOKUP(J331,漢字書き!$A$2:$N$506,6,0))","v":{"$error":"#N/A"}},{"$f":"IF(K331=\"\",\"\",VLOOKUP(K331,漢字読み!$A$2:$O$506,6,0))","v":{"$error":"#N/A"}},{"$f":"IF(L331=\"\",\"\",VLOOKUP(L331,漢字読み!$A$2:$O$506,6,0))","v":{"$error":"#N/A"}},{"$f":"IF(M331=\"\",\"\",VLOOKUP(M331,漢字読み!$A$2:$O$506,6,0))","v":{"$error":"#N/A"}},{"$f":"IF(N331=\"\",\"\",VLOOKUP(N331,漢字読み!$A$2:$O$506,6,0))","v":{"$error":"#N/A"}},{"$f":"IF(O331=\"\",\"\",VLOOKUP(O331,漢字読み!$A$2:$O$506,6,0))","v":{"$error":"#N/A"}},{"$f":"IF(P331=\"\",\"\",VLOOKUP(P331,漢字読み!$A$2:$O$506,6,0))","v":{"$error":"#N/A"}},{"$f":"IF(Q331=\"\",\"\",VLOOKUP(Q331,漢字読み!$A$2:$O$506,6,0))","v":{"$error":"#N/A"}},{"$f":"IF(R331=\"\",\"\",VLOOKUP(R331,漢字読み!$A$2:$O$506,6,0))","v":{"$error":"#N/A"}},{"$f":"IF(S331=\"\",\"\",VLOOKUP(S331,漢字読み!$A$2:$O$506,6,0))","v":{"$error":"#N/A"}},{"$f":"IF(T331=\"\",\"\",VLOOKUP(T331,漢字読み!$A$2:$O$506,6,0))","v":{"$error":"#N/A"}},null,"級"]
[{"$f":"IF(A$11=\"\",\"\",VLOOKUP(A331,漢字書き!$A$2:$O$506,8,0))","v":{"$error":"#N/A"}},{"$f":"IF(B$11=\"\",\"\",VLOOKUP(B331,漢字書き!$A$2:$O$506,8,0))","v":{"$error":"#N/A"}},{"$f":"IF(C$11=\"\",\"\",VLOOKUP(C331,漢字書き!$A$2:$O$506,8,0))","v":{"$error":"#N/A"}},{"$f":"IF(D$11=\"\",\"\",VLOOKUP(D331,漢字書き!$A$2:$O$506,8,0))","v":{"$error":"#N/A"}},{"$f":"IF(E$11=\"\",\"\",VLOOKUP(E331,漢字書き!$A$2:$O$506,8,0))","v":{"$error":"#N/A"}},{"$f":"IF(F$11=\"\",\"\",VLOOKUP(F331,漢字書き!$A$2:$O$506,8,0))","v":{"$error":"#N/A"}},{"$f":"IF(G$11=\"\",\"\",VLOOKUP(G331,漢字書き!$A$2:$O$506,8,0))","v":{"$error":"#N/A"}},{"$f":"IF(H$11=\"\",\"\",VLOOKUP(H331,漢字書き!$A$2:$O$506,8,0))","v":{"$error":"#N/A"}},{"$f":"IF(I$11=\"\",\"\",VLOOKUP(I331,漢字書き!$A$2:$O$506,8,0))","v":{"$error":"#N/A"}},{"$f":"IF(J$11=\"\",\"\",VLOOKUP(J331,漢字書き!$A$2:$O$506,8,0))","v":{"$error":"#N/A"}},{"$f":"IF(K$11=\"\",\"\",VLOOKUP(K331,漢字読み!$A$2:$O$506,8,0))","v":{"$error":"#N/A"}},{"$f":"IF(L$11=\"\",\"\",VLOOKUP(L331,漢字読み!$A$2:$O$506,8,0))","v":{"$error":"#N/A"}},{"$f":"IF(M$11=\"\",\"\",VLOOKUP(M331,漢字読み!$A$2:$O$506,8,0))","v":{"$error":"#N/A"}},{"$f":"IF(N$11=\"\",\"\",VLOOKUP(N331,漢字読み!$A$2:$O$506,8,0))","v":{"$error":"#N/A"}},{"$f":"IF(O$11=\"\",\"\",VLOOKUP(O331,漢字読み!$A$2:$O$506,8,0))","v":{"$error":"#N/A"}},{"$f":"IF(P$11=\"\",\"\",VLOOKUP(P331,漢字読み!$A$2:$O$506,8,0))","v":{"$error":"#N/A"}},{"$f":"IF(Q$11=\"\",\"\",VLOOKUP(Q331,漢字読み!$A$2:$O$506,8,0))","v":{"$error":"#N/A"}},{"$f":"IF(R$11=\"\",\"\",VLOOKUP(R331,漢字読み!$A$2:$O$506,8,0))","v":{"$error":"#N/A"}},{"$f":"IF(S$11=\"\",\"\",VLOOKUP(S331,漢字読み!$A$2:$O$506,8,0))","v":{"$error":"#N/A"}},{"$f":"IF(T$11=\"\",\"\",VLOOKUP(T331,漢字読み!$A$2:$O$506,8,0))","v":{"$error":"#N/A"}},null,"名前"]
[{"$f":"IF(A331=\"\",\"\",IF(VLOOKUP(A331,漢字書き!$A$2:$N$502,7,0)=0,\"\",VLOOKUP(A331,漢字書き!$A$2:$N$502,7,0)))","v":{"$error":"#N/A"}},{"$f":"IF(B331=\"\",\"\",IF(VLOOKUP(B331,漢字書き!$A$2:$N$502,7,0)=0,\"\",VLOOKUP(B331,漢字書き!$A$2:$N$502,7,0)))","v":{"$error":"#N/A"}},{"$f":"IF(C331=\"\",\"\",IF(VLOOKUP(C331,漢字書き!$A$2:$N$502,7,0)=0,\"\",VLOOKUP(C331,漢字書き!$A$2:$N$502,7,0)))","v":{"$error":"#N/A"}},{"$f":"IF(D331=\"\",\"\",IF(VLOOKUP(D331,漢字書き!$A$2:$N$502,7,0)=0,\"\",VLOOKUP(D331,漢字書き!$A$2:$N$502,7,0)))","v":{"$error":"#N/A"}},{"$f":"IF(E331=\"\",\"\",IF(VLOOKUP(E331,漢字書き!$A$2:$N$502,7,0)=0,\"\",VLOOKUP(E331,漢字書き!$A$2:$N$502,7,0)))","v":{"$error":"#N/A"}},{"$f":"IF(F331=\"\",\"\",IF(VLOOKUP(F331,漢字書き!$A$2:$N$502,7,0)=0,\"\",VLOOKUP(F331,漢字書き!$A$2:$N$502,7,0)))","v":{"$error":"#N/A"}},{"$f":"IF(G331=\"\",\"\",IF(VLOOKUP(G331,漢字書き!$A$2:$N$502,7,0)=0,\"\",VLOOKUP(G331,漢字書き!$A$2:$N$502,7,0)))","v":{"$error":"#N/A"}},{"$f":"IF(H331=\"\",\"\",IF(VLOOKUP(H331,漢字書き!$A$2:$N$502,7,0)=0,\"\",VLOOKUP(H331,漢字書き!$A$2:$N$502,7,0)))","v":{"$error":"#N/A"}},{"$f":"IF(I331=\"\",\"\",IF(VLOOKUP(I331,漢字書き!$A$2:$N$502,7,0)=0,\"\",VLOOKUP(I331,漢字書き!$A$2:$N$502,7,0)))","v":{"$error":"#N/A"}},{"$f":"IF(J331=\"\",\"\",IF(VLOOKUP(J331,漢字書き!$A$2:$N$502,7,0)=0,\"\",VLOOKUP(J331,漢字書き!$A$2:$N$502,7,0)))","v":{"$error":"#N/A"}},{"$f":"IF(K331=\"\",\"\",IF(VLOOKUP(K331,漢字読み!$A$2:$O$502,7,0)=0,\"\",VLOOKUP(K331,漢字読み!$A$2:$O$502,7,0)))","v":{"$error":"#N/A"}},{"$f":"IF(L331=\"\",\"\",IF(VLOOKUP(L331,漢字読み!$A$2:$O$502,7,0)=0,\"\",VLOOKUP(L331,漢字読み!$A$2:$O$502,7,0)))","v":{"$error":"#N/A"}},{"$f":"IF(M331=\"\",\"\",IF(VLOOKUP(M331,漢字読み!$A$2:$O$502,7,0)=0,\"\",VLOOKUP(M331,漢字読み!$A$2:$O$502,7,0)))","v":{"$error":"#N/A"}},{"$f":"IF(N331=\"\",\"\",IF(VLOOKUP(N331,漢字読み!$A$2:$O$502,7,0)=0,\"\",VLOOKUP(N331,漢字読み!$A$2:$O$502,7,0)))","v":{"$error":"#N/A"}},{"$f":"IF(O331=\"\",\"\",IF(VLOOKUP(O331,漢字読み!$A$2:$O$502,7,0)=0,\"\",VLOOKUP(O331,漢字読み!$A$2:$O$502,7,0)))","v":{"$error":"#N/A"}},{"$f":"IF(P331=\"\",\"\",IF(VLOOKUP(P331,漢字読み!$A$2:$O$502,7,0)=0,\"\",VLOOKUP(P331,漢字読み!$A$2:$O$502,7,0)))","v":{"$error":"#N/A"}},{"$f":"IF(Q331=\"\",\"\",IF(VLOOKUP(Q331,漢字読み!$A$2:$O$502,7,0)=0,\"\",VLOOKUP(Q331,漢字読み!$A$2:$O$502,7,0)))","v":{"$error":"#N/A"}},{"$f":"IF(R331=\"\",\"\",IF(VLOOKUP(R331,漢字読み!$A$2:$O$502,7,0)=0,\"\",VLOOKUP(R331,漢字読み!$A$2:$O$502,7,0)))","v":{"$error":"#N/A"}},{"$f":"IF(S331=\"\",\"\",IF(VLOOKUP(S331,漢字読み!$A$2:$O$502,7,0)=0,\"\",VLOOKUP(S331,漢字読み!$A$2:$O$502,7,0)))","v":{"$error":"#N/A"}},{"$f":"IF(T331=\"\",\"\",IF(VLOOKUP(T331,漢字読み!$A$2:$O$502,7,0)=0,\"\",VLOOKUP(T331,漢字読み!$A$2:$O$502,7,0)))","v":{"$error":"#N/A"}},null,null,"和歌山県教育委員会"]
[{"$f":"A326","v":0},{"$f":"B326","v":0},{"$f":"C326","v":0},{"$f":"D326","v":0},{"$f":"E326","v":0},{"$f":"F326","v":0},{"$f":"G326","v":0},{"$f":"H326","v":0},{"$f":"I326","v":0},{"$f":"J326","v":0},{"$f":"K326","v":0},{"$f":"L326","v":0},{"$f":"M326","v":0},{"$f":"N326","v":0},{"$f":"O326","v":0},{"$f":"P326","v":0},{"$f":"Q326","v":0},{"$f":"R326","v":0},{"$f":"S326","v":0},{"$f":"T326","v":0}]
["⑳","⑲","⑱","⑰","⑯","⑮","⑭","⑬","⑫","⑪","⑩","⑨","⑧","⑦","⑥","⑤","④","③","②","①","次の［　　　　］の部分の漢字には読みがなをひらがなで書き、カタカナは漢字に直しなさい。",14,"「漢字の博士検定試験」練習問題　"]
[{"$f":"IF(A336=\"\",\"\",VLOOKUP(A336,漢字書き!$A$2:$N$506,6,0))","v":{"$error":"#N/A"}},{"$f":"IF(B336=\"\",\"\",VLOOKUP(B336,漢字書き!$A$2:$N$506,6,0))","v":{"$error":"#N/A"}},{"$f":"IF(C336=\"\",\"\",VLOOKUP(C336,漢字書き!$A$2:$N$506,6,0))","v":{"$error":"#N/A"}},{"$f":"IF(D336=\"\",\"\",VLOOKUP(D336,漢字書き!$A$2:$N$506,6,0))","v":{"$error":"#N/A"}},{"$f":"IF(E336=\"\",\"\",VLOOKUP(E336,漢字書き!$A$2:$N$506,6,0))","v":{"$error":"#N/A"}},{"$f":"IF(F336=\"\",\"\",VLOOKUP(F336,漢字書き!$A$2:$N$506,6,0))","v":{"$error":"#N/A"}},{"$f":"IF(G336=\"\",\"\",VLOOKUP(G336,漢字書き!$A$2:$N$506,6,0))","v":{"$error":"#N/A"}},{"$f":"IF(H336=\"\",\"\",VLOOKUP(H336,漢字書き!$A$2:$N$506,6,0))","v":{"$error":"#N/A"}},{"$f":"IF(I336=\"\",\"\",VLOOKUP(I336,漢字書き!$A$2:$N$506,6,0))","v":{"$error":"#N/A"}},{"$f":"IF(J336=\"\",\"\",VLOOKUP(J336,漢字書き!$A$2:$N$506,6,0))","v":{"$error":"#N/A"}},{"$f":"IF(K336=\"\",\"\",VLOOKUP(K336,漢字読み!$A$2:$O$506,6,0))","v":{"$error":"#N/A"}},{"$f":"IF(L336=\"\",\"\",VLOOKUP(L336,漢字読み!$A$2:$O$506,6,0))","v":{"$error":"#N/A"}},{"$f":"IF(M336=\"\",\"\",VLOOKUP(M336,漢字読み!$A$2:$O$506,6,0))","v":{"$error":"#N/A"}},{"$f":"IF(N336=\"\",\"\",VLOOKUP(N336,漢字読み!$A$2:$O$506,6,0))","v":{"$error":"#N/A"}},{"$f":"IF(O336=\"\",\"\",VLOOKUP(O336,漢字読み!$A$2:$O$506,6,0))","v":{"$error":"#N/A"}},{"$f":"IF(P336=\"\",\"\",VLOOKUP(P336,漢字読み!$A$2:$O$506,6,0))","v":{"$error":"#N/A"}},{"$f":"IF(Q336=\"\",\"\",VLOOKUP(Q336,漢字読み!$A$2:$O$506,6,0))","v":{"$error":"#N/A"}},{"$f":"IF(R336=\"\",\"\",VLOOKUP(R336,漢字読み!$A$2:$O$506,6,0))","v":{"$error":"#N/A"}},{"$f":"IF(S336=\"\",\"\",VLOOKUP(S336,漢字読み!$A$2:$O$506,6,0))","v":{"$error":"#N/A"}},{"$f":"IF(T336=\"\",\"\",VLOOKUP(T336,漢字読み!$A$2:$O$506,6,0))","v":{"$error":"#N/A"}},null,"級"]
[{"$f":"IF(A$16=\"\",\"\",VLOOKUP(A336,漢字書き!$A$2:$O$506,8,0))","v":{"$error":"#N/A"}},{"$f":"IF(B$16=\"\",\"\",VLOOKUP(B336,漢字書き!$A$2:$O$506,8,0))","v":{"$error":"#N/A"}},{"$f":"IF(C$16=\"\",\"\",VLOOKUP(C336,漢字書き!$A$2:$O$506,8,0))","v":{"$error":"#N/A"}},{"$f":"IF(D$16=\"\",\"\",VLOOKUP(D336,漢字書き!$A$2:$O$506,8,0))","v":{"$error":"#N/A"}},{"$f":"IF(E$16=\"\",\"\",VLOOKUP(E336,漢字書き!$A$2:$O$506,8,0))","v":{"$error":"#N/A"}},{"$f":"IF(F$16=\"\",\"\",VLOOKUP(F336,漢字書き!$A$2:$O$506,8,0))","v":{"$error":"#N/A"}},{"$f":"IF(G$16=\"\",\"\",VLOOKUP(G336,漢字書き!$A$2:$O$506,8,0))","v":{"$error":"#N/A"}},{"$f":"IF(H$16=\"\",\"\",VLOOKUP(H336,漢字書き!$A$2:$O$506,8,0))","v":{"$error":"#N/A"}},{"$f":"IF(I$16=\"\",\"\",VLOOKUP(I336,漢字書き!$A$2:$O$506,8,0))","v":{"$error":"#N/A"}},{"$f":"IF(J$16=\"\",\"\",VLOOKUP(J336,漢字書き!$A$2:$O$506,8,0))","v":{"$error":"#N/A"}},{"$f":"IF(K$16=\"\",\"\",VLOOKUP(K336,漢字読み!$A$2:$O$506,8,0))","v":{"$error":"#N/A"}},{"$f":"IF(L$16=\"\",\"\",VLOOKUP(L336,漢字読み!$A$2:$O$506,8,0))","v":{"$error":"#N/A"}},{"$f":"IF(M$16=\"\",\"\",VLOOKUP(M336,漢字読み!$A$2:$O$506,8,0))","v":{"$error":"#N/A"}},{"$f":"IF(N$16=\"\",\"\",VLOOKUP(N336,漢字読み!$A$2:$O$506,8,0))","v":{"$error":"#N/A"}},{"$f":"IF(O$16=\"\",\"\",VLOOKUP(O336,漢字読み!$A$2:$O$506,8,0))","v":{"$error":"#N/A"}},{"$f":"IF(P$16=\"\",\"\",VLOOKUP(P336,漢字読み!$A$2:$O$506,8,0))","v":{"$error":"#N/A"}},{"$f":"IF(Q$16=\"\",\"\",VLOOKUP(Q336,漢字読み!$A$2:$O$506,8,0))","v":{"$error":"#N/A"}},{"$f":"IF(R$16=\"\",\"\",VLOOKUP(R336,漢字読み!$A$2:$O$506,8,0))","v":{"$error":"#N/A"}},{"$f":"IF(S$16=\"\",\"\",VLOOKUP(S336,漢字読み!$A$2:$O$506,8,0))","v":{"$error":"#N/A"}},{"$f":"IF(T$16=\"\",\"\",VLOOKUP(T336,漢字読み!$A$2:$O$506,8,0))","v":{"$error":"#N/A"}},null,"名前"]
[{"$f":"IF(A336=\"\",\"\",IF(VLOOKUP(A336,漢字書き!$A$2:$N$502,7,0)=0,\"\",VLOOKUP(A336,漢字書き!$A$2:$N$502,7,0)))","v":{"$error":"#N/A"}},{"$f":"IF(B336=\"\",\"\",IF(VLOOKUP(B336,漢字書き!$A$2:$N$502,7,0)=0,\"\",VLOOKUP(B336,漢字書き!$A$2:$N$502,7,0)))","v":{"$error":"#N/A"}},{"$f":"IF(C336=\"\",\"\",IF(VLOOKUP(C336,漢字書き!$A$2:$N$502,7,0)=0,\"\",VLOOKUP(C336,漢字書き!$A$2:$N$502,7,0)))","v":{"$error":"#N/A"}},{"$f":"IF(D336=\"\",\"\",IF(VLOOKUP(D336,漢字書き!$A$2:$N$502,7,0)=0,\"\",VLOOKUP(D336,漢字書き!$A$2:$N$502,7,0)))","v":{"$error":"#N/A"}},{"$f":"IF(E336=\"\",\"\",IF(VLOOKUP(E336,漢字書き!$A$2:$N$502,7,0)=0,\"\",VLOOKUP(E336,漢字書き!$A$2:$N$502,7,0)))","v":{"$error":"#N/A"}},{"$f":"IF(F336=\"\",\"\",IF(VLOOKUP(F336,漢字書き!$A$2:$N$502,7,0)=0,\"\",VLOOKUP(F336,漢字書き!$A$2:$N$502,7,0)))","v":{"$error":"#N/A"}},{"$f":"IF(G336=\"\",\"\",IF(VLOOKUP(G336,漢字書き!$A$2:$N$502,7,0)=0,\"\",VLOOKUP(G336,漢字書き!$A$2:$N$502,7,0)))","v":{"$error":"#N/A"}},{"$f":"IF(H336=\"\",\"\",IF(VLOOKUP(H336,漢字書き!$A$2:$N$502,7,0)=0,\"\",VLOOKUP(H336,漢字書き!$A$2:$N$502,7,0)))","v":{"$error":"#N/A"}},{"$f":"IF(I336=\"\",\"\",IF(VLOOKUP(I336,漢字書き!$A$2:$N$502,7,0)=0,\"\",VLOOKUP(I336,漢字書き!$A$2:$N$502,7,0)))","v":{"$error":"#N/A"}},{"$f":"IF(J336=\"\",\"\",IF(VLOOKUP(J336,漢字書き!$A$2:$N$502,7,0)=0,\"\",VLOOKUP(J336,漢字書き!$A$2:$N$502,7,0)))","v":{"$error":"#N/A"}},{"$f":"IF(K336=\"\",\"\",IF(VLOOKUP(K336,漢字読み!$A$2:$O$502,7,0)=0,\"\",VLOOKUP(K336,漢字読み!$A$2:$O$502,7,0)))","v":{"$error":"#N/A"}},{"$f":"IF(L336=\"\",\"\",IF(VLOOKUP(L336,漢字読み!$A$2:$O$502,7,0)=0,\"\",VLOOKUP(L336,漢字読み!$A$2:$O$502,7,0)))","v":{"$error":"#N/A"}},{"$f":"IF(M336=\"\",\"\",IF(VLOOKUP(M336,漢字読み!$A$2:$O$502,7,0)=0,\"\",VLOOKUP(M336,漢字読み!$A$2:$O$502,7,0)))","v":{"$error":"#N/A"}},{"$f":"IF(N336=\"\",\"\",IF(VLOOKUP(N336,漢字読み!$A$2:$O$502,7,0)=0,\"\",VLOOKUP(N336,漢字読み!$A$2:$O$502,7,0)))","v":{"$error":"#N/A"}},{"$f":"IF(O336=\"\",\"\",IF(VLOOKUP(O336,漢字読み!$A$2:$O$502,7,0)=0,\"\",VLOOKUP(O336,漢字読み!$A$2:$O$502,7,0)))","v":{"$error":"#N/A"}},{"$f":"IF(P336=\"\",\"\",IF(VLOOKUP(P336,漢字読み!$A$2:$O$502,7,0)=0,\"\",VLOOKUP(P336,漢字読み!$A$2:$O$502,7,0)))","v":{"$error":"#N/A"}},{"$f":"IF(Q336=\"\",\"\",IF(VLOOKUP(Q336,漢字読み!$A$2:$O$502,7,0)=0,\"\",VLOOKUP(Q336,漢字読み!$A$2:$O$502,7,0)))","v":{"$error":"#N/A"}},{"$f":"IF(R336=\"\",\"\",IF(VLOOKUP(R336,漢字読み!$A$2:$O$502,7,0)=0,\"\",VLOOKUP(R336,漢字読み!$A$2:$O$502,7,0)))","v":{"$error":"#N/A"}},{"$f":"IF(S336=\"\",\"\",IF(VLOOKUP(S336,漢字読み!$A$2:$O$502,7,0)=0,\"\",VLOOKUP(S336,漢字読み!$A$2:$O$502,7,0)))","v":{"$error":"#N/A"}},{"$f":"IF(T336=\"\",\"\",IF(VLOOKUP(T336,漢字読み!$A$2:$O$502,7,0)=0,\"\",VLOOKUP(T336,漢字読み!$A$2:$O$502,7,0)))","v":{"$error":"#N/A"}},null,null,"和歌山県教育委員会"]
[{"$f":"INDIRECT(\"'関数（書き）'!C\" & COLUMN(B$1)+SUM($AD$2:$AD342))","v":0},{"$f":"INDIRECT(\"'関数（書き）'!C\" & COLUMN(C$1)+SUM($AD$2:$AD342))","v":0},{"$f":"INDIRECT(\"'関数（書き）'!C\" & COLUMN(D$1)+SUM($AD$2:$AD342))","v":0},{"$f":"INDIRECT(\"'関数（書き）'!C\" & COLUMN(E$1)+SUM($AD$2:$AD342))","v":0},{"$f":"INDIRECT(\"'関数（書き）'!C\" & COLUMN(F$1)+SUM($AD$2:$AD342))","v":0},{"$f":"INDIRECT(\"'関数（書き）'!C\" & COLUMN(G$1)+SUM($AD$2:$AD342))","v":0},{"$f":"INDIRECT(\"'関数（書き）'!C\" & COLUMN(H$1)+SUM($AD$2:$AD342))","v":0},{"$f":"INDIRECT(\"'関数（書き）'!C\" & COLUMN(I$1)+SUM($AD$2:$AD342))","v":0},{"$f":"INDIRECT(\"'関数（書き）'!C\" & COLUMN(J$1)+SUM($AD$2:$AD342))","v":0},{"$f":"INDIRECT(\"'関数（書き）'!C\" & COLUMN(K$1)+SUM($AD$2:$AD342))","v":0},{"$f":"INDIRECT(\"'関数（読み）'!C\" & COLUMN(B$1)+SUM($AD$2:$AD342))","v":0},{"$f":"INDIRECT(\"'関数（読み）'!C\" & COLUMN(C$1)+SUM($AD$2:$AD342))","v":0},{"$f":"INDIRECT(\"'関数（読み）'!C\" & COLUMN(D$1)+SUM($AD$2:$AD342))","v":0},{"$f":"INDIRECT(\"'関数（読み）'!C\" & COLUMN(E$1)+SUM($AD$2:$AD342))","v":0},{"$f":"INDIRECT(\"'関数（読み）'!C\" & COLUMN(F$1)+SUM($AD$2:$AD342))","v":0},{"$f":"INDIRECT(\"'関数（読み）'!C\" & COLUMN(G$1)+SUM($AD$2:$AD342))","v":0},{"$f":"INDIRECT(\"'関数（読み）'!C\" & COLUMN(H$1)+SUM($AD$2:$AD342))","v":0},{"$f":"INDIRECT(\"'関数（読み）'!C\" & COLUMN(I$1)+SUM($AD$2:$AD342))","v":0},{"$f":"INDIRECT(\"'関数（読み）'!C\" & COLUMN(J$1)+SUM($AD$2:$AD342))","v":0},{"$f":"INDIRECT(\"'関数（読み）'!C\" & COLUMN(K$1)+SUM($AD$2:$AD342))","v":0}]
["⑳","⑲","⑱","⑰","⑯","⑮","⑭","⑬","⑫","⑪","⑩","⑨","⑧","⑦","⑥","⑤","④","③","②","①","次の［　　　　］の部分の漢字には読みがなをひらがなで書き、カタカナは漢字に直しなさい。",14,"「漢字の博士検定試験」練習問題　",null,null,null,null,null,"←",10,"問",{"$f":"AH327+1","v":341},"～",{"$f":"SUM($AD$2:$AD342)+10","v":350},"問まで",{"$f":"COUNTIF($A$1:$T$200,T343)","v":585}]
[{"$f":"IF(A341=\"\",\"\",VLOOKUP(A341,漢字書き!$A$2:$N$506,6,0))","v":{"$error":"#N/A"}},{"$f":"IF(B341=\"\",\"\",VLOOKUP(B341,漢字書き!$A$2:$N$506,6,0))","v":{"$error":"#N/A"}},{"$f":"IF(C341=\"\",\"\",VLOOKUP(C341,漢字書き!$A$2:$N$506,6,0))","v":{"$error":"#N/A"}},{"$f":"IF(D341=\"\",\"\",VLOOKUP(D341,漢字書き!$A$2:$N$506,6,0))","v":{"$error":"#N/A"}},{"$f":"IF(E341=\"\",\"\",VLOOKUP(E341,漢字書き!$A$2:$N$506,6,0))","v":{"$error":"#N/A"}},{"$f":"IF(F341=\"\",\"\",VLOOKUP(F341,漢字書き!$A$2:$N$506,6,0))","v":{"$error":"#N/A"}},{"$f":"IF(G341=\"\",\"\",VLOOKUP(G341,漢字書き!$A$2:$N$506,6,0))","v":{"$error":"#N/A"}},{"$f":"IF(H341=\"\",\"\",VLOOKUP(H341,漢字書き!$A$2:$N$506,6,0))","v":{"$error":"#N/A"}},{"$f":"IF(I341=\"\",\"\",VLOOKUP(I341,漢字書き!$A$2:$N$506,6,0))","v":{"$error":"#N/A"}},{"$f":"IF(J341=\"\",\"\",VLOOKUP(J341,漢字書き!$A$2:$N$506,6,0))","v":{"$error":"#N/A"}},{"$f":"IF(K341=\"\",\"\",VLOOKUP(K341,漢字読み!$A$2:$O$506,6,0))","v":{"$error":"#N/A"}},{"$f":"IF(L341=\"\",\"\",VLOOKUP(L341,漢字読み!$A$2:$O$506,6,0))","v":{"$error":"#N/A"}},{"$f":"IF(M341=\"\",\"\",VLOOKUP(M341,漢字読み!$A$2:$O$506,6,0))","v":{"$error":"#N/A"}},{"$f":"IF(N341=\"\",\"\",VLOOKUP(N341,漢字読み!$A$2:$O$506,6,0))","v":{"$error":"#N/A"}},{"$f":"IF(O341=\"\",\"\",VLOOKUP(O341,漢字読み!$A$2:$O$506,6,0))","v":{"$error":"#N/A"}},{"$f":"IF(P341=\"\",\"\",VLOOKUP(P341,漢字読み!$A$2:$O$506,6,0))","v":{"$error":"#N/A"}},{"$f":"IF(Q341=\"\",\"\",VLOOKUP(Q341,漢字読み!$A$2:$O$506,6,0))","v":{"$error":"#N/A"}},{"$f":"IF(R341=\"\",\"\",VLOOKUP(R341,漢字読み!$A$2:$O$506,6,0))","v":{"$error":"#N/A"}},{"$f":"IF(S341=\"\",\"\",VLOOKUP(S341,漢字読み!$A$2:$O$506,6,0))","v":{"$error":"#N/A"}},{"$f":"IF(T341=\"\",\"\",VLOOKUP(T341,漢字読み!$A$2:$O$506,6,0))","v":{"$error":"#N/A"}},null,"級"]
[null,null,null,null,null,null,null,null,null,null,null,null,null,null,null,null,null,null,null,null,null,"名前"]
[{"$f":"IF(A341=\"\",\"\",IF(VLOOKUP(A341,漢字書き!$A$2:$N$502,7,0)=0,\"\",VLOOKUP(A341,漢字書き!$A$2:$N$502,7,0)))","v":{"$error":"#N/A"}},{"$f":"IF(B341=\"\",\"\",IF(VLOOKUP(B341,漢字書き!$A$2:$N$502,7,0)=0,\"\",VLOOKUP(B341,漢字書き!$A$2:$N$502,7,0)))","v":{"$error":"#N/A"}},{"$f":"IF(C341=\"\",\"\",IF(VLOOKUP(C341,漢字書き!$A$2:$N$502,7,0)=0,\"\",VLOOKUP(C341,漢字書き!$A$2:$N$502,7,0)))","v":{"$error":"#N/A"}},{"$f":"IF(D341=\"\",\"\",IF(VLOOKUP(D341,漢字書き!$A$2:$N$502,7,0)=0,\"\",VLOOKUP(D341,漢字書き!$A$2:$N$502,7,0)))","v":{"$error":"#N/A"}},{"$f":"IF(E341=\"\",\"\",IF(VLOOKUP(E341,漢字書き!$A$2:$N$502,7,0)=0,\"\",VLOOKUP(E341,漢字書き!$A$2:$N$502,7,0)))","v":{"$error":"#N/A"}},{"$f":"IF(F341=\"\",\"\",IF(VLOOKUP(F341,漢字書き!$A$2:$N$502,7,0)=0,\"\",VLOOKUP(F341,漢字書き!$A$2:$N$502,7,0)))","v":{"$error":"#N/A"}},{"$f":"IF(G341=\"\",\"\",IF(VLOOKUP(G341,漢字書き!$A$2:$N$502,7,0)=0,\"\",VLOOKUP(G341,漢字書き!$A$2:$N$502,7,0)))","v":{"$error":"#N/A"}},{"$f":"IF(H341=\"\",\"\",IF(VLOOKUP(H341,漢字書き!$A$2:$N$502,7,0)=0,\"\",VLOOKUP(H341,漢字書き!$A$2:$N$502,7,0)))","v":{"$error":"#N/A"}},{"$f":"IF(I341=\"\",\"\",IF(VLOOKUP(I341,漢字書き!$A$2:$N$502,7,0)=0,\"\",VLOOKUP(I341,漢字書き!$A$2:$N$502,7,0)))","v":{"$error":"#N/A"}},{"$f":"IF(J341=\"\",\"\",IF(VLOOKUP(J341,漢字書き!$A$2:$N$502,7,0)=0,\"\",VLOOKUP(J341,漢字書き!$A$2:$N$502,7,0)))","v":{"$error":"#N/A"}},{"$f":"IF(K341=\"\",\"\",IF(VLOOKUP(K341,漢字読み!$A$2:$O$502,7,0)=0,\"\",VLOOKUP(K341,漢字読み!$A$2:$O$502,7,0)))","v":{"$error":"#N/A"}},{"$f":"IF(L341=\"\",\"\",IF(VLOOKUP(L341,漢字読み!$A$2:$O$502,7,0)=0,\"\",VLOOKUP(L341,漢字読み!$A$2:$O$502,7,0)))","v":{"$error":"#N/A"}},{"$f":"IF(M341=\"\",\"\",IF(VLOOKUP(M341,漢字読み!$A$2:$O$502,7,0)=0,\"\",VLOOKUP(M341,漢字読み!$A$2:$O$502,7,0)))","v":{"$error":"#N/A"}},{"$f":"IF(N341=\"\",\"\",IF(VLOOKUP(N341,漢字読み!$A$2:$O$502,7,0)=0,\"\",VLOOKUP(N341,漢字読み!$A$2:$O$502,7,0)))","v":{"$error":"#N/A"}},{"$f":"IF(O341=\"\",\"\",IF(VLOOKUP(O341,漢字読み!$A$2:$O$502,7,0)=0,\"\",VLOOKUP(O341,漢字読み!$A$2:$O$502,7,0)))","v":{"$error":"#N/A"}},{"$f":"IF(P341=\"\",\"\",IF(VLOOKUP(P341,漢字読み!$A$2:$O$502,7,0)=0,\"\",VLOOKUP(P341,漢字読み!$A$2:$O$502,7,0)))","v":{"$error":"#N/A"}},{"$f":"IF(Q341=\"\",\"\",IF(VLOOKUP(Q341,漢字読み!$A$2:$O$502,7,0)=0,\"\",VLOOKUP(Q341,漢字読み!$A$2:$O$502,7,0)))","v":{"$error":"#N/A"}},{"$f":"IF(R341=\"\",\"\",IF(VLOOKUP(R341,漢字読み!$A$2:$O$502,7,0)=0,\"\",VLOOKUP(R341,漢字読み!$A$2:$O$502,7,0)))","v":{"$error":"#N/A"}},{"$f":"IF(S341=\"\",\"\",IF(VLOOKUP(S341,漢字読み!$A$2:$O$502,7,0)=0,\"\",VLOOKUP(S341,漢字読み!$A$2:$O$502,7,0)))","v":{"$error":"#N/A"}},{"$f":"IF(T341=\"\",\"\",IF(VLOOKUP(T341,漢字読み!$A$2:$O$502,7,0)=0,\"\",VLOOKUP(T341,漢字読み!$A$2:$O$502,7,0)))","v":{"$error":"#N/A"}},null,null,"和歌山県教育委員会"]
[{"$f":"INDIRECT(\"'関数（書き）'!C\" & COLUMN(B$1)+SUM($AD$2:$AD347))","v":0},{"$f":"INDIRECT(\"'関数（書き）'!C\" & COLUMN(C$1)+SUM($AD$2:$AD347))","v":0},{"$f":"INDIRECT(\"'関数（書き）'!C\" & COLUMN(D$1)+SUM($AD$2:$AD347))","v":0},{"$f":"INDIRECT(\"'関数（書き）'!C\" & COLUMN(E$1)+SUM($AD$2:$AD347))","v":0},{"$f":"INDIRECT(\"'関数（書き）'!C\" & COLUMN(F$1)+SUM($AD$2:$AD347))","v":0},{"$f":"INDIRECT(\"'関数（書き）'!C\" & COLUMN(G$1)+SUM($AD$2:$AD347))","v":0},{"$f":"INDIRECT(\"'関数（書き）'!C\" & COLUMN(H$1)+SUM($AD$2:$AD347))","v":0},{"$f":"INDIRECT(\"'関数（書き）'!C\" & COLUMN(I$1)+SUM($AD$2:$AD347))","v":0},{"$f":"INDIRECT(\"'関数（書き）'!C\" & COLUMN(J$1)+SUM($AD$2:$AD347))","v":0},{"$f":"INDIRECT(\"'関数（書き）'!C\" & COLUMN(K$1)+SUM($AD$2:$AD347))","v":0},{"$f":"INDIRECT(\"'関数（読み）'!C\" & COLUMN(B$1)+SUM($AD$2:$AD347))","v":0},{"$f":"INDIRECT(\"'関数（読み）'!C\" & COLUMN(C$1)+SUM($AD$2:$AD347))","v":0},{"$f":"INDIRECT(\"'関数（読み）'!C\" & COLUMN(D$1)+SUM($AD$2:$AD347))","v":0},{"$f":"INDIRECT(\"'関数（読み）'!C\" & COLUMN(E$1)+SUM($AD$2:$AD347))","v":0},{"$f":"INDIRECT(\"'関数（読み）'!C\" & COLUMN(F$1)+SUM($AD$2:$AD347))","v":0},{"$f":"INDIRECT(\"'関数（読み）'!C\" & COLUMN(G$1)+SUM($AD$2:$AD347))","v":0},{"$f":"INDIRECT(\"'関数（読み）'!C\" & COLUMN(H$1)+SUM($AD$2:$AD347))","v":0},{"$f":"INDIRECT(\"'関数（読み）'!C\" & COLUMN(I$1)+SUM($AD$2:$AD347))","v":0},{"$f":"INDIRECT(\"'関数（読み）'!C\" & COLUMN(J$1)+SUM($AD$2:$AD347))","v":0},{"$f":"INDIRECT(\"'関数（読み）'!C\" & COLUMN(K$1)+SUM($AD$2:$AD347))","v":0}]
["⑳","⑲","⑱","⑰","⑯","⑮","⑭","⑬","⑫","⑪","⑩","⑨","⑧","⑦","⑥","⑤","④","③","②","①","次の［　　　　］の部分の漢字には読みがなをひらがなで書き、カタカナは漢字に直しなさい。",14,"「漢字の博士検定試験」練習問題　",null,null,null,null,null,"←",10,"問",{"$f":"AH342+1","v":351},"～",{"$f":"SUM($AD$2:$AD347)+10","v":360},"問まで",{"$f":"COUNTIF($A$1:$T$200,T348)","v":585}]
[{"$f":"IF(A346=\"\",\"\",VLOOKUP(A346,漢字書き!$A$2:$N$506,6,0))","v":{"$error":"#N/A"}},{"$f":"IF(B346=\"\",\"\",VLOOKUP(B346,漢字書き!$A$2:$N$506,6,0))","v":{"$error":"#N/A"}},{"$f":"IF(C346=\"\",\"\",VLOOKUP(C346,漢字書き!$A$2:$N$506,6,0))","v":{"$error":"#N/A"}},{"$f":"IF(D346=\"\",\"\",VLOOKUP(D346,漢字書き!$A$2:$N$506,6,0))","v":{"$error":"#N/A"}},{"$f":"IF(E346=\"\",\"\",VLOOKUP(E346,漢字書き!$A$2:$N$506,6,0))","v":{"$error":"#N/A"}},{"$f":"IF(F346=\"\",\"\",VLOOKUP(F346,漢字書き!$A$2:$N$506,6,0))","v":{"$error":"#N/A"}},{"$f":"IF(G346=\"\",\"\",VLOOKUP(G346,漢字書き!$A$2:$N$506,6,0))","v":{"$error":"#N/A"}},{"$f":"IF(H346=\"\",\"\",VLOOKUP(H346,漢字書き!$A$2:$N$506,6,0))","v":{"$error":"#N/A"}},{"$f":"IF(I346=\"\",\"\",VLOOKUP(I346,漢字書き!$A$2:$N$506,6,0))","v":{"$error":"#N/A"}},{"$f":"IF(J346=\"\",\"\",VLOOKUP(J346,漢字書き!$A$2:$N$506,6,0))","v":{"$error":"#N/A"}},{"$f":"IF(K346=\"\",\"\",VLOOKUP(K346,漢字読み!$A$2:$O$506,6,0))","v":{"$error":"#N/A"}},{"$f":"IF(L346=\"\",\"\",VLOOKUP(L346,漢字読み!$A$2:$O$506,6,0))","v":{"$error":"#N/A"}},{"$f":"IF(M346=\"\",\"\",VLOOKUP(M346,漢字読み!$A$2:$O$506,6,0))","v":{"$error":"#N/A"}},{"$f":"IF(N346=\"\",\"\",VLOOKUP(N346,漢字読み!$A$2:$O$506,6,0))","v":{"$error":"#N/A"}},{"$f":"IF(O346=\"\",\"\",VLOOKUP(O346,漢字読み!$A$2:$O$506,6,0))","v":{"$error":"#N/A"}},{"$f":"IF(P346=\"\",\"\",VLOOKUP(P346,漢字読み!$A$2:$O$506,6,0))","v":{"$error":"#N/A"}},{"$f":"IF(Q346=\"\",\"\",VLOOKUP(Q346,漢字読み!$A$2:$O$506,6,0))","v":{"$error":"#N/A"}},{"$f":"IF(R346=\"\",\"\",VLOOKUP(R346,漢字読み!$A$2:$O$506,6,0))","v":{"$error":"#N/A"}},{"$f":"IF(S346=\"\",\"\",VLOOKUP(S346,漢字読み!$A$2:$O$506,6,0))","v":{"$error":"#N/A"}},{"$f":"IF(T346=\"\",\"\",VLOOKUP(T346,漢字読み!$A$2:$O$506,6,0))","v":{"$error":"#N/A"}},null,"級"]
[null,null,null,null,null,null,null,null,null,null,null,null,null,null,null,null,null,null,null,null,null,"名前"]
[{"$f":"IF(A346=\"\",\"\",IF(VLOOKUP(A346,漢字書き!$A$2:$N$502,7,0)=0,\"\",VLOOKUP(A346,漢字書き!$A$2:$N$502,7,0)))","v":{"$error":"#N/A"}},{"$f":"IF(B346=\"\",\"\",IF(VLOOKUP(B346,漢字書き!$A$2:$N$502,7,0)=0,\"\",VLOOKUP(B346,漢字書き!$A$2:$N$502,7,0)))","v":{"$error":"#N/A"}},{"$f":"IF(C346=\"\",\"\",IF(VLOOKUP(C346,漢字書き!$A$2:$N$502,7,0)=0,\"\",VLOOKUP(C346,漢字書き!$A$2:$N$502,7,0)))","v":{"$error":"#N/A"}},{"$f":"IF(D346=\"\",\"\",IF(VLOOKUP(D346,漢字書き!$A$2:$N$502,7,0)=0,\"\",VLOOKUP(D346,漢字書き!$A$2:$N$502,7,0)))","v":{"$error":"#N/A"}},{"$f":"IF(E346=\"\",\"\",IF(VLOOKUP(E346,漢字書き!$A$2:$N$502,7,0)=0,\"\",VLOOKUP(E346,漢字書き!$A$2:$N$502,7,0)))","v":{"$error":"#N/A"}},{"$f":"IF(F346=\"\",\"\",IF(VLOOKUP(F346,漢字書き!$A$2:$N$502,7,0)=0,\"\",VLOOKUP(F346,漢字書き!$A$2:$N$502,7,0)))","v":{"$error":"#N/A"}},{"$f":"IF(G346=\"\",\"\",IF(VLOOKUP(G346,漢字書き!$A$2:$N$502,7,0)=0,\"\",VLOOKUP(G346,漢字書き!$A$2:$N$502,7,0)))","v":{"$error":"#N/A"}},{"$f":"IF(H346=\"\",\"\",IF(VLOOKUP(H346,漢字書き!$A$2:$N$502,7,0)=0,\"\",VLOOKUP(H346,漢字書き!$A$2:$N$502,7,0)))","v":{"$error":"#N/A"}},{"$f":"IF(I346=\"\",\"\",IF(VLOOKUP(I346,漢字書き!$A$2:$N$502,7,0)=0,\"\",VLOOKUP(I346,漢字書き!$A$2:$N$502,7,0)))","v":{"$error":"#N/A"}},{"$f":"IF(J346=\"\",\"\",IF(VLOOKUP(J346,漢字書き!$A$2:$N$502,7,0)=0,\"\",VLOOKUP(J346,漢字書き!$A$2:$N$502,7,0)))","v":{"$error":"#N/A"}},{"$f":"IF(K346=\"\",\"\",IF(VLOOKUP(K346,漢字読み!$A$2:$O$502,7,0)=0,\"\",VLOOKUP(K346,漢字読み!$A$2:$O$502,7,0)))","v":{"$error":"#N/A"}},{"$f":"IF(L346=\"\",\"\",IF(VLOOKUP(L346,漢字読み!$A$2:$O$502,7,0)=0,\"\",VLOOKUP(L346,漢字読み!$A$2:$O$502,7,0)))","v":{"$error":"#N/A"}},{"$f":"IF(M346=\"\",\"\",IF(VLOOKUP(M346,漢字読み!$A$2:$O$502,7,0)=0,\"\",VLOOKUP(M346,漢字読み!$A$2:$O$502,7,0)))","v":{"$error":"#N/A"}},{"$f":"IF(N346=\"\",\"\",IF(VLOOKUP(N346,漢字読み!$A$2:$O$502,7,0)=0,\"\",VLOOKUP(N346,漢字読み!$A$2:$O$502,7,0)))","v":{"$error":"#N/A"}},{"$f":"IF(O346=\"\",\"\",IF(VLOOKUP(O346,漢字読み!$A$2:$O$502,7,0)=0,\"\",VLOOKUP(O346,漢字読み!$A$2:$O$502,7,0)))","v":{"$error":"#N/A"}},{"$f":"IF(P346=\"\",\"\",IF(VLOOKUP(P346,漢字読み!$A$2:$O$502,7,0)=0,\"\",VLOOKUP(P346,漢字読み!$A$2:$O$502,7,0)))","v":{"$error":"#N/A"}},{"$f":"IF(Q346=\"\",\"\",IF(VLOOKUP(Q346,漢字読み!$A$2:$O$502,7,0)=0,\"\",VLOOKUP(Q346,漢字読み!$A$2:$O$502,7,0)))","v":{"$error":"#N/A"}},{"$f":"IF(R346=\"\",\"\",IF(VLOOKUP(R346,漢字読み!$A$2:$O$502,7,0)=0,\"\",VLOOKUP(R346,漢字読み!$A$2:$O$502,7,0)))","v":{"$error":"#N/A"}},{"$f":"IF(S346=\"\",\"\",IF(VLOOKUP(S346,漢字読み!$A$2:$O$502,7,0)=0,\"\",VLOOKUP(S346,漢字読み!$A$2:$O$502,7,0)))","v":{"$error":"#N/A"}},{"$f":"IF(T346=\"\",\"\",IF(VLOOKUP(T346,漢字読み!$A$2:$O$502,7,0)=0,\"\",VLOOKUP(T346,漢字読み!$A$2:$O$502,7,0)))","v":{"$error":"#N/A"}},null,null,"和歌山県教育委員会"]
[{"$f":"A341","v":0},{"$f":"B341","v":0},{"$f":"C341","v":0},{"$f":"D341","v":0},{"$f":"E341","v":0},{"$f":"F341","v":0},{"$f":"G341","v":0},{"$f":"H341","v":0},{"$f":"I341","v":0},{"$f":"J341","v":0},{"$f":"K341","v":0},{"$f":"L341","v":0},{"$f":"M341","v":0},{"$f":"N341","v":0},{"$f":"O341","v":0},{"$f":"P341","v":0},{"$f":"Q341","v":0},{"$f":"R341","v":0},{"$f":"S341","v":0},{"$f":"T341","v":0}]
["⑳","⑲","⑱","⑰","⑯","⑮","⑭","⑬","⑫","⑪","⑩","⑨","⑧","⑦","⑥","⑤","④","③","②","①","次の［　　　　］の部分の漢字には読みがなをひらがなで書き、カタカナは漢字に直しなさい。",14,"「漢字の博士検定試験」練習問題　"]
[{"$f":"IF(A351=\"\",\"\",VLOOKUP(A351,漢字書き!$A$2:$N$506,6,0))","v":{"$error":"#N/A"}},{"$f":"IF(B351=\"\",\"\",VLOOKUP(B351,漢字書き!$A$2:$N$506,6,0))","v":{"$error":"#N/A"}},{"$f":"IF(C351=\"\",\"\",VLOOKUP(C351,漢字書き!$A$2:$N$506,6,0))","v":{"$error":"#N/A"}},{"$f":"IF(D351=\"\",\"\",VLOOKUP(D351,漢字書き!$A$2:$N$506,6,0))","v":{"$error":"#N/A"}},{"$f":"IF(E351=\"\",\"\",VLOOKUP(E351,漢字書き!$A$2:$N$506,6,0))","v":{"$error":"#N/A"}},{"$f":"IF(F351=\"\",\"\",VLOOKUP(F351,漢字書き!$A$2:$N$506,6,0))","v":{"$error":"#N/A"}},{"$f":"IF(G351=\"\",\"\",VLOOKUP(G351,漢字書き!$A$2:$N$506,6,0))","v":{"$error":"#N/A"}},{"$f":"IF(H351=\"\",\"\",VLOOKUP(H351,漢字書き!$A$2:$N$506,6,0))","v":{"$error":"#N/A"}},{"$f":"IF(I351=\"\",\"\",VLOOKUP(I351,漢字書き!$A$2:$N$506,6,0))","v":{"$error":"#N/A"}},{"$f":"IF(J351=\"\",\"\",VLOOKUP(J351,漢字書き!$A$2:$N$506,6,0))","v":{"$error":"#N/A"}},{"$f":"IF(K351=\"\",\"\",VLOOKUP(K351,漢字読み!$A$2:$O$506,6,0))","v":{"$error":"#N/A"}},{"$f":"IF(L351=\"\",\"\",VLOOKUP(L351,漢字読み!$A$2:$O$506,6,0))","v":{"$error":"#N/A"}},{"$f":"IF(M351=\"\",\"\",VLOOKUP(M351,漢字読み!$A$2:$O$506,6,0))","v":{"$error":"#N/A"}},{"$f":"IF(N351=\"\",\"\",VLOOKUP(N351,漢字読み!$A$2:$O$506,6,0))","v":{"$error":"#N/A"}},{"$f":"IF(O351=\"\",\"\",VLOOKUP(O351,漢字読み!$A$2:$O$506,6,0))","v":{"$error":"#N/A"}},{"$f":"IF(P351=\"\",\"\",VLOOKUP(P351,漢字読み!$A$2:$O$506,6,0))","v":{"$error":"#N/A"}},{"$f":"IF(Q351=\"\",\"\",VLOOKUP(Q351,漢字読み!$A$2:$O$506,6,0))","v":{"$error":"#N/A"}},{"$f":"IF(R351=\"\",\"\",VLOOKUP(R351,漢字読み!$A$2:$O$506,6,0))","v":{"$error":"#N/A"}},{"$f":"IF(S351=\"\",\"\",VLOOKUP(S351,漢字読み!$A$2:$O$506,6,0))","v":{"$error":"#N/A"}},{"$f":"IF(T351=\"\",\"\",VLOOKUP(T351,漢字読み!$A$2:$O$506,6,0))","v":{"$error":"#N/A"}},null,"級"]
[{"$f":"IF(A$11=\"\",\"\",VLOOKUP(A351,漢字書き!$A$2:$O$506,8,0))","v":{"$error":"#N/A"}},{"$f":"IF(B$11=\"\",\"\",VLOOKUP(B351,漢字書き!$A$2:$O$506,8,0))","v":{"$error":"#N/A"}},{"$f":"IF(C$11=\"\",\"\",VLOOKUP(C351,漢字書き!$A$2:$O$506,8,0))","v":{"$error":"#N/A"}},{"$f":"IF(D$11=\"\",\"\",VLOOKUP(D351,漢字書き!$A$2:$O$506,8,0))","v":{"$error":"#N/A"}},{"$f":"IF(E$11=\"\",\"\",VLOOKUP(E351,漢字書き!$A$2:$O$506,8,0))","v":{"$error":"#N/A"}},{"$f":"IF(F$11=\"\",\"\",VLOOKUP(F351,漢字書き!$A$2:$O$506,8,0))","v":{"$error":"#N/A"}},{"$f":"IF(G$11=\"\",\"\",VLOOKUP(G351,漢字書き!$A$2:$O$506,8,0))","v":{"$error":"#N/A"}},{"$f":"IF(H$11=\"\",\"\",VLOOKUP(H351,漢字書き!$A$2:$O$506,8,0))","v":{"$error":"#N/A"}},{"$f":"IF(I$11=\"\",\"\",VLOOKUP(I351,漢字書き!$A$2:$O$506,8,0))","v":{"$error":"#N/A"}},{"$f":"IF(J$11=\"\",\"\",VLOOKUP(J351,漢字書き!$A$2:$O$506,8,0))","v":{"$error":"#N/A"}},{"$f":"IF(K$11=\"\",\"\",VLOOKUP(K351,漢字読み!$A$2:$O$506,8,0))","v":{"$error":"#N/A"}},{"$f":"IF(L$11=\"\",\"\",VLOOKUP(L351,漢字読み!$A$2:$O$506,8,0))","v":{"$error":"#N/A"}},{"$f":"IF(M$11=\"\",\"\",VLOOKUP(M351,漢字読み!$A$2:$O$506,8,0))","v":{"$error":"#N/A"}},{"$f":"IF(N$11=\"\",\"\",VLOOKUP(N351,漢字読み!$A$2:$O$506,8,0))","v":{"$error":"#N/A"}},{"$f":"IF(O$11=\"\",\"\",VLOOKUP(O351,漢字読み!$A$2:$O$506,8,0))","v":{"$error":"#N/A"}},{"$f":"IF(P$11=\"\",\"\",VLOOKUP(P351,漢字読み!$A$2:$O$506,8,0))","v":{"$error":"#N/A"}},{"$f":"IF(Q$11=\"\",\"\",VLOOKUP(Q351,漢字読み!$A$2:$O$506,8,0))","v":{"$error":"#N/A"}},{"$f":"IF(R$11=\"\",\"\",VLOOKUP(R351,漢字読み!$A$2:$O$506,8,0))","v":{"$error":"#N/A"}},{"$f":"IF(S$11=\"\",\"\",VLOOKUP(S351,漢字読み!$A$2:$O$506,8,0))","v":{"$error":"#N/A"}},{"$f":"IF(T$11=\"\",\"\",VLOOKUP(T351,漢字読み!$A$2:$O$506,8,0))","v":{"$error":"#N/A"}},null,"名前"]
[{"$f":"IF(A351=\"\",\"\",IF(VLOOKUP(A351,漢字書き!$A$2:$N$502,7,0)=0,\"\",VLOOKUP(A351,漢字書き!$A$2:$N$502,7,0)))","v":{"$error":"#N/A"}},{"$f":"IF(B351=\"\",\"\",IF(VLOOKUP(B351,漢字書き!$A$2:$N$502,7,0)=0,\"\",VLOOKUP(B351,漢字書き!$A$2:$N$502,7,0)))","v":{"$error":"#N/A"}},{"$f":"IF(C351=\"\",\"\",IF(VLOOKUP(C351,漢字書き!$A$2:$N$502,7,0)=0,\"\",VLOOKUP(C351,漢字書き!$A$2:$N$502,7,0)))","v":{"$error":"#N/A"}},{"$f":"IF(D351=\"\",\"\",IF(VLOOKUP(D351,漢字書き!$A$2:$N$502,7,0)=0,\"\",VLOOKUP(D351,漢字書き!$A$2:$N$502,7,0)))","v":{"$error":"#N/A"}},{"$f":"IF(E351=\"\",\"\",IF(VLOOKUP(E351,漢字書き!$A$2:$N$502,7,0)=0,\"\",VLOOKUP(E351,漢字書き!$A$2:$N$502,7,0)))","v":{"$error":"#N/A"}},{"$f":"IF(F351=\"\",\"\",IF(VLOOKUP(F351,漢字書き!$A$2:$N$502,7,0)=0,\"\",VLOOKUP(F351,漢字書き!$A$2:$N$502,7,0)))","v":{"$error":"#N/A"}},{"$f":"IF(G351=\"\",\"\",IF(VLOOKUP(G351,漢字書き!$A$2:$N$502,7,0)=0,\"\",VLOOKUP(G351,漢字書き!$A$2:$N$502,7,0)))","v":{"$error":"#N/A"}},{"$f":"IF(H351=\"\",\"\",IF(VLOOKUP(H351,漢字書き!$A$2:$N$502,7,0)=0,\"\",VLOOKUP(H351,漢字書き!$A$2:$N$502,7,0)))","v":{"$error":"#N/A"}},{"$f":"IF(I351=\"\",\"\",IF(VLOOKUP(I351,漢字書き!$A$2:$N$502,7,0)=0,\"\",VLOOKUP(I351,漢字書き!$A$2:$N$502,7,0)))","v":{"$error":"#N/A"}},{"$f":"IF(J351=\"\",\"\",IF(VLOOKUP(J351,漢字書き!$A$2:$N$502,7,0)=0,\"\",VLOOKUP(J351,漢字書き!$A$2:$N$502,7,0)))","v":{"$error":"#N/A"}},{"$f":"IF(K351=\"\",\"\",IF(VLOOKUP(K351,漢字読み!$A$2:$O$502,7,0)=0,\"\",VLOOKUP(K351,漢字読み!$A$2:$O$502,7,0)))","v":{"$error":"#N/A"}},{"$f":"IF(L351=\"\",\"\",IF(VLOOKUP(L351,漢字読み!$A$2:$O$502,7,0)=0,\"\",VLOOKUP(L351,漢字読み!$A$2:$O$502,7,0)))","v":{"$error":"#N/A"}},{"$f":"IF(M351=\"\",\"\",IF(VLOOKUP(M351,漢字読み!$A$2:$O$502,7,0)=0,\"\",VLOOKUP(M351,漢字読み!$A$2:$O$502,7,0)))","v":{"$error":"#N/A"}},{"$f":"IF(N351=\"\",\"\",IF(VLOOKUP(N351,漢字読み!$A$2:$O$502,7,0)=0,\"\",VLOOKUP(N351,漢字読み!$A$2:$O$502,7,0)))","v":{"$error":"#N/A"}},{"$f":"IF(O351=\"\",\"\",IF(VLOOKUP(O351,漢字読み!$A$2:$O$502,7,0)=0,\"\",VLOOKUP(O351,漢字読み!$A$2:$O$502,7,0)))","v":{"$error":"#N/A"}},{"$f":"IF(P351=\"\",\"\",IF(VLOOKUP(P351,漢字読み!$A$2:$O$502,7,0)=0,\"\",VLOOKUP(P351,漢字読み!$A$2:$O$502,7,0)))","v":{"$error":"#N/A"}},{"$f":"IF(Q351=\"\",\"\",IF(VLOOKUP(Q351,漢字読み!$A$2:$O$502,7,0)=0,\"\",VLOOKUP(Q351,漢字読み!$A$2:$O$502,7,0)))","v":{"$error":"#N/A"}},{"$f":"IF(R351=\"\",\"\",IF(VLOOKUP(R351,漢字読み!$A$2:$O$502,7,0)=0,\"\",VLOOKUP(R351,漢字読み!$A$2:$O$502,7,0)))","v":{"$error":"#N/A"}},{"$f":"IF(S351=\"\",\"\",IF(VLOOKUP(S351,漢字読み!$A$2:$O$502,7,0)=0,\"\",VLOOKUP(S351,漢字読み!$A$2:$O$502,7,0)))","v":{"$error":"#N/A"}},{"$f":"IF(T351=\"\",\"\",IF(VLOOKUP(T351,漢字読み!$A$2:$O$502,7,0)=0,\"\",VLOOKUP(T351,漢字読み!$A$2:$O$502,7,0)))","v":{"$error":"#N/A"}},null,null,"和歌山県教育委員会"]
[{"$f":"A346","v":0},{"$f":"B346","v":0},{"$f":"C346","v":0},{"$f":"D346","v":0},{"$f":"E346","v":0},{"$f":"F346","v":0},{"$f":"G346","v":0},{"$f":"H346","v":0},{"$f":"I346","v":0},{"$f":"J346","v":0},{"$f":"K346","v":0},{"$f":"L346","v":0},{"$f":"M346","v":0},{"$f":"N346","v":0},{"$f":"O346","v":0},{"$f":"P346","v":0},{"$f":"Q346","v":0},{"$f":"R346","v":0},{"$f":"S346","v":0},{"$f":"T346","v":0}]
["⑳","⑲","⑱","⑰","⑯","⑮","⑭","⑬","⑫","⑪","⑩","⑨","⑧","⑦","⑥","⑤","④","③","②","①","次の［　　　　］の部分の漢字には読みがなをひらがなで書き、カタカナは漢字に直しなさい。",14,"「漢字の博士検定試験」練習問題　"]
[{"$f":"IF(A356=\"\",\"\",VLOOKUP(A356,漢字書き!$A$2:$N$506,6,0))","v":{"$error":"#N/A"}},{"$f":"IF(B356=\"\",\"\",VLOOKUP(B356,漢字書き!$A$2:$N$506,6,0))","v":{"$error":"#N/A"}},{"$f":"IF(C356=\"\",\"\",VLOOKUP(C356,漢字書き!$A$2:$N$506,6,0))","v":{"$error":"#N/A"}},{"$f":"IF(D356=\"\",\"\",VLOOKUP(D356,漢字書き!$A$2:$N$506,6,0))","v":{"$error":"#N/A"}},{"$f":"IF(E356=\"\",\"\",VLOOKUP(E356,漢字書き!$A$2:$N$506,6,0))","v":{"$error":"#N/A"}},{"$f":"IF(F356=\"\",\"\",VLOOKUP(F356,漢字書き!$A$2:$N$506,6,0))","v":{"$error":"#N/A"}},{"$f":"IF(G356=\"\",\"\",VLOOKUP(G356,漢字書き!$A$2:$N$506,6,0))","v":{"$error":"#N/A"}},{"$f":"IF(H356=\"\",\"\",VLOOKUP(H356,漢字書き!$A$2:$N$506,6,0))","v":{"$error":"#N/A"}},{"$f":"IF(I356=\"\",\"\",VLOOKUP(I356,漢字書き!$A$2:$N$506,6,0))","v":{"$error":"#N/A"}},{"$f":"IF(J356=\"\",\"\",VLOOKUP(J356,漢字書き!$A$2:$N$506,6,0))","v":{"$error":"#N/A"}},{"$f":"IF(K356=\"\",\"\",VLOOKUP(K356,漢字読み!$A$2:$O$506,6,0))","v":{"$error":"#N/A"}},{"$f":"IF(L356=\"\",\"\",VLOOKUP(L356,漢字読み!$A$2:$O$506,6,0))","v":{"$error":"#N/A"}},{"$f":"IF(M356=\"\",\"\",VLOOKUP(M356,漢字読み!$A$2:$O$506,6,0))","v":{"$error":"#N/A"}},{"$f":"IF(N356=\"\",\"\",VLOOKUP(N356,漢字読み!$A$2:$O$506,6,0))","v":{"$error":"#N/A"}},{"$f":"IF(O356=\"\",\"\",VLOOKUP(O356,漢字読み!$A$2:$O$506,6,0))","v":{"$error":"#N/A"}},{"$f":"IF(P356=\"\",\"\",VLOOKUP(P356,漢字読み!$A$2:$O$506,6,0))","v":{"$error":"#N/A"}},{"$f":"IF(Q356=\"\",\"\",VLOOKUP(Q356,漢字読み!$A$2:$O$506,6,0))","v":{"$error":"#N/A"}},{"$f":"IF(R356=\"\",\"\",VLOOKUP(R356,漢字読み!$A$2:$O$506,6,0))","v":{"$error":"#N/A"}},{"$f":"IF(S356=\"\",\"\",VLOOKUP(S356,漢字読み!$A$2:$O$506,6,0))","v":{"$error":"#N/A"}},{"$f":"IF(T356=\"\",\"\",VLOOKUP(T356,漢字読み!$A$2:$O$506,6,0))","v":{"$error":"#N/A"}},null,"級"]
[{"$f":"IF(A$16=\"\",\"\",VLOOKUP(A356,漢字書き!$A$2:$O$506,8,0))","v":{"$error":"#N/A"}},{"$f":"IF(B$16=\"\",\"\",VLOOKUP(B356,漢字書き!$A$2:$O$506,8,0))","v":{"$error":"#N/A"}},{"$f":"IF(C$16=\"\",\"\",VLOOKUP(C356,漢字書き!$A$2:$O$506,8,0))","v":{"$error":"#N/A"}},{"$f":"IF(D$16=\"\",\"\",VLOOKUP(D356,漢字書き!$A$2:$O$506,8,0))","v":{"$error":"#N/A"}},{"$f":"IF(E$16=\"\",\"\",VLOOKUP(E356,漢字書き!$A$2:$O$506,8,0))","v":{"$error":"#N/A"}},{"$f":"IF(F$16=\"\",\"\",VLOOKUP(F356,漢字書き!$A$2:$O$506,8,0))","v":{"$error":"#N/A"}},{"$f":"IF(G$16=\"\",\"\",VLOOKUP(G356,漢字書き!$A$2:$O$506,8,0))","v":{"$error":"#N/A"}},{"$f":"IF(H$16=\"\",\"\",VLOOKUP(H356,漢字書き!$A$2:$O$506,8,0))","v":{"$error":"#N/A"}},{"$f":"IF(I$16=\"\",\"\",VLOOKUP(I356,漢字書き!$A$2:$O$506,8,0))","v":{"$error":"#N/A"}},{"$f":"IF(J$16=\"\",\"\",VLOOKUP(J356,漢字書き!$A$2:$O$506,8,0))","v":{"$error":"#N/A"}},{"$f":"IF(K$16=\"\",\"\",VLOOKUP(K356,漢字読み!$A$2:$O$506,8,0))","v":{"$error":"#N/A"}},{"$f":"IF(L$16=\"\",\"\",VLOOKUP(L356,漢字読み!$A$2:$O$506,8,0))","v":{"$error":"#N/A"}},{"$f":"IF(M$16=\"\",\"\",VLOOKUP(M356,漢字読み!$A$2:$O$506,8,0))","v":{"$error":"#N/A"}},{"$f":"IF(N$16=\"\",\"\",VLOOKUP(N356,漢字読み!$A$2:$O$506,8,0))","v":{"$error":"#N/A"}},{"$f":"IF(O$16=\"\",\"\",VLOOKUP(O356,漢字読み!$A$2:$O$506,8,0))","v":{"$error":"#N/A"}},{"$f":"IF(P$16=\"\",\"\",VLOOKUP(P356,漢字読み!$A$2:$O$506,8,0))","v":{"$error":"#N/A"}},{"$f":"IF(Q$16=\"\",\"\",VLOOKUP(Q356,漢字読み!$A$2:$O$506,8,0))","v":{"$error":"#N/A"}},{"$f":"IF(R$16=\"\",\"\",VLOOKUP(R356,漢字読み!$A$2:$O$506,8,0))","v":{"$error":"#N/A"}},{"$f":"IF(S$16=\"\",\"\",VLOOKUP(S356,漢字読み!$A$2:$O$506,8,0))","v":{"$error":"#N/A"}},{"$f":"IF(T$16=\"\",\"\",VLOOKUP(T356,漢字読み!$A$2:$O$506,8,0))","v":{"$error":"#N/A"}},null,"名前"]
[{"$f":"IF(A356=\"\",\"\",IF(VLOOKUP(A356,漢字書き!$A$2:$N$502,7,0)=0,\"\",VLOOKUP(A356,漢字書き!$A$2:$N$502,7,0)))","v":{"$error":"#N/A"}},{"$f":"IF(B356=\"\",\"\",IF(VLOOKUP(B356,漢字書き!$A$2:$N$502,7,0)=0,\"\",VLOOKUP(B356,漢字書き!$A$2:$N$502,7,0)))","v":{"$error":"#N/A"}},{"$f":"IF(C356=\"\",\"\",IF(VLOOKUP(C356,漢字書き!$A$2:$N$502,7,0)=0,\"\",VLOOKUP(C356,漢字書き!$A$2:$N$502,7,0)))","v":{"$error":"#N/A"}},{"$f":"IF(D356=\"\",\"\",IF(VLOOKUP(D356,漢字書き!$A$2:$N$502,7,0)=0,\"\",VLOOKUP(D356,漢字書き!$A$2:$N$502,7,0)))","v":{"$error":"#N/A"}},{"$f":"IF(E356=\"\",\"\",IF(VLOOKUP(E356,漢字書き!$A$2:$N$502,7,0)=0,\"\",VLOOKUP(E356,漢字書き!$A$2:$N$502,7,0)))","v":{"$error":"#N/A"}},{"$f":"IF(F356=\"\",\"\",IF(VLOOKUP(F356,漢字書き!$A$2:$N$502,7,0)=0,\"\",VLOOKUP(F356,漢字書き!$A$2:$N$502,7,0)))","v":{"$error":"#N/A"}},{"$f":"IF(G356=\"\",\"\",IF(VLOOKUP(G356,漢字書き!$A$2:$N$502,7,0)=0,\"\",VLOOKUP(G356,漢字書き!$A$2:$N$502,7,0)))","v":{"$error":"#N/A"}},{"$f":"IF(H356=\"\",\"\",IF(VLOOKUP(H356,漢字書き!$A$2:$N$502,7,0)=0,\"\",VLOOKUP(H356,漢字書き!$A$2:$N$502,7,0)))","v":{"$error":"#N/A"}},{"$f":"IF(I356=\"\",\"\",IF(VLOOKUP(I356,漢字書き!$A$2:$N$502,7,0)=0,\"\",VLOOKUP(I356,漢字書き!$A$2:$N$502,7,0)))","v":{"$error":"#N/A"}},{"$f":"IF(J356=\"\",\"\",IF(VLOOKUP(J356,漢字書き!$A$2:$N$502,7,0)=0,\"\",VLOOKUP(J356,漢字書き!$A$2:$N$502,7,0)))","v":{"$error":"#N/A"}},{"$f":"IF(K356=\"\",\"\",IF(VLOOKUP(K356,漢字読み!$A$2:$O$502,7,0)=0,\"\",VLOOKUP(K356,漢字読み!$A$2:$O$502,7,0)))","v":{"$error":"#N/A"}},{"$f":"IF(L356=\"\",\"\",IF(VLOOKUP(L356,漢字読み!$A$2:$O$502,7,0)=0,\"\",VLOOKUP(L356,漢字読み!$A$2:$O$502,7,0)))","v":{"$error":"#N/A"}},{"$f":"IF(M356=\"\",\"\",IF(VLOOKUP(M356,漢字読み!$A$2:$O$502,7,0)=0,\"\",VLOOKUP(M356,漢字読み!$A$2:$O$502,7,0)))","v":{"$error":"#N/A"}},{"$f":"IF(N356=\"\",\"\",IF(VLOOKUP(N356,漢字読み!$A$2:$O$502,7,0)=0,\"\",VLOOKUP(N356,漢字読み!$A$2:$O$502,7,0)))","v":{"$error":"#N/A"}},{"$f":"IF(O356=\"\",\"\",IF(VLOOKUP(O356,漢字読み!$A$2:$O$502,7,0)=0,\"\",VLOOKUP(O356,漢字読み!$A$2:$O$502,7,0)))","v":{"$error":"#N/A"}},{"$f":"IF(P356=\"\",\"\",IF(VLOOKUP(P356,漢字読み!$A$2:$O$502,7,0)=0,\"\",VLOOKUP(P356,漢字読み!$A$2:$O$502,7,0)))","v":{"$error":"#N/A"}},{"$f":"IF(Q356=\"\",\"\",IF(VLOOKUP(Q356,漢字読み!$A$2:$O$502,7,0)=0,\"\",VLOOKUP(Q356,漢字読み!$A$2:$O$502,7,0)))","v":{"$error":"#N/A"}},{"$f":"IF(R356=\"\",\"\",IF(VLOOKUP(R356,漢字読み!$A$2:$O$502,7,0)=0,\"\",VLOOKUP(R356,漢字読み!$A$2:$O$502,7,0)))","v":{"$error":"#N/A"}},{"$f":"IF(S356=\"\",\"\",IF(VLOOKUP(S356,漢字読み!$A$2:$O$502,7,0)=0,\"\",VLOOKUP(S356,漢字読み!$A$2:$O$502,7,0)))","v":{"$error":"#N/A"}},{"$f":"IF(T356=\"\",\"\",IF(VLOOKUP(T356,漢字読み!$A$2:$O$502,7,0)=0,\"\",VLOOKUP(T356,漢字読み!$A$2:$O$502,7,0)))","v":{"$error":"#N/A"}},null,null,"和歌山県教育委員会"]
[{"$f":"INDIRECT(\"'関数（書き）'!C\" & COLUMN(B$1)+SUM($AD$2:$AD362))","v":0},{"$f":"INDIRECT(\"'関数（書き）'!C\" & COLUMN(C$1)+SUM($AD$2:$AD362))","v":0},{"$f":"INDIRECT(\"'関数（書き）'!C\" & COLUMN(D$1)+SUM($AD$2:$AD362))","v":0},{"$f":"INDIRECT(\"'関数（書き）'!C\" & COLUMN(E$1)+SUM($AD$2:$AD362))","v":0},{"$f":"INDIRECT(\"'関数（書き）'!C\" & COLUMN(F$1)+SUM($AD$2:$AD362))","v":0},{"$f":"INDIRECT(\"'関数（書き）'!C\" & COLUMN(G$1)+SUM($AD$2:$AD362))","v":0},{"$f":"INDIRECT(\"'関数（書き）'!C\" & COLUMN(H$1)+SUM($AD$2:$AD362))","v":0},{"$f":"INDIRECT(\"'関数（書き）'!C\" & COLUMN(I$1)+SUM($AD$2:$AD362))","v":0},{"$f":"INDIRECT(\"'関数（書き）'!C\" & COLUMN(J$1)+SUM($AD$2:$AD362))","v":0},{"$f":"INDIRECT(\"'関数（書き）'!C\" & COLUMN(K$1)+SUM($AD$2:$AD362))","v":0},{"$f":"INDIRECT(\"'関数（読み）'!C\" & COLUMN(B$1)+SUM($AD$2:$AD362))","v":0},{"$f":"INDIRECT(\"'関数（読み）'!C\" & COLUMN(C$1)+SUM($AD$2:$AD362))","v":0},{"$f":"INDIRECT(\"'関数（読み）'!C\" & COLUMN(D$1)+SUM($AD$2:$AD362))","v":0},{"$f":"INDIRECT(\"'関数（読み）'!C\" & COLUMN(E$1)+SUM($AD$2:$AD362))","v":0},{"$f":"INDIRECT(\"'関数（読み）'!C\" & COLUMN(F$1)+SUM($AD$2:$AD362))","v":0},{"$f":"INDIRECT(\"'関数（読み）'!C\" & COLUMN(G$1)+SUM($AD$2:$AD362))","v":0},{"$f":"INDIRECT(\"'関数（読み）'!C\" & COLUMN(H$1)+SUM($AD$2:$AD362))","v":0},{"$f":"INDIRECT(\"'関数（読み）'!C\" & COLUMN(I$1)+SUM($AD$2:$AD362))","v":0},{"$f":"INDIRECT(\"'関数（読み）'!C\" & COLUMN(J$1)+SUM($AD$2:$AD362))","v":0},{"$f":"INDIRECT(\"'関数（読み）'!C\" & COLUMN(K$1)+SUM($AD$2:$AD362))","v":0}]
["⑳","⑲","⑱","⑰","⑯","⑮","⑭","⑬","⑫","⑪","⑩","⑨","⑧","⑦","⑥","⑤","④","③","②","①","次の［　　　　］の部分の漢字には読みがなをひらがなで書き、カタカナは漢字に直しなさい。",14,"「漢字の博士検定試験」練習問題　",null,null,null,null,null,"←",10,"問",{"$f":"AH347+1","v":361},"～",{"$f":"SUM($AD$2:$AD362)+10","v":370},"問まで",{"$f":"COUNTIF($A$1:$T$200,T363)","v":585}]
[{"$f":"IF(A361=\"\",\"\",VLOOKUP(A361,漢字書き!$A$2:$N$506,6,0))","v":{"$error":"#N/A"}},{"$f":"IF(B361=\"\",\"\",VLOOKUP(B361,漢字書き!$A$2:$N$506,6,0))","v":{"$error":"#N/A"}},{"$f":"IF(C361=\"\",\"\",VLOOKUP(C361,漢字書き!$A$2:$N$506,6,0))","v":{"$error":"#N/A"}},{"$f":"IF(D361=\"\",\"\",VLOOKUP(D361,漢字書き!$A$2:$N$506,6,0))","v":{"$error":"#N/A"}},{"$f":"IF(E361=\"\",\"\",VLOOKUP(E361,漢字書き!$A$2:$N$506,6,0))","v":{"$error":"#N/A"}},{"$f":"IF(F361=\"\",\"\",VLOOKUP(F361,漢字書き!$A$2:$N$506,6,0))","v":{"$error":"#N/A"}},{"$f":"IF(G361=\"\",\"\",VLOOKUP(G361,漢字書き!$A$2:$N$506,6,0))","v":{"$error":"#N/A"}},{"$f":"IF(H361=\"\",\"\",VLOOKUP(H361,漢字書き!$A$2:$N$506,6,0))","v":{"$error":"#N/A"}},{"$f":"IF(I361=\"\",\"\",VLOOKUP(I361,漢字書き!$A$2:$N$506,6,0))","v":{"$error":"#N/A"}},{"$f":"IF(J361=\"\",\"\",VLOOKUP(J361,漢字書き!$A$2:$N$506,6,0))","v":{"$error":"#N/A"}},{"$f":"IF(K361=\"\",\"\",VLOOKUP(K361,漢字読み!$A$2:$O$506,6,0))","v":{"$error":"#N/A"}},{"$f":"IF(L361=\"\",\"\",VLOOKUP(L361,漢字読み!$A$2:$O$506,6,0))","v":{"$error":"#N/A"}},{"$f":"IF(M361=\"\",\"\",VLOOKUP(M361,漢字読み!$A$2:$O$506,6,0))","v":{"$error":"#N/A"}},{"$f":"IF(N361=\"\",\"\",VLOOKUP(N361,漢字読み!$A$2:$O$506,6,0))","v":{"$error":"#N/A"}},{"$f":"IF(O361=\"\",\"\",VLOOKUP(O361,漢字読み!$A$2:$O$506,6,0))","v":{"$error":"#N/A"}},{"$f":"IF(P361=\"\",\"\",VLOOKUP(P361,漢字読み!$A$2:$O$506,6,0))","v":{"$error":"#N/A"}},{"$f":"IF(Q361=\"\",\"\",VLOOKUP(Q361,漢字読み!$A$2:$O$506,6,0))","v":{"$error":"#N/A"}},{"$f":"IF(R361=\"\",\"\",VLOOKUP(R361,漢字読み!$A$2:$O$506,6,0))","v":{"$error":"#N/A"}},{"$f":"IF(S361=\"\",\"\",VLOOKUP(S361,漢字読み!$A$2:$O$506,6,0))","v":{"$error":"#N/A"}},{"$f":"IF(T361=\"\",\"\",VLOOKUP(T361,漢字読み!$A$2:$O$506,6,0))","v":{"$error":"#N/A"}},null,"級"]
[null,null,null,null,null,null,null,null,null,null,null,null,null,null,null,null,null,null,null,null,null,"名前"]
[{"$f":"IF(A361=\"\",\"\",IF(VLOOKUP(A361,漢字書き!$A$2:$N$502,7,0)=0,\"\",VLOOKUP(A361,漢字書き!$A$2:$N$502,7,0)))","v":{"$error":"#N/A"}},{"$f":"IF(B361=\"\",\"\",IF(VLOOKUP(B361,漢字書き!$A$2:$N$502,7,0)=0,\"\",VLOOKUP(B361,漢字書き!$A$2:$N$502,7,0)))","v":{"$error":"#N/A"}},{"$f":"IF(C361=\"\",\"\",IF(VLOOKUP(C361,漢字書き!$A$2:$N$502,7,0)=0,\"\",VLOOKUP(C361,漢字書き!$A$2:$N$502,7,0)))","v":{"$error":"#N/A"}},{"$f":"IF(D361=\"\",\"\",IF(VLOOKUP(D361,漢字書き!$A$2:$N$502,7,0)=0,\"\",VLOOKUP(D361,漢字書き!$A$2:$N$502,7,0)))","v":{"$error":"#N/A"}},{"$f":"IF(E361=\"\",\"\",IF(VLOOKUP(E361,漢字書き!$A$2:$N$502,7,0)=0,\"\",VLOOKUP(E361,漢字書き!$A$2:$N$502,7,0)))","v":{"$error":"#N/A"}},{"$f":"IF(F361=\"\",\"\",IF(VLOOKUP(F361,漢字書き!$A$2:$N$502,7,0)=0,\"\",VLOOKUP(F361,漢字書き!$A$2:$N$502,7,0)))","v":{"$error":"#N/A"}},{"$f":"IF(G361=\"\",\"\",IF(VLOOKUP(G361,漢字書き!$A$2:$N$502,7,0)=0,\"\",VLOOKUP(G361,漢字書き!$A$2:$N$502,7,0)))","v":{"$error":"#N/A"}},{"$f":"IF(H361=\"\",\"\",IF(VLOOKUP(H361,漢字書き!$A$2:$N$502,7,0)=0,\"\",VLOOKUP(H361,漢字書き!$A$2:$N$502,7,0)))","v":{"$error":"#N/A"}},{"$f":"IF(I361=\"\",\"\",IF(VLOOKUP(I361,漢字書き!$A$2:$N$502,7,0)=0,\"\",VLOOKUP(I361,漢字書き!$A$2:$N$502,7,0)))","v":{"$error":"#N/A"}},{"$f":"IF(J361=\"\",\"\",IF(VLOOKUP(J361,漢字書き!$A$2:$N$502,7,0)=0,\"\",VLOOKUP(J361,漢字書き!$A$2:$N$502,7,0)))","v":{"$error":"#N/A"}},{"$f":"IF(K361=\"\",\"\",IF(VLOOKUP(K361,漢字読み!$A$2:$O$502,7,0)=0,\"\",VLOOKUP(K361,漢字読み!$A$2:$O$502,7,0)))","v":{"$error":"#N/A"}},{"$f":"IF(L361=\"\",\"\",IF(VLOOKUP(L361,漢字読み!$A$2:$O$502,7,0)=0,\"\",VLOOKUP(L361,漢字読み!$A$2:$O$502,7,0)))","v":{"$error":"#N/A"}},{"$f":"IF(M361=\"\",\"\",IF(VLOOKUP(M361,漢字読み!$A$2:$O$502,7,0)=0,\"\",VLOOKUP(M361,漢字読み!$A$2:$O$502,7,0)))","v":{"$error":"#N/A"}},{"$f":"IF(N361=\"\",\"\",IF(VLOOKUP(N361,漢字読み!$A$2:$O$502,7,0)=0,\"\",VLOOKUP(N361,漢字読み!$A$2:$O$502,7,0)))","v":{"$error":"#N/A"}},{"$f":"IF(O361=\"\",\"\",IF(VLOOKUP(O361,漢字読み!$A$2:$O$502,7,0)=0,\"\",VLOOKUP(O361,漢字読み!$A$2:$O$502,7,0)))","v":{"$error":"#N/A"}},{"$f":"IF(P361=\"\",\"\",IF(VLOOKUP(P361,漢字読み!$A$2:$O$502,7,0)=0,\"\",VLOOKUP(P361,漢字読み!$A$2:$O$502,7,0)))","v":{"$error":"#N/A"}},{"$f":"IF(Q361=\"\",\"\",IF(VLOOKUP(Q361,漢字読み!$A$2:$O$502,7,0)=0,\"\",VLOOKUP(Q361,漢字読み!$A$2:$O$502,7,0)))","v":{"$error":"#N/A"}},{"$f":"IF(R361=\"\",\"\",IF(VLOOKUP(R361,漢字読み!$A$2:$O$502,7,0)=0,\"\",VLOOKUP(R361,漢字読み!$A$2:$O$502,7,0)))","v":{"$error":"#N/A"}},{"$f":"IF(S361=\"\",\"\",IF(VLOOKUP(S361,漢字読み!$A$2:$O$502,7,0)=0,\"\",VLOOKUP(S361,漢字読み!$A$2:$O$502,7,0)))","v":{"$error":"#N/A"}},{"$f":"IF(T361=\"\",\"\",IF(VLOOKUP(T361,漢字読み!$A$2:$O$502,7,0)=0,\"\",VLOOKUP(T361,漢字読み!$A$2:$O$502,7,0)))","v":{"$error":"#N/A"}},null,null,"和歌山県教育委員会"]
[{"$f":"INDIRECT(\"'関数（書き）'!C\" & COLUMN(B$1)+SUM($AD$2:$AD367))","v":0},{"$f":"INDIRECT(\"'関数（書き）'!C\" & COLUMN(C$1)+SUM($AD$2:$AD367))","v":0},{"$f":"INDIRECT(\"'関数（書き）'!C\" & COLUMN(D$1)+SUM($AD$2:$AD367))","v":0},{"$f":"INDIRECT(\"'関数（書き）'!C\" & COLUMN(E$1)+SUM($AD$2:$AD367))","v":0},{"$f":"INDIRECT(\"'関数（書き）'!C\" & COLUMN(F$1)+SUM($AD$2:$AD367))","v":0},{"$f":"INDIRECT(\"'関数（書き）'!C\" & COLUMN(G$1)+SUM($AD$2:$AD367))","v":0},{"$f":"INDIRECT(\"'関数（書き）'!C\" & COLUMN(H$1)+SUM($AD$2:$AD367))","v":0},{"$f":"INDIRECT(\"'関数（書き）'!C\" & COLUMN(I$1)+SUM($AD$2:$AD367))","v":0},{"$f":"INDIRECT(\"'関数（書き）'!C\" & COLUMN(J$1)+SUM($AD$2:$AD367))","v":0},{"$f":"INDIRECT(\"'関数（書き）'!C\" & COLUMN(K$1)+SUM($AD$2:$AD367))","v":0},{"$f":"INDIRECT(\"'関数（読み）'!C\" & COLUMN(B$1)+SUM($AD$2:$AD367))","v":0},{"$f":"INDIRECT(\"'関数（読み）'!C\" & COLUMN(C$1)+SUM($AD$2:$AD367))","v":0},{"$f":"INDIRECT(\"'関数（読み）'!C\" & COLUMN(D$1)+SUM($AD$2:$AD367))","v":0},{"$f":"INDIRECT(\"'関数（読み）'!C\" & COLUMN(E$1)+SUM($AD$2:$AD367))","v":0},{"$f":"INDIRECT(\"'関数（読み）'!C\" & COLUMN(F$1)+SUM($AD$2:$AD367))","v":0},{"$f":"INDIRECT(\"'関数（読み）'!C\" & COLUMN(G$1)+SUM($AD$2:$AD367))","v":0},{"$f":"INDIRECT(\"'関数（読み）'!C\" & COLUMN(H$1)+SUM($AD$2:$AD367))","v":0},{"$f":"INDIRECT(\"'関数（読み）'!C\" & COLUMN(I$1)+SUM($AD$2:$AD367))","v":0},{"$f":"INDIRECT(\"'関数（読み）'!C\" & COLUMN(J$1)+SUM($AD$2:$AD367))","v":0},{"$f":"INDIRECT(\"'関数（読み）'!C\" & COLUMN(K$1)+SUM($AD$2:$AD367))","v":0}]
["⑳","⑲","⑱","⑰","⑯","⑮","⑭","⑬","⑫","⑪","⑩","⑨","⑧","⑦","⑥","⑤","④","③","②","①","次の［　　　　］の部分の漢字には読みがなをひらがなで書き、カタカナは漢字に直しなさい。",14,"「漢字の博士検定試験」練習問題　",null,null,null,null,null,"←",10,"問",{"$f":"AH362+1","v":371},"～",{"$f":"SUM($AD$2:$AD367)+10","v":380},"問まで",{"$f":"COUNTIF($A$1:$T$200,T368)","v":585}]
[{"$f":"IF(A366=\"\",\"\",VLOOKUP(A366,漢字書き!$A$2:$N$506,6,0))","v":{"$error":"#N/A"}},{"$f":"IF(B366=\"\",\"\",VLOOKUP(B366,漢字書き!$A$2:$N$506,6,0))","v":{"$error":"#N/A"}},{"$f":"IF(C366=\"\",\"\",VLOOKUP(C366,漢字書き!$A$2:$N$506,6,0))","v":{"$error":"#N/A"}},{"$f":"IF(D366=\"\",\"\",VLOOKUP(D366,漢字書き!$A$2:$N$506,6,0))","v":{"$error":"#N/A"}},{"$f":"IF(E366=\"\",\"\",VLOOKUP(E366,漢字書き!$A$2:$N$506,6,0))","v":{"$error":"#N/A"}},{"$f":"IF(F366=\"\",\"\",VLOOKUP(F366,漢字書き!$A$2:$N$506,6,0))","v":{"$error":"#N/A"}},{"$f":"IF(G366=\"\",\"\",VLOOKUP(G366,漢字書き!$A$2:$N$506,6,0))","v":{"$error":"#N/A"}},{"$f":"IF(H366=\"\",\"\",VLOOKUP(H366,漢字書き!$A$2:$N$506,6,0))","v":{"$error":"#N/A"}},{"$f":"IF(I366=\"\",\"\",VLOOKUP(I366,漢字書き!$A$2:$N$506,6,0))","v":{"$error":"#N/A"}},{"$f":"IF(J366=\"\",\"\",VLOOKUP(J366,漢字書き!$A$2:$N$506,6,0))","v":{"$error":"#N/A"}},{"$f":"IF(K366=\"\",\"\",VLOOKUP(K366,漢字読み!$A$2:$O$506,6,0))","v":{"$error":"#N/A"}},{"$f":"IF(L366=\"\",\"\",VLOOKUP(L366,漢字読み!$A$2:$O$506,6,0))","v":{"$error":"#N/A"}},{"$f":"IF(M366=\"\",\"\",VLOOKUP(M366,漢字読み!$A$2:$O$506,6,0))","v":{"$error":"#N/A"}},{"$f":"IF(N366=\"\",\"\",VLOOKUP(N366,漢字読み!$A$2:$O$506,6,0))","v":{"$error":"#N/A"}},{"$f":"IF(O366=\"\",\"\",VLOOKUP(O366,漢字読み!$A$2:$O$506,6,0))","v":{"$error":"#N/A"}},{"$f":"IF(P366=\"\",\"\",VLOOKUP(P366,漢字読み!$A$2:$O$506,6,0))","v":{"$error":"#N/A"}},{"$f":"IF(Q366=\"\",\"\",VLOOKUP(Q366,漢字読み!$A$2:$O$506,6,0))","v":{"$error":"#N/A"}},{"$f":"IF(R366=\"\",\"\",VLOOKUP(R366,漢字読み!$A$2:$O$506,6,0))","v":{"$error":"#N/A"}},{"$f":"IF(S366=\"\",\"\",VLOOKUP(S366,漢字読み!$A$2:$O$506,6,0))","v":{"$error":"#N/A"}},{"$f":"IF(T366=\"\",\"\",VLOOKUP(T366,漢字読み!$A$2:$O$506,6,0))","v":{"$error":"#N/A"}},null,"級"]
[null,null,null,null,null,null,null,null,null,null,null,null,null,null,null,null,null,null,null,null,null,"名前"]
[{"$f":"IF(A366=\"\",\"\",IF(VLOOKUP(A366,漢字書き!$A$2:$N$502,7,0)=0,\"\",VLOOKUP(A366,漢字書き!$A$2:$N$502,7,0)))","v":{"$error":"#N/A"}},{"$f":"IF(B366=\"\",\"\",IF(VLOOKUP(B366,漢字書き!$A$2:$N$502,7,0)=0,\"\",VLOOKUP(B366,漢字書き!$A$2:$N$502,7,0)))","v":{"$error":"#N/A"}},{"$f":"IF(C366=\"\",\"\",IF(VLOOKUP(C366,漢字書き!$A$2:$N$502,7,0)=0,\"\",VLOOKUP(C366,漢字書き!$A$2:$N$502,7,0)))","v":{"$error":"#N/A"}},{"$f":"IF(D366=\"\",\"\",IF(VLOOKUP(D366,漢字書き!$A$2:$N$502,7,0)=0,\"\",VLOOKUP(D366,漢字書き!$A$2:$N$502,7,0)))","v":{"$error":"#N/A"}},{"$f":"IF(E366=\"\",\"\",IF(VLOOKUP(E366,漢字書き!$A$2:$N$502,7,0)=0,\"\",VLOOKUP(E366,漢字書き!$A$2:$N$502,7,0)))","v":{"$error":"#N/A"}},{"$f":"IF(F366=\"\",\"\",IF(VLOOKUP(F366,漢字書き!$A$2:$N$502,7,0)=0,\"\",VLOOKUP(F366,漢字書き!$A$2:$N$502,7,0)))","v":{"$error":"#N/A"}},{"$f":"IF(G366=\"\",\"\",IF(VLOOKUP(G366,漢字書き!$A$2:$N$502,7,0)=0,\"\",VLOOKUP(G366,漢字書き!$A$2:$N$502,7,0)))","v":{"$error":"#N/A"}},{"$f":"IF(H366=\"\",\"\",IF(VLOOKUP(H366,漢字書き!$A$2:$N$502,7,0)=0,\"\",VLOOKUP(H366,漢字書き!$A$2:$N$502,7,0)))","v":{"$error":"#N/A"}},{"$f":"IF(I366=\"\",\"\",IF(VLOOKUP(I366,漢字書き!$A$2:$N$502,7,0)=0,\"\",VLOOKUP(I366,漢字書き!$A$2:$N$502,7,0)))","v":{"$error":"#N/A"}},{"$f":"IF(J366=\"\",\"\",IF(VLOOKUP(J366,漢字書き!$A$2:$N$502,7,0)=0,\"\",VLOOKUP(J366,漢字書き!$A$2:$N$502,7,0)))","v":{"$error":"#N/A"}},{"$f":"IF(K366=\"\",\"\",IF(VLOOKUP(K366,漢字読み!$A$2:$O$502,7,0)=0,\"\",VLOOKUP(K366,漢字読み!$A$2:$O$502,7,0)))","v":{"$error":"#N/A"}},{"$f":"IF(L366=\"\",\"\",IF(VLOOKUP(L366,漢字読み!$A$2:$O$502,7,0)=0,\"\",VLOOKUP(L366,漢字読み!$A$2:$O$502,7,0)))","v":{"$error":"#N/A"}},{"$f":"IF(M366=\"\",\"\",IF(VLOOKUP(M366,漢字読み!$A$2:$O$502,7,0)=0,\"\",VLOOKUP(M366,漢字読み!$A$2:$O$502,7,0)))","v":{"$error":"#N/A"}},{"$f":"IF(N366=\"\",\"\",IF(VLOOKUP(N366,漢字読み!$A$2:$O$502,7,0)=0,\"\",VLOOKUP(N366,漢字読み!$A$2:$O$502,7,0)))","v":{"$error":"#N/A"}},{"$f":"IF(O366=\"\",\"\",IF(VLOOKUP(O366,漢字読み!$A$2:$O$502,7,0)=0,\"\",VLOOKUP(O366,漢字読み!$A$2:$O$502,7,0)))","v":{"$error":"#N/A"}},{"$f":"IF(P366=\"\",\"\",IF(VLOOKUP(P366,漢字読み!$A$2:$O$502,7,0)=0,\"\",VLOOKUP(P366,漢字読み!$A$2:$O$502,7,0)))","v":{"$error":"#N/A"}},{"$f":"IF(Q366=\"\",\"\",IF(VLOOKUP(Q366,漢字読み!$A$2:$O$502,7,0)=0,\"\",VLOOKUP(Q366,漢字読み!$A$2:$O$502,7,0)))","v":{"$error":"#N/A"}},{"$f":"IF(R366=\"\",\"\",IF(VLOOKUP(R366,漢字読み!$A$2:$O$502,7,0)=0,\"\",VLOOKUP(R366,漢字読み!$A$2:$O$502,7,0)))","v":{"$error":"#N/A"}},{"$f":"IF(S366=\"\",\"\",IF(VLOOKUP(S366,漢字読み!$A$2:$O$502,7,0)=0,\"\",VLOOKUP(S366,漢字読み!$A$2:$O$502,7,0)))","v":{"$error":"#N/A"}},{"$f":"IF(T366=\"\",\"\",IF(VLOOKUP(T366,漢字読み!$A$2:$O$502,7,0)=0,\"\",VLOOKUP(T366,漢字読み!$A$2:$O$502,7,0)))","v":{"$error":"#N/A"}},null,null,"和歌山県教育委員会"]
[{"$f":"A361","v":0},{"$f":"B361","v":0},{"$f":"C361","v":0},{"$f":"D361","v":0},{"$f":"E361","v":0},{"$f":"F361","v":0},{"$f":"G361","v":0},{"$f":"H361","v":0},{"$f":"I361","v":0},{"$f":"J361","v":0},{"$f":"K361","v":0},{"$f":"L361","v":0},{"$f":"M361","v":0},{"$f":"N361","v":0},{"$f":"O361","v":0},{"$f":"P361","v":0},{"$f":"Q361","v":0},{"$f":"R361","v":0},{"$f":"S361","v":0},{"$f":"T361","v":0}]
["⑳","⑲","⑱","⑰","⑯","⑮","⑭","⑬","⑫","⑪","⑩","⑨","⑧","⑦","⑥","⑤","④","③","②","①","次の［　　　　］の部分の漢字には読みがなをひらがなで書き、カタカナは漢字に直しなさい。",14,"「漢字の博士検定試験」練習問題　"]
[{"$f":"IF(A371=\"\",\"\",VLOOKUP(A371,漢字書き!$A$2:$N$506,6,0))","v":{"$error":"#N/A"}},{"$f":"IF(B371=\"\",\"\",VLOOKUP(B371,漢字書き!$A$2:$N$506,6,0))","v":{"$error":"#N/A"}},{"$f":"IF(C371=\"\",\"\",VLOOKUP(C371,漢字書き!$A$2:$N$506,6,0))","v":{"$error":"#N/A"}},{"$f":"IF(D371=\"\",\"\",VLOOKUP(D371,漢字書き!$A$2:$N$506,6,0))","v":{"$error":"#N/A"}},{"$f":"IF(E371=\"\",\"\",VLOOKUP(E371,漢字書き!$A$2:$N$506,6,0))","v":{"$error":"#N/A"}},{"$f":"IF(F371=\"\",\"\",VLOOKUP(F371,漢字書き!$A$2:$N$506,6,0))","v":{"$error":"#N/A"}},{"$f":"IF(G371=\"\",\"\",VLOOKUP(G371,漢字書き!$A$2:$N$506,6,0))","v":{"$error":"#N/A"}},{"$f":"IF(H371=\"\",\"\",VLOOKUP(H371,漢字書き!$A$2:$N$506,6,0))","v":{"$error":"#N/A"}},{"$f":"IF(I371=\"\",\"\",VLOOKUP(I371,漢字書き!$A$2:$N$506,6,0))","v":{"$error":"#N/A"}},{"$f":"IF(J371=\"\",\"\",VLOOKUP(J371,漢字書き!$A$2:$N$506,6,0))","v":{"$error":"#N/A"}},{"$f":"IF(K371=\"\",\"\",VLOOKUP(K371,漢字読み!$A$2:$O$506,6,0))","v":{"$error":"#N/A"}},{"$f":"IF(L371=\"\",\"\",VLOOKUP(L371,漢字読み!$A$2:$O$506,6,0))","v":{"$error":"#N/A"}},{"$f":"IF(M371=\"\",\"\",VLOOKUP(M371,漢字読み!$A$2:$O$506,6,0))","v":{"$error":"#N/A"}},{"$f":"IF(N371=\"\",\"\",VLOOKUP(N371,漢字読み!$A$2:$O$506,6,0))","v":{"$error":"#N/A"}},{"$f":"IF(O371=\"\",\"\",VLOOKUP(O371,漢字読み!$A$2:$O$506,6,0))","v":{"$error":"#N/A"}},{"$f":"IF(P371=\"\",\"\",VLOOKUP(P371,漢字読み!$A$2:$O$506,6,0))","v":{"$error":"#N/A"}},{"$f":"IF(Q371=\"\",\"\",VLOOKUP(Q371,漢字読み!$A$2:$O$506,6,0))","v":{"$error":"#N/A"}},{"$f":"IF(R371=\"\",\"\",VLOOKUP(R371,漢字読み!$A$2:$O$506,6,0))","v":{"$error":"#N/A"}},{"$f":"IF(S371=\"\",\"\",VLOOKUP(S371,漢字読み!$A$2:$O$506,6,0))","v":{"$error":"#N/A"}},{"$f":"IF(T371=\"\",\"\",VLOOKUP(T371,漢字読み!$A$2:$O$506,6,0))","v":{"$error":"#N/A"}},null,"級"]
[{"$f":"IF(A$11=\"\",\"\",VLOOKUP(A371,漢字書き!$A$2:$O$506,8,0))","v":{"$error":"#N/A"}},{"$f":"IF(B$11=\"\",\"\",VLOOKUP(B371,漢字書き!$A$2:$O$506,8,0))","v":{"$error":"#N/A"}},{"$f":"IF(C$11=\"\",\"\",VLOOKUP(C371,漢字書き!$A$2:$O$506,8,0))","v":{"$error":"#N/A"}},{"$f":"IF(D$11=\"\",\"\",VLOOKUP(D371,漢字書き!$A$2:$O$506,8,0))","v":{"$error":"#N/A"}},{"$f":"IF(E$11=\"\",\"\",VLOOKUP(E371,漢字書き!$A$2:$O$506,8,0))","v":{"$error":"#N/A"}},{"$f":"IF(F$11=\"\",\"\",VLOOKUP(F371,漢字書き!$A$2:$O$506,8,0))","v":{"$error":"#N/A"}},{"$f":"IF(G$11=\"\",\"\",VLOOKUP(G371,漢字書き!$A$2:$O$506,8,0))","v":{"$error":"#N/A"}},{"$f":"IF(H$11=\"\",\"\",VLOOKUP(H371,漢字書き!$A$2:$O$506,8,0))","v":{"$error":"#N/A"}},{"$f":"IF(I$11=\"\",\"\",VLOOKUP(I371,漢字書き!$A$2:$O$506,8,0))","v":{"$error":"#N/A"}},{"$f":"IF(J$11=\"\",\"\",VLOOKUP(J371,漢字書き!$A$2:$O$506,8,0))","v":{"$error":"#N/A"}},{"$f":"IF(K$11=\"\",\"\",VLOOKUP(K371,漢字読み!$A$2:$O$506,8,0))","v":{"$error":"#N/A"}},{"$f":"IF(L$11=\"\",\"\",VLOOKUP(L371,漢字読み!$A$2:$O$506,8,0))","v":{"$error":"#N/A"}},{"$f":"IF(M$11=\"\",\"\",VLOOKUP(M371,漢字読み!$A$2:$O$506,8,0))","v":{"$error":"#N/A"}},{"$f":"IF(N$11=\"\",\"\",VLOOKUP(N371,漢字読み!$A$2:$O$506,8,0))","v":{"$error":"#N/A"}},{"$f":"IF(O$11=\"\",\"\",VLOOKUP(O371,漢字読み!$A$2:$O$506,8,0))","v":{"$error":"#N/A"}},{"$f":"IF(P$11=\"\",\"\",VLOOKUP(P371,漢字読み!$A$2:$O$506,8,0))","v":{"$error":"#N/A"}},{"$f":"IF(Q$11=\"\",\"\",VLOOKUP(Q371,漢字読み!$A$2:$O$506,8,0))","v":{"$error":"#N/A"}},{"$f":"IF(R$11=\"\",\"\",VLOOKUP(R371,漢字読み!$A$2:$O$506,8,0))","v":{"$error":"#N/A"}},{"$f":"IF(S$11=\"\",\"\",VLOOKUP(S371,漢字読み!$A$2:$O$506,8,0))","v":{"$error":"#N/A"}},{"$f":"IF(T$11=\"\",\"\",VLOOKUP(T371,漢字読み!$A$2:$O$506,8,0))","v":{"$error":"#N/A"}},null,"名前"]
[{"$f":"IF(A371=\"\",\"\",IF(VLOOKUP(A371,漢字書き!$A$2:$N$502,7,0)=0,\"\",VLOOKUP(A371,漢字書き!$A$2:$N$502,7,0)))","v":{"$error":"#N/A"}},{"$f":"IF(B371=\"\",\"\",IF(VLOOKUP(B371,漢字書き!$A$2:$N$502,7,0)=0,\"\",VLOOKUP(B371,漢字書き!$A$2:$N$502,7,0)))","v":{"$error":"#N/A"}},{"$f":"IF(C371=\"\",\"\",IF(VLOOKUP(C371,漢字書き!$A$2:$N$502,7,0)=0,\"\",VLOOKUP(C371,漢字書き!$A$2:$N$502,7,0)))","v":{"$error":"#N/A"}},{"$f":"IF(D371=\"\",\"\",IF(VLOOKUP(D371,漢字書き!$A$2:$N$502,7,0)=0,\"\",VLOOKUP(D371,漢字書き!$A$2:$N$502,7,0)))","v":{"$error":"#N/A"}},{"$f":"IF(E371=\"\",\"\",IF(VLOOKUP(E371,漢字書き!$A$2:$N$502,7,0)=0,\"\",VLOOKUP(E371,漢字書き!$A$2:$N$502,7,0)))","v":{"$error":"#N/A"}},{"$f":"IF(F371=\"\",\"\",IF(VLOOKUP(F371,漢字書き!$A$2:$N$502,7,0)=0,\"\",VLOOKUP(F371,漢字書き!$A$2:$N$502,7,0)))","v":{"$error":"#N/A"}},{"$f":"IF(G371=\"\",\"\",IF(VLOOKUP(G371,漢字書き!$A$2:$N$502,7,0)=0,\"\",VLOOKUP(G371,漢字書き!$A$2:$N$502,7,0)))","v":{"$error":"#N/A"}},{"$f":"IF(H371=\"\",\"\",IF(VLOOKUP(H371,漢字書き!$A$2:$N$502,7,0)=0,\"\",VLOOKUP(H371,漢字書き!$A$2:$N$502,7,0)))","v":{"$error":"#N/A"}},{"$f":"IF(I371=\"\",\"\",IF(VLOOKUP(I371,漢字書き!$A$2:$N$502,7,0)=0,\"\",VLOOKUP(I371,漢字書き!$A$2:$N$502,7,0)))","v":{"$error":"#N/A"}},{"$f":"IF(J371=\"\",\"\",IF(VLOOKUP(J371,漢字書き!$A$2:$N$502,7,0)=0,\"\",VLOOKUP(J371,漢字書き!$A$2:$N$502,7,0)))","v":{"$error":"#N/A"}},{"$f":"IF(K371=\"\",\"\",IF(VLOOKUP(K371,漢字読み!$A$2:$O$502,7,0)=0,\"\",VLOOKUP(K371,漢字読み!$A$2:$O$502,7,0)))","v":{"$error":"#N/A"}},{"$f":"IF(L371=\"\",\"\",IF(VLOOKUP(L371,漢字読み!$A$2:$O$502,7,0)=0,\"\",VLOOKUP(L371,漢字読み!$A$2:$O$502,7,0)))","v":{"$error":"#N/A"}},{"$f":"IF(M371=\"\",\"\",IF(VLOOKUP(M371,漢字読み!$A$2:$O$502,7,0)=0,\"\",VLOOKUP(M371,漢字読み!$A$2:$O$502,7,0)))","v":{"$error":"#N/A"}},{"$f":"IF(N371=\"\",\"\",IF(VLOOKUP(N371,漢字読み!$A$2:$O$502,7,0)=0,\"\",VLOOKUP(N371,漢字読み!$A$2:$O$502,7,0)))","v":{"$error":"#N/A"}},{"$f":"IF(O371=\"\",\"\",IF(VLOOKUP(O371,漢字読み!$A$2:$O$502,7,0)=0,\"\",VLOOKUP(O371,漢字読み!$A$2:$O$502,7,0)))","v":{"$error":"#N/A"}},{"$f":"IF(P371=\"\",\"\",IF(VLOOKUP(P371,漢字読み!$A$2:$O$502,7,0)=0,\"\",VLOOKUP(P371,漢字読み!$A$2:$O$502,7,0)))","v":{"$error":"#N/A"}},{"$f":"IF(Q371=\"\",\"\",IF(VLOOKUP(Q371,漢字読み!$A$2:$O$502,7,0)=0,\"\",VLOOKUP(Q371,漢字読み!$A$2:$O$502,7,0)))","v":{"$error":"#N/A"}},{"$f":"IF(R371=\"\",\"\",IF(VLOOKUP(R371,漢字読み!$A$2:$O$502,7,0)=0,\"\",VLOOKUP(R371,漢字読み!$A$2:$O$502,7,0)))","v":{"$error":"#N/A"}},{"$f":"IF(S371=\"\",\"\",IF(VLOOKUP(S371,漢字読み!$A$2:$O$502,7,0)=0,\"\",VLOOKUP(S371,漢字読み!$A$2:$O$502,7,0)))","v":{"$error":"#N/A"}},{"$f":"IF(T371=\"\",\"\",IF(VLOOKUP(T371,漢字読み!$A$2:$O$502,7,0)=0,\"\",VLOOKUP(T371,漢字読み!$A$2:$O$502,7,0)))","v":{"$error":"#N/A"}},null,null,"和歌山県教育委員会"]
[{"$f":"A366","v":0},{"$f":"B366","v":0},{"$f":"C366","v":0},{"$f":"D366","v":0},{"$f":"E366","v":0},{"$f":"F366","v":0},{"$f":"G366","v":0},{"$f":"H366","v":0},{"$f":"I366","v":0},{"$f":"J366","v":0},{"$f":"K366","v":0},{"$f":"L366","v":0},{"$f":"M366","v":0},{"$f":"N366","v":0},{"$f":"O366","v":0},{"$f":"P366","v":0},{"$f":"Q366","v":0},{"$f":"R366","v":0},{"$f":"S366","v":0},{"$f":"T366","v":0}]
["⑳","⑲","⑱","⑰","⑯","⑮","⑭","⑬","⑫","⑪","⑩","⑨","⑧","⑦","⑥","⑤","④","③","②","①","次の［　　　　］の部分の漢字には読みがなをひらがなで書き、カタカナは漢字に直しなさい。",14,"「漢字の博士検定試験」練習問題　"]
[{"$f":"IF(A376=\"\",\"\",VLOOKUP(A376,漢字書き!$A$2:$N$506,6,0))","v":{"$error":"#N/A"}},{"$f":"IF(B376=\"\",\"\",VLOOKUP(B376,漢字書き!$A$2:$N$506,6,0))","v":{"$error":"#N/A"}},{"$f":"IF(C376=\"\",\"\",VLOOKUP(C376,漢字書き!$A$2:$N$506,6,0))","v":{"$error":"#N/A"}},{"$f":"IF(D376=\"\",\"\",VLOOKUP(D376,漢字書き!$A$2:$N$506,6,0))","v":{"$error":"#N/A"}},{"$f":"IF(E376=\"\",\"\",VLOOKUP(E376,漢字書き!$A$2:$N$506,6,0))","v":{"$error":"#N/A"}},{"$f":"IF(F376=\"\",\"\",VLOOKUP(F376,漢字書き!$A$2:$N$506,6,0))","v":{"$error":"#N/A"}},{"$f":"IF(G376=\"\",\"\",VLOOKUP(G376,漢字書き!$A$2:$N$506,6,0))","v":{"$error":"#N/A"}},{"$f":"IF(H376=\"\",\"\",VLOOKUP(H376,漢字書き!$A$2:$N$506,6,0))","v":{"$error":"#N/A"}},{"$f":"IF(I376=\"\",\"\",VLOOKUP(I376,漢字書き!$A$2:$N$506,6,0))","v":{"$error":"#N/A"}},{"$f":"IF(J376=\"\",\"\",VLOOKUP(J376,漢字書き!$A$2:$N$506,6,0))","v":{"$error":"#N/A"}},{"$f":"IF(K376=\"\",\"\",VLOOKUP(K376,漢字読み!$A$2:$O$506,6,0))","v":{"$error":"#N/A"}},{"$f":"IF(L376=\"\",\"\",VLOOKUP(L376,漢字読み!$A$2:$O$506,6,0))","v":{"$error":"#N/A"}},{"$f":"IF(M376=\"\",\"\",VLOOKUP(M376,漢字読み!$A$2:$O$506,6,0))","v":{"$error":"#N/A"}},{"$f":"IF(N376=\"\",\"\",VLOOKUP(N376,漢字読み!$A$2:$O$506,6,0))","v":{"$error":"#N/A"}},{"$f":"IF(O376=\"\",\"\",VLOOKUP(O376,漢字読み!$A$2:$O$506,6,0))","v":{"$error":"#N/A"}},{"$f":"IF(P376=\"\",\"\",VLOOKUP(P376,漢字読み!$A$2:$O$506,6,0))","v":{"$error":"#N/A"}},{"$f":"IF(Q376=\"\",\"\",VLOOKUP(Q376,漢字読み!$A$2:$O$506,6,0))","v":{"$error":"#N/A"}},{"$f":"IF(R376=\"\",\"\",VLOOKUP(R376,漢字読み!$A$2:$O$506,6,0))","v":{"$error":"#N/A"}},{"$f":"IF(S376=\"\",\"\",VLOOKUP(S376,漢字読み!$A$2:$O$506,6,0))","v":{"$error":"#N/A"}},{"$f":"IF(T376=\"\",\"\",VLOOKUP(T376,漢字読み!$A$2:$O$506,6,0))","v":{"$error":"#N/A"}},null,"級"]
[{"$f":"IF(A$16=\"\",\"\",VLOOKUP(A376,漢字書き!$A$2:$O$506,8,0))","v":{"$error":"#N/A"}},{"$f":"IF(B$16=\"\",\"\",VLOOKUP(B376,漢字書き!$A$2:$O$506,8,0))","v":{"$error":"#N/A"}},{"$f":"IF(C$16=\"\",\"\",VLOOKUP(C376,漢字書き!$A$2:$O$506,8,0))","v":{"$error":"#N/A"}},{"$f":"IF(D$16=\"\",\"\",VLOOKUP(D376,漢字書き!$A$2:$O$506,8,0))","v":{"$error":"#N/A"}},{"$f":"IF(E$16=\"\",\"\",VLOOKUP(E376,漢字書き!$A$2:$O$506,8,0))","v":{"$error":"#N/A"}},{"$f":"IF(F$16=\"\",\"\",VLOOKUP(F376,漢字書き!$A$2:$O$506,8,0))","v":{"$error":"#N/A"}},{"$f":"IF(G$16=\"\",\"\",VLOOKUP(G376,漢字書き!$A$2:$O$506,8,0))","v":{"$error":"#N/A"}},{"$f":"IF(H$16=\"\",\"\",VLOOKUP(H376,漢字書き!$A$2:$O$506,8,0))","v":{"$error":"#N/A"}},{"$f":"IF(I$16=\"\",\"\",VLOOKUP(I376,漢字書き!$A$2:$O$506,8,0))","v":{"$error":"#N/A"}},{"$f":"IF(J$16=\"\",\"\",VLOOKUP(J376,漢字書き!$A$2:$O$506,8,0))","v":{"$error":"#N/A"}},{"$f":"IF(K$16=\"\",\"\",VLOOKUP(K376,漢字読み!$A$2:$O$506,8,0))","v":{"$error":"#N/A"}},{"$f":"IF(L$16=\"\",\"\",VLOOKUP(L376,漢字読み!$A$2:$O$506,8,0))","v":{"$error":"#N/A"}},{"$f":"IF(M$16=\"\",\"\",VLOOKUP(M376,漢字読み!$A$2:$O$506,8,0))","v":{"$error":"#N/A"}},{"$f":"IF(N$16=\"\",\"\",VLOOKUP(N376,漢字読み!$A$2:$O$506,8,0))","v":{"$error":"#N/A"}},{"$f":"IF(O$16=\"\",\"\",VLOOKUP(O376,漢字読み!$A$2:$O$506,8,0))","v":{"$error":"#N/A"}},{"$f":"IF(P$16=\"\",\"\",VLOOKUP(P376,漢字読み!$A$2:$O$506,8,0))","v":{"$error":"#N/A"}},{"$f":"IF(Q$16=\"\",\"\",VLOOKUP(Q376,漢字読み!$A$2:$O$506,8,0))","v":{"$error":"#N/A"}},{"$f":"IF(R$16=\"\",\"\",VLOOKUP(R376,漢字読み!$A$2:$O$506,8,0))","v":{"$error":"#N/A"}},{"$f":"IF(S$16=\"\",\"\",VLOOKUP(S376,漢字読み!$A$2:$O$506,8,0))","v":{"$error":"#N/A"}},{"$f":"IF(T$16=\"\",\"\",VLOOKUP(T376,漢字読み!$A$2:$O$506,8,0))","v":{"$error":"#N/A"}},null,"名前"]
[{"$f":"IF(A376=\"\",\"\",IF(VLOOKUP(A376,漢字書き!$A$2:$N$502,7,0)=0,\"\",VLOOKUP(A376,漢字書き!$A$2:$N$502,7,0)))","v":{"$error":"#N/A"}},{"$f":"IF(B376=\"\",\"\",IF(VLOOKUP(B376,漢字書き!$A$2:$N$502,7,0)=0,\"\",VLOOKUP(B376,漢字書き!$A$2:$N$502,7,0)))","v":{"$error":"#N/A"}},{"$f":"IF(C376=\"\",\"\",IF(VLOOKUP(C376,漢字書き!$A$2:$N$502,7,0)=0,\"\",VLOOKUP(C376,漢字書き!$A$2:$N$502,7,0)))","v":{"$error":"#N/A"}},{"$f":"IF(D376=\"\",\"\",IF(VLOOKUP(D376,漢字書き!$A$2:$N$502,7,0)=0,\"\",VLOOKUP(D376,漢字書き!$A$2:$N$502,7,0)))","v":{"$error":"#N/A"}},{"$f":"IF(E376=\"\",\"\",IF(VLOOKUP(E376,漢字書き!$A$2:$N$502,7,0)=0,\"\",VLOOKUP(E376,漢字書き!$A$2:$N$502,7,0)))","v":{"$error":"#N/A"}},{"$f":"IF(F376=\"\",\"\",IF(VLOOKUP(F376,漢字書き!$A$2:$N$502,7,0)=0,\"\",VLOOKUP(F376,漢字書き!$A$2:$N$502,7,0)))","v":{"$error":"#N/A"}},{"$f":"IF(G376=\"\",\"\",IF(VLOOKUP(G376,漢字書き!$A$2:$N$502,7,0)=0,\"\",VLOOKUP(G376,漢字書き!$A$2:$N$502,7,0)))","v":{"$error":"#N/A"}},{"$f":"IF(H376=\"\",\"\",IF(VLOOKUP(H376,漢字書き!$A$2:$N$502,7,0)=0,\"\",VLOOKUP(H376,漢字書き!$A$2:$N$502,7,0)))","v":{"$error":"#N/A"}},{"$f":"IF(I376=\"\",\"\",IF(VLOOKUP(I376,漢字書き!$A$2:$N$502,7,0)=0,\"\",VLOOKUP(I376,漢字書き!$A$2:$N$502,7,0)))","v":{"$error":"#N/A"}},{"$f":"IF(J376=\"\",\"\",IF(VLOOKUP(J376,漢字書き!$A$2:$N$502,7,0)=0,\"\",VLOOKUP(J376,漢字書き!$A$2:$N$502,7,0)))","v":{"$error":"#N/A"}},{"$f":"IF(K376=\"\",\"\",IF(VLOOKUP(K376,漢字読み!$A$2:$O$502,7,0)=0,\"\",VLOOKUP(K376,漢字読み!$A$2:$O$502,7,0)))","v":{"$error":"#N/A"}},{"$f":"IF(L376=\"\",\"\",IF(VLOOKUP(L376,漢字読み!$A$2:$O$502,7,0)=0,\"\",VLOOKUP(L376,漢字読み!$A$2:$O$502,7,0)))","v":{"$error":"#N/A"}},{"$f":"IF(M376=\"\",\"\",IF(VLOOKUP(M376,漢字読み!$A$2:$O$502,7,0)=0,\"\",VLOOKUP(M376,漢字読み!$A$2:$O$502,7,0)))","v":{"$error":"#N/A"}},{"$f":"IF(N376=\"\",\"\",IF(VLOOKUP(N376,漢字読み!$A$2:$O$502,7,0)=0,\"\",VLOOKUP(N376,漢字読み!$A$2:$O$502,7,0)))","v":{"$error":"#N/A"}},{"$f":"IF(O376=\"\",\"\",IF(VLOOKUP(O376,漢字読み!$A$2:$O$502,7,0)=0,\"\",VLOOKUP(O376,漢字読み!$A$2:$O$502,7,0)))","v":{"$error":"#N/A"}},{"$f":"IF(P376=\"\",\"\",IF(VLOOKUP(P376,漢字読み!$A$2:$O$502,7,0)=0,\"\",VLOOKUP(P376,漢字読み!$A$2:$O$502,7,0)))","v":{"$error":"#N/A"}},{"$f":"IF(Q376=\"\",\"\",IF(VLOOKUP(Q376,漢字読み!$A$2:$O$502,7,0)=0,\"\",VLOOKUP(Q376,漢字読み!$A$2:$O$502,7,0)))","v":{"$error":"#N/A"}},{"$f":"IF(R376=\"\",\"\",IF(VLOOKUP(R376,漢字読み!$A$2:$O$502,7,0)=0,\"\",VLOOKUP(R376,漢字読み!$A$2:$O$502,7,0)))","v":{"$error":"#N/A"}},{"$f":"IF(S376=\"\",\"\",IF(VLOOKUP(S376,漢字読み!$A$2:$O$502,7,0)=0,\"\",VLOOKUP(S376,漢字読み!$A$2:$O$502,7,0)))","v":{"$error":"#N/A"}},{"$f":"IF(T376=\"\",\"\",IF(VLOOKUP(T376,漢字読み!$A$2:$O$502,7,0)=0,\"\",VLOOKUP(T376,漢字読み!$A$2:$O$502,7,0)))","v":{"$error":"#N/A"}},null,null,"和歌山県教育委員会"]
[{"$f":"INDIRECT(\"'関数（書き）'!C\" & COLUMN(B$1)+SUM($AD$2:$AD382))","v":0},{"$f":"INDIRECT(\"'関数（書き）'!C\" & COLUMN(C$1)+SUM($AD$2:$AD382))","v":0},{"$f":"INDIRECT(\"'関数（書き）'!C\" & COLUMN(D$1)+SUM($AD$2:$AD382))","v":0},{"$f":"INDIRECT(\"'関数（書き）'!C\" & COLUMN(E$1)+SUM($AD$2:$AD382))","v":0},{"$f":"INDIRECT(\"'関数（書き）'!C\" & COLUMN(F$1)+SUM($AD$2:$AD382))","v":0},{"$f":"INDIRECT(\"'関数（書き）'!C\" & COLUMN(G$1)+SUM($AD$2:$AD382))","v":0},{"$f":"INDIRECT(\"'関数（書き）'!C\" & COLUMN(H$1)+SUM($AD$2:$AD382))","v":0},{"$f":"INDIRECT(\"'関数（書き）'!C\" & COLUMN(I$1)+SUM($AD$2:$AD382))","v":0},{"$f":"INDIRECT(\"'関数（書き）'!C\" & COLUMN(J$1)+SUM($AD$2:$AD382))","v":0},{"$f":"INDIRECT(\"'関数（書き）'!C\" & COLUMN(K$1)+SUM($AD$2:$AD382))","v":0},{"$f":"INDIRECT(\"'関数（読み）'!C\" & COLUMN(B$1)+SUM($AD$2:$AD382))","v":0},{"$f":"INDIRECT(\"'関数（読み）'!C\" & COLUMN(C$1)+SUM($AD$2:$AD382))","v":0},{"$f":"INDIRECT(\"'関数（読み）'!C\" & COLUMN(D$1)+SUM($AD$2:$AD382))","v":0},{"$f":"INDIRECT(\"'関数（読み）'!C\" & COLUMN(E$1)+SUM($AD$2:$AD382))","v":0},{"$f":"INDIRECT(\"'関数（読み）'!C\" & COLUMN(F$1)+SUM($AD$2:$AD382))","v":0},{"$f":"INDIRECT(\"'関数（読み）'!C\" & COLUMN(G$1)+SUM($AD$2:$AD382))","v":0},{"$f":"INDIRECT(\"'関数（読み）'!C\" & COLUMN(H$1)+SUM($AD$2:$AD382))","v":0},{"$f":"INDIRECT(\"'関数（読み）'!C\" & COLUMN(I$1)+SUM($AD$2:$AD382))","v":0},{"$f":"INDIRECT(\"'関数（読み）'!C\" & COLUMN(J$1)+SUM($AD$2:$AD382))","v":0},{"$f":"INDIRECT(\"'関数（読み）'!C\" & COLUMN(K$1)+SUM($AD$2:$AD382))","v":0}]
["⑳","⑲","⑱","⑰","⑯","⑮","⑭","⑬","⑫","⑪","⑩","⑨","⑧","⑦","⑥","⑤","④","③","②","①","次の［　　　　］の部分の漢字には読みがなをひらがなで書き、カタカナは漢字に直しなさい。",14,"「漢字の博士検定試験」練習問題　",null,null,null,null,null,"←",10,"問",{"$f":"AH367+1","v":381},"～",{"$f":"SUM($AD$2:$AD382)+10","v":390},"問まで",{"$f":"COUNTIF($A$1:$T$200,T383)","v":585}]
[{"$f":"IF(A381=\"\",\"\",VLOOKUP(A381,漢字書き!$A$2:$N$506,6,0))","v":{"$error":"#N/A"}},{"$f":"IF(B381=\"\",\"\",VLOOKUP(B381,漢字書き!$A$2:$N$506,6,0))","v":{"$error":"#N/A"}},{"$f":"IF(C381=\"\",\"\",VLOOKUP(C381,漢字書き!$A$2:$N$506,6,0))","v":{"$error":"#N/A"}},{"$f":"IF(D381=\"\",\"\",VLOOKUP(D381,漢字書き!$A$2:$N$506,6,0))","v":{"$error":"#N/A"}},{"$f":"IF(E381=\"\",\"\",VLOOKUP(E381,漢字書き!$A$2:$N$506,6,0))","v":{"$error":"#N/A"}},{"$f":"IF(F381=\"\",\"\",VLOOKUP(F381,漢字書き!$A$2:$N$506,6,0))","v":{"$error":"#N/A"}},{"$f":"IF(G381=\"\",\"\",VLOOKUP(G381,漢字書き!$A$2:$N$506,6,0))","v":{"$error":"#N/A"}},{"$f":"IF(H381=\"\",\"\",VLOOKUP(H381,漢字書き!$A$2:$N$506,6,0))","v":{"$error":"#N/A"}},{"$f":"IF(I381=\"\",\"\",VLOOKUP(I381,漢字書き!$A$2:$N$506,6,0))","v":{"$error":"#N/A"}},{"$f":"IF(J381=\"\",\"\",VLOOKUP(J381,漢字書き!$A$2:$N$506,6,0))","v":{"$error":"#N/A"}},{"$f":"IF(K381=\"\",\"\",VLOOKUP(K381,漢字読み!$A$2:$O$506,6,0))","v":{"$error":"#N/A"}},{"$f":"IF(L381=\"\",\"\",VLOOKUP(L381,漢字読み!$A$2:$O$506,6,0))","v":{"$error":"#N/A"}},{"$f":"IF(M381=\"\",\"\",VLOOKUP(M381,漢字読み!$A$2:$O$506,6,0))","v":{"$error":"#N/A"}},{"$f":"IF(N381=\"\",\"\",VLOOKUP(N381,漢字読み!$A$2:$O$506,6,0))","v":{"$error":"#N/A"}},{"$f":"IF(O381=\"\",\"\",VLOOKUP(O381,漢字読み!$A$2:$O$506,6,0))","v":{"$error":"#N/A"}},{"$f":"IF(P381=\"\",\"\",VLOOKUP(P381,漢字読み!$A$2:$O$506,6,0))","v":{"$error":"#N/A"}},{"$f":"IF(Q381=\"\",\"\",VLOOKUP(Q381,漢字読み!$A$2:$O$506,6,0))","v":{"$error":"#N/A"}},{"$f":"IF(R381=\"\",\"\",VLOOKUP(R381,漢字読み!$A$2:$O$506,6,0))","v":{"$error":"#N/A"}},{"$f":"IF(S381=\"\",\"\",VLOOKUP(S381,漢字読み!$A$2:$O$506,6,0))","v":{"$error":"#N/A"}},{"$f":"IF(T381=\"\",\"\",VLOOKUP(T381,漢字読み!$A$2:$O$506,6,0))","v":{"$error":"#N/A"}},null,"級"]
[null,null,null,null,null,null,null,null,null,null,null,null,null,null,null,null,null,null,null,null,null,"名前"]
[{"$f":"IF(A381=\"\",\"\",IF(VLOOKUP(A381,漢字書き!$A$2:$N$502,7,0)=0,\"\",VLOOKUP(A381,漢字書き!$A$2:$N$502,7,0)))","v":{"$error":"#N/A"}},{"$f":"IF(B381=\"\",\"\",IF(VLOOKUP(B381,漢字書き!$A$2:$N$502,7,0)=0,\"\",VLOOKUP(B381,漢字書き!$A$2:$N$502,7,0)))","v":{"$error":"#N/A"}},{"$f":"IF(C381=\"\",\"\",IF(VLOOKUP(C381,漢字書き!$A$2:$N$502,7,0)=0,\"\",VLOOKUP(C381,漢字書き!$A$2:$N$502,7,0)))","v":{"$error":"#N/A"}},{"$f":"IF(D381=\"\",\"\",IF(VLOOKUP(D381,漢字書き!$A$2:$N$502,7,0)=0,\"\",VLOOKUP(D381,漢字書き!$A$2:$N$502,7,0)))","v":{"$error":"#N/A"}},{"$f":"IF(E381=\"\",\"\",IF(VLOOKUP(E381,漢字書き!$A$2:$N$502,7,0)=0,\"\",VLOOKUP(E381,漢字書き!$A$2:$N$502,7,0)))","v":{"$error":"#N/A"}},{"$f":"IF(F381=\"\",\"\",IF(VLOOKUP(F381,漢字書き!$A$2:$N$502,7,0)=0,\"\",VLOOKUP(F381,漢字書き!$A$2:$N$502,7,0)))","v":{"$error":"#N/A"}},{"$f":"IF(G381=\"\",\"\",IF(VLOOKUP(G381,漢字書き!$A$2:$N$502,7,0)=0,\"\",VLOOKUP(G381,漢字書き!$A$2:$N$502,7,0)))","v":{"$error":"#N/A"}},{"$f":"IF(H381=\"\",\"\",IF(VLOOKUP(H381,漢字書き!$A$2:$N$502,7,0)=0,\"\",VLOOKUP(H381,漢字書き!$A$2:$N$502,7,0)))","v":{"$error":"#N/A"}},{"$f":"IF(I381=\"\",\"\",IF(VLOOKUP(I381,漢字書き!$A$2:$N$502,7,0)=0,\"\",VLOOKUP(I381,漢字書き!$A$2:$N$502,7,0)))","v":{"$error":"#N/A"}},{"$f":"IF(J381=\"\",\"\",IF(VLOOKUP(J381,漢字書き!$A$2:$N$502,7,0)=0,\"\",VLOOKUP(J381,漢字書き!$A$2:$N$502,7,0)))","v":{"$error":"#N/A"}},{"$f":"IF(K381=\"\",\"\",IF(VLOOKUP(K381,漢字読み!$A$2:$O$502,7,0)=0,\"\",VLOOKUP(K381,漢字読み!$A$2:$O$502,7,0)))","v":{"$error":"#N/A"}},{"$f":"IF(L381=\"\",\"\",IF(VLOOKUP(L381,漢字読み!$A$2:$O$502,7,0)=0,\"\",VLOOKUP(L381,漢字読み!$A$2:$O$502,7,0)))","v":{"$error":"#N/A"}},{"$f":"IF(M381=\"\",\"\",IF(VLOOKUP(M381,漢字読み!$A$2:$O$502,7,0)=0,\"\",VLOOKUP(M381,漢字読み!$A$2:$O$502,7,0)))","v":{"$error":"#N/A"}},{"$f":"IF(N381=\"\",\"\",IF(VLOOKUP(N381,漢字読み!$A$2:$O$502,7,0)=0,\"\",VLOOKUP(N381,漢字読み!$A$2:$O$502,7,0)))","v":{"$error":"#N/A"}},{"$f":"IF(O381=\"\",\"\",IF(VLOOKUP(O381,漢字読み!$A$2:$O$502,7,0)=0,\"\",VLOOKUP(O381,漢字読み!$A$2:$O$502,7,0)))","v":{"$error":"#N/A"}},{"$f":"IF(P381=\"\",\"\",IF(VLOOKUP(P381,漢字読み!$A$2:$O$502,7,0)=0,\"\",VLOOKUP(P381,漢字読み!$A$2:$O$502,7,0)))","v":{"$error":"#N/A"}},{"$f":"IF(Q381=\"\",\"\",IF(VLOOKUP(Q381,漢字読み!$A$2:$O$502,7,0)=0,\"\",VLOOKUP(Q381,漢字読み!$A$2:$O$502,7,0)))","v":{"$error":"#N/A"}},{"$f":"IF(R381=\"\",\"\",IF(VLOOKUP(R381,漢字読み!$A$2:$O$502,7,0)=0,\"\",VLOOKUP(R381,漢字読み!$A$2:$O$502,7,0)))","v":{"$error":"#N/A"}},{"$f":"IF(S381=\"\",\"\",IF(VLOOKUP(S381,漢字読み!$A$2:$O$502,7,0)=0,\"\",VLOOKUP(S381,漢字読み!$A$2:$O$502,7,0)))","v":{"$error":"#N/A"}},{"$f":"IF(T381=\"\",\"\",IF(VLOOKUP(T381,漢字読み!$A$2:$O$502,7,0)=0,\"\",VLOOKUP(T381,漢字読み!$A$2:$O$502,7,0)))","v":{"$error":"#N/A"}},null,null,"和歌山県教育委員会"]
[{"$f":"INDIRECT(\"'関数（書き）'!C\" & COLUMN(B$1)+SUM($AD$2:$AD387))","v":0},{"$f":"INDIRECT(\"'関数（書き）'!C\" & COLUMN(C$1)+SUM($AD$2:$AD387))","v":0},{"$f":"INDIRECT(\"'関数（書き）'!C\" & COLUMN(D$1)+SUM($AD$2:$AD387))","v":0},{"$f":"INDIRECT(\"'関数（書き）'!C\" & COLUMN(E$1)+SUM($AD$2:$AD387))","v":0},{"$f":"INDIRECT(\"'関数（書き）'!C\" & COLUMN(F$1)+SUM($AD$2:$AD387))","v":0},{"$f":"INDIRECT(\"'関数（書き）'!C\" & COLUMN(G$1)+SUM($AD$2:$AD387))","v":0},{"$f":"INDIRECT(\"'関数（書き）'!C\" & COLUMN(H$1)+SUM($AD$2:$AD387))","v":0},{"$f":"INDIRECT(\"'関数（書き）'!C\" & COLUMN(I$1)+SUM($AD$2:$AD387))","v":0},{"$f":"INDIRECT(\"'関数（書き）'!C\" & COLUMN(J$1)+SUM($AD$2:$AD387))","v":0},{"$f":"INDIRECT(\"'関数（書き）'!C\" & COLUMN(K$1)+SUM($AD$2:$AD387))","v":0},{"$f":"INDIRECT(\"'関数（読み）'!C\" & COLUMN(B$1)+SUM($AD$2:$AD387))","v":0},{"$f":"INDIRECT(\"'関数（読み）'!C\" & COLUMN(C$1)+SUM($AD$2:$AD387))","v":0},{"$f":"INDIRECT(\"'関数（読み）'!C\" & COLUMN(D$1)+SUM($AD$2:$AD387))","v":0},{"$f":"INDIRECT(\"'関数（読み）'!C\" & COLUMN(E$1)+SUM($AD$2:$AD387))","v":0},{"$f":"INDIRECT(\"'関数（読み）'!C\" & COLUMN(F$1)+SUM($AD$2:$AD387))","v":0},{"$f":"INDIRECT(\"'関数（読み）'!C\" & COLUMN(G$1)+SUM($AD$2:$AD387))","v":0},{"$f":"INDIRECT(\"'関数（読み）'!C\" & COLUMN(H$1)+SUM($AD$2:$AD387))","v":0},{"$f":"INDIRECT(\"'関数（読み）'!C\" & COLUMN(I$1)+SUM($AD$2:$AD387))","v":0},{"$f":"INDIRECT(\"'関数（読み）'!C\" & COLUMN(J$1)+SUM($AD$2:$AD387))","v":0},{"$f":"INDIRECT(\"'関数（読み）'!C\" & COLUMN(K$1)+SUM($AD$2:$AD387))","v":0}]
["⑳","⑲","⑱","⑰","⑯","⑮","⑭","⑬","⑫","⑪","⑩","⑨","⑧","⑦","⑥","⑤","④","③","②","①","次の［　　　　］の部分の漢字には読みがなをひらがなで書き、カタカナは漢字に直しなさい。",14,"「漢字の博士検定試験」練習問題　",null,null,null,null,null,"←",10,"問",{"$f":"AH382+1","v":391},"～",{"$f":"SUM($AD$2:$AD387)+10","v":400},"問まで",{"$f":"COUNTIF($A$1:$T$200,T388)","v":585}]
[{"$f":"IF(A386=\"\",\"\",VLOOKUP(A386,漢字書き!$A$2:$N$506,6,0))","v":{"$error":"#N/A"}},{"$f":"IF(B386=\"\",\"\",VLOOKUP(B386,漢字書き!$A$2:$N$506,6,0))","v":{"$error":"#N/A"}},{"$f":"IF(C386=\"\",\"\",VLOOKUP(C386,漢字書き!$A$2:$N$506,6,0))","v":{"$error":"#N/A"}},{"$f":"IF(D386=\"\",\"\",VLOOKUP(D386,漢字書き!$A$2:$N$506,6,0))","v":{"$error":"#N/A"}},{"$f":"IF(E386=\"\",\"\",VLOOKUP(E386,漢字書き!$A$2:$N$506,6,0))","v":{"$error":"#N/A"}},{"$f":"IF(F386=\"\",\"\",VLOOKUP(F386,漢字書き!$A$2:$N$506,6,0))","v":{"$error":"#N/A"}},{"$f":"IF(G386=\"\",\"\",VLOOKUP(G386,漢字書き!$A$2:$N$506,6,0))","v":{"$error":"#N/A"}},{"$f":"IF(H386=\"\",\"\",VLOOKUP(H386,漢字書き!$A$2:$N$506,6,0))","v":{"$error":"#N/A"}},{"$f":"IF(I386=\"\",\"\",VLOOKUP(I386,漢字書き!$A$2:$N$506,6,0))","v":{"$error":"#N/A"}},{"$f":"IF(J386=\"\",\"\",VLOOKUP(J386,漢字書き!$A$2:$N$506,6,0))","v":{"$error":"#N/A"}},{"$f":"IF(K386=\"\",\"\",VLOOKUP(K386,漢字読み!$A$2:$O$506,6,0))","v":{"$error":"#N/A"}},{"$f":"IF(L386=\"\",\"\",VLOOKUP(L386,漢字読み!$A$2:$O$506,6,0))","v":{"$error":"#N/A"}},{"$f":"IF(M386=\"\",\"\",VLOOKUP(M386,漢字読み!$A$2:$O$506,6,0))","v":{"$error":"#N/A"}},{"$f":"IF(N386=\"\",\"\",VLOOKUP(N386,漢字読み!$A$2:$O$506,6,0))","v":{"$error":"#N/A"}},{"$f":"IF(O386=\"\",\"\",VLOOKUP(O386,漢字読み!$A$2:$O$506,6,0))","v":{"$error":"#N/A"}},{"$f":"IF(P386=\"\",\"\",VLOOKUP(P386,漢字読み!$A$2:$O$506,6,0))","v":{"$error":"#N/A"}},{"$f":"IF(Q386=\"\",\"\",VLOOKUP(Q386,漢字読み!$A$2:$O$506,6,0))","v":{"$error":"#N/A"}},{"$f":"IF(R386=\"\",\"\",VLOOKUP(R386,漢字読み!$A$2:$O$506,6,0))","v":{"$error":"#N/A"}},{"$f":"IF(S386=\"\",\"\",VLOOKUP(S386,漢字読み!$A$2:$O$506,6,0))","v":{"$error":"#N/A"}},{"$f":"IF(T386=\"\",\"\",VLOOKUP(T386,漢字読み!$A$2:$O$506,6,0))","v":{"$error":"#N/A"}},null,"級"]
[null,null,null,null,null,null,null,null,null,null,null,null,null,null,null,null,null,null,null,null,null,"名前"]
[{"$f":"IF(A386=\"\",\"\",IF(VLOOKUP(A386,漢字書き!$A$2:$N$502,7,0)=0,\"\",VLOOKUP(A386,漢字書き!$A$2:$N$502,7,0)))","v":{"$error":"#N/A"}},{"$f":"IF(B386=\"\",\"\",IF(VLOOKUP(B386,漢字書き!$A$2:$N$502,7,0)=0,\"\",VLOOKUP(B386,漢字書き!$A$2:$N$502,7,0)))","v":{"$error":"#N/A"}},{"$f":"IF(C386=\"\",\"\",IF(VLOOKUP(C386,漢字書き!$A$2:$N$502,7,0)=0,\"\",VLOOKUP(C386,漢字書き!$A$2:$N$502,7,0)))","v":{"$error":"#N/A"}},{"$f":"IF(D386=\"\",\"\",IF(VLOOKUP(D386,漢字書き!$A$2:$N$502,7,0)=0,\"\",VLOOKUP(D386,漢字書き!$A$2:$N$502,7,0)))","v":{"$error":"#N/A"}},{"$f":"IF(E386=\"\",\"\",IF(VLOOKUP(E386,漢字書き!$A$2:$N$502,7,0)=0,\"\",VLOOKUP(E386,漢字書き!$A$2:$N$502,7,0)))","v":{"$error":"#N/A"}},{"$f":"IF(F386=\"\",\"\",IF(VLOOKUP(F386,漢字書き!$A$2:$N$502,7,0)=0,\"\",VLOOKUP(F386,漢字書き!$A$2:$N$502,7,0)))","v":{"$error":"#N/A"}},{"$f":"IF(G386=\"\",\"\",IF(VLOOKUP(G386,漢字書き!$A$2:$N$502,7,0)=0,\"\",VLOOKUP(G386,漢字書き!$A$2:$N$502,7,0)))","v":{"$error":"#N/A"}},{"$f":"IF(H386=\"\",\"\",IF(VLOOKUP(H386,漢字書き!$A$2:$N$502,7,0)=0,\"\",VLOOKUP(H386,漢字書き!$A$2:$N$502,7,0)))","v":{"$error":"#N/A"}},{"$f":"IF(I386=\"\",\"\",IF(VLOOKUP(I386,漢字書き!$A$2:$N$502,7,0)=0,\"\",VLOOKUP(I386,漢字書き!$A$2:$N$502,7,0)))","v":{"$error":"#N/A"}},{"$f":"IF(J386=\"\",\"\",IF(VLOOKUP(J386,漢字書き!$A$2:$N$502,7,0)=0,\"\",VLOOKUP(J386,漢字書き!$A$2:$N$502,7,0)))","v":{"$error":"#N/A"}},{"$f":"IF(K386=\"\",\"\",IF(VLOOKUP(K386,漢字読み!$A$2:$O$502,7,0)=0,\"\",VLOOKUP(K386,漢字読み!$A$2:$O$502,7,0)))","v":{"$error":"#N/A"}},{"$f":"IF(L386=\"\",\"\",IF(VLOOKUP(L386,漢字読み!$A$2:$O$502,7,0)=0,\"\",VLOOKUP(L386,漢字読み!$A$2:$O$502,7,0)))","v":{"$error":"#N/A"}},{"$f":"IF(M386=\"\",\"\",IF(VLOOKUP(M386,漢字読み!$A$2:$O$502,7,0)=0,\"\",VLOOKUP(M386,漢字読み!$A$2:$O$502,7,0)))","v":{"$error":"#N/A"}},{"$f":"IF(N386=\"\",\"\",IF(VLOOKUP(N386,漢字読み!$A$2:$O$502,7,0)=0,\"\",VLOOKUP(N386,漢字読み!$A$2:$O$502,7,0)))","v":{"$error":"#N/A"}},{"$f":"IF(O386=\"\",\"\",IF(VLOOKUP(O386,漢字読み!$A$2:$O$502,7,0)=0,\"\",VLOOKUP(O386,漢字読み!$A$2:$O$502,7,0)))","v":{"$error":"#N/A"}},{"$f":"IF(P386=\"\",\"\",IF(VLOOKUP(P386,漢字読み!$A$2:$O$502,7,0)=0,\"\",VLOOKUP(P386,漢字読み!$A$2:$O$502,7,0)))","v":{"$error":"#N/A"}},{"$f":"IF(Q386=\"\",\"\",IF(VLOOKUP(Q386,漢字読み!$A$2:$O$502,7,0)=0,\"\",VLOOKUP(Q386,漢字読み!$A$2:$O$502,7,0)))","v":{"$error":"#N/A"}},{"$f":"IF(R386=\"\",\"\",IF(VLOOKUP(R386,漢字読み!$A$2:$O$502,7,0)=0,\"\",VLOOKUP(R386,漢字読み!$A$2:$O$502,7,0)))","v":{"$error":"#N/A"}},{"$f":"IF(S386=\"\",\"\",IF(VLOOKUP(S386,漢字読み!$A$2:$O$502,7,0)=0,\"\",VLOOKUP(S386,漢字読み!$A$2:$O$502,7,0)))","v":{"$error":"#N/A"}},{"$f":"IF(T386=\"\",\"\",IF(VLOOKUP(T386,漢字読み!$A$2:$O$502,7,0)=0,\"\",VLOOKUP(T386,漢字読み!$A$2:$O$502,7,0)))","v":{"$error":"#N/A"}},null,null,"和歌山県教育委員会"]
[{"$f":"A381","v":0},{"$f":"B381","v":0},{"$f":"C381","v":0},{"$f":"D381","v":0},{"$f":"E381","v":0},{"$f":"F381","v":0},{"$f":"G381","v":0},{"$f":"H381","v":0},{"$f":"I381","v":0},{"$f":"J381","v":0},{"$f":"K381","v":0},{"$f":"L381","v":0},{"$f":"M381","v":0},{"$f":"N381","v":0},{"$f":"O381","v":0},{"$f":"P381","v":0},{"$f":"Q381","v":0},{"$f":"R381","v":0},{"$f":"S381","v":0},{"$f":"T381","v":0}]
["⑳","⑲","⑱","⑰","⑯","⑮","⑭","⑬","⑫","⑪","⑩","⑨","⑧","⑦","⑥","⑤","④","③","②","①","次の［　　　　］の部分の漢字には読みがなをひらがなで書き、カタカナは漢字に直しなさい。",14,"「漢字の博士検定試験」練習問題　"]
[{"$f":"IF(A391=\"\",\"\",VLOOKUP(A391,漢字書き!$A$2:$N$506,6,0))","v":{"$error":"#N/A"}},{"$f":"IF(B391=\"\",\"\",VLOOKUP(B391,漢字書き!$A$2:$N$506,6,0))","v":{"$error":"#N/A"}},{"$f":"IF(C391=\"\",\"\",VLOOKUP(C391,漢字書き!$A$2:$N$506,6,0))","v":{"$error":"#N/A"}},{"$f":"IF(D391=\"\",\"\",VLOOKUP(D391,漢字書き!$A$2:$N$506,6,0))","v":{"$error":"#N/A"}},{"$f":"IF(E391=\"\",\"\",VLOOKUP(E391,漢字書き!$A$2:$N$506,6,0))","v":{"$error":"#N/A"}},{"$f":"IF(F391=\"\",\"\",VLOOKUP(F391,漢字書き!$A$2:$N$506,6,0))","v":{"$error":"#N/A"}},{"$f":"IF(G391=\"\",\"\",VLOOKUP(G391,漢字書き!$A$2:$N$506,6,0))","v":{"$error":"#N/A"}},{"$f":"IF(H391=\"\",\"\",VLOOKUP(H391,漢字書き!$A$2:$N$506,6,0))","v":{"$error":"#N/A"}},{"$f":"IF(I391=\"\",\"\",VLOOKUP(I391,漢字書き!$A$2:$N$506,6,0))","v":{"$error":"#N/A"}},{"$f":"IF(J391=\"\",\"\",VLOOKUP(J391,漢字書き!$A$2:$N$506,6,0))","v":{"$error":"#N/A"}},{"$f":"IF(K391=\"\",\"\",VLOOKUP(K391,漢字読み!$A$2:$O$506,6,0))","v":{"$error":"#N/A"}},{"$f":"IF(L391=\"\",\"\",VLOOKUP(L391,漢字読み!$A$2:$O$506,6,0))","v":{"$error":"#N/A"}},{"$f":"IF(M391=\"\",\"\",VLOOKUP(M391,漢字読み!$A$2:$O$506,6,0))","v":{"$error":"#N/A"}},{"$f":"IF(N391=\"\",\"\",VLOOKUP(N391,漢字読み!$A$2:$O$506,6,0))","v":{"$error":"#N/A"}},{"$f":"IF(O391=\"\",\"\",VLOOKUP(O391,漢字読み!$A$2:$O$506,6,0))","v":{"$error":"#N/A"}},{"$f":"IF(P391=\"\",\"\",VLOOKUP(P391,漢字読み!$A$2:$O$506,6,0))","v":{"$error":"#N/A"}},{"$f":"IF(Q391=\"\",\"\",VLOOKUP(Q391,漢字読み!$A$2:$O$506,6,0))","v":{"$error":"#N/A"}},{"$f":"IF(R391=\"\",\"\",VLOOKUP(R391,漢字読み!$A$2:$O$506,6,0))","v":{"$error":"#N/A"}},{"$f":"IF(S391=\"\",\"\",VLOOKUP(S391,漢字読み!$A$2:$O$506,6,0))","v":{"$error":"#N/A"}},{"$f":"IF(T391=\"\",\"\",VLOOKUP(T391,漢字読み!$A$2:$O$506,6,0))","v":{"$error":"#N/A"}},null,"級"]
[{"$f":"IF(A$11=\"\",\"\",VLOOKUP(A391,漢字書き!$A$2:$O$506,8,0))","v":{"$error":"#N/A"}},{"$f":"IF(B$11=\"\",\"\",VLOOKUP(B391,漢字書き!$A$2:$O$506,8,0))","v":{"$error":"#N/A"}},{"$f":"IF(C$11=\"\",\"\",VLOOKUP(C391,漢字書き!$A$2:$O$506,8,0))","v":{"$error":"#N/A"}},{"$f":"IF(D$11=\"\",\"\",VLOOKUP(D391,漢字書き!$A$2:$O$506,8,0))","v":{"$error":"#N/A"}},{"$f":"IF(E$11=\"\",\"\",VLOOKUP(E391,漢字書き!$A$2:$O$506,8,0))","v":{"$error":"#N/A"}},{"$f":"IF(F$11=\"\",\"\",VLOOKUP(F391,漢字書き!$A$2:$O$506,8,0))","v":{"$error":"#N/A"}},{"$f":"IF(G$11=\"\",\"\",VLOOKUP(G391,漢字書き!$A$2:$O$506,8,0))","v":{"$error":"#N/A"}},{"$f":"IF(H$11=\"\",\"\",VLOOKUP(H391,漢字書き!$A$2:$O$506,8,0))","v":{"$error":"#N/A"}},{"$f":"IF(I$11=\"\",\"\",VLOOKUP(I391,漢字書き!$A$2:$O$506,8,0))","v":{"$error":"#N/A"}},{"$f":"IF(J$11=\"\",\"\",VLOOKUP(J391,漢字書き!$A$2:$O$506,8,0))","v":{"$error":"#N/A"}},{"$f":"IF(K$11=\"\",\"\",VLOOKUP(K391,漢字読み!$A$2:$O$506,8,0))","v":{"$error":"#N/A"}},{"$f":"IF(L$11=\"\",\"\",VLOOKUP(L391,漢字読み!$A$2:$O$506,8,0))","v":{"$error":"#N/A"}},{"$f":"IF(M$11=\"\",\"\",VLOOKUP(M391,漢字読み!$A$2:$O$506,8,0))","v":{"$error":"#N/A"}},{"$f":"IF(N$11=\"\",\"\",VLOOKUP(N391,漢字読み!$A$2:$O$506,8,0))","v":{"$error":"#N/A"}},{"$f":"IF(O$11=\"\",\"\",VLOOKUP(O391,漢字読み!$A$2:$O$506,8,0))","v":{"$error":"#N/A"}},{"$f":"IF(P$11=\"\",\"\",VLOOKUP(P391,漢字読み!$A$2:$O$506,8,0))","v":{"$error":"#N/A"}},{"$f":"IF(Q$11=\"\",\"\",VLOOKUP(Q391,漢字読み!$A$2:$O$506,8,0))","v":{"$error":"#N/A"}},{"$f":"IF(R$11=\"\",\"\",VLOOKUP(R391,漢字読み!$A$2:$O$506,8,0))","v":{"$error":"#N/A"}},{"$f":"IF(S$11=\"\",\"\",VLOOKUP(S391,漢字読み!$A$2:$O$506,8,0))","v":{"$error":"#N/A"}},{"$f":"IF(T$11=\"\",\"\",VLOOKUP(T391,漢字読み!$A$2:$O$506,8,0))","v":{"$error":"#N/A"}},null,"名前"]
[{"$f":"IF(A391=\"\",\"\",IF(VLOOKUP(A391,漢字書き!$A$2:$N$502,7,0)=0,\"\",VLOOKUP(A391,漢字書き!$A$2:$N$502,7,0)))","v":{"$error":"#N/A"}},{"$f":"IF(B391=\"\",\"\",IF(VLOOKUP(B391,漢字書き!$A$2:$N$502,7,0)=0,\"\",VLOOKUP(B391,漢字書き!$A$2:$N$502,7,0)))","v":{"$error":"#N/A"}},{"$f":"IF(C391=\"\",\"\",IF(VLOOKUP(C391,漢字書き!$A$2:$N$502,7,0)=0,\"\",VLOOKUP(C391,漢字書き!$A$2:$N$502,7,0)))","v":{"$error":"#N/A"}},{"$f":"IF(D391=\"\",\"\",IF(VLOOKUP(D391,漢字書き!$A$2:$N$502,7,0)=0,\"\",VLOOKUP(D391,漢字書き!$A$2:$N$502,7,0)))","v":{"$error":"#N/A"}},{"$f":"IF(E391=\"\",\"\",IF(VLOOKUP(E391,漢字書き!$A$2:$N$502,7,0)=0,\"\",VLOOKUP(E391,漢字書き!$A$2:$N$502,7,0)))","v":{"$error":"#N/A"}},{"$f":"IF(F391=\"\",\"\",IF(VLOOKUP(F391,漢字書き!$A$2:$N$502,7,0)=0,\"\",VLOOKUP(F391,漢字書き!$A$2:$N$502,7,0)))","v":{"$error":"#N/A"}},{"$f":"IF(G391=\"\",\"\",IF(VLOOKUP(G391,漢字書き!$A$2:$N$502,7,0)=0,\"\",VLOOKUP(G391,漢字書き!$A$2:$N$502,7,0)))","v":{"$error":"#N/A"}},{"$f":"IF(H391=\"\",\"\",IF(VLOOKUP(H391,漢字書き!$A$2:$N$502,7,0)=0,\"\",VLOOKUP(H391,漢字書き!$A$2:$N$502,7,0)))","v":{"$error":"#N/A"}},{"$f":"IF(I391=\"\",\"\",IF(VLOOKUP(I391,漢字書き!$A$2:$N$502,7,0)=0,\"\",VLOOKUP(I391,漢字書き!$A$2:$N$502,7,0)))","v":{"$error":"#N/A"}},{"$f":"IF(J391=\"\",\"\",IF(VLOOKUP(J391,漢字書き!$A$2:$N$502,7,0)=0,\"\",VLOOKUP(J391,漢字書き!$A$2:$N$502,7,0)))","v":{"$error":"#N/A"}},{"$f":"IF(K391=\"\",\"\",IF(VLOOKUP(K391,漢字読み!$A$2:$O$502,7,0)=0,\"\",VLOOKUP(K391,漢字読み!$A$2:$O$502,7,0)))","v":{"$error":"#N/A"}},{"$f":"IF(L391=\"\",\"\",IF(VLOOKUP(L391,漢字読み!$A$2:$O$502,7,0)=0,\"\",VLOOKUP(L391,漢字読み!$A$2:$O$502,7,0)))","v":{"$error":"#N/A"}},{"$f":"IF(M391=\"\",\"\",IF(VLOOKUP(M391,漢字読み!$A$2:$O$502,7,0)=0,\"\",VLOOKUP(M391,漢字読み!$A$2:$O$502,7,0)))","v":{"$error":"#N/A"}},{"$f":"IF(N391=\"\",\"\",IF(VLOOKUP(N391,漢字読み!$A$2:$O$502,7,0)=0,\"\",VLOOKUP(N391,漢字読み!$A$2:$O$502,7,0)))","v":{"$error":"#N/A"}},{"$f":"IF(O391=\"\",\"\",IF(VLOOKUP(O391,漢字読み!$A$2:$O$502,7,0)=0,\"\",VLOOKUP(O391,漢字読み!$A$2:$O$502,7,0)))","v":{"$error":"#N/A"}},{"$f":"IF(P391=\"\",\"\",IF(VLOOKUP(P391,漢字読み!$A$2:$O$502,7,0)=0,\"\",VLOOKUP(P391,漢字読み!$A$2:$O$502,7,0)))","v":{"$error":"#N/A"}},{"$f":"IF(Q391=\"\",\"\",IF(VLOOKUP(Q391,漢字読み!$A$2:$O$502,7,0)=0,\"\",VLOOKUP(Q391,漢字読み!$A$2:$O$502,7,0)))","v":{"$error":"#N/A"}},{"$f":"IF(R391=\"\",\"\",IF(VLOOKUP(R391,漢字読み!$A$2:$O$502,7,0)=0,\"\",VLOOKUP(R391,漢字読み!$A$2:$O$502,7,0)))","v":{"$error":"#N/A"}},{"$f":"IF(S391=\"\",\"\",IF(VLOOKUP(S391,漢字読み!$A$2:$O$502,7,0)=0,\"\",VLOOKUP(S391,漢字読み!$A$2:$O$502,7,0)))","v":{"$error":"#N/A"}},{"$f":"IF(T391=\"\",\"\",IF(VLOOKUP(T391,漢字読み!$A$2:$O$502,7,0)=0,\"\",VLOOKUP(T391,漢字読み!$A$2:$O$502,7,0)))","v":{"$error":"#N/A"}},null,null,"和歌山県教育委員会"]
[{"$f":"A386","v":0},{"$f":"B386","v":0},{"$f":"C386","v":0},{"$f":"D386","v":0},{"$f":"E386","v":0},{"$f":"F386","v":0},{"$f":"G386","v":0},{"$f":"H386","v":0},{"$f":"I386","v":0},{"$f":"J386","v":0},{"$f":"K386","v":0},{"$f":"L386","v":0},{"$f":"M386","v":0},{"$f":"N386","v":0},{"$f":"O386","v":0},{"$f":"P386","v":0},{"$f":"Q386","v":0},{"$f":"R386","v":0},{"$f":"S386","v":0},{"$f":"T386","v":0}]
["⑳","⑲","⑱","⑰","⑯","⑮","⑭","⑬","⑫","⑪","⑩","⑨","⑧","⑦","⑥","⑤","④","③","②","①","次の［　　　　］の部分の漢字には読みがなをひらがなで書き、カタカナは漢字に直しなさい。",14,"「漢字の博士検定試験」練習問題　"]
[{"$f":"IF(A396=\"\",\"\",VLOOKUP(A396,漢字書き!$A$2:$N$506,6,0))","v":{"$error":"#N/A"}},{"$f":"IF(B396=\"\",\"\",VLOOKUP(B396,漢字書き!$A$2:$N$506,6,0))","v":{"$error":"#N/A"}},{"$f":"IF(C396=\"\",\"\",VLOOKUP(C396,漢字書き!$A$2:$N$506,6,0))","v":{"$error":"#N/A"}},{"$f":"IF(D396=\"\",\"\",VLOOKUP(D396,漢字書き!$A$2:$N$506,6,0))","v":{"$error":"#N/A"}},{"$f":"IF(E396=\"\",\"\",VLOOKUP(E396,漢字書き!$A$2:$N$506,6,0))","v":{"$error":"#N/A"}},{"$f":"IF(F396=\"\",\"\",VLOOKUP(F396,漢字書き!$A$2:$N$506,6,0))","v":{"$error":"#N/A"}},{"$f":"IF(G396=\"\",\"\",VLOOKUP(G396,漢字書き!$A$2:$N$506,6,0))","v":{"$error":"#N/A"}},{"$f":"IF(H396=\"\",\"\",VLOOKUP(H396,漢字書き!$A$2:$N$506,6,0))","v":{"$error":"#N/A"}},{"$f":"IF(I396=\"\",\"\",VLOOKUP(I396,漢字書き!$A$2:$N$506,6,0))","v":{"$error":"#N/A"}},{"$f":"IF(J396=\"\",\"\",VLOOKUP(J396,漢字書き!$A$2:$N$506,6,0))","v":{"$error":"#N/A"}},{"$f":"IF(K396=\"\",\"\",VLOOKUP(K396,漢字読み!$A$2:$O$506,6,0))","v":{"$error":"#N/A"}},{"$f":"IF(L396=\"\",\"\",VLOOKUP(L396,漢字読み!$A$2:$O$506,6,0))","v":{"$error":"#N/A"}},{"$f":"IF(M396=\"\",\"\",VLOOKUP(M396,漢字読み!$A$2:$O$506,6,0))","v":{"$error":"#N/A"}},{"$f":"IF(N396=\"\",\"\",VLOOKUP(N396,漢字読み!$A$2:$O$506,6,0))","v":{"$error":"#N/A"}},{"$f":"IF(O396=\"\",\"\",VLOOKUP(O396,漢字読み!$A$2:$O$506,6,0))","v":{"$error":"#N/A"}},{"$f":"IF(P396=\"\",\"\",VLOOKUP(P396,漢字読み!$A$2:$O$506,6,0))","v":{"$error":"#N/A"}},{"$f":"IF(Q396=\"\",\"\",VLOOKUP(Q396,漢字読み!$A$2:$O$506,6,0))","v":{"$error":"#N/A"}},{"$f":"IF(R396=\"\",\"\",VLOOKUP(R396,漢字読み!$A$2:$O$506,6,0))","v":{"$error":"#N/A"}},{"$f":"IF(S396=\"\",\"\",VLOOKUP(S396,漢字読み!$A$2:$O$506,6,0))","v":{"$error":"#N/A"}},{"$f":"IF(T396=\"\",\"\",VLOOKUP(T396,漢字読み!$A$2:$O$506,6,0))","v":{"$error":"#N/A"}},null,"級"]
[{"$f":"IF(A$16=\"\",\"\",VLOOKUP(A396,漢字書き!$A$2:$O$506,8,0))","v":{"$error":"#N/A"}},{"$f":"IF(B$16=\"\",\"\",VLOOKUP(B396,漢字書き!$A$2:$O$506,8,0))","v":{"$error":"#N/A"}},{"$f":"IF(C$16=\"\",\"\",VLOOKUP(C396,漢字書き!$A$2:$O$506,8,0))","v":{"$error":"#N/A"}},{"$f":"IF(D$16=\"\",\"\",VLOOKUP(D396,漢字書き!$A$2:$O$506,8,0))","v":{"$error":"#N/A"}},{"$f":"IF(E$16=\"\",\"\",VLOOKUP(E396,漢字書き!$A$2:$O$506,8,0))","v":{"$error":"#N/A"}},{"$f":"IF(F$16=\"\",\"\",VLOOKUP(F396,漢字書き!$A$2:$O$506,8,0))","v":{"$error":"#N/A"}},{"$f":"IF(G$16=\"\",\"\",VLOOKUP(G396,漢字書き!$A$2:$O$506,8,0))","v":{"$error":"#N/A"}},{"$f":"IF(H$16=\"\",\"\",VLOOKUP(H396,漢字書き!$A$2:$O$506,8,0))","v":{"$error":"#N/A"}},{"$f":"IF(I$16=\"\",\"\",VLOOKUP(I396,漢字書き!$A$2:$O$506,8,0))","v":{"$error":"#N/A"}},{"$f":"IF(J$16=\"\",\"\",VLOOKUP(J396,漢字書き!$A$2:$O$506,8,0))","v":{"$error":"#N/A"}},{"$f":"IF(K$16=\"\",\"\",VLOOKUP(K396,漢字読み!$A$2:$O$506,8,0))","v":{"$error":"#N/A"}},{"$f":"IF(L$16=\"\",\"\",VLOOKUP(L396,漢字読み!$A$2:$O$506,8,0))","v":{"$error":"#N/A"}},{"$f":"IF(M$16=\"\",\"\",VLOOKUP(M396,漢字読み!$A$2:$O$506,8,0))","v":{"$error":"#N/A"}},{"$f":"IF(N$16=\"\",\"\",VLOOKUP(N396,漢字読み!$A$2:$O$506,8,0))","v":{"$error":"#N/A"}},{"$f":"IF(O$16=\"\",\"\",VLOOKUP(O396,漢字読み!$A$2:$O$506,8,0))","v":{"$error":"#N/A"}},{"$f":"IF(P$16=\"\",\"\",VLOOKUP(P396,漢字読み!$A$2:$O$506,8,0))","v":{"$error":"#N/A"}},{"$f":"IF(Q$16=\"\",\"\",VLOOKUP(Q396,漢字読み!$A$2:$O$506,8,0))","v":{"$error":"#N/A"}},{"$f":"IF(R$16=\"\",\"\",VLOOKUP(R396,漢字読み!$A$2:$O$506,8,0))","v":{"$error":"#N/A"}},{"$f":"IF(S$16=\"\",\"\",VLOOKUP(S396,漢字読み!$A$2:$O$506,8,0))","v":{"$error":"#N/A"}},{"$f":"IF(T$16=\"\",\"\",VLOOKUP(T396,漢字読み!$A$2:$O$506,8,0))","v":{"$error":"#N/A"}},null,"名前"]
[{"$f":"IF(A396=\"\",\"\",IF(VLOOKUP(A396,漢字書き!$A$2:$N$502,7,0)=0,\"\",VLOOKUP(A396,漢字書き!$A$2:$N$502,7,0)))","v":{"$error":"#N/A"}},{"$f":"IF(B396=\"\",\"\",IF(VLOOKUP(B396,漢字書き!$A$2:$N$502,7,0)=0,\"\",VLOOKUP(B396,漢字書き!$A$2:$N$502,7,0)))","v":{"$error":"#N/A"}},{"$f":"IF(C396=\"\",\"\",IF(VLOOKUP(C396,漢字書き!$A$2:$N$502,7,0)=0,\"\",VLOOKUP(C396,漢字書き!$A$2:$N$502,7,0)))","v":{"$error":"#N/A"}},{"$f":"IF(D396=\"\",\"\",IF(VLOOKUP(D396,漢字書き!$A$2:$N$502,7,0)=0,\"\",VLOOKUP(D396,漢字書き!$A$2:$N$502,7,0)))","v":{"$error":"#N/A"}},{"$f":"IF(E396=\"\",\"\",IF(VLOOKUP(E396,漢字書き!$A$2:$N$502,7,0)=0,\"\",VLOOKUP(E396,漢字書き!$A$2:$N$502,7,0)))","v":{"$error":"#N/A"}},{"$f":"IF(F396=\"\",\"\",IF(VLOOKUP(F396,漢字書き!$A$2:$N$502,7,0)=0,\"\",VLOOKUP(F396,漢字書き!$A$2:$N$502,7,0)))","v":{"$error":"#N/A"}},{"$f":"IF(G396=\"\",\"\",IF(VLOOKUP(G396,漢字書き!$A$2:$N$502,7,0)=0,\"\",VLOOKUP(G396,漢字書き!$A$2:$N$502,7,0)))","v":{"$error":"#N/A"}},{"$f":"IF(H396=\"\",\"\",IF(VLOOKUP(H396,漢字書き!$A$2:$N$502,7,0)=0,\"\",VLOOKUP(H396,漢字書き!$A$2:$N$502,7,0)))","v":{"$error":"#N/A"}},{"$f":"IF(I396=\"\",\"\",IF(VLOOKUP(I396,漢字書き!$A$2:$N$502,7,0)=0,\"\",VLOOKUP(I396,漢字書き!$A$2:$N$502,7,0)))","v":{"$error":"#N/A"}},{"$f":"IF(J396=\"\",\"\",IF(VLOOKUP(J396,漢字書き!$A$2:$N$502,7,0)=0,\"\",VLOOKUP(J396,漢字書き!$A$2:$N$502,7,0)))","v":{"$error":"#N/A"}},{"$f":"IF(K396=\"\",\"\",IF(VLOOKUP(K396,漢字読み!$A$2:$O$502,7,0)=0,\"\",VLOOKUP(K396,漢字読み!$A$2:$O$502,7,0)))","v":{"$error":"#N/A"}},{"$f":"IF(L396=\"\",\"\",IF(VLOOKUP(L396,漢字読み!$A$2:$O$502,7,0)=0,\"\",VLOOKUP(L396,漢字読み!$A$2:$O$502,7,0)))","v":{"$error":"#N/A"}},{"$f":"IF(M396=\"\",\"\",IF(VLOOKUP(M396,漢字読み!$A$2:$O$502,7,0)=0,\"\",VLOOKUP(M396,漢字読み!$A$2:$O$502,7,0)))","v":{"$error":"#N/A"}},{"$f":"IF(N396=\"\",\"\",IF(VLOOKUP(N396,漢字読み!$A$2:$O$502,7,0)=0,\"\",VLOOKUP(N396,漢字読み!$A$2:$O$502,7,0)))","v":{"$error":"#N/A"}},{"$f":"IF(O396=\"\",\"\",IF(VLOOKUP(O396,漢字読み!$A$2:$O$502,7,0)=0,\"\",VLOOKUP(O396,漢字読み!$A$2:$O$502,7,0)))","v":{"$error":"#N/A"}},{"$f":"IF(P396=\"\",\"\",IF(VLOOKUP(P396,漢字読み!$A$2:$O$502,7,0)=0,\"\",VLOOKUP(P396,漢字読み!$A$2:$O$502,7,0)))","v":{"$error":"#N/A"}},{"$f":"IF(Q396=\"\",\"\",IF(VLOOKUP(Q396,漢字読み!$A$2:$O$502,7,0)=0,\"\",VLOOKUP(Q396,漢字読み!$A$2:$O$502,7,0)))","v":{"$error":"#N/A"}},{"$f":"IF(R396=\"\",\"\",IF(VLOOKUP(R396,漢字読み!$A$2:$O$502,7,0)=0,\"\",VLOOKUP(R396,漢字読み!$A$2:$O$502,7,0)))","v":{"$error":"#N/A"}},{"$f":"IF(S396=\"\",\"\",IF(VLOOKUP(S396,漢字読み!$A$2:$O$502,7,0)=0,\"\",VLOOKUP(S396,漢字読み!$A$2:$O$502,7,0)))","v":{"$error":"#N/A"}},{"$f":"IF(T396=\"\",\"\",IF(VLOOKUP(T396,漢字読み!$A$2:$O$502,7,0)=0,\"\",VLOOKUP(T396,漢字読み!$A$2:$O$502,7,0)))","v":{"$error":"#N/A"}},null,null,"和歌山県教育委員会"]
[{"$f":"INDIRECT(\"'関数（書き）'!C\" & COLUMN(B$1)+SUM($AD$2:$AD402))","v":0},{"$f":"INDIRECT(\"'関数（書き）'!C\" & COLUMN(C$1)+SUM($AD$2:$AD402))","v":0},{"$f":"INDIRECT(\"'関数（書き）'!C\" & COLUMN(D$1)+SUM($AD$2:$AD402))","v":0},{"$f":"INDIRECT(\"'関数（書き）'!C\" & COLUMN(E$1)+SUM($AD$2:$AD402))","v":0},{"$f":"INDIRECT(\"'関数（書き）'!C\" & COLUMN(F$1)+SUM($AD$2:$AD402))","v":0},{"$f":"INDIRECT(\"'関数（書き）'!C\" & COLUMN(G$1)+SUM($AD$2:$AD402))","v":0},{"$f":"INDIRECT(\"'関数（書き）'!C\" & COLUMN(H$1)+SUM($AD$2:$AD402))","v":0},{"$f":"INDIRECT(\"'関数（書き）'!C\" & COLUMN(I$1)+SUM($AD$2:$AD402))","v":0},{"$f":"INDIRECT(\"'関数（書き）'!C\" & COLUMN(J$1)+SUM($AD$2:$AD402))","v":0},{"$f":"INDIRECT(\"'関数（書き）'!C\" & COLUMN(K$1)+SUM($AD$2:$AD402))","v":0},{"$f":"INDIRECT(\"'関数（読み）'!C\" & COLUMN(B$1)+SUM($AD$2:$AD402))","v":0},{"$f":"INDIRECT(\"'関数（読み）'!C\" & COLUMN(C$1)+SUM($AD$2:$AD402))","v":0},{"$f":"INDIRECT(\"'関数（読み）'!C\" & COLUMN(D$1)+SUM($AD$2:$AD402))","v":0},{"$f":"INDIRECT(\"'関数（読み）'!C\" & COLUMN(E$1)+SUM($AD$2:$AD402))","v":0},{"$f":"INDIRECT(\"'関数（読み）'!C\" & COLUMN(F$1)+SUM($AD$2:$AD402))","v":0},{"$f":"INDIRECT(\"'関数（読み）'!C\" & COLUMN(G$1)+SUM($AD$2:$AD402))","v":0},{"$f":"INDIRECT(\"'関数（読み）'!C\" & COLUMN(H$1)+SUM($AD$2:$AD402))","v":0},{"$f":"INDIRECT(\"'関数（読み）'!C\" & COLUMN(I$1)+SUM($AD$2:$AD402))","v":0},{"$f":"INDIRECT(\"'関数（読み）'!C\" & COLUMN(J$1)+SUM($AD$2:$AD402))","v":0},{"$f":"INDIRECT(\"'関数（読み）'!C\" & COLUMN(K$1)+SUM($AD$2:$AD402))","v":0}]
["⑳","⑲","⑱","⑰","⑯","⑮","⑭","⑬","⑫","⑪","⑩","⑨","⑧","⑦","⑥","⑤","④","③","②","①","次の［　　　　］の部分の漢字には読みがなをひらがなで書き、カタカナは漢字に直しなさい。",14,"「漢字の博士検定試験」練習問題　",null,null,null,null,null,"←",10,"問",{"$f":"AH387+1","v":401},"～",{"$f":"SUM($AD$2:$AD402)+10","v":410},"問まで",{"$f":"COUNTIF($A$1:$T$200,T403)","v":585}]
[{"$f":"IF(A401=\"\",\"\",VLOOKUP(A401,漢字書き!$A$2:$N$506,6,0))","v":{"$error":"#N/A"}},{"$f":"IF(B401=\"\",\"\",VLOOKUP(B401,漢字書き!$A$2:$N$506,6,0))","v":{"$error":"#N/A"}},{"$f":"IF(C401=\"\",\"\",VLOOKUP(C401,漢字書き!$A$2:$N$506,6,0))","v":{"$error":"#N/A"}},{"$f":"IF(D401=\"\",\"\",VLOOKUP(D401,漢字書き!$A$2:$N$506,6,0))","v":{"$error":"#N/A"}},{"$f":"IF(E401=\"\",\"\",VLOOKUP(E401,漢字書き!$A$2:$N$506,6,0))","v":{"$error":"#N/A"}},{"$f":"IF(F401=\"\",\"\",VLOOKUP(F401,漢字書き!$A$2:$N$506,6,0))","v":{"$error":"#N/A"}},{"$f":"IF(G401=\"\",\"\",VLOOKUP(G401,漢字書き!$A$2:$N$506,6,0))","v":{"$error":"#N/A"}},{"$f":"IF(H401=\"\",\"\",VLOOKUP(H401,漢字書き!$A$2:$N$506,6,0))","v":{"$error":"#N/A"}},{"$f":"IF(I401=\"\",\"\",VLOOKUP(I401,漢字書き!$A$2:$N$506,6,0))","v":{"$error":"#N/A"}},{"$f":"IF(J401=\"\",\"\",VLOOKUP(J401,漢字書き!$A$2:$N$506,6,0))","v":{"$error":"#N/A"}},{"$f":"IF(K401=\"\",\"\",VLOOKUP(K401,漢字読み!$A$2:$O$506,6,0))","v":{"$error":"#N/A"}},{"$f":"IF(L401=\"\",\"\",VLOOKUP(L401,漢字読み!$A$2:$O$506,6,0))","v":{"$error":"#N/A"}},{"$f":"IF(M401=\"\",\"\",VLOOKUP(M401,漢字読み!$A$2:$O$506,6,0))","v":{"$error":"#N/A"}},{"$f":"IF(N401=\"\",\"\",VLOOKUP(N401,漢字読み!$A$2:$O$506,6,0))","v":{"$error":"#N/A"}},{"$f":"IF(O401=\"\",\"\",VLOOKUP(O401,漢字読み!$A$2:$O$506,6,0))","v":{"$error":"#N/A"}},{"$f":"IF(P401=\"\",\"\",VLOOKUP(P401,漢字読み!$A$2:$O$506,6,0))","v":{"$error":"#N/A"}},{"$f":"IF(Q401=\"\",\"\",VLOOKUP(Q401,漢字読み!$A$2:$O$506,6,0))","v":{"$error":"#N/A"}},{"$f":"IF(R401=\"\",\"\",VLOOKUP(R401,漢字読み!$A$2:$O$506,6,0))","v":{"$error":"#N/A"}},{"$f":"IF(S401=\"\",\"\",VLOOKUP(S401,漢字読み!$A$2:$O$506,6,0))","v":{"$error":"#N/A"}},{"$f":"IF(T401=\"\",\"\",VLOOKUP(T401,漢字読み!$A$2:$O$506,6,0))","v":{"$error":"#N/A"}},null,"級"]
[null,null,null,null,null,null,null,null,null,null,null,null,null,null,null,null,null,null,null,null,null,"名前"]
[{"$f":"IF(A401=\"\",\"\",IF(VLOOKUP(A401,漢字書き!$A$2:$N$502,7,0)=0,\"\",VLOOKUP(A401,漢字書き!$A$2:$N$502,7,0)))","v":{"$error":"#N/A"}},{"$f":"IF(B401=\"\",\"\",IF(VLOOKUP(B401,漢字書き!$A$2:$N$502,7,0)=0,\"\",VLOOKUP(B401,漢字書き!$A$2:$N$502,7,0)))","v":{"$error":"#N/A"}},{"$f":"IF(C401=\"\",\"\",IF(VLOOKUP(C401,漢字書き!$A$2:$N$502,7,0)=0,\"\",VLOOKUP(C401,漢字書き!$A$2:$N$502,7,0)))","v":{"$error":"#N/A"}},{"$f":"IF(D401=\"\",\"\",IF(VLOOKUP(D401,漢字書き!$A$2:$N$502,7,0)=0,\"\",VLOOKUP(D401,漢字書き!$A$2:$N$502,7,0)))","v":{"$error":"#N/A"}},{"$f":"IF(E401=\"\",\"\",IF(VLOOKUP(E401,漢字書き!$A$2:$N$502,7,0)=0,\"\",VLOOKUP(E401,漢字書き!$A$2:$N$502,7,0)))","v":{"$error":"#N/A"}},{"$f":"IF(F401=\"\",\"\",IF(VLOOKUP(F401,漢字書き!$A$2:$N$502,7,0)=0,\"\",VLOOKUP(F401,漢字書き!$A$2:$N$502,7,0)))","v":{"$error":"#N/A"}},{"$f":"IF(G401=\"\",\"\",IF(VLOOKUP(G401,漢字書き!$A$2:$N$502,7,0)=0,\"\",VLOOKUP(G401,漢字書き!$A$2:$N$502,7,0)))","v":{"$error":"#N/A"}},{"$f":"IF(H401=\"\",\"\",IF(VLOOKUP(H401,漢字書き!$A$2:$N$502,7,0)=0,\"\",VLOOKUP(H401,漢字書き!$A$2:$N$502,7,0)))","v":{"$error":"#N/A"}},{"$f":"IF(I401=\"\",\"\",IF(VLOOKUP(I401,漢字書き!$A$2:$N$502,7,0)=0,\"\",VLOOKUP(I401,漢字書き!$A$2:$N$502,7,0)))","v":{"$error":"#N/A"}},{"$f":"IF(J401=\"\",\"\",IF(VLOOKUP(J401,漢字書き!$A$2:$N$502,7,0)=0,\"\",VLOOKUP(J401,漢字書き!$A$2:$N$502,7,0)))","v":{"$error":"#N/A"}},{"$f":"IF(K401=\"\",\"\",IF(VLOOKUP(K401,漢字読み!$A$2:$O$502,7,0)=0,\"\",VLOOKUP(K401,漢字読み!$A$2:$O$502,7,0)))","v":{"$error":"#N/A"}},{"$f":"IF(L401=\"\",\"\",IF(VLOOKUP(L401,漢字読み!$A$2:$O$502,7,0)=0,\"\",VLOOKUP(L401,漢字読み!$A$2:$O$502,7,0)))","v":{"$error":"#N/A"}},{"$f":"IF(M401=\"\",\"\",IF(VLOOKUP(M401,漢字読み!$A$2:$O$502,7,0)=0,\"\",VLOOKUP(M401,漢字読み!$A$2:$O$502,7,0)))","v":{"$error":"#N/A"}},{"$f":"IF(N401=\"\",\"\",IF(VLOOKUP(N401,漢字読み!$A$2:$O$502,7,0)=0,\"\",VLOOKUP(N401,漢字読み!$A$2:$O$502,7,0)))","v":{"$error":"#N/A"}},{"$f":"IF(O401=\"\",\"\",IF(VLOOKUP(O401,漢字読み!$A$2:$O$502,7,0)=0,\"\",VLOOKUP(O401,漢字読み!$A$2:$O$502,7,0)))","v":{"$error":"#N/A"}},{"$f":"IF(P401=\"\",\"\",IF(VLOOKUP(P401,漢字読み!$A$2:$O$502,7,0)=0,\"\",VLOOKUP(P401,漢字読み!$A$2:$O$502,7,0)))","v":{"$error":"#N/A"}},{"$f":"IF(Q401=\"\",\"\",IF(VLOOKUP(Q401,漢字読み!$A$2:$O$502,7,0)=0,\"\",VLOOKUP(Q401,漢字読み!$A$2:$O$502,7,0)))","v":{"$error":"#N/A"}},{"$f":"IF(R401=\"\",\"\",IF(VLOOKUP(R401,漢字読み!$A$2:$O$502,7,0)=0,\"\",VLOOKUP(R401,漢字読み!$A$2:$O$502,7,0)))","v":{"$error":"#N/A"}},{"$f":"IF(S401=\"\",\"\",IF(VLOOKUP(S401,漢字読み!$A$2:$O$502,7,0)=0,\"\",VLOOKUP(S401,漢字読み!$A$2:$O$502,7,0)))","v":{"$error":"#N/A"}},{"$f":"IF(T401=\"\",\"\",IF(VLOOKUP(T401,漢字読み!$A$2:$O$502,7,0)=0,\"\",VLOOKUP(T401,漢字読み!$A$2:$O$502,7,0)))","v":{"$error":"#N/A"}},null,null,"和歌山県教育委員会"]
[{"$f":"INDIRECT(\"'関数（書き）'!C\" & COLUMN(B$1)+SUM($AD$2:$AD407))","v":0},{"$f":"INDIRECT(\"'関数（書き）'!C\" & COLUMN(C$1)+SUM($AD$2:$AD407))","v":0},{"$f":"INDIRECT(\"'関数（書き）'!C\" & COLUMN(D$1)+SUM($AD$2:$AD407))","v":0},{"$f":"INDIRECT(\"'関数（書き）'!C\" & COLUMN(E$1)+SUM($AD$2:$AD407))","v":0},{"$f":"INDIRECT(\"'関数（書き）'!C\" & COLUMN(F$1)+SUM($AD$2:$AD407))","v":0},{"$f":"INDIRECT(\"'関数（書き）'!C\" & COLUMN(G$1)+SUM($AD$2:$AD407))","v":0},{"$f":"INDIRECT(\"'関数（書き）'!C\" & COLUMN(H$1)+SUM($AD$2:$AD407))","v":0},{"$f":"INDIRECT(\"'関数（書き）'!C\" & COLUMN(I$1)+SUM($AD$2:$AD407))","v":0},{"$f":"INDIRECT(\"'関数（書き）'!C\" & COLUMN(J$1)+SUM($AD$2:$AD407))","v":0},{"$f":"INDIRECT(\"'関数（書き）'!C\" & COLUMN(K$1)+SUM($AD$2:$AD407))","v":0},{"$f":"INDIRECT(\"'関数（読み）'!C\" & COLUMN(B$1)+SUM($AD$2:$AD407))","v":0},{"$f":"INDIRECT(\"'関数（読み）'!C\" & COLUMN(C$1)+SUM($AD$2:$AD407))","v":0},{"$f":"INDIRECT(\"'関数（読み）'!C\" & COLUMN(D$1)+SUM($AD$2:$AD407))","v":0},{"$f":"INDIRECT(\"'関数（読み）'!C\" & COLUMN(E$1)+SUM($AD$2:$AD407))","v":0},{"$f":"INDIRECT(\"'関数（読み）'!C\" & COLUMN(F$1)+SUM($AD$2:$AD407))","v":0},{"$f":"INDIRECT(\"'関数（読み）'!C\" & COLUMN(G$1)+SUM($AD$2:$AD407))","v":0},{"$f":"INDIRECT(\"'関数（読み）'!C\" & COLUMN(H$1)+SUM($AD$2:$AD407))","v":0},{"$f":"INDIRECT(\"'関数（読み）'!C\" & COLUMN(I$1)+SUM($AD$2:$AD407))","v":0},{"$f":"INDIRECT(\"'関数（読み）'!C\" & COLUMN(J$1)+SUM($AD$2:$AD407))","v":0},{"$f":"INDIRECT(\"'関数（読み）'!C\" & COLUMN(K$1)+SUM($AD$2:$AD407))","v":0}]
["⑳","⑲","⑱","⑰","⑯","⑮","⑭","⑬","⑫","⑪","⑩","⑨","⑧","⑦","⑥","⑤","④","③","②","①","次の［　　　　］の部分の漢字には読みがなをひらがなで書き、カタカナは漢字に直しなさい。",14,"「漢字の博士検定試験」練習問題　",null,null,null,null,null,"←",10,"問",{"$f":"AH402+1","v":411},"～",{"$f":"SUM($AD$2:$AD407)+10","v":420},"問まで",{"$f":"COUNTIF($A$1:$T$200,T408)","v":585}]
[{"$f":"IF(A406=\"\",\"\",VLOOKUP(A406,漢字書き!$A$2:$N$506,6,0))","v":{"$error":"#N/A"}},{"$f":"IF(B406=\"\",\"\",VLOOKUP(B406,漢字書き!$A$2:$N$506,6,0))","v":{"$error":"#N/A"}},{"$f":"IF(C406=\"\",\"\",VLOOKUP(C406,漢字書き!$A$2:$N$506,6,0))","v":{"$error":"#N/A"}},{"$f":"IF(D406=\"\",\"\",VLOOKUP(D406,漢字書き!$A$2:$N$506,6,0))","v":{"$error":"#N/A"}},{"$f":"IF(E406=\"\",\"\",VLOOKUP(E406,漢字書き!$A$2:$N$506,6,0))","v":{"$error":"#N/A"}},{"$f":"IF(F406=\"\",\"\",VLOOKUP(F406,漢字書き!$A$2:$N$506,6,0))","v":{"$error":"#N/A"}},{"$f":"IF(G406=\"\",\"\",VLOOKUP(G406,漢字書き!$A$2:$N$506,6,0))","v":{"$error":"#N/A"}},{"$f":"IF(H406=\"\",\"\",VLOOKUP(H406,漢字書き!$A$2:$N$506,6,0))","v":{"$error":"#N/A"}},{"$f":"IF(I406=\"\",\"\",VLOOKUP(I406,漢字書き!$A$2:$N$506,6,0))","v":{"$error":"#N/A"}},{"$f":"IF(J406=\"\",\"\",VLOOKUP(J406,漢字書き!$A$2:$N$506,6,0))","v":{"$error":"#N/A"}},{"$f":"IF(K406=\"\",\"\",VLOOKUP(K406,漢字読み!$A$2:$O$506,6,0))","v":{"$error":"#N/A"}},{"$f":"IF(L406=\"\",\"\",VLOOKUP(L406,漢字読み!$A$2:$O$506,6,0))","v":{"$error":"#N/A"}},{"$f":"IF(M406=\"\",\"\",VLOOKUP(M406,漢字読み!$A$2:$O$506,6,0))","v":{"$error":"#N/A"}},{"$f":"IF(N406=\"\",\"\",VLOOKUP(N406,漢字読み!$A$2:$O$506,6,0))","v":{"$error":"#N/A"}},{"$f":"IF(O406=\"\",\"\",VLOOKUP(O406,漢字読み!$A$2:$O$506,6,0))","v":{"$error":"#N/A"}},{"$f":"IF(P406=\"\",\"\",VLOOKUP(P406,漢字読み!$A$2:$O$506,6,0))","v":{"$error":"#N/A"}},{"$f":"IF(Q406=\"\",\"\",VLOOKUP(Q406,漢字読み!$A$2:$O$506,6,0))","v":{"$error":"#N/A"}},{"$f":"IF(R406=\"\",\"\",VLOOKUP(R406,漢字読み!$A$2:$O$506,6,0))","v":{"$error":"#N/A"}},{"$f":"IF(S406=\"\",\"\",VLOOKUP(S406,漢字読み!$A$2:$O$506,6,0))","v":{"$error":"#N/A"}},{"$f":"IF(T406=\"\",\"\",VLOOKUP(T406,漢字読み!$A$2:$O$506,6,0))","v":{"$error":"#N/A"}},null,"級"]
[null,null,null,null,null,null,null,null,null,null,null,null,null,null,null,null,null,null,null,null,null,"名前"]
[{"$f":"IF(A406=\"\",\"\",IF(VLOOKUP(A406,漢字書き!$A$2:$N$502,7,0)=0,\"\",VLOOKUP(A406,漢字書き!$A$2:$N$502,7,0)))","v":{"$error":"#N/A"}},{"$f":"IF(B406=\"\",\"\",IF(VLOOKUP(B406,漢字書き!$A$2:$N$502,7,0)=0,\"\",VLOOKUP(B406,漢字書き!$A$2:$N$502,7,0)))","v":{"$error":"#N/A"}},{"$f":"IF(C406=\"\",\"\",IF(VLOOKUP(C406,漢字書き!$A$2:$N$502,7,0)=0,\"\",VLOOKUP(C406,漢字書き!$A$2:$N$502,7,0)))","v":{"$error":"#N/A"}},{"$f":"IF(D406=\"\",\"\",IF(VLOOKUP(D406,漢字書き!$A$2:$N$502,7,0)=0,\"\",VLOOKUP(D406,漢字書き!$A$2:$N$502,7,0)))","v":{"$error":"#N/A"}},{"$f":"IF(E406=\"\",\"\",IF(VLOOKUP(E406,漢字書き!$A$2:$N$502,7,0)=0,\"\",VLOOKUP(E406,漢字書き!$A$2:$N$502,7,0)))","v":{"$error":"#N/A"}},{"$f":"IF(F406=\"\",\"\",IF(VLOOKUP(F406,漢字書き!$A$2:$N$502,7,0)=0,\"\",VLOOKUP(F406,漢字書き!$A$2:$N$502,7,0)))","v":{"$error":"#N/A"}},{"$f":"IF(G406=\"\",\"\",IF(VLOOKUP(G406,漢字書き!$A$2:$N$502,7,0)=0,\"\",VLOOKUP(G406,漢字書き!$A$2:$N$502,7,0)))","v":{"$error":"#N/A"}},{"$f":"IF(H406=\"\",\"\",IF(VLOOKUP(H406,漢字書き!$A$2:$N$502,7,0)=0,\"\",VLOOKUP(H406,漢字書き!$A$2:$N$502,7,0)))","v":{"$error":"#N/A"}},{"$f":"IF(I406=\"\",\"\",IF(VLOOKUP(I406,漢字書き!$A$2:$N$502,7,0)=0,\"\",VLOOKUP(I406,漢字書き!$A$2:$N$502,7,0)))","v":{"$error":"#N/A"}},{"$f":"IF(J406=\"\",\"\",IF(VLOOKUP(J406,漢字書き!$A$2:$N$502,7,0)=0,\"\",VLOOKUP(J406,漢字書き!$A$2:$N$502,7,0)))","v":{"$error":"#N/A"}},{"$f":"IF(K406=\"\",\"\",IF(VLOOKUP(K406,漢字読み!$A$2:$O$502,7,0)=0,\"\",VLOOKUP(K406,漢字読み!$A$2:$O$502,7,0)))","v":{"$error":"#N/A"}},{"$f":"IF(L406=\"\",\"\",IF(VLOOKUP(L406,漢字読み!$A$2:$O$502,7,0)=0,\"\",VLOOKUP(L406,漢字読み!$A$2:$O$502,7,0)))","v":{"$error":"#N/A"}},{"$f":"IF(M406=\"\",\"\",IF(VLOOKUP(M406,漢字読み!$A$2:$O$502,7,0)=0,\"\",VLOOKUP(M406,漢字読み!$A$2:$O$502,7,0)))","v":{"$error":"#N/A"}},{"$f":"IF(N406=\"\",\"\",IF(VLOOKUP(N406,漢字読み!$A$2:$O$502,7,0)=0,\"\",VLOOKUP(N406,漢字読み!$A$2:$O$502,7,0)))","v":{"$error":"#N/A"}},{"$f":"IF(O406=\"\",\"\",IF(VLOOKUP(O406,漢字読み!$A$2:$O$502,7,0)=0,\"\",VLOOKUP(O406,漢字読み!$A$2:$O$502,7,0)))","v":{"$error":"#N/A"}},{"$f":"IF(P406=\"\",\"\",IF(VLOOKUP(P406,漢字読み!$A$2:$O$502,7,0)=0,\"\",VLOOKUP(P406,漢字読み!$A$2:$O$502,7,0)))","v":{"$error":"#N/A"}},{"$f":"IF(Q406=\"\",\"\",IF(VLOOKUP(Q406,漢字読み!$A$2:$O$502,7,0)=0,\"\",VLOOKUP(Q406,漢字読み!$A$2:$O$502,7,0)))","v":{"$error":"#N/A"}},{"$f":"IF(R406=\"\",\"\",IF(VLOOKUP(R406,漢字読み!$A$2:$O$502,7,0)=0,\"\",VLOOKUP(R406,漢字読み!$A$2:$O$502,7,0)))","v":{"$error":"#N/A"}},{"$f":"IF(S406=\"\",\"\",IF(VLOOKUP(S406,漢字読み!$A$2:$O$502,7,0)=0,\"\",VLOOKUP(S406,漢字読み!$A$2:$O$502,7,0)))","v":{"$error":"#N/A"}},{"$f":"IF(T406=\"\",\"\",IF(VLOOKUP(T406,漢字読み!$A$2:$O$502,7,0)=0,\"\",VLOOKUP(T406,漢字読み!$A$2:$O$502,7,0)))","v":{"$error":"#N/A"}},null,null,"和歌山県教育委員会"]
[{"$f":"A401","v":0},{"$f":"B401","v":0},{"$f":"C401","v":0},{"$f":"D401","v":0},{"$f":"E401","v":0},{"$f":"F401","v":0},{"$f":"G401","v":0},{"$f":"H401","v":0},{"$f":"I401","v":0},{"$f":"J401","v":0},{"$f":"K401","v":0},{"$f":"L401","v":0},{"$f":"M401","v":0},{"$f":"N401","v":0},{"$f":"O401","v":0},{"$f":"P401","v":0},{"$f":"Q401","v":0},{"$f":"R401","v":0},{"$f":"S401","v":0},{"$f":"T401","v":0}]
["⑳","⑲","⑱","⑰","⑯","⑮","⑭","⑬","⑫","⑪","⑩","⑨","⑧","⑦","⑥","⑤","④","③","②","①","次の［　　　　］の部分の漢字には読みがなをひらがなで書き、カタカナは漢字に直しなさい。",14,"「漢字の博士検定試験」練習問題　"]
[{"$f":"IF(A411=\"\",\"\",VLOOKUP(A411,漢字書き!$A$2:$N$506,6,0))","v":{"$error":"#N/A"}},{"$f":"IF(B411=\"\",\"\",VLOOKUP(B411,漢字書き!$A$2:$N$506,6,0))","v":{"$error":"#N/A"}},{"$f":"IF(C411=\"\",\"\",VLOOKUP(C411,漢字書き!$A$2:$N$506,6,0))","v":{"$error":"#N/A"}},{"$f":"IF(D411=\"\",\"\",VLOOKUP(D411,漢字書き!$A$2:$N$506,6,0))","v":{"$error":"#N/A"}},{"$f":"IF(E411=\"\",\"\",VLOOKUP(E411,漢字書き!$A$2:$N$506,6,0))","v":{"$error":"#N/A"}},{"$f":"IF(F411=\"\",\"\",VLOOKUP(F411,漢字書き!$A$2:$N$506,6,0))","v":{"$error":"#N/A"}},{"$f":"IF(G411=\"\",\"\",VLOOKUP(G411,漢字書き!$A$2:$N$506,6,0))","v":{"$error":"#N/A"}},{"$f":"IF(H411=\"\",\"\",VLOOKUP(H411,漢字書き!$A$2:$N$506,6,0))","v":{"$error":"#N/A"}},{"$f":"IF(I411=\"\",\"\",VLOOKUP(I411,漢字書き!$A$2:$N$506,6,0))","v":{"$error":"#N/A"}},{"$f":"IF(J411=\"\",\"\",VLOOKUP(J411,漢字書き!$A$2:$N$506,6,0))","v":{"$error":"#N/A"}},{"$f":"IF(K411=\"\",\"\",VLOOKUP(K411,漢字読み!$A$2:$O$506,6,0))","v":{"$error":"#N/A"}},{"$f":"IF(L411=\"\",\"\",VLOOKUP(L411,漢字読み!$A$2:$O$506,6,0))","v":{"$error":"#N/A"}},{"$f":"IF(M411=\"\",\"\",VLOOKUP(M411,漢字読み!$A$2:$O$506,6,0))","v":{"$error":"#N/A"}},{"$f":"IF(N411=\"\",\"\",VLOOKUP(N411,漢字読み!$A$2:$O$506,6,0))","v":{"$error":"#N/A"}},{"$f":"IF(O411=\"\",\"\",VLOOKUP(O411,漢字読み!$A$2:$O$506,6,0))","v":{"$error":"#N/A"}},{"$f":"IF(P411=\"\",\"\",VLOOKUP(P411,漢字読み!$A$2:$O$506,6,0))","v":{"$error":"#N/A"}},{"$f":"IF(Q411=\"\",\"\",VLOOKUP(Q411,漢字読み!$A$2:$O$506,6,0))","v":{"$error":"#N/A"}},{"$f":"IF(R411=\"\",\"\",VLOOKUP(R411,漢字読み!$A$2:$O$506,6,0))","v":{"$error":"#N/A"}},{"$f":"IF(S411=\"\",\"\",VLOOKUP(S411,漢字読み!$A$2:$O$506,6,0))","v":{"$error":"#N/A"}},{"$f":"IF(T411=\"\",\"\",VLOOKUP(T411,漢字読み!$A$2:$O$506,6,0))","v":{"$error":"#N/A"}},null,"級"]
[{"$f":"IF(A$11=\"\",\"\",VLOOKUP(A411,漢字書き!$A$2:$O$506,8,0))","v":{"$error":"#N/A"}},{"$f":"IF(B$11=\"\",\"\",VLOOKUP(B411,漢字書き!$A$2:$O$506,8,0))","v":{"$error":"#N/A"}},{"$f":"IF(C$11=\"\",\"\",VLOOKUP(C411,漢字書き!$A$2:$O$506,8,0))","v":{"$error":"#N/A"}},{"$f":"IF(D$11=\"\",\"\",VLOOKUP(D411,漢字書き!$A$2:$O$506,8,0))","v":{"$error":"#N/A"}},{"$f":"IF(E$11=\"\",\"\",VLOOKUP(E411,漢字書き!$A$2:$O$506,8,0))","v":{"$error":"#N/A"}},{"$f":"IF(F$11=\"\",\"\",VLOOKUP(F411,漢字書き!$A$2:$O$506,8,0))","v":{"$error":"#N/A"}},{"$f":"IF(G$11=\"\",\"\",VLOOKUP(G411,漢字書き!$A$2:$O$506,8,0))","v":{"$error":"#N/A"}},{"$f":"IF(H$11=\"\",\"\",VLOOKUP(H411,漢字書き!$A$2:$O$506,8,0))","v":{"$error":"#N/A"}},{"$f":"IF(I$11=\"\",\"\",VLOOKUP(I411,漢字書き!$A$2:$O$506,8,0))","v":{"$error":"#N/A"}},{"$f":"IF(J$11=\"\",\"\",VLOOKUP(J411,漢字書き!$A$2:$O$506,8,0))","v":{"$error":"#N/A"}},{"$f":"IF(K$11=\"\",\"\",VLOOKUP(K411,漢字読み!$A$2:$O$506,8,0))","v":{"$error":"#N/A"}},{"$f":"IF(L$11=\"\",\"\",VLOOKUP(L411,漢字読み!$A$2:$O$506,8,0))","v":{"$error":"#N/A"}},{"$f":"IF(M$11=\"\",\"\",VLOOKUP(M411,漢字読み!$A$2:$O$506,8,0))","v":{"$error":"#N/A"}},{"$f":"IF(N$11=\"\",\"\",VLOOKUP(N411,漢字読み!$A$2:$O$506,8,0))","v":{"$error":"#N/A"}},{"$f":"IF(O$11=\"\",\"\",VLOOKUP(O411,漢字読み!$A$2:$O$506,8,0))","v":{"$error":"#N/A"}},{"$f":"IF(P$11=\"\",\"\",VLOOKUP(P411,漢字読み!$A$2:$O$506,8,0))","v":{"$error":"#N/A"}},{"$f":"IF(Q$11=\"\",\"\",VLOOKUP(Q411,漢字読み!$A$2:$O$506,8,0))","v":{"$error":"#N/A"}},{"$f":"IF(R$11=\"\",\"\",VLOOKUP(R411,漢字読み!$A$2:$O$506,8,0))","v":{"$error":"#N/A"}},{"$f":"IF(S$11=\"\",\"\",VLOOKUP(S411,漢字読み!$A$2:$O$506,8,0))","v":{"$error":"#N/A"}},{"$f":"IF(T$11=\"\",\"\",VLOOKUP(T411,漢字読み!$A$2:$O$506,8,0))","v":{"$error":"#N/A"}},null,"名前"]
[{"$f":"IF(A411=\"\",\"\",IF(VLOOKUP(A411,漢字書き!$A$2:$N$502,7,0)=0,\"\",VLOOKUP(A411,漢字書き!$A$2:$N$502,7,0)))","v":{"$error":"#N/A"}},{"$f":"IF(B411=\"\",\"\",IF(VLOOKUP(B411,漢字書き!$A$2:$N$502,7,0)=0,\"\",VLOOKUP(B411,漢字書き!$A$2:$N$502,7,0)))","v":{"$error":"#N/A"}},{"$f":"IF(C411=\"\",\"\",IF(VLOOKUP(C411,漢字書き!$A$2:$N$502,7,0)=0,\"\",VLOOKUP(C411,漢字書き!$A$2:$N$502,7,0)))","v":{"$error":"#N/A"}},{"$f":"IF(D411=\"\",\"\",IF(VLOOKUP(D411,漢字書き!$A$2:$N$502,7,0)=0,\"\",VLOOKUP(D411,漢字書き!$A$2:$N$502,7,0)))","v":{"$error":"#N/A"}},{"$f":"IF(E411=\"\",\"\",IF(VLOOKUP(E411,漢字書き!$A$2:$N$502,7,0)=0,\"\",VLOOKUP(E411,漢字書き!$A$2:$N$502,7,0)))","v":{"$error":"#N/A"}},{"$f":"IF(F411=\"\",\"\",IF(VLOOKUP(F411,漢字書き!$A$2:$N$502,7,0)=0,\"\",VLOOKUP(F411,漢字書き!$A$2:$N$502,7,0)))","v":{"$error":"#N/A"}},{"$f":"IF(G411=\"\",\"\",IF(VLOOKUP(G411,漢字書き!$A$2:$N$502,7,0)=0,\"\",VLOOKUP(G411,漢字書き!$A$2:$N$502,7,0)))","v":{"$error":"#N/A"}},{"$f":"IF(H411=\"\",\"\",IF(VLOOKUP(H411,漢字書き!$A$2:$N$502,7,0)=0,\"\",VLOOKUP(H411,漢字書き!$A$2:$N$502,7,0)))","v":{"$error":"#N/A"}},{"$f":"IF(I411=\"\",\"\",IF(VLOOKUP(I411,漢字書き!$A$2:$N$502,7,0)=0,\"\",VLOOKUP(I411,漢字書き!$A$2:$N$502,7,0)))","v":{"$error":"#N/A"}},{"$f":"IF(J411=\"\",\"\",IF(VLOOKUP(J411,漢字書き!$A$2:$N$502,7,0)=0,\"\",VLOOKUP(J411,漢字書き!$A$2:$N$502,7,0)))","v":{"$error":"#N/A"}},{"$f":"IF(K411=\"\",\"\",IF(VLOOKUP(K411,漢字読み!$A$2:$O$502,7,0)=0,\"\",VLOOKUP(K411,漢字読み!$A$2:$O$502,7,0)))","v":{"$error":"#N/A"}},{"$f":"IF(L411=\"\",\"\",IF(VLOOKUP(L411,漢字読み!$A$2:$O$502,7,0)=0,\"\",VLOOKUP(L411,漢字読み!$A$2:$O$502,7,0)))","v":{"$error":"#N/A"}},{"$f":"IF(M411=\"\",\"\",IF(VLOOKUP(M411,漢字読み!$A$2:$O$502,7,0)=0,\"\",VLOOKUP(M411,漢字読み!$A$2:$O$502,7,0)))","v":{"$error":"#N/A"}},{"$f":"IF(N411=\"\",\"\",IF(VLOOKUP(N411,漢字読み!$A$2:$O$502,7,0)=0,\"\",VLOOKUP(N411,漢字読み!$A$2:$O$502,7,0)))","v":{"$error":"#N/A"}},{"$f":"IF(O411=\"\",\"\",IF(VLOOKUP(O411,漢字読み!$A$2:$O$502,7,0)=0,\"\",VLOOKUP(O411,漢字読み!$A$2:$O$502,7,0)))","v":{"$error":"#N/A"}},{"$f":"IF(P411=\"\",\"\",IF(VLOOKUP(P411,漢字読み!$A$2:$O$502,7,0)=0,\"\",VLOOKUP(P411,漢字読み!$A$2:$O$502,7,0)))","v":{"$error":"#N/A"}},{"$f":"IF(Q411=\"\",\"\",IF(VLOOKUP(Q411,漢字読み!$A$2:$O$502,7,0)=0,\"\",VLOOKUP(Q411,漢字読み!$A$2:$O$502,7,0)))","v":{"$error":"#N/A"}},{"$f":"IF(R411=\"\",\"\",IF(VLOOKUP(R411,漢字読み!$A$2:$O$502,7,0)=0,\"\",VLOOKUP(R411,漢字読み!$A$2:$O$502,7,0)))","v":{"$error":"#N/A"}},{"$f":"IF(S411=\"\",\"\",IF(VLOOKUP(S411,漢字読み!$A$2:$O$502,7,0)=0,\"\",VLOOKUP(S411,漢字読み!$A$2:$O$502,7,0)))","v":{"$error":"#N/A"}},{"$f":"IF(T411=\"\",\"\",IF(VLOOKUP(T411,漢字読み!$A$2:$O$502,7,0)=0,\"\",VLOOKUP(T411,漢字読み!$A$2:$O$502,7,0)))","v":{"$error":"#N/A"}},null,null,"和歌山県教育委員会"]
[{"$f":"A406","v":0},{"$f":"B406","v":0},{"$f":"C406","v":0},{"$f":"D406","v":0},{"$f":"E406","v":0},{"$f":"F406","v":0},{"$f":"G406","v":0},{"$f":"H406","v":0},{"$f":"I406","v":0},{"$f":"J406","v":0},{"$f":"K406","v":0},{"$f":"L406","v":0},{"$f":"M406","v":0},{"$f":"N406","v":0},{"$f":"O406","v":0},{"$f":"P406","v":0},{"$f":"Q406","v":0},{"$f":"R406","v":0},{"$f":"S406","v":0},{"$f":"T406","v":0}]
["⑳","⑲","⑱","⑰","⑯","⑮","⑭","⑬","⑫","⑪","⑩","⑨","⑧","⑦","⑥","⑤","④","③","②","①","次の［　　　　］の部分の漢字には読みがなをひらがなで書き、カタカナは漢字に直しなさい。",14,"「漢字の博士検定試験」練習問題　"]
[{"$f":"IF(A416=\"\",\"\",VLOOKUP(A416,漢字書き!$A$2:$N$506,6,0))","v":{"$error":"#N/A"}},{"$f":"IF(B416=\"\",\"\",VLOOKUP(B416,漢字書き!$A$2:$N$506,6,0))","v":{"$error":"#N/A"}},{"$f":"IF(C416=\"\",\"\",VLOOKUP(C416,漢字書き!$A$2:$N$506,6,0))","v":{"$error":"#N/A"}},{"$f":"IF(D416=\"\",\"\",VLOOKUP(D416,漢字書き!$A$2:$N$506,6,0))","v":{"$error":"#N/A"}},{"$f":"IF(E416=\"\",\"\",VLOOKUP(E416,漢字書き!$A$2:$N$506,6,0))","v":{"$error":"#N/A"}},{"$f":"IF(F416=\"\",\"\",VLOOKUP(F416,漢字書き!$A$2:$N$506,6,0))","v":{"$error":"#N/A"}},{"$f":"IF(G416=\"\",\"\",VLOOKUP(G416,漢字書き!$A$2:$N$506,6,0))","v":{"$error":"#N/A"}},{"$f":"IF(H416=\"\",\"\",VLOOKUP(H416,漢字書き!$A$2:$N$506,6,0))","v":{"$error":"#N/A"}},{"$f":"IF(I416=\"\",\"\",VLOOKUP(I416,漢字書き!$A$2:$N$506,6,0))","v":{"$error":"#N/A"}},{"$f":"IF(J416=\"\",\"\",VLOOKUP(J416,漢字書き!$A$2:$N$506,6,0))","v":{"$error":"#N/A"}},{"$f":"IF(K416=\"\",\"\",VLOOKUP(K416,漢字読み!$A$2:$O$506,6,0))","v":{"$error":"#N/A"}},{"$f":"IF(L416=\"\",\"\",VLOOKUP(L416,漢字読み!$A$2:$O$506,6,0))","v":{"$error":"#N/A"}},{"$f":"IF(M416=\"\",\"\",VLOOKUP(M416,漢字読み!$A$2:$O$506,6,0))","v":{"$error":"#N/A"}},{"$f":"IF(N416=\"\",\"\",VLOOKUP(N416,漢字読み!$A$2:$O$506,6,0))","v":{"$error":"#N/A"}},{"$f":"IF(O416=\"\",\"\",VLOOKUP(O416,漢字読み!$A$2:$O$506,6,0))","v":{"$error":"#N/A"}},{"$f":"IF(P416=\"\",\"\",VLOOKUP(P416,漢字読み!$A$2:$O$506,6,0))","v":{"$error":"#N/A"}},{"$f":"IF(Q416=\"\",\"\",VLOOKUP(Q416,漢字読み!$A$2:$O$506,6,0))","v":{"$error":"#N/A"}},{"$f":"IF(R416=\"\",\"\",VLOOKUP(R416,漢字読み!$A$2:$O$506,6,0))","v":{"$error":"#N/A"}},{"$f":"IF(S416=\"\",\"\",VLOOKUP(S416,漢字読み!$A$2:$O$506,6,0))","v":{"$error":"#N/A"}},{"$f":"IF(T416=\"\",\"\",VLOOKUP(T416,漢字読み!$A$2:$O$506,6,0))","v":{"$error":"#N/A"}},null,"級"]
[{"$f":"IF(A$16=\"\",\"\",VLOOKUP(A416,漢字書き!$A$2:$O$506,8,0))","v":{"$error":"#N/A"}},{"$f":"IF(B$16=\"\",\"\",VLOOKUP(B416,漢字書き!$A$2:$O$506,8,0))","v":{"$error":"#N/A"}},{"$f":"IF(C$16=\"\",\"\",VLOOKUP(C416,漢字書き!$A$2:$O$506,8,0))","v":{"$error":"#N/A"}},{"$f":"IF(D$16=\"\",\"\",VLOOKUP(D416,漢字書き!$A$2:$O$506,8,0))","v":{"$error":"#N/A"}},{"$f":"IF(E$16=\"\",\"\",VLOOKUP(E416,漢字書き!$A$2:$O$506,8,0))","v":{"$error":"#N/A"}},{"$f":"IF(F$16=\"\",\"\",VLOOKUP(F416,漢字書き!$A$2:$O$506,8,0))","v":{"$error":"#N/A"}},{"$f":"IF(G$16=\"\",\"\",VLOOKUP(G416,漢字書き!$A$2:$O$506,8,0))","v":{"$error":"#N/A"}},{"$f":"IF(H$16=\"\",\"\",VLOOKUP(H416,漢字書き!$A$2:$O$506,8,0))","v":{"$error":"#N/A"}},{"$f":"IF(I$16=\"\",\"\",VLOOKUP(I416,漢字書き!$A$2:$O$506,8,0))","v":{"$error":"#N/A"}},{"$f":"IF(J$16=\"\",\"\",VLOOKUP(J416,漢字書き!$A$2:$O$506,8,0))","v":{"$error":"#N/A"}},{"$f":"IF(K$16=\"\",\"\",VLOOKUP(K416,漢字読み!$A$2:$O$506,8,0))","v":{"$error":"#N/A"}},{"$f":"IF(L$16=\"\",\"\",VLOOKUP(L416,漢字読み!$A$2:$O$506,8,0))","v":{"$error":"#N/A"}},{"$f":"IF(M$16=\"\",\"\",VLOOKUP(M416,漢字読み!$A$2:$O$506,8,0))","v":{"$error":"#N/A"}},{"$f":"IF(N$16=\"\",\"\",VLOOKUP(N416,漢字読み!$A$2:$O$506,8,0))","v":{"$error":"#N/A"}},{"$f":"IF(O$16=\"\",\"\",VLOOKUP(O416,漢字読み!$A$2:$O$506,8,0))","v":{"$error":"#N/A"}},{"$f":"IF(P$16=\"\",\"\",VLOOKUP(P416,漢字読み!$A$2:$O$506,8,0))","v":{"$error":"#N/A"}},{"$f":"IF(Q$16=\"\",\"\",VLOOKUP(Q416,漢字読み!$A$2:$O$506,8,0))","v":{"$error":"#N/A"}},{"$f":"IF(R$16=\"\",\"\",VLOOKUP(R416,漢字読み!$A$2:$O$506,8,0))","v":{"$error":"#N/A"}},{"$f":"IF(S$16=\"\",\"\",VLOOKUP(S416,漢字読み!$A$2:$O$506,8,0))","v":{"$error":"#N/A"}},{"$f":"IF(T$16=\"\",\"\",VLOOKUP(T416,漢字読み!$A$2:$O$506,8,0))","v":{"$error":"#N/A"}},null,"名前"]
[{"$f":"IF(A416=\"\",\"\",IF(VLOOKUP(A416,漢字書き!$A$2:$N$502,7,0)=0,\"\",VLOOKUP(A416,漢字書き!$A$2:$N$502,7,0)))","v":{"$error":"#N/A"}},{"$f":"IF(B416=\"\",\"\",IF(VLOOKUP(B416,漢字書き!$A$2:$N$502,7,0)=0,\"\",VLOOKUP(B416,漢字書き!$A$2:$N$502,7,0)))","v":{"$error":"#N/A"}},{"$f":"IF(C416=\"\",\"\",IF(VLOOKUP(C416,漢字書き!$A$2:$N$502,7,0)=0,\"\",VLOOKUP(C416,漢字書き!$A$2:$N$502,7,0)))","v":{"$error":"#N/A"}},{"$f":"IF(D416=\"\",\"\",IF(VLOOKUP(D416,漢字書き!$A$2:$N$502,7,0)=0,\"\",VLOOKUP(D416,漢字書き!$A$2:$N$502,7,0)))","v":{"$error":"#N/A"}},{"$f":"IF(E416=\"\",\"\",IF(VLOOKUP(E416,漢字書き!$A$2:$N$502,7,0)=0,\"\",VLOOKUP(E416,漢字書き!$A$2:$N$502,7,0)))","v":{"$error":"#N/A"}},{"$f":"IF(F416=\"\",\"\",IF(VLOOKUP(F416,漢字書き!$A$2:$N$502,7,0)=0,\"\",VLOOKUP(F416,漢字書き!$A$2:$N$502,7,0)))","v":{"$error":"#N/A"}},{"$f":"IF(G416=\"\",\"\",IF(VLOOKUP(G416,漢字書き!$A$2:$N$502,7,0)=0,\"\",VLOOKUP(G416,漢字書き!$A$2:$N$502,7,0)))","v":{"$error":"#N/A"}},{"$f":"IF(H416=\"\",\"\",IF(VLOOKUP(H416,漢字書き!$A$2:$N$502,7,0)=0,\"\",VLOOKUP(H416,漢字書き!$A$2:$N$502,7,0)))","v":{"$error":"#N/A"}},{"$f":"IF(I416=\"\",\"\",IF(VLOOKUP(I416,漢字書き!$A$2:$N$502,7,0)=0,\"\",VLOOKUP(I416,漢字書き!$A$2:$N$502,7,0)))","v":{"$error":"#N/A"}},{"$f":"IF(J416=\"\",\"\",IF(VLOOKUP(J416,漢字書き!$A$2:$N$502,7,0)=0,\"\",VLOOKUP(J416,漢字書き!$A$2:$N$502,7,0)))","v":{"$error":"#N/A"}},{"$f":"IF(K416=\"\",\"\",IF(VLOOKUP(K416,漢字読み!$A$2:$O$502,7,0)=0,\"\",VLOOKUP(K416,漢字読み!$A$2:$O$502,7,0)))","v":{"$error":"#N/A"}},{"$f":"IF(L416=\"\",\"\",IF(VLOOKUP(L416,漢字読み!$A$2:$O$502,7,0)=0,\"\",VLOOKUP(L416,漢字読み!$A$2:$O$502,7,0)))","v":{"$error":"#N/A"}},{"$f":"IF(M416=\"\",\"\",IF(VLOOKUP(M416,漢字読み!$A$2:$O$502,7,0)=0,\"\",VLOOKUP(M416,漢字読み!$A$2:$O$502,7,0)))","v":{"$error":"#N/A"}},{"$f":"IF(N416=\"\",\"\",IF(VLOOKUP(N416,漢字読み!$A$2:$O$502,7,0)=0,\"\",VLOOKUP(N416,漢字読み!$A$2:$O$502,7,0)))","v":{"$error":"#N/A"}},{"$f":"IF(O416=\"\",\"\",IF(VLOOKUP(O416,漢字読み!$A$2:$O$502,7,0)=0,\"\",VLOOKUP(O416,漢字読み!$A$2:$O$502,7,0)))","v":{"$error":"#N/A"}},{"$f":"IF(P416=\"\",\"\",IF(VLOOKUP(P416,漢字読み!$A$2:$O$502,7,0)=0,\"\",VLOOKUP(P416,漢字読み!$A$2:$O$502,7,0)))","v":{"$error":"#N/A"}},{"$f":"IF(Q416=\"\",\"\",IF(VLOOKUP(Q416,漢字読み!$A$2:$O$502,7,0)=0,\"\",VLOOKUP(Q416,漢字読み!$A$2:$O$502,7,0)))","v":{"$error":"#N/A"}},{"$f":"IF(R416=\"\",\"\",IF(VLOOKUP(R416,漢字読み!$A$2:$O$502,7,0)=0,\"\",VLOOKUP(R416,漢字読み!$A$2:$O$502,7,0)))","v":{"$error":"#N/A"}},{"$f":"IF(S416=\"\",\"\",IF(VLOOKUP(S416,漢字読み!$A$2:$O$502,7,0)=0,\"\",VLOOKUP(S416,漢字読み!$A$2:$O$502,7,0)))","v":{"$error":"#N/A"}},{"$f":"IF(T416=\"\",\"\",IF(VLOOKUP(T416,漢字読み!$A$2:$O$502,7,0)=0,\"\",VLOOKUP(T416,漢字読み!$A$2:$O$502,7,0)))","v":{"$error":"#N/A"}},null,null,"和歌山県教育委員会"]

{"sheet":"漢字読み","index":2,"n_rows":153,"n_cols":9,"rows_kept":153,"cut":false,"hidden":false,"merged":[]}
["通し番号","問題番号","漢字","読み","音訓","問題","送り仮名","読み","間違いやすい漢字"]
[1,1,"引","イン",1,"［引力］がはたらく",null,"いんりょく"]
[2,1,"引","イン",2,"つなを［引］く","く","ひ"]
[3,2,"羽","ウ",2,"まほうの［羽］",null,"はね"]
[4,3,"雲","ウン",2,"白い［雲］            ",null,"くも"]
[5,4,"園","エン",1,"［公園］であそぶ   ",null,"こうえん"]
[6,5,"遠","エン",2,"［遠］くに行く","く","とお"]
[7,5,"遠","エン",1,"うれしい［遠足］　　　　",null,"えんそく"]
[8,6,"何","カ",2,"今、［何時］ですか",null,"なんじ"]
[9,7,"科","カ",1,"［科学］のしんぽ　",null,"かがく","☆"]
[10,8,"夏","カ",2,"［夏休］みがはじまる","み","なつやす"]
[11,8,"夏","カ",2,"ある［夏］の日",null,"なつ"]
[12,9,"家","カ",2,"［家］に帰る　　　　　　",null,"いえ"]
[13,10,"歌","カ",2,"［歌声］がひびく　    ",null,"うたごえ"]
[14,10,"歌","カ",1,"［校歌］をおぼえる　　　",null,"こうか"]
[15,11,"画","ガ",1,"［図画］がすきだ",null,"ずが"]
[16,11,"画","ガ",1,"かん字の［画数］ 　",null,"かくすう","☆"]
[17,12,"回","カイ",1,"［何回］もよむ 　　　",null,"なんかい"]
[18,12,"回","カイ",2,"目が［回］る","る","まわ"]
[19,13,"会","カイ",1,"［会社］ではたらく  ",null,"かいしゃ"]
[20,13,"会","カイ",1,"花火［大会］をする　　　　　",null,"たいかい"]
[21,14,"海","カイ",2,"［海］にうかぶボート  　",null,"うみ"]
[22,15,"絵","カイ",2,"［絵］をかく     　","　","え"]
[23,15,"絵","カイ",1,"［絵画］を見る",null,"かいが","☆"]
[24,16,"外","ガイ",2,"［外］がわをあるく",null,"そと"]
[25,16,"外","ガイ",1,"［外国］の町               ",null,"がいこく"]
[26,17,"角","カク",1,"［角］どをはかる","ど","かく"]
[27,17,"角","カク",2,"［角］をまがる",null,"かど","☆"]
[28,18,"楽","ガク",1,"［音楽］をきく",null,"おんがく"]
[29,19,"活","カツ",1,"たのしい学校［生活］",null,"せいかつ"]
[30,20,"間","カン",1,"［時間］がすぎる 　　",null,"じかん"]
[31,21,"丸","ガン",2,"ちきゅうは［丸］い","い","まる"]
[32,22,"岩","ガン",2,"［岩］かげにかくれる       　　","かげ","いわ"]
[33,22,"岩","ガン",1,"［岩石］のしゅるい",null,"がんせき","☆"]
[34,23,"顔","ガン",1,"［顔］めんをうつ","めん","がん","☆"]
[35,23,"顔","ガン",2,"［顔］をあらう    ",null,"かお"]
[36,24,"汽","キ",1,"［汽］てきをならす　　　","てき","き"]
[37,24,"汽","キ",1,"［汽車］にのる 　　",null,"きしゃ"]
[38,25,"記","キ",1,"［日記］をつける     ",null,"にっき"]
[39,26,"帰","キ",2,"いっしょに［帰］る ","る","かえ"]
[40,27,"弓","キュウ",2,"［弓］の名人",null,"ゆみ","☆"]
[41,28,"牛","ギュウ",2,"［牛］をかう",null,"うし"]
[42,28,"牛","ギュウ",1,"［牛］にゅうをのむ   ","にゅう","ぎゅう"]
[43,28,"牛","ギュウ",1,"［水牛］のつの    ",null,"すいぎゅう","☆"]
[44,29,"魚","ギョ",2,"［魚］のむれ         ",null,"さかな"]
[45,29,"魚","ギョ",1,"かわいい［金魚］",null,"きんぎょ"]
[46,30,"京","キョウ",1,"［京］とに行く     ","と","きょう"]
[47,31,"強","キョウ",2,"［強］いチームとたたかう","い","つよ"]
[48,32,"教","キョウ",2,"［教］え合う　　   　","え","おし"]
[49,32,"教","キョウ",1,"［教室］に入る             ",null,"きょうしつ"]
[50,32,"教","キョウ",2,"先生に［教］わる  ","わる","おそ","☆"]
[51,33,"近","キン",2,"［近］いおみせ","い","ちか"]
[52,34,"兄","ケイ",2,"やさしい［兄］がいる    ",null,"あに"]
[53,35,"形","ケイ",2,"［形］をかえる",null,"かたち"]
[54,35,"形","ケイ",1,"［人形］げきをみる","げき","にんぎょう"]
[55,36,"計","ケイ",1,"［計算］をする     ",null,"けいさん"]
[56,37,"元","ゲン",2,"［足元］におとす",null,"あしもと","☆"]
[57,37,"元","ゲン",1,"［元気］にあそぶ",null,"げんき"]
[58,38,"言","ゲン",1,"すきな［言］ば        ","ば","こと","☆"]
[59,38,"言","ゲン",2,"みんなに［言］う","う","い"]
[60,39,"原","ゲン",1,"［草原］を走る",null,"そうげん","☆"]
[61,40,"戸","コ",1,"［雨戸］をしめる",null,"あまど","☆"]
[62,40,"戸","コ",2,"［戸］があいた",null,"と"]
[63,41,"古","コ",1,"［古文］をよむ",null,"こぶん","☆"]
[64,41,"古","コ",2,"［古］いタイヤ       ","い","ふる"]
[65,42,"午","ゴ",1,"［午後］のひととき　　　",null,"ごご"]
[66,44,"語","ゴ",1,"たん［語］をおぼえる",null,"ご"]
[67,44,"語","ゴ",2,"むかしばなしを［語］る","る","かた","☆"]
[68,46,"公","コウ",1,"［公］みんかんに行く","みんかん","こう"]
[69,45,"工","コウ",1,"［図工］のじかん  ",null,"ずこう"]
[70,47,"広","コウ",2,"［広］い原っぱ","い","ひろ"]
[71,47,"広","コウ",2,"［広場］であそぶ",null,"ひろば"]
[72,48,"交","コウ",1,"［交］つうあんぜん","つう","こう"]
[73,48,"交","コウ",2,"線が［交］わる","わる","まじ"]
[74,49,"光","コウ",1,"［日光］をあびる",null,"にっこう"]
[75,49,"光","コウ",2,"［光］をあびる",null,"ひかり"]
[76,50,"考","コウ",2,"こたえを［考］える    ","える","かんが"]
[77,51,"行","コウ",1,"［三行］で書く     ",null,"さんぎょう","☆"]
[78,51,"行","コウ",2,"いい［行］いをする","い","おこな","☆"]
[79,52,"高","コウ",1,"［高学年］になる      ",null,"こうがくねん"]
[80,52,"高","コウ",2,"［高］い山にのぼる      ","い","たか","☆"]
[81,53,"黄","コウ",2,"［黄色］いたんぽぽ","い","きいろ"]
[82,54,"合","ゴウ",1,"えきにしゅう［合］する",null,"ごう"]
[83,55,"谷","コク",2,"［谷］にふくかぜ",null,"たに"]
[84,56,"国","コク",2,"海外の［国］にあこがれる",null,"くに"]
[85,57,"黒","コク",2,"［黒］ごまのふりかけ   　　　　","ごま","くろ"]
[86,58,"今","コン",1,"［今］どこそがんばるぞ","ど","こん","☆"]
[87,59,"才","サイ",1,"［九才］になる",null,"きゅうさい"]
[88,59,"才","サイ",1,"かれは［天才］だ    ",null,"てんさい"]
[89,60,"細","サイ",2,"［細］い糸","い","ほそ"]
[90,60,"細","サイ",2,"［細］かい字","かい","こま","☆"]
[91,61,"作","サク",1,"［作文］をよむ         ",null,"さくぶん"]
[92,61,"作","サク",2,"文を［作］る","る","つく"]
[93,62,"算","サン",1,"かけ［算］のれんしゅう",null,"ざん"]
[94,63,"止","シ",1,"えんそくが［中止］になる",null,"ちゅうし"]
[95,63,"止","シ",2,"でんしゃが［止］まる","まる","と"]
[96,64,"市","シ",2,"［朝市］がひらかれる",null,"あさいち"]
[97,64,"市","シ",2,"わか山［市］の学校",null,"し"]
[98,65,"矢","シ",2,"［矢］がささる",null,"や"]
[99,66,"姉","シ",2,"わたしの［姉］です",null,"あね"]
[100,67,"思","シ",2,"［思］いでをつくる","いで","おも"]
[101,67,"思","シ",2,"うれしく［思］う     ","う","おも"]
[102,68,"紙","シ",2,"［紙］しばいを見る　　　    ","しばい","かみ"]
[103,69,"寺","ジ",2,"お［寺］のかいだん",null,"てら"]
[104,69,"寺","ジ",1,"とう大［寺］の大ぶつ",null,"じ","☆"]
[105,70,"自","ジ",1,"［自］こしょうかいをする","こしょうかい","じ","☆"]
[106,71,"時","ジ",2,"［時］がすぎる",null,"とき"]
[107,71,"時","ジ",1,"［時間］がたつ      ",null,"じかん"]
[108,72,"室","シツ",1,"［室外］に出る       　",null,"しつがい","☆"]
[109,73,"社","シャ",1,"［会社］にいく       ",null,"かいしゃ"]
[110,73,"社","シャ",1,"［社会］のへんか      ",null,"しゃかい"]
[111,74,"弱","ジャク",2,"力が［弱］い         　","い","よわ"]
[112,75,"首","シュ",2,"［首］かざり",null,"くび"]
[113,75,"首","シュ",2,"［首］わをする","わ","くび"]
[114,76,"秋","シュウ",2,"［秋］の夕ぐれ     ",null,"あき"]
[115,77,"週","シュウ",1,"［今週］のニュース",null,"こんしゅう"]
[116,77,"週","シュウ",1,"［先週］はさむかった",null,"せんしゅう"]
[117,78,"春","シュン",2,"［春］がきた",null,"はる"]
[118,78,"春","シュン",1,"［春］ぶんの日","ぶん","しゅん","☆"]
[119,79,"書","ショ",2,"字を［書］く","く","か"]
[120,80,"少","ショウ",1,"［少］人数のクラス","人数","しょう"]
[121,80,"少","ショウ",2,"［少］ない水","ない","すく"]
[122,81,"場","ジョウ",2,"［広場］でサッカーをする",null,"ひろば"]
[123,82,"色","ショク",1,"［色紙］にサインをする",null,"しきし","☆"]
[124,82,"色","ショク",2,"［色］がかわる     ",null,"いろ"]
[125,83,"食","ショク",1,"きゅう［食］とうばん",null,"しょく"]
[126,83,"食","ショク",2,"ごはんを［食］べる","べる","た"]
[127,84,"心","シン",2,"［心］の中         　　",null,"こころ"]
[128,85,"新","シン",1,"［新入生］をむかえる",null,"しんにゅうせい"]
[129,85,"新","シン",1,"［新年］のおいわい",null,"しんねん"]
[130,85,"新","シン",2,"［新］しいくつをはく","しい","あたら"]
[131,86,"親","シン",1,"［親］ゆうになる","ゆう","しん"]
[132,86,"親","シン",2,"［親］にはなす   　   ",null,"おや"]
[133,86,"親","シン",2,"ライオンの［親子］　　　",null,"おやこ"]
[134,87,"図","ズ",1,"［図書］室がすきだ","室","としょ"]
[135,88,"数","スウ",1,"［算数］のノート",null,"さんすう"]
[136,88,"数","スウ",1,"［数字］をおぼえる　  ",null,"すうじ"]
[137,88,"数","スウ",2,"おはじきを［数］える　　","える","かぞ"]
[138,89,"西","セイ",2,"［西］にしずむ夕日",null,"にし"]
[139,90,"声","セイ",2,"［声］をかける　　　",null,"こえ"]
[140,91,"星","セイ",1,"［星］ざをおぼえる","ざ","せい","☆"]
[141,91,"星","セイ",2,"［星］のかがやき",null,"ほし"]
[142,91,"星","セイ",2,"きれいな［星空］     ",null,"ほしぞら"]
[143,92,"晴","セイ",2,"［晴］れた空","れた","は"]
[144,93,"切","セツ",1,"［切手］をあつめる  ",null,"きって"]
[145,93,"切","セツ",2,"えだを［切］る       ","る","き"]
[146,94,"雪","セツ",2,"［雪］がふる         ",null,"ゆき"]
[147,95,"船","セン",2,"［船］がついた      ",null,"ふね"]
[148,96,"線","セン",2,"［線］を引く　      ",null,"せん"]
[149,97,"前","ゼン",2,"［前］のページ       ",null,"まえ"]
[150,98,"組","ソ",2,"おなじ［組］の人",null,"くみ"]
[151,99,"走","ソウ",2,"うまが［走］る","る","はし"]
[152,100,"多","タ",2,"しゅくだいが［多］い","い","おお"]

{"sheet":"漢字書き","index":3,"n_rows":437,"n_cols":9,"rows_kept":437,"cut":false,"hidden":false,"merged":[]}
["通し番号","問題番号","漢字","読み","音訓","問題","送り仮名","漢字"]
[1,1,"引","イン",2,"線を［ヒ］く","く","引"]
[2,2,"羽","ウ",2,"とりの［ハネ］",null,"羽"]
[3,3,"雲","ウン",2,"白い［クモ］",null,"雲"]
[4,4,"園","エン",1,"［コウエン］であそぶ",null,"公園"]
[5,5,"遠","エン",2,"［トオ］いくにのはなし","い","遠"]
[6,5,"遠","エン",1,"あすは［エンソク］だ",null,"遠足"]
[7,6,"何","カ",2,"［ナニ］かごようですか","か","何"]
[8,7,"科","カ",1,"［カガク］のしんぽ",null,"科学"]
[9,8,"夏","カ",2,"ながい［ナツヤス］み","み","夏休"]
[10,8,"夏","カ",2,"あつい［ナツ］",null,"夏"]
[11,9,"家","カ",2,"［イエ］のはしら",null,"家"]
[12,10,"歌","カ",1,"日本の［コッカ］",null,"国家"]
[13,10,"歌","カ",2,"［ウタゴエ］がひびく",null,"歌声"]
[14,11,"画","ガ",1,"ゆうめいな［ガカ］",null,"画家","☆"]
[15,12,"回","カイ",2,"目が［マワ］る","る","回"]
[16,13,"会","カイ",2,"うんどう［カイ］",null,"会"]
[17,13,"会","カイ",2,"ともだちに［ア］う","う","会"]
[18,14,"海","カイ",2,"［ウミ］でおよぐ",null,"海"]
[19,14,"海","カイ",2,"［ウミ］べをさんぽする","べ","海"]
[20,15,"絵","カイ",2,"［エ］にかいて見せる",null,"絵"]
[21,16,"外","ガイ",2,"［ソト］であそぶ",null,"外"]
[22,17,"角","カク",1,"［サンカク］形","形","三角"]
[23,18,"楽","ガク",2,"［タノ］しくあそぶ","しく","楽"]
[24,19,"活","カツ",1,"［カツ］やくする","やく","活"]
[25,20,"間","カン",1,"［ジカン］がすぎる",null,"時間"]
[26,21,"丸","ガン",2,"［マル］い石","い","丸"]
[27,22,"岩","ガン",2,"［イワ］にのぼる",null,"岩"]
[28,23,"顔","ガン",2,"［カオ］をあらう",null,"顔"]
[29,24,"汽","キ",1,"おもちゃの［キシャ］",null,"汽車","☆"]
[30,25,"記","キ",1,"［ニッキ］をかく",null,"日記"]
[31,26,"帰","キ",2,"家に［カエ］る","る","帰"]
[32,27,"弓","キュウ",2,"［ユミ］の名人",null,"弓","☆"]
[33,28,"牛","ギュウ",2,"うまと［ウシ］",null,"牛"]
[34,29,"魚","ギョ",1,"［キンギョ］をかう",null,"金魚"]
[35,29,"魚","ギョ",2,"［サカナ］がおよぐ",null,"魚"]
[36,30,"京","キョウ",1,"［キョウ］のみやこ",null,"京","☆"]
[37,32,"教","キョウ",1,"［キョウ］か書をよむ","か書","教"]
[38,32,"教","キョウ",1,"［キョウシツ］に入る",null,"教室"]
[39,32,"数","キョウ",1,"［スウジ］をよむ",null,"数字"]
[40,32,"数","キョウ",1,"さん［スウ］がすき",null,"数"]
[41,33,"近","キン",2,"車が［チカ］づく","づく","近"]
[42,34,"兄","ケイ",2,"［アニ］のともだち",null,"兄"]
[43,35,"形","ケイ",1,"［ニンギョウ］をかう",null,"人形","☆"]
[44,36,"計","ケイ",1,"［ケイカク］を立てる",null,"計画","☆"]
[45,36,"計","ケイ",1,"［ケイサン］がとくい",null,"計算"]
[46,37,"元","ゲン",2,"ね［モト］に水をかける",null,"元","☆"]
[47,37,"元","ゲン",1,"［ゲンキ］いっぱい",null,"元気"]
[48,38,"言","ゲン",1,"［ゲンゴ］のちがいをしる",null,"言語","☆"]
[49,38,"言","ゲン",2,"いけんを［イ］う","う","言"]
[50,39,"原","ゲン",2,"［ハラ］っぱであそぶ","っぱ","原"]
[51,40,"戸","コ",2,"［ト］をあける",null,"戸"]
[52,41,"古","コ",2,"［フル］い本","い","古"]
[53,42,"午","ゴ",1,"［ゴゴ］のひととき",null,"午後"]
[54,43,"後","ゴ",2,"先生の［ウシ］ろをあるく","ろ","後"]
[55,44,"語","ゴ",1,"［コクゴ］の教か書",null,"国語"]
[56,44,"語","ゴ",2,"むかしばなしを［カタ］る","る","語","☆"]
[57,45,"工","コウ",1,"［ダイク］さんが家をたてる",null,"大工","☆"]
[58,46,"公","コウ",1,"［コウ］がいのない町","がい","公"]
[59,47,"広","コウ",2,"［ヒロ］い海","い","広"]
[60,47,"広","コウ",2,"［ヒロバ］であそぶ",null,"広場"]
[61,48,"交","コウ",1,"せんしゅの［コウ］たい","たい","交"]
[62,48,"交","コウ",1,"［コウ］つうルール","つう","交"]
[63,49,"光","コウ",2,"星が［ヒカ］る","る","光"]
[64,49,"光","コウ",2,"［ヒカリ］がさす",null,"光"]
[65,50,"考","コウ",2,"じっくり［カンガ］える","える","考"]
[66,51,"行","ギョウ",1,"［ギョウ］じにさんかする","じ","行"]
[67,51,"行","ギョウ",1,"ありの［ギョウ］れつ","れつ","行"]
[68,52,"高","コウ",2,"［タカ］いビル","い","高"]
[69,53,"黄","コウ",2,"［キイロ］のクレヨン",null,"黄色"]
[70,54,"合","ゴウ",1,"テストに［ゴウ］かくする","かく","合"]
[71,54,"合","ゴウ",2,"二つを［ア］わせる","わせる","合"]
[72,55,"谷","コク",2,"ふかい［タニ］",null,"谷"]
[73,56,"国","コク",1,"［ガイコク］に行く",null,"外国"]
[74,57,"黒","コク",1,"［コク］ばんを見る","ばん","黒"]
[75,57,"黒","コク",2,"［クロ］いふくをきる","い","黒"]
[76,58,"今","コン",1,"［イマ］ついたところです",null,"今"]
[77,59,"才","サイ",1,"［ゴサイ］のたんじょうび",null,"五才"]
[78,60,"戸","コ",2,"［ト］をあける",null,"戸"]
[79,60,"細","サイ",2,"［コマ］かい文字","かい","細"]
[80,60,"細","サイ",2,"［ホソ］いひも","い","細"]
[81,61,"作","サク",2,"文を［ツク］る","る","作"]
[82,61,"作","サク",1,"［サクブン］をかく",null,"作文"]
[83,62,"算","サン",1,"かけ［ザン］のべん強",null,"算"]
[84,62,"算","サン",1,"［サンスウ］のもんだい",null,"算数"]
[85,62,"算","サン",1,"［ケイサン］もんだい",null,"計算"]
[86,63,"止","シ",2,"バスが［ト］まる","まる","止"]
[87,63,"止","シ",2,"車を［ト］める","める","止"]
[88,64,"市","シ",2,"［イチバ］にむかう",null,"市場","☆"]
[89,65,"矢","シ",2,"［ヤ］がささる",null,"矢"]
[90,66,"姉","シ",2,"［アネ］がいます",null,"姉"]
[91,67,"思","シ",2,"たのしい［オモ］い出","い出","思"]
[92,68,"紙","シ",2,"［カミ］しばい",null,"紙"]
[93,69,"寺","ジ",2,"お［テラ］のかね",null,"寺"]
[94,70,"自","ジ",1,"［ジ］てん車にのる","てん車","自"]
[95,71,"時","ジ",1,"［ジカン］がすぎる",null,"時間"]
[96,72,"室","シツ",1,"［キョウシツ］をそうじする",null,"教室"]
[97,73,"社","シャ",1,"［シャカイ］のためにつくす",null,"社会"]
[98,74,"弱","ジャク",2,"力が［ヨワ］い","い","弱"]
[99,75,"首","シュ",2,"犬の［クビ］わ","わ","首"]
[100,76,"秋","シュウ",2,"［アキ］まつり","まつり","秋"]
[101,77,"週","シュウ",1,"［コンシュウ］のニュース",null,"今週"]
[102,78,"春","シュン",2,"あたたかい［ハル］",null,"春"]
[103,79,"書","ショ",2,"字を［カ］く","く","書"]
[104,80,"少","ショウ",2,"［スク］ないおかず","ない","少"]
[105,80,"少","ショウ",1,"［ショウ］年とあそぶ","年","少","☆"]
[106,81,"場","ジョウ",1,"うんどう［ジョウ］であそぶ",null,"場"]
[107,82,"色","ショク",2,"［イロ］えんぴつ",null,"色"]
[108,83,"食","ショク",1,"［ショク］じはたのしい","じ","食"]
[109,83,"食","ショク",2,"ごはんを［タ］べる","べる","食"]
[110,84,"心","シン",2,"［ココロ］がはずむ",null,"心"]
[111,85,"新","シン",2,"［アタラ］しいえんぴつ","しい","新"]
[112,86,"親","シン",2,"ぞうの［オヤコ］",null,"親子"]
[113,86,"親","シン",2,"［シタ］しいなかま","しい","親"]
[114,87,"図","ズ",1,"［ズコウ］の時間",null,"図工"]
[115,87,"図","ズ",1,"［トショ］かんにいく","かん","図書"]
[116,88,"数","スウ",1,"［スウジ］をならべる",null,"数字"]
[117,89,"西","セイ",2,"［ニシ］の空",null,"西"]
[118,90,"声","セイ",2,"きれいな［コエ］",null,"声"]
[119,91,"星","セイ",2,"［ホシ］がかがやく",null,"星"]
[120,91,"星","セイ",2,"［ホシゾラ］かんさつ",null,"星空"]
[121,92,"晴","セイ",2,"よく［ハ］れた日","れた","晴"]
[122,93,"切","セツ",1,"［キッテ］をあつめる",null,"切手","☆"]
[123,93,"切","セツ",2,"はさみで［キ］る","る","切"]
[124,94,"雪","セツ",2,"［ユキ］がふる",null,"雪"]
[125,95,"船","セン",2,"［フネ］がみなとにつく",null,"船"]
[126,96,"線","セン",2,"まっすぐな［セン］を引く",null,"線"]
[127,97,"前","ゼン",2,"［マエ］を見る",null,"前"]
[128,98,"組","ソ",2,"二年［ヨンクミ］",null,"四組"]
[129,98,"組","ソ",2,"かたを［ク］む","む","組"]
[130,99,"走","ソウ",2,"ぜん力で［ハシ］る","る","走"]
[131,100,"多","タ",2,"雲が［オオ］い","い","多"]
[]
[]
[]
[]
[]
[]
[]
[]
[]
[]
[]
[]
[]
[]
[]
[]
[]
[]
[]
[]
[]
[]
[]
[]
[]
[]
[]
[]
[]
[]
[]
[]
[]
[]
[]
[]
[]
[]
[]
[]
[]
[]
[]
[]
[]
[]
[]
[]
[]
[]
[]
[]
[]
[]
[]
[]
[]
[]
[]
[]
[]
[]
[]
[]
[]
[]
[]
[]
[]
[]
[]
[]
[]
[]
[]
[]
[]
[]
[]
[]
[]
[]
[]
[]
[]
[]
[]
[]
[]
[]
[]
[]
[]
[]
[]
[]
[]
[]
[]
[]
[]
[]
[]
[]
[]
[]
[]
[]
[]
[]
[]
[]
[]
[]
[]
[]
[]
[]
[]
[]
[]
[]
[]
[]
[]
[]
[]
[]
[]
[]
[]
[]
[]
[]
[]
[]
[]
[]
[]
[]
[]
[]
[]
[]
[]
[]
[]
[]
[]
[]
[]
[]
[]
[]
[]
[]
[]
[]
[]
[]
[]
[]
[]
[]
[]
[]
[]
[]
[]
[]
[]
[]
[]
[]
[]
[]
[]
[]
[]
[]
[]
[]
[]
[]
[]
[]
[]
[]
[]
[]
[]
[]
[]
[]
[]
[]
[]
[]
[]
[]
[]
[]
[]
[]
[]
[]
[]
[]
[]
[]
[]
[]
[]
[]
[null,null,null,null,null,null,"　"]
[null,null,null,null,null,null,"　"]
[null,null,null,null,null,null,"　"]
[null,null,null,null,null,null,"　"]
[null,null,null,null,null,null,"　"]
[null,null,null,null,null,null,"　"]
[null,null,null,null,null,null,"　"]
[null,null,null,null,null,null,"　"]
[null,null,null,null,null,null,"　"]
[null,null,null,null,null,null,"　"]
[null,null,null,null,null,null,"　"]
[null,null,null,null,null,null,"　"]
[null,null,null,null,null,null,"　"]
[null,null,null,null,null,null,"　"]
[null,null,null,null,null,null,"　"]
[null,null,null,null,null,null,"　"]
[null,null,null,null,null,null,"　"]
[null,null,null,null,null,null,"　"]
[null,null,null,null,null,null,"　"]
[null,null,null,null,null,null,"　"]
[null,null,null,null,null,null,"　"]
[null,null,null,null,null,null,"　"]
[null,null,null,null,null,null,"　"]
[null,null,null,null,null,null,"　"]
[null,null,null,null,null,null,"　"]
[null,null,null,null,null,null,"　"]
[null,null,null,null,null,null,"　"]
[null,null,null,null,null,null,"　"]
[null,null,null,null,null,null,"　"]
[null,null,null,null,null,null,"　"]
[null,null,null,null,null,null,"　"]
[null,null,null,null,null,null,"　"]
[null,null,null,null,null,null,"　"]
[null,null,null,null,null,null,"　"]
[null,null,null,null,null,null,"　"]
[null,null,null,null,null,null,"　"]
[null,null,null,null,null,null,"　"]
[null,null,null,null,null,null,"　"]
[null,null,null,null,null,null,"　"]
[null,null,null,null,null,null,"　"]
[null,null,null,null,null,null,"　"]
[null,null,null,null,null,null,"　"]
[null,null,null,null,null,null,"　"]
[null,null,null,null,null,null,"　"]
[null,null,null,null,null,null,"　"]
[null,null,null,null,null,null,"　"]
[null,null,null,null,null,null,"　"]
[null,null,null,null,null,null,"　"]
[null,null,null,null,null,null,"　"]
[null,null,null,null,null,null,"　"]
[null,null,null,null,null,null,"　"]
[null,null,null,null,null,null,"　"]
[null,null,null,null,null,null,"　"]
[null,null,null,null,null,null,"　"]
[null,null,null,null,null,null,"　"]
[null,null,null,null,null,null,"　"]
[null,null,null,null,null,null,"　"]
[null,null,null,null,null,null,"　"]
[null,null,null,null,null,null,"　"]
[null,null,null,null,null,null,"　"]
[null,null,null,null,null,null,"　"]
[null,null,null,null,null,null,"　"]
[null,null,null,null,null,null,"　"]
[null,null,null,null,null,null,"　"]
[null,null,null,null,null,null,"　"]
[null,null,null,null,null,null,"　"]
[null,null,null,null,null,null,"　"]
[null,null,null,null,null,null,"　"]
[null,null,null,null,null,null,"　"]
[null,null,null,null,null,null,"　"]
[null,null,null,null,null,null,"　"]
[null,null,null,null,null,null,"　"]
[null,null,null,null,null,null,"　"]
[null,null,null,null,null,null,"　"]
[null,null,null,null,null,null,"　"]
[null,null,null,null,null,null,"　"]
[null,null,null,null,null,null,"　"]
[null,null,null,null,null,null,"　"]
[null,null,null,null,null,null,"　"]
[null,null,null,null,null,null,"　"]
[null,null,null,null,null,null,"　"]
[null,null,null,null,null,null,"　"]
[null,null,null,null,null,null,"　"]
[null,null,null,null,null,null,"　"]
[null,null,null,null,null,null,"　"]
[null,null,null,null,null,null,"　"]
[null,null,null,null,null,null,"　"]
[null,null,null,null,null,null,"　"]
[null,null,null,null,null,null,"　"]
[null,null,null,null,null,null,"　"]
[null,null,null,null,null,null,"　"]

{"sheet":"関数（読み）","index":4,"n_rows":153,"n_cols":3,"rows_kept":153,"cut":false,"hidden":false,"merged":[]}
["番号","ランダム","順位"]
[1,{"$f":"RAND()","v":0.4325546823703329},{"$f":"RANK(B2,$B$2:$B$153)","v":90}]
[2,{"$f":"RAND()","v":0.35371042784438878},{"$f":"RANK(B3,$B$2:$B$153)","v":98}]
[3,0.54011067112840083,75]
[4,0.25181077091883386,117]
[5,0.81048760185136082,36]
[6,0.2745388382447923,114]
[7,0.35530325790914452,97]
[8,0.47600964801392598,84]
[9,0.32768308971124027,104]
[10,0.71494897907634214,46]
[11,0.50331126318510044,77]
[12,0.94889166325963681,10]
[13,0.60026356939856784,69]
[14,0.89148788418080538,23]
[15,0.6941092038195108,49]
[16,0.79249718149491821,38]
[17,0.29903955209339017,110]
[18,0.77910352247052828,40]
[19,0.36473741936178872,95]
[20,0.35883564205481711,96]
[21,0.4685033156008741,85]
[22,0.11842764187103783,132]
[23,0.54746723617479853,74]
[24,0.63539693509504036,60]
[25,8.7640646514397513E-3,149]
[26,0.942369307042074,12]
[27,0.33741071392351873,101]
[28,0.96050728249133766,7]
[29,0.91884911109290623,17]
[30,0.71238245777043352,47]
[31,0.1192736275715145,131]
[32,0.16445568618004258,128]
[33,0.2974289389554412,111]
[34,0.17176490216057827,127]
[35,0.91080714961977771,19]
[36,0.46232463750752029,87]
[37,6.8400871234658212E-2,139]
[38,0.22160942124037997,119]
[39,0.67014216712934382,55]
[40,0.35224429576727245,99]
[41,0.61931188437868256,63]
[42,0.67297605115258818,53]
[43,0.8762128756002624,25]
[44,0.34246640951958973,100]
[45,0.74481264875632314,44]
[46,0.45271176345501585,88]
[47,0.8713394107641611,26]
[48,0.65370116379968835,57]
[49,0.77334651671883825,41]
[50,0.59240165398359013,70]
[51,7.6278377084653348E-2,135]
[52,2.6021881548021764E-2,144]
[53,0.61100659104864052,65]
[54,0.22062073087531486,120]
[55,0.74122718745796001,45]
[56,0.48723930521127379,81]
[57,0.8404052142095404,32]
[58,0.62535570350201164,61]
[59,6.945850484899696E-2,137]
[60,0.83808108496987688,33]
[61,0.64750769298621913,58]
[62,5.6661864141964946E-2,140]
[63,2.4064948440072564E-2,146]
[64,0.50082381332973969,78]
[65,0.27718611878463584,113]
[66,{"$f":"RAND()","v":0.17727456546241993},{"$f":"RANK(B67,$B$2:$B$153)","v":124}]
[67,0.98223156833051239,4]
[68,0.31140443434589626,109]
[69,6.8501351297398094E-2,138]
[70,0.8594094366227194,29]
[71,0.74597477682834368,43]
[72,0.77025979014410939,42]
[73,0.94238317815726147,11]
[74,0.10018526092775237,134]
[75,0.60189256501598665,68]
[76,0.33263401744639698,103]
[77,0.84095886457420777,31]
[78,0.57403856344480009,72]
[79,0.50043545711125115,79]
[80,0.37088642218490964,92]
[81,0.81772980170704834,34]
[82,0.95105057779426261,9]
[83,3.9693689985518699E-2,143]
[84,0.33401890565166781,102]
[85,0.88376906081484385,24]
[86,0.90921850060617593,20]
[87,2.1593742589640974E-2,147]
[88,0.27155636697804553,115]
[89,2.5619894814915556E-3,152]
[90,0.57012946287845212,73]
[91,0.91570453352451986,18]
[92,0.17714146095440364,125]
[93,0.60619998010432585,66]
[94,0.17246720340363475,126]
[95,0.46286547140519552,86]
[96,0.50933514940469315,76]
[97,0.69359016511151528,50]
[98,0.67033423872075082,54]
[99,7.3135960743163864E-2,136]
[100,0.97868514414630525,5]
[101,0.36648362359770736,94]
[102,0.64022848435368962,59]
[103,0.31378639221063009,108]
[104,5.0368802900253584E-3,151]
[105,0.62421836915277851,62]
[106,0.8488610677999765,30]
[107,0.151377949102524,130]
[108,0.81679705291147942,35]
[109,0.78313662770907089,39]
[110,0.70318408594614046,48]
[111,0.20655504739043984,122]
[112,0.66237260957527355,56]
[113,0.25453603402251002,116]
[114,0.89334113668749415,22]
[115,0.20584696496971089,123]
[116,0.98328824882209409,3]
[117,0.91926178419415516,16]
[118,0.49396020243793015,80]
[119,0.31825783921610373,107]
[120,0.99146887613414503,1]
[121,0.23459096833860749,118]
[122,0.86180934808626775,28]
[123,0.80700967207302199,37]
[124,0.28815636059967087,112]
[125,2.4462792946503664E-2,145]
[126,4.5218906776838486E-2,142]
[127,0.6815354927864512,51]
[128,0.92179624236138025,15]
[129,0.48001461785107125,83]
[130,{"$f":"RAND()","v":0.32089641774742073},{"$f":"RANK(B131,$B$2:$B$153)","v":106}]
[131,0.6061884112001299,67]
[132,0.15977449510667585,129]
[133,0.96049603659287497,8]
[134,0.32357273914933227,105]
[135,0.90840316151488809,21]
[136,4.5444070974232198E-2,141]
[137,0.5776343278123145,71]
[138,0.36680826795967347,93]
[139,0.10352768774239396,133]
[140,0.39378631578420953,91]
[141,0.21076182300424628,121]
[142,0.93912934252823965,13]
[143,0.6130334794931771,64]
[144,0.48513643728430289,82]
[145,0.67614796030657698,52]
[146,0.44633890254050845,89]
[147,1.8669110955946255E-2,148]
[148,0.86301935735096724,27]
[149,0.92415813285128878,14]
[150,0.96382645538191436,6]
[151,0.98518541749352861,2]
[152,8.0113957926988277E-3,150]

{"sheet":"関数（書き）","index":5,"n_rows":132,"n_cols":3,"rows_kept":132,"cut":false,"hidden":false,"merged":[]}
["番号","ランダム","順位"]
[1,{"$f":"RAND()","v":0.74962371067997591},{"$f":"RANK(B2,$B$2:$B$132)","v":37}]
[2,{"$f":"RAND()","v":0.27708164203755692},{"$f":"RANK(B3,$B$2:$B$132)","v":101}]
[3,0.20768137280302956,109]
[4,0.73545701963726917,41]
[5,6.8356911177663071E-2,122]
[6,0.75078581519849619,35]
[7,0.24324803064331457,105]
[8,0.21081467278191146,108]
[9,0.19830781063140002,110]
[10,0.46434267113596583,81]
[11,0.50621806960611593,74]
[12,0.78904228926102682,30]
[13,0.19045160937493333,111]
[14,0.44577412701201191,83]
[15,0.70784150110838273,45]
[16,0.34862101321889527,90]
[17,0.96384330265694396,6]
[18,0.13680670395599148,117]
[19,0.1086422733162361,118]
[20,6.5990941114340784E-2,123]
[21,0.2599922418657159,102]
[22,0.81180418498893148,27]
[23,0.67011853639081942,50]
[24,0.88040133201934867,17]
[25,0.3266851119657731,95]
[26,0.28588374576265674,100]
[27,0.58269181777612511,62]
[28,0.48992984238270387,77]
[29,0.57804342992617219,63]
[30,0.29015202581663968,99]
[31,0.96552720019488003,5]
[32,0.96145964927131988,7]
[33,0.34221442295239601,92]
[34,0.72537434820915792,42]
[35,0.81237109831104404,26]
[36,0.74654612184225888,38]
[37,0.78787615656060694,31]
[38,0.89862716787525199,15]
[39,0.70915034419008893,43]
[40,0.24563601740569874,104]
[41,0.53840596247027239,70]
[42,0.91572930684267195,13]
[43,0.97915931270317758,2]
[44,0.63562704989492436,53]
[45,0.94134566512051132,9]
[46,0.62889847776541652,54]
[47,0.60530083089008524,56]
[48,0.5438361058310216,67]
[49,0.4208076832622103,85]
[50,0.46160631584962764,82]
[51,8.0213142763430612E-2,121]
[52,0.21528369970460648,107]
[53,0.32758651126422733,94]
[54,0.58305527616611108,61]
[55,0.8668188584122748,20]
[56,0.60522611987692376,57]
[57,0.79912103981956772,29]
[58,0.74447727475557746,39]
[59,0.17981391442124128,112]
[60,0.50624405784217275,73]
[61,0.87743604934809183,19]
[62,0.34937122311789881,89]
[63,9.5313089325692602E-2,120]
[64,0.81408795656256949,25]
[65,0.336408766970825,93]
[66,{"$f":"RAND()","v":0.9566753604803544},{"$f":"RANK(B67,$B$2:$B$132)","v":8}]
[67,0.76855638854618258,33]
[68,0.14403895332459349,116]
[69,0.50515567768159686,75]
[70,0.82119021461718533,23]
[71,0.56036759930314983,64]
[72,5.141396775469842E-2,127]
[73,0.64466551535122107,52]
[74,0.24986242343506826,103]
[75,0.29564042639636423,98]
[76,0.83534523952624762,22]
[77,0.70555371575902293,46]
[78,0.92550765319368256,11]
[79,0.92956975942131392,10]
[80,5.5528324714534394E-2,125]
[81,0.34392182317535469,91]
[82,0.31075906084770455,96]
[83,0.8035691038876287,28]
[84,0.47889772660297902,79]
[85,0.38852567426028761,87]
[86,4.2919069585420799E-2,129]
[87,0.61087852459534908,55]
[88,0.53973346152585933,68]
[89,0.17694677583261609,113]
[90,1.3051100387902248E-2,131]
[91,0.97233825639140503,3]
[92,0.7580971681999723,34]
[93,0.30970310033644577,97]
[94,3.3011217194525488E-2,130]
[95,0.99356193502620471,1]
[96,0.55935430168441569,65]
[97,0.69442276958638349,47]
[98,0.88301509893881402,16]
[99,0.39626574679462823,86]
[100,0.73825886589126,40]
[101,0.36003730206800233,88]
[102,0.14594359970415327,115]
[103,5.3612193172313027E-2,126]
[104,0.70836744354587566,44]
[105,0.47764906381103034,80]
[106,0.51616690589617364,72]
[107,0.59967825383009321,59]
[108,0.84698142074738614,21]
[109,0.60062660241586019,58]
[110,0.81850874863727541,24]
[111,0.48128286306317647,78]
[112,0.44094846839984869,84]
[113,0.97014066378600705,4]
[114,0.91711738243997343,12]
[115,0.53885403738123483,69]
[116,0.75074880811147326,36]
[117,0.77271419306389066,32]
[118,0.22852173985379731,106]
[119,0.90545755702671582,14]
[120,0.6865436741468316,48]
[121,0.67673641817210706,49]
[122,0.64545320495430647,51]
[123,0.49407352734142496,76]
[124,0.52706574870215106,71]
[125,9.9059768600064602E-2,119]
[126,0.17532147922190877,114]
[127,0.59629676836903267,60]
[128,4.9312389949696778E-2,128]
[129,0.55114233113842304,66]
[130,{"$f":"RAND()","v":6.1202845153185192E-2},{"$f":"RANK(B131,$B$2:$B$132)","v":124}]
[131,{"$f":"RAND()","v":0.88030486895443893},{"$f":"RANK(B132,$B$2:$B$132)","v":18}]