{"text_format":"1","workbook":"xlsx","n_sheets":6,"sheets":["試験問題（関数）","網羅問題（関数） ","漢字読み","漢字書き","関数（読み）","関数（書き）"],"not_rendered":{"charts":0,"images":0,"macros":1,"external_links":0,"defined_names":8,"comments":1,"pivot_tables":0},"unopened":[],"bounds":{"document_bytes":16777216,"sheet_cells":100000,"rows_first":2000,"rows_last":500,"rows_between":2000,"halvings":0,"cell_chars":16384,"cell_head_chars":4096},"cells_cut":0,"cells_raw":0,"read":"whole","date_system":"1900"}

{"sheet":"試験問題（関数）","index":0,"n_rows":20,"n_cols":23,"rows_kept":20,"cut":false,"hidden":false,"merged":[[13,21,14,21],[16,20,19,20],[16,22,18,22],[18,21,19,21],[21,22,22,22],[22,21,23,21],[11,20,14,20],[11,22,13,22],[8,21,9,21],[1,20,4,20],[3,21,4,21],[6,20,9,20],[1,22,3,22],[6,22,8,22]]}
[{"$f":"'関数（書き）'!$C$2","v":171},{"$f":"'関数（書き）'!$C$3","v":118},{"$f":"'関数（書き）'!$C$4","v":114},{"$f":"'関数（書き）'!$C$5","v":110},{"$f":"'関数（書き）'!$C$6","v":85},{"$f":"'関数（書き）'!$C$7","v":44},{"$f":"'関数（書き）'!$C$8","v":6},{"$f":"'関数（書き）'!$C$9","v":50},{"$f":"'関数（書き）'!$C$10","v":8},{"$f":"'関数（書き）'!$C$11","v":123},{"$f":"'関数（読み）'!$C$2","v":182},{"$f":"'関数（読み）'!$C$3","v":24},{"$f":"'関数（読み）'!$C$4","v":171},{"$f":"'関数（読み）'!$C$5","v":153},{"$f":"'関数（読み）'!$C$6","v":184},{"$f":"'関数（読み）'!$C$7","v":172},{"$f":"'関数（読み）'!$C$8","v":23},{"$f":"'関数（読み）'!$C$9","v":164},{"$f":"'関数（読み）'!$C$10","v":104},{"$f":"'関数（読み）'!$C$11","v":174}]
["⑳","⑲","⑱","⑰","⑯","⑮","⑭","⑬","⑫","⑪","⑩","⑨","⑧","⑦","⑥","⑤","④","③","②","①","次の［　　　　］の部分の漢字には読みがなをひらがなで書き、カタカナは漢字に直しなさい。",15,"「漢字の博士検定試験」練習問題　"]
[{"$f":"IF(A1=\"\",\"\",VLOOKUP(A1,漢字書き!$A$2:$N$506,6,0))","v":"［チカラ］いっぱい"},{"$f":"IF(B1=\"\",\"\",VLOOKUP(B1,漢字書き!$A$2:$N$506,6,0))","v":"にわの［クサ］とり"},{"$f":"IF(C1=\"\",\"\",VLOOKUP(C1,漢字書き!$A$2:$N$506,6,0))","v":"［ソウ］ちょう"},{"$f":"IF(D1=\"\",\"\",VLOOKUP(D1,漢字書き!$A$2:$N$506,6,0))","v":"ふかい［カワ］"},{"$f":"IF(E1=\"\",\"\",VLOOKUP(E1,漢字書き!$A$2:$N$506,6,0))","v":"［ジョウ］たつする"},{"$f":"IF(F1=\"\",\"\",VLOOKUP(F1,漢字書き!$A$2:$N$506,6,0))","v":"こわい［イヌ］"},{"$f":"IF(G1=\"\",\"\",VLOOKUP(G1,漢字書き!$A$2:$N$506,6,0))","v":"［アメ］がふる"},{"$f":"IF(H1=\"\",\"\",VLOOKUP(H1,漢字書き!$A$2:$N$506,6,0))","v":"［クチ］に入れる"},{"$f":"IF(I1=\"\",\"\",VLOOKUP(I1,漢字書き!$A$2:$N$506,6,0))","v":"［イチエン］玉"},{"$f":"IF(J1=\"\",\"\",VLOOKUP(J1,漢字書き!$A$2:$N$506,6,0))","v":"［ムラ］のまつり"},{"$f":"IF(K1=\"\",\"\",VLOOKUP(K1,漢字読み!$A$2:$O$506,6,0))","v":"［力］いっぱい"},{"$f":"IF(L1=\"\",\"\",VLOOKUP(L1,漢字読み!$A$2:$O$506,6,0))","v":"［貝］のもよう"},{"$f":"IF(M1=\"\",\"\",VLOOKUP(M1,漢字読み!$A$2:$O$506,6,0))","v":"［本気］をだす"},{"$f":"IF(N1=\"\",\"\",VLOOKUP(N1,漢字読み!$A$2:$O$506,6,0))","v":"［入学］手つづき"},{"$f":"IF(O1=\"\",\"\",VLOOKUP(O1,漢字読み!$A$2:$O$506,6,0))","v":"［林］をあるく"},{"$f":"IF(P1=\"\",\"\",VLOOKUP(P1,漢字読み!$A$2:$O$506,6,0))","v":"［本］をよむ"},{"$f":"IF(Q1=\"\",\"\",VLOOKUP(Q1,漢字読み!$A$2:$O$506,6,0))","v":"［貝］がらをあつめる"},{"$f":"IF(R1=\"\",\"\",VLOOKUP(R1,漢字読み!$A$2:$O$506,6,0))","v":"［百］てんのテスト"},{"$f":"IF(S1=\"\",\"\",VLOOKUP(S1,漢字読み!$A$2:$O$506,6,0))","v":"［生］クリーム"},{"$f":"IF(T1=\"\",\"\",VLOOKUP(T1,漢字読み!$A$2:$O$506,6,0))","v":"［名字］をきく"},null,"級"]
[null,null,null,null,null,null,null,null,null,null,null,null,null,null,null,null,null,null,null,null,null,"名前"]
[{"$f":"IF(A1=\"\",\"\",IF(VLOOKUP(A1,漢字書き!$A$2:$N$502,7,0)=0,\"\",VLOOKUP(A1,漢字書き!$A$2:$N$502,7,0)))","v":""},{"$f":"IF(B1=\"\",\"\",IF(VLOOKUP(B1,漢字書き!$A$2:$N$502,7,0)=0,\"\",VLOOKUP(B1,漢字書き!$A$2:$N$502,7,0)))","v":"とり"},{"$f":"IF(C1=\"\",\"\",IF(VLOOKUP(C1,漢字書き!$A$2:$N$502,7,0)=0,\"\",VLOOKUP(C1,漢字書き!$A$2:$N$502,7,0)))","v":"ちょう"},{"$f":"IF(D1=\"\",\"\",IF(VLOOKUP(D1,漢字書き!$A$2:$N$502,7,0)=0,\"\",VLOOKUP(D1,漢字書き!$A$2:$N$502,7,0)))","v":""},{"$f":"IF(E1=\"\",\"\",IF(VLOOKUP(E1,漢字書き!$A$2:$N$502,7,0)=0,\"\",VLOOKUP(E1,漢字書き!$A$2:$N$502,7,0)))","v":"たつ"},{"$f":"IF(F1=\"\",\"\",IF(VLOOKUP(F1,漢字書き!$A$2:$N$502,7,0)=0,\"\",VLOOKUP(F1,漢字書き!$A$2:$N$502,7,0)))","v":""},{"$f":"IF(G1=\"\",\"\",IF(VLOOKUP(G1,漢字書き!$A$2:$N$502,7,0)=0,\"\",VLOOKUP(G1,漢字書き!$A$2:$N$502,7,0)))","v":""},{"$f":"IF(H1=\"\",\"\",IF(VLOOKUP(H1,漢字書き!$A$2:$N$502,7,0)=0,\"\",VLOOKUP(H1,漢字書き!$A$2:$N$502,7,0)))","v":""},{"$f":"IF(I1=\"\",\"\",IF(VLOOKUP(I1,漢字書き!$A$2:$N$502,7,0)=0,\"\",VLOOKUP(I1,漢字書き!$A$2:$N$502,7,0)))","v":"玉"},{"$f":"IF(J1=\"\",\"\",IF(VLOOKUP(J1,漢字書き!$A$2:$N$502,7,0)=0,\"\",VLOOKUP(J1,漢字書き!$A$2:$N$502,7,0)))","v":""},{"$f":"IF(K1=\"\",\"\",IF(VLOOKUP(K1,漢字読み!$A$2:$O$502,7,0)=0,\"\",VLOOKUP(K1,漢字読み!$A$2:$O$502,7,0)))","v":""},{"$f":"IF(L1=\"\",\"\",IF(VLOOKUP(L1,漢字読み!$A$2:$O$502,7,0)=0,\"\",VLOOKUP(L1,漢字読み!$A$2:$O$502,7,0)))","v":""},{"$f":"IF(M1=\"\",\"\",IF(VLOOKUP(M1,漢字読み!$A$2:$O$502,7,0)=0,\"\",VLOOKUP(M1,漢字読み!$A$2:$O$502,7,0)))","v":""},{"$f":"IF(N1=\"\",\"\",IF(VLOOKUP(N1,漢字読み!$A$2:$O$502,7,0)=0,\"\",VLOOKUP(N1,漢字読み!$A$2:$O$502,7,0)))","v":""},{"$f":"IF(O1=\"\",\"\",IF(VLOOKUP(O1,漢字読み!$A$2:$O$502,7,0)=0,\"\",VLOOKUP(O1,漢字読み!$A$2:$O$502,7,0)))","v":""},{"$f":"IF(P1=\"\",\"\",IF(VLOOKUP(P1,漢字読み!$A$2:$O$502,7,0)=0,\"\",VLOOKUP(P1,漢字読み!$A$2:$O$502,7,0)))","v":""},{"$f":"IF(Q1=\"\",\"\",IF(VLOOKUP(Q1,漢字読み!$A$2:$O$502,7,0)=0,\"\",VLOOKUP(Q1,漢字読み!$A$2:$O$502,7,0)))","v":"がら"},{"$f":"IF(R1=\"\",\"\",IF(VLOOKUP(R1,漢字読み!$A$2:$O$502,7,0)=0,\"\",VLOOKUP(R1,漢字読み!$A$2:$O$502,7,0)))","v":"てん"},{"$f":"IF(S1=\"\",\"\",IF(VLOOKUP(S1,漢字読み!$A$2:$O$502,7,0)=0,\"\",VLOOKUP(S1,漢字読み!$A$2:$O$502,7,0)))","v":"クリーム"},{"$f":"IF(T1=\"\",\"\",IF(VLOOKUP(T1,漢字読み!$A$2:$O$502,7,0)=0,\"\",VLOOKUP(T1,漢字読み!$A$2:$O$502,7,0)))","v":""},null,null,"和歌山県教育委員会"]
[{"$f":"'関数（書き）'!$C$12","v":88},{"$f":"'関数（書き）'!$C$13","v":41},{"$f":"'関数（書き）'!$C$14","v":151},{"$f":"'関数（書き）'!$C$15","v":158},{"$f":"'関数（書き）'!$C$16","v":40},{"$f":"'関数（書き）'!$C$17","v":112},{"$f":"'関数（書き）'!$C$18","v":46},{"$f":"'関数（書き）'!$C$19","v":75},{"$f":"'関数（書き）'!$C$20","v":175},{"$f":"'関数（書き）'!$C$21","v":141},{"$f":"'関数（読み）'!$C$12","v":159},{"$f":"'関数（読み）'!$C$13","v":160},{"$f":"'関数（読み）'!$C$14","v":91},{"$f":"'関数（読み）'!$C$15","v":167},{"$f":"'関数（読み）'!$C$16","v":66},{"$f":"'関数（読み）'!$C$17","v":72},{"$f":"'関数（読み）'!$C$18","v":110},{"$f":"'関数（読み）'!$C$19","v":127},{"$f":"'関数（読み）'!$C$20","v":139},{"$f":"'関数（読み）'!$C$21","v":12}]
["⑳","⑲","⑱","⑰","⑯","⑮","⑭","⑬","⑫","⑪","⑩","⑨","⑧","⑦","⑥","⑤","④","③","②","①","次の［　　　　］の部分の漢字には読みがなをひらがなで書き、カタカナは漢字に直しなさい。",15,"「漢字の博士検定試験」練習問題　"]
[{"$f":"IF(A6=\"\",\"\",VLOOKUP(A6,漢字書き!$A$2:$N$506,6,0))","v":"［モリ］のくまさん"},{"$f":"IF(B6=\"\",\"\",VLOOKUP(B6,漢字書き!$A$2:$N$506,6,0))","v":"［ツキ］へのたび"},{"$f":"IF(C6=\"\",\"\",VLOOKUP(C6,漢字書き!$A$2:$N$506,6,0))","v":"あたらしい［トシ］"},{"$f":"IF(D6=\"\",\"\",VLOOKUP(D6,漢字書き!$A$2:$N$506,6,0))","v":"［ブンガク］をよむ"},{"$f":"IF(E6=\"\",\"\",VLOOKUP(E6,漢字書き!$A$2:$N$506,6,0))","v":"［ゲツ］よう日"},{"$f":"IF(F6=\"\",\"\",VLOOKUP(F6,漢字書き!$A$2:$N$506,6,0))","v":"［センセイ］にはなす"},{"$f":"IF(G6=\"\",\"\",VLOOKUP(G6,漢字書き!$A$2:$N$506,6,0))","v":"まえを［ミ］る"},{"$f":"IF(H6=\"\",\"\",VLOOKUP(H6,漢字書き!$A$2:$N$506,6,0))","v":"［ジュウネン］先"},{"$f":"IF(I6=\"\",\"\",VLOOKUP(I6,漢字書き!$A$2:$N$506,6,0))","v":"［ロク］年生"},{"$f":"IF(J6=\"\",\"\",VLOOKUP(J6,漢字書き!$A$2:$N$506,6,0))","v":"ねん［ド］であそぶ"},{"$f":"IF(K6=\"\",\"\",VLOOKUP(K6,漢字読み!$A$2:$O$506,6,0))","v":"［白］いくも"},{"$f":"IF(L6=\"\",\"\",VLOOKUP(L6,漢字読み!$A$2:$O$506,6,0))","v":"［八月］がすき"},{"$f":"IF(M6=\"\",\"\",VLOOKUP(M6,漢字読み!$A$2:$O$506,6,0))","v":"［日本人］"},{"$f":"IF(N6=\"\",\"\",VLOOKUP(N6,漢字読み!$A$2:$O$506,6,0))","v":"［木目］にそう"},{"$f":"IF(O6=\"\",\"\",VLOOKUP(O6,漢字読み!$A$2:$O$506,6,0))","v":"［糸］でんわ"},{"$f":"IF(P6=\"\",\"\",VLOOKUP(P6,漢字読み!$A$2:$O$506,6,0))","v":"きゅうきゅう［車］"},{"$f":"IF(Q6=\"\",\"\",VLOOKUP(Q6,漢字読み!$A$2:$O$506,6,0))","v":"［石］たんをほる"},{"$f":"IF(R6=\"\",\"\",VLOOKUP(R6,漢字読み!$A$2:$O$506,6,0))","v":"［村］ちょうさん"},{"$f":"IF(S6=\"\",\"\",VLOOKUP(S6,漢字読み!$A$2:$O$506,6,0))","v":"［虫］をとる"},{"$f":"IF(T6=\"\",\"\",VLOOKUP(T6,漢字読み!$A$2:$O$506,6,0))","v":"［音］がくしつ"},null,"級"]
[null,null,null,null,null,null,null,null,null,null,null,null,null,null,null,null,null,null,null,null,null,"名前"]
[{"$f":"IF(A6=\"\",\"\",IF(VLOOKUP(A6,漢字書き!$A$2:$N$502,7,0)=0,\"\",VLOOKUP(A6,漢字書き!$A$2:$N$502,7,0)))","v":""},{"$f":"IF(B6=\"\",\"\",IF(VLOOKUP(B6,漢字書き!$A$2:$N$502,7,0)=0,\"\",VLOOKUP(B6,漢字書き!$A$2:$N$502,7,0)))","v":""},{"$f":"IF(C6=\"\",\"\",IF(VLOOKUP(C6,漢字書き!$A$2:$N$502,7,0)=0,\"\",VLOOKUP(C6,漢字書き!$A$2:$N$502,7,0)))","v":""},{"$f":"IF(D6=\"\",\"\",IF(VLOOKUP(D6,漢字書き!$A$2:$N$502,7,0)=0,\"\",VLOOKUP(D6,漢字書き!$A$2:$N$502,7,0)))","v":""},{"$f":"IF(E6=\"\",\"\",IF(VLOOKUP(E6,漢字書き!$A$2:$N$502,7,0)=0,\"\",VLOOKUP(E6,漢字書き!$A$2:$N$502,7,0)))","v":"よう"},{"$f":"IF(F6=\"\",\"\",IF(VLOOKUP(F6,漢字書き!$A$2:$N$502,7,0)=0,\"\",VLOOKUP(F6,漢字書き!$A$2:$N$502,7,0)))","v":""},{"$f":"IF(G6=\"\",\"\",IF(VLOOKUP(G6,漢字書き!$A$2:$N$502,7,0)=0,\"\",VLOOKUP(G6,漢字書き!$A$2:$N$502,7,0)))","v":"る"},{"$f":"IF(H6=\"\",\"\",IF(VLOOKUP(H6,漢字書き!$A$2:$N$502,7,0)=0,\"\",VLOOKUP(H6,漢字書き!$A$2:$N$502,7,0)))","v":"先"},{"$f":"IF(I6=\"\",\"\",IF(VLOOKUP(I6,漢字書き!$A$2:$N$502,7,0)=0,\"\",VLOOKUP(I6,漢字書き!$A$2:$N$502,7,0)))","v":"年"},{"$f":"IF(J6=\"\",\"\",IF(VLOOKUP(J6,漢字書き!$A$2:$N$502,7,0)=0,\"\",VLOOKUP(J6,漢字書き!$A$2:$N$502,7,0)))","v":""},{"$f":"IF(K6=\"\",\"\",IF(VLOOKUP(K6,漢字読み!$A$2:$O$502,7,0)=0,\"\",VLOOKUP(K6,漢字読み!$A$2:$O$502,7,0)))","v":"い"},{"$f":"IF(L6=\"\",\"\",IF(VLOOKUP(L6,漢字読み!$A$2:$O$502,7,0)=0,\"\",VLOOKUP(L6,漢字読み!$A$2:$O$502,7,0)))","v":""},{"$f":"IF(M6=\"\",\"\",IF(VLOOKUP(M6,漢字読み!$A$2:$O$502,7,0)=0,\"\",VLOOKUP(M6,漢字読み!$A$2:$O$502,7,0)))","v":""},{"$f":"IF(N6=\"\",\"\",IF(VLOOKUP(N6,漢字読み!$A$2:$O$502,7,0)=0,\"\",VLOOKUP(N6,漢字読み!$A$2:$O$502,7,0)))","v":""},{"$f":"IF(O6=\"\",\"\",IF(VLOOKUP(O6,漢字読み!$A$2:$O$502,7,0)=0,\"\",VLOOKUP(O6,漢字読み!$A$2:$O$502,7,0)))","v":""},{"$f":"IF(P6=\"\",\"\",IF(VLOOKUP(P6,漢字読み!$A$2:$O$502,7,0)=0,\"\",VLOOKUP(P6,漢字読み!$A$2:$O$502,7,0)))","v":""},{"$f":"IF(Q6=\"\",\"\",IF(VLOOKUP(Q6,漢字読み!$A$2:$O$502,7,0)=0,\"\",VLOOKUP(Q6,漢字読み!$A$2:$O$502,7,0)))","v":"たん"},{"$f":"IF(R6=\"\",\"\",IF(VLOOKUP(R6,漢字読み!$A$2:$O$502,7,0)=0,\"\",VLOOKUP(R6,漢字読み!$A$2:$O$502,7,0)))","v":"ちょうさん"},{"$f":"IF(S6=\"\",\"\",IF(VLOOKUP(S6,漢字読み!$A$2:$O$502,7,0)=0,\"\",VLOOKUP(S6,漢字読み!$A$2:$O$502,7,0)))","v":""},{"$f":"IF(T6=\"\",\"\",IF(VLOOKUP(T6,漢字読み!$A$2:$O$502,7,0)=0,\"\",VLOOKUP(T6,漢字読み!$A$2:$O$502,7,0)))","v":"がく"},null,null,"和歌山県教育委員会"]
[{"$f":"'関数（書き）'!$C$2","v":171},{"$f":"'関数（書き）'!$C$3","v":118},{"$f":"'関数（書き）'!$C$4","v":114},{"$f":"'関数（書き）'!$C$5","v":110},{"$f":"'関数（書き）'!$C$6","v":85},{"$f":"'関数（書き）'!$C$7","v":44},{"$f":"'関数（書き）'!$C$8","v":6},{"$f":"'関数（書き）'!$C$9","v":50},{"$f":"'関数（書き）'!$C$10","v":8},{"$f":"'関数（書き）'!$C$11","v":123},{"$f":"'関数（読み）'!$C$2","v":182},{"$f":"'関数（読み）'!$C$3","v":24},{"$f":"'関数（読み）'!$C$4","v":171},{"$f":"'関数（読み）'!$C$5","v":153},{"$f":"'関数（読み）'!$C$6","v":184},{"$f":"'関数（読み）'!$C$7","v":172},{"$f":"'関数（読み）'!$C$8","v":23},{"$f":"'関数（読み）'!$C$9","v":164},{"$f":"'関数（読み）'!$C$10","v":104},{"$f":"'関数（読み）'!$C$11","v":174}]
["⑳","⑲","⑱","⑰","⑯","⑮","⑭","⑬","⑫","⑪","⑩","⑨","⑧","⑦","⑥","⑤","④","③","②","①","次の［　　　　］の部分の漢字には読みがなをひらがなで書き、カタカナは漢字に直しなさい。",15,"「漢字の博士検定試験」練習問題　"]
[{"$f":"IF(A11=\"\",\"\",VLOOKUP(A11,漢字書き!$A$2:$N$506,6,0))","v":"［チカラ］いっぱい"},{"$f":"IF(B11=\"\",\"\",VLOOKUP(B11,漢字書き!$A$2:$N$506,6,0))","v":"にわの［クサ］とり"},{"$f":"IF(C11=\"\",\"\",VLOOKUP(C11,漢字書き!$A$2:$N$506,6,0))","v":"［ソウ］ちょう"},{"$f":"IF(D11=\"\",\"\",VLOOKUP(D11,漢字書き!$A$2:$N$506,6,0))","v":"ふかい［カワ］"},{"$f":"IF(E11=\"\",\"\",VLOOKUP(E11,漢字書き!$A$2:$N$506,6,0))","v":"［ジョウ］たつする"},{"$f":"IF(F11=\"\",\"\",VLOOKUP(F11,漢字書き!$A$2:$N$506,6,0))","v":"こわい［イヌ］"},{"$f":"IF(G11=\"\",\"\",VLOOKUP(G11,漢字書き!$A$2:$N$506,6,0))","v":"［アメ］がふる"},{"$f":"IF(H11=\"\",\"\",VLOOKUP(H11,漢字書き!$A$2:$N$506,6,0))","v":"［クチ］に入れる"},{"$f":"IF(I11=\"\",\"\",VLOOKUP(I11,漢字書き!$A$2:$N$506,6,0))","v":"［イチエン］玉"},{"$f":"IF(J11=\"\",\"\",VLOOKUP(J11,漢字書き!$A$2:$N$506,6,0))","v":"［ムラ］のまつり"},{"$f":"IF(K11=\"\",\"\",VLOOKUP(K11,漢字読み!$A$2:$O$506,6,0))","v":"［力］いっぱい"},{"$f":"IF(L11=\"\",\"\",VLOOKUP(L11,漢字読み!$A$2:$O$506,6,0))","v":"［貝］のもよう"},{"$f":"IF(M11=\"\",\"\",VLOOKUP(M11,漢字読み!$A$2:$O$506,6,0))","v":"［本気］をだす"},{"$f":"IF(N11=\"\",\"\",VLOOKUP(N11,漢字読み!$A$2:$O$506,6,0))","v":"［入学］手つづき"},{"$f":"IF(O11=\"\",\"\",VLOOKUP(O11,漢字読み!$A$2:$O$506,6,0))","v":"［林］をあるく"},{"$f":"IF(P11=\"\",\"\",VLOOKUP(P11,漢字読み!$A$2:$O$506,6,0))","v":"［本］をよむ"},{"$f":"IF(Q11=\"\",\"\",VLOOKUP(Q11,漢字読み!$A$2:$O$506,6,0))","v":"［貝］がらをあつめる"},{"$f":"IF(R11=\"\",\"\",VLOOKUP(R11,漢字読み!$A$2:$O$506,6,0))","v":"［百］てんのテスト"},{"$f":"IF(S11=\"\",\"\",VLOOKUP(S11,漢字読み!$A$2:$O$506,6,0))","v":"［生］クリーム"},{"$f":"IF(T11=\"\",\"\",VLOOKUP(T11,漢字読み!$A$2:$O$506,6,0))","v":"［名字］をきく"},null,"級"]
[{"$f":"IF(A$11=\"\",\"\",VLOOKUP(A$11,漢字書き!$A$2:$O$506,8,0))","v":"力"},{"$f":"IF(B$11=\"\",\"\",VLOOKUP(B$11,漢字書き!$A$2:$O$506,8,0))","v":"草"},{"$f":"IF(C$11=\"\",\"\",VLOOKUP(C$11,漢字書き!$A$2:$O$506,8,0))","v":"早"},{"$f":"IF(D$11=\"\",\"\",VLOOKUP(D$11,漢字書き!$A$2:$O$506,8,0))","v":"川"},{"$f":"IF(E$11=\"\",\"\",VLOOKUP(E$11,漢字書き!$A$2:$O$506,8,0))","v":"上"},{"$f":"IF(F$11=\"\",\"\",VLOOKUP(F$11,漢字書き!$A$2:$O$506,8,0))","v":"犬"},{"$f":"IF(G$11=\"\",\"\",VLOOKUP(G$11,漢字書き!$A$2:$O$506,8,0))","v":"雨"},{"$f":"IF(H$11=\"\",\"\",VLOOKUP(H$11,漢字書き!$A$2:$O$506,8,0))","v":"口"},{"$f":"IF(I$11=\"\",\"\",VLOOKUP(I$11,漢字書き!$A$2:$O$506,8,0))","v":"一円"},{"$f":"IF(J$11=\"\",\"\",VLOOKUP(J$11,漢字書き!$A$2:$O$506,8,0))","v":"村"},{"$f":"IF(K$11=\"\",\"\",VLOOKUP(K$11,漢字読み!$A$2:$O$506,8,0))","v":"ちから"},{"$f":"IF(L$11=\"\",\"\",VLOOKUP(L$11,漢字読み!$A$2:$O$506,8,0))","v":"かい"},{"$f":"IF(M$11=\"\",\"\",VLOOKUP(M$11,漢字読み!$A$2:$O$506,8,0))","v":"ほんき"},{"$f":"IF(N$11=\"\",\"\",VLOOKUP(N$11,漢字読み!$A$2:$O$506,8,0))","v":"にゅうがく"},{"$f":"IF(O$11=\"\",\"\",VLOOKUP(O$11,漢字読み!$A$2:$O$506,8,0))","v":"はやし"},{"$f":"IF(P$11=\"\",\"\",VLOOKUP(P$11,漢字読み!$A$2:$O$506,8,0))","v":"ほん"},{"$f":"IF(Q$11=\"\",\"\",VLOOKUP(Q$11,漢字読み!$A$2:$O$506,8,0))","v":"かい"},{"$f":"IF(R$11=\"\",\"\",VLOOKUP(R$11,漢字読み!$A$2:$O$506,8,0))","v":"ひゃく"},{"$f":"IF(S$11=\"\",\"\",VLOOKUP(S$11,漢字読み!$A$2:$O$506,8,0))","v":"なま"},{"$f":"IF(T$11=\"\",\"\",VLOOKUP(T$11,漢字読み!$A$2:$O$506,8,0))","v":"みょうじ"},null,"名前"]
[{"$f":"IF(A11=\"\",\"\",IF(VLOOKUP(A11,漢字書き!$A$2:$N$502,7,0)=0,\"\",VLOOKUP(A11,漢字書き!$A$2:$N$502,7,0)))","v":""},{"$f":"IF(B11=\"\",\"\",IF(VLOOKUP(B11,漢字書き!$A$2:$N$502,7,0)=0,\"\",VLOOKUP(B11,漢字書き!$A$2:$N$502,7,0)))","v":"とり"},{"$f":"IF(C11=\"\",\"\",IF(VLOOKUP(C11,漢字書き!$A$2:$N$502,7,0)=0,\"\",VLOOKUP(C11,漢字書き!$A$2:$N$502,7,0)))","v":"ちょう"},{"$f":"IF(D11=\"\",\"\",IF(VLOOKUP(D11,漢字書き!$A$2:$N$502,7,0)=0,\"\",VLOOKUP(D11,漢字書き!$A$2:$N$502,7,0)))","v":""},{"$f":"IF(E11=\"\",\"\",IF(VLOOKUP(E11,漢字書き!$A$2:$N$502,7,0)=0,\"\",VLOOKUP(E11,漢字書き!$A$2:$N$502,7,0)))","v":"たつ"},{"$f":"IF(F11=\"\",\"\",IF(VLOOKUP(F11,漢字書き!$A$2:$N$502,7,0)=0,\"\",VLOOKUP(F11,漢字書き!$A$2:$N$502,7,0)))","v":""},{"$f":"IF(G11=\"\",\"\",IF(VLOOKUP(G11,漢字書き!$A$2:$N$502,7,0)=0,\"\",VLOOKUP(G11,漢字書き!$A$2:$N$502,7,0)))","v":""},{"$f":"IF(H11=\"\",\"\",IF(VLOOKUP(H11,漢字書き!$A$2:$N$502,7,0)=0,\"\",VLOOKUP(H11,漢字書き!$A$2:$N$502,7,0)))","v":""},{"$f":"IF(I11=\"\",\"\",IF(VLOOKUP(I11,漢字書き!$A$2:$N$502,7,0)=0,\"\",VLOOKUP(I11,漢字書き!$A$2:$N$502,7,0)))","v":"玉"},{"$f":"IF(J11=\"\",\"\",IF(VLOOKUP(J11,漢字書き!$A$2:$N$502,7,0)=0,\"\",VLOOKUP(J11,漢字書き!$A$2:$N$502,7,0)))","v":""},{"$f":"IF(K11=\"\",\"\",IF(VLOOKUP(K11,漢字読み!$A$2:$O$502,7,0)=0,\"\",VLOOKUP(K11,漢字読み!$A$2:$O$502,7,0)))","v":""},{"$f":"IF(L11=\"\",\"\",IF(VLOOKUP(L11,漢字読み!$A$2:$O$502,7,0)=0,\"\",VLOOKUP(L11,漢字読み!$A$2:$O$502,7,0)))","v":""},{"$f":"IF(M11=\"\",\"\",IF(VLOOKUP(M11,漢字読み!$A$2:$O$502,7,0)=0,\"\",VLOOKUP(M11,漢字読み!$A$2:$O$502,7,0)))","v":""},{"$f":"IF(N11=\"\",\"\",IF(VLOOKUP(N11,漢字読み!$A$2:$O$502,7,0)=0,\"\",VLOOKUP(N11,漢字読み!$A$2:$O$502,7,0)))","v":""},{"$f":"IF(O11=\"\",\"\",IF(VLOOKUP(O11,漢字読み!$A$2:$O$502,7,0)=0,\"\",VLOOKUP(O11,漢字読み!$A$2:$O$502,7,0)))","v":""},{"$f":"IF(P11=\"\",\"\",IF(VLOOKUP(P11,漢字読み!$A$2:$O$502,7,0)=0,\"\",VLOOKUP(P11,漢字読み!$A$2:$O$502,7,0)))","v":""},{"$f":"IF(Q11=\"\",\"\",IF(VLOOKUP(Q11,漢字読み!$A$2:$O$502,7,0)=0,\"\",VLOOKUP(Q11,漢字読み!$A$2:$O$502,7,0)))","v":"がら"},{"$f":"IF(R11=\"\",\"\",IF(VLOOKUP(R11,漢字読み!$A$2:$O$502,7,0)=0,\"\",VLOOKUP(R11,漢字読み!$A$2:$O$502,7,0)))","v":"てん"},{"$f":"IF(S11=\"\",\"\",IF(VLOOKUP(S11,漢字読み!$A$2:$O$502,7,0)=0,\"\",VLOOKUP(S11,漢字読み!$A$2:$O$502,7,0)))","v":"クリーム"},{"$f":"IF(T11=\"\",\"\",IF(VLOOKUP(T11,漢字読み!$A$2:$O$502,7,0)=0,\"\",VLOOKUP(T11,漢字読み!$A$2:$O$502,7,0)))","v":""},null,null,"和歌山県教育委員会"]
[{"$f":"'関数（書き）'!$C$12","v":88},{"$f":"'関数（書き）'!$C$13","v":41},{"$f":"'関数（書き）'!$C$14","v":151},{"$f":"'関数（書き）'!$C$15","v":158},{"$f":"'関数（書き）'!$C$16","v":40},{"$f":"'関数（書き）'!$C$17","v":112},{"$f":"'関数（書き）'!$C$18","v":46},{"$f":"'関数（書き）'!$C$19","v":75},{"$f":"'関数（書き）'!$C$20","v":175},{"$f":"'関数（書き）'!$C$21","v":141},{"$f":"'関数（読み）'!$C$12","v":159},{"$f":"'関数（読み）'!$C$13","v":160},{"$f":"'関数（読み）'!$C$14","v":91},{"$f":"'関数（読み）'!$C$15","v":167},{"$f":"'関数（読み）'!$C$16","v":66},{"$f":"'関数（読み）'!$C$17","v":72},{"$f":"'関数（読み）'!$C$18","v":110},{"$f":"'関数（読み）'!$C$19","v":127},{"$f":"'関数（読み）'!$C$20","v":139},{"$f":"'関数（読み）'!$C$21","v":12}]
["⑳","⑲","⑱","⑰","⑯","⑮","⑭","⑬","⑫","⑪","⑩","⑨","⑧","⑦","⑥","⑤","④","③","②","①","次の［　　　　］の部分の漢字には読みがなをひらがなで書き、カタカナは漢字に直しなさい。",15,"「漢字の博士検定試験」練習問題　"]
[{"$f":"IF(A16=\"\",\"\",VLOOKUP(A16,漢字書き!$A$2:$N$506,6,0))","v":"［モリ］のくまさん"},{"$f":"IF(B16=\"\",\"\",VLOOKUP(B16,漢字書き!$A$2:$N$506,6,0))","v":"［ツキ］へのたび"},{"$f":"IF(C16=\"\",\"\",VLOOKUP(C16,漢字書き!$A$2:$N$506,6,0))","v":"あたらしい［トシ］"},{"$f":"IF(D16=\"\",\"\",VLOOKUP(D16,漢字書き!$A$2:$N$506,6,0))","v":"［ブンガク］をよむ"},{"$f":"IF(E16=\"\",\"\",VLOOKUP(E16,漢字書き!$A$2:$N$506,6,0))","v":"［ゲツ］よう日"},{"$f":"IF(F16=\"\",\"\",VLOOKUP(F16,漢字書き!$A$2:$N$506,6,0))","v":"［センセイ］にはなす"},{"$f":"IF(G16=\"\",\"\",VLOOKUP(G16,漢字書き!$A$2:$N$506,6,0))","v":"まえを［ミ］る"},{"$f":"IF(H16=\"\",\"\",VLOOKUP(H16,漢字書き!$A$2:$N$506,6,0))","v":"［ジュウネン］先"},{"$f":"IF(I16=\"\",\"\",VLOOKUP(I16,漢字書き!$A$2:$N$506,6,0))","v":"［ロク］年生"},{"$f":"IF(J16=\"\",\"\",VLOOKUP(J16,漢字書き!$A$2:$N$506,6,0))","v":"ねん［ド］であそぶ"},{"$f":"IF(K16=\"\",\"\",VLOOKUP(K16,漢字読み!$A$2:$O$506,6,0))","v":"［白］いくも"},{"$f":"IF(L16=\"\",\"\",VLOOKUP(L16,漢字読み!$A$2:$O$506,6,0))","v":"［八月］がすき"},{"$f":"IF(M16=\"\",\"\",VLOOKUP(M16,漢字読み!$A$2:$O$506,6,0))","v":"［日本人］"},{"$f":"IF(N16=\"\",\"\",VLOOKUP(N16,漢字読み!$A$2:$O$506,6,0))","v":"［木目］にそう"},{"$f":"IF(O16=\"\",\"\",VLOOKUP(O16,漢字読み!$A$2:$O$506,6,0))","v":"［糸］でんわ"},{"$f":"IF(P16=\"\",\"\",VLOOKUP(P16,漢字読み!$A$2:$O$506,6,0))","v":"きゅうきゅう［車］"},{"$f":"IF(Q16=\"\",\"\",VLOOKUP(Q16,漢字読み!$A$2:$O$506,6,0))","v":"［石］たんをほる"},{"$f":"IF(R16=\"\",\"\",VLOOKUP(R16,漢字読み!$A$2:$O$506,6,0))","v":"［村］ちょうさん"},{"$f":"IF(S16=\"\",\"\",VLOOKUP(S16,漢字読み!$A$2:$O$506,6,0))","v":"［虫］をとる"},{"$f":"IF(T16=\"\",\"\",VLOOKUP(T16,漢字読み!$A$2:$O$506,6,0))","v":"［音］がくしつ"},null,"級"]
[{"$f":"IF(A$16=\"\",\"\",VLOOKUP(A$16,漢字書き!$A$2:$O$506,8,0))","v":"森"},{"$f":"IF(B$16=\"\",\"\",VLOOKUP(B$16,漢字書き!$A$2:$O$506,8,0))","v":"月"},{"$f":"IF(C$16=\"\",\"\",VLOOKUP(C$16,漢字書き!$A$2:$O$506,8,0))","v":"年"},{"$f":"IF(D$16=\"\",\"\",VLOOKUP(D$16,漢字書き!$A$2:$O$506,8,0))","v":"文学"},{"$f":"IF(E$16=\"\",\"\",VLOOKUP(E$16,漢字書き!$A$2:$O$506,8,0))","v":"月"},{"$f":"IF(F$16=\"\",\"\",VLOOKUP(F$16,漢字書き!$A$2:$O$506,8,0))","v":"先生"},{"$f":"IF(G$16=\"\",\"\",VLOOKUP(G$16,漢字書き!$A$2:$O$506,8,0))","v":"見"},{"$f":"IF(H$16=\"\",\"\",VLOOKUP(H$16,漢字書き!$A$2:$O$506,8,0))","v":"十年"},{"$f":"IF(I$16=\"\",\"\",VLOOKUP(I$16,漢字書き!$A$2:$O$506,8,0))","v":"六"},{"$f":"IF(J$16=\"\",\"\",VLOOKUP(J$16,漢字書き!$A$2:$O$506,8,0))","v":"土"},{"$f":"IF(K$16=\"\",\"\",VLOOKUP(K$16,漢字読み!$A$2:$O$506,8,0))","v":"しろ"},{"$f":"IF(L$16=\"\",\"\",VLOOKUP(L$16,漢字読み!$A$2:$O$506,8,0))","v":"はちがつ"},{"$f":"IF(M$16=\"\",\"\",VLOOKUP(M$16,漢字読み!$A$2:$O$506,8,0))","v":"にほんじん"},{"$f":"IF(N$16=\"\",\"\",VLOOKUP(N$16,漢字読み!$A$2:$O$506,8,0))","v":"もくめ"},{"$f":"IF(O$16=\"\",\"\",VLOOKUP(O$16,漢字読み!$A$2:$O$506,8,0))","v":"いと"},{"$f":"IF(P$16=\"\",\"\",VLOOKUP(P$16,漢字読み!$A$2:$O$506,8,0))","v":"しゃ"},{"$f":"IF(Q$16=\"\",\"\",VLOOKUP(Q$16,漢字読み!$A$2:$O$506,8,0))","v":"せき"},{"$f":"IF(R$16=\"\",\"\",VLOOKUP(R$16,漢字読み!$A$2:$O$506,8,0))","v":"そん"},{"$f":"IF(S$16=\"\",\"\",VLOOKUP(S$16,漢字読み!$A$2:$O$506,8,0))","v":"むし"},{"$f":"IF(T$16=\"\",\"\",VLOOKUP(T$16,漢字読み!$A$2:$O$506,8,0))","v":"おん"},null,"名前"]
[{"$f":"IF(A16=\"\",\"\",IF(VLOOKUP(A16,漢字書き!$A$2:$N$502,7,0)=0,\"\",VLOOKUP(A16,漢字書き!$A$2:$N$502,7,0)))","v":""},{"$f":"IF(B16=\"\",\"\",IF(VLOOKUP(B16,漢字書き!$A$2:$N$502,7,0)=0,\"\",VLOOKUP(B16,漢字書き!$A$2:$N$502,7,0)))","v":""},{"$f":"IF(C16=\"\",\"\",IF(VLOOKUP(C16,漢字書き!$A$2:$N$502,7,0)=0,\"\",VLOOKUP(C16,漢字書き!$A$2:$N$502,7,0)))","v":""},{"$f":"IF(D16=\"\",\"\",IF(VLOOKUP(D16,漢字書き!$A$2:$N$502,7,0)=0,\"\",VLOOKUP(D16,漢字書き!$A$2:$N$502,7,0)))","v":""},{"$f":"IF(E16=\"\",\"\",IF(VLOOKUP(E16,漢字書き!$A$2:$N$502,7,0)=0,\"\",VLOOKUP(E16,漢字書き!$A$2:$N$502,7,0)))","v":"よう"},{"$f":"IF(F16=\"\",\"\",IF(VLOOKUP(F16,漢字書き!$A$2:$N$502,7,0)=0,\"\",VLOOKUP(F16,漢字書き!$A$2:$N$502,7,0)))","v":""},{"$f":"IF(G16=\"\",\"\",IF(VLOOKUP(G16,漢字書き!$A$2:$N$502,7,0)=0,\"\",VLOOKUP(G16,漢字書き!$A$2:$N$502,7,0)))","v":"る"},{"$f":"IF(H16=\"\",\"\",IF(VLOOKUP(H16,漢字書き!$A$2:$N$502,7,0)=0,\"\",VLOOKUP(H16,漢字書き!$A$2:$N$502,7,0)))","v":"先"},{"$f":"IF(I16=\"\",\"\",IF(VLOOKUP(I16,漢字書き!$A$2:$N$502,7,0)=0,\"\",VLOOKUP(I16,漢字書き!$A$2:$N$502,7,0)))","v":"年"},{"$f":"IF(J16=\"\",\"\",IF(VLOOKUP(J16,漢字書き!$A$2:$N$502,7,0)=0,\"\",VLOOKUP(J16,漢字書き!$A$2:$N$502,7,0)))","v":""},{"$f":"IF(K16=\"\",\"\",IF(VLOOKUP(K16,漢字読み!$A$2:$O$502,7,0)=0,\"\",VLOOKUP(K16,漢字読み!$A$2:$O$502,7,0)))","v":"い"},{"$f":"IF(L16=\"\",\"\",IF(VLOOKUP(L16,漢字読み!$A$2:$O$502,7,0)=0,\"\",VLOOKUP(L16,漢字読み!$A$2:$O$502,7,0)))","v":""},{"$f":"IF(M16=\"\",\"\",IF(VLOOKUP(M16,漢字読み!$A$2:$O$502,7,0)=0,\"\",VLOOKUP(M16,漢字読み!$A$2:$O$502,7,0)))","v":""},{"$f":"IF(N16=\"\",\"\",IF(VLOOKUP(N16,漢字読み!$A$2:$O$502,7,0)=0,\"\",VLOOKUP(N16,漢字読み!$A$2:$O$502,7,0)))","v":""},{"$f":"IF(O16=\"\",\"\",IF(VLOOKUP(O16,漢字読み!$A$2:$O$502,7,0)=0,\"\",VLOOKUP(O16,漢字読み!$A$2:$O$502,7,0)))","v":""},{"$f":"IF(P16=\"\",\"\",IF(VLOOKUP(P16,漢字読み!$A$2:$O$502,7,0)=0,\"\",VLOOKUP(P16,漢字読み!$A$2:$O$502,7,0)))","v":""},{"$f":"IF(Q16=\"\",\"\",IF(VLOOKUP(Q16,漢字読み!$A$2:$O$502,7,0)=0,\"\",VLOOKUP(Q16,漢字読み!$A$2:$O$502,7,0)))","v":"たん"},{"$f":"IF(R16=\"\",\"\",IF(VLOOKUP(R16,漢字読み!$A$2:$O$502,7,0)=0,\"\",VLOOKUP(R16,漢字読み!$A$2:$O$502,7,0)))","v":"ちょうさん"},{"$f":"IF(S16=\"\",\"\",IF(VLOOKUP(S16,漢字読み!$A$2:$O$502,7,0)=0,\"\",VLOOKUP(S16,漢字読み!$A$2:$O$502,7,0)))","v":""},{"$f":"IF(T16=\"\",\"\",IF(VLOOKUP(T16,漢字読み!$A$2:$O$502,7,0)=0,\"\",VLOOKUP(T16,漢字読み!$A$2:$O$502,7,0)))","v":"がく"},null,null,"和歌山県教育委員会"]

{"sheet":"網羅問題（関数） ","index":1,"n_rows":420,"n_cols":36,"rows_kept":420,"cut":false,"hidden":false,"merged":[[416,20,419,20],[416,22,418,22],[418,21,419,21],[406,20,409,20],[406,22,408,22],[408,21,409,21],[411,20,414,20],[411,22,413,22],[413,21,414,21],[396,20,399,20],[396,22,398,22],[398,21,399,21],[401,20,404,20],[401,22,403,22],[403,21,404,21],[386,20,389,20],[386,22,388,22],[388,21,389,21],[391,20,394,20],[391,22,393,22],[393,21,394,21],[376,20,379,20],[376,22,378,22],[378,21,379,21],[381,20,384,20],[381,22,383,22],[383,21,384,21],[366,20,369,20],[366,22,368,22],[368,21,369,21],[371,20,374,20],[371,22,373,22],[373,21,374,21],[356,20,359,20],[356,22,358,22],[358,21,359,21],[361,20,364,20],[361,22,363,22],[363,21,364,21],[346,20,349,20],[346,22,348,22],[348,21,349,21],[351,20,354,20],[351,22,353,22],[353,21,354,21],[336,20,339,20],[336,22,338,22],[338,21,339,21],[341,20,344,20],[341,22,343,22],[343,21,344,21],[326,20,329,20],[326,22,328,22],[328,21,329,21],[331,20,334,20],[331,22,333,22],[333,21,334,21],[316,20,319,20],[316,22,318,22],[318,21,319,21],[321,20,324,20],[321,22,323,22],[323,21,324,21],[306,20,309,20],[306,22,308,22],[308,21,309,21],[311,20,314,20],[311,22,313,22],[313,21,314,21],[296,20,299,20],[296,22,298,22],[298,21,299,21],[301,20,304,20],[301,22,303,22],[303,21,304,21],[286,20,289,20],[286,22,288,22],[288,21,289,21],[291,20,294,20],[291,22,293,22],[293,21,294,21],[276,20,279,20],[276,22,278,22],[278,21,279,21],[281,20,284,20],[281,22,283,22],[283,21,284,21],[266,20,269,20],[266,22,268,22],[268,21,269,21],[271,20,274,20],[271,22,273,22],[273,21,274,21],[256,20,259,20],[256,22,258,22],[258,21,259,21],[261,20,264,20],[261,22,263,22],[263,21,264,21],[246,20,249,20],[246,22,248,22],[248,21,249,21],[251,20,254,20],[251,22,253,22],[253,21,254,21],[236,20,239,20],[236,22,238,22],[238,21,239,21],[241,20,244,20],[241,22,243,22],[243,21,244,21],[226,20,229,20],[226,22,228,22],[228,21,229,21],[231,20,234,20],[231,22,233,22],[233,21,234,21],[216,20,219,20],[216,22,218,22],[218,21,219,21],[221,20,224,20],[221,22,223,22],[223,21,224,21],[206,20,209,20],[206,22,208,22],[208,21,209,21],[211,20,214,20],[211,22,213,22],[213,21,214,21],[196,20,199,20],[196,22,198,22],[198,21,199,21],[201,20,204,20],[201,22,203,22],[203,21,204,21],[186,20,189,20],[186,22,188,22],[188,21,189,21],[191,20,194,20],[191,22,193,22],[193,21,194,21],[176,20,179,20],[176,22,178,22],[178,21,179,21],[181,20,184,20],[181,22,183,22],[183,21,184,21],[166,20,169,20],[166,22,168,22],[168,21,169,21],[171,20,174,20],[171,22,173,22],[173,21,174,21],[156,20,159,20],[156,22,158,22],[158,21,159,21],[161,20,164,20],[161,22,163,22],[163,21,164,21],[146,20,149,20],[146,22,148,22],[148,21,149,21],[151,20,154,20],[151,22,153,22],[153,21,154,21],[136,20,139,20],[136,22,138,22],[138,21,139,21],[141,20,144,20],[141,22,143,22],[143,21,144,21],[126,20,129,20],[126,22,128,22],[128,21,129,21],[131,20,134,20],[131,22,133,22],[133,21,134,21],[116,20,119,20],[116,22,118,22],[118,21,119,21],[121,20,124,20],[121,22,123,22],[123,21,124,21],[106,20,109,20],[106,22,108,22],[108,21,109,21],[111,20,114,20],[111,22,113,22],[113,21,114,21],[96,20,99,20],[96,22,98,22],[98,21,99,21],[101,20,104,20],[101,22,103,22],[103,21,104,21],[86,20,89,20],[86,22,88,22],[88,21,89,21],[91,20,94,20],[91,22,93,22],[93,21,94,21],[76,20,79,20],[76,22,78,22],[78,21,79,21],[81,20,84,20],[81,22,83,22],[83,21,84,21],[66,20,69,20],[66,22,68,22],[68,21,69,21],[71,20,74,20],[71,22,73,22],[73,21,74,21],[56,20,59,20],[56,22,58,22],[58,21,59,21],[61,20,64,20],[61,22,63,22],[63,21,64,21],[46,20,49,20],[46,22,48,22],[48,21,49,21],[51,20,54,20],[51,22,53,22],[53,21,54,21],[36,20,39,20],[36,22,38,22],[38,21,39,21],[41,20,44,20],[41,22,43,22],[43,21,44,21],[26,20,29,20],[26,22,28,22],[28,21,29,21],[31,20,34,20],[31,22,33,22],[33,21,34,21],[11,20,14,20],[11,22,13,22],[13,21,14,21],[16,20,19,20],[16,22,18,22],[18,21,19,21],[21,20,24,20],[21,22,23,22],[23,21,24,21],[1,20,4,20],[1,22,3,22],[3,21,4,21],[6,20,9,20],[6,22,8,22],[8,21,9,21]]}
[{"$f":"INDIRECT(\"'関数（書き）'!C\" & COLUMN(B$1)+SUM($AD$2:$AD2))","v":171},{"$f":"INDIRECT(\"'関数（書き）'!C\" & COLUMN(C$1)+SUM($AD$2:$AD2))","v":118},{"$f":"INDIRECT(\"'関数（書き）'!C\" & COLUMN(D$1)+SUM($AD$2:$AD2))","v":114},{"$f":"INDIRECT(\"'関数（書き）'!C\" & COLUMN(E$1)+SUM($AD$2:$AD2))","v":110},{"$f":"INDIRECT(\"'関数（書き）'!C\" & COLUMN(F$1)+SUM($AD$2:$AD2))","v":85},{"$f":"INDIRECT(\"'関数（書き）'!C\" & COLUMN(G$1)+SUM($AD$2:$AD2))","v":44},{"$f":"INDIRECT(\"'関数（書き）'!C\" & COLUMN(H$1)+SUM($AD$2:$AD2))","v":6},{"$f":"INDIRECT(\"'関数（書き）'!C\" & COLUMN(I$1)+SUM($AD$2:$AD2))","v":50},{"$f":"INDIRECT(\"'関数（書き）'!C\" & COLUMN(J$1)+SUM($AD$2:$AD2))","v":8},{"$f":"INDIRECT(\"'関数（書き）'!C\" & COLUMN(K$1)+SUM($AD$2:$AD2))","v":123},{"$f":"INDIRECT(\"'関数（読み）'!C\" & COLUMN(B$1)+SUM($AD$2:$AD2))","v":182},{"$f":"INDIRECT(\"'関数（読み）'!C\" & COLUMN(C$1)+SUM($AD$2:$AD2))","v":24},{"$f":"INDIRECT(\"'関数（読み）'!C\" & COLUMN(D$1)+SUM($AD$2:$AD2))","v":171},{"$f":"INDIRECT(\"'関数（読み）'!C\" & COLUMN(E$1)+SUM($AD$2:$AD2))","v":153},{"$f":"INDIRECT(\"'関数（読み）'!C\" & COLUMN(F$1)+SUM($AD$2:$AD2))","v":184},{"$f":"INDIRECT(\"'関数（読み）'!C\" & COLUMN(G$1)+SUM($AD$2:$AD2))","v":172},{"$f":"INDIRECT(\"'関数（読み）'!C\" & COLUMN(H$1)+SUM($AD$2:$AD2))","v":23},{"$f":"INDIRECT(\"'関数（読み）'!C\" & COLUMN(I$1)+SUM($AD$2:$AD2))","v":164},{"$f":"INDIRECT(\"'関数（読み）'!C\" & COLUMN(J$1)+SUM($AD$2:$AD2))","v":104},{"$f":"INDIRECT(\"'関数（読み）'!C\" & COLUMN(K$1)+SUM($AD$2:$AD2))","v":174}]
["⑳","⑲","⑱","⑰","⑯","⑮","⑭","⑬","⑫","⑪","⑩","⑨","⑧","⑦","⑥","⑤","④","③","②","①","次の［　　　　］の部分の漢字には読みがなをひらがなで書き、カタカナは漢字に直しなさい。",15,"「漢字の博士検定試験」練習問題　",null,null,null,null,null,null,0,"問",1,"～",{"$f":"SUM($AD$2:$AD2)+10","v":10},"問まで",{"$f":"COUNTIF($A$1:$T$200,T3)","v":2}]
[{"$f":"IF(A1=\"\",\"\",VLOOKUP(A1,漢字書き!$A$2:$N$506,6,0))","v":"［チカラ］いっぱい"},{"$f":"IF(B1=\"\",\"\",VLOOKUP(B1,漢字書き!$A$2:$N$506,6,0))","v":"にわの［クサ］とり"},{"$f":"IF(C1=\"\",\"\",VLOOKUP(C1,漢字書き!$A$2:$N$506,6,0))","v":"［ソウ］ちょう"},{"$f":"IF(D1=\"\",\"\",VLOOKUP(D1,漢字書き!$A$2:$N$506,6,0))","v":"ふかい［カワ］"},{"$f":"IF(E1=\"\",\"\",VLOOKUP(E1,漢字書き!$A$2:$N$506,6,0))","v":"［ジョウ］たつする"},{"$f":"IF(F1=\"\",\"\",VLOOKUP(F1,漢字書き!$A$2:$N$506,6,0))","v":"こわい［イヌ］"},{"$f":"IF(G1=\"\",\"\",VLOOKUP(G1,漢字書き!$A$2:$N$506,6,0))","v":"［アメ］がふる"},{"$f":"IF(H1=\"\",\"\",VLOOKUP(H1,漢字書き!$A$2:$N$506,6,0))","v":"［クチ］に入れる"},{"$f":"IF(I1=\"\",\"\",VLOOKUP(I1,漢字書き!$A$2:$N$506,6,0))","v":"［イチエン］玉"},{"$f":"IF(J1=\"\",\"\",VLOOKUP(J1,漢字書き!$A$2:$N$506,6,0))","v":"［ムラ］のまつり"},{"$f":"IF(K1=\"\",\"\",VLOOKUP(K1,漢字読み!$A$2:$O$506,6,0))","v":"［力］いっぱい"},{"$f":"IF(L1=\"\",\"\",VLOOKUP(L1,漢字読み!$A$2:$O$506,6,0))","v":"［貝］のもよう"},{"$f":"IF(M1=\"\",\"\",VLOOKUP(M1,漢字読み!$A$2:$O$506,6,0))","v":"［本気］をだす"},{"$f":"IF(N1=\"\",\"\",VLOOKUP(N1,漢字読み!$A$2:$O$506,6,0))","v":"［入学］手つづき"},{"$f":"IF(O1=\"\",\"\",VLOOKUP(O1,漢字読み!$A$2:$O$506,6,0))","v":"［林］をあるく"},{"$f":"IF(P1=\"\",\"\",VLOOKUP(P1,漢字読み!$A$2:$O$506,6,0))","v":"［本］をよむ"},{"$f":"IF(Q1=\"\",\"\",VLOOKUP(Q1,漢字読み!$A$2:$O$506,6,0))","v":"［貝］がらをあつめる"},{"$f":"IF(R1=\"\",\"\",VLOOKUP(R1,漢字読み!$A$2:$O$506,6,0))","v":"［百］てんのテスト"},{"$f":"IF(S1=\"\",\"\",VLOOKUP(S1,漢字読み!$A$2:$O$506,6,0))","v":"［生］クリーム"},{"$f":"IF(T1=\"\",\"\",VLOOKUP(T1,漢字読み!$A$2:$O$506,6,0))","v":"［名字］をきく"},null,"級"]
[null,null,null,null,null,null,null,null,null,null,null,null,null,null,null,null,null,null,null,null,null,"名前"]
[{"$f":"IF(A1=\"\",\"\",IF(VLOOKUP(A1,漢字書き!$A$2:$N$502,7,0)=0,\"\",VLOOKUP(A1,漢字書き!$A$2:$N$502,7,0)))","v":""},{"$f":"IF(B1=\"\",\"\",IF(VLOOKUP(B1,漢字書き!$A$2:$N$502,7,0)=0,\"\",VLOOKUP(B1,漢字書き!$A$2:$N$502,7,0)))","v":"とり"},{"$f":"IF(C1=\"\",\"\",IF(VLOOKUP(C1,漢字書き!$A$2:$N$502,7,0)=0,\"\",VLOOKUP(C1,漢字書き!$A$2:$N$502,7,0)))","v":"ちょう"},{"$f":"IF(D1=\"\",\"\",IF(VLOOKUP(D1,漢字書き!$A$2:$N$502,7,0)=0,\"\",VLOOKUP(D1,漢字書き!$A$2:$N$502,7,0)))","v":""},{"$f":"IF(E1=\"\",\"\",IF(VLOOKUP(E1,漢字書き!$A$2:$N$502,7,0)=0,\"\",VLOOKUP(E1,漢字書き!$A$2:$N$502,7,0)))","v":"たつ"},{"$f":"IF(F1=\"\",\"\",IF(VLOOKUP(F1,漢字書き!$A$2:$N$502,7,0)=0,\"\",VLOOKUP(F1,漢字書き!$A$2:$N$502,7,0)))","v":""},{"$f":"IF(G1=\"\",\"\",IF(VLOOKUP(G1,漢字書き!$A$2:$N$502,7,0)=0,\"\",VLOOKUP(G1,漢字書き!$A$2:$N$502,7,0)))","v":""},{"$f":"IF(H1=\"\",\"\",IF(VLOOKUP(H1,漢字書き!$A$2:$N$502,7,0)=0,\"\",VLOOKUP(H1,漢字書き!$A$2:$N$502,7,0)))","v":""},{"$f":"IF(I1=\"\",\"\",IF(VLOOKUP(I1,漢字書き!$A$2:$N$502,7,0)=0,\"\",VLOOKUP(I1,漢字書き!$A$2:$N$502,7,0)))","v":"玉"},{"$f":"IF(J1=\"\",\"\",IF(VLOOKUP(J1,漢字書き!$A$2:$N$502,7,0)=0,\"\",VLOOKUP(J1,漢字書き!$A$2:$N$502,7,0)))","v":""},{"$f":"IF(K1=\"\",\"\",IF(VLOOKUP(K1,漢字読み!$A$2:$O$502,7,0)=0,\"\",VLOOKUP(K1,漢字読み!$A$2:$O$502,7,0)))","v":""},{"$f":"IF(L1=\"\",\"\",IF(VLOOKUP(L1,漢字読み!$A$2:$O$502,7,0)=0,\"\",VLOOKUP(L1,漢字読み!$A$2:$O$502,7,0)))","v":""},{"$f":"IF(M1=\"\",\"\",IF(VLOOKUP(M1,漢字読み!$A$2:$O$502,7,0)=0,\"\",VLOOKUP(M1,漢字読み!$A$2:$O$502,7,0)))","v":""},{"$f":"IF(N1=\"\",\"\",IF(VLOOKUP(N1,漢字読み!$A$2:$O$502,7,0)=0,\"\",VLOOKUP(N1,漢字読み!$A$2:$O$502,7,0)))","v":""},{"$f":"IF(O1=\"\",\"\",IF(VLOOKUP(O1,漢字読み!$A$2:$O$502,7,0)=0,\"\",VLOOKUP(O1,漢字読み!$A$2:$O$502,7,0)))","v":""},{"$f":"IF(P1=\"\",\"\",IF(VLOOKUP(P1,漢字読み!$A$2:$O$502,7,0)=0,\"\",VLOOKUP(P1,漢字読み!$A$2:$O$502,7,0)))","v":""},{"$f":"IF(Q1=\"\",\"\",IF(VLOOKUP(Q1,漢字読み!$A$2:$O$502,7,0)=0,\"\",VLOOKUP(Q1,漢字読み!$A$2:$O$502,7,0)))","v":"がら"},{"$f":"IF(R1=\"\",\"\",IF(VLOOKUP(R1,漢字読み!$A$2:$O$502,7,0)=0,\"\",VLOOKUP(R1,漢字読み!$A$2:$O$502,7,0)))","v":"てん"},{"$f":"IF(S1=\"\",\"\",IF(VLOOKUP(S1,漢字読み!$A$2:$O$502,7,0)=0,\"\",VLOOKUP(S1,漢字読み!$A$2:$O$502,7,0)))","v":"クリーム"},{"$f":"IF(T1=\"\",\"\",IF(VLOOKUP(T1,漢字読み!$A$2:$O$502,7,0)=0,\"\",VLOOKUP(T1,漢字読み!$A$2:$O$502,7,0)))","v":""},null,null,"和歌山県教育委員会"]
[{"$f":"INDIRECT(\"'関数（書き）'!C\" & COLUMN(B$1)+SUM($AD$2:$AD7))","v":88},{"$f":"INDIRECT(\"'関数（書き）'!C\" & COLUMN(C$1)+SUM($AD$2:$AD7))","v":41},{"$f":"INDIRECT(\"'関数（書き）'!C\" & COLUMN(D$1)+SUM($AD$2:$AD7))","v":151},{"$f":"INDIRECT(\"'関数（書き）'!C\" & COLUMN(E$1)+SUM($AD$2:$AD7))","v":158},{"$f":"INDIRECT(\"'関数（書き）'!C\" & COLUMN(F$1)+SUM($AD$2:$AD7))","v":40},{"$f":"INDIRECT(\"'関数（書き）'!C\" & COLUMN(G$1)+SUM($AD$2:$AD7))","v":112},{"$f":"INDIRECT(\"'関数（書き）'!C\" & COLUMN(H$1)+SUM($AD$2:$AD7))","v":46},{"$f":"INDIRECT(\"'関数（書き）'!C\" & COLUMN(I$1)+SUM($AD$2:$AD7))","v":75},{"$f":"INDIRECT(\"'関数（書き）'!C\" & COLUMN(J$1)+SUM($AD$2:$AD7))","v":175},{"$f":"INDIRECT(\"'関数（書き）'!C\" & COLUMN(K$1)+SUM($AD$2:$AD7))","v":141},{"$f":"INDIRECT(\"'関数（読み）'!C\" & COLUMN(B$1)+SUM($AD$2:$AD7))","v":159},{"$f":"INDIRECT(\"'関数（読み）'!C\" & COLUMN(C$1)+SUM($AD$2:$AD7))","v":160},{"$f":"INDIRECT(\"'関数（読み）'!C\" & COLUMN(D$1)+SUM($AD$2:$AD7))","v":91},{"$f":"INDIRECT(\"'関数（読み）'!C\" & COLUMN(E$1)+SUM($AD$2:$AD7))","v":167},{"$f":"INDIRECT(\"'関数（読み）'!C\" & COLUMN(F$1)+SUM($AD$2:$AD7))","v":66},{"$f":"INDIRECT(\"'関数（読み）'!C\" & COLUMN(G$1)+SUM($AD$2:$AD7))","v":72},{"$f":"INDIRECT(\"'関数（読み）'!C\" & COLUMN(H$1)+SUM($AD$2:$AD7))","v":110},{"$f":"INDIRECT(\"'関数（読み）'!C\" & COLUMN(I$1)+SUM($AD$2:$AD7))","v":127},{"$f":"INDIRECT(\"'関数（読み）'!C\" & COLUMN(J$1)+SUM($AD$2:$AD7))","v":139},{"$f":"INDIRECT(\"'関数（読み）'!C\" & COLUMN(K$1)+SUM($AD$2:$AD7))","v":12}]
["⑳","⑲","⑱","⑰","⑯","⑮","⑭","⑬","⑫","⑪","⑩","⑨","⑧","⑦","⑥","⑤","④","③","②","①","次の［　　　　］の部分の漢字には読みがなをひらがなで書き、カタカナは漢字に直しなさい。",15,"「漢字の博士検定試験」練習問題　",null,null,null,null,null,"←",10,"問",{"$f":"AH2+1","v":11},"～",{"$f":"SUM($AD$2:$AD7)+10","v":20},"問まで",{"$f":"COUNTIF($A$1:$T$200,T8)","v":2}]
[{"$f":"IF(A6=\"\",\"\",VLOOKUP(A6,漢字書き!$A$2:$N$506,6,0))","v":"［モリ］のくまさん"},{"$f":"IF(B6=\"\",\"\",VLOOKUP(B6,漢字書き!$A$2:$N$506,6,0))","v":"［ツキ］へのたび"},{"$f":"IF(C6=\"\",\"\",VLOOKUP(C6,漢字書き!$A$2:$N$506,6,0))","v":"あたらしい［トシ］"},{"$f":"IF(D6=\"\",\"\",VLOOKUP(D6,漢字書き!$A$2:$N$506,6,0))","v":"［ブンガク］をよむ"},{"$f":"IF(E6=\"\",\"\",VLOOKUP(E6,漢字書き!$A$2:$N$506,6,0))","v":"［ゲツ］よう日"},{"$f":"IF(F6=\"\",\"\",VLOOKUP(F6,漢字書き!$A$2:$N$506,6,0))","v":"［センセイ］にはなす"},{"$f":"IF(G6=\"\",\"\",VLOOKUP(G6,漢字書き!$A$2:$N$506,6,0))","v":"まえを［ミ］る"},{"$f":"IF(H6=\"\",\"\",VLOOKUP(H6,漢字書き!$A$2:$N$506,6,0))","v":"［ジュウネン］先"},{"$f":"IF(I6=\"\",\"\",VLOOKUP(I6,漢字書き!$A$2:$N$506,6,0))","v":"［ロク］年生"},{"$f":"IF(J6=\"\",\"\",VLOOKUP(J6,漢字書き!$A$2:$N$506,6,0))","v":"ねん［ド］であそぶ"},{"$f":"IF(K6=\"\",\"\",VLOOKUP(K6,漢字読み!$A$2:$O$506,6,0))","v":"［白］いくも"},{"$f":"IF(L6=\"\",\"\",VLOOKUP(L6,漢字読み!$A$2:$O$506,6,0))","v":"［八月］がすき"},{"$f":"IF(M6=\"\",\"\",VLOOKUP(M6,漢字読み!$A$2:$O$506,6,0))","v":"［日本人］"},{"$f":"IF(N6=\"\",\"\",VLOOKUP(N6,漢字読み!$A$2:$O$506,6,0))","v":"［木目］にそう"},{"$f":"IF(O6=\"\",\"\",VLOOKUP(O6,漢字読み!$A$2:$O$506,6,0))","v":"［糸］でんわ"},{"$f":"IF(P6=\"\",\"\",VLOOKUP(P6,漢字読み!$A$2:$O$506,6,0))","v":"きゅうきゅう［車］"},{"$f":"IF(Q6=\"\",\"\",VLOOKUP(Q6,漢字読み!$A$2:$O$506,6,0))","v":"［石］たんをほる"},{"$f":"IF(R6=\"\",\"\",VLOOKUP(R6,漢字読み!$A$2:$O$506,6,0))","v":"［村］ちょうさん"},{"$f":"IF(S6=\"\",\"\",VLOOKUP(S6,漢字読み!$A$2:$O$506,6,0))","v":"［虫］をとる"},{"$f":"IF(T6=\"\",\"\",VLOOKUP(T6,漢字読み!$A$2:$O$506,6,0))","v":"［音］がくしつ"},null,"級"]
[null,null,null,null,null,null,null,null,null,null,null,null,null,null,null,null,null,null,null,null,null,"名前"]
[{"$f":"IF(A6=\"\",\"\",IF(VLOOKUP(A6,漢字書き!$A$2:$N$502,7,0)=0,\"\",VLOOKUP(A6,漢字書き!$A$2:$N$502,7,0)))","v":""},{"$f":"IF(B6=\"\",\"\",IF(VLOOKUP(B6,漢字書き!$A$2:$N$502,7,0)=0,\"\",VLOOKUP(B6,漢字書き!$A$2:$N$502,7,0)))","v":""},{"$f":"IF(C6=\"\",\"\",IF(VLOOKUP(C6,漢字書き!$A$2:$N$502,7,0)=0,\"\",VLOOKUP(C6,漢字書き!$A$2:$N$502,7,0)))","v":""},{"$f":"IF(D6=\"\",\"\",IF(VLOOKUP(D6,漢字書き!$A$2:$N$502,7,0)=0,\"\",VLOOKUP(D6,漢字書き!$A$2:$N$502,7,0)))","v":""},{"$f":"IF(E6=\"\",\"\",IF(VLOOKUP(E6,漢字書き!$A$2:$N$502,7,0)=0,\"\",VLOOKUP(E6,漢字書き!$A$2:$N$502,7,0)))","v":"よう"},{"$f":"IF(F6=\"\",\"\",IF(VLOOKUP(F6,漢字書き!$A$2:$N$502,7,0)=0,\"\",VLOOKUP(F6,漢字書き!$A$2:$N$502,7,0)))","v":""},{"$f":"IF(G6=\"\",\"\",IF(VLOOKUP(G6,漢字書き!$A$2:$N$502,7,0)=0,\"\",VLOOKUP(G6,漢字書き!$A$2:$N$502,7,0)))","v":"る"},{"$f":"IF(H6=\"\",\"\",IF(VLOOKUP(H6,漢字書き!$A$2:$N$502,7,0)=0,\"\",VLOOKUP(H6,漢字書き!$A$2:$N$502,7,0)))","v":"先"},{"$f":"IF(I6=\"\",\"\",IF(VLOOKUP(I6,漢字書き!$A$2:$N$502,7,0)=0,\"\",VLOOKUP(I6,漢字書き!$A$2:$N$502,7,0)))","v":"年"},{"$f":"IF(J6=\"\",\"\",IF(VLOOKUP(J6,漢字書き!$A$2:$N$502,7,0)=0,\"\",VLOOKUP(J6,漢字書き!$A$2:$N$502,7,0)))","v":""},{"$f":"IF(K6=\"\",\"\",IF(VLOOKUP(K6,漢字読み!$A$2:$O$502,7,0)=0,\"\",VLOOKUP(K6,漢字読み!$A$2:$O$502,7,0)))","v":"い"},{"$f":"IF(L6=\"\",\"\",IF(VLOOKUP(L6,漢字読み!$A$2:$O$502,7,0)=0,\"\",VLOOKUP(L6,漢字読み!$A$2:$O$502,7,0)))","v":""},{"$f":"IF(M6=\"\",\"\",IF(VLOOKUP(M6,漢字読み!$A$2:$O$502,7,0)=0,\"\",VLOOKUP(M6,漢字読み!$A$2:$O$502,7,0)))","v":""},{"$f":"IF(N6=\"\",\"\",IF(VLOOKUP(N6,漢字読み!$A$2:$O$502,7,0)=0,\"\",VLOOKUP(N6,漢字読み!$A$2:$O$502,7,0)))","v":""},{"$f":"IF(O6=\"\",\"\",IF(VLOOKUP(O6,漢字読み!$A$2:$O$502,7,0)=0,\"\",VLOOKUP(O6,漢字読み!$A$2:$O$502,7,0)))","v":""},{"$f":"IF(P6=\"\",\"\",IF(VLOOKUP(P6,漢字読み!$A$2:$O$502,7,0)=0,\"\",VLOOKUP(P6,漢字読み!$A$2:$O$502,7,0)))","v":""},{"$f":"IF(Q6=\"\",\"\",IF(VLOOKUP(Q6,漢字読み!$A$2:$O$502,7,0)=0,\"\",VLOOKUP(Q6,漢字読み!$A$2:$O$502,7,0)))","v":"たん"},{"$f":"IF(R6=\"\",\"\",IF(VLOOKUP(R6,漢字読み!$A$2:$O$502,7,0)=0,\"\",VLOOKUP(R6,漢字読み!$A$2:$O$502,7,0)))","v":"ちょうさん"},{"$f":"IF(S6=\"\",\"\",IF(VLOOKUP(S6,漢字読み!$A$2:$O$502,7,0)=0,\"\",VLOOKUP(S6,漢字読み!$A$2:$O$502,7,0)))","v":""},{"$f":"IF(T6=\"\",\"\",IF(VLOOKUP(T6,漢字読み!$A$2:$O$502,7,0)=0,\"\",VLOOKUP(T6,漢字読み!$A$2:$O$502,7,0)))","v":"がく"},null,null,"和歌山県教育委員会"]
[{"$f":"A1","v":171},{"$f":"B1","v":118},114,110,85,44,6,50,8,123,182,24,171,153,184,172,23,164,104,174]
["⑳","⑲","⑱","⑰","⑯","⑮","⑭","⑬","⑫","⑪","⑩","⑨","⑧","⑦","⑥","⑤","④","③","②","①","次の［　　　　］の部分の漢字には読みがなをひらがなで書き、カタカナは漢字に直しなさい。",15,"「漢字の博士検定試験」練習問題　"]
[{"$f":"IF(A11=\"\",\"\",VLOOKUP(A11,漢字書き!$A$2:$N$506,6,0))","v":"［チカラ］いっぱい"},{"$f":"IF(B11=\"\",\"\",VLOOKUP(B11,漢字書き!$A$2:$N$506,6,0))","v":"にわの［クサ］とり"},{"$f":"IF(C11=\"\",\"\",VLOOKUP(C11,漢字書き!$A$2:$N$506,6,0))","v":"［ソウ］ちょう"},{"$f":"IF(D11=\"\",\"\",VLOOKUP(D11,漢字書き!$A$2:$N$506,6,0))","v":"ふかい［カワ］"},{"$f":"IF(E11=\"\",\"\",VLOOKUP(E11,漢字書き!$A$2:$N$506,6,0))","v":"［ジョウ］たつする"},{"$f":"IF(F11=\"\",\"\",VLOOKUP(F11,漢字書き!$A$2:$N$506,6,0))","v":"こわい［イヌ］"},{"$f":"IF(G11=\"\",\"\",VLOOKUP(G11,漢字書き!$A$2:$N$506,6,0))","v":"［アメ］がふる"},{"$f":"IF(H11=\"\",\"\",VLOOKUP(H11,漢字書き!$A$2:$N$506,6,0))","v":"［クチ］に入れる"},{"$f":"IF(I11=\"\",\"\",VLOOKUP(I11,漢字書き!$A$2:$N$506,6,0))","v":"［イチエン］玉"},{"$f":"IF(J11=\"\",\"\",VLOOKUP(J11,漢字書き!$A$2:$N$506,6,0))","v":"［ムラ］のまつり"},{"$f":"IF(K11=\"\",\"\",VLOOKUP(K11,漢字読み!$A$2:$O$506,6,0))","v":"［力］いっぱい"},{"$f":"IF(L11=\"\",\"\",VLOOKUP(L11,漢字読み!$A$2:$O$506,6,0))","v":"［貝］のもよう"},{"$f":"IF(M11=\"\",\"\",VLOOKUP(M11,漢字読み!$A$2:$O$506,6,0))","v":"［本気］をだす"},{"$f":"IF(N11=\"\",\"\",VLOOKUP(N11,漢字読み!$A$2:$O$506,6,0))","v":"［入学］手つづき"},{"$f":"IF(O11=\"\",\"\",VLOOKUP(O11,漢字読み!$A$2:$O$506,6,0))","v":"［林］をあるく"},{"$f":"IF(P11=\"\",\"\",VLOOKUP(P11,漢字読み!$A$2:$O$506,6,0))","v":"［本］をよむ"},{"$f":"IF(Q11=\"\",\"\",VLOOKUP(Q11,漢字読み!$A$2:$O$506,6,0))","v":"［貝］がらをあつめる"},{"$f":"IF(R11=\"\",\"\",VLOOKUP(R11,漢字読み!$A$2:$O$506,6,0))","v":"［百］てんのテスト"},{"$f":"IF(S11=\"\",\"\",VLOOKUP(S11,漢字読み!$A$2:$O$506,6,0))","v":"［生］クリーム"},{"$f":"IF(T11=\"\",\"\",VLOOKUP(T11,漢字読み!$A$2:$O$506,6,0))","v":"［名字］をきく"},null,"級"]
[{"$f":"IF(A$11=\"\",\"\",VLOOKUP(A11,漢字書き!$A$2:$O$506,8,0))","v":"力"},{"$f":"IF(B$11=\"\",\"\",VLOOKUP(B11,漢字書き!$A$2:$O$506,8,0))","v":"草"},{"$f":"IF(C$11=\"\",\"\",VLOOKUP(C11,漢字書き!$A$2:$O$506,8,0))","v":"早"},{"$f":"IF(D$11=\"\",\"\",VLOOKUP(D11,漢字書き!$A$2:$O$506,8,0))","v":"川"},{"$f":"IF(E$11=\"\",\"\",VLOOKUP(E11,漢字書き!$A$2:$O$506,8,0))","v":"上"},{"$f":"IF(F$11=\"\",\"\",VLOOKUP(F11,漢字書き!$A$2:$O$506,8,0))","v":"犬"},{"$f":"IF(G$11=\"\",\"\",VLOOKUP(G11,漢字書き!$A$2:$O$506,8,0))","v":"雨"},{"$f":"IF(H$11=\"\",\"\",VLOOKUP(H11,漢字書き!$A$2:$O$506,8,0))","v":"口"},{"$f":"IF(I$11=\"\",\"\",VLOOKUP(I11,漢字書き!$A$2:$O$506,8,0))","v":"一円"},{"$f":"IF(J$11=\"\",\"\",VLOOKUP(J11,漢字書き!$A$2:$O$506,8,0))","v":"村"},{"$f":"IF(K$11=\"\",\"\",VLOOKUP(K11,漢字読み!$A$2:$O$506,8,0))","v":"ちから"},{"$f":"IF(L$11=\"\",\"\",VLOOKUP(L11,漢字読み!$A$2:$O$506,8,0))","v":"かい"},{"$f":"IF(M$11=\"\",\"\",VLOOKUP(M11,漢字読み!$A$2:$O$506,8,0))","v":"ほんき"},{"$f":"IF(N$11=\"\",\"\",VLOOKUP(N11,漢字読み!$A$2:$O$506,8,0))","v":"にゅうがく"},{"$f":"IF(O$11=\"\",\"\",VLOOKUP(O11,漢字読み!$A$2:$O$506,8,0))","v":"はやし"},{"$f":"IF(P$11=\"\",\"\",VLOOKUP(P11,漢字読み!$A$2:$O$506,8,0))","v":"ほん"},{"$f":"IF(Q$11=\"\",\"\",VLOOKUP(Q11,漢字読み!$A$2:$O$506,8,0))","v":"かい"},{"$f":"IF(R$11=\"\",\"\",VLOOKUP(R11,漢字読み!$A$2:$O$506,8,0))","v":"ひゃく"},{"$f":"IF(S$11=\"\",\"\",VLOOKUP(S11,漢字読み!$A$2:$O$506,8,0))","v":"なま"},{"$f":"IF(T$11=\"\",\"\",VLOOKUP(T11,漢字読み!$A$2:$O$506,8,0))","v":"みょうじ"},null,"名前"]
[{"$f":"IF(A11=\"\",\"\",IF(VLOOKUP(A11,漢字書き!$A$2:$N$502,7,0)=0,\"\",VLOOKUP(A11,漢字書き!$A$2:$N$502,7,0)))","v":""},{"$f":"IF(B11=\"\",\"\",IF(VLOOKUP(B11,漢字書き!$A$2:$N$502,7,0)=0,\"\",VLOOKUP(B11,漢字書き!$A$2:$N$502,7,0)))","v":"とり"},{"$f":"IF(C11=\"\",\"\",IF(VLOOKUP(C11,漢字書き!$A$2:$N$502,7,0)=0,\"\",VLOOKUP(C11,漢字書き!$A$2:$N$502,7,0)))","v":"ちょう"},{"$f":"IF(D11=\"\",\"\",IF(VLOOKUP(D11,漢字書き!$A$2:$N$502,7,0)=0,\"\",VLOOKUP(D11,漢字書き!$A$2:$N$502,7,0)))","v":""},{"$f":"IF(E11=\"\",\"\",IF(VLOOKUP(E11,漢字書き!$A$2:$N$502,7,0)=0,\"\",VLOOKUP(E11,漢字書き!$A$2:$N$502,7,0)))","v":"たつ"},{"$f":"IF(F11=\"\",\"\",IF(VLOOKUP(F11,漢字書き!$A$2:$N$502,7,0)=0,\"\",VLOOKUP(F11,漢字書き!$A$2:$N$502,7,0)))","v":""},{"$f":"IF(G11=\"\",\"\",IF(VLOOKUP(G11,漢字書き!$A$2:$N$502,7,0)=0,\"\",VLOOKUP(G11,漢字書き!$A$2:$N$502,7,0)))","v":""},{"$f":"IF(H11=\"\",\"\",IF(VLOOKUP(H11,漢字書き!$A$2:$N$502,7,0)=0,\"\",VLOOKUP(H11,漢字書き!$A$2:$N$502,7,0)))","v":""},{"$f":"IF(I11=\"\",\"\",IF(VLOOKUP(I11,漢字書き!$A$2:$N$502,7,0)=0,\"\",VLOOKUP(I11,漢字書き!$A$2:$N$502,7,0)))","v":"玉"},{"$f":"IF(J11=\"\",\"\",IF(VLOOKUP(J11,漢字書き!$A$2:$N$502,7,0)=0,\"\",VLOOKUP(J11,漢字書き!$A$2:$N$502,7,0)))","v":""},{"$f":"IF(K11=\"\",\"\",IF(VLOOKUP(K11,漢字読み!$A$2:$O$502,7,0)=0,\"\",VLOOKUP(K11,漢字読み!$A$2:$O$502,7,0)))","v":""},{"$f":"IF(L11=\"\",\"\",IF(VLOOKUP(L11,漢字読み!$A$2:$O$502,7,0)=0,\"\",VLOOKUP(L11,漢字読み!$A$2:$O$502,7,0)))","v":""},{"$f":"IF(M11=\"\",\"\",IF(VLOOKUP(M11,漢字読み!$A$2:$O$502,7,0)=0,\"\",VLOOKUP(M11,漢字読み!$A$2:$O$502,7,0)))","v":""},{"$f":"IF(N11=\"\",\"\",IF(VLOOKUP(N11,漢字読み!$A$2:$O$502,7,0)=0,\"\",VLOOKUP(N11,漢字読み!$A$2:$O$502,7,0)))","v":""},{"$f":"IF(O11=\"\",\"\",IF(VLOOKUP(O11,漢字読み!$A$2:$O$502,7,0)=0,\"\",VLOOKUP(O11,漢字読み!$A$2:$O$502,7,0)))","v":""},{"$f":"IF(P11=\"\",\"\",IF(VLOOKUP(P11,漢字読み!$A$2:$O$502,7,0)=0,\"\",VLOOKUP(P11,漢字読み!$A$2:$O$502,7,0)))","v":""},{"$f":"IF(Q11=\"\",\"\",IF(VLOOKUP(Q11,漢字読み!$A$2:$O$502,7,0)=0,\"\",VLOOKUP(Q11,漢字読み!$A$2:$O$502,7,0)))","v":"がら"},{"$f":"IF(R11=\"\",\"\",IF(VLOOKUP(R11,漢字読み!$A$2:$O$502,7,0)=0,\"\",VLOOKUP(R11,漢字読み!$A$2:$O$502,7,0)))","v":"てん"},{"$f":"IF(S11=\"\",\"\",IF(VLOOKUP(S11,漢字読み!$A$2:$O$502,7,0)=0,\"\",VLOOKUP(S11,漢字読み!$A$2:$O$502,7,0)))","v":"クリーム"},{"$f":"IF(T11=\"\",\"\",IF(VLOOKUP(T11,漢字読み!$A$2:$O$502,7,0)=0,\"\",VLOOKUP(T11,漢字読み!$A$2:$O$502,7,0)))","v":""},null,null,"和歌山県教育委員会"]
[{"$f":"A6","v":88},{"$f":"B6","v":41},151,158,40,112,46,75,175,141,159,160,91,167,66,72,110,127,139,12]
["⑳","⑲","⑱","⑰","⑯","⑮","⑭","⑬","⑫","⑪","⑩","⑨","⑧","⑦","⑥","⑤","④","③","②","①","次の［　　　　］の部分の漢字には読みがなをひらがなで書き、カタカナは漢字に直しなさい。",15,"「漢字の博士検定試験」練習問題　"]
[{"$f":"IF(A16=\"\",\"\",VLOOKUP(A16,漢字書き!$A$2:$N$506,6,0))","v":"［モリ］のくまさん"},{"$f":"IF(B16=\"\",\"\",VLOOKUP(B16,漢字書き!$A$2:$N$506,6,0))","v":"［ツキ］へのたび"},{"$f":"IF(C16=\"\",\"\",VLOOKUP(C16,漢字書き!$A$2:$N$506,6,0))","v":"あたらしい［トシ］"},{"$f":"IF(D16=\"\",\"\",VLOOKUP(D16,漢字書き!$A$2:$N$506,6,0))","v":"［ブンガク］をよむ"},{"$f":"IF(E16=\"\",\"\",VLOOKUP(E16,漢字書き!$A$2:$N$506,6,0))","v":"［ゲツ］よう日"},{"$f":"IF(F16=\"\",\"\",VLOOKUP(F16,漢字書き!$A$2:$N$506,6,0))","v":"［センセイ］にはなす"},{"$f":"IF(G16=\"\",\"\",VLOOKUP(G16,漢字書き!$A$2:$N$506,6,0))","v":"まえを［ミ］る"},{"$f":"IF(H16=\"\",\"\",VLOOKUP(H16,漢字書き!$A$2:$N$506,6,0))","v":"［ジュウネン］先"},{"$f":"IF(I16=\"\",\"\",VLOOKUP(I16,漢字書き!$A$2:$N$506,6,0))","v":"［ロク］年生"},{"$f":"IF(J16=\"\",\"\",VLOOKUP(J16,漢字書き!$A$2:$N$506,6,0))","v":"ねん［ド］であそぶ"},{"$f":"IF(K16=\"\",\"\",VLOOKUP(K16,漢字読み!$A$2:$O$506,6,0))","v":"［白］いくも"},{"$f":"IF(L16=\"\",\"\",VLOOKUP(L16,漢字読み!$A$2:$O$506,6,0))","v":"［八月］がすき"},{"$f":"IF(M16=\"\",\"\",VLOOKUP(M16,漢字読み!$A$2:$O$506,6,0))","v":"［日本人］"},{"$f":"IF(N16=\"\",\"\",VLOOKUP(N16,漢字読み!$A$2:$O$506,6,0))","v":"［木目］にそう"},{"$f":"IF(O16=\"\",\"\",VLOOKUP(O16,漢字読み!$A$2:$O$506,6,0))","v":"［糸］でんわ"},{"$f":"IF(P16=\"\",\"\",VLOOKUP(P16,漢字読み!$A$2:$O$506,6,0))","v":"きゅうきゅう［車］"},{"$f":"IF(Q16=\"\",\"\",VLOOKUP(Q16,漢字読み!$A$2:$O$506,6,0))","v":"［石］たんをほる"},{"$f":"IF(R16=\"\",\"\",VLOOKUP(R16,漢字読み!$A$2:$O$506,6,0))","v":"［村］ちょうさん"},{"$f":"IF(S16=\"\",\"\",VLOOKUP(S16,漢字読み!$A$2:$O$506,6,0))","v":"［虫］をとる"},{"$f":"IF(T16=\"\",\"\",VLOOKUP(T16,漢字読み!$A$2:$O$506,6,0))","v":"［音］がくしつ"},null,"級"]
[{"$f":"IF(A$16=\"\",\"\",VLOOKUP(A16,漢字書き!$A$2:$O$506,8,0))","v":"森"},{"$f":"IF(B$16=\"\",\"\",VLOOKUP(B16,漢字書き!$A$2:$O$506,8,0))","v":"月"},{"$f":"IF(C$16=\"\",\"\",VLOOKUP(C16,漢字書き!$A$2:$O$506,8,0))","v":"年"},{"$f":"IF(D$16=\"\",\"\",VLOOKUP(D16,漢字書き!$A$2:$O$506,8,0))","v":"文学"},{"$f":"IF(E$16=\"\",\"\",VLOOKUP(E16,漢字書き!$A$2:$O$506,8,0))","v":"月"},{"$f":"IF(F$16=\"\",\"\",VLOOKUP(F16,漢字書き!$A$2:$O$506,8,0))","v":"先生"},{"$f":"IF(G$16=\"\",\"\",VLOOKUP(G16,漢字書き!$A$2:$O$506,8,0))","v":"見"},{"$f":"IF(H$16=\"\",\"\",VLOOKUP(H16,漢字書き!$A$2:$O$506,8,0))","v":"十年"},{"$f":"IF(I$16=\"\",\"\",VLOOKUP(I16,漢字書き!$A$2:$O$506,8,0))","v":"六"},{"$f":"IF(J$16=\"\",\"\",VLOOKUP(J16,漢字書き!$A$2:$O$506,8,0))","v":"土"},{"$f":"IF(K$16=\"\",\"\",VLOOKUP(K16,漢字読み!$A$2:$O$506,8,0))","v":"しろ"},{"$f":"IF(L$16=\"\",\"\",VLOOKUP(L16,漢字読み!$A$2:$O$506,8,0))","v":"はちがつ"},{"$f":"IF(M$16=\"\",\"\",VLOOKUP(M16,漢字読み!$A$2:$O$506,8,0))","v":"にほんじん"},{"$f":"IF(N$16=\"\",\"\",VLOOKUP(N16,漢字読み!$A$2:$O$506,8,0))","v":"もくめ"},{"$f":"IF(O$16=\"\",\"\",VLOOKUP(O16,漢字読み!$A$2:$O$506,8,0))","v":"いと"},{"$f":"IF(P$16=\"\",\"\",VLOOKUP(P16,漢字読み!$A$2:$O$506,8,0))","v":"しゃ"},{"$f":"IF(Q$16=\"\",\"\",VLOOKUP(Q16,漢字読み!$A$2:$O$506,8,0))","v":"せき"},{"$f":"IF(R$16=\"\",\"\",VLOOKUP(R16,漢字読み!$A$2:$O$506,8,0))","v":"そん"},{"$f":"IF(S$16=\"\",\"\",VLOOKUP(S16,漢字読み!$A$2:$O$506,8,0))","v":"むし"},{"$f":"IF(T$16=\"\",\"\",VLOOKUP(T16,漢字読み!$A$2:$O$506,8,0))","v":"おん"},null,"名前"]
[{"$f":"IF(A16=\"\",\"\",IF(VLOOKUP(A16,漢字書き!$A$2:$N$502,7,0)=0,\"\",VLOOKUP(A16,漢字書き!$A$2:$N$502,7,0)))","v":""},{"$f":"IF(B16=\"\",\"\",IF(VLOOKUP(B16,漢字書き!$A$2:$N$502,7,0)=0,\"\",VLOOKUP(B16,漢字書き!$A$2:$N$502,7,0)))","v":""},{"$f":"IF(C16=\"\",\"\",IF(VLOOKUP(C16,漢字書き!$A$2:$N$502,7,0)=0,\"\",VLOOKUP(C16,漢字書き!$A$2:$N$502,7,0)))","v":""},{"$f":"IF(D16=\"\",\"\",IF(VLOOKUP(D16,漢字書き!$A$2:$N$502,7,0)=0,\"\",VLOOKUP(D16,漢字書き!$A$2:$N$502,7,0)))","v":""},{"$f":"IF(E16=\"\",\"\",IF(VLOOKUP(E16,漢字書き!$A$2:$N$502,7,0)=0,\"\",VLOOKUP(E16,漢字書き!$A$2:$N$502,7,0)))","v":"よう"},{"$f":"IF(F16=\"\",\"\",IF(VLOOKUP(F16,漢字書き!$A$2:$N$502,7,0)=0,\"\",VLOOKUP(F16,漢字書き!$A$2:$N$502,7,0)))","v":""},{"$f":"IF(G16=\"\",\"\",IF(VLOOKUP(G16,漢字書き!$A$2:$N$502,7,0)=0,\"\",VLOOKUP(G16,漢字書き!$A$2:$N$502,7,0)))","v":"る"},{"$f":"IF(H16=\"\",\"\",IF(VLOOKUP(H16,漢字書き!$A$2:$N$502,7,0)=0,\"\",VLOOKUP(H16,漢字書き!$A$2:$N$502,7,0)))","v":"先"},{"$f":"IF(I16=\"\",\"\",IF(VLOOKUP(I16,漢字書き!$A$2:$N$502,7,0)=0,\"\",VLOOKUP(I16,漢字書き!$A$2:$N$502,7,0)))","v":"年"},{"$f":"IF(J16=\"\",\"\",IF(VLOOKUP(J16,漢字書き!$A$2:$N$502,7,0)=0,\"\",VLOOKUP(J16,漢字書き!$A$2:$N$502,7,0)))","v":""},{"$f":"IF(K16=\"\",\"\",IF(VLOOKUP(K16,漢字読み!$A$2:$O$502,7,0)=0,\"\",VLOOKUP(K16,漢字読み!$A$2:$O$502,7,0)))","v":"い"},{"$f":"IF(L16=\"\",\"\",IF(VLOOKUP(L16,漢字読み!$A$2:$O$502,7,0)=0,\"\",VLOOKUP(L16,漢字読み!$A$2:$O$502,7,0)))","v":""},{"$f":"IF(M16=\"\",\"\",IF(VLOOKUP(M16,漢字読み!$A$2:$O$502,7,0)=0,\"\",VLOOKUP(M16,漢字読み!$A$2:$O$502,7,0)))","v":""},{"$f":"IF(N16=\"\",\"\",IF(VLOOKUP(N16,漢字読み!$A$2:$O$502,7,0)=0,\"\",VLOOKUP(N16,漢字読み!$A$2:$O$502,7,0)))","v":""},{"$f":"IF(O16=\"\",\"\",IF(VLOOKUP(O16,漢字読み!$A$2:$O$502,7,0)=0,\"\",VLOOKUP(O16,漢字読み!$A$2:$O$502,7,0)))","v":""},{"$f":"IF(P16=\"\",\"\",IF(VLOOKUP(P16,漢字読み!$A$2:$O$502,7,0)=0,\"\",VLOOKUP(P16,漢字読み!$A$2:$O$502,7,0)))","v":""},{"$f":"IF(Q16=\"\",\"\",IF(VLOOKUP(Q16,漢字読み!$A$2:$O$502,7,0)=0,\"\",VLOOKUP(Q16,漢字読み!$A$2:$O$502,7,0)))","v":"たん"},{"$f":"IF(R16=\"\",\"\",IF(VLOOKUP(R16,漢字読み!$A$2:$O$502,7,0)=0,\"\",VLOOKUP(R16,漢字読み!$A$2:$O$502,7,0)))","v":"ちょうさん"},{"$f":"IF(S16=\"\",\"\",IF(VLOOKUP(S16,漢字読み!$A$2:$O$502,7,0)=0,\"\",VLOOKUP(S16,漢字読み!$A$2:$O$502,7,0)))","v":""},{"$f":"IF(T16=\"\",\"\",IF(VLOOKUP(T16,漢字読み!$A$2:$O$502,7,0)=0,\"\",VLOOKUP(T16,漢字読み!$A$2:$O$502,7,0)))","v":"がく"},null,null,"和歌山県教育委員会"]
[{"$f":"INDIRECT(\"'関数（書き）'!C\" & COLUMN(B$1)+SUM($AD$2:$AD22))","v":11},{"$f":"INDIRECT(\"'関数（書き）'!C\" & COLUMN(C$1)+SUM($AD$2:$AD22))","v":169},{"$f":"INDIRECT(\"'関数（書き）'!C\" & COLUMN(D$1)+SUM($AD$2:$AD22))","v":156},{"$f":"INDIRECT(\"'関数（書き）'!C\" & COLUMN(E$1)+SUM($AD$2:$AD22))","v":127},{"$f":"INDIRECT(\"'関数（書き）'!C\" & COLUMN(F$1)+SUM($AD$2:$AD22))","v":132},{"$f":"INDIRECT(\"'関数（書き）'!C\" & COLUMN(G$1)+SUM($AD$2:$AD22))","v":60},{"$f":"INDIRECT(\"'関数（書き）'!C\" & COLUMN(H$1)+SUM($AD$2:$AD22))","v":116},{"$f":"INDIRECT(\"'関数（書き）'!C\" & COLUMN(I$1)+SUM($AD$2:$AD22))","v":9},{"$f":"INDIRECT(\"'関数（書き）'!C\" & COLUMN(J$1)+SUM($AD$2:$AD22))","v":21},{"$f":"INDIRECT(\"'関数（書き）'!C\" & COLUMN(K$1)+SUM($AD$2:$AD22))","v":133},{"$f":"INDIRECT(\"'関数（読み）'!C\" & COLUMN(B$1)+SUM($AD$2:$AD22))","v":2},{"$f":"INDIRECT(\"'関数（読み）'!C\" & COLUMN(C$1)+SUM($AD$2:$AD22))","v":100},{"$f":"INDIRECT(\"'関数（読み）'!C\" & COLUMN(D$1)+SUM($AD$2:$AD22))","v":152},{"$f":"INDIRECT(\"'関数（読み）'!C\" & COLUMN(E$1)+SUM($AD$2:$AD22))","v":105},{"$f":"INDIRECT(\"'関数（読み）'!C\" & COLUMN(F$1)+SUM($AD$2:$AD22))","v":25},{"$f":"INDIRECT(\"'関数（読み）'!C\" & COLUMN(G$1)+SUM($AD$2:$AD22))","v":106},{"$f":"INDIRECT(\"'関数（読み）'!C\" & COLUMN(H$1)+SUM($AD$2:$AD22))","v":121},{"$f":"INDIRECT(\"'関数（読み）'!C\" & COLUMN(I$1)+SUM($AD$2:$AD22))","v":85},{"$f":"INDIRECT(\"'関数（読み）'!C\" & COLUMN(J$1)+SUM($AD$2:$AD22))","v":131},{"$f":"INDIRECT(\"'関数（読み）'!C\" & COLUMN(K$1)+SUM($AD$2:$AD22))","v":52}]
["⑳","⑲","⑱","⑰","⑯","⑮","⑭","⑬","⑫","⑪","⑩","⑨","⑧","⑦","⑥","⑤","④","③","②","①","次の［　　　　］の部分の漢字には読みがなをひらがなで書き、カタカナは漢字に直しなさい。",15,"「漢字の博士検定試験」練習問題　",null,null,null,null,null,"←",10,"問",{"$f":"AH7+1","v":21},"～",{"$f":"SUM($AD$2:$AD22)+10","v":30},"問まで",{"$f":"COUNTIF($A$1:$T$200,T23)","v":2}]
[{"$f":"IF(A21=\"\",\"\",VLOOKUP(A21,漢字書き!$A$2:$N$506,6,0))","v":"［オン］がくしつ"},{"$f":"IF(B21=\"\",\"\",VLOOKUP(B21,漢字書き!$A$2:$N$506,6,0))","v":"いすから［タ］つ"},{"$f":"IF(C21=\"\",\"\",VLOOKUP(C21,漢字書き!$A$2:$N$506,6,0))","v":"［ゴヒャクエン］玉"},{"$f":"IF(D21=\"\",\"\",VLOOKUP(D21,漢字書き!$A$2:$N$506,6,0))","v":"［オトコ］の子"},{"$f":"IF(E21=\"\",\"\",VLOOKUP(E21,漢字書き!$A$2:$N$506,6,0))","v":"こん［チュウ］"},{"$f":"IF(F21=\"\",\"\",VLOOKUP(F21,漢字書き!$A$2:$N$506,6,0))","v":"［ダンシ］トイレ"},{"$f":"IF(G21=\"\",\"\",VLOOKUP(G21,漢字書き!$A$2:$N$506,6,0))","v":"ざっ［ソウ］をぬく"},{"$f":"IF(H21=\"\",\"\",VLOOKUP(H21,漢字書き!$A$2:$N$506,6,0))","v":"はだかの［オウ］さま"},{"$f":"IF(I21=\"\",\"\",VLOOKUP(I21,漢字書き!$A$2:$N$506,6,0))","v":"さくらの［ハナ］"},{"$f":"IF(J21=\"\",\"\",VLOOKUP(J21,漢字書き!$A$2:$N$506,6,0))","v":"かぶと［ムシ］"},{"$f":"IF(K21=\"\",\"\",VLOOKUP(K21,漢字読み!$A$2:$O$506,6,0))","v":"［一］つの花"},{"$f":"IF(L21=\"\",\"\",VLOOKUP(L21,漢字読み!$A$2:$O$506,6,0))","v":"たん［生日］をいわう"},{"$f":"IF(M21=\"\",\"\",VLOOKUP(M21,漢字読み!$A$2:$O$506,6,0))","v":"［日本］のくに"},{"$f":"IF(N21=\"\",\"\",VLOOKUP(N21,漢字読み!$A$2:$O$506,6,0))","v":"百さいまで[生]きる"},{"$f":"IF(O21=\"\",\"\",VLOOKUP(O21,漢字読み!$A$2:$O$506,6,0))","v":"［見学］する"},{"$f":"IF(P21=\"\",\"\",VLOOKUP(P21,漢字読み!$A$2:$O$506,6,0))","v":"［青］しゅんの日々"},{"$f":"IF(Q21=\"\",\"\",VLOOKUP(Q21,漢字読み!$A$2:$O$506,6,0))","v":"あさ［早］くおきる"},{"$f":"IF(R21=\"\",\"\",VLOOKUP(R21,漢字読み!$A$2:$O$506,6,0))","v":"［小］とりをかう"},{"$f":"IF(S21=\"\",\"\",VLOOKUP(S21,漢字読み!$A$2:$O$506,6,0))","v":"［大］きなかぶ"},{"$f":"IF(T21=\"\",\"\",VLOOKUP(T21,漢字読み!$A$2:$O$506,6,0))","v":"［五］つ子"},null,"級"]
[null,null,null,null,null,null,null,null,null,null,null,null,null,null,null,null,null,null,null,null,null,"名前"]
[{"$f":"IF(A21=\"\",\"\",IF(VLOOKUP(A21,漢字書き!$A$2:$N$502,7,0)=0,\"\",VLOOKUP(A21,漢字書き!$A$2:$N$502,7,0)))","v":"がく"},{"$f":"IF(B21=\"\",\"\",IF(VLOOKUP(B21,漢字書き!$A$2:$N$502,7,0)=0,\"\",VLOOKUP(B21,漢字書き!$A$2:$N$502,7,0)))","v":"つ"},{"$f":"IF(C21=\"\",\"\",IF(VLOOKUP(C21,漢字書き!$A$2:$N$502,7,0)=0,\"\",VLOOKUP(C21,漢字書き!$A$2:$N$502,7,0)))","v":"玉"},{"$f":"IF(D21=\"\",\"\",IF(VLOOKUP(D21,漢字書き!$A$2:$N$502,7,0)=0,\"\",VLOOKUP(D21,漢字書き!$A$2:$N$502,7,0)))","v":""},{"$f":"IF(E21=\"\",\"\",IF(VLOOKUP(E21,漢字書き!$A$2:$N$502,7,0)=0,\"\",VLOOKUP(E21,漢字書き!$A$2:$N$502,7,0)))","v":""},{"$f":"IF(F21=\"\",\"\",IF(VLOOKUP(F21,漢字書き!$A$2:$N$502,7,0)=0,\"\",VLOOKUP(F21,漢字書き!$A$2:$N$502,7,0)))","v":"トイレ"},{"$f":"IF(G21=\"\",\"\",IF(VLOOKUP(G21,漢字書き!$A$2:$N$502,7,0)=0,\"\",VLOOKUP(G21,漢字書き!$A$2:$N$502,7,0)))","v":""},{"$f":"IF(H21=\"\",\"\",IF(VLOOKUP(H21,漢字書き!$A$2:$N$502,7,0)=0,\"\",VLOOKUP(H21,漢字書き!$A$2:$N$502,7,0)))","v":"さま"},{"$f":"IF(I21=\"\",\"\",IF(VLOOKUP(I21,漢字書き!$A$2:$N$502,7,0)=0,\"\",VLOOKUP(I21,漢字書き!$A$2:$N$502,7,0)))","v":""},{"$f":"IF(J21=\"\",\"\",IF(VLOOKUP(J21,漢字書き!$A$2:$N$502,7,0)=0,\"\",VLOOKUP(J21,漢字書き!$A$2:$N$502,7,0)))","v":""},{"$f":"IF(K21=\"\",\"\",IF(VLOOKUP(K21,漢字読み!$A$2:$O$502,7,0)=0,\"\",VLOOKUP(K21,漢字読み!$A$2:$O$502,7,0)))","v":"つ"},{"$f":"IF(L21=\"\",\"\",IF(VLOOKUP(L21,漢字読み!$A$2:$O$502,7,0)=0,\"\",VLOOKUP(L21,漢字読み!$A$2:$O$502,7,0)))","v":""},{"$f":"IF(M21=\"\",\"\",IF(VLOOKUP(M21,漢字読み!$A$2:$O$502,7,0)=0,\"\",VLOOKUP(M21,漢字読み!$A$2:$O$502,7,0)))","v":""},{"$f":"IF(N21=\"\",\"\",IF(VLOOKUP(N21,漢字読み!$A$2:$O$502,7,0)=0,\"\",VLOOKUP(N21,漢字読み!$A$2:$O$502,7,0)))","v":"きる"},{"$f":"IF(O21=\"\",\"\",IF(VLOOKUP(O21,漢字読み!$A$2:$O$502,7,0)=0,\"\",VLOOKUP(O21,漢字読み!$A$2:$O$502,7,0)))","v":"する"},{"$f":"IF(P21=\"\",\"\",IF(VLOOKUP(P21,漢字読み!$A$2:$O$502,7,0)=0,\"\",VLOOKUP(P21,漢字読み!$A$2:$O$502,7,0)))","v":"しゅん"},{"$f":"IF(Q21=\"\",\"\",IF(VLOOKUP(Q21,漢字読み!$A$2:$O$502,7,0)=0,\"\",VLOOKUP(Q21,漢字読み!$A$2:$O$502,7,0)))","v":"く"},{"$f":"IF(R21=\"\",\"\",IF(VLOOKUP(R21,漢字読み!$A$2:$O$502,7,0)=0,\"\",VLOOKUP(R21,漢字読み!$A$2:$O$502,7,0)))","v":""},{"$f":"IF(S21=\"\",\"\",IF(VLOOKUP(S21,漢字読み!$A$2:$O$502,7,0)=0,\"\",VLOOKUP(S21,漢字読み!$A$2:$O$502,7,0)))","v":"きな"},{"$f":"IF(T21=\"\",\"\",IF(VLOOKUP(T21,漢字読み!$A$2:$O$502,7,0)=0,\"\",VLOOKUP(T21,漢字読み!$A$2:$O$502,7,0)))","v":"つ"},null,null,"和歌山県教育委員会"]
[{"$f":"INDIRECT(\"'関数（書き）'!C\" & COLUMN(B$1)+SUM($AD$2:$AD27))","v":5},{"$f":"INDIRECT(\"'関数（書き）'!C\" & COLUMN(C$1)+SUM($AD$2:$AD27))","v":172},{"$f":"INDIRECT(\"'関数（書き）'!C\" & COLUMN(D$1)+SUM($AD$2:$AD27))","v":3},{"$f":"INDIRECT(\"'関数（書き）'!C\" & COLUMN(E$1)+SUM($AD$2:$AD27))","v":57},{"$f":"INDIRECT(\"'関数（書き）'!C\" & COLUMN(F$1)+SUM($AD$2:$AD27))","v":108},{"$f":"INDIRECT(\"'関数（書き）'!C\" & COLUMN(G$1)+SUM($AD$2:$AD27))","v":87},{"$f":"INDIRECT(\"'関数（書き）'!C\" & COLUMN(H$1)+SUM($AD$2:$AD27))","v":31},{"$f":"INDIRECT(\"'関数（書き）'!C\" & COLUMN(I$1)+SUM($AD$2:$AD27))","v":174},{"$f":"INDIRECT(\"'関数（書き）'!C\" & COLUMN(J$1)+SUM($AD$2:$AD27))","v":63},{"$f":"INDIRECT(\"'関数（書き）'!C\" & COLUMN(K$1)+SUM($AD$2:$AD27))","v":153},{"$f":"INDIRECT(\"'関数（読み）'!C\" & COLUMN(B$1)+SUM($AD$2:$AD27))","v":36},{"$f":"INDIRECT(\"'関数（読み）'!C\" & COLUMN(C$1)+SUM($AD$2:$AD27))","v":148},{"$f":"INDIRECT(\"'関数（読み）'!C\" & COLUMN(D$1)+SUM($AD$2:$AD27))","v":157},{"$f":"INDIRECT(\"'関数（読み）'!C\" & COLUMN(E$1)+SUM($AD$2:$AD27))","v":11},{"$f":"INDIRECT(\"'関数（読み）'!C\" & COLUMN(F$1)+SUM($AD$2:$AD27))","v":96},{"$f":"INDIRECT(\"'関数（読み）'!C\" & COLUMN(G$1)+SUM($AD$2:$AD27))","v":10},{"$f":"INDIRECT(\"'関数（読み）'!C\" & COLUMN(H$1)+SUM($AD$2:$AD27))","v":4},{"$f":"INDIRECT(\"'関数（読み）'!C\" & COLUMN(I$1)+SUM($AD$2:$AD27))","v":156},{"$f":"INDIRECT(\"'関数（読み）'!C\" & COLUMN(J$1)+SUM($AD$2:$AD27))","v":144},{"$f":"INDIRECT(\"'関数（読み）'!C\" & COLUMN(K$1)+SUM($AD$2:$AD27))","v":124}]
["⑳","⑲","⑱","⑰","⑯","⑮","⑭","⑬","⑫","⑪","⑩","⑨","⑧","⑦","⑥","⑤","④","③","②","①","次の［　　　　］の部分の漢字には読みがなをひらがなで書き、カタカナは漢字に直しなさい。",15,"「漢字の博士検定試験」練習問題　",null,null,null,null,null,"←",10,"問",{"$f":"AH22+1","v":31},"～",{"$f":"SUM($AD$2:$AD27)+10","v":40},"問まで",{"$f":"COUNTIF($A$1:$T$200,T28)","v":2}]
[{"$f":"IF(A26=\"\",\"\",VLOOKUP(A26,漢字書き!$A$2:$N$506,6,0))","v":"［ウ］りょうがふえる"},{"$f":"IF(B26=\"\",\"\",VLOOKUP(B26,漢字書き!$A$2:$N$506,6,0))","v":"［リン］かん学校"},{"$f":"IF(C26=\"\",\"\",VLOOKUP(C26,漢字書き!$A$2:$N$506,6,0))","v":"［サユウ］を見る"},{"$f":"IF(D26=\"\",\"\",VLOOKUP(D26,漢字書き!$A$2:$N$506,6,0))","v":"ふじ［サン］"},{"$f":"IF(E26=\"\",\"\",VLOOKUP(E26,漢字書き!$A$2:$N$506,6,0))","v":"［アカ］ちゃんがなく"},{"$f":"IF(F26=\"\",\"\",VLOOKUP(F26,漢字書き!$A$2:$N$506,6,0))","v":"［シンリン］こうえん"},{"$f":"IF(G26=\"\",\"\",VLOOKUP(G26,漢字書き!$A$2:$N$506,6,0))","v":"［キュウ］けいじかん"},{"$f":"IF(H26=\"\",\"\",VLOOKUP(H26,漢字書き!$A$2:$N$506,6,0))","v":"［ムッ］つかぞえる"},{"$f":"IF(I26=\"\",\"\",VLOOKUP(I26,漢字書き!$A$2:$N$506,6,0))","v":"［ヨッ］つのやくそく"},{"$f":"IF(J26=\"\",\"\",VLOOKUP(J26,漢字書き!$A$2:$N$506,6,0))","v":"［シロ］いけむり"},{"$f":"IF(K26=\"\",\"\",VLOOKUP(K26,漢字読み!$A$2:$O$506,6,0))","v":"しゃぼん［玉］"},{"$f":"IF(L26=\"\",\"\",VLOOKUP(L26,漢字読み!$A$2:$O$506,6,0))","v":"［二年］生になる"},{"$f":"IF(M26=\"\",\"\",VLOOKUP(M26,漢字読み!$A$2:$O$506,6,0))","v":"［年］をとる"},{"$f":"IF(N26=\"\",\"\",VLOOKUP(N26,漢字読み!$A$2:$O$506,6,0))","v":"［女王］のへや"},{"$f":"IF(O26=\"\",\"\",VLOOKUP(O26,漢字読み!$A$2:$O$506,6,0))","v":"［正］じきな人"},{"$f":"IF(P26=\"\",\"\",VLOOKUP(P26,漢字読み!$A$2:$O$506,6,0))","v":"［王子］になる"},{"$f":"IF(Q26=\"\",\"\",VLOOKUP(Q26,漢字読み!$A$2:$O$506,6,0))","v":"［右］にまがる"},{"$f":"IF(R26=\"\",\"\",VLOOKUP(R26,漢字読み!$A$2:$O$506,6,0))","v":"お［年玉］"},{"$f":"IF(S26=\"\",\"\",VLOOKUP(S26,漢字読み!$A$2:$O$506,6,0))","v":"［田］えんふうけい"},{"$f":"IF(T26=\"\",\"\",VLOOKUP(T26,漢字読み!$A$2:$O$506,6,0))","v":"ねこの［足］あと"},null,"級"]
[null,null,null,null,null,null,null,null,null,null,null,null,null,null,null,null,null,null,null,null,null,"名前"]
[{"$f":"IF(A26=\"\",\"\",IF(VLOOKUP(A26,漢字書き!$A$2:$N$502,7,0)=0,\"\",VLOOKUP(A26,漢字書き!$A$2:$N$502,7,0)))","v":"りょう"},{"$f":"IF(B26=\"\",\"\",IF(VLOOKUP(B26,漢字書き!$A$2:$N$502,7,0)=0,\"\",VLOOKUP(B26,漢字書き!$A$2:$N$502,7,0)))","v":"かん"},{"$f":"IF(C26=\"\",\"\",IF(VLOOKUP(C26,漢字書き!$A$2:$N$502,7,0)=0,\"\",VLOOKUP(C26,漢字書き!$A$2:$N$502,7,0)))","v":""},{"$f":"IF(D26=\"\",\"\",IF(VLOOKUP(D26,漢字書き!$A$2:$N$502,7,0)=0,\"\",VLOOKUP(D26,漢字書き!$A$2:$N$502,7,0)))","v":""},{"$f":"IF(E26=\"\",\"\",IF(VLOOKUP(E26,漢字書き!$A$2:$N$502,7,0)=0,\"\",VLOOKUP(E26,漢字書き!$A$2:$N$502,7,0)))","v":"ちゃん"},{"$f":"IF(F26=\"\",\"\",IF(VLOOKUP(F26,漢字書き!$A$2:$N$502,7,0)=0,\"\",VLOOKUP(F26,漢字書き!$A$2:$N$502,7,0)))","v":""},{"$f":"IF(G26=\"\",\"\",IF(VLOOKUP(G26,漢字書き!$A$2:$N$502,7,0)=0,\"\",VLOOKUP(G26,漢字書き!$A$2:$N$502,7,0)))","v":"けい"},{"$f":"IF(H26=\"\",\"\",IF(VLOOKUP(H26,漢字書き!$A$2:$N$502,7,0)=0,\"\",VLOOKUP(H26,漢字書き!$A$2:$N$502,7,0)))","v":"つ"},{"$f":"IF(I26=\"\",\"\",IF(VLOOKUP(I26,漢字書き!$A$2:$N$502,7,0)=0,\"\",VLOOKUP(I26,漢字書き!$A$2:$N$502,7,0)))","v":"つ"},{"$f":"IF(J26=\"\",\"\",IF(VLOOKUP(J26,漢字書き!$A$2:$N$502,7,0)=0,\"\",VLOOKUP(J26,漢字書き!$A$2:$N$502,7,0)))","v":"い"},{"$f":"IF(K26=\"\",\"\",IF(VLOOKUP(K26,漢字読み!$A$2:$O$502,7,0)=0,\"\",VLOOKUP(K26,漢字読み!$A$2:$O$502,7,0)))","v":""},{"$f":"IF(L26=\"\",\"\",IF(VLOOKUP(L26,漢字読み!$A$2:$O$502,7,0)=0,\"\",VLOOKUP(L26,漢字読み!$A$2:$O$502,7,0)))","v":"生"},{"$f":"IF(M26=\"\",\"\",IF(VLOOKUP(M26,漢字読み!$A$2:$O$502,7,0)=0,\"\",VLOOKUP(M26,漢字読み!$A$2:$O$502,7,0)))","v":""},{"$f":"IF(N26=\"\",\"\",IF(VLOOKUP(N26,漢字読み!$A$2:$O$502,7,0)=0,\"\",VLOOKUP(N26,漢字読み!$A$2:$O$502,7,0)))","v":""},{"$f":"IF(O26=\"\",\"\",IF(VLOOKUP(O26,漢字読み!$A$2:$O$502,7,0)=0,\"\",VLOOKUP(O26,漢字読み!$A$2:$O$502,7,0)))","v":"じき"},{"$f":"IF(P26=\"\",\"\",IF(VLOOKUP(P26,漢字読み!$A$2:$O$502,7,0)=0,\"\",VLOOKUP(P26,漢字読み!$A$2:$O$502,7,0)))","v":""},{"$f":"IF(Q26=\"\",\"\",IF(VLOOKUP(Q26,漢字読み!$A$2:$O$502,7,0)=0,\"\",VLOOKUP(Q26,漢字読み!$A$2:$O$502,7,0)))","v":""},{"$f":"IF(R26=\"\",\"\",IF(VLOOKUP(R26,漢字読み!$A$2:$O$502,7,0)=0,\"\",VLOOKUP(R26,漢字読み!$A$2:$O$502,7,0)))","v":""},{"$f":"IF(S26=\"\",\"\",IF(VLOOKUP(S26,漢字読み!$A$2:$O$502,7,0)=0,\"\",VLOOKUP(S26,漢字読み!$A$2:$O$502,7,0)))","v":"えん"},{"$f":"IF(T26=\"\",\"\",IF(VLOOKUP(T26,漢字読み!$A$2:$O$502,7,0)=0,\"\",VLOOKUP(T26,漢字読み!$A$2:$O$502,7,0)))","v":"あと"},null,null,"和歌山県教育委員会"]
[{"$f":"A21","v":11},{"$f":"B21","v":169},156,127,132,60,116,9,21,133,2,100,152,105,25,106,121,85,131,52]
["⑳","⑲","⑱","⑰","⑯","⑮","⑭","⑬","⑫","⑪","⑩","⑨","⑧","⑦","⑥","⑤","④","③","②","①","次の［　　　　］の部分の漢字には読みがなをひらがなで書き、カタカナは漢字に直しなさい。",15,"「漢字の博士検定試験」練習問題　"]
[{"$f":"IF(A31=\"\",\"\",VLOOKUP(A31,漢字書き!$A$2:$N$506,6,0))","v":"［オン］がくしつ"},{"$f":"IF(B31=\"\",\"\",VLOOKUP(B31,漢字書き!$A$2:$N$506,6,0))","v":"いすから［タ］つ"},{"$f":"IF(C31=\"\",\"\",VLOOKUP(C31,漢字書き!$A$2:$N$506,6,0))","v":"［ゴヒャクエン］玉"},{"$f":"IF(D31=\"\",\"\",VLOOKUP(D31,漢字書き!$A$2:$N$506,6,0))","v":"［オトコ］の子"},{"$f":"IF(E31=\"\",\"\",VLOOKUP(E31,漢字書き!$A$2:$N$506,6,0))","v":"こん［チュウ］"},{"$f":"IF(F31=\"\",\"\",VLOOKUP(F31,漢字書き!$A$2:$N$506,6,0))","v":"［ダンシ］トイレ"},{"$f":"IF(G31=\"\",\"\",VLOOKUP(G31,漢字書き!$A$2:$N$506,6,0))","v":"ざっ［ソウ］をぬく"},{"$f":"IF(H31=\"\",\"\",VLOOKUP(H31,漢字書き!$A$2:$N$506,6,0))","v":"はだかの［オウ］さま"},{"$f":"IF(I31=\"\",\"\",VLOOKUP(I31,漢字書き!$A$2:$N$506,6,0))","v":"さくらの［ハナ］"},{"$f":"IF(J31=\"\",\"\",VLOOKUP(J31,漢字書き!$A$2:$N$506,6,0))","v":"かぶと［ムシ］"},{"$f":"IF(K31=\"\",\"\",VLOOKUP(K31,漢字読み!$A$2:$O$506,6,0))","v":"［一］つの花"},{"$f":"IF(L31=\"\",\"\",VLOOKUP(L31,漢字読み!$A$2:$O$506,6,0))","v":"たん［生日］をいわう"},{"$f":"IF(M31=\"\",\"\",VLOOKUP(M31,漢字読み!$A$2:$O$506,6,0))","v":"［日本］のくに"},{"$f":"IF(N31=\"\",\"\",VLOOKUP(N31,漢字読み!$A$2:$O$506,6,0))","v":"百さいまで[生]きる"},{"$f":"IF(O31=\"\",\"\",VLOOKUP(O31,漢字読み!$A$2:$O$506,6,0))","v":"［見学］する"},{"$f":"IF(P31=\"\",\"\",VLOOKUP(P31,漢字読み!$A$2:$O$506,6,0))","v":"［青］しゅんの日々"},{"$f":"IF(Q31=\"\",\"\",VLOOKUP(Q31,漢字読み!$A$2:$O$506,6,0))","v":"あさ［早］くおきる"},{"$f":"IF(R31=\"\",\"\",VLOOKUP(R31,漢字読み!$A$2:$O$506,6,0))","v":"［小］とりをかう"},{"$f":"IF(S31=\"\",\"\",VLOOKUP(S31,漢字読み!$A$2:$O$506,6,0))","v":"［大］きなかぶ"},{"$f":"IF(T31=\"\",\"\",VLOOKUP(T31,漢字読み!$A$2:$O$506,6,0))","v":"［五］つ子"},null,"級"]
[{"$f":"IF(A$11=\"\",\"\",VLOOKUP(A31,漢字書き!$A$2:$O$506,8,0))","v":"音"},{"$f":"IF(B$11=\"\",\"\",VLOOKUP(B31,漢字書き!$A$2:$O$506,8,0))","v":"立"},{"$f":"IF(C$11=\"\",\"\",VLOOKUP(C31,漢字書き!$A$2:$O$506,8,0))","v":"五百円"},{"$f":"IF(D$11=\"\",\"\",VLOOKUP(D31,漢字書き!$A$2:$O$506,8,0))","v":"男"},{"$f":"IF(E$11=\"\",\"\",VLOOKUP(E31,漢字書き!$A$2:$O$506,8,0))","v":"虫"},{"$f":"IF(F$11=\"\",\"\",VLOOKUP(F31,漢字書き!$A$2:$O$506,8,0))","v":"男子"},{"$f":"IF(G$11=\"\",\"\",VLOOKUP(G31,漢字書き!$A$2:$O$506,8,0))","v":"草"},{"$f":"IF(H$11=\"\",\"\",VLOOKUP(H31,漢字書き!$A$2:$O$506,8,0))","v":"王"},{"$f":"IF(I$11=\"\",\"\",VLOOKUP(I31,漢字書き!$A$2:$O$506,8,0))","v":"花"},{"$f":"IF(J$11=\"\",\"\",VLOOKUP(J31,漢字書き!$A$2:$O$506,8,0))","v":"虫"},{"$f":"IF(K$11=\"\",\"\",VLOOKUP(K31,漢字読み!$A$2:$O$506,8,0))","v":"ひと"},{"$f":"IF(L$11=\"\",\"\",VLOOKUP(L31,漢字読み!$A$2:$O$506,8,0))","v":"じょうび"},{"$f":"IF(M$11=\"\",\"\",VLOOKUP(M31,漢字読み!$A$2:$O$506,8,0))","v":"にほん"},{"$f":"IF(N$11=\"\",\"\",VLOOKUP(N31,漢字読み!$A$2:$O$506,8,0))","v":"い"},{"$f":"IF(O$11=\"\",\"\",VLOOKUP(O31,漢字読み!$A$2:$O$506,8,0))","v":"けんがく"},{"$f":"IF(P$11=\"\",\"\",VLOOKUP(P31,漢字読み!$A$2:$O$506,8,0))","v":"せい"},{"$f":"IF(Q$11=\"\",\"\",VLOOKUP(Q31,漢字読み!$A$2:$O$506,8,0))","v":"はや"},{"$f":"IF(R$11=\"\",\"\",VLOOKUP(R31,漢字読み!$A$2:$O$506,8,0))","v":"こ"},{"$f":"IF(S$11=\"\",\"\",VLOOKUP(S31,漢字読み!$A$2:$O$506,8,0))","v":"おお"},{"$f":"IF(T$11=\"\",\"\",VLOOKUP(T31,漢字読み!$A$2:$O$506,8,0))","v":"いつ"},null,"名前"]
[{"$f":"IF(A31=\"\",\"\",IF(VLOOKUP(A31,漢字書き!$A$2:$N$502,7,0)=0,\"\",VLOOKUP(A31,漢字書き!$A$2:$N$502,7,0)))","v":"がく"},{"$f":"IF(B31=\"\",\"\",IF(VLOOKUP(B31,漢字書き!$A$2:$N$502,7,0)=0,\"\",VLOOKUP(B31,漢字書き!$A$2:$N$502,7,0)))","v":"つ"},{"$f":"IF(C31=\"\",\"\",IF(VLOOKUP(C31,漢字書き!$A$2:$N$502,7,0)=0,\"\",VLOOKUP(C31,漢字書き!$A$2:$N$502,7,0)))","v":"玉"},{"$f":"IF(D31=\"\",\"\",IF(VLOOKUP(D31,漢字書き!$A$2:$N$502,7,0)=0,\"\",VLOOKUP(D31,漢字書き!$A$2:$N$502,7,0)))","v":""},{"$f":"IF(E31=\"\",\"\",IF(VLOOKUP(E31,漢字書き!$A$2:$N$502,7,0)=0,\"\",VLOOKUP(E31,漢字書き!$A$2:$N$502,7,0)))","v":""},{"$f":"IF(F31=\"\",\"\",IF(VLOOKUP(F31,漢字書き!$A$2:$N$502,7,0)=0,\"\",VLOOKUP(F31,漢字書き!$A$2:$N$502,7,0)))","v":"トイレ"},{"$f":"IF(G31=\"\",\"\",IF(VLOOKUP(G31,漢字書き!$A$2:$N$502,7,0)=0,\"\",VLOOKUP(G31,漢字書き!$A$2:$N$502,7,0)))","v":""},{"$f":"IF(H31=\"\",\"\",IF(VLOOKUP(H31,漢字書き!$A$2:$N$502,7,0)=0,\"\",VLOOKUP(H31,漢字書き!$A$2:$N$502,7,0)))","v":"さま"},{"$f":"IF(I31=\"\",\"\",IF(VLOOKUP(I31,漢字書き!$A$2:$N$502,7,0)=0,\"\",VLOOKUP(I31,漢字書き!$A$2:$N$502,7,0)))","v":""},{"$f":"IF(J31=\"\",\"\",IF(VLOOKUP(J31,漢字書き!$A$2:$N$502,7,0)=0,\"\",VLOOKUP(J31,漢字書き!$A$2:$N$502,7,0)))","v":""},{"$f":"IF(K31=\"\",\"\",IF(VLOOKUP(K31,漢字読み!$A$2:$O$502,7,0)=0,\"\",VLOOKUP(K31,漢字読み!$A$2:$O$502,7,0)))","v":"つ"},{"$f":"IF(L31=\"\",\"\",IF(VLOOKUP(L31,漢字読み!$A$2:$O$502,7,0)=0,\"\",VLOOKUP(L31,漢字読み!$A$2:$O$502,7,0)))","v":""},{"$f":"IF(M31=\"\",\"\",IF(VLOOKUP(M31,漢字読み!$A$2:$O$502,7,0)=0,\"\",VLOOKUP(M31,漢字読み!$A$2:$O$502,7,0)))","v":""},{"$f":"IF(N31=\"\",\"\",IF(VLOOKUP(N31,漢字読み!$A$2:$O$502,7,0)=0,\"\",VLOOKUP(N31,漢字読み!$A$2:$O$502,7,0)))","v":"きる"},{"$f":"IF(O31=\"\",\"\",IF(VLOOKUP(O31,漢字読み!$A$2:$O$502,7,0)=0,\"\",VLOOKUP(O31,漢字読み!$A$2:$O$502,7,0)))","v":"する"},{"$f":"IF(P31=\"\",\"\",IF(VLOOKUP(P31,漢字読み!$A$2:$O$502,7,0)=0,\"\",VLOOKUP(P31,漢字読み!$A$2:$O$502,7,0)))","v":"しゅん"},{"$f":"IF(Q31=\"\",\"\",IF(VLOOKUP(Q31,漢字読み!$A$2:$O$502,7,0)=0,\"\",VLOOKUP(Q31,漢字読み!$A$2:$O$502,7,0)))","v":"く"},{"$f":"IF(R31=\"\",\"\",IF(VLOOKUP(R31,漢字読み!$A$2:$O$502,7,0)=0,\"\",VLOOKUP(R31,漢字読み!$A$2:$O$502,7,0)))","v":""},{"$f":"IF(S31=\"\",\"\",IF(VLOOKUP(S31,漢字読み!$A$2:$O$502,7,0)=0,\"\",VLOOKUP(S31,漢字読み!$A$2:$O$502,7,0)))","v":"きな"},{"$f":"IF(T31=\"\",\"\",IF(VLOOKUP(T31,漢字読み!$A$2:$O$502,7,0)=0,\"\",VLOOKUP(T31,漢字読み!$A$2:$O$502,7,0)))","v":"つ"},null,null,"和歌山県教育委員会"]
[{"$f":"A26","v":5},{"$f":"B26","v":172},3,57,108,87,31,174,63,153,36,148,157,11,96,10,4,156,144,124]
["⑳","⑲","⑱","⑰","⑯","⑮","⑭","⑬","⑫","⑪","⑩","⑨","⑧","⑦","⑥","⑤","④","③","②","①","次の［　　　　］の部分の漢字には読みがなをひらがなで書き、カタカナは漢字に直しなさい。",15,"「漢字の博士検定試験」練習問題　"]
[{"$f":"IF(A36=\"\",\"\",VLOOKUP(A36,漢字書き!$A$2:$N$506,6,0))","v":"［ウ］りょうがふえる"},{"$f":"IF(B36=\"\",\"\",VLOOKUP(B36,漢字書き!$A$2:$N$506,6,0))","v":"［リン］かん学校"},{"$f":"IF(C36=\"\",\"\",VLOOKUP(C36,漢字書き!$A$2:$N$506,6,0))","v":"［サユウ］を見る"},{"$f":"IF(D36=\"\",\"\",VLOOKUP(D36,漢字書き!$A$2:$N$506,6,0))","v":"ふじ［サン］"},{"$f":"IF(E36=\"\",\"\",VLOOKUP(E36,漢字書き!$A$2:$N$506,6,0))","v":"［アカ］ちゃんがなく"},{"$f":"IF(F36=\"\",\"\",VLOOKUP(F36,漢字書き!$A$2:$N$506,6,0))","v":"［シンリン］こうえん"},{"$f":"IF(G36=\"\",\"\",VLOOKUP(G36,漢字書き!$A$2:$N$506,6,0))","v":"［キュウ］けいじかん"},{"$f":"IF(H36=\"\",\"\",VLOOKUP(H36,漢字書き!$A$2:$N$506,6,0))","v":"［ムッ］つかぞえる"},{"$f":"IF(I36=\"\",\"\",VLOOKUP(I36,漢字書き!$A$2:$N$506,6,0))","v":"［ヨッ］つのやくそく"},{"$f":"IF(J36=\"\",\"\",VLOOKUP(J36,漢字書き!$A$2:$N$506,6,0))","v":"［シロ］いけむり"},{"$f":"IF(K36=\"\",\"\",VLOOKUP(K36,漢字読み!$A$2:$O$506,6,0))","v":"しゃぼん［玉］"},{"$f":"IF(L36=\"\",\"\",VLOOKUP(L36,漢字読み!$A$2:$O$506,6,0))","v":"［二年］生になる"},{"$f":"IF(M36=\"\",\"\",VLOOKUP(M36,漢字読み!$A$2:$O$506,6,0))","v":"［年］をとる"},{"$f":"IF(N36=\"\",\"\",VLOOKUP(N36,漢字読み!$A$2:$O$506,6,0))","v":"［女王］のへや"},{"$f":"IF(O36=\"\",\"\",VLOOKUP(O36,漢字読み!$A$2:$O$506,6,0))","v":"［正］じきな人"},{"$f":"IF(P36=\"\",\"\",VLOOKUP(P36,漢字読み!$A$2:$O$506,6,0))","v":"［王子］になる"},{"$f":"IF(Q36=\"\",\"\",VLOOKUP(Q36,漢字読み!$A$2:$O$506,6,0))","v":"［右］にまがる"},{"$f":"IF(R36=\"\",\"\",VLOOKUP(R36,漢字読み!$A$2:$O$506,6,0))","v":"お［年玉］"},{"$f":"IF(S36=\"\",\"\",VLOOKUP(S36,漢字読み!$A$2:$O$506,6,0))","v":"［田］えんふうけい"},{"$f":"IF(T36=\"\",\"\",VLOOKUP(T36,漢字読み!$A$2:$O$506,6,0))","v":"ねこの［足］あと"},null,"級"]
[{"$f":"IF(A$16=\"\",\"\",VLOOKUP(A36,漢字書き!$A$2:$O$506,8,0))","v":"雨"},{"$f":"IF(B$16=\"\",\"\",VLOOKUP(B36,漢字書き!$A$2:$O$506,8,0))","v":"林"},{"$f":"IF(C$16=\"\",\"\",VLOOKUP(C36,漢字書き!$A$2:$O$506,8,0))","v":"左右"},{"$f":"IF(D$16=\"\",\"\",VLOOKUP(D36,漢字書き!$A$2:$O$506,8,0))","v":"山"},{"$f":"IF(E$16=\"\",\"\",VLOOKUP(E36,漢字書き!$A$2:$O$506,8,0))","v":"赤"},{"$f":"IF(F$16=\"\",\"\",VLOOKUP(F36,漢字書き!$A$2:$O$506,8,0))","v":"森林"},{"$f":"IF(G$16=\"\",\"\",VLOOKUP(G36,漢字書き!$A$2:$O$506,8,0))","v":"休"},{"$f":"IF(H$16=\"\",\"\",VLOOKUP(H36,漢字書き!$A$2:$O$506,8,0))","v":"六"},{"$f":"IF(I$16=\"\",\"\",VLOOKUP(I36,漢字書き!$A$2:$O$506,8,0))","v":"四"},{"$f":"IF(J$16=\"\",\"\",VLOOKUP(J36,漢字書き!$A$2:$O$506,8,0))","v":"白"},{"$f":"IF(K$16=\"\",\"\",VLOOKUP(K36,漢字読み!$A$2:$O$506,8,0))","v":"だま"},{"$f":"IF(L$16=\"\",\"\",VLOOKUP(L36,漢字読み!$A$2:$O$506,8,0))","v":"にねん"},{"$f":"IF(M$16=\"\",\"\",VLOOKUP(M36,漢字読み!$A$2:$O$506,8,0))","v":"とし"},{"$f":"IF(N$16=\"\",\"\",VLOOKUP(N36,漢字読み!$A$2:$O$506,8,0))","v":"じょおう"},{"$f":"IF(O$16=\"\",\"\",VLOOKUP(O36,漢字読み!$A$2:$O$506,8,0))","v":"しょう"},{"$f":"IF(P$16=\"\",\"\",VLOOKUP(P36,漢字読み!$A$2:$O$506,8,0))","v":"おうじ"},{"$f":"IF(Q$16=\"\",\"\",VLOOKUP(Q36,漢字読み!$A$2:$O$506,8,0))","v":"みぎ"},{"$f":"IF(R$16=\"\",\"\",VLOOKUP(R36,漢字読み!$A$2:$O$506,8,0))","v":"としだま"},{"$f":"IF(S$16=\"\",\"\",VLOOKUP(S36,漢字読み!$A$2:$O$506,8,0))","v":"でん"},{"$f":"IF(T$16=\"\",\"\",VLOOKUP(T36,漢字読み!$A$2:$O$506,8,0))","v":"あし"},null,"名前"]
[{"$f":"IF(A36=\"\",\"\",IF(VLOOKUP(A36,漢字書き!$A$2:$N$502,7,0)=0,\"\",VLOOKUP(A36,漢字書き!$A$2:$N$502,7,0)))","v":"りょう"},{"$f":"IF(B36=\"\",\"\",IF(VLOOKUP(B36,漢字書き!$A$2:$N$502,7,0)=0,\"\",VLOOKUP(B36,漢字書き!$A$2:$N$502,7,0)))","v":"かん"},{"$f":"IF(C36=\"\",\"\",IF(VLOOKUP(C36,漢字書き!$A$2:$N$502,7,0)=0,\"\",VLOOKUP(C36,漢字書き!$A$2:$N$502,7,0)))","v":""},{"$f":"IF(D36=\"\",\"\",IF(VLOOKUP(D36,漢字書き!$A$2:$N$502,7,0)=0,\"\",VLOOKUP(D36,漢字書き!$A$2:$N$502,7,0)))","v":""},{"$f":"IF(E36=\"\",\"\",IF(VLOOKUP(E36,漢字書き!$A$2:$N$502,7,0)=0,\"\",VLOOKUP(E36,漢字書き!$A$2:$N$502,7,0)))","v":"ちゃん"},{"$f":"IF(F36=\"\",\"\",IF(VLOOKUP(F36,漢字書き!$A$2:$N$502,7,0)=0,\"\",VLOOKUP(F36,漢字書き!$A$2:$N$502,7,0)))","v":""},{"$f":"IF(G36=\"\",\"\",IF(VLOOKUP(G36,漢字書き!$A$2:$N$502,7,0)=0,\"\",VLOOKUP(G36,漢字書き!$A$2:$N$502,7,0)))","v":"けい"},{"$f":"IF(H36=\"\",\"\",IF(VLOOKUP(H36,漢字書き!$A$2:$N$502,7,0)=0,\"\",VLOOKUP(H36,漢字書き!$A$2:$N$502,7,0)))","v":"つ"},{"$f":"IF(I36=\"\",\"\",IF(VLOOKUP(I36,漢字書き!$A$2:$N$502,7,0)=0,\"\",VLOOKUP(I36,漢字書き!$A$2:$N$502,7,0)))","v":"つ"},{"$f":"IF(J36=\"\",\"\",IF(VLOOKUP(J36,漢字書き!$A$2:$N$502,7,0)=0,\"\",VLOOKUP(J36,漢字書き!$A$2:$N$502,7,0)))","v":"い"},{"$f":"IF(K36=\"\",\"\",IF(VLOOKUP(K36,漢字読み!$A$2:$O$502,7,0)=0,\"\",VLOOKUP(K36,漢字読み!$A$2:$O$502,7,0)))","v":""},{"$f":"IF(L36=\"\",\"\",IF(VLOOKUP(L36,漢字読み!$A$2:$O$502,7,0)=0,\"\",VLOOKUP(L36,漢字読み!$A$2:$O$502,7,0)))","v":"生"},{"$f":"IF(M36=\"\",\"\",IF(VLOOKUP(M36,漢字読み!$A$2:$O$502,7,0)=0,\"\",VLOOKUP(M36,漢字読み!$A$2:$O$502,7,0)))","v":""},{"$f":"IF(N36=\"\",\"\",IF(VLOOKUP(N36,漢字読み!$A$2:$O$502,7,0)=0,\"\",VLOOKUP(N36,漢字読み!$A$2:$O$502,7,0)))","v":""},{"$f":"IF(O36=\"\",\"\",IF(VLOOKUP(O36,漢字読み!$A$2:$O$502,7,0)=0,\"\",VLOOKUP(O36,漢字読み!$A$2:$O$502,7,0)))","v":"じき"},{"$f":"IF(P36=\"\",\"\",IF(VLOOKUP(P36,漢字読み!$A$2:$O$502,7,0)=0,\"\",VLOOKUP(P36,漢字読み!$A$2:$O$502,7,0)))","v":""},{"$f":"IF(Q36=\"\",\"\",IF(VLOOKUP(Q36,漢字読み!$A$2:$O$502,7,0)=0,\"\",VLOOKUP(Q36,漢字読み!$A$2:$O$502,7,0)))","v":""},{"$f":"IF(R36=\"\",\"\",IF(VLOOKUP(R36,漢字読み!$A$2:$O$502,7,0)=0,\"\",VLOOKUP(R36,漢字読み!$A$2:$O$502,7,0)))","v":""},{"$f":"IF(S36=\"\",\"\",IF(VLOOKUP(S36,漢字読み!$A$2:$O$502,7,0)=0,\"\",VLOOKUP(S36,漢字読み!$A$2:$O$502,7,0)))","v":"えん"},{"$f":"IF(T36=\"\",\"\",IF(VLOOKUP(T36,漢字読み!$A$2:$O$502,7,0)=0,\"\",VLOOKUP(T36,漢字読み!$A$2:$O$502,7,0)))","v":"あと"},null,null,"和歌山県教育委員会"]
[{"$f":"INDIRECT(\"'関数（書き）'!C\" & COLUMN(B$1)+SUM($AD$2:$AD42))","v":93},{"$f":"INDIRECT(\"'関数（書き）'!C\" & COLUMN(C$1)+SUM($AD$2:$AD42))","v":65},{"$f":"INDIRECT(\"'関数（書き）'!C\" & COLUMN(D$1)+SUM($AD$2:$AD42))","v":14},{"$f":"INDIRECT(\"'関数（書き）'!C\" & COLUMN(E$1)+SUM($AD$2:$AD42))","v":17},{"$f":"INDIRECT(\"'関数（書き）'!C\" & COLUMN(F$1)+SUM($AD$2:$AD42))","v":139},{"$f":"INDIRECT(\"'関数（書き）'!C\" & COLUMN(G$1)+SUM($AD$2:$AD42))","v":32},{"$f":"INDIRECT(\"'関数（書き）'!C\" & COLUMN(H$1)+SUM($AD$2:$AD42))","v":25},{"$f":"INDIRECT(\"'関数（書き）'!C\" & COLUMN(I$1)+SUM($AD$2:$AD42))","v":102},{"$f":"INDIRECT(\"'関数（書き）'!C\" & COLUMN(J$1)+SUM($AD$2:$AD42))","v":164},{"$f":"INDIRECT(\"'関数（書き）'!C\" & COLUMN(K$1)+SUM($AD$2:$AD42))","v":22},{"$f":"INDIRECT(\"'関数（読み）'!C\" & COLUMN(B$1)+SUM($AD$2:$AD42))","v":129},{"$f":"INDIRECT(\"'関数（読み）'!C\" & COLUMN(C$1)+SUM($AD$2:$AD42))","v":117},{"$f":"INDIRECT(\"'関数（読み）'!C\" & COLUMN(D$1)+SUM($AD$2:$AD42))","v":107},{"$f":"INDIRECT(\"'関数（読み）'!C\" & COLUMN(E$1)+SUM($AD$2:$AD42))","v":16},{"$f":"INDIRECT(\"'関数（読み）'!C\" & COLUMN(F$1)+SUM($AD$2:$AD42))","v":3},{"$f":"INDIRECT(\"'関数（読み）'!C\" & COLUMN(G$1)+SUM($AD$2:$AD42))","v":75},{"$f":"INDIRECT(\"'関数（読み）'!C\" & COLUMN(H$1)+SUM($AD$2:$AD42))","v":27},{"$f":"INDIRECT(\"'関数（読み）'!C\" & COLUMN(I$1)+SUM($AD$2:$AD42))","v":76},{"$f":"INDIRECT(\"'関数（読み）'!C\" & COLUMN(J$1)+SUM($AD$2:$AD42))","v":50},{"$f":"INDIRECT(\"'関数（読み）'!C\" & COLUMN(K$1)+SUM($AD$2:$AD42))","v":43}]
["⑳","⑲","⑱","⑰","⑯","⑮","⑭","⑬","⑫","⑪","⑩","⑨","⑧","⑦","⑥","⑤","④","③","②","①","次の［　　　　］の部分の漢字には読みがなをひらがなで書き、カタカナは漢字に直しなさい。",15,"「漢字の博士検定試験」練習問題　",null,null,null,null,null,"←",10,"問",{"$f":"AH27+1","v":41},"～",{"$f":"SUM($AD$2:$AD42)+10","v":50},"問まで",{"$f":"COUNTIF($A$1:$T$200,T43)","v":2}]
[{"$f":"IF(A41=\"\",\"\",VLOOKUP(A41,漢字書き!$A$2:$N$506,6,0))","v":"［ミズ］がきれい"},{"$f":"IF(B41=\"\",\"\",VLOOKUP(B41,漢字書き!$A$2:$N$506,6,0))","v":"たぬきの［イトグルマ］"},{"$f":"IF(C41=\"\",\"\",VLOOKUP(C41,漢字書き!$A$2:$N$506,6,0))","v":"［ゲコウ］する"},{"$f":"IF(D41=\"\",\"\",VLOOKUP(D41,漢字書き!$A$2:$N$506,6,0))","v":"［ヒ］のようじん"},{"$f":"IF(E41=\"\",\"\",VLOOKUP(E41,漢字書き!$A$2:$N$506,6,0))","v":"［デン］えん"},{"$f":"IF(F41=\"\",\"\",VLOOKUP(F41,漢字書き!$A$2:$N$506,6,0))","v":"［ヤス］みじかん"},{"$f":"IF(G41=\"\",\"\",VLOOKUP(G41,漢字書き!$A$2:$N$506,6,0))","v":"［ガクリョク］があがる"},{"$f":"IF(H41=\"\",\"\",VLOOKUP(H41,漢字書き!$A$2:$N$506,6,0))","v":"［ユウ］がた"},{"$f":"IF(I41=\"\",\"\",VLOOKUP(I41,漢字書き!$A$2:$N$506,6,0))","v":"［ナ］ふだをつける"},{"$f":"IF(J41=\"\",\"\",VLOOKUP(J41,漢字書き!$A$2:$N$506,6,0))","v":"きれいな［ハナビ］"},{"$f":"IF(K41=\"\",\"\",VLOOKUP(K41,漢字読み!$A$2:$O$506,6,0))","v":"［大］すきなたべもの"},{"$f":"IF(L41=\"\",\"\",VLOOKUP(L41,漢字読み!$A$2:$O$506,6,0))","v":"［小川］がながれる"},{"$f":"IF(M41=\"\",\"\",VLOOKUP(M41,漢字読み!$A$2:$O$506,6,0))","v":"［青］いぼうし"},{"$f":"IF(N41=\"\",\"\",VLOOKUP(N41,漢字読み!$A$2:$O$506,6,0))","v":"つくえの［下］"},{"$f":"IF(O41=\"\",\"\",VLOOKUP(O41,漢字読み!$A$2:$O$506,6,0))","v":"まわれ［右］"},{"$f":"IF(P41=\"\",\"\",VLOOKUP(P41,漢字読み!$A$2:$O$506,6,0))","v":"［手］をあらう"},{"$f":"IF(Q41=\"\",\"\",VLOOKUP(Q41,漢字読み!$A$2:$O$506,6,0))","v":"［学］びをふかめる"},{"$f":"IF(R41=\"\",\"\",VLOOKUP(R41,漢字読み!$A$2:$O$506,6,0))","v":"［十二］までかぞえる"},{"$f":"IF(S41=\"\",\"\",VLOOKUP(S41,漢字読み!$A$2:$O$506,6,0))","v":"先が［見］えない"},{"$f":"IF(T41=\"\",\"\",VLOOKUP(T41,漢字読み!$A$2:$O$506,6,0))","v":"［一月］九日"},null,"級"]
[null,null,null,null,null,null,null,null,null,null,null,null,null,null,null,null,null,null,null,null,null,"名前"]
[{"$f":"IF(A41=\"\",\"\",IF(VLOOKUP(A41,漢字書き!$A$2:$N$502,7,0)=0,\"\",VLOOKUP(A41,漢字書き!$A$2:$N$502,7,0)))","v":""},{"$f":"IF(B41=\"\",\"\",IF(VLOOKUP(B41,漢字書き!$A$2:$N$502,7,0)=0,\"\",VLOOKUP(B41,漢字書き!$A$2:$N$502,7,0)))","v":""},{"$f":"IF(C41=\"\",\"\",IF(VLOOKUP(C41,漢字書き!$A$2:$N$502,7,0)=0,\"\",VLOOKUP(C41,漢字書き!$A$2:$N$502,7,0)))","v":"する"},{"$f":"IF(D41=\"\",\"\",IF(VLOOKUP(D41,漢字書き!$A$2:$N$502,7,0)=0,\"\",VLOOKUP(D41,漢字書き!$A$2:$N$502,7,0)))","v":""},{"$f":"IF(E41=\"\",\"\",IF(VLOOKUP(E41,漢字書き!$A$2:$N$502,7,0)=0,\"\",VLOOKUP(E41,漢字書き!$A$2:$N$502,7,0)))","v":"えん"},{"$f":"IF(F41=\"\",\"\",IF(VLOOKUP(F41,漢字書き!$A$2:$N$502,7,0)=0,\"\",VLOOKUP(F41,漢字書き!$A$2:$N$502,7,0)))","v":"み"},{"$f":"IF(G41=\"\",\"\",IF(VLOOKUP(G41,漢字書き!$A$2:$N$502,7,0)=0,\"\",VLOOKUP(G41,漢字書き!$A$2:$N$502,7,0)))","v":""},{"$f":"IF(H41=\"\",\"\",IF(VLOOKUP(H41,漢字書き!$A$2:$N$502,7,0)=0,\"\",VLOOKUP(H41,漢字書き!$A$2:$N$502,7,0)))","v":"がた"},{"$f":"IF(I41=\"\",\"\",IF(VLOOKUP(I41,漢字書き!$A$2:$N$502,7,0)=0,\"\",VLOOKUP(I41,漢字書き!$A$2:$N$502,7,0)))","v":"ふだ"},{"$f":"IF(J41=\"\",\"\",IF(VLOOKUP(J41,漢字書き!$A$2:$N$502,7,0)=0,\"\",VLOOKUP(J41,漢字書き!$A$2:$N$502,7,0)))","v":""},{"$f":"IF(K41=\"\",\"\",IF(VLOOKUP(K41,漢字読み!$A$2:$O$502,7,0)=0,\"\",VLOOKUP(K41,漢字読み!$A$2:$O$502,7,0)))","v":"すき"},{"$f":"IF(L41=\"\",\"\",IF(VLOOKUP(L41,漢字読み!$A$2:$O$502,7,0)=0,\"\",VLOOKUP(L41,漢字読み!$A$2:$O$502,7,0)))","v":""},{"$f":"IF(M41=\"\",\"\",IF(VLOOKUP(M41,漢字読み!$A$2:$O$502,7,0)=0,\"\",VLOOKUP(M41,漢字読み!$A$2:$O$502,7,0)))","v":"い"},{"$f":"IF(N41=\"\",\"\",IF(VLOOKUP(N41,漢字読み!$A$2:$O$502,7,0)=0,\"\",VLOOKUP(N41,漢字読み!$A$2:$O$502,7,0)))","v":""},{"$f":"IF(O41=\"\",\"\",IF(VLOOKUP(O41,漢字読み!$A$2:$O$502,7,0)=0,\"\",VLOOKUP(O41,漢字読み!$A$2:$O$502,7,0)))","v":""},{"$f":"IF(P41=\"\",\"\",IF(VLOOKUP(P41,漢字読み!$A$2:$O$502,7,0)=0,\"\",VLOOKUP(P41,漢字読み!$A$2:$O$502,7,0)))","v":""},{"$f":"IF(Q41=\"\",\"\",IF(VLOOKUP(Q41,漢字読み!$A$2:$O$502,7,0)=0,\"\",VLOOKUP(Q41,漢字読み!$A$2:$O$502,7,0)))","v":"び"},{"$f":"IF(R41=\"\",\"\",IF(VLOOKUP(R41,漢字読み!$A$2:$O$502,7,0)=0,\"\",VLOOKUP(R41,漢字読み!$A$2:$O$502,7,0)))","v":""},{"$f":"IF(S41=\"\",\"\",IF(VLOOKUP(S41,漢字読み!$A$2:$O$502,7,0)=0,\"\",VLOOKUP(S41,漢字読み!$A$2:$O$502,7,0)))","v":"えない"},{"$f":"IF(T41=\"\",\"\",IF(VLOOKUP(T41,漢字読み!$A$2:$O$502,7,0)=0,\"\",VLOOKUP(T41,漢字読み!$A$2:$O$502,7,0)))","v":""},null,null,"和歌山県教育委員会"]
[{"$f":"INDIRECT(\"'関数（書き）'!C\" & COLUMN(B$1)+SUM($AD$2:$AD47))","v":142},{"$f":"INDIRECT(\"'関数（書き）'!C\" & COLUMN(C$1)+SUM($AD$2:$AD47))","v":89},{"$f":"INDIRECT(\"'関数（書き）'!C\" & COLUMN(D$1)+SUM($AD$2:$AD47))","v":138},{"$f":"INDIRECT(\"'関数（書き）'!C\" & COLUMN(E$1)+SUM($AD$2:$AD47))","v":109},{"$f":"INDIRECT(\"'関数（書き）'!C\" & COLUMN(F$1)+SUM($AD$2:$AD47))","v":2},{"$f":"INDIRECT(\"'関数（書き）'!C\" & COLUMN(G$1)+SUM($AD$2:$AD47))","v":47},{"$f":"INDIRECT(\"'関数（書き）'!C\" & COLUMN(H$1)+SUM($AD$2:$AD47))","v":129},{"$f":"INDIRECT(\"'関数（書き）'!C\" & COLUMN(I$1)+SUM($AD$2:$AD47))","v":78},{"$f":"INDIRECT(\"'関数（書き）'!C\" & COLUMN(J$1)+SUM($AD$2:$AD47))","v":99},{"$f":"INDIRECT(\"'関数（書き）'!C\" & COLUMN(K$1)+SUM($AD$2:$AD47))","v":106},{"$f":"INDIRECT(\"'関数（読み）'!C\" & COLUMN(B$1)+SUM($AD$2:$AD47))","v":133},{"$f":"INDIRECT(\"'関数（読み）'!C\" & COLUMN(C$1)+SUM($AD$2:$AD47))","v":122},{"$f":"INDIRECT(\"'関数（読み）'!C\" & COLUMN(D$1)+SUM($AD$2:$AD47))","v":87},{"$f":"INDIRECT(\"'関数（読み）'!C\" & COLUMN(E$1)+SUM($AD$2:$AD47))","v":26},{"$f":"INDIRECT(\"'関数（読み）'!C\" & COLUMN(F$1)+SUM($AD$2:$AD47))","v":128},{"$f":"INDIRECT(\"'関数（読み）'!C\" & COLUMN(G$1)+SUM($AD$2:$AD47))","v":32},{"$f":"INDIRECT(\"'関数（読み）'!C\" & COLUMN(H$1)+SUM($AD$2:$AD47))","v":134},{"$f":"INDIRECT(\"'関数（読み）'!C\" & COLUMN(I$1)+SUM($AD$2:$AD47))","v":79},{"$f":"INDIRECT(\"'関数（読み）'!C\" & COLUMN(J$1)+SUM($AD$2:$AD47))","v":183},{"$f":"INDIRECT(\"'関数（読み）'!C\" & COLUMN(K$1)+SUM($AD$2:$AD47))","v":175}]
["⑳","⑲","⑱","⑰","⑯","⑮","⑭","⑬","⑫","⑪","⑩","⑨","⑧","⑦","⑥","⑤","④","③","②","①","次の［　　　　］の部分の漢字には読みがなをひらがなで書き、カタカナは漢字に直しなさい。",15,"「漢字の博士検定試験」練習問題　",null,null,null,null,null,"←",10,"問",{"$f":"AH42+1","v":51},"～",{"$f":"SUM($AD$2:$AD47)+10","v":60},"問まで",{"$f":"COUNTIF($A$1:$T$200,T48)","v":2}]
[{"$f":"IF(A46=\"\",\"\",VLOOKUP(A46,漢字書き!$A$2:$N$506,6,0))","v":"［ツチ］をはこぶ"},{"$f":"IF(B46=\"\",\"\",VLOOKUP(B46,漢字書き!$A$2:$N$506,6,0))","v":"がいこく［ジン］"},{"$f":"IF(C46=\"\",\"\",VLOOKUP(C46,漢字書き!$A$2:$N$506,6,0))","v":"［アマ］の川"},{"$f":"IF(D46=\"\",\"\",VLOOKUP(D46,漢字書き!$A$2:$N$506,6,0))","v":"［セン］のかぜになる"},{"$f":"IF(E46=\"\",\"\",VLOOKUP(E46,漢字書き!$A$2:$N$506,6,0))","v":"［ヒト］つの花"},{"$f":"IF(F46=\"\",\"\",VLOOKUP(F46,漢字書き!$A$2:$N$506,6,0))","v":"［ゴネン］生になる"},{"$f":"IF(G46=\"\",\"\",VLOOKUP(G46,漢字書き!$A$2:$N$506,6,0))","v":"［タケ］をわる"},{"$f":"IF(H46=\"\",\"\",VLOOKUP(H46,漢字書き!$A$2:$N$506,6,0))","v":"［シュツ］じょうする"},{"$f":"IF(I46=\"\",\"\",VLOOKUP(I46,漢字書き!$A$2:$N$506,6,0))","v":"たのしく［イ］きる"},{"$f":"IF(J46=\"\",\"\",VLOOKUP(J46,漢字書き!$A$2:$N$506,6,0))","v":"［セキ］はんをたく"},{"$f":"IF(K46=\"\",\"\",VLOOKUP(K46,漢字読み!$A$2:$O$506,6,0))","v":"［男］の子"},{"$f":"IF(L46=\"\",\"\",VLOOKUP(L46,漢字読み!$A$2:$O$506,6,0))","v":"［草］げんをあるく"},{"$f":"IF(M46=\"\",\"\",VLOOKUP(M46,漢字読み!$A$2:$O$506,6,0))","v":"［上］をむく"},{"$f":"IF(N46=\"\",\"\",VLOOKUP(N46,漢字読み!$A$2:$O$506,6,0))","v":"［入学］しき"},{"$f":"IF(O46=\"\",\"\",VLOOKUP(O46,漢字読み!$A$2:$O$506,6,0))","v":"［村］にすむ"},{"$f":"IF(P46=\"\",\"\",VLOOKUP(P46,漢字読み!$A$2:$O$506,6,0))","v":"［一休］さん"},{"$f":"IF(Q46=\"\",\"\",VLOOKUP(Q46,漢字読み!$A$2:$O$506,6,0))","v":"［竹］わをたべる"},{"$f":"IF(R46=\"\",\"\",VLOOKUP(R46,漢字読み!$A$2:$O$506,6,0))","v":"［出］ぱつする"},{"$f":"IF(S46=\"\",\"\",VLOOKUP(S46,漢字読み!$A$2:$O$506,6,0))","v":"［林］かん学校"},{"$f":"IF(T46=\"\",\"\",VLOOKUP(T46,漢字読み!$A$2:$O$506,6,0))","v":"［名］まえをかく"},null,"級"]
[null,null,null,null,null,null,null,null,null,null,null,null,null,null,null,null,null,null,null,null,null,"名前"]
[{"$f":"IF(A46=\"\",\"\",IF(VLOOKUP(A46,漢字書き!$A$2:$N$502,7,0)=0,\"\",VLOOKUP(A46,漢字書き!$A$2:$N$502,7,0)))","v":""},{"$f":"IF(B46=\"\",\"\",IF(VLOOKUP(B46,漢字書き!$A$2:$N$502,7,0)=0,\"\",VLOOKUP(B46,漢字書き!$A$2:$N$502,7,0)))","v":""},{"$f":"IF(C46=\"\",\"\",IF(VLOOKUP(C46,漢字書き!$A$2:$N$502,7,0)=0,\"\",VLOOKUP(C46,漢字書き!$A$2:$N$502,7,0)))","v":""},{"$f":"IF(D46=\"\",\"\",IF(VLOOKUP(D46,漢字書き!$A$2:$N$502,7,0)=0,\"\",VLOOKUP(D46,漢字書き!$A$2:$N$502,7,0)))","v":""},{"$f":"IF(E46=\"\",\"\",IF(VLOOKUP(E46,漢字書き!$A$2:$N$502,7,0)=0,\"\",VLOOKUP(E46,漢字書き!$A$2:$N$502,7,0)))","v":"つ"},{"$f":"IF(F46=\"\",\"\",IF(VLOOKUP(F46,漢字書き!$A$2:$N$502,7,0)=0,\"\",VLOOKUP(F46,漢字書き!$A$2:$N$502,7,0)))","v":"生"},{"$f":"IF(G46=\"\",\"\",IF(VLOOKUP(G46,漢字書き!$A$2:$N$502,7,0)=0,\"\",VLOOKUP(G46,漢字書き!$A$2:$N$502,7,0)))","v":""},{"$f":"IF(H46=\"\",\"\",IF(VLOOKUP(H46,漢字書き!$A$2:$N$502,7,0)=0,\"\",VLOOKUP(H46,漢字書き!$A$2:$N$502,7,0)))","v":"じょう"},{"$f":"IF(I46=\"\",\"\",IF(VLOOKUP(I46,漢字書き!$A$2:$N$502,7,0)=0,\"\",VLOOKUP(I46,漢字書き!$A$2:$N$502,7,0)))","v":"きる"},{"$f":"IF(J46=\"\",\"\",IF(VLOOKUP(J46,漢字書き!$A$2:$N$502,7,0)=0,\"\",VLOOKUP(J46,漢字書き!$A$2:$N$502,7,0)))","v":"はん"},{"$f":"IF(K46=\"\",\"\",IF(VLOOKUP(K46,漢字読み!$A$2:$O$502,7,0)=0,\"\",VLOOKUP(K46,漢字読み!$A$2:$O$502,7,0)))","v":"の子"},{"$f":"IF(L46=\"\",\"\",IF(VLOOKUP(L46,漢字読み!$A$2:$O$502,7,0)=0,\"\",VLOOKUP(L46,漢字読み!$A$2:$O$502,7,0)))","v":"げん"},{"$f":"IF(M46=\"\",\"\",IF(VLOOKUP(M46,漢字読み!$A$2:$O$502,7,0)=0,\"\",VLOOKUP(M46,漢字読み!$A$2:$O$502,7,0)))","v":""},{"$f":"IF(N46=\"\",\"\",IF(VLOOKUP(N46,漢字読み!$A$2:$O$502,7,0)=0,\"\",VLOOKUP(N46,漢字読み!$A$2:$O$502,7,0)))","v":"しき"},{"$f":"IF(O46=\"\",\"\",IF(VLOOKUP(O46,漢字読み!$A$2:$O$502,7,0)=0,\"\",VLOOKUP(O46,漢字読み!$A$2:$O$502,7,0)))","v":""},{"$f":"IF(P46=\"\",\"\",IF(VLOOKUP(P46,漢字読み!$A$2:$O$502,7,0)=0,\"\",VLOOKUP(P46,漢字読み!$A$2:$O$502,7,0)))","v":"さん"},{"$f":"IF(Q46=\"\",\"\",IF(VLOOKUP(Q46,漢字読み!$A$2:$O$502,7,0)=0,\"\",VLOOKUP(Q46,漢字読み!$A$2:$O$502,7,0)))","v":"わ"},{"$f":"IF(R46=\"\",\"\",IF(VLOOKUP(R46,漢字読み!$A$2:$O$502,7,0)=0,\"\",VLOOKUP(R46,漢字読み!$A$2:$O$502,7,0)))","v":""},{"$f":"IF(S46=\"\",\"\",IF(VLOOKUP(S46,漢字読み!$A$2:$O$502,7,0)=0,\"\",VLOOKUP(S46,漢字読み!$A$2:$O$502,7,0)))","v":"かん"},{"$f":"IF(T46=\"\",\"\",IF(VLOOKUP(T46,漢字読み!$A$2:$O$502,7,0)=0,\"\",VLOOKUP(T46,漢字読み!$A$2:$O$502,7,0)))","v":"まえ"},null,null,"和歌山県教育委員会"]
[{"$f":"A41","v":93},{"$f":"B41","v":65},14,17,139,32,25,102,164,22,129,117,107,16,3,75,27,76,50,43]
["⑳","⑲","⑱","⑰","⑯","⑮","⑭","⑬","⑫","⑪","⑩","⑨","⑧","⑦","⑥","⑤","④","③","②","①","次の［　　　　］の部分の漢字には読みがなをひらがなで書き、カタカナは漢字に直しなさい。",15,"「漢字の博士検定試験」練習問題　"]
[{"$f":"IF(A51=\"\",\"\",VLOOKUP(A51,漢字書き!$A$2:$N$506,6,0))","v":"［ミズ］がきれい"},{"$f":"IF(B51=\"\",\"\",VLOOKUP(B51,漢字書き!$A$2:$N$506,6,0))","v":"たぬきの［イトグルマ］"},{"$f":"IF(C51=\"\",\"\",VLOOKUP(C51,漢字書き!$A$2:$N$506,6,0))","v":"［ゲコウ］する"},{"$f":"IF(D51=\"\",\"\",VLOOKUP(D51,漢字書き!$A$2:$N$506,6,0))","v":"［ヒ］のようじん"},{"$f":"IF(E51=\"\",\"\",VLOOKUP(E51,漢字書き!$A$2:$N$506,6,0))","v":"［デン］えん"},{"$f":"IF(F51=\"\",\"\",VLOOKUP(F51,漢字書き!$A$2:$N$506,6,0))","v":"［ヤス］みじかん"},{"$f":"IF(G51=\"\",\"\",VLOOKUP(G51,漢字書き!$A$2:$N$506,6,0))","v":"［ガクリョク］があがる"},{"$f":"IF(H51=\"\",\"\",VLOOKUP(H51,漢字書き!$A$2:$N$506,6,0))","v":"［ユウ］がた"},{"$f":"IF(I51=\"\",\"\",VLOOKUP(I51,漢字書き!$A$2:$N$506,6,0))","v":"［ナ］ふだをつける"},{"$f":"IF(J51=\"\",\"\",VLOOKUP(J51,漢字書き!$A$2:$N$506,6,0))","v":"きれいな［ハナビ］"},{"$f":"IF(K51=\"\",\"\",VLOOKUP(K51,漢字読み!$A$2:$O$506,6,0))","v":"［大］すきなたべもの"},{"$f":"IF(L51=\"\",\"\",VLOOKUP(L51,漢字読み!$A$2:$O$506,6,0))","v":"［小川］がながれる"},{"$f":"IF(M51=\"\",\"\",VLOOKUP(M51,漢字読み!$A$2:$O$506,6,0))","v":"［青］いぼうし"},{"$f":"IF(N51=\"\",\"\",VLOOKUP(N51,漢字読み!$A$2:$O$506,6,0))","v":"つくえの［下］"},{"$f":"IF(O51=\"\",\"\",VLOOKUP(O51,漢字読み!$A$2:$O$506,6,0))","v":"まわれ［右］"},{"$f":"IF(P51=\"\",\"\",VLOOKUP(P51,漢字読み!$A$2:$O$506,6,0))","v":"［手］をあらう"},{"$f":"IF(Q51=\"\",\"\",VLOOKUP(Q51,漢字読み!$A$2:$O$506,6,0))","v":"［学］びをふかめる"},{"$f":"IF(R51=\"\",\"\",VLOOKUP(R51,漢字読み!$A$2:$O$506,6,0))","v":"［十二］までかぞえる"},{"$f":"IF(S51=\"\",\"\",VLOOKUP(S51,漢字読み!$A$2:$O$506,6,0))","v":"先が［見］えない"},{"$f":"IF(T51=\"\",\"\",VLOOKUP(T51,漢字読み!$A$2:$O$506,6,0))","v":"［一月］九日"},null,"級"]
[{"$f":"IF(A$11=\"\",\"\",VLOOKUP(A51,漢字書き!$A$2:$O$506,8,0))","v":"水"},{"$f":"IF(B$11=\"\",\"\",VLOOKUP(B51,漢字書き!$A$2:$O$506,8,0))","v":"糸車"},{"$f":"IF(C$11=\"\",\"\",VLOOKUP(C51,漢字書き!$A$2:$O$506,8,0))","v":"下校"},{"$f":"IF(D$11=\"\",\"\",VLOOKUP(D51,漢字書き!$A$2:$O$506,8,0))","v":"火"},{"$f":"IF(E$11=\"\",\"\",VLOOKUP(E51,漢字書き!$A$2:$O$506,8,0))","v":"田"},{"$f":"IF(F$11=\"\",\"\",VLOOKUP(F51,漢字書き!$A$2:$O$506,8,0))","v":"休"},{"$f":"IF(G$11=\"\",\"\",VLOOKUP(G51,漢字書き!$A$2:$O$506,8,0))","v":"学力"},{"$f":"IF(H$11=\"\",\"\",VLOOKUP(H51,漢字書き!$A$2:$O$506,8,0))","v":"夕"},{"$f":"IF(I$11=\"\",\"\",VLOOKUP(I51,漢字書き!$A$2:$O$506,8,0))","v":"名"},{"$f":"IF(J$11=\"\",\"\",VLOOKUP(J51,漢字書き!$A$2:$O$506,8,0))","v":"花火"},{"$f":"IF(K$11=\"\",\"\",VLOOKUP(K51,漢字読み!$A$2:$O$506,8,0))","v":"だい"},{"$f":"IF(L$11=\"\",\"\",VLOOKUP(L51,漢字読み!$A$2:$O$506,8,0))","v":"おがわ"},{"$f":"IF(M$11=\"\",\"\",VLOOKUP(M51,漢字読み!$A$2:$O$506,8,0))","v":"あお"},{"$f":"IF(N$11=\"\",\"\",VLOOKUP(N51,漢字読み!$A$2:$O$506,8,0))","v":"した"},{"$f":"IF(O$11=\"\",\"\",VLOOKUP(O51,漢字読み!$A$2:$O$506,8,0))","v":"みぎ"},{"$f":"IF(P$11=\"\",\"\",VLOOKUP(P51,漢字読み!$A$2:$O$506,8,0))","v":"て"},{"$f":"IF(Q$11=\"\",\"\",VLOOKUP(Q51,漢字読み!$A$2:$O$506,8,0))","v":"まな"},{"$f":"IF(R$11=\"\",\"\",VLOOKUP(R51,漢字読み!$A$2:$O$506,8,0))","v":"じゅうに"},{"$f":"IF(S$11=\"\",\"\",VLOOKUP(S51,漢字読み!$A$2:$O$506,8,0))","v":"み"},{"$f":"IF(T$11=\"\",\"\",VLOOKUP(T51,漢字読み!$A$2:$O$506,8,0))","v":"いちがつ"},null,"名前"]
[{"$f":"IF(A51=\"\",\"\",IF(VLOOKUP(A51,漢字書き!$A$2:$N$502,7,0)=0,\"\",VLOOKUP(A51,漢字書き!$A$2:$N$502,7,0)))","v":""},{"$f":"IF(B51=\"\",\"\",IF(VLOOKUP(B51,漢字書き!$A$2:$N$502,7,0)=0,\"\",VLOOKUP(B51,漢字書き!$A$2:$N$502,7,0)))","v":""},{"$f":"IF(C51=\"\",\"\",IF(VLOOKUP(C51,漢字書き!$A$2:$N$502,7,0)=0,\"\",VLOOKUP(C51,漢字書き!$A$2:$N$502,7,0)))","v":"する"},{"$f":"IF(D51=\"\",\"\",IF(VLOOKUP(D51,漢字書き!$A$2:$N$502,7,0)=0,\"\",VLOOKUP(D51,漢字書き!$A$2:$N$502,7,0)))","v":""},{"$f":"IF(E51=\"\",\"\",IF(VLOOKUP(E51,漢字書き!$A$2:$N$502,7,0)=0,\"\",VLOOKUP(E51,漢字書き!$A$2:$N$502,7,0)))","v":"えん"},{"$f":"IF(F51=\"\",\"\",IF(VLOOKUP(F51,漢字書き!$A$2:$N$502,7,0)=0,\"\",VLOOKUP(F51,漢字書き!$A$2:$N$502,7,0)))","v":"み"},{"$f":"IF(G51=\"\",\"\",IF(VLOOKUP(G51,漢字書き!$A$2:$N$502,7,0)=0,\"\",VLOOKUP(G51,漢字書き!$A$2:$N$502,7,0)))","v":""},{"$f":"IF(H51=\"\",\"\",IF(VLOOKUP(H51,漢字書き!$A$2:$N$502,7,0)=0,\"\",VLOOKUP(H51,漢字書き!$A$2:$N$502,7,0)))","v":"がた"},{"$f":"IF(I51=\"\",\"\",IF(VLOOKUP(I51,漢字書き!$A$2:$N$502,7,0)=0,\"\",VLOOKUP(I51,漢字書き!$A$2:$N$502,7,0)))","v":"ふだ"},{"$f":"IF(J51=\"\",\"\",IF(VLOOKUP(J51,漢字書き!$A$2:$N$502,7,0)=0,\"\",VLOOKUP(J51,漢字書き!$A$2:$N$502,7,0)))","v":""},{"$f":"IF(K51=\"\",\"\",IF(VLOOKUP(K51,漢字読み!$A$2:$O$502,7,0)=0,\"\",VLOOKUP(K51,漢字読み!$A$2:$O$502,7,0)))","v":"すき"},{"$f":"IF(L51=\"\",\"\",IF(VLOOKUP(L51,漢字読み!$A$2:$O$502,7,0)=0,\"\",VLOOKUP(L51,漢字読み!$A$2:$O$502,7,0)))","v":""},{"$f":"IF(M51=\"\",\"\",IF(VLOOKUP(M51,漢字読み!$A$2:$O$502,7,0)=0,\"\",VLOOKUP(M51,漢字読み!$A$2:$O$502,7,0)))","v":"い"},{"$f":"IF(N51=\"\",\"\",IF(VLOOKUP(N51,漢字読み!$A$2:$O$502,7,0)=0,\"\",VLOOKUP(N51,漢字読み!$A$2:$O$502,7,0)))","v":""},{"$f":"IF(O51=\"\",\"\",IF(VLOOKUP(O51,漢字読み!$A$2:$O$502,7,0)=0,\"\",VLOOKUP(O51,漢字読み!$A$2:$O$502,7,0)))","v":""},{"$f":"IF(P51=\"\",\"\",IF(VLOOKUP(P51,漢字読み!$A$2:$O$502,7,0)=0,\"\",VLOOKUP(P51,漢字読み!$A$2:$O$502,7,0)))","v":""},{"$f":"IF(Q51=\"\",\"\",IF(VLOOKUP(Q51,漢字読み!$A$2:$O$502,7,0)=0,\"\",VLOOKUP(Q51,漢字読み!$A$2:$O$502,7,0)))","v":"び"},{"$f":"IF(R51=\"\",\"\",IF(VLOOKUP(R51,漢字読み!$A$2:$O$502,7,0)=0,\"\",VLOOKUP(R51,漢字読み!$A$2:$O$502,7,0)))","v":""},{"$f":"IF(S51=\"\",\"\",IF(VLOOKUP(S51,漢字読み!$A$2:$O$502,7,0)=0,\"\",VLOOKUP(S51,漢字読み!$A$2:$O$502,7,0)))","v":"えない"},{"$f":"IF(T51=\"\",\"\",IF(VLOOKUP(T51,漢字読み!$A$2:$O$502,7,0)=0,\"\",VLOOKUP(T51,漢字読み!$A$2:$O$502,7,0)))","v":""},null,null,"和歌山県教育委員会"]
[{"$f":"A46","v":142},{"$f":"B46","v":89},138,109,2,47,129,78,99,106,133,122,87,26,128,32,134,79,183,175]
["⑳","⑲","⑱","⑰","⑯","⑮","⑭","⑬","⑫","⑪","⑩","⑨","⑧","⑦","⑥","⑤","④","③","②","①","次の［　　　　］の部分の漢字には読みがなをひらがなで書き、カタカナは漢字に直しなさい。",15,"「漢字の博士検定試験」練習問題　"]
[{"$f":"IF(A56=\"\",\"\",VLOOKUP(A56,漢字書き!$A$2:$N$506,6,0))","v":"［ツチ］をはこぶ"},{"$f":"IF(B56=\"\",\"\",VLOOKUP(B56,漢字書き!$A$2:$N$506,6,0))","v":"がいこく［ジン］"},{"$f":"IF(C56=\"\",\"\",VLOOKUP(C56,漢字書き!$A$2:$N$506,6,0))","v":"［アマ］の川"},{"$f":"IF(D56=\"\",\"\",VLOOKUP(D56,漢字書き!$A$2:$N$506,6,0))","v":"［セン］のかぜになる"},{"$f":"IF(E56=\"\",\"\",VLOOKUP(E56,漢字書き!$A$2:$N$506,6,0))","v":"［ヒト］つの花"},{"$f":"IF(F56=\"\",\"\",VLOOKUP(F56,漢字書き!$A$2:$N$506,6,0))","v":"［ゴネン］生になる"},{"$f":"IF(G56=\"\",\"\",VLOOKUP(G56,漢字書き!$A$2:$N$506,6,0))","v":"［タケ］をわる"},{"$f":"IF(H56=\"\",\"\",VLOOKUP(H56,漢字書き!$A$2:$N$506,6,0))","v":"［シュツ］じょうする"},{"$f":"IF(I56=\"\",\"\",VLOOKUP(I56,漢字書き!$A$2:$N$506,6,0))","v":"たのしく［イ］きる"},{"$f":"IF(J56=\"\",\"\",VLOOKUP(J56,漢字書き!$A$2:$N$506,6,0))","v":"［セキ］はんをたく"},{"$f":"IF(K56=\"\",\"\",VLOOKUP(K56,漢字読み!$A$2:$O$506,6,0))","v":"［男］の子"},{"$f":"IF(L56=\"\",\"\",VLOOKUP(L56,漢字読み!$A$2:$O$506,6,0))","v":"［草］げんをあるく"},{"$f":"IF(M56=\"\",\"\",VLOOKUP(M56,漢字読み!$A$2:$O$506,6,0))","v":"［上］をむく"},{"$f":"IF(N56=\"\",\"\",VLOOKUP(N56,漢字読み!$A$2:$O$506,6,0))","v":"［入学］しき"},{"$f":"IF(O56=\"\",\"\",VLOOKUP(O56,漢字読み!$A$2:$O$506,6,0))","v":"［村］にすむ"},{"$f":"IF(P56=\"\",\"\",VLOOKUP(P56,漢字読み!$A$2:$O$506,6,0))","v":"［一休］さん"},{"$f":"IF(Q56=\"\",\"\",VLOOKUP(Q56,漢字読み!$A$2:$O$506,6,0))","v":"［竹］わをたべる"},{"$f":"IF(R56=\"\",\"\",VLOOKUP(R56,漢字読み!$A$2:$O$506,6,0))","v":"［出］ぱつする"},{"$f":"IF(S56=\"\",\"\",VLOOKUP(S56,漢字読み!$A$2:$O$506,6,0))","v":"［林］かん学校"},{"$f":"IF(T56=\"\",\"\",VLOOKUP(T56,漢字読み!$A$2:$O$506,6,0))","v":"［名］まえをかく"},null,"級"]
[{"$f":"IF(A$16=\"\",\"\",VLOOKUP(A56,漢字書き!$A$2:$O$506,8,0))","v":"土"},{"$f":"IF(B$16=\"\",\"\",VLOOKUP(B56,漢字書き!$A$2:$O$506,8,0))","v":"人"},{"$f":"IF(C$16=\"\",\"\",VLOOKUP(C56,漢字書き!$A$2:$O$506,8,0))","v":"天"},{"$f":"IF(D$16=\"\",\"\",VLOOKUP(D56,漢字書き!$A$2:$O$506,8,0))","v":"千"},{"$f":"IF(E$16=\"\",\"\",VLOOKUP(E56,漢字書き!$A$2:$O$506,8,0))","v":"一"},{"$f":"IF(F$16=\"\",\"\",VLOOKUP(F56,漢字書き!$A$2:$O$506,8,0))","v":"五年"},{"$f":"IF(G$16=\"\",\"\",VLOOKUP(G56,漢字書き!$A$2:$O$506,8,0))","v":"竹"},{"$f":"IF(H$16=\"\",\"\",VLOOKUP(H56,漢字書き!$A$2:$O$506,8,0))","v":"出"},{"$f":"IF(I$16=\"\",\"\",VLOOKUP(I56,漢字書き!$A$2:$O$506,8,0))","v":"生"},{"$f":"IF(J$16=\"\",\"\",VLOOKUP(J56,漢字書き!$A$2:$O$506,8,0))","v":"赤"},{"$f":"IF(K$16=\"\",\"\",VLOOKUP(K56,漢字読み!$A$2:$O$506,8,0))","v":"おとこ"},{"$f":"IF(L$16=\"\",\"\",VLOOKUP(L56,漢字読み!$A$2:$O$506,8,0))","v":"そう"},{"$f":"IF(M$16=\"\",\"\",VLOOKUP(M56,漢字読み!$A$2:$O$506,8,0))","v":"うえ"},{"$f":"IF(N$16=\"\",\"\",VLOOKUP(N56,漢字読み!$A$2:$O$506,8,0))","v":"にゅうがく"},{"$f":"IF(O$16=\"\",\"\",VLOOKUP(O56,漢字読み!$A$2:$O$506,8,0))","v":"むら"},{"$f":"IF(P$16=\"\",\"\",VLOOKUP(P56,漢字読み!$A$2:$O$506,8,0))","v":"いっきゅう"},{"$f":"IF(Q$16=\"\",\"\",VLOOKUP(Q56,漢字読み!$A$2:$O$506,8,0))","v":"ちく"},{"$f":"IF(R$16=\"\",\"\",VLOOKUP(R56,漢字読み!$A$2:$O$506,8,0))","v":"しゅっ"},{"$f":"IF(S$16=\"\",\"\",VLOOKUP(S56,漢字読み!$A$2:$O$506,8,0))","v":"りん"},{"$f":"IF(T$16=\"\",\"\",VLOOKUP(T56,漢字読み!$A$2:$O$506,8,0))","v":"な"},null,"名前"]
[{"$f":"IF(A56=\"\",\"\",IF(VLOOKUP(A56,漢字書き!$A$2:$N$502,7,0)=0,\"\",VLOOKUP(A56,漢字書き!$A$2:$N$502,7,0)))","v":""},{"$f":"IF(B56=\"\",\"\",IF(VLOOKUP(B56,漢字書き!$A$2:$N$502,7,0)=0,\"\",VLOOKUP(B56,漢字書き!$A$2:$N$502,7,0)))","v":""},{"$f":"IF(C56=\"\",\"\",IF(VLOOKUP(C56,漢字書き!$A$2:$N$502,7,0)=0,\"\",VLOOKUP(C56,漢字書き!$A$2:$N$502,7,0)))","v":""},{"$f":"IF(D56=\"\",\"\",IF(VLOOKUP(D56,漢字書き!$A$2:$N$502,7,0)=0,\"\",VLOOKUP(D56,漢字書き!$A$2:$N$502,7,0)))","v":""},{"$f":"IF(E56=\"\",\"\",IF(VLOOKUP(E56,漢字書き!$A$2:$N$502,7,0)=0,\"\",VLOOKUP(E56,漢字書き!$A$2:$N$502,7,0)))","v":"つ"},{"$f":"IF(F56=\"\",\"\",IF(VLOOKUP(F56,漢字書き!$A$2:$N$502,7,0)=0,\"\",VLOOKUP(F56,漢字書き!$A$2:$N$502,7,0)))","v":"生"},{"$f":"IF(G56=\"\",\"\",IF(VLOOKUP(G56,漢字書き!$A$2:$N$502,7,0)=0,\"\",VLOOKUP(G56,漢字書き!$A$2:$N$502,7,0)))","v":""},{"$f":"IF(H56=\"\",\"\",IF(VLOOKUP(H56,漢字書き!$A$2:$N$502,7,0)=0,\"\",VLOOKUP(H56,漢字書き!$A$2:$N$502,7,0)))","v":"じょう"},{"$f":"IF(I56=\"\",\"\",IF(VLOOKUP(I56,漢字書き!$A$2:$N$502,7,0)=0,\"\",VLOOKUP(I56,漢字書き!$A$2:$N$502,7,0)))","v":"きる"},{"$f":"IF(J56=\"\",\"\",IF(VLOOKUP(J56,漢字書き!$A$2:$N$502,7,0)=0,\"\",VLOOKUP(J56,漢字書き!$A$2:$N$502,7,0)))","v":"はん"},{"$f":"IF(K56=\"\",\"\",IF(VLOOKUP(K56,漢字読み!$A$2:$O$502,7,0)=0,\"\",VLOOKUP(K56,漢字読み!$A$2:$O$502,7,0)))","v":"の子"},{"$f":"IF(L56=\"\",\"\",IF(VLOOKUP(L56,漢字読み!$A$2:$O$502,7,0)=0,\"\",VLOOKUP(L56,漢字読み!$A$2:$O$502,7,0)))","v":"げん"},{"$f":"IF(M56=\"\",\"\",IF(VLOOKUP(M56,漢字読み!$A$2:$O$502,7,0)=0,\"\",VLOOKUP(M56,漢字読み!$A$2:$O$502,7,0)))","v":""},{"$f":"IF(N56=\"\",\"\",IF(VLOOKUP(N56,漢字読み!$A$2:$O$502,7,0)=0,\"\",VLOOKUP(N56,漢字読み!$A$2:$O$502,7,0)))","v":"しき"},{"$f":"IF(O56=\"\",\"\",IF(VLOOKUP(O56,漢字読み!$A$2:$O$502,7,0)=0,\"\",VLOOKUP(O56,漢字読み!$A$2:$O$502,7,0)))","v":""},{"$f":"IF(P56=\"\",\"\",IF(VLOOKUP(P56,漢字読み!$A$2:$O$502,7,0)=0,\"\",VLOOKUP(P56,漢字読み!$A$2:$O$502,7,0)))","v":"さん"},{"$f":"IF(Q56=\"\",\"\",IF(VLOOKUP(Q56,漢字読み!$A$2:$O$502,7,0)=0,\"\",VLOOKUP(Q56,漢字読み!$A$2:$O$502,7,0)))","v":"わ"},{"$f":"IF(R56=\"\",\"\",IF(VLOOKUP(R56,漢字読み!$A$2:$O$502,7,0)=0,\"\",VLOOKUP(R56,漢字読み!$A$2:$O$502,7,0)))","v":""},{"$f":"IF(S56=\"\",\"\",IF(VLOOKUP(S56,漢字読み!$A$2:$O$502,7,0)=0,\"\",VLOOKUP(S56,漢字読み!$A$2:$O$502,7,0)))","v":"かん"},{"$f":"IF(T56=\"\",\"\",IF(VLOOKUP(T56,漢字読み!$A$2:$O$502,7,0)=0,\"\",VLOOKUP(T56,漢字読み!$A$2:$O$502,7,0)))","v":"まえ"},null,null,"和歌山県教育委員会"]
[{"$f":"INDIRECT(\"'関数（書き）'!C\" & COLUMN(B$1)+SUM($AD$2:$AD62))","v":150},{"$f":"INDIRECT(\"'関数（書き）'!C\" & COLUMN(C$1)+SUM($AD$2:$AD62))","v":59},{"$f":"INDIRECT(\"'関数（書き）'!C\" & COLUMN(D$1)+SUM($AD$2:$AD62))","v":86},{"$f":"INDIRECT(\"'関数（書き）'!C\" & COLUMN(E$1)+SUM($AD$2:$AD62))","v":140},{"$f":"INDIRECT(\"'関数（書き）'!C\" & COLUMN(F$1)+SUM($AD$2:$AD62))","v":117},{"$f":"INDIRECT(\"'関数（書き）'!C\" & COLUMN(G$1)+SUM($AD$2:$AD62))","v":12},{"$f":"INDIRECT(\"'関数（書き）'!C\" & COLUMN(H$1)+SUM($AD$2:$AD62))","v":7},{"$f":"INDIRECT(\"'関数（書き）'!C\" & COLUMN(I$1)+SUM($AD$2:$AD62))","v":16},{"$f":"INDIRECT(\"'関数（書き）'!C\" & COLUMN(J$1)+SUM($AD$2:$AD62))","v":152},{"$f":"INDIRECT(\"'関数（書き）'!C\" & COLUMN(K$1)+SUM($AD$2:$AD62))","v":42},{"$f":"INDIRECT(\"'関数（読み）'!C\" & COLUMN(B$1)+SUM($AD$2:$AD62))","v":89},{"$f":"INDIRECT(\"'関数（読み）'!C\" & COLUMN(C$1)+SUM($AD$2:$AD62))","v":65},{"$f":"INDIRECT(\"'関数（読み）'!C\" & COLUMN(D$1)+SUM($AD$2:$AD62))","v":125},{"$f":"INDIRECT(\"'関数（読み）'!C\" & COLUMN(E$1)+SUM($AD$2:$AD62))","v":29},{"$f":"INDIRECT(\"'関数（読み）'!C\" & COLUMN(F$1)+SUM($AD$2:$AD62))","v":7},{"$f":"INDIRECT(\"'関数（読み）'!C\" & COLUMN(G$1)+SUM($AD$2:$AD62))","v":119},{"$f":"INDIRECT(\"'関数（読み）'!C\" & COLUMN(H$1)+SUM($AD$2:$AD62))","v":38},{"$f":"INDIRECT(\"'関数（読み）'!C\" & COLUMN(I$1)+SUM($AD$2:$AD62))","v":155},{"$f":"INDIRECT(\"'関数（読み）'!C\" & COLUMN(J$1)+SUM($AD$2:$AD62))","v":136},{"$f":"INDIRECT(\"'関数（読み）'!C\" & COLUMN(K$1)+SUM($AD$2:$AD62))","v":64}]
["⑳","⑲","⑱","⑰","⑯","⑮","⑭","⑬","⑫","⑪","⑩","⑨","⑧","⑦","⑥","⑤","④","③","②","①","次の［　　　　］の部分の漢字には読みがなをひらがなで書き、カタカナは漢字に直しなさい。",15,"「漢字の博士検定試験」練習問題　",null,null,null,null,null,"←",10,"問",{"$f":"AH47+1","v":61},"～",{"$f":"SUM($AD$2:$AD62)+10","v":70},"問まで",{"$f":"COUNTIF($A$1:$T$200,T63)","v":2}]
[{"$f":"IF(A61=\"\",\"\",VLOOKUP(A61,漢字書き!$A$2:$N$506,6,0))","v":"［ネン］がじょう"},{"$f":"IF(B61=\"\",\"\",VLOOKUP(B61,漢字書き!$A$2:$N$506,6,0))","v":"［ヤマ］にのぼる"},{"$f":"IF(C61=\"\",\"\",VLOOKUP(C61,漢字書き!$A$2:$N$506,6,0))","v":"つくえの［ウエ］"},{"$f":"IF(D61=\"\",\"\",VLOOKUP(D61,漢字書き!$A$2:$N$506,6,0))","v":"はたけと［タ］んぼ"},{"$f":"IF(E61=\"\",\"\",VLOOKUP(E61,漢字書き!$A$2:$N$506,6,0))","v":"［クサ］をかる"},{"$f":"IF(F61=\"\",\"\",VLOOKUP(F61,漢字書き!$A$2:$N$506,6,0))","v":"［オト］がする"},{"$f":"IF(G61=\"\",\"\",VLOOKUP(G61,漢字書き!$A$2:$N$506,6,0))","v":"はげしい［アメ］"},{"$f":"IF(H61=\"\",\"\",VLOOKUP(H61,漢字書き!$A$2:$N$506,6,0))","v":"［カワシモ］の町"},{"$f":"IF(I61=\"\",\"\",VLOOKUP(I61,漢字書き!$A$2:$N$506,6,0))","v":"［ハク］まいをたべる"},{"$f":"IF(J61=\"\",\"\",VLOOKUP(J61,漢字書き!$A$2:$N$506,6,0))","v":"きしゅう［ケン］をかう"},{"$f":"IF(K61=\"\",\"\",VLOOKUP(K61,漢字読み!$A$2:$O$506,6,0))","v":"［森林］にいく"},{"$f":"IF(L61=\"\",\"\",VLOOKUP(L61,漢字読み!$A$2:$O$506,6,0))","v":"［四］つばのクローバー"},{"$f":"IF(M61=\"\",\"\",VLOOKUP(M61,漢字読み!$A$2:$O$506,6,0))","v":"［足］をあらう"},{"$f":"IF(N61=\"\",\"\",VLOOKUP(N61,漢字読み!$A$2:$O$506,6,0))","v":"やさしい［気］もち"},{"$f":"IF(O61=\"\",\"\",VLOOKUP(O61,漢字読み!$A$2:$O$506,6,0))","v":"［千円］さつ"},{"$f":"IF(P61=\"\",\"\",VLOOKUP(P61,漢字読み!$A$2:$O$506,6,0))","v":"［先］にいく"},{"$f":"IF(Q61=\"\",\"\",VLOOKUP(Q61,漢字読み!$A$2:$O$506,6,0))","v":"［金］ぎょをかう"},{"$f":"IF(R61=\"\",\"\",VLOOKUP(R61,漢字読み!$A$2:$O$506,6,0))","v":"［一年］生になる"},{"$f":"IF(S61=\"\",\"\",VLOOKUP(S61,漢字読み!$A$2:$O$506,6,0))","v":"べんきょう［中］"},{"$f":"IF(T61=\"\",\"\",VLOOKUP(T61,漢字読み!$A$2:$O$506,6,0))","v":"［四月］になる"},null,"級"]
[null,null,null,null,null,null,null,null,null,null,null,null,null,null,null,null,null,null,null,null,null,"名前"]
[{"$f":"IF(A61=\"\",\"\",IF(VLOOKUP(A61,漢字書き!$A$2:$N$502,7,0)=0,\"\",VLOOKUP(A61,漢字書き!$A$2:$N$502,7,0)))","v":"がじょう"},{"$f":"IF(B61=\"\",\"\",IF(VLOOKUP(B61,漢字書き!$A$2:$N$502,7,0)=0,\"\",VLOOKUP(B61,漢字書き!$A$2:$N$502,7,0)))","v":""},{"$f":"IF(C61=\"\",\"\",IF(VLOOKUP(C61,漢字書き!$A$2:$N$502,7,0)=0,\"\",VLOOKUP(C61,漢字書き!$A$2:$N$502,7,0)))","v":""},{"$f":"IF(D61=\"\",\"\",IF(VLOOKUP(D61,漢字書き!$A$2:$N$502,7,0)=0,\"\",VLOOKUP(D61,漢字書き!$A$2:$N$502,7,0)))","v":"んぼ"},{"$f":"IF(E61=\"\",\"\",IF(VLOOKUP(E61,漢字書き!$A$2:$N$502,7,0)=0,\"\",VLOOKUP(E61,漢字書き!$A$2:$N$502,7,0)))","v":""},{"$f":"IF(F61=\"\",\"\",IF(VLOOKUP(F61,漢字書き!$A$2:$N$502,7,0)=0,\"\",VLOOKUP(F61,漢字書き!$A$2:$N$502,7,0)))","v":""},{"$f":"IF(G61=\"\",\"\",IF(VLOOKUP(G61,漢字書き!$A$2:$N$502,7,0)=0,\"\",VLOOKUP(G61,漢字書き!$A$2:$N$502,7,0)))","v":""},{"$f":"IF(H61=\"\",\"\",IF(VLOOKUP(H61,漢字書き!$A$2:$N$502,7,0)=0,\"\",VLOOKUP(H61,漢字書き!$A$2:$N$502,7,0)))","v":""},{"$f":"IF(I61=\"\",\"\",IF(VLOOKUP(I61,漢字書き!$A$2:$N$502,7,0)=0,\"\",VLOOKUP(I61,漢字書き!$A$2:$N$502,7,0)))","v":"まい"},{"$f":"IF(J61=\"\",\"\",IF(VLOOKUP(J61,漢字書き!$A$2:$N$502,7,0)=0,\"\",VLOOKUP(J61,漢字書き!$A$2:$N$502,7,0)))","v":""},{"$f":"IF(K61=\"\",\"\",IF(VLOOKUP(K61,漢字読み!$A$2:$O$502,7,0)=0,\"\",VLOOKUP(K61,漢字読み!$A$2:$O$502,7,0)))","v":"よく"},{"$f":"IF(L61=\"\",\"\",IF(VLOOKUP(L61,漢字読み!$A$2:$O$502,7,0)=0,\"\",VLOOKUP(L61,漢字読み!$A$2:$O$502,7,0)))","v":"つば"},{"$f":"IF(M61=\"\",\"\",IF(VLOOKUP(M61,漢字読み!$A$2:$O$502,7,0)=0,\"\",VLOOKUP(M61,漢字読み!$A$2:$O$502,7,0)))","v":""},{"$f":"IF(N61=\"\",\"\",IF(VLOOKUP(N61,漢字読み!$A$2:$O$502,7,0)=0,\"\",VLOOKUP(N61,漢字読み!$A$2:$O$502,7,0)))","v":"もち"},{"$f":"IF(O61=\"\",\"\",IF(VLOOKUP(O61,漢字読み!$A$2:$O$502,7,0)=0,\"\",VLOOKUP(O61,漢字読み!$A$2:$O$502,7,0)))","v":"さつ"},{"$f":"IF(P61=\"\",\"\",IF(VLOOKUP(P61,漢字読み!$A$2:$O$502,7,0)=0,\"\",VLOOKUP(P61,漢字読み!$A$2:$O$502,7,0)))","v":""},{"$f":"IF(Q61=\"\",\"\",IF(VLOOKUP(Q61,漢字読み!$A$2:$O$502,7,0)=0,\"\",VLOOKUP(Q61,漢字読み!$A$2:$O$502,7,0)))","v":"ぎょ"},{"$f":"IF(R61=\"\",\"\",IF(VLOOKUP(R61,漢字読み!$A$2:$O$502,7,0)=0,\"\",VLOOKUP(R61,漢字読み!$A$2:$O$502,7,0)))","v":"生"},{"$f":"IF(S61=\"\",\"\",IF(VLOOKUP(S61,漢字読み!$A$2:$O$502,7,0)=0,\"\",VLOOKUP(S61,漢字読み!$A$2:$O$502,7,0)))","v":""},{"$f":"IF(T61=\"\",\"\",IF(VLOOKUP(T61,漢字読み!$A$2:$O$502,7,0)=0,\"\",VLOOKUP(T61,漢字読み!$A$2:$O$502,7,0)))","v":""},null,null,"和歌山県教育委員会"]
[{"$f":"INDIRECT(\"'関数（書き）'!C\" & COLUMN(B$1)+SUM($AD$2:$AD67))","v":113},{"$f":"INDIRECT(\"'関数（書き）'!C\" & COLUMN(C$1)+SUM($AD$2:$AD67))","v":131},{"$f":"INDIRECT(\"'関数（書き）'!C\" & COLUMN(D$1)+SUM($AD$2:$AD67))","v":107},{"$f":"INDIRECT(\"'関数（書き）'!C\" & COLUMN(E$1)+SUM($AD$2:$AD67))","v":128},{"$f":"INDIRECT(\"'関数（書き）'!C\" & COLUMN(F$1)+SUM($AD$2:$AD67))","v":167},{"$f":"INDIRECT(\"'関数（書き）'!C\" & COLUMN(G$1)+SUM($AD$2:$AD67))","v":13},{"$f":"INDIRECT(\"'関数（書き）'!C\" & COLUMN(H$1)+SUM($AD$2:$AD67))","v":136},{"$f":"INDIRECT(\"'関数（書き）'!C\" & COLUMN(I$1)+SUM($AD$2:$AD67))","v":121},{"$f":"INDIRECT(\"'関数（書き）'!C\" & COLUMN(J$1)+SUM($AD$2:$AD67))","v":35},{"$f":"INDIRECT(\"'関数（書き）'!C\" & COLUMN(K$1)+SUM($AD$2:$AD67))","v":125},{"$f":"INDIRECT(\"'関数（読み）'!C\" & COLUMN(B$1)+SUM($AD$2:$AD67))","v":57},{"$f":"INDIRECT(\"'関数（読み）'!C\" & COLUMN(C$1)+SUM($AD$2:$AD67))","v":185},{"$f":"INDIRECT(\"'関数（読み）'!C\" & COLUMN(D$1)+SUM($AD$2:$AD67))","v":95},{"$f":"INDIRECT(\"'関数（読み）'!C\" & COLUMN(E$1)+SUM($AD$2:$AD67))","v":80},{"$f":"INDIRECT(\"'関数（読み）'!C\" & COLUMN(F$1)+SUM($AD$2:$AD67))","v":99},{"$f":"INDIRECT(\"'関数（読み）'!C\" & COLUMN(G$1)+SUM($AD$2:$AD67))","v":21},{"$f":"INDIRECT(\"'関数（読み）'!C\" & COLUMN(H$1)+SUM($AD$2:$AD67))","v":141},{"$f":"INDIRECT(\"'関数（読み）'!C\" & COLUMN(I$1)+SUM($AD$2:$AD67))","v":14},{"$f":"INDIRECT(\"'関数（読み）'!C\" & COLUMN(J$1)+SUM($AD$2:$AD67))","v":118},{"$f":"INDIRECT(\"'関数（読み）'!C\" & COLUMN(K$1)+SUM($AD$2:$AD67))","v":78}]
["⑳","⑲","⑱","⑰","⑯","⑮","⑭","⑬","⑫","⑪","⑩","⑨","⑧","⑦","⑥","⑤","④","③","②","①","次の［　　　　］の部分の漢字には読みがなをひらがなで書き、カタカナは漢字に直しなさい。",15,"「漢字の博士検定試験」練習問題　",null,null,null,null,null,"←",10,"問",{"$f":"AH62+1","v":71},"～",{"$f":"SUM($AD$2:$AD67)+10","v":80},"問まで",{"$f":"COUNTIF($A$1:$T$200,T68)","v":2}]
[{"$f":"IF(A66=\"\",\"\",VLOOKUP(A66,漢字書き!$A$2:$N$506,6,0))","v":"［サキ］にいく"},{"$f":"IF(B66=\"\",\"\",VLOOKUP(B66,漢字書き!$A$2:$N$506,6,0))","v":"かばんの［ナカ］"},{"$f":"IF(C66=\"\",\"\",VLOOKUP(C66,漢字書き!$A$2:$N$506,6,0))","v":"［アカ］い花"},{"$f":"IF(D66=\"\",\"\",VLOOKUP(D66,漢字書き!$A$2:$N$506,6,0))","v":"［タケ］やぶやけた"},{"$f":"IF(E66=\"\",\"\",VLOOKUP(E66,漢字書き!$A$2:$N$506,6,0))","v":"［メ］をさます"},{"$f":"IF(F66=\"\",\"\",VLOOKUP(F66,漢字書き!$A$2:$N$506,6,0))","v":"たいこの［オト］"},{"$f":"IF(G66=\"\",\"\",VLOOKUP(G66,漢字書き!$A$2:$N$506,6,0))","v":"［マチ］へいく"},{"$f":"IF(H66=\"\",\"\",VLOOKUP(H66,漢字書き!$A$2:$N$506,6,0))","v":"［ソン］ちょうさん"},{"$f":"IF(I66=\"\",\"\",VLOOKUP(I66,漢字書き!$A$2:$N$506,6,0))","v":"［キン］しょう"},{"$f":"IF(J66=\"\",\"\",VLOOKUP(J66,漢字書き!$A$2:$N$506,6,0))","v":"［オオ］きいはこ"},{"$f":"IF(K66=\"\",\"\",VLOOKUP(K66,漢字読み!$A$2:$O$506,6,0))","v":"［左右］のかくにん"},{"$f":"IF(L66=\"\",\"\",VLOOKUP(L66,漢字読み!$A$2:$O$506,6,0))","v":"［六年］生をおくる"},{"$f":"IF(M66=\"\",\"\",VLOOKUP(M66,漢字読み!$A$2:$O$506,6,0))","v":"［水］あそび"},{"$f":"IF(N66=\"\",\"\",VLOOKUP(N66,漢字読み!$A$2:$O$506,6,0))","v":"はがきを［出］す"},{"$f":"IF(O66=\"\",\"\",VLOOKUP(O66,漢字読み!$A$2:$O$506,6,0))","v":"あたらしい［生］めい"},{"$f":"IF(P66=\"\",\"\",VLOOKUP(P66,漢字読み!$A$2:$O$506,6,0))","v":"コスモスの［花］"},{"$f":"IF(Q66=\"\",\"\",VLOOKUP(Q66,漢字読み!$A$2:$O$506,6,0))","v":"［町］にでかける"},{"$f":"IF(R66=\"\",\"\",VLOOKUP(R66,漢字読み!$A$2:$O$506,6,0))","v":"川の［下］りゅう"},{"$f":"IF(S66=\"\",\"\",VLOOKUP(S66,漢字読み!$A$2:$O$506,6,0))","v":"［先生］におそわる"},{"$f":"IF(T66=\"\",\"\",VLOOKUP(T66,漢字読み!$A$2:$O$506,6,0))","v":"［十日］がたつ"},null,"級"]
[null,null,null,null,null,null,null,null,null,null,null,null,null,null,null,null,null,null,null,null,null,"名前"]
[{"$f":"IF(A66=\"\",\"\",IF(VLOOKUP(A66,漢字書き!$A$2:$N$502,7,0)=0,\"\",VLOOKUP(A66,漢字書き!$A$2:$N$502,7,0)))","v":""},{"$f":"IF(B66=\"\",\"\",IF(VLOOKUP(B66,漢字書き!$A$2:$N$502,7,0)=0,\"\",VLOOKUP(B66,漢字書き!$A$2:$N$502,7,0)))","v":""},{"$f":"IF(C66=\"\",\"\",IF(VLOOKUP(C66,漢字書き!$A$2:$N$502,7,0)=0,\"\",VLOOKUP(C66,漢字書き!$A$2:$N$502,7,0)))","v":"い"},{"$f":"IF(D66=\"\",\"\",IF(VLOOKUP(D66,漢字書き!$A$2:$N$502,7,0)=0,\"\",VLOOKUP(D66,漢字書き!$A$2:$N$502,7,0)))","v":"やぶ"},{"$f":"IF(E66=\"\",\"\",IF(VLOOKUP(E66,漢字書き!$A$2:$N$502,7,0)=0,\"\",VLOOKUP(E66,漢字書き!$A$2:$N$502,7,0)))","v":""},{"$f":"IF(F66=\"\",\"\",IF(VLOOKUP(F66,漢字書き!$A$2:$N$502,7,0)=0,\"\",VLOOKUP(F66,漢字書き!$A$2:$N$502,7,0)))","v":""},{"$f":"IF(G66=\"\",\"\",IF(VLOOKUP(G66,漢字書き!$A$2:$N$502,7,0)=0,\"\",VLOOKUP(G66,漢字書き!$A$2:$N$502,7,0)))","v":""},{"$f":"IF(H66=\"\",\"\",IF(VLOOKUP(H66,漢字書き!$A$2:$N$502,7,0)=0,\"\",VLOOKUP(H66,漢字書き!$A$2:$N$502,7,0)))","v":"ちょう"},{"$f":"IF(I66=\"\",\"\",IF(VLOOKUP(I66,漢字書き!$A$2:$N$502,7,0)=0,\"\",VLOOKUP(I66,漢字書き!$A$2:$N$502,7,0)))","v":"しょう"},{"$f":"IF(J66=\"\",\"\",IF(VLOOKUP(J66,漢字書き!$A$2:$N$502,7,0)=0,\"\",VLOOKUP(J66,漢字書き!$A$2:$N$502,7,0)))","v":"きい"},{"$f":"IF(K66=\"\",\"\",IF(VLOOKUP(K66,漢字読み!$A$2:$O$502,7,0)=0,\"\",VLOOKUP(K66,漢字読み!$A$2:$O$502,7,0)))","v":""},{"$f":"IF(L66=\"\",\"\",IF(VLOOKUP(L66,漢字読み!$A$2:$O$502,7,0)=0,\"\",VLOOKUP(L66,漢字読み!$A$2:$O$502,7,0)))","v":"生"},{"$f":"IF(M66=\"\",\"\",IF(VLOOKUP(M66,漢字読み!$A$2:$O$502,7,0)=0,\"\",VLOOKUP(M66,漢字読み!$A$2:$O$502,7,0)))","v":"あそび"},{"$f":"IF(N66=\"\",\"\",IF(VLOOKUP(N66,漢字読み!$A$2:$O$502,7,0)=0,\"\",VLOOKUP(N66,漢字読み!$A$2:$O$502,7,0)))","v":"す"},{"$f":"IF(O66=\"\",\"\",IF(VLOOKUP(O66,漢字読み!$A$2:$O$502,7,0)=0,\"\",VLOOKUP(O66,漢字読み!$A$2:$O$502,7,0)))","v":"めい"},{"$f":"IF(P66=\"\",\"\",IF(VLOOKUP(P66,漢字読み!$A$2:$O$502,7,0)=0,\"\",VLOOKUP(P66,漢字読み!$A$2:$O$502,7,0)))","v":""},{"$f":"IF(Q66=\"\",\"\",IF(VLOOKUP(Q66,漢字読み!$A$2:$O$502,7,0)=0,\"\",VLOOKUP(Q66,漢字読み!$A$2:$O$502,7,0)))","v":""},{"$f":"IF(R66=\"\",\"\",IF(VLOOKUP(R66,漢字読み!$A$2:$O$502,7,0)=0,\"\",VLOOKUP(R66,漢字読み!$A$2:$O$502,7,0)))","v":"りゅう"},{"$f":"IF(S66=\"\",\"\",IF(VLOOKUP(S66,漢字読み!$A$2:$O$502,7,0)=0,\"\",VLOOKUP(S66,漢字読み!$A$2:$O$502,7,0)))","v":""},{"$f":"IF(T66=\"\",\"\",IF(VLOOKUP(T66,漢字読み!$A$2:$O$502,7,0)=0,\"\",VLOOKUP(T66,漢字読み!$A$2:$O$502,7,0)))","v":""},null,null,"和歌山県教育委員会"]
[{"$f":"A61","v":150},{"$f":"B61","v":59},86,140,117,12,7,16,152,42,89,65,125,29,7,119,38,155,136,64]
["⑳","⑲","⑱","⑰","⑯","⑮","⑭","⑬","⑫","⑪","⑩","⑨","⑧","⑦","⑥","⑤","④","③","②","①","次の［　　　　］の部分の漢字には読みがなをひらがなで書き、カタカナは漢字に直しなさい。",15,"「漢字の博士検定試験」練習問題　"]
[{"$f":"IF(A71=\"\",\"\",VLOOKUP(A71,漢字書き!$A$2:$N$506,6,0))","v":"［ネン］がじょう"},{"$f":"IF(B71=\"\",\"\",VLOOKUP(B71,漢字書き!$A$2:$N$506,6,0))","v":"［ヤマ］にのぼる"},{"$f":"IF(C71=\"\",\"\",VLOOKUP(C71,漢字書き!$A$2:$N$506,6,0))","v":"つくえの［ウエ］"},{"$f":"IF(D71=\"\",\"\",VLOOKUP(D71,漢字書き!$A$2:$N$506,6,0))","v":"はたけと［タ］んぼ"},{"$f":"IF(E71=\"\",\"\",VLOOKUP(E71,漢字書き!$A$2:$N$506,6,0))","v":"［クサ］をかる"},{"$f":"IF(F71=\"\",\"\",VLOOKUP(F71,漢字書き!$A$2:$N$506,6,0))","v":"［オト］がする"},{"$f":"IF(G71=\"\",\"\",VLOOKUP(G71,漢字書き!$A$2:$N$506,6,0))","v":"はげしい［アメ］"},{"$f":"IF(H71=\"\",\"\",VLOOKUP(H71,漢字書き!$A$2:$N$506,6,0))","v":"［カワシモ］の町"},{"$f":"IF(I71=\"\",\"\",VLOOKUP(I71,漢字書き!$A$2:$N$506,6,0))","v":"［ハク］まいをたべる"},{"$f":"IF(J71=\"\",\"\",VLOOKUP(J71,漢字書き!$A$2:$N$506,6,0))","v":"きしゅう［ケン］をかう"},{"$f":"IF(K71=\"\",\"\",VLOOKUP(K71,漢字読み!$A$2:$O$506,6,0))","v":"［森林］にいく"},{"$f":"IF(L71=\"\",\"\",VLOOKUP(L71,漢字読み!$A$2:$O$506,6,0))","v":"［四］つばのクローバー"},{"$f":"IF(M71=\"\",\"\",VLOOKUP(M71,漢字読み!$A$2:$O$506,6,0))","v":"［足］をあらう"},{"$f":"IF(N71=\"\",\"\",VLOOKUP(N71,漢字読み!$A$2:$O$506,6,0))","v":"やさしい［気］もち"},{"$f":"IF(O71=\"\",\"\",VLOOKUP(O71,漢字読み!$A$2:$O$506,6,0))","v":"［千円］さつ"},{"$f":"IF(P71=\"\",\"\",VLOOKUP(P71,漢字読み!$A$2:$O$506,6,0))","v":"［先］にいく"},{"$f":"IF(Q71=\"\",\"\",VLOOKUP(Q71,漢字読み!$A$2:$O$506,6,0))","v":"［金］ぎょをかう"},{"$f":"IF(R71=\"\",\"\",VLOOKUP(R71,漢字読み!$A$2:$O$506,6,0))","v":"［一年］生になる"},{"$f":"IF(S71=\"\",\"\",VLOOKUP(S71,漢字読み!$A$2:$O$506,6,0))","v":"べんきょう［中］"},{"$f":"IF(T71=\"\",\"\",VLOOKUP(T71,漢字読み!$A$2:$O$506,6,0))","v":"［四月］になる"},null,"級"]
[{"$f":"IF(A$11=\"\",\"\",VLOOKUP(A71,漢字書き!$A$2:$O$506,8,0))","v":"年"},{"$f":"IF(B$11=\"\",\"\",VLOOKUP(B71,漢字書き!$A$2:$O$506,8,0))","v":"山"},{"$f":"IF(C$11=\"\",\"\",VLOOKUP(C71,漢字書き!$A$2:$O$506,8,0))","v":"上"},{"$f":"IF(D$11=\"\",\"\",VLOOKUP(D71,漢字書き!$A$2:$O$506,8,0))","v":"田"},{"$f":"IF(E$11=\"\",\"\",VLOOKUP(E71,漢字書き!$A$2:$O$506,8,0))","v":"草"},{"$f":"IF(F$11=\"\",\"\",VLOOKUP(F71,漢字書き!$A$2:$O$506,8,0))","v":"音"},{"$f":"IF(G$11=\"\",\"\",VLOOKUP(G71,漢字書き!$A$2:$O$506,8,0))","v":"雨"},{"$f":"IF(H$11=\"\",\"\",VLOOKUP(H71,漢字書き!$A$2:$O$506,8,0))","v":"川下"},{"$f":"IF(I$11=\"\",\"\",VLOOKUP(I71,漢字書き!$A$2:$O$506,8,0))","v":"白"},{"$f":"IF(J$11=\"\",\"\",VLOOKUP(J71,漢字書き!$A$2:$O$506,8,0))","v":"犬"},{"$f":"IF(K$11=\"\",\"\",VLOOKUP(K71,漢字読み!$A$2:$O$506,8,0))","v":"しんりん"},{"$f":"IF(L$11=\"\",\"\",VLOOKUP(L71,漢字読み!$A$2:$O$506,8,0))","v":"よ"},{"$f":"IF(M$11=\"\",\"\",VLOOKUP(M71,漢字読み!$A$2:$O$506,8,0))","v":"あし"},{"$f":"IF(N$11=\"\",\"\",VLOOKUP(N71,漢字読み!$A$2:$O$506,8,0))","v":"き"},{"$f":"IF(O$11=\"\",\"\",VLOOKUP(O71,漢字読み!$A$2:$O$506,8,0))","v":"せんえん"},{"$f":"IF(P$11=\"\",\"\",VLOOKUP(P71,漢字読み!$A$2:$O$506,8,0))","v":"さき"},{"$f":"IF(Q$11=\"\",\"\",VLOOKUP(Q71,漢字読み!$A$2:$O$506,8,0))","v":"きん"},{"$f":"IF(R$11=\"\",\"\",VLOOKUP(R71,漢字読み!$A$2:$O$506,8,0))","v":"いちねん"},{"$f":"IF(S$11=\"\",\"\",VLOOKUP(S71,漢字読み!$A$2:$O$506,8,0))","v":"ちゅう"},{"$f":"IF(T$11=\"\",\"\",VLOOKUP(T71,漢字読み!$A$2:$O$506,8,0))","v":"しがつ"},null,"名前"]
[{"$f":"IF(A71=\"\",\"\",IF(VLOOKUP(A71,漢字書き!$A$2:$N$502,7,0)=0,\"\",VLOOKUP(A71,漢字書き!$A$2:$N$502,7,0)))","v":"がじょう"},{"$f":"IF(B71=\"\",\"\",IF(VLOOKUP(B71,漢字書き!$A$2:$N$502,7,0)=0,\"\",VLOOKUP(B71,漢字書き!$A$2:$N$502,7,0)))","v":""},{"$f":"IF(C71=\"\",\"\",IF(VLOOKUP(C71,漢字書き!$A$2:$N$502,7,0)=0,\"\",VLOOKUP(C71,漢字書き!$A$2:$N$502,7,0)))","v":""},{"$f":"IF(D71=\"\",\"\",IF(VLOOKUP(D71,漢字書き!$A$2:$N$502,7,0)=0,\"\",VLOOKUP(D71,漢字書き!$A$2:$N$502,7,0)))","v":"んぼ"},{"$f":"IF(E71=\"\",\"\",IF(VLOOKUP(E71,漢字書き!$A$2:$N$502,7,0)=0,\"\",VLOOKUP(E71,漢字書き!$A$2:$N$502,7,0)))","v":""},{"$f":"IF(F71=\"\",\"\",IF(VLOOKUP(F71,漢字書き!$A$2:$N$502,7,0)=0,\"\",VLOOKUP(F71,漢字書き!$A$2:$N$502,7,0)))","v":""},{"$f":"IF(G71=\"\",\"\",IF(VLOOKUP(G71,漢字書き!$A$2:$N$502,7,0)=0,\"\",VLOOKUP(G71,漢字書き!$A$2:$N$502,7,0)))","v":""},{"$f":"IF(H71=\"\",\"\",IF(VLOOKUP(H71,漢字書き!$A$2:$N$502,7,0)=0,\"\",VLOOKUP(H71,漢字書き!$A$2:$N$502,7,0)))","v":""},{"$f":"IF(I71=\"\",\"\",IF(VLOOKUP(I71,漢字書き!$A$2:$N$502,7,0)=0,\"\",VLOOKUP(I71,漢字書き!$A$2:$N$502,7,0)))","v":"まい"},{"$f":"IF(J71=\"\",\"\",IF(VLOOKUP(J71,漢字書き!$A$2:$N$502,7,0)=0,\"\",VLOOKUP(J71,漢字書き!$A$2:$N$502,7,0)))","v":""},{"$f":"IF(K71=\"\",\"\",IF(VLOOKUP(K71,漢字読み!$A$2:$O$502,7,0)=0,\"\",VLOOKUP(K71,漢字読み!$A$2:$O$502,7,0)))","v":"よく"},{"$f":"IF(L71=\"\",\"\",IF(VLOOKUP(L71,漢字読み!$A$2:$O$502,7,0)=0,\"\",VLOOKUP(L71,漢字読み!$A$2:$O$502,7,0)))","v":"つば"},{"$f":"IF(M71=\"\",\"\",IF(VLOOKUP(M71,漢字読み!$A$2:$O$502,7,0)=0,\"\",VLOOKUP(M71,漢字読み!$A$2:$O$502,7,0)))","v":""},{"$f":"IF(N71=\"\",\"\",IF(VLOOKUP(N71,漢字読み!$A$2:$O$502,7,0)=0,\"\",VLOOKUP(N71,漢字読み!$A$2:$O$502,7,0)))","v":"もち"},{"$f":"IF(O71=\"\",\"\",IF(VLOOKUP(O71,漢字読み!$A$2:$O$502,7,0)=0,\"\",VLOOKUP(O71,漢字読み!$A$2:$O$502,7,0)))","v":"さつ"},{"$f":"IF(P71=\"\",\"\",IF(VLOOKUP(P71,漢字読み!$A$2:$O$502,7,0)=0,\"\",VLOOKUP(P71,漢字読み!$A$2:$O$502,7,0)))","v":""},{"$f":"IF(Q71=\"\",\"\",IF(VLOOKUP(Q71,漢字読み!$A$2:$O$502,7,0)=0,\"\",VLOOKUP(Q71,漢字読み!$A$2:$O$502,7,0)))","v":"ぎょ"},{"$f":"IF(R71=\"\",\"\",IF(VLOOKUP(R71,漢字読み!$A$2:$O$502,7,0)=0,\"\",VLOOKUP(R71,漢字読み!$A$2:$O$502,7,0)))","v":"生"},{"$f":"IF(S71=\"\",\"\",IF(VLOOKUP(S71,漢字読み!$A$2:$O$502,7,0)=0,\"\",VLOOKUP(S71,漢字読み!$A$2:$O$502,7,0)))","v":""},{"$f":"IF(T71=\"\",\"\",IF(VLOOKUP(T71,漢字読み!$A$2:$O$502,7,0)=0,\"\",VLOOKUP(T71,漢字読み!$A$2:$O$502,7,0)))","v":""},null,null,"和歌山県教育委員会"]
[{"$f":"A66","v":113},{"$f":"B66","v":131},107,128,167,13,136,121,35,125,57,185,95,80,99,21,141,14,118,78]
["⑳","⑲","⑱","⑰","⑯","⑮","⑭","⑬","⑫","⑪","⑩","⑨","⑧","⑦","⑥","⑤","④","③","②","①","次の［　　　　］の部分の漢字には読みがなをひらがなで書き、カタカナは漢字に直しなさい。",15,"「漢字の博士検定試験」練習問題　"]
[{"$f":"IF(A76=\"\",\"\",VLOOKUP(A76,漢字書き!$A$2:$N$506,6,0))","v":"［サキ］にいく"},{"$f":"IF(B76=\"\",\"\",VLOOKUP(B76,漢字書き!$A$2:$N$506,6,0))","v":"かばんの［ナカ］"},{"$f":"IF(C76=\"\",\"\",VLOOKUP(C76,漢字書き!$A$2:$N$506,6,0))","v":"［アカ］い花"},{"$f":"IF(D76=\"\",\"\",VLOOKUP(D76,漢字書き!$A$2:$N$506,6,0))","v":"［タケ］やぶやけた"},{"$f":"IF(E76=\"\",\"\",VLOOKUP(E76,漢字書き!$A$2:$N$506,6,0))","v":"［メ］をさます"},{"$f":"IF(F76=\"\",\"\",VLOOKUP(F76,漢字書き!$A$2:$N$506,6,0))","v":"たいこの［オト］"},{"$f":"IF(G76=\"\",\"\",VLOOKUP(G76,漢字書き!$A$2:$N$506,6,0))","v":"［マチ］へいく"},{"$f":"IF(H76=\"\",\"\",VLOOKUP(H76,漢字書き!$A$2:$N$506,6,0))","v":"［ソン］ちょうさん"},{"$f":"IF(I76=\"\",\"\",VLOOKUP(I76,漢字書き!$A$2:$N$506,6,0))","v":"［キン］しょう"},{"$f":"IF(J76=\"\",\"\",VLOOKUP(J76,漢字書き!$A$2:$N$506,6,0))","v":"［オオ］きいはこ"},{"$f":"IF(K76=\"\",\"\",VLOOKUP(K76,漢字読み!$A$2:$O$506,6,0))","v":"［左右］のかくにん"},{"$f":"IF(L76=\"\",\"\",VLOOKUP(L76,漢字読み!$A$2:$O$506,6,0))","v":"［六年］生をおくる"},{"$f":"IF(M76=\"\",\"\",VLOOKUP(M76,漢字読み!$A$2:$O$506,6,0))","v":"［水］あそび"},{"$f":"IF(N76=\"\",\"\",VLOOKUP(N76,漢字読み!$A$2:$O$506,6,0))","v":"はがきを［出］す"},{"$f":"IF(O76=\"\",\"\",VLOOKUP(O76,漢字読み!$A$2:$O$506,6,0))","v":"あたらしい［生］めい"},{"$f":"IF(P76=\"\",\"\",VLOOKUP(P76,漢字読み!$A$2:$O$506,6,0))","v":"コスモスの［花］"},{"$f":"IF(Q76=\"\",\"\",VLOOKUP(Q76,漢字読み!$A$2:$O$506,6,0))","v":"［町］にでかける"},{"$f":"IF(R76=\"\",\"\",VLOOKUP(R76,漢字読み!$A$2:$O$506,6,0))","v":"川の［下］りゅう"},{"$f":"IF(S76=\"\",\"\",VLOOKUP(S76,漢字読み!$A$2:$O$506,6,0))","v":"［先生］におそわる"},{"$f":"IF(T76=\"\",\"\",VLOOKUP(T76,漢字読み!$A$2:$O$506,6,0))","v":"［十日］がたつ"},null,"級"]
[{"$f":"IF(A$16=\"\",\"\",VLOOKUP(A76,漢字書き!$A$2:$O$506,8,0))","v":"先"},{"$f":"IF(B$16=\"\",\"\",VLOOKUP(B76,漢字書き!$A$2:$O$506,8,0))","v":"中"},{"$f":"IF(C$16=\"\",\"\",VLOOKUP(C76,漢字書き!$A$2:$O$506,8,0))","v":"赤"},{"$f":"IF(D$16=\"\",\"\",VLOOKUP(D76,漢字書き!$A$2:$O$506,8,0))","v":"竹"},{"$f":"IF(E$16=\"\",\"\",VLOOKUP(E76,漢字書き!$A$2:$O$506,8,0))","v":"目"},{"$f":"IF(F$16=\"\",\"\",VLOOKUP(F76,漢字書き!$A$2:$O$506,8,0))","v":"音"},{"$f":"IF(G$16=\"\",\"\",VLOOKUP(G76,漢字書き!$A$2:$O$506,8,0))","v":"町"},{"$f":"IF(H$16=\"\",\"\",VLOOKUP(H76,漢字書き!$A$2:$O$506,8,0))","v":"村"},{"$f":"IF(I$16=\"\",\"\",VLOOKUP(I76,漢字書き!$A$2:$O$506,8,0))","v":"金"},{"$f":"IF(J$16=\"\",\"\",VLOOKUP(J76,漢字書き!$A$2:$O$506,8,0))","v":"大"},{"$f":"IF(K$16=\"\",\"\",VLOOKUP(K76,漢字読み!$A$2:$O$506,8,0))","v":"さゆう"},{"$f":"IF(L$16=\"\",\"\",VLOOKUP(L76,漢字読み!$A$2:$O$506,8,0))","v":"ろくねん"},{"$f":"IF(M$16=\"\",\"\",VLOOKUP(M76,漢字読み!$A$2:$O$506,8,0))","v":"みず"},{"$f":"IF(N$16=\"\",\"\",VLOOKUP(N76,漢字読み!$A$2:$O$506,8,0))","v":"だ"},{"$f":"IF(O$16=\"\",\"\",VLOOKUP(O76,漢字読み!$A$2:$O$506,8,0))","v":"せい"},{"$f":"IF(P$16=\"\",\"\",VLOOKUP(P76,漢字読み!$A$2:$O$506,8,0))","v":"はな"},{"$f":"IF(Q$16=\"\",\"\",VLOOKUP(Q76,漢字読み!$A$2:$O$506,8,0))","v":"まち"},{"$f":"IF(R$16=\"\",\"\",VLOOKUP(R76,漢字読み!$A$2:$O$506,8,0))","v":"か"},{"$f":"IF(S$16=\"\",\"\",VLOOKUP(S76,漢字読み!$A$2:$O$506,8,0))","v":"せんせい"},{"$f":"IF(T$16=\"\",\"\",VLOOKUP(T76,漢字読み!$A$2:$O$506,8,0))","v":"とうか"},null,"名前"]
[{"$f":"IF(A76=\"\",\"\",IF(VLOOKUP(A76,漢字書き!$A$2:$N$502,7,0)=0,\"\",VLOOKUP(A76,漢字書き!$A$2:$N$502,7,0)))","v":""},{"$f":"IF(B76=\"\",\"\",IF(VLOOKUP(B76,漢字書き!$A$2:$N$502,7,0)=0,\"\",VLOOKUP(B76,漢字書き!$A$2:$N$502,7,0)))","v":""},{"$f":"IF(C76=\"\",\"\",IF(VLOOKUP(C76,漢字書き!$A$2:$N$502,7,0)=0,\"\",VLOOKUP(C76,漢字書き!$A$2:$N$502,7,0)))","v":"い"},{"$f":"IF(D76=\"\",\"\",IF(VLOOKUP(D76,漢字書き!$A$2:$N$502,7,0)=0,\"\",VLOOKUP(D76,漢字書き!$A$2:$N$502,7,0)))","v":"やぶ"},{"$f":"IF(E76=\"\",\"\",IF(VLOOKUP(E76,漢字書き!$A$2:$N$502,7,0)=0,\"\",VLOOKUP(E76,漢字書き!$A$2:$N$502,7,0)))","v":""},{"$f":"IF(F76=\"\",\"\",IF(VLOOKUP(F76,漢字書き!$A$2:$N$502,7,0)=0,\"\",VLOOKUP(F76,漢字書き!$A$2:$N$502,7,0)))","v":""},{"$f":"IF(G76=\"\",\"\",IF(VLOOKUP(G76,漢字書き!$A$2:$N$502,7,0)=0,\"\",VLOOKUP(G76,漢字書き!$A$2:$N$502,7,0)))","v":""},{"$f":"IF(H76=\"\",\"\",IF(VLOOKUP(H76,漢字書き!$A$2:$N$502,7,0)=0,\"\",VLOOKUP(H76,漢字書き!$A$2:$N$502,7,0)))","v":"ちょう"},{"$f":"IF(I76=\"\",\"\",IF(VLOOKUP(I76,漢字書き!$A$2:$N$502,7,0)=0,\"\",VLOOKUP(I76,漢字書き!$A$2:$N$502,7,0)))","v":"しょう"},{"$f":"IF(J76=\"\",\"\",IF(VLOOKUP(J76,漢字書き!$A$2:$N$502,7,0)=0,\"\",VLOOKUP(J76,漢字書き!$A$2:$N$502,7,0)))","v":"きい"},{"$f":"IF(K76=\"\",\"\",IF(VLOOKUP(K76,漢字読み!$A$2:$O$502,7,0)=0,\"\",VLOOKUP(K76,漢字読み!$A$2:$O$502,7,0)))","v":""},{"$f":"IF(L76=\"\",\"\",IF(VLOOKUP(L76,漢字読み!$A$2:$O$502,7,0)=0,\"\",VLOOKUP(L76,漢字読み!$A$2:$O$502,7,0)))","v":"生"},{"$f":"IF(M76=\"\",\"\",IF(VLOOKUP(M76,漢字読み!$A$2:$O$502,7,0)=0,\"\",VLOOKUP(M76,漢字読み!$A$2:$O$502,7,0)))","v":"あそび"},{"$f":"IF(N76=\"\",\"\",IF(VLOOKUP(N76,漢字読み!$A$2:$O$502,7,0)=0,\"\",VLOOKUP(N76,漢字読み!$A$2:$O$502,7,0)))","v":"す"},{"$f":"IF(O76=\"\",\"\",IF(VLOOKUP(O76,漢字読み!$A$2:$O$502,7,0)=0,\"\",VLOOKUP(O76,漢字読み!$A$2:$O$502,7,0)))","v":"めい"},{"$f":"IF(P76=\"\",\"\",IF(VLOOKUP(P76,漢字読み!$A$2:$O$502,7,0)=0,\"\",VLOOKUP(P76,漢字読み!$A$2:$O$502,7,0)))","v":""},{"$f":"IF(Q76=\"\",\"\",IF(VLOOKUP(Q76,漢字読み!$A$2:$O$502,7,0)=0,\"\",VLOOKUP(Q76,漢字読み!$A$2:$O$502,7,0)))","v":""},{"$f":"IF(R76=\"\",\"\",IF(VLOOKUP(R76,漢字読み!$A$2:$O$502,7,0)=0,\"\",VLOOKUP(R76,漢字読み!$A$2:$O$502,7,0)))","v":"りゅう"},{"$f":"IF(S76=\"\",\"\",IF(VLOOKUP(S76,漢字読み!$A$2:$O$502,7,0)=0,\"\",VLOOKUP(S76,漢字読み!$A$2:$O$502,7,0)))","v":""},{"$f":"IF(T76=\"\",\"\",IF(VLOOKUP(T76,漢字読み!$A$2:$O$502,7,0)=0,\"\",VLOOKUP(T76,漢字読み!$A$2:$O$502,7,0)))","v":""},null,null,"和歌山県教育委員会"]
[{"$f":"INDIRECT(\"'関数（書き）'!C\" & COLUMN(B$1)+SUM($AD$2:$AD82))","v":104},{"$f":"INDIRECT(\"'関数（書き）'!C\" & COLUMN(C$1)+SUM($AD$2:$AD82))","v":1},{"$f":"INDIRECT(\"'関数（書き）'!C\" & COLUMN(D$1)+SUM($AD$2:$AD82))","v":90},{"$f":"INDIRECT(\"'関数（書き）'!C\" & COLUMN(E$1)+SUM($AD$2:$AD82))","v":84},{"$f":"INDIRECT(\"'関数（書き）'!C\" & COLUMN(F$1)+SUM($AD$2:$AD82))","v":173},{"$f":"INDIRECT(\"'関数（書き）'!C\" & COLUMN(G$1)+SUM($AD$2:$AD82))","v":18},{"$f":"INDIRECT(\"'関数（書き）'!C\" & COLUMN(H$1)+SUM($AD$2:$AD82))","v":146},{"$f":"INDIRECT(\"'関数（書き）'!C\" & COLUMN(I$1)+SUM($AD$2:$AD82))","v":148},{"$f":"INDIRECT(\"'関数（書き）'!C\" & COLUMN(J$1)+SUM($AD$2:$AD82))","v":53},{"$f":"INDIRECT(\"'関数（書き）'!C\" & COLUMN(K$1)+SUM($AD$2:$AD82))","v":62},{"$f":"INDIRECT(\"'関数（読み）'!C\" & COLUMN(B$1)+SUM($AD$2:$AD82))","v":111},{"$f":"INDIRECT(\"'関数（読み）'!C\" & COLUMN(C$1)+SUM($AD$2:$AD82))","v":74},{"$f":"INDIRECT(\"'関数（読み）'!C\" & COLUMN(D$1)+SUM($AD$2:$AD82))","v":145},{"$f":"INDIRECT(\"'関数（読み）'!C\" & COLUMN(E$1)+SUM($AD$2:$AD82))","v":173},{"$f":"INDIRECT(\"'関数（読み）'!C\" & COLUMN(F$1)+SUM($AD$2:$AD82))","v":6},{"$f":"INDIRECT(\"'関数（読み）'!C\" & COLUMN(G$1)+SUM($AD$2:$AD82))","v":18},{"$f":"INDIRECT(\"'関数（読み）'!C\" & COLUMN(H$1)+SUM($AD$2:$AD82))","v":177},{"$f":"INDIRECT(\"'関数（読み）'!C\" & COLUMN(I$1)+SUM($AD$2:$AD82))","v":180},{"$f":"INDIRECT(\"'関数（読み）'!C\" & COLUMN(J$1)+SUM($AD$2:$AD82))","v":98},{"$f":"INDIRECT(\"'関数（読み）'!C\" & COLUMN(K$1)+SUM($AD$2:$AD82))","v":93}]
["⑳","⑲","⑱","⑰","⑯","⑮","⑭","⑬","⑫","⑪","⑩","⑨","⑧","⑦","⑥","⑤","④","③","②","①","次の［　　　　］の部分の漢字には読みがなをひらがなで書き、カタカナは漢字に直しなさい。",15,"「漢字の博士検定試験」練習問題　",null,null,null,null,null,"←",10,"問",{"$f":"AH67+1","v":81},"～",{"$f":"SUM($AD$2:$AD82)+10","v":90},"問まで",{"$f":"COUNTIF($A$1:$T$200,T83)","v":2}]
[{"$f":"IF(A81=\"\",\"\",VLOOKUP(A81,漢字書き!$A$2:$N$506,6,0))","v":"［セキ］ゆを大せつに"},{"$f":"IF(B81=\"\",\"\",VLOOKUP(B81,漢字書き!$A$2:$N$506,6,0))","v":"［イチ］ばんぼし"},{"$f":"IF(C81=\"\",\"\",VLOOKUP(C81,漢字書き!$A$2:$N$506,6,0))","v":"［ヒャクニン］ならぶ"},{"$f":"IF(D81=\"\",\"\",VLOOKUP(D81,漢字書き!$A$2:$N$506,6,0))","v":"［チイ］さな子"},{"$f":"IF(E81=\"\",\"\",VLOOKUP(E81,漢字書き!$A$2:$N$506,6,0))","v":"すぎの［ハヤシ］"},{"$f":"IF(F81=\"\",\"\",VLOOKUP(F81,漢字書き!$A$2:$N$506,6,0))","v":"［カリョク］がよわい"},{"$f":"IF(G81=\"\",\"\",VLOOKUP(G81,漢字書き!$A$2:$N$506,6,0))","v":"まい［ニチ］あそぶ"},{"$f":"IF(H81=\"\",\"\",VLOOKUP(H81,漢字書き!$A$2:$N$506,6,0))","v":"［ニュウガク］しき"},{"$f":"IF(I81=\"\",\"\",VLOOKUP(I81,漢字書き!$A$2:$N$506,6,0))","v":"［サユウ］を見る"},{"$f":"IF(J81=\"\",\"\",VLOOKUP(J81,漢字書き!$A$2:$N$506,6,0))","v":"［シ］かくのず"},{"$f":"IF(K81=\"\",\"\",VLOOKUP(K81,漢字読み!$A$2:$O$506,6,0))","v":"［石］をける"},{"$f":"IF(L81=\"\",\"\",VLOOKUP(L81,漢字読み!$A$2:$O$506,6,0))","v":"あく［手］をする"},{"$f":"IF(M81=\"\",\"\",VLOOKUP(M81,漢字読み!$A$2:$O$506,6,0))","v":"［田］うえをする"},{"$f":"IF(N81=\"\",\"\",VLOOKUP(N81,漢字読み!$A$2:$O$506,6,0))","v":"しょうぎの［名人］"},{"$f":"IF(O81=\"\",\"\",VLOOKUP(O81,漢字読み!$A$2:$O$506,6,0))","v":"［雨］がふる"},{"$f":"IF(P81=\"\",\"\",VLOOKUP(P81,漢字読み!$A$2:$O$506,6,0))","v":"［火］よう日"},{"$f":"IF(Q81=\"\",\"\",VLOOKUP(Q81,漢字読み!$A$2:$O$506,6,0))","v":"［目］がさめる"},{"$f":"IF(R81=\"\",\"\",VLOOKUP(R81,漢字読み!$A$2:$O$506,6,0))","v":"［学力］がつく"},{"$f":"IF(S81=\"\",\"\",VLOOKUP(S81,漢字読み!$A$2:$O$506,6,0))","v":"［正］しいこたえ"},{"$f":"IF(T81=\"\",\"\",VLOOKUP(T81,漢字読み!$A$2:$O$506,6,0))","v":"［人］がおおい"},null,"級"]
[null,null,null,null,null,null,null,null,null,null,null,null,null,null,null,null,null,null,null,null,null,"名前"]
[{"$f":"IF(A81=\"\",\"\",IF(VLOOKUP(A81,漢字書き!$A$2:$N$502,7,0)=0,\"\",VLOOKUP(A81,漢字書き!$A$2:$N$502,7,0)))","v":"ゆ"},{"$f":"IF(B81=\"\",\"\",IF(VLOOKUP(B81,漢字書き!$A$2:$N$502,7,0)=0,\"\",VLOOKUP(B81,漢字書き!$A$2:$N$502,7,0)))","v":"ばん"},{"$f":"IF(C81=\"\",\"\",IF(VLOOKUP(C81,漢字書き!$A$2:$N$502,7,0)=0,\"\",VLOOKUP(C81,漢字書き!$A$2:$N$502,7,0)))","v":""},{"$f":"IF(D81=\"\",\"\",IF(VLOOKUP(D81,漢字書き!$A$2:$N$502,7,0)=0,\"\",VLOOKUP(D81,漢字書き!$A$2:$N$502,7,0)))","v":"さな"},{"$f":"IF(E81=\"\",\"\",IF(VLOOKUP(E81,漢字書き!$A$2:$N$502,7,0)=0,\"\",VLOOKUP(E81,漢字書き!$A$2:$N$502,7,0)))","v":""},{"$f":"IF(F81=\"\",\"\",IF(VLOOKUP(F81,漢字書き!$A$2:$N$502,7,0)=0,\"\",VLOOKUP(F81,漢字書き!$A$2:$N$502,7,0)))","v":""},{"$f":"IF(G81=\"\",\"\",IF(VLOOKUP(G81,漢字書き!$A$2:$N$502,7,0)=0,\"\",VLOOKUP(G81,漢字書き!$A$2:$N$502,7,0)))","v":""},{"$f":"IF(H81=\"\",\"\",IF(VLOOKUP(H81,漢字書き!$A$2:$N$502,7,0)=0,\"\",VLOOKUP(H81,漢字書き!$A$2:$N$502,7,0)))","v":"しき"},{"$f":"IF(I81=\"\",\"\",IF(VLOOKUP(I81,漢字書き!$A$2:$N$502,7,0)=0,\"\",VLOOKUP(I81,漢字書き!$A$2:$N$502,7,0)))","v":""},{"$f":"IF(J81=\"\",\"\",IF(VLOOKUP(J81,漢字書き!$A$2:$N$502,7,0)=0,\"\",VLOOKUP(J81,漢字書き!$A$2:$N$502,7,0)))","v":"かく"},{"$f":"IF(K81=\"\",\"\",IF(VLOOKUP(K81,漢字読み!$A$2:$O$502,7,0)=0,\"\",VLOOKUP(K81,漢字読み!$A$2:$O$502,7,0)))","v":""},{"$f":"IF(L81=\"\",\"\",IF(VLOOKUP(L81,漢字読み!$A$2:$O$502,7,0)=0,\"\",VLOOKUP(L81,漢字読み!$A$2:$O$502,7,0)))","v":""},{"$f":"IF(M81=\"\",\"\",IF(VLOOKUP(M81,漢字読み!$A$2:$O$502,7,0)=0,\"\",VLOOKUP(M81,漢字読み!$A$2:$O$502,7,0)))","v":"うえ"},{"$f":"IF(N81=\"\",\"\",IF(VLOOKUP(N81,漢字読み!$A$2:$O$502,7,0)=0,\"\",VLOOKUP(N81,漢字読み!$A$2:$O$502,7,0)))","v":""},{"$f":"IF(O81=\"\",\"\",IF(VLOOKUP(O81,漢字読み!$A$2:$O$502,7,0)=0,\"\",VLOOKUP(O81,漢字読み!$A$2:$O$502,7,0)))","v":""},{"$f":"IF(P81=\"\",\"\",IF(VLOOKUP(P81,漢字読み!$A$2:$O$502,7,0)=0,\"\",VLOOKUP(P81,漢字読み!$A$2:$O$502,7,0)))","v":"よう"},{"$f":"IF(Q81=\"\",\"\",IF(VLOOKUP(Q81,漢字読み!$A$2:$O$502,7,0)=0,\"\",VLOOKUP(Q81,漢字読み!$A$2:$O$502,7,0)))","v":""},{"$f":"IF(R81=\"\",\"\",IF(VLOOKUP(R81,漢字読み!$A$2:$O$502,7,0)=0,\"\",VLOOKUP(R81,漢字読み!$A$2:$O$502,7,0)))","v":""},{"$f":"IF(S81=\"\",\"\",IF(VLOOKUP(S81,漢字読み!$A$2:$O$502,7,0)=0,\"\",VLOOKUP(S81,漢字読み!$A$2:$O$502,7,0)))","v":"しい"},{"$f":"IF(T81=\"\",\"\",IF(VLOOKUP(T81,漢字読み!$A$2:$O$502,7,0)=0,\"\",VLOOKUP(T81,漢字読み!$A$2:$O$502,7,0)))","v":""},null,null,"和歌山県教育委員会"]
[{"$f":"INDIRECT(\"'関数（書き）'!C\" & COLUMN(B$1)+SUM($AD$2:$AD87))","v":4},{"$f":"INDIRECT(\"'関数（書き）'!C\" & COLUMN(C$1)+SUM($AD$2:$AD87))","v":69},{"$f":"INDIRECT(\"'関数（書き）'!C\" & COLUMN(D$1)+SUM($AD$2:$AD87))","v":160},{"$f":"INDIRECT(\"'関数（書き）'!C\" & COLUMN(E$1)+SUM($AD$2:$AD87))","v":20},{"$f":"INDIRECT(\"'関数（書き）'!C\" & COLUMN(F$1)+SUM($AD$2:$AD87))","v":80},{"$f":"INDIRECT(\"'関数（書き）'!C\" & COLUMN(G$1)+SUM($AD$2:$AD87))","v":38},{"$f":"INDIRECT(\"'関数（書き）'!C\" & COLUMN(H$1)+SUM($AD$2:$AD87))","v":120},{"$f":"INDIRECT(\"'関数（書き）'!C\" & COLUMN(I$1)+SUM($AD$2:$AD87))","v":134},{"$f":"INDIRECT(\"'関数（書き）'!C\" & COLUMN(J$1)+SUM($AD$2:$AD87))","v":29},{"$f":"INDIRECT(\"'関数（書き）'!C\" & COLUMN(K$1)+SUM($AD$2:$AD87))","v":39},{"$f":"INDIRECT(\"'関数（読み）'!C\" & COLUMN(B$1)+SUM($AD$2:$AD87))","v":77},{"$f":"INDIRECT(\"'関数（読み）'!C\" & COLUMN(C$1)+SUM($AD$2:$AD87))","v":8},{"$f":"INDIRECT(\"'関数（読み）'!C\" & COLUMN(D$1)+SUM($AD$2:$AD87))","v":68},{"$f":"INDIRECT(\"'関数（読み）'!C\" & COLUMN(E$1)+SUM($AD$2:$AD87))","v":130},{"$f":"INDIRECT(\"'関数（読み）'!C\" & COLUMN(F$1)+SUM($AD$2:$AD87))","v":17},{"$f":"INDIRECT(\"'関数（読み）'!C\" & COLUMN(G$1)+SUM($AD$2:$AD87))","v":126},{"$f":"INDIRECT(\"'関数（読み）'!C\" & COLUMN(H$1)+SUM($AD$2:$AD87))","v":108},{"$f":"INDIRECT(\"'関数（読み）'!C\" & COLUMN(I$1)+SUM($AD$2:$AD87))","v":20},{"$f":"INDIRECT(\"'関数（読み）'!C\" & COLUMN(J$1)+SUM($AD$2:$AD87))","v":70},{"$f":"INDIRECT(\"'関数（読み）'!C\" & COLUMN(K$1)+SUM($AD$2:$AD87))","v":90}]
["⑳","⑲","⑱","⑰","⑯","⑮","⑭","⑬","⑫","⑪","⑩","⑨","⑧","⑦","⑥","⑤","④","③","②","①","次の［　　　　］の部分の漢字には読みがなをひらがなで書き、カタカナは漢字に直しなさい。",15,"「漢字の博士検定試験」練習問題　",null,null,null,null,null,"←",10,"問",{"$f":"AH82+1","v":91},"～",{"$f":"SUM($AD$2:$AD87)+10","v":100},"問まで",{"$f":"COUNTIF($A$1:$T$200,T88)","v":2}]
[{"$f":"IF(A86=\"\",\"\",VLOOKUP(A86,漢字書き!$A$2:$N$506,6,0))","v":"［ミギ］にまがる"},{"$f":"IF(B86=\"\",\"\",VLOOKUP(B86,漢字書き!$A$2:$N$506,6,0))","v":"［シチ］ならべ"},{"$f":"IF(C86=\"\",\"\",VLOOKUP(C86,漢字書き!$A$2:$N$506,6,0))","v":"大きな［キ］の下"},{"$f":"IF(D86=\"\",\"\",VLOOKUP(D86,漢字書き!$A$2:$N$506,6,0))","v":"［カ］だんの水やり"},{"$f":"IF(E86=\"\",\"\",VLOOKUP(E86,漢字書き!$A$2:$N$506,6,0))","v":"［ジョシ］のれつ"},{"$f":"IF(F86=\"\",\"\",VLOOKUP(F86,漢字書き!$A$2:$N$506,6,0))","v":"［クウキ］がきれい"},{"$f":"IF(G86=\"\",\"\",VLOOKUP(G86,漢字書き!$A$2:$N$506,6,0))","v":"［ミギアシ］をあげる"},{"$f":"IF(H86=\"\",\"\",VLOOKUP(H86,漢字書き!$A$2:$N$506,6,0))","v":"［ムシ］をさがす"},{"$f":"IF(I86=\"\",\"\",VLOOKUP(I86,漢字書き!$A$2:$N$506,6,0))","v":"［キュウ］かんちょう"},{"$f":"IF(J86=\"\",\"\",VLOOKUP(J86,漢字書き!$A$2:$N$506,6,0))","v":"青い［ソラ］"},{"$f":"IF(K86=\"\",\"\",VLOOKUP(K86,漢字読み!$A$2:$O$506,6,0))","v":"おはじきが［十］こ"},{"$f":"IF(L86=\"\",\"\",VLOOKUP(L86,漢字読み!$A$2:$O$506,6,0))","v":"［円］のかたち"},{"$f":"IF(M86=\"\",\"\",VLOOKUP(M86,漢字読み!$A$2:$O$506,6,0))","v":"きれいな［字］"},{"$f":"IF(N86=\"\",\"\",VLOOKUP(N86,漢字読み!$A$2:$O$506,6,0))","v":"［大学］にすすむ"},{"$f":"IF(O86=\"\",\"\",VLOOKUP(O86,漢字読み!$A$2:$O$506,6,0))","v":"気おんが［下］がる"},{"$f":"IF(P86=\"\",\"\",VLOOKUP(P86,漢字読み!$A$2:$O$506,6,0))","v":"［土足］はきんしだ"},{"$f":"IF(Q86=\"\",\"\",VLOOKUP(Q86,漢字読み!$A$2:$O$506,6,0))","v":"［夕］がたの空"},{"$f":"IF(R86=\"\",\"\",VLOOKUP(R86,漢字読み!$A$2:$O$506,6,0))","v":"［花］だんのせわ"},{"$f":"IF(S86=\"\",\"\",VLOOKUP(S86,漢字読み!$A$2:$O$506,6,0))","v":"［七］ならべをする"},{"$f":"IF(T86=\"\",\"\",VLOOKUP(T86,漢字読み!$A$2:$O$506,6,0))","v":"［森］の中"},null,"級"]
[null,null,null,null,null,null,null,null,null,null,null,null,null,null,null,null,null,null,null,null,null,"名前"]
[{"$f":"IF(A86=\"\",\"\",IF(VLOOKUP(A86,漢字書き!$A$2:$N$502,7,0)=0,\"\",VLOOKUP(A86,漢字書き!$A$2:$N$502,7,0)))","v":""},{"$f":"IF(B86=\"\",\"\",IF(VLOOKUP(B86,漢字書き!$A$2:$N$502,7,0)=0,\"\",VLOOKUP(B86,漢字書き!$A$2:$N$502,7,0)))","v":"ならべ"},{"$f":"IF(C86=\"\",\"\",IF(VLOOKUP(C86,漢字書き!$A$2:$N$502,7,0)=0,\"\",VLOOKUP(C86,漢字書き!$A$2:$N$502,7,0)))","v":""},{"$f":"IF(D86=\"\",\"\",IF(VLOOKUP(D86,漢字書き!$A$2:$N$502,7,0)=0,\"\",VLOOKUP(D86,漢字書き!$A$2:$N$502,7,0)))","v":"だん"},{"$f":"IF(E86=\"\",\"\",IF(VLOOKUP(E86,漢字書き!$A$2:$N$502,7,0)=0,\"\",VLOOKUP(E86,漢字書き!$A$2:$N$502,7,0)))","v":""},{"$f":"IF(F86=\"\",\"\",IF(VLOOKUP(F86,漢字書き!$A$2:$N$502,7,0)=0,\"\",VLOOKUP(F86,漢字書き!$A$2:$N$502,7,0)))","v":""},{"$f":"IF(G86=\"\",\"\",IF(VLOOKUP(G86,漢字書き!$A$2:$N$502,7,0)=0,\"\",VLOOKUP(G86,漢字書き!$A$2:$N$502,7,0)))","v":""},{"$f":"IF(H86=\"\",\"\",IF(VLOOKUP(H86,漢字書き!$A$2:$N$502,7,0)=0,\"\",VLOOKUP(H86,漢字書き!$A$2:$N$502,7,0)))","v":""},{"$f":"IF(I86=\"\",\"\",IF(VLOOKUP(I86,漢字書き!$A$2:$N$502,7,0)=0,\"\",VLOOKUP(I86,漢字書き!$A$2:$N$502,7,0)))","v":"かんちょう"},{"$f":"IF(J86=\"\",\"\",IF(VLOOKUP(J86,漢字書き!$A$2:$N$502,7,0)=0,\"\",VLOOKUP(J86,漢字書き!$A$2:$N$502,7,0)))","v":""},{"$f":"IF(K86=\"\",\"\",IF(VLOOKUP(K86,漢字読み!$A$2:$O$502,7,0)=0,\"\",VLOOKUP(K86,漢字読み!$A$2:$O$502,7,0)))","v":"こ"},{"$f":"IF(L86=\"\",\"\",IF(VLOOKUP(L86,漢字読み!$A$2:$O$502,7,0)=0,\"\",VLOOKUP(L86,漢字読み!$A$2:$O$502,7,0)))","v":""},{"$f":"IF(M86=\"\",\"\",IF(VLOOKUP(M86,漢字読み!$A$2:$O$502,7,0)=0,\"\",VLOOKUP(M86,漢字読み!$A$2:$O$502,7,0)))","v":""},{"$f":"IF(N86=\"\",\"\",IF(VLOOKUP(N86,漢字読み!$A$2:$O$502,7,0)=0,\"\",VLOOKUP(N86,漢字読み!$A$2:$O$502,7,0)))","v":""},{"$f":"IF(O86=\"\",\"\",IF(VLOOKUP(O86,漢字読み!$A$2:$O$502,7,0)=0,\"\",VLOOKUP(O86,漢字読み!$A$2:$O$502,7,0)))","v":"がる"},{"$f":"IF(P86=\"\",\"\",IF(VLOOKUP(P86,漢字読み!$A$2:$O$502,7,0)=0,\"\",VLOOKUP(P86,漢字読み!$A$2:$O$502,7,0)))","v":""},{"$f":"IF(Q86=\"\",\"\",IF(VLOOKUP(Q86,漢字読み!$A$2:$O$502,7,0)=0,\"\",VLOOKUP(Q86,漢字読み!$A$2:$O$502,7,0)))","v":"がた"},{"$f":"IF(R86=\"\",\"\",IF(VLOOKUP(R86,漢字読み!$A$2:$O$502,7,0)=0,\"\",VLOOKUP(R86,漢字読み!$A$2:$O$502,7,0)))","v":"だん"},{"$f":"IF(S86=\"\",\"\",IF(VLOOKUP(S86,漢字読み!$A$2:$O$502,7,0)=0,\"\",VLOOKUP(S86,漢字読み!$A$2:$O$502,7,0)))","v":"ならべ"},{"$f":"IF(T86=\"\",\"\",IF(VLOOKUP(T86,漢字読み!$A$2:$O$502,7,0)=0,\"\",VLOOKUP(T86,漢字読み!$A$2:$O$502,7,0)))","v":""},null,null,"和歌山県教育委員会"]
[{"$f":"A81","v":104},{"$f":"B81","v":1},90,84,173,18,146,148,53,62,111,74,145,173,6,18,177,180,98,93]
["⑳","⑲","⑱","⑰","⑯","⑮","⑭","⑬","⑫","⑪","⑩","⑨","⑧","⑦","⑥","⑤","④","③","②","①","次の［　　　　］の部分の漢字には読みがなをひらがなで書き、カタカナは漢字に直しなさい。",15,"「漢字の博士検定試験」練習問題　"]
[{"$f":"IF(A91=\"\",\"\",VLOOKUP(A91,漢字書き!$A$2:$N$506,6,0))","v":"［セキ］ゆを大せつに"},{"$f":"IF(B91=\"\",\"\",VLOOKUP(B91,漢字書き!$A$2:$N$506,6,0))","v":"［イチ］ばんぼし"},{"$f":"IF(C91=\"\",\"\",VLOOKUP(C91,漢字書き!$A$2:$N$506,6,0))","v":"［ヒャクニン］ならぶ"},{"$f":"IF(D91=\"\",\"\",VLOOKUP(D91,漢字書き!$A$2:$N$506,6,0))","v":"［チイ］さな子"},{"$f":"IF(E91=\"\",\"\",VLOOKUP(E91,漢字書き!$A$2:$N$506,6,0))","v":"すぎの［ハヤシ］"},{"$f":"IF(F91=\"\",\"\",VLOOKUP(F91,漢字書き!$A$2:$N$506,6,0))","v":"［カリョク］がよわい"},{"$f":"IF(G91=\"\",\"\",VLOOKUP(G91,漢字書き!$A$2:$N$506,6,0))","v":"まい［ニチ］あそぶ"},{"$f":"IF(H91=\"\",\"\",VLOOKUP(H91,漢字書き!$A$2:$N$506,6,0))","v":"［ニュウガク］しき"},{"$f":"IF(I91=\"\",\"\",VLOOKUP(I91,漢字書き!$A$2:$N$506,6,0))","v":"［サユウ］を見る"},{"$f":"IF(J91=\"\",\"\",VLOOKUP(J91,漢字書き!$A$2:$N$506,6,0))","v":"［シ］かくのず"},{"$f":"IF(K91=\"\",\"\",VLOOKUP(K91,漢字読み!$A$2:$O$506,6,0))","v":"［石］をける"},{"$f":"IF(L91=\"\",\"\",VLOOKUP(L91,漢字読み!$A$2:$O$506,6,0))","v":"あく［手］をする"},{"$f":"IF(M91=\"\",\"\",VLOOKUP(M91,漢字読み!$A$2:$O$506,6,0))","v":"［田］うえをする"},{"$f":"IF(N91=\"\",\"\",VLOOKUP(N91,漢字読み!$A$2:$O$506,6,0))","v":"しょうぎの［名人］"},{"$f":"IF(O91=\"\",\"\",VLOOKUP(O91,漢字読み!$A$2:$O$506,6,0))","v":"［雨］がふる"},{"$f":"IF(P91=\"\",\"\",VLOOKUP(P91,漢字読み!$A$2:$O$506,6,0))","v":"［火］よう日"},{"$f":"IF(Q91=\"\",\"\",VLOOKUP(Q91,漢字読み!$A$2:$O$506,6,0))","v":"［目］がさめる"},{"$f":"IF(R91=\"\",\"\",VLOOKUP(R91,漢字読み!$A$2:$O$506,6,0))","v":"［学力］がつく"},{"$f":"IF(S91=\"\",\"\",VLOOKUP(S91,漢字読み!$A$2:$O$506,6,0))","v":"［正］しいこたえ"},{"$f":"IF(T91=\"\",\"\",VLOOKUP(T91,漢字読み!$A$2:$O$506,6,0))","v":"［人］がおおい"},null,"級"]
[{"$f":"IF(A$11=\"\",\"\",VLOOKUP(A91,漢字書き!$A$2:$O$506,8,0))","v":"石"},{"$f":"IF(B$11=\"\",\"\",VLOOKUP(B91,漢字書き!$A$2:$O$506,8,0))","v":"一"},{"$f":"IF(C$11=\"\",\"\",VLOOKUP(C91,漢字書き!$A$2:$O$506,8,0))","v":"百人"},{"$f":"IF(D$11=\"\",\"\",VLOOKUP(D91,漢字書き!$A$2:$O$506,8,0))","v":"小"},{"$f":"IF(E$11=\"\",\"\",VLOOKUP(E91,漢字書き!$A$2:$O$506,8,0))","v":"林"},{"$f":"IF(F$11=\"\",\"\",VLOOKUP(F91,漢字書き!$A$2:$O$506,8,0))","v":"火力"},{"$f":"IF(G$11=\"\",\"\",VLOOKUP(G91,漢字書き!$A$2:$O$506,8,0))","v":"日"},{"$f":"IF(H$11=\"\",\"\",VLOOKUP(H91,漢字書き!$A$2:$O$506,8,0))","v":"入学"},{"$f":"IF(I$11=\"\",\"\",VLOOKUP(I91,漢字書き!$A$2:$O$506,8,0))","v":"左右"},{"$f":"IF(J$11=\"\",\"\",VLOOKUP(J91,漢字書き!$A$2:$O$506,8,0))","v":"四"},{"$f":"IF(K$11=\"\",\"\",VLOOKUP(K91,漢字読み!$A$2:$O$506,8,0))","v":"いし"},{"$f":"IF(L$11=\"\",\"\",VLOOKUP(L91,漢字読み!$A$2:$O$506,8,0))","v":"しゅ"},{"$f":"IF(M$11=\"\",\"\",VLOOKUP(M91,漢字読み!$A$2:$O$506,8,0))","v":"た"},{"$f":"IF(N$11=\"\",\"\",VLOOKUP(N91,漢字読み!$A$2:$O$506,8,0))","v":"めいじん"},{"$f":"IF(O$11=\"\",\"\",VLOOKUP(O91,漢字読み!$A$2:$O$506,8,0))","v":"あめ"},{"$f":"IF(P$11=\"\",\"\",VLOOKUP(P91,漢字読み!$A$2:$O$506,8,0))","v":"か"},{"$f":"IF(Q$11=\"\",\"\",VLOOKUP(Q91,漢字読み!$A$2:$O$506,8,0))","v":"め"},{"$f":"IF(R$11=\"\",\"\",VLOOKUP(R91,漢字読み!$A$2:$O$506,8,0))","v":"がくりょく"},{"$f":"IF(S$11=\"\",\"\",VLOOKUP(S91,漢字読み!$A$2:$O$506,8,0))","v":"ただ"},{"$f":"IF(T$11=\"\",\"\",VLOOKUP(T91,漢字読み!$A$2:$O$506,8,0))","v":"ひと"},null,"名前"]
[{"$f":"IF(A91=\"\",\"\",IF(VLOOKUP(A91,漢字書き!$A$2:$N$502,7,0)=0,\"\",VLOOKUP(A91,漢字書き!$A$2:$N$502,7,0)))","v":"ゆ"},{"$f":"IF(B91=\"\",\"\",IF(VLOOKUP(B91,漢字書き!$A$2:$N$502,7,0)=0,\"\",VLOOKUP(B91,漢字書き!$A$2:$N$502,7,0)))","v":"ばん"},{"$f":"IF(C91=\"\",\"\",IF(VLOOKUP(C91,漢字書き!$A$2:$N$502,7,0)=0,\"\",VLOOKUP(C91,漢字書き!$A$2:$N$502,7,0)))","v":""},{"$f":"IF(D91=\"\",\"\",IF(VLOOKUP(D91,漢字書き!$A$2:$N$502,7,0)=0,\"\",VLOOKUP(D91,漢字書き!$A$2:$N$502,7,0)))","v":"さな"},{"$f":"IF(E91=\"\",\"\",IF(VLOOKUP(E91,漢字書き!$A$2:$N$502,7,0)=0,\"\",VLOOKUP(E91,漢字書き!$A$2:$N$502,7,0)))","v":""},{"$f":"IF(F91=\"\",\"\",IF(VLOOKUP(F91,漢字書き!$A$2:$N$502,7,0)=0,\"\",VLOOKUP(F91,漢字書き!$A$2:$N$502,7,0)))","v":""},{"$f":"IF(G91=\"\",\"\",IF(VLOOKUP(G91,漢字書き!$A$2:$N$502,7,0)=0,\"\",VLOOKUP(G91,漢字書き!$A$2:$N$502,7,0)))","v":""},{"$f":"IF(H91=\"\",\"\",IF(VLOOKUP(H91,漢字書き!$A$2:$N$502,7,0)=0,\"\",VLOOKUP(H91,漢字書き!$A$2:$N$502,7,0)))","v":"しき"},{"$f":"IF(I91=\"\",\"\",IF(VLOOKUP(I91,漢字書き!$A$2:$N$502,7,0)=0,\"\",VLOOKUP(I91,漢字書き!$A$2:$N$502,7,0)))","v":""},{"$f":"IF(J91=\"\",\"\",IF(VLOOKUP(J91,漢字書き!$A$2:$N$502,7,0)=0,\"\",VLOOKUP(J91,漢字書き!$A$2:$N$502,7,0)))","v":"かく"},{"$f":"IF(K91=\"\",\"\",IF(VLOOKUP(K91,漢字読み!$A$2:$O$502,7,0)=0,\"\",VLOOKUP(K91,漢字読み!$A$2:$O$502,7,0)))","v":""},{"$f":"IF(L91=\"\",\"\",IF(VLOOKUP(L91,漢字読み!$A$2:$O$502,7,0)=0,\"\",VLOOKUP(L91,漢字読み!$A$2:$O$502,7,0)))","v":""},{"$f":"IF(M91=\"\",\"\",IF(VLOOKUP(M91,漢字読み!$A$2:$O$502,7,0)=0,\"\",VLOOKUP(M91,漢字読み!$A$2:$O$502,7,0)))","v":"うえ"},{"$f":"IF(N91=\"\",\"\",IF(VLOOKUP(N91,漢字読み!$A$2:$O$502,7,0)=0,\"\",VLOOKUP(N91,漢字読み!$A$2:$O$502,7,0)))","v":""},{"$f":"IF(O91=\"\",\"\",IF(VLOOKUP(O91,漢字読み!$A$2:$O$502,7,0)=0,\"\",VLOOKUP(O91,漢字読み!$A$2:$O$502,7,0)))","v":""},{"$f":"IF(P91=\"\",\"\",IF(VLOOKUP(P91,漢字読み!$A$2:$O$502,7,0)=0,\"\",VLOOKUP(P91,漢字読み!$A$2:$O$502,7,0)))","v":"よう"},{"$f":"IF(Q91=\"\",\"\",IF(VLOOKUP(Q91,漢字読み!$A$2:$O$502,7,0)=0,\"\",VLOOKUP(Q91,漢字読み!$A$2:$O$502,7,0)))","v":""},{"$f":"IF(R91=\"\",\"\",IF(VLOOKUP(R91,漢字読み!$A$2:$O$502,7,0)=0,\"\",VLOOKUP(R91,漢字読み!$A$2:$O$502,7,0)))","v":""},{"$f":"IF(S91=\"\",\"\",IF(VLOOKUP(S91,漢字読み!$A$2:$O$502,7,0)=0,\"\",VLOOKUP(S91,漢字読み!$A$2:$O$502,7,0)))","v":"しい"},{"$f":"IF(T91=\"\",\"\",IF(VLOOKUP(T91,漢字読み!$A$2:$O$502,7,0)=0,\"\",VLOOKUP(T91,漢字読み!$A$2:$O$502,7,0)))","v":""},null,null,"和歌山県教育委員会"]
[{"$f":"A86","v":4},{"$f":"B86","v":69},160,20,80,38,120,134,29,39,77,8,68,130,17,126,108,20,70,90]
["⑳","⑲","⑱","⑰","⑯","⑮","⑭","⑬","⑫","⑪","⑩","⑨","⑧","⑦","⑥","⑤","④","③","②","①","次の［　　　　］の部分の漢字には読みがなをひらがなで書き、カタカナは漢字に直しなさい。",15,"「漢字の博士検定試験」練習問題　"]
[{"$f":"IF(A96=\"\",\"\",VLOOKUP(A96,漢字書き!$A$2:$N$506,6,0))","v":"［ミギ］にまがる"},{"$f":"IF(B96=\"\",\"\",VLOOKUP(B96,漢字書き!$A$2:$N$506,6,0))","v":"［シチ］ならべ"},{"$f":"IF(C96=\"\",\"\",VLOOKUP(C96,漢字書き!$A$2:$N$506,6,0))","v":"大きな［キ］の下"},{"$f":"IF(D96=\"\",\"\",VLOOKUP(D96,漢字書き!$A$2:$N$506,6,0))","v":"［カ］だんの水やり"},{"$f":"IF(E96=\"\",\"\",VLOOKUP(E96,漢字書き!$A$2:$N$506,6,0))","v":"［ジョシ］のれつ"},{"$f":"IF(F96=\"\",\"\",VLOOKUP(F96,漢字書き!$A$2:$N$506,6,0))","v":"［クウキ］がきれい"},{"$f":"IF(G96=\"\",\"\",VLOOKUP(G96,漢字書き!$A$2:$N$506,6,0))","v":"［ミギアシ］をあげる"},{"$f":"IF(H96=\"\",\"\",VLOOKUP(H96,漢字書き!$A$2:$N$506,6,0))","v":"［ムシ］をさがす"},{"$f":"IF(I96=\"\",\"\",VLOOKUP(I96,漢字書き!$A$2:$N$506,6,0))","v":"［キュウ］かんちょう"},{"$f":"IF(J96=\"\",\"\",VLOOKUP(J96,漢字書き!$A$2:$N$506,6,0))","v":"青い［ソラ］"},{"$f":"IF(K96=\"\",\"\",VLOOKUP(K96,漢字読み!$A$2:$O$506,6,0))","v":"おはじきが［十］こ"},{"$f":"IF(L96=\"\",\"\",VLOOKUP(L96,漢字読み!$A$2:$O$506,6,0))","v":"［円］のかたち"},{"$f":"IF(M96=\"\",\"\",VLOOKUP(M96,漢字読み!$A$2:$O$506,6,0))","v":"きれいな［字］"},{"$f":"IF(N96=\"\",\"\",VLOOKUP(N96,漢字読み!$A$2:$O$506,6,0))","v":"［大学］にすすむ"},{"$f":"IF(O96=\"\",\"\",VLOOKUP(O96,漢字読み!$A$2:$O$506,6,0))","v":"気おんが［下］がる"},{"$f":"IF(P96=\"\",\"\",VLOOKUP(P96,漢字読み!$A$2:$O$506,6,0))","v":"［土足］はきんしだ"},{"$f":"IF(Q96=\"\",\"\",VLOOKUP(Q96,漢字読み!$A$2:$O$506,6,0))","v":"［夕］がたの空"},{"$f":"IF(R96=\"\",\"\",VLOOKUP(R96,漢字読み!$A$2:$O$506,6,0))","v":"［花］だんのせわ"},{"$f":"IF(S96=\"\",\"\",VLOOKUP(S96,漢字読み!$A$2:$O$506,6,0))","v":"［七］ならべをする"},{"$f":"IF(T96=\"\",\"\",VLOOKUP(T96,漢字読み!$A$2:$O$506,6,0))","v":"［森］の中"},null,"級"]
[{"$f":"IF(A$16=\"\",\"\",VLOOKUP(A96,漢字書き!$A$2:$O$506,8,0))","v":"右"},{"$f":"IF(B$16=\"\",\"\",VLOOKUP(B96,漢字書き!$A$2:$O$506,8,0))","v":"七"},{"$f":"IF(C$16=\"\",\"\",VLOOKUP(C96,漢字書き!$A$2:$O$506,8,0))","v":"木"},{"$f":"IF(D$16=\"\",\"\",VLOOKUP(D96,漢字書き!$A$2:$O$506,8,0))","v":"花"},{"$f":"IF(E$16=\"\",\"\",VLOOKUP(E96,漢字書き!$A$2:$O$506,8,0))","v":"女子"},{"$f":"IF(F$16=\"\",\"\",VLOOKUP(F96,漢字書き!$A$2:$O$506,8,0))","v":"空気"},{"$f":"IF(G$16=\"\",\"\",VLOOKUP(G96,漢字書き!$A$2:$O$506,8,0))","v":"右足"},{"$f":"IF(H$16=\"\",\"\",VLOOKUP(H96,漢字書き!$A$2:$O$506,8,0))","v":"虫"},{"$f":"IF(I$16=\"\",\"\",VLOOKUP(I96,漢字書き!$A$2:$O$506,8,0))","v":"九"},{"$f":"IF(J$16=\"\",\"\",VLOOKUP(J96,漢字書き!$A$2:$O$506,8,0))","v":"空"},{"$f":"IF(K$16=\"\",\"\",VLOOKUP(K96,漢字読み!$A$2:$O$506,8,0))","v":"じっ"},{"$f":"IF(L$16=\"\",\"\",VLOOKUP(L96,漢字読み!$A$2:$O$506,8,0))","v":"えん"},{"$f":"IF(M$16=\"\",\"\",VLOOKUP(M96,漢字読み!$A$2:$O$506,8,0))","v":"じ"},{"$f":"IF(N$16=\"\",\"\",VLOOKUP(N96,漢字読み!$A$2:$O$506,8,0))","v":"だいがく"},{"$f":"IF(O$16=\"\",\"\",VLOOKUP(O96,漢字読み!$A$2:$O$506,8,0))","v":"さ"},{"$f":"IF(P$16=\"\",\"\",VLOOKUP(P96,漢字読み!$A$2:$O$506,8,0))","v":"どそく"},{"$f":"IF(Q$16=\"\",\"\",VLOOKUP(Q96,漢字読み!$A$2:$O$506,8,0))","v":"ゆう"},{"$f":"IF(R$16=\"\",\"\",VLOOKUP(R96,漢字読み!$A$2:$O$506,8,0))","v":"か"},{"$f":"IF(S$16=\"\",\"\",VLOOKUP(S96,漢字読み!$A$2:$O$506,8,0))","v":"しち"},{"$f":"IF(T$16=\"\",\"\",VLOOKUP(T96,漢字読み!$A$2:$O$506,8,0))","v":"もり"},null,"名前"]
[{"$f":"IF(A96=\"\",\"\",IF(VLOOKUP(A96,漢字書き!$A$2:$N$502,7,0)=0,\"\",VLOOKUP(A96,漢字書き!$A$2:$N$502,7,0)))","v":""},{"$f":"IF(B96=\"\",\"\",IF(VLOOKUP(B96,漢字書き!$A$2:$N$502,7,0)=0,\"\",VLOOKUP(B96,漢字書き!$A$2:$N$502,7,0)))","v":"ならべ"},{"$f":"IF(C96=\"\",\"\",IF(VLOOKUP(C96,漢字書き!$A$2:$N$502,7,0)=0,\"\",VLOOKUP(C96,漢字書き!$A$2:$N$502,7,0)))","v":""},{"$f":"IF(D96=\"\",\"\",IF(VLOOKUP(D96,漢字書き!$A$2:$N$502,7,0)=0,\"\",VLOOKUP(D96,漢字書き!$A$2:$N$502,7,0)))","v":"だん"},{"$f":"IF(E96=\"\",\"\",IF(VLOOKUP(E96,漢字書き!$A$2:$N$502,7,0)=0,\"\",VLOOKUP(E96,漢字書き!$A$2:$N$502,7,0)))","v":""},{"$f":"IF(F96=\"\",\"\",IF(VLOOKUP(F96,漢字書き!$A$2:$N$502,7,0)=0,\"\",VLOOKUP(F96,漢字書き!$A$2:$N$502,7,0)))","v":""},{"$f":"IF(G96=\"\",\"\",IF(VLOOKUP(G96,漢字書き!$A$2:$N$502,7,0)=0,\"\",VLOOKUP(G96,漢字書き!$A$2:$N$502,7,0)))","v":""},{"$f":"IF(H96=\"\",\"\",IF(VLOOKUP(H96,漢字書き!$A$2:$N$502,7,0)=0,\"\",VLOOKUP(H96,漢字書き!$A$2:$N$502,7,0)))","v":""},{"$f":"IF(I96=\"\",\"\",IF(VLOOKUP(I96,漢字書き!$A$2:$N$502,7,0)=0,\"\",VLOOKUP(I96,漢字書き!$A$2:$N$502,7,0)))","v":"かんちょう"},{"$f":"IF(J96=\"\",\"\",IF(VLOOKUP(J96,漢字書き!$A$2:$N$502,7,0)=0,\"\",VLOOKUP(J96,漢字書き!$A$2:$N$502,7,0)))","v":""},{"$f":"IF(K96=\"\",\"\",IF(VLOOKUP(K96,漢字読み!$A$2:$O$502,7,0)=0,\"\",VLOOKUP(K96,漢字読み!$A$2:$O$502,7,0)))","v":"こ"},{"$f":"IF(L96=\"\",\"\",IF(VLOOKUP(L96,漢字読み!$A$2:$O$502,7,0)=0,\"\",VLOOKUP(L96,漢字読み!$A$2:$O$502,7,0)))","v":""},{"$f":"IF(M96=\"\",\"\",IF(VLOOKUP(M96,漢字読み!$A$2:$O$502,7,0)=0,\"\",VLOOKUP(M96,漢字読み!$A$2:$O$502,7,0)))","v":""},{"$f":"IF(N96=\"\",\"\",IF(VLOOKUP(N96,漢字読み!$A$2:$O$502,7,0)=0,\"\",VLOOKUP(N96,漢字読み!$A$2:$O$502,7,0)))","v":""},{"$f":"IF(O96=\"\",\"\",IF(VLOOKUP(O96,漢字読み!$A$2:$O$502,7,0)=0,\"\",VLOOKUP(O96,漢字読み!$A$2:$O$502,7,0)))","v":"がる"},{"$f":"IF(P96=\"\",\"\",IF(VLOOKUP(P96,漢字読み!$A$2:$O$502,7,0)=0,\"\",VLOOKUP(P96,漢字読み!$A$2:$O$502,7,0)))","v":""},{"$f":"IF(Q96=\"\",\"\",IF(VLOOKUP(Q96,漢字読み!$A$2:$O$502,7,0)=0,\"\",VLOOKUP(Q96,漢字読み!$A$2:$O$502,7,0)))","v":"がた"},{"$f":"IF(R96=\"\",\"\",IF(VLOOKUP(R96,漢字読み!$A$2:$O$502,7,0)=0,\"\",VLOOKUP(R96,漢字読み!$A$2:$O$502,7,0)))","v":"だん"},{"$f":"IF(S96=\"\",\"\",IF(VLOOKUP(S96,漢字読み!$A$2:$O$502,7,0)=0,\"\",VLOOKUP(S96,漢字読み!$A$2:$O$502,7,0)))","v":"ならべ"},{"$f":"IF(T96=\"\",\"\",IF(VLOOKUP(T96,漢字読み!$A$2:$O$502,7,0)=0,\"\",VLOOKUP(T96,漢字読み!$A$2:$O$502,7,0)))","v":""},null,null,"和歌山県教育委員会"]
[{"$f":"INDIRECT(\"'関数（書き）'!C\" & COLUMN(B$1)+SUM($AD$2:$AD102))","v":92},{"$f":"INDIRECT(\"'関数（書き）'!C\" & COLUMN(C$1)+SUM($AD$2:$AD102))","v":161},{"$f":"INDIRECT(\"'関数（書き）'!C\" & COLUMN(D$1)+SUM($AD$2:$AD102))","v":83},{"$f":"INDIRECT(\"'関数（書き）'!C\" & COLUMN(E$1)+SUM($AD$2:$AD102))","v":61},{"$f":"INDIRECT(\"'関数（書き）'!C\" & COLUMN(F$1)+SUM($AD$2:$AD102))","v":48},{"$f":"INDIRECT(\"'関数（書き）'!C\" & COLUMN(G$1)+SUM($AD$2:$AD102))","v":122},{"$f":"INDIRECT(\"'関数（書き）'!C\" & COLUMN(H$1)+SUM($AD$2:$AD102))","v":45},{"$f":"INDIRECT(\"'関数（書き）'!C\" & COLUMN(I$1)+SUM($AD$2:$AD102))","v":105},{"$f":"INDIRECT(\"'関数（書き）'!C\" & COLUMN(J$1)+SUM($AD$2:$AD102))","v":37},{"$f":"INDIRECT(\"'関数（書き）'!C\" & COLUMN(K$1)+SUM($AD$2:$AD102))","v":168},{"$f":"INDIRECT(\"'関数（読み）'!C\" & COLUMN(B$1)+SUM($AD$2:$AD102))","v":28},{"$f":"INDIRECT(\"'関数（読み）'!C\" & COLUMN(C$1)+SUM($AD$2:$AD102))","v":56},{"$f":"INDIRECT(\"'関数（読み）'!C\" & COLUMN(D$1)+SUM($AD$2:$AD102))","v":15},{"$f":"INDIRECT(\"'関数（読み）'!C\" & COLUMN(E$1)+SUM($AD$2:$AD102))","v":101},{"$f":"INDIRECT(\"'関数（読み）'!C\" & COLUMN(F$1)+SUM($AD$2:$AD102))","v":114},{"$f":"INDIRECT(\"'関数（読み）'!C\" & COLUMN(G$1)+SUM($AD$2:$AD102))","v":140},{"$f":"INDIRECT(\"'関数（読み）'!C\" & COLUMN(H$1)+SUM($AD$2:$AD102))","v":165},{"$f":"INDIRECT(\"'関数（読み）'!C\" & COLUMN(I$1)+SUM($AD$2:$AD102))","v":168},{"$f":"INDIRECT(\"'関数（読み）'!C\" & COLUMN(J$1)+SUM($AD$2:$AD102))","v":39},{"$f":"INDIRECT(\"'関数（読み）'!C\" & COLUMN(K$1)+SUM($AD$2:$AD102))","v":154}]
["⑳","⑲","⑱","⑰","⑯","⑮","⑭","⑬","⑫","⑪","⑩","⑨","⑧","⑦","⑥","⑤","④","③","②","①","次の［　　　　］の部分の漢字には読みがなをひらがなで書き、カタカナは漢字に直しなさい。",15,"「漢字の博士検定試験」練習問題　",null,null,null,null,null,"←",10,"問",{"$f":"AH87+1","v":101},"～",{"$f":"SUM($AD$2:$AD102)+10","v":110},"問まで",{"$f":"COUNTIF($A$1:$T$200,T103)","v":2}]
[{"$f":"IF(A101=\"\",\"\",VLOOKUP(A101,漢字書き!$A$2:$N$506,6,0))","v":"［スイ］えい"},{"$f":"IF(B101=\"\",\"\",VLOOKUP(B101,漢字書き!$A$2:$N$506,6,0))","v":"［ホン］をよむ"},{"$f":"IF(C101=\"\",\"\",VLOOKUP(C101,漢字書き!$A$2:$N$506,6,0))","v":"［チイ］さいこえ"},{"$f":"IF(D101=\"\",\"\",VLOOKUP(D101,漢字書き!$A$2:$N$506,6,0))","v":"［コ］どもの日"},{"$f":"IF(E101=\"\",\"\",VLOOKUP(E101,漢字書き!$A$2:$N$506,6,0))","v":"［イツ］つの子"},{"$f":"IF(F101=\"\",\"\",VLOOKUP(F101,漢字書き!$A$2:$N$506,6,0))","v":"［ムラ］のかみさま"},{"$f":"IF(G101=\"\",\"\",VLOOKUP(G101,漢字書き!$A$2:$N$506,6,0))","v":"［ケンガク］する"},{"$f":"IF(H101=\"\",\"\",VLOOKUP(H101,漢字書き!$A$2:$N$506,6,0))","v":"［イシ］をほる"},{"$f":"IF(I101=\"\",\"\",VLOOKUP(I101,漢字書き!$A$2:$N$506,6,0))","v":"［カナ］もの"},{"$f":"IF(J101=\"\",\"\",VLOOKUP(J101,漢字書き!$A$2:$N$506,6,0))","v":"［チョウリツ］の小学校"},{"$f":"IF(K101=\"\",\"\",VLOOKUP(K101,漢字読み!$A$2:$O$506,6,0))","v":"［人気］もの"},{"$f":"IF(L101=\"\",\"\",VLOOKUP(L101,漢字読み!$A$2:$O$506,6,0))","v":"［校］もんを出る"},{"$f":"IF(M101=\"\",\"\",VLOOKUP(M101,漢字読み!$A$2:$O$506,6,0))","v":"［下校］する"},{"$f":"IF(N101=\"\",\"\",VLOOKUP(N101,漢字読み!$A$2:$O$506,6,0))","v":"子どもが［生］まれる"},{"$f":"IF(O101=\"\",\"\",VLOOKUP(O101,漢字読み!$A$2:$O$506,6,0))","v":"［千円］さつ"},{"$f":"IF(P101=\"\",\"\",VLOOKUP(P101,漢字読み!$A$2:$O$506,6,0))","v":"［町］ちょうになる"},{"$f":"IF(Q101=\"\",\"\",VLOOKUP(Q101,漢字読み!$A$2:$O$506,6,0))","v":"［文中］のことば"},{"$f":"IF(R101=\"\",\"\",VLOOKUP(R101,漢字読み!$A$2:$O$506,6,0))","v":"［大木］をたおす"},{"$f":"IF(S101=\"\",\"\",VLOOKUP(S101,漢字読み!$A$2:$O$506,6,0))","v":"［金］もちになる"},{"$f":"IF(T101=\"\",\"\",VLOOKUP(T101,漢字読み!$A$2:$O$506,6,0))","v":"きょうしつに［入］る"},null,"級"]
[null,null,null,null,null,null,null,null,null,null,null,null,null,null,null,null,null,null,null,null,null,"名前"]
[{"$f":"IF(A101=\"\",\"\",IF(VLOOKUP(A101,漢字書き!$A$2:$N$502,7,0)=0,\"\",VLOOKUP(A101,漢字書き!$A$2:$N$502,7,0)))","v":"えい"},{"$f":"IF(B101=\"\",\"\",IF(VLOOKUP(B101,漢字書き!$A$2:$N$502,7,0)=0,\"\",VLOOKUP(B101,漢字書き!$A$2:$N$502,7,0)))","v":""},{"$f":"IF(C101=\"\",\"\",IF(VLOOKUP(C101,漢字書き!$A$2:$N$502,7,0)=0,\"\",VLOOKUP(C101,漢字書き!$A$2:$N$502,7,0)))","v":"さい"},{"$f":"IF(D101=\"\",\"\",IF(VLOOKUP(D101,漢字書き!$A$2:$N$502,7,0)=0,\"\",VLOOKUP(D101,漢字書き!$A$2:$N$502,7,0)))","v":"ども"},{"$f":"IF(E101=\"\",\"\",IF(VLOOKUP(E101,漢字書き!$A$2:$N$502,7,0)=0,\"\",VLOOKUP(E101,漢字書き!$A$2:$N$502,7,0)))","v":"つ"},{"$f":"IF(F101=\"\",\"\",IF(VLOOKUP(F101,漢字書き!$A$2:$N$502,7,0)=0,\"\",VLOOKUP(F101,漢字書き!$A$2:$N$502,7,0)))","v":""},{"$f":"IF(G101=\"\",\"\",IF(VLOOKUP(G101,漢字書き!$A$2:$N$502,7,0)=0,\"\",VLOOKUP(G101,漢字書き!$A$2:$N$502,7,0)))","v":"する"},{"$f":"IF(H101=\"\",\"\",IF(VLOOKUP(H101,漢字書き!$A$2:$N$502,7,0)=0,\"\",VLOOKUP(H101,漢字書き!$A$2:$N$502,7,0)))","v":""},{"$f":"IF(I101=\"\",\"\",IF(VLOOKUP(I101,漢字書き!$A$2:$N$502,7,0)=0,\"\",VLOOKUP(I101,漢字書き!$A$2:$N$502,7,0)))","v":"もの"},{"$f":"IF(J101=\"\",\"\",IF(VLOOKUP(J101,漢字書き!$A$2:$N$502,7,0)=0,\"\",VLOOKUP(J101,漢字書き!$A$2:$N$502,7,0)))","v":""},{"$f":"IF(K101=\"\",\"\",IF(VLOOKUP(K101,漢字読み!$A$2:$O$502,7,0)=0,\"\",VLOOKUP(K101,漢字読み!$A$2:$O$502,7,0)))","v":"もの"},{"$f":"IF(L101=\"\",\"\",IF(VLOOKUP(L101,漢字読み!$A$2:$O$502,7,0)=0,\"\",VLOOKUP(L101,漢字読み!$A$2:$O$502,7,0)))","v":"もん"},{"$f":"IF(M101=\"\",\"\",IF(VLOOKUP(M101,漢字読み!$A$2:$O$502,7,0)=0,\"\",VLOOKUP(M101,漢字読み!$A$2:$O$502,7,0)))","v":"する"},{"$f":"IF(N101=\"\",\"\",IF(VLOOKUP(N101,漢字読み!$A$2:$O$502,7,0)=0,\"\",VLOOKUP(N101,漢字読み!$A$2:$O$502,7,0)))","v":"まれる"},{"$f":"IF(O101=\"\",\"\",IF(VLOOKUP(O101,漢字読み!$A$2:$O$502,7,0)=0,\"\",VLOOKUP(O101,漢字読み!$A$2:$O$502,7,0)))","v":"さつ"},{"$f":"IF(P101=\"\",\"\",IF(VLOOKUP(P101,漢字読み!$A$2:$O$502,7,0)=0,\"\",VLOOKUP(P101,漢字読み!$A$2:$O$502,7,0)))","v":""},{"$f":"IF(Q101=\"\",\"\",IF(VLOOKUP(Q101,漢字読み!$A$2:$O$502,7,0)=0,\"\",VLOOKUP(Q101,漢字読み!$A$2:$O$502,7,0)))","v":""},{"$f":"IF(R101=\"\",\"\",IF(VLOOKUP(R101,漢字読み!$A$2:$O$502,7,0)=0,\"\",VLOOKUP(R101,漢字読み!$A$2:$O$502,7,0)))","v":""},{"$f":"IF(S101=\"\",\"\",IF(VLOOKUP(S101,漢字読み!$A$2:$O$502,7,0)=0,\"\",VLOOKUP(S101,漢字読み!$A$2:$O$502,7,0)))","v":"もち"},{"$f":"IF(T101=\"\",\"\",IF(VLOOKUP(T101,漢字読み!$A$2:$O$502,7,0)=0,\"\",VLOOKUP(T101,漢字読み!$A$2:$O$502,7,0)))","v":"る"},null,null,"和歌山県教育委員会"]
[{"$f":"INDIRECT(\"'関数（書き）'!C\" & COLUMN(B$1)+SUM($AD$2:$AD107))","v":73},{"$f":"INDIRECT(\"'関数（書き）'!C\" & COLUMN(C$1)+SUM($AD$2:$AD107))","v":70},{"$f":"INDIRECT(\"'関数（書き）'!C\" & COLUMN(D$1)+SUM($AD$2:$AD107))","v":66},{"$f":"INDIRECT(\"'関数（書き）'!C\" & COLUMN(E$1)+SUM($AD$2:$AD107))","v":43},{"$f":"INDIRECT(\"'関数（書き）'!C\" & COLUMN(F$1)+SUM($AD$2:$AD107))","v":154},{"$f":"INDIRECT(\"'関数（書き）'!C\" & COLUMN(G$1)+SUM($AD$2:$AD107))","v":36},{"$f":"INDIRECT(\"'関数（書き）'!C\" & COLUMN(H$1)+SUM($AD$2:$AD107))","v":157},{"$f":"INDIRECT(\"'関数（書き）'!C\" & COLUMN(I$1)+SUM($AD$2:$AD107))","v":115},{"$f":"INDIRECT(\"'関数（書き）'!C\" & COLUMN(J$1)+SUM($AD$2:$AD107))","v":124},{"$f":"INDIRECT(\"'関数（書き）'!C\" & COLUMN(K$1)+SUM($AD$2:$AD107))","v":165},{"$f":"INDIRECT(\"'関数（読み）'!C\" & COLUMN(B$1)+SUM($AD$2:$AD107))","v":51},{"$f":"INDIRECT(\"'関数（読み）'!C\" & COLUMN(C$1)+SUM($AD$2:$AD107))","v":73},{"$f":"INDIRECT(\"'関数（読み）'!C\" & COLUMN(D$1)+SUM($AD$2:$AD107))","v":31},{"$f":"INDIRECT(\"'関数（読み）'!C\" & COLUMN(E$1)+SUM($AD$2:$AD107))","v":9},{"$f":"INDIRECT(\"'関数（読み）'!C\" & COLUMN(F$1)+SUM($AD$2:$AD107))","v":109},{"$f":"INDIRECT(\"'関数（読み）'!C\" & COLUMN(G$1)+SUM($AD$2:$AD107))","v":132},{"$f":"INDIRECT(\"'関数（読み）'!C\" & COLUMN(H$1)+SUM($AD$2:$AD107))","v":62},{"$f":"INDIRECT(\"'関数（読み）'!C\" & COLUMN(I$1)+SUM($AD$2:$AD107))","v":143},{"$f":"INDIRECT(\"'関数（読み）'!C\" & COLUMN(J$1)+SUM($AD$2:$AD107))","v":86},{"$f":"INDIRECT(\"'関数（読み）'!C\" & COLUMN(K$1)+SUM($AD$2:$AD107))","v":97}]
["⑳","⑲","⑱","⑰","⑯","⑮","⑭","⑬","⑫","⑪","⑩","⑨","⑧","⑦","⑥","⑤","④","③","②","①","次の［　　　　］の部分の漢字には読みがなをひらがなで書き、カタカナは漢字に直しなさい。",15,"「漢字の博士検定試験」練習問題　",null,null,null,null,null,"←",10,"問",{"$f":"AH102+1","v":111},"～",{"$f":"SUM($AD$2:$AD107)+10","v":120},"問まで",{"$f":"COUNTIF($A$1:$T$200,T108)","v":2}]
[{"$f":"IF(A106=\"\",\"\",VLOOKUP(A106,漢字書き!$A$2:$N$506,6,0))","v":"あく［シュ］をする"},{"$f":"IF(B106=\"\",\"\",VLOOKUP(B106,漢字書き!$A$2:$N$506,6,0))","v":"［ナナ］いろのにじ"},{"$f":"IF(C106=\"\",\"\",VLOOKUP(C106,漢字書き!$A$2:$N$506,6,0))","v":"［ジ］をかく"},{"$f":"IF(D106=\"\",\"\",VLOOKUP(D106,漢字書き!$A$2:$N$506,6,0))","v":"［イヌ］とねこ"},{"$f":"IF(E106=\"\",\"\",VLOOKUP(E106,漢字書き!$A$2:$N$506,6,0))","v":"［ハチガツ］がすきだ"},{"$f":"IF(F106=\"\",\"\",VLOOKUP(F106,漢字書き!$A$2:$N$506,6,0))","v":"お［カネ］をはらう"},{"$f":"IF(G106=\"\",\"\",VLOOKUP(G106,漢字書き!$A$2:$N$506,6,0))","v":"［ブン］をかく"},{"$f":"IF(H106=\"\",\"\",VLOOKUP(H106,漢字書き!$A$2:$N$506,6,0))","v":"［ハヤ］くおきる"},{"$f":"IF(I106=\"\",\"\",VLOOKUP(I106,漢字書き!$A$2:$N$506,6,0))","v":"［ダイ］きちをひく"},{"$f":"IF(J106=\"\",\"\",VLOOKUP(J106,漢字書き!$A$2:$N$506,6,0))","v":"［ナ］まえをかく"},{"$f":"IF(K106=\"\",\"\",VLOOKUP(K106,漢字読み!$A$2:$O$506,6,0))","v":"［五］まいのおさら"},{"$f":"IF(L106=\"\",\"\",VLOOKUP(L106,漢字読み!$A$2:$O$506,6,0))","v":"［車］がおおい"},{"$f":"IF(M106=\"\",\"\",VLOOKUP(M106,漢字読み!$A$2:$O$506,6,0))","v":"［学校］のかいだん"},{"$f":"IF(N106=\"\",\"\",VLOOKUP(N106,漢字読み!$A$2:$O$506,6,0))","v":"はだかの［王］さま"},{"$f":"IF(O106=\"\",\"\",VLOOKUP(O106,漢字読み!$A$2:$O$506,6,0))","v":"きれいな［夕］やけ"},{"$f":"IF(P106=\"\",\"\",VLOOKUP(P106,漢字読み!$A$2:$O$506,6,0))","v":"［男女］にわかれる"},{"$f":"IF(Q106=\"\",\"\",VLOOKUP(Q106,漢字読み!$A$2:$O$506,6,0))","v":"［山］にのぼる"},{"$f":"IF(R106=\"\",\"\",VLOOKUP(R106,漢字読み!$A$2:$O$506,6,0))","v":"［天］のがわ"},{"$f":"IF(S106=\"\",\"\",VLOOKUP(S106,漢字読み!$A$2:$O$506,6,0))","v":"［上下］左右にふる"},{"$f":"IF(T106=\"\",\"\",VLOOKUP(T106,漢字読み!$A$2:$O$506,6,0))","v":"［正］かいを出す"},null,"級"]
[null,null,null,null,null,null,null,null,null,null,null,null,null,null,null,null,null,null,null,null,null,"名前"]
[{"$f":"IF(A106=\"\",\"\",IF(VLOOKUP(A106,漢字書き!$A$2:$N$502,7,0)=0,\"\",VLOOKUP(A106,漢字書き!$A$2:$N$502,7,0)))","v":""},{"$f":"IF(B106=\"\",\"\",IF(VLOOKUP(B106,漢字書き!$A$2:$N$502,7,0)=0,\"\",VLOOKUP(B106,漢字書き!$A$2:$N$502,7,0)))","v":"いろ"},{"$f":"IF(C106=\"\",\"\",IF(VLOOKUP(C106,漢字書き!$A$2:$N$502,7,0)=0,\"\",VLOOKUP(C106,漢字書き!$A$2:$N$502,7,0)))","v":""},{"$f":"IF(D106=\"\",\"\",IF(VLOOKUP(D106,漢字書き!$A$2:$N$502,7,0)=0,\"\",VLOOKUP(D106,漢字書き!$A$2:$N$502,7,0)))","v":""},{"$f":"IF(E106=\"\",\"\",IF(VLOOKUP(E106,漢字書き!$A$2:$N$502,7,0)=0,\"\",VLOOKUP(E106,漢字書き!$A$2:$N$502,7,0)))","v":""},{"$f":"IF(F106=\"\",\"\",IF(VLOOKUP(F106,漢字書き!$A$2:$N$502,7,0)=0,\"\",VLOOKUP(F106,漢字書き!$A$2:$N$502,7,0)))","v":""},{"$f":"IF(G106=\"\",\"\",IF(VLOOKUP(G106,漢字書き!$A$2:$N$502,7,0)=0,\"\",VLOOKUP(G106,漢字書き!$A$2:$N$502,7,0)))","v":""},{"$f":"IF(H106=\"\",\"\",IF(VLOOKUP(H106,漢字書き!$A$2:$N$502,7,0)=0,\"\",VLOOKUP(H106,漢字書き!$A$2:$N$502,7,0)))","v":"く"},{"$f":"IF(I106=\"\",\"\",IF(VLOOKUP(I106,漢字書き!$A$2:$N$502,7,0)=0,\"\",VLOOKUP(I106,漢字書き!$A$2:$N$502,7,0)))","v":"きち"},{"$f":"IF(J106=\"\",\"\",IF(VLOOKUP(J106,漢字書き!$A$2:$N$502,7,0)=0,\"\",VLOOKUP(J106,漢字書き!$A$2:$N$502,7,0)))","v":"まえ"},{"$f":"IF(K106=\"\",\"\",IF(VLOOKUP(K106,漢字読み!$A$2:$O$502,7,0)=0,\"\",VLOOKUP(K106,漢字読み!$A$2:$O$502,7,0)))","v":"まい"},{"$f":"IF(L106=\"\",\"\",IF(VLOOKUP(L106,漢字読み!$A$2:$O$502,7,0)=0,\"\",VLOOKUP(L106,漢字読み!$A$2:$O$502,7,0)))","v":""},{"$f":"IF(M106=\"\",\"\",IF(VLOOKUP(M106,漢字読み!$A$2:$O$502,7,0)=0,\"\",VLOOKUP(M106,漢字読み!$A$2:$O$502,7,0)))","v":""},{"$f":"IF(N106=\"\",\"\",IF(VLOOKUP(N106,漢字読み!$A$2:$O$502,7,0)=0,\"\",VLOOKUP(N106,漢字読み!$A$2:$O$502,7,0)))","v":"さま"},{"$f":"IF(O106=\"\",\"\",IF(VLOOKUP(O106,漢字読み!$A$2:$O$502,7,0)=0,\"\",VLOOKUP(O106,漢字読み!$A$2:$O$502,7,0)))","v":"やけ"},{"$f":"IF(P106=\"\",\"\",IF(VLOOKUP(P106,漢字読み!$A$2:$O$502,7,0)=0,\"\",VLOOKUP(P106,漢字読み!$A$2:$O$502,7,0)))","v":""},{"$f":"IF(Q106=\"\",\"\",IF(VLOOKUP(Q106,漢字読み!$A$2:$O$502,7,0)=0,\"\",VLOOKUP(Q106,漢字読み!$A$2:$O$502,7,0)))","v":""},{"$f":"IF(R106=\"\",\"\",IF(VLOOKUP(R106,漢字読み!$A$2:$O$502,7,0)=0,\"\",VLOOKUP(R106,漢字読み!$A$2:$O$502,7,0)))","v":""},{"$f":"IF(S106=\"\",\"\",IF(VLOOKUP(S106,漢字読み!$A$2:$O$502,7,0)=0,\"\",VLOOKUP(S106,漢字読み!$A$2:$O$502,7,0)))","v":""},{"$f":"IF(T106=\"\",\"\",IF(VLOOKUP(T106,漢字読み!$A$2:$O$502,7,0)=0,\"\",VLOOKUP(T106,漢字読み!$A$2:$O$502,7,0)))","v":"かい"},null,null,"和歌山県教育委員会"]
[{"$f":"A101","v":92},{"$f":"B101","v":161},83,61,48,122,45,105,37,168,28,56,15,101,114,140,165,168,39,154]
["⑳","⑲","⑱","⑰","⑯","⑮","⑭","⑬","⑫","⑪","⑩","⑨","⑧","⑦","⑥","⑤","④","③","②","①","次の［　　　　］の部分の漢字には読みがなをひらがなで書き、カタカナは漢字に直しなさい。",15,"「漢字の博士検定試験」練習問題　"]
[{"$f":"IF(A111=\"\",\"\",VLOOKUP(A111,漢字書き!$A$2:$N$506,6,0))","v":"［スイ］えい"},{"$f":"IF(B111=\"\",\"\",VLOOKUP(B111,漢字書き!$A$2:$N$506,6,0))","v":"［ホン］をよむ"},{"$f":"IF(C111=\"\",\"\",VLOOKUP(C111,漢字書き!$A$2:$N$506,6,0))","v":"［チイ］さいこえ"},{"$f":"IF(D111=\"\",\"\",VLOOKUP(D111,漢字書き!$A$2:$N$506,6,0))","v":"［コ］どもの日"},{"$f":"IF(E111=\"\",\"\",VLOOKUP(E111,漢字書き!$A$2:$N$506,6,0))","v":"［イツ］つの子"},{"$f":"IF(F111=\"\",\"\",VLOOKUP(F111,漢字書き!$A$2:$N$506,6,0))","v":"［ムラ］のかみさま"},{"$f":"IF(G111=\"\",\"\",VLOOKUP(G111,漢字書き!$A$2:$N$506,6,0))","v":"［ケンガク］する"},{"$f":"IF(H111=\"\",\"\",VLOOKUP(H111,漢字書き!$A$2:$N$506,6,0))","v":"［イシ］をほる"},{"$f":"IF(I111=\"\",\"\",VLOOKUP(I111,漢字書き!$A$2:$N$506,6,0))","v":"［カナ］もの"},{"$f":"IF(J111=\"\",\"\",VLOOKUP(J111,漢字書き!$A$2:$N$506,6,0))","v":"［チョウリツ］の小学校"},{"$f":"IF(K111=\"\",\"\",VLOOKUP(K111,漢字読み!$A$2:$O$506,6,0))","v":"［人気］もの"},{"$f":"IF(L111=\"\",\"\",VLOOKUP(L111,漢字読み!$A$2:$O$506,6,0))","v":"［校］もんを出る"},{"$f":"IF(M111=\"\",\"\",VLOOKUP(M111,漢字読み!$A$2:$O$506,6,0))","v":"［下校］する"},{"$f":"IF(N111=\"\",\"\",VLOOKUP(N111,漢字読み!$A$2:$O$506,6,0))","v":"子どもが［生］まれる"},{"$f":"IF(O111=\"\",\"\",VLOOKUP(O111,漢字読み!$A$2:$O$506,6,0))","v":"［千円］さつ"},{"$f":"IF(P111=\"\",\"\",VLOOKUP(P111,漢字読み!$A$2:$O$506,6,0))","v":"［町］ちょうになる"},{"$f":"IF(Q111=\"\",\"\",VLOOKUP(Q111,漢字読み!$A$2:$O$506,6,0))","v":"［文中］のことば"},{"$f":"IF(R111=\"\",\"\",VLOOKUP(R111,漢字読み!$A$2:$O$506,6,0))","v":"［大木］をたおす"},{"$f":"IF(S111=\"\",\"\",VLOOKUP(S111,漢字読み!$A$2:$O$506,6,0))","v":"［金］もちになる"},{"$f":"IF(T111=\"\",\"\",VLOOKUP(T111,漢字読み!$A$2:$O$506,6,0))","v":"きょうしつに［入］る"},null,"級"]
[{"$f":"IF(A$11=\"\",\"\",VLOOKUP(A111,漢字書き!$A$2:$O$506,8,0))","v":"水"},{"$f":"IF(B$11=\"\",\"\",VLOOKUP(B111,漢字書き!$A$2:$O$506,8,0))","v":"本"},{"$f":"IF(C$11=\"\",\"\",VLOOKUP(C111,漢字書き!$A$2:$O$506,8,0))","v":"小"},{"$f":"IF(D$11=\"\",\"\",VLOOKUP(D111,漢字書き!$A$2:$O$506,8,0))","v":"子"},{"$f":"IF(E$11=\"\",\"\",VLOOKUP(E111,漢字書き!$A$2:$O$506,8,0))","v":"五"},{"$f":"IF(F$11=\"\",\"\",VLOOKUP(F111,漢字書き!$A$2:$O$506,8,0))","v":"村"},{"$f":"IF(G$11=\"\",\"\",VLOOKUP(G111,漢字書き!$A$2:$O$506,8,0))","v":"見学"},{"$f":"IF(H$11=\"\",\"\",VLOOKUP(H111,漢字書き!$A$2:$O$506,8,0))","v":"石"},{"$f":"IF(I$11=\"\",\"\",VLOOKUP(I111,漢字書き!$A$2:$O$506,8,0))","v":"金"},{"$f":"IF(J$11=\"\",\"\",VLOOKUP(J111,漢字書き!$A$2:$O$506,8,0))","v":"町立"},{"$f":"IF(K$11=\"\",\"\",VLOOKUP(K111,漢字読み!$A$2:$O$506,8,0))","v":"にんき"},{"$f":"IF(L$11=\"\",\"\",VLOOKUP(L111,漢字読み!$A$2:$O$506,8,0))","v":"こう"},{"$f":"IF(M$11=\"\",\"\",VLOOKUP(M111,漢字読み!$A$2:$O$506,8,0))","v":"げこう"},{"$f":"IF(N$11=\"\",\"\",VLOOKUP(N111,漢字読み!$A$2:$O$506,8,0))","v":"う"},{"$f":"IF(O$11=\"\",\"\",VLOOKUP(O111,漢字読み!$A$2:$O$506,8,0))","v":"せんえん"},{"$f":"IF(P$11=\"\",\"\",VLOOKUP(P111,漢字読み!$A$2:$O$506,8,0))","v":"ちょう"},{"$f":"IF(Q$11=\"\",\"\",VLOOKUP(Q111,漢字読み!$A$2:$O$506,8,0))","v":"ぶんちゅう"},{"$f":"IF(R$11=\"\",\"\",VLOOKUP(R111,漢字読み!$A$2:$O$506,8,0))","v":"たいぼく"},{"$f":"IF(S$11=\"\",\"\",VLOOKUP(S111,漢字読み!$A$2:$O$506,8,0))","v":"かね"},{"$f":"IF(T$11=\"\",\"\",VLOOKUP(T111,漢字読み!$A$2:$O$506,8,0))","v":"はい"},null,"名前"]
[{"$f":"IF(A111=\"\",\"\",IF(VLOOKUP(A111,漢字書き!$A$2:$N$502,7,0)=0,\"\",VLOOKUP(A111,漢字書き!$A$2:$N$502,7,0)))","v":"えい"},{"$f":"IF(B111=\"\",\"\",IF(VLOOKUP(B111,漢字書き!$A$2:$N$502,7,0)=0,\"\",VLOOKUP(B111,漢字書き!$A$2:$N$502,7,0)))","v":""},{"$f":"IF(C111=\"\",\"\",IF(VLOOKUP(C111,漢字書き!$A$2:$N$502,7,0)=0,\"\",VLOOKUP(C111,漢字書き!$A$2:$N$502,7,0)))","v":"さい"},{"$f":"IF(D111=\"\",\"\",IF(VLOOKUP(D111,漢字書き!$A$2:$N$502,7,0)=0,\"\",VLOOKUP(D111,漢字書き!$A$2:$N$502,7,0)))","v":"ども"},{"$f":"IF(E111=\"\",\"\",IF(VLOOKUP(E111,漢字書き!$A$2:$N$502,7,0)=0,\"\",VLOOKUP(E111,漢字書き!$A$2:$N$502,7,0)))","v":"つ"},{"$f":"IF(F111=\"\",\"\",IF(VLOOKUP(F111,漢字書き!$A$2:$N$502,7,0)=0,\"\",VLOOKUP(F111,漢字書き!$A$2:$N$502,7,0)))","v":""},{"$f":"IF(G111=\"\",\"\",IF(VLOOKUP(G111,漢字書き!$A$2:$N$502,7,0)=0,\"\",VLOOKUP(G111,漢字書き!$A$2:$N$502,7,0)))","v":"する"},{"$f":"IF(H111=\"\",\"\",IF(VLOOKUP(H111,漢字書き!$A$2:$N$502,7,0)=0,\"\",VLOOKUP(H111,漢字書き!$A$2:$N$502,7,0)))","v":""},{"$f":"IF(I111=\"\",\"\",IF(VLOOKUP(I111,漢字書き!$A$2:$N$502,7,0)=0,\"\",VLOOKUP(I111,漢字書き!$A$2:$N$502,7,0)))","v":"もの"},{"$f":"IF(J111=\"\",\"\",IF(VLOOKUP(J111,漢字書き!$A$2:$N$502,7,0)=0,\"\",VLOOKUP(J111,漢字書き!$A$2:$N$502,7,0)))","v":""},{"$f":"IF(K111=\"\",\"\",IF(VLOOKUP(K111,漢字読み!$A$2:$O$502,7,0)=0,\"\",VLOOKUP(K111,漢字読み!$A$2:$O$502,7,0)))","v":"もの"},{"$f":"IF(L111=\"\",\"\",IF(VLOOKUP(L111,漢字読み!$A$2:$O$502,7,0)=0,\"\",VLOOKUP(L111,漢字読み!$A$2:$O$502,7,0)))","v":"もん"},{"$f":"IF(M111=\"\",\"\",IF(VLOOKUP(M111,漢字読み!$A$2:$O$502,7,0)=0,\"\",VLOOKUP(M111,漢字読み!$A$2:$O$502,7,0)))","v":"する"},{"$f":"IF(N111=\"\",\"\",IF(VLOOKUP(N111,漢字読み!$A$2:$O$502,7,0)=0,\"\",VLOOKUP(N111,漢字読み!$A$2:$O$502,7,0)))","v":"まれる"},{"$f":"IF(O111=\"\",\"\",IF(VLOOKUP(O111,漢字読み!$A$2:$O$502,7,0)=0,\"\",VLOOKUP(O111,漢字読み!$A$2:$O$502,7,0)))","v":"さつ"},{"$f":"IF(P111=\"\",\"\",IF(VLOOKUP(P111,漢字読み!$A$2:$O$502,7,0)=0,\"\",VLOOKUP(P111,漢字読み!$A$2:$O$502,7,0)))","v":""},{"$f":"IF(Q111=\"\",\"\",IF(VLOOKUP(Q111,漢字読み!$A$2:$O$502,7,0)=0,\"\",VLOOKUP(Q111,漢字読み!$A$2:$O$502,7,0)))","v":""},{"$f":"IF(R111=\"\",\"\",IF(VLOOKUP(R111,漢字読み!$A$2:$O$502,7,0)=0,\"\",VLOOKUP(R111,漢字読み!$A$2:$O$502,7,0)))","v":""},{"$f":"IF(S111=\"\",\"\",IF(VLOOKUP(S111,漢字読み!$A$2:$O$502,7,0)=0,\"\",VLOOKUP(S111,漢字読み!$A$2:$O$502,7,0)))","v":"もち"},{"$f":"IF(T111=\"\",\"\",IF(VLOOKUP(T111,漢字読み!$A$2:$O$502,7,0)=0,\"\",VLOOKUP(T111,漢字読み!$A$2:$O$502,7,0)))","v":"る"},null,null,"和歌山県教育委員会"]
[{"$f":"A106","v":73},{"$f":"B106","v":70},66,43,154,36,157,115,124,165,51,73,31,9,109,132,62,143,86,97]
["⑳","⑲","⑱","⑰","⑯","⑮","⑭","⑬","⑫","⑪","⑩","⑨","⑧","⑦","⑥","⑤","④","③","②","①","次の［　　　　］の部分の漢字には読みがなをひらがなで書き、カタカナは漢字に直しなさい。",15,"「漢字の博士検定試験」練習問題　"]
[{"$f":"IF(A116=\"\",\"\",VLOOKUP(A116,漢字書き!$A$2:$N$506,6,0))","v":"あく［シュ］をする"},{"$f":"IF(B116=\"\",\"\",VLOOKUP(B116,漢字書き!$A$2:$N$506,6,0))","v":"［ナナ］いろのにじ"},{"$f":"IF(C116=\"\",\"\",VLOOKUP(C116,漢字書き!$A$2:$N$506,6,0))","v":"［ジ］をかく"},{"$f":"IF(D116=\"\",\"\",VLOOKUP(D116,漢字書き!$A$2:$N$506,6,0))","v":"［イヌ］とねこ"},{"$f":"IF(E116=\"\",\"\",VLOOKUP(E116,漢字書き!$A$2:$N$506,6,0))","v":"［ハチガツ］がすきだ"},{"$f":"IF(F116=\"\",\"\",VLOOKUP(F116,漢字書き!$A$2:$N$506,6,0))","v":"お［カネ］をはらう"},{"$f":"IF(G116=\"\",\"\",VLOOKUP(G116,漢字書き!$A$2:$N$506,6,0))","v":"［ブン］をかく"},{"$f":"IF(H116=\"\",\"\",VLOOKUP(H116,漢字書き!$A$2:$N$506,6,0))","v":"［ハヤ］くおきる"},{"$f":"IF(I116=\"\",\"\",VLOOKUP(I116,漢字書き!$A$2:$N$506,6,0))","v":"［ダイ］きちをひく"},{"$f":"IF(J116=\"\",\"\",VLOOKUP(J116,漢字書き!$A$2:$N$506,6,0))","v":"［ナ］まえをかく"},{"$f":"IF(K116=\"\",\"\",VLOOKUP(K116,漢字読み!$A$2:$O$506,6,0))","v":"［五］まいのおさら"},{"$f":"IF(L116=\"\",\"\",VLOOKUP(L116,漢字読み!$A$2:$O$506,6,0))","v":"［車］がおおい"},{"$f":"IF(M116=\"\",\"\",VLOOKUP(M116,漢字読み!$A$2:$O$506,6,0))","v":"［学校］のかいだん"},{"$f":"IF(N116=\"\",\"\",VLOOKUP(N116,漢字読み!$A$2:$O$506,6,0))","v":"はだかの［王］さま"},{"$f":"IF(O116=\"\",\"\",VLOOKUP(O116,漢字読み!$A$2:$O$506,6,0))","v":"きれいな［夕］やけ"},{"$f":"IF(P116=\"\",\"\",VLOOKUP(P116,漢字読み!$A$2:$O$506,6,0))","v":"［男女］にわかれる"},{"$f":"IF(Q116=\"\",\"\",VLOOKUP(Q116,漢字読み!$A$2:$O$506,6,0))","v":"［山］にのぼる"},{"$f":"IF(R116=\"\",\"\",VLOOKUP(R116,漢字読み!$A$2:$O$506,6,0))","v":"［天］のがわ"},{"$f":"IF(S116=\"\",\"\",VLOOKUP(S116,漢字読み!$A$2:$O$506,6,0))","v":"［上下］左右にふる"},{"$f":"IF(T116=\"\",\"\",VLOOKUP(T116,漢字読み!$A$2:$O$506,6,0))","v":"［正］かいを出す"},null,"級"]
[{"$f":"IF(A$16=\"\",\"\",VLOOKUP(A116,漢字書き!$A$2:$O$506,8,0))","v":"手"},{"$f":"IF(B$16=\"\",\"\",VLOOKUP(B116,漢字書き!$A$2:$O$506,8,0))","v":"七"},{"$f":"IF(C$16=\"\",\"\",VLOOKUP(C116,漢字書き!$A$2:$O$506,8,0))","v":"字"},{"$f":"IF(D$16=\"\",\"\",VLOOKUP(D116,漢字書き!$A$2:$O$506,8,0))","v":"犬"},{"$f":"IF(E$16=\"\",\"\",VLOOKUP(E116,漢字書き!$A$2:$O$506,8,0))","v":"八月"},{"$f":"IF(F$16=\"\",\"\",VLOOKUP(F116,漢字書き!$A$2:$O$506,8,0))","v":"金"},{"$f":"IF(G$16=\"\",\"\",VLOOKUP(G116,漢字書き!$A$2:$O$506,8,0))","v":"文"},{"$f":"IF(H$16=\"\",\"\",VLOOKUP(H116,漢字書き!$A$2:$O$506,8,0))","v":"早"},{"$f":"IF(I$16=\"\",\"\",VLOOKUP(I116,漢字書き!$A$2:$O$506,8,0))","v":"大"},{"$f":"IF(J$16=\"\",\"\",VLOOKUP(J116,漢字書き!$A$2:$O$506,8,0))","v":"名"},{"$f":"IF(K$16=\"\",\"\",VLOOKUP(K116,漢字読み!$A$2:$O$506,8,0))","v":"ご"},{"$f":"IF(L$16=\"\",\"\",VLOOKUP(L116,漢字読み!$A$2:$O$506,8,0))","v":"くるま"},{"$f":"IF(M$16=\"\",\"\",VLOOKUP(M116,漢字読み!$A$2:$O$506,8,0))","v":"がっこう"},{"$f":"IF(N$16=\"\",\"\",VLOOKUP(N116,漢字読み!$A$2:$O$506,8,0))","v":"おう"},{"$f":"IF(O$16=\"\",\"\",VLOOKUP(O116,漢字読み!$A$2:$O$506,8,0))","v":"ゆう"},{"$f":"IF(P$16=\"\",\"\",VLOOKUP(P116,漢字読み!$A$2:$O$506,8,0))","v":"だんじょ"},{"$f":"IF(Q$16=\"\",\"\",VLOOKUP(Q116,漢字読み!$A$2:$O$506,8,0))","v":"やま"},{"$f":"IF(R$16=\"\",\"\",VLOOKUP(R116,漢字読み!$A$2:$O$506,8,0))","v":"あま"},{"$f":"IF(S$16=\"\",\"\",VLOOKUP(S116,漢字読み!$A$2:$O$506,8,0))","v":"じょうげ"},{"$f":"IF(T$16=\"\",\"\",VLOOKUP(T116,漢字読み!$A$2:$O$506,8,0))","v":"せい"},null,"名前"]
[{"$f":"IF(A116=\"\",\"\",IF(VLOOKUP(A116,漢字書き!$A$2:$N$502,7,0)=0,\"\",VLOOKUP(A116,漢字書き!$A$2:$N$502,7,0)))","v":""},{"$f":"IF(B116=\"\",\"\",IF(VLOOKUP(B116,漢字書き!$A$2:$N$502,7,0)=0,\"\",VLOOKUP(B116,漢字書き!$A$2:$N$502,7,0)))","v":"いろ"},{"$f":"IF(C116=\"\",\"\",IF(VLOOKUP(C116,漢字書き!$A$2:$N$502,7,0)=0,\"\",VLOOKUP(C116,漢字書き!$A$2:$N$502,7,0)))","v":""},{"$f":"IF(D116=\"\",\"\",IF(VLOOKUP(D116,漢字書き!$A$2:$N$502,7,0)=0,\"\",VLOOKUP(D116,漢字書き!$A$2:$N$502,7,0)))","v":""},{"$f":"IF(E116=\"\",\"\",IF(VLOOKUP(E116,漢字書き!$A$2:$N$502,7,0)=0,\"\",VLOOKUP(E116,漢字書き!$A$2:$N$502,7,0)))","v":""},{"$f":"IF(F116=\"\",\"\",IF(VLOOKUP(F116,漢字書き!$A$2:$N$502,7,0)=0,\"\",VLOOKUP(F116,漢字書き!$A$2:$N$502,7,0)))","v":""},{"$f":"IF(G116=\"\",\"\",IF(VLOOKUP(G116,漢字書き!$A$2:$N$502,7,0)=0,\"\",VLOOKUP(G116,漢字書き!$A$2:$N$502,7,0)))","v":""},{"$f":"IF(H116=\"\",\"\",IF(VLOOKUP(H116,漢字書き!$A$2:$N$502,7,0)=0,\"\",VLOOKUP(H116,漢字書き!$A$2:$N$502,7,0)))","v":"く"},{"$f":"IF(I116=\"\",\"\",IF(VLOOKUP(I116,漢字書き!$A$2:$N$502,7,0)=0,\"\",VLOOKUP(I116,漢字書き!$A$2:$N$502,7,0)))","v":"きち"},{"$f":"IF(J116=\"\",\"\",IF(VLOOKUP(J116,漢字書き!$A$2:$N$502,7,0)=0,\"\",VLOOKUP(J116,漢字書き!$A$2:$N$502,7,0)))","v":"まえ"},{"$f":"IF(K116=\"\",\"\",IF(VLOOKUP(K116,漢字読み!$A$2:$O$502,7,0)=0,\"\",VLOOKUP(K116,漢字読み!$A$2:$O$502,7,0)))","v":"まい"},{"$f":"IF(L116=\"\",\"\",IF(VLOOKUP(L116,漢字読み!$A$2:$O$502,7,0)=0,\"\",VLOOKUP(L116,漢字読み!$A$2:$O$502,7,0)))","v":""},{"$f":"IF(M116=\"\",\"\",IF(VLOOKUP(M116,漢字読み!$A$2:$O$502,7,0)=0,\"\",VLOOKUP(M116,漢字読み!$A$2:$O$502,7,0)))","v":""},{"$f":"IF(N116=\"\",\"\",IF(VLOOKUP(N116,漢字読み!$A$2:$O$502,7,0)=0,\"\",VLOOKUP(N116,漢字読み!$A$2:$O$502,7,0)))","v":"さま"},{"$f":"IF(O116=\"\",\"\",IF(VLOOKUP(O116,漢字読み!$A$2:$O$502,7,0)=0,\"\",VLOOKUP(O116,漢字読み!$A$2:$O$502,7,0)))","v":"やけ"},{"$f":"IF(P116=\"\",\"\",IF(VLOOKUP(P116,漢字読み!$A$2:$O$502,7,0)=0,\"\",VLOOKUP(P116,漢字読み!$A$2:$O$502,7,0)))","v":""},{"$f":"IF(Q116=\"\",\"\",IF(VLOOKUP(Q116,漢字読み!$A$2:$O$502,7,0)=0,\"\",VLOOKUP(Q116,漢字読み!$A$2:$O$502,7,0)))","v":""},{"$f":"IF(R116=\"\",\"\",IF(VLOOKUP(R116,漢字読み!$A$2:$O$502,7,0)=0,\"\",VLOOKUP(R116,漢字読み!$A$2:$O$502,7,0)))","v":""},{"$f":"IF(S116=\"\",\"\",IF(VLOOKUP(S116,漢字読み!$A$2:$O$502,7,0)=0,\"\",VLOOKUP(S116,漢字読み!$A$2:$O$502,7,0)))","v":""},{"$f":"IF(T116=\"\",\"\",IF(VLOOKUP(T116,漢字読み!$A$2:$O$502,7,0)=0,\"\",VLOOKUP(T116,漢字読み!$A$2:$O$502,7,0)))","v":"かい"},null,null,"和歌山県教育委員会"]
[{"$f":"INDIRECT(\"'関数（書き）'!C\" & COLUMN(B$1)+SUM($AD$2:$AD122))","v":94},{"$f":"INDIRECT(\"'関数（書き）'!C\" & COLUMN(C$1)+SUM($AD$2:$AD122))","v":82},{"$f":"INDIRECT(\"'関数（書き）'!C\" & COLUMN(D$1)+SUM($AD$2:$AD122))","v":126},{"$f":"INDIRECT(\"'関数（書き）'!C\" & COLUMN(E$1)+SUM($AD$2:$AD122))","v":64},{"$f":"INDIRECT(\"'関数（書き）'!C\" & COLUMN(F$1)+SUM($AD$2:$AD122))","v":145},{"$f":"INDIRECT(\"'関数（書き）'!C\" & COLUMN(G$1)+SUM($AD$2:$AD122))","v":147},{"$f":"INDIRECT(\"'関数（書き）'!C\" & COLUMN(H$1)+SUM($AD$2:$AD122))","v":27},{"$f":"INDIRECT(\"'関数（書き）'!C\" & COLUMN(I$1)+SUM($AD$2:$AD122))","v":24},{"$f":"INDIRECT(\"'関数（書き）'!C\" & COLUMN(J$1)+SUM($AD$2:$AD122))","v":23},{"$f":"INDIRECT(\"'関数（書き）'!C\" & COLUMN(K$1)+SUM($AD$2:$AD122))","v":10},{"$f":"INDIRECT(\"'関数（読み）'!C\" & COLUMN(B$1)+SUM($AD$2:$AD122))","v":69},{"$f":"INDIRECT(\"'関数（読み）'!C\" & COLUMN(C$1)+SUM($AD$2:$AD122))","v":37},{"$f":"INDIRECT(\"'関数（読み）'!C\" & COLUMN(D$1)+SUM($AD$2:$AD122))","v":162},{"$f":"INDIRECT(\"'関数（読み）'!C\" & COLUMN(E$1)+SUM($AD$2:$AD122))","v":67},{"$f":"INDIRECT(\"'関数（読み）'!C\" & COLUMN(F$1)+SUM($AD$2:$AD122))","v":161},{"$f":"INDIRECT(\"'関数（読み）'!C\" & COLUMN(G$1)+SUM($AD$2:$AD122))","v":81},{"$f":"INDIRECT(\"'関数（読み）'!C\" & COLUMN(H$1)+SUM($AD$2:$AD122))","v":59},{"$f":"INDIRECT(\"'関数（読み）'!C\" & COLUMN(I$1)+SUM($AD$2:$AD122))","v":138},{"$f":"INDIRECT(\"'関数（読み）'!C\" & COLUMN(J$1)+SUM($AD$2:$AD122))","v":147},{"$f":"INDIRECT(\"'関数（読み）'!C\" & COLUMN(K$1)+SUM($AD$2:$AD122))","v":1}]
["⑳","⑲","⑱","⑰","⑯","⑮","⑭","⑬","⑫","⑪","⑩","⑨","⑧","⑦","⑥","⑤","④","③","②","①","次の［　　　　］の部分の漢字には読みがなをひらがなで書き、カタカナは漢字に直しなさい。",15,"「漢字の博士検定試験」練習問題　",null,null,null,null,null,"←",10,"問",{"$f":"AH107+1","v":121},"～",{"$f":"SUM($AD$2:$AD122)+10","v":130},"問まで",{"$f":"COUNTIF($A$1:$T$200,T123)","v":2}]
[{"$f":"IF(A121=\"\",\"\",VLOOKUP(A121,漢字書き!$A$2:$N$506,6,0))","v":"お［ショウガツ］"},{"$f":"IF(B121=\"\",\"\",VLOOKUP(B121,漢字書き!$A$2:$N$506,6,0))","v":"［ショウガッコウ］にいく"},{"$f":"IF(C121=\"\",\"\",VLOOKUP(C121,漢字書き!$A$2:$N$506,6,0))","v":"［ダンジョ］なかよし"},{"$f":"IF(D121=\"\",\"\",VLOOKUP(D121,漢字書き!$A$2:$N$506,6,0))","v":"くもの［イト］"},{"$f":"IF(E121=\"\",\"\",VLOOKUP(E121,漢字書き!$A$2:$N$506,6,0))","v":"［ヒ］の出をおがむ"},{"$f":"IF(F121=\"\",\"\",VLOOKUP(F121,漢字書き!$A$2:$N$506,6,0))","v":"［ホンジツ］のおすすめ"},{"$f":"IF(G121=\"\",\"\",VLOOKUP(G121,漢字書き!$A$2:$N$506,6,0))","v":"［キ］をつける"},{"$f":"IF(H121=\"\",\"\",VLOOKUP(H121,漢字書き!$A$2:$N$506,6,0))","v":"［カイ］をひろう"},{"$f":"IF(I121=\"\",\"\",VLOOKUP(I121,漢字書き!$A$2:$N$506,6,0))","v":"きれいな［カイ］がら"},{"$f":"IF(J121=\"\",\"\",VLOOKUP(J121,漢字書き!$A$2:$N$506,6,0))","v":"［オウジョ］のへや"},{"$f":"IF(K121=\"\",\"\",VLOOKUP(K121,漢字読み!$A$2:$O$506,6,0))","v":"［耳］をすます"},{"$f":"IF(L121=\"\",\"\",VLOOKUP(L121,漢字読み!$A$2:$O$506,6,0))","v":"［玉］をころがす"},{"$f":"IF(M121=\"\",\"\",VLOOKUP(M121,漢字読み!$A$2:$O$506,6,0))","v":"五月［八日］"},{"$f":"IF(N121=\"\",\"\",VLOOKUP(N121,漢字読み!$A$2:$O$506,6,0))","v":"［糸車］をまわす"},{"$f":"IF(O121=\"\",\"\",VLOOKUP(O121,漢字読み!$A$2:$O$506,6,0))","v":"あさの［八］じ"},{"$f":"IF(P121=\"\",\"\",VLOOKUP(P121,漢字読み!$A$2:$O$506,6,0))","v":"［女子］のれつ"},{"$f":"IF(Q121=\"\",\"\",VLOOKUP(Q121,漢字読み!$A$2:$O$506,6,0))","v":"［三］びきのねこ"},{"$f":"IF(R121=\"\",\"\",VLOOKUP(R121,漢字読み!$A$2:$O$506,6,0))","v":"チョウのよう［虫］"},{"$f":"IF(S121=\"\",\"\",VLOOKUP(S121,漢字読み!$A$2:$O$506,6,0))","v":"［土］あそび"},{"$f":"IF(T121=\"\",\"\",VLOOKUP(T121,漢字読み!$A$2:$O$506,6,0))","v":"［一］ばんになる"},null,"級"]
[null,null,null,null,null,null,null,null,null,null,null,null,null,null,null,null,null,null,null,null,null,"名前"]
[{"$f":"IF(A121=\"\",\"\",IF(VLOOKUP(A121,漢字書き!$A$2:$N$502,7,0)=0,\"\",VLOOKUP(A121,漢字書き!$A$2:$N$502,7,0)))","v":""},{"$f":"IF(B121=\"\",\"\",IF(VLOOKUP(B121,漢字書き!$A$2:$N$502,7,0)=0,\"\",VLOOKUP(B121,漢字書き!$A$2:$N$502,7,0)))","v":""},{"$f":"IF(C121=\"\",\"\",IF(VLOOKUP(C121,漢字書き!$A$2:$N$502,7,0)=0,\"\",VLOOKUP(C121,漢字書き!$A$2:$N$502,7,0)))","v":""},{"$f":"IF(D121=\"\",\"\",IF(VLOOKUP(D121,漢字書き!$A$2:$N$502,7,0)=0,\"\",VLOOKUP(D121,漢字書き!$A$2:$N$502,7,0)))","v":""},{"$f":"IF(E121=\"\",\"\",IF(VLOOKUP(E121,漢字書き!$A$2:$N$502,7,0)=0,\"\",VLOOKUP(E121,漢字書き!$A$2:$N$502,7,0)))","v":"の出"},{"$f":"IF(F121=\"\",\"\",IF(VLOOKUP(F121,漢字書き!$A$2:$N$502,7,0)=0,\"\",VLOOKUP(F121,漢字書き!$A$2:$N$502,7,0)))","v":""},{"$f":"IF(G121=\"\",\"\",IF(VLOOKUP(G121,漢字書き!$A$2:$N$502,7,0)=0,\"\",VLOOKUP(G121,漢字書き!$A$2:$N$502,7,0)))","v":""},{"$f":"IF(H121=\"\",\"\",IF(VLOOKUP(H121,漢字書き!$A$2:$N$502,7,0)=0,\"\",VLOOKUP(H121,漢字書き!$A$2:$N$502,7,0)))","v":""},{"$f":"IF(I121=\"\",\"\",IF(VLOOKUP(I121,漢字書き!$A$2:$N$502,7,0)=0,\"\",VLOOKUP(I121,漢字書き!$A$2:$N$502,7,0)))","v":"がら"},{"$f":"IF(J121=\"\",\"\",IF(VLOOKUP(J121,漢字書き!$A$2:$N$502,7,0)=0,\"\",VLOOKUP(J121,漢字書き!$A$2:$N$502,7,0)))","v":""},{"$f":"IF(K121=\"\",\"\",IF(VLOOKUP(K121,漢字読み!$A$2:$O$502,7,0)=0,\"\",VLOOKUP(K121,漢字読み!$A$2:$O$502,7,0)))","v":""},{"$f":"IF(L121=\"\",\"\",IF(VLOOKUP(L121,漢字読み!$A$2:$O$502,7,0)=0,\"\",VLOOKUP(L121,漢字読み!$A$2:$O$502,7,0)))","v":""},{"$f":"IF(M121=\"\",\"\",IF(VLOOKUP(M121,漢字読み!$A$2:$O$502,7,0)=0,\"\",VLOOKUP(M121,漢字読み!$A$2:$O$502,7,0)))","v":""},{"$f":"IF(N121=\"\",\"\",IF(VLOOKUP(N121,漢字読み!$A$2:$O$502,7,0)=0,\"\",VLOOKUP(N121,漢字読み!$A$2:$O$502,7,0)))","v":""},{"$f":"IF(O121=\"\",\"\",IF(VLOOKUP(O121,漢字読み!$A$2:$O$502,7,0)=0,\"\",VLOOKUP(O121,漢字読み!$A$2:$O$502,7,0)))","v":"つ"},{"$f":"IF(P121=\"\",\"\",IF(VLOOKUP(P121,漢字読み!$A$2:$O$502,7,0)=0,\"\",VLOOKUP(P121,漢字読み!$A$2:$O$502,7,0)))","v":""},{"$f":"IF(Q121=\"\",\"\",IF(VLOOKUP(Q121,漢字読み!$A$2:$O$502,7,0)=0,\"\",VLOOKUP(Q121,漢字読み!$A$2:$O$502,7,0)))","v":"が日"},{"$f":"IF(R121=\"\",\"\",IF(VLOOKUP(R121,漢字読み!$A$2:$O$502,7,0)=0,\"\",VLOOKUP(R121,漢字読み!$A$2:$O$502,7,0)))","v":""},{"$f":"IF(S121=\"\",\"\",IF(VLOOKUP(S121,漢字読み!$A$2:$O$502,7,0)=0,\"\",VLOOKUP(S121,漢字読み!$A$2:$O$502,7,0)))","v":"あそび"},{"$f":"IF(T121=\"\",\"\",IF(VLOOKUP(T121,漢字読み!$A$2:$O$502,7,0)=0,\"\",VLOOKUP(T121,漢字読み!$A$2:$O$502,7,0)))","v":"ばん"},null,null,"和歌山県教育委員会"]
[{"$f":"INDIRECT(\"'関数（書き）'!C\" & COLUMN(B$1)+SUM($AD$2:$AD127))","v":103},{"$f":"INDIRECT(\"'関数（書き）'!C\" & COLUMN(C$1)+SUM($AD$2:$AD127))","v":159},{"$f":"INDIRECT(\"'関数（書き）'!C\" & COLUMN(D$1)+SUM($AD$2:$AD127))","v":15},{"$f":"INDIRECT(\"'関数（書き）'!C\" & COLUMN(E$1)+SUM($AD$2:$AD127))","v":58},{"$f":"INDIRECT(\"'関数（書き）'!C\" & COLUMN(F$1)+SUM($AD$2:$AD127))","v":33},{"$f":"INDIRECT(\"'関数（書き）'!C\" & COLUMN(G$1)+SUM($AD$2:$AD127))","v":143},{"$f":"INDIRECT(\"'関数（書き）'!C\" & COLUMN(H$1)+SUM($AD$2:$AD127))","v":34},{"$f":"INDIRECT(\"'関数（書き）'!C\" & COLUMN(I$1)+SUM($AD$2:$AD127))","v":95},{"$f":"INDIRECT(\"'関数（書き）'!C\" & COLUMN(J$1)+SUM($AD$2:$AD127))","v":149},{"$f":"INDIRECT(\"'関数（書き）'!C\" & COLUMN(K$1)+SUM($AD$2:$AD127))","v":170},{"$f":"INDIRECT(\"'関数（読み）'!C\" & COLUMN(B$1)+SUM($AD$2:$AD127))","v":83},{"$f":"INDIRECT(\"'関数（読み）'!C\" & COLUMN(C$1)+SUM($AD$2:$AD127))","v":61},{"$f":"INDIRECT(\"'関数（読み）'!C\" & COLUMN(D$1)+SUM($AD$2:$AD127))","v":179},{"$f":"INDIRECT(\"'関数（読み）'!C\" & COLUMN(E$1)+SUM($AD$2:$AD127))","v":34},{"$f":"INDIRECT(\"'関数（読み）'!C\" & COLUMN(F$1)+SUM($AD$2:$AD127))","v":150},{"$f":"INDIRECT(\"'関数（読み）'!C\" & COLUMN(G$1)+SUM($AD$2:$AD127))","v":45},{"$f":"INDIRECT(\"'関数（読み）'!C\" & COLUMN(H$1)+SUM($AD$2:$AD127))","v":181},{"$f":"INDIRECT(\"'関数（読み）'!C\" & COLUMN(I$1)+SUM($AD$2:$AD127))","v":88},{"$f":"INDIRECT(\"'関数（読み）'!C\" & COLUMN(J$1)+SUM($AD$2:$AD127))","v":30},{"$f":"INDIRECT(\"'関数（読み）'!C\" & COLUMN(K$1)+SUM($AD$2:$AD127))","v":40}]
["⑳","⑲","⑱","⑰","⑯","⑮","⑭","⑬","⑫","⑪","⑩","⑨","⑧","⑦","⑥","⑤","④","③","②","①","次の［　　　　］の部分の漢字には読みがなをひらがなで書き、カタカナは漢字に直しなさい。",15,"「漢字の博士検定試験」練習問題　",null,null,null,null,null,"←",10,"問",{"$f":"AH122+1","v":131},"～",{"$f":"SUM($AD$2:$AD127)+10","v":140},"問まで",{"$f":"COUNTIF($A$1:$T$200,T128)","v":2}]
[{"$f":"IF(A126=\"\",\"\",VLOOKUP(A126,漢字書き!$A$2:$N$506,6,0))","v":"［セキ］たんをはこぶ"},{"$f":"IF(B126=\"\",\"\",VLOOKUP(B126,漢字書き!$A$2:$N$506,6,0))","v":"［モク］よう日"},{"$f":"IF(C126=\"\",\"\",VLOOKUP(C126,漢字書き!$A$2:$N$506,6,0))","v":"やねの［シタ］"},{"$f":"IF(D126=\"\",\"\",VLOOKUP(D126,漢字書き!$A$2:$N$506,6,0))","v":"たかい［ヤマ］"},{"$f":"IF(E126=\"\",\"\",VLOOKUP(E126,漢字書き!$A$2:$N$506,6,0))","v":"［タマ］のり"},{"$f":"IF(F126=\"\",\"\",VLOOKUP(F126,漢字書き!$A$2:$N$506,6,0))","v":"［ニ］まいのかみ"},{"$f":"IF(G126=\"\",\"\",VLOOKUP(G126,漢字書き!$A$2:$N$506,6,0))","v":"きれいなビー［ダマ］"},{"$f":"IF(H126=\"\",\"\",VLOOKUP(H126,漢字書き!$A$2:$N$506,6,0))","v":"［セイ］かいをだす"},{"$f":"IF(I126=\"\",\"\",VLOOKUP(I126,漢字書き!$A$2:$N$506,6,0))","v":"あなに［ハイ］る"},{"$f":"IF(J126=\"\",\"\",VLOOKUP(J126,漢字書き!$A$2:$N$506,6,0))","v":"たい［リョク］がある"},{"$f":"IF(K126=\"\",\"\",VLOOKUP(K126,漢字読み!$A$2:$O$506,6,0))","v":"［小学校］に入る"},{"$f":"IF(L126=\"\",\"\",VLOOKUP(L126,漢字読み!$A$2:$O$506,6,0))","v":"ふじ［山］"},{"$f":"IF(M126=\"\",\"\",VLOOKUP(M126,漢字読み!$A$2:$O$506,6,0))","v":"［立］ち上がる"},{"$f":"IF(N126=\"\",\"\",VLOOKUP(N126,漢字読み!$A$2:$O$506,6,0))","v":"たのしいふゆ［休］み"},{"$f":"IF(O126=\"\",\"\",VLOOKUP(O126,漢字読み!$A$2:$O$506,6,0))","v":"［日］ようのあさ"},{"$f":"IF(P126=\"\",\"\",VLOOKUP(P126,漢字読み!$A$2:$O$506,6,0))","v":"［月見］をする"},{"$f":"IF(Q126=\"\",\"\",VLOOKUP(Q126,漢字読み!$A$2:$O$506,6,0))","v":"［力］みをほぐす"},{"$f":"IF(R126=\"\",\"\",VLOOKUP(R126,漢字読み!$A$2:$O$506,6,0))","v":"気おんが［上］がる"},{"$f":"IF(S126=\"\",\"\",VLOOKUP(S126,漢字読み!$A$2:$O$506,6,0))","v":"［気］ぶんがよい"},{"$f":"IF(T126=\"\",\"\",VLOOKUP(T126,漢字読み!$A$2:$O$506,6,0))","v":"［金］よう日"},null,"級"]
[null,null,null,null,null,null,null,null,null,null,null,null,null,null,null,null,null,null,null,null,null,"名前"]
[{"$f":"IF(A126=\"\",\"\",IF(VLOOKUP(A126,漢字書き!$A$2:$N$502,7,0)=0,\"\",VLOOKUP(A126,漢字書き!$A$2:$N$502,7,0)))","v":"たん"},{"$f":"IF(B126=\"\",\"\",IF(VLOOKUP(B126,漢字書き!$A$2:$N$502,7,0)=0,\"\",VLOOKUP(B126,漢字書き!$A$2:$N$502,7,0)))","v":"よう"},{"$f":"IF(C126=\"\",\"\",IF(VLOOKUP(C126,漢字書き!$A$2:$N$502,7,0)=0,\"\",VLOOKUP(C126,漢字書き!$A$2:$N$502,7,0)))","v":""},{"$f":"IF(D126=\"\",\"\",IF(VLOOKUP(D126,漢字書き!$A$2:$N$502,7,0)=0,\"\",VLOOKUP(D126,漢字書き!$A$2:$N$502,7,0)))","v":""},{"$f":"IF(E126=\"\",\"\",IF(VLOOKUP(E126,漢字書き!$A$2:$N$502,7,0)=0,\"\",VLOOKUP(E126,漢字書き!$A$2:$N$502,7,0)))","v":"のり"},{"$f":"IF(F126=\"\",\"\",IF(VLOOKUP(F126,漢字書き!$A$2:$N$502,7,0)=0,\"\",VLOOKUP(F126,漢字書き!$A$2:$N$502,7,0)))","v":"まい"},{"$f":"IF(G126=\"\",\"\",IF(VLOOKUP(G126,漢字書き!$A$2:$N$502,7,0)=0,\"\",VLOOKUP(G126,漢字書き!$A$2:$N$502,7,0)))","v":""},{"$f":"IF(H126=\"\",\"\",IF(VLOOKUP(H126,漢字書き!$A$2:$N$502,7,0)=0,\"\",VLOOKUP(H126,漢字書き!$A$2:$N$502,7,0)))","v":"かい"},{"$f":"IF(I126=\"\",\"\",IF(VLOOKUP(I126,漢字書き!$A$2:$N$502,7,0)=0,\"\",VLOOKUP(I126,漢字書き!$A$2:$N$502,7,0)))","v":"る"},{"$f":"IF(J126=\"\",\"\",IF(VLOOKUP(J126,漢字書き!$A$2:$N$502,7,0)=0,\"\",VLOOKUP(J126,漢字書き!$A$2:$N$502,7,0)))","v":""},{"$f":"IF(K126=\"\",\"\",IF(VLOOKUP(K126,漢字読み!$A$2:$O$502,7,0)=0,\"\",VLOOKUP(K126,漢字読み!$A$2:$O$502,7,0)))","v":""},{"$f":"IF(L126=\"\",\"\",IF(VLOOKUP(L126,漢字読み!$A$2:$O$502,7,0)=0,\"\",VLOOKUP(L126,漢字読み!$A$2:$O$502,7,0)))","v":""},{"$f":"IF(M126=\"\",\"\",IF(VLOOKUP(M126,漢字読み!$A$2:$O$502,7,0)=0,\"\",VLOOKUP(M126,漢字読み!$A$2:$O$502,7,0)))","v":"ち"},{"$f":"IF(N126=\"\",\"\",IF(VLOOKUP(N126,漢字読み!$A$2:$O$502,7,0)=0,\"\",VLOOKUP(N126,漢字読み!$A$2:$O$502,7,0)))","v":"み"},{"$f":"IF(O126=\"\",\"\",IF(VLOOKUP(O126,漢字読み!$A$2:$O$502,7,0)=0,\"\",VLOOKUP(O126,漢字読み!$A$2:$O$502,7,0)))","v":"よう"},{"$f":"IF(P126=\"\",\"\",IF(VLOOKUP(P126,漢字読み!$A$2:$O$502,7,0)=0,\"\",VLOOKUP(P126,漢字読み!$A$2:$O$502,7,0)))","v":""},{"$f":"IF(Q126=\"\",\"\",IF(VLOOKUP(Q126,漢字読み!$A$2:$O$502,7,0)=0,\"\",VLOOKUP(Q126,漢字読み!$A$2:$O$502,7,0)))","v":"み"},{"$f":"IF(R126=\"\",\"\",IF(VLOOKUP(R126,漢字読み!$A$2:$O$502,7,0)=0,\"\",VLOOKUP(R126,漢字読み!$A$2:$O$502,7,0)))","v":"がる"},{"$f":"IF(S126=\"\",\"\",IF(VLOOKUP(S126,漢字読み!$A$2:$O$502,7,0)=0,\"\",VLOOKUP(S126,漢字読み!$A$2:$O$502,7,0)))","v":"ぶん"},{"$f":"IF(T126=\"\",\"\",IF(VLOOKUP(T126,漢字読み!$A$2:$O$502,7,0)=0,\"\",VLOOKUP(T126,漢字読み!$A$2:$O$502,7,0)))","v":"よう"},null,null,"和歌山県教育委員会"]
[{"$f":"A121","v":94},{"$f":"B121","v":82},126,64,145,147,27,24,23,10,69,37,162,67,161,81,59,138,147,1]
["⑳","⑲","⑱","⑰","⑯","⑮","⑭","⑬","⑫","⑪","⑩","⑨","⑧","⑦","⑥","⑤","④","③","②","①","次の［　　　　］の部分の漢字には読みがなをひらがなで書き、カタカナは漢字に直しなさい。",15,"「漢字の博士検定試験」練習問題　"]
[{"$f":"IF(A131=\"\",\"\",VLOOKUP(A131,漢字書き!$A$2:$N$506,6,0))","v":"お［ショウガツ］"},{"$f":"IF(B131=\"\",\"\",VLOOKUP(B131,漢字書き!$A$2:$N$506,6,0))","v":"［ショウガッコウ］にいく"},{"$f":"IF(C131=\"\",\"\",VLOOKUP(C131,漢字書き!$A$2:$N$506,6,0))","v":"［ダンジョ］なかよし"},{"$f":"IF(D131=\"\",\"\",VLOOKUP(D131,漢字書き!$A$2:$N$506,6,0))","v":"くもの［イト］"},{"$f":"IF(E131=\"\",\"\",VLOOKUP(E131,漢字書き!$A$2:$N$506,6,0))","v":"［ヒ］の出をおがむ"},{"$f":"IF(F131=\"\",\"\",VLOOKUP(F131,漢字書き!$A$2:$N$506,6,0))","v":"［ホンジツ］のおすすめ"},{"$f":"IF(G131=\"\",\"\",VLOOKUP(G131,漢字書き!$A$2:$N$506,6,0))","v":"［キ］をつける"},{"$f":"IF(H131=\"\",\"\",VLOOKUP(H131,漢字書き!$A$2:$N$506,6,0))","v":"［カイ］をひろう"},{"$f":"IF(I131=\"\",\"\",VLOOKUP(I131,漢字書き!$A$2:$N$506,6,0))","v":"きれいな［カイ］がら"},{"$f":"IF(J131=\"\",\"\",VLOOKUP(J131,漢字書き!$A$2:$N$506,6,0))","v":"［オウジョ］のへや"},{"$f":"IF(K131=\"\",\"\",VLOOKUP(K131,漢字読み!$A$2:$O$506,6,0))","v":"［耳］をすます"},{"$f":"IF(L131=\"\",\"\",VLOOKUP(L131,漢字読み!$A$2:$O$506,6,0))","v":"［玉］をころがす"},{"$f":"IF(M131=\"\",\"\",VLOOKUP(M131,漢字読み!$A$2:$O$506,6,0))","v":"五月［八日］"},{"$f":"IF(N131=\"\",\"\",VLOOKUP(N131,漢字読み!$A$2:$O$506,6,0))","v":"［糸車］をまわす"},{"$f":"IF(O131=\"\",\"\",VLOOKUP(O131,漢字読み!$A$2:$O$506,6,0))","v":"あさの［八］じ"},{"$f":"IF(P131=\"\",\"\",VLOOKUP(P131,漢字読み!$A$2:$O$506,6,0))","v":"［女子］のれつ"},{"$f":"IF(Q131=\"\",\"\",VLOOKUP(Q131,漢字読み!$A$2:$O$506,6,0))","v":"［三］びきのねこ"},{"$f":"IF(R131=\"\",\"\",VLOOKUP(R131,漢字読み!$A$2:$O$506,6,0))","v":"チョウのよう［虫］"},{"$f":"IF(S131=\"\",\"\",VLOOKUP(S131,漢字読み!$A$2:$O$506,6,0))","v":"［土］あそび"},{"$f":"IF(T131=\"\",\"\",VLOOKUP(T131,漢字読み!$A$2:$O$506,6,0))","v":"［一］ばんになる"},null,"級"]
[{"$f":"IF(A$11=\"\",\"\",VLOOKUP(A131,漢字書き!$A$2:$O$506,8,0))","v":"正月"},{"$f":"IF(B$11=\"\",\"\",VLOOKUP(B131,漢字書き!$A$2:$O$506,8,0))","v":"小学校"},{"$f":"IF(C$11=\"\",\"\",VLOOKUP(C131,漢字書き!$A$2:$O$506,8,0))","v":"男女"},{"$f":"IF(D$11=\"\",\"\",VLOOKUP(D131,漢字書き!$A$2:$O$506,8,0))","v":"糸"},{"$f":"IF(E$11=\"\",\"\",VLOOKUP(E131,漢字書き!$A$2:$O$506,8,0))","v":"日"},{"$f":"IF(F$11=\"\",\"\",VLOOKUP(F131,漢字書き!$A$2:$O$506,8,0))","v":"本日"},{"$f":"IF(G$11=\"\",\"\",VLOOKUP(G131,漢字書き!$A$2:$O$506,8,0))","v":"気"},{"$f":"IF(H$11=\"\",\"\",VLOOKUP(H131,漢字書き!$A$2:$O$506,8,0))","v":"貝"},{"$f":"IF(I$11=\"\",\"\",VLOOKUP(I131,漢字書き!$A$2:$O$506,8,0))","v":"貝"},{"$f":"IF(J$11=\"\",\"\",VLOOKUP(J131,漢字書き!$A$2:$O$506,8,0))","v":"王女"},{"$f":"IF(K$11=\"\",\"\",VLOOKUP(K131,漢字読み!$A$2:$O$506,8,0))","v":"みみ"},{"$f":"IF(L$11=\"\",\"\",VLOOKUP(L131,漢字読み!$A$2:$O$506,8,0))","v":"たま"},{"$f":"IF(M$11=\"\",\"\",VLOOKUP(M131,漢字読み!$A$2:$O$506,8,0))","v":"ようか"},{"$f":"IF(N$11=\"\",\"\",VLOOKUP(N131,漢字読み!$A$2:$O$506,8,0))","v":"いとぐるま"},{"$f":"IF(O$11=\"\",\"\",VLOOKUP(O131,漢字読み!$A$2:$O$506,8,0))","v":"はち"},{"$f":"IF(P$11=\"\",\"\",VLOOKUP(P131,漢字読み!$A$2:$O$506,8,0))","v":"じょし"},{"$f":"IF(Q$11=\"\",\"\",VLOOKUP(Q131,漢字読み!$A$2:$O$506,8,0))","v":"さん"},{"$f":"IF(R$11=\"\",\"\",VLOOKUP(R131,漢字読み!$A$2:$O$506,8,0))","v":"ちゅう"},{"$f":"IF(S$11=\"\",\"\",VLOOKUP(S131,漢字読み!$A$2:$O$506,8,0))","v":"つち"},{"$f":"IF(T$11=\"\",\"\",VLOOKUP(T131,漢字読み!$A$2:$O$506,8,0))","v":"いち"},null,"名前"]
[{"$f":"IF(A131=\"\",\"\",IF(VLOOKUP(A131,漢字書き!$A$2:$N$502,7,0)=0,\"\",VLOOKUP(A131,漢字書き!$A$2:$N$502,7,0)))","v":""},{"$f":"IF(B131=\"\",\"\",IF(VLOOKUP(B131,漢字書き!$A$2:$N$502,7,0)=0,\"\",VLOOKUP(B131,漢字書き!$A$2:$N$502,7,0)))","v":""},{"$f":"IF(C131=\"\",\"\",IF(VLOOKUP(C131,漢字書き!$A$2:$N$502,7,0)=0,\"\",VLOOKUP(C131,漢字書き!$A$2:$N$502,7,0)))","v":""},{"$f":"IF(D131=\"\",\"\",IF(VLOOKUP(D131,漢字書き!$A$2:$N$502,7,0)=0,\"\",VLOOKUP(D131,漢字書き!$A$2:$N$502,7,0)))","v":""},{"$f":"IF(E131=\"\",\"\",IF(VLOOKUP(E131,漢字書き!$A$2:$N$502,7,0)=0,\"\",VLOOKUP(E131,漢字書き!$A$2:$N$502,7,0)))","v":"の出"},{"$f":"IF(F131=\"\",\"\",IF(VLOOKUP(F131,漢字書き!$A$2:$N$502,7,0)=0,\"\",VLOOKUP(F131,漢字書き!$A$2:$N$502,7,0)))","v":""},{"$f":"IF(G131=\"\",\"\",IF(VLOOKUP(G131,漢字書き!$A$2:$N$502,7,0)=0,\"\",VLOOKUP(G131,漢字書き!$A$2:$N$502,7,0)))","v":""},{"$f":"IF(H131=\"\",\"\",IF(VLOOKUP(H131,漢字書き!$A$2:$N$502,7,0)=0,\"\",VLOOKUP(H131,漢字書き!$A$2:$N$502,7,0)))","v":""},{"$f":"IF(I131=\"\",\"\",IF(VLOOKUP(I131,漢字書き!$A$2:$N$502,7,0)=0,\"\",VLOOKUP(I131,漢字書き!$A$2:$N$502,7,0)))","v":"がら"},{"$f":"IF(J131=\"\",\"\",IF(VLOOKUP(J131,漢字書き!$A$2:$N$502,7,0)=0,\"\",VLOOKUP(J131,漢字書き!$A$2:$N$502,7,0)))","v":""},{"$f":"IF(K131=\"\",\"\",IF(VLOOKUP(K131,漢字読み!$A$2:$O$502,7,0)=0,\"\",VLOOKUP(K131,漢字読み!$A$2:$O$502,7,0)))","v":""},{"$f":"IF(L131=\"\",\"\",IF(VLOOKUP(L131,漢字読み!$A$2:$O$502,7,0)=0,\"\",VLOOKUP(L131,漢字読み!$A$2:$O$502,7,0)))","v":""},{"$f":"IF(M131=\"\",\"\",IF(VLOOKUP(M131,漢字読み!$A$2:$O$502,7,0)=0,\"\",VLOOKUP(M131,漢字読み!$A$2:$O$502,7,0)))","v":""},{"$f":"IF(N131=\"\",\"\",IF(VLOOKUP(N131,漢字読み!$A$2:$O$502,7,0)=0,\"\",VLOOKUP(N131,漢字読み!$A$2:$O$502,7,0)))","v":""},{"$f":"IF(O131=\"\",\"\",IF(VLOOKUP(O131,漢字読み!$A$2:$O$502,7,0)=0,\"\",VLOOKUP(O131,漢字読み!$A$2:$O$502,7,0)))","v":"つ"},{"$f":"IF(P131=\"\",\"\",IF(VLOOKUP(P131,漢字読み!$A$2:$O$502,7,0)=0,\"\",VLOOKUP(P131,漢字読み!$A$2:$O$502,7,0)))","v":""},{"$f":"IF(Q131=\"\",\"\",IF(VLOOKUP(Q131,漢字読み!$A$2:$O$502,7,0)=0,\"\",VLOOKUP(Q131,漢字読み!$A$2:$O$502,7,0)))","v":"が日"},{"$f":"IF(R131=\"\",\"\",IF(VLOOKUP(R131,漢字読み!$A$2:$O$502,7,0)=0,\"\",VLOOKUP(R131,漢字読み!$A$2:$O$502,7,0)))","v":""},{"$f":"IF(S131=\"\",\"\",IF(VLOOKUP(S131,漢字読み!$A$2:$O$502,7,0)=0,\"\",VLOOKUP(S131,漢字読み!$A$2:$O$502,7,0)))","v":"あそび"},{"$f":"IF(T131=\"\",\"\",IF(VLOOKUP(T131,漢字読み!$A$2:$O$502,7,0)=0,\"\",VLOOKUP(T131,漢字読み!$A$2:$O$502,7,0)))","v":"ばん"},null,null,"和歌山県教育委員会"]
[{"$f":"A126","v":103},{"$f":"B126","v":159},15,58,33,143,34,95,149,170,83,61,179,34,150,45,181,88,30,40]
["⑳","⑲","⑱","⑰","⑯","⑮","⑭","⑬","⑫","⑪","⑩","⑨","⑧","⑦","⑥","⑤","④","③","②","①","次の［　　　　］の部分の漢字には読みがなをひらがなで書き、カタカナは漢字に直しなさい。",15,"「漢字の博士検定試験」練習問題　"]
[{"$f":"IF(A136=\"\",\"\",VLOOKUP(A136,漢字書き!$A$2:$N$506,6,0))","v":"［セキ］たんをはこぶ"},{"$f":"IF(B136=\"\",\"\",VLOOKUP(B136,漢字書き!$A$2:$N$506,6,0))","v":"［モク］よう日"},{"$f":"IF(C136=\"\",\"\",VLOOKUP(C136,漢字書き!$A$2:$N$506,6,0))","v":"やねの［シタ］"},{"$f":"IF(D136=\"\",\"\",VLOOKUP(D136,漢字書き!$A$2:$N$506,6,0))","v":"たかい［ヤマ］"},{"$f":"IF(E136=\"\",\"\",VLOOKUP(E136,漢字書き!$A$2:$N$506,6,0))","v":"［タマ］のり"},{"$f":"IF(F136=\"\",\"\",VLOOKUP(F136,漢字書き!$A$2:$N$506,6,0))","v":"［ニ］まいのかみ"},{"$f":"IF(G136=\"\",\"\",VLOOKUP(G136,漢字書き!$A$2:$N$506,6,0))","v":"きれいなビー［ダマ］"},{"$f":"IF(H136=\"\",\"\",VLOOKUP(H136,漢字書き!$A$2:$N$506,6,0))","v":"［セイ］かいをだす"},{"$f":"IF(I136=\"\",\"\",VLOOKUP(I136,漢字書き!$A$2:$N$506,6,0))","v":"あなに［ハイ］る"},{"$f":"IF(J136=\"\",\"\",VLOOKUP(J136,漢字書き!$A$2:$N$506,6,0))","v":"たい［リョク］がある"},{"$f":"IF(K136=\"\",\"\",VLOOKUP(K136,漢字読み!$A$2:$O$506,6,0))","v":"［小学校］に入る"},{"$f":"IF(L136=\"\",\"\",VLOOKUP(L136,漢字読み!$A$2:$O$506,6,0))","v":"ふじ［山］"},{"$f":"IF(M136=\"\",\"\",VLOOKUP(M136,漢字読み!$A$2:$O$506,6,0))","v":"［立］ち上がる"},{"$f":"IF(N136=\"\",\"\",VLOOKUP(N136,漢字読み!$A$2:$O$506,6,0))","v":"たのしいふゆ［休］み"},{"$f":"IF(O136=\"\",\"\",VLOOKUP(O136,漢字読み!$A$2:$O$506,6,0))","v":"［日］ようのあさ"},{"$f":"IF(P136=\"\",\"\",VLOOKUP(P136,漢字読み!$A$2:$O$506,6,0))","v":"［月見］をする"},{"$f":"IF(Q136=\"\",\"\",VLOOKUP(Q136,漢字読み!$A$2:$O$506,6,0))","v":"［力］みをほぐす"},{"$f":"IF(R136=\"\",\"\",VLOOKUP(R136,漢字読み!$A$2:$O$506,6,0))","v":"気おんが［上］がる"},{"$f":"IF(S136=\"\",\"\",VLOOKUP(S136,漢字読み!$A$2:$O$506,6,0))","v":"［気］ぶんがよい"},{"$f":"IF(T136=\"\",\"\",VLOOKUP(T136,漢字読み!$A$2:$O$506,6,0))","v":"［金］よう日"},null,"級"]
[{"$f":"IF(A$16=\"\",\"\",VLOOKUP(A136,漢字書き!$A$2:$O$506,8,0))","v":"石"},{"$f":"IF(B$16=\"\",\"\",VLOOKUP(B136,漢字書き!$A$2:$O$506,8,0))","v":"木"},{"$f":"IF(C$16=\"\",\"\",VLOOKUP(C136,漢字書き!$A$2:$O$506,8,0))","v":"下"},{"$f":"IF(D$16=\"\",\"\",VLOOKUP(D136,漢字書き!$A$2:$O$506,8,0))","v":"山"},{"$f":"IF(E$16=\"\",\"\",VLOOKUP(E136,漢字書き!$A$2:$O$506,8,0))","v":"玉"},{"$f":"IF(F$16=\"\",\"\",VLOOKUP(F136,漢字書き!$A$2:$O$506,8,0))","v":"二"},{"$f":"IF(G$16=\"\",\"\",VLOOKUP(G136,漢字書き!$A$2:$O$506,8,0))","v":"玉"},{"$f":"IF(H$16=\"\",\"\",VLOOKUP(H136,漢字書き!$A$2:$O$506,8,0))","v":"正"},{"$f":"IF(I$16=\"\",\"\",VLOOKUP(I136,漢字書き!$A$2:$O$506,8,0))","v":"入"},{"$f":"IF(J$16=\"\",\"\",VLOOKUP(J136,漢字書き!$A$2:$O$506,8,0))","v":"力"},{"$f":"IF(K$16=\"\",\"\",VLOOKUP(K136,漢字読み!$A$2:$O$506,8,0))","v":"しょうがっこう"},{"$f":"IF(L$16=\"\",\"\",VLOOKUP(L136,漢字読み!$A$2:$O$506,8,0))","v":"さん"},{"$f":"IF(M$16=\"\",\"\",VLOOKUP(M136,漢字読み!$A$2:$O$506,8,0))","v":"た"},{"$f":"IF(N$16=\"\",\"\",VLOOKUP(N136,漢字読み!$A$2:$O$506,8,0))","v":"やす"},{"$f":"IF(O$16=\"\",\"\",VLOOKUP(O136,漢字読み!$A$2:$O$506,8,0))","v":"にち"},{"$f":"IF(P$16=\"\",\"\",VLOOKUP(P136,漢字読み!$A$2:$O$506,8,0))","v":"つきみ"},{"$f":"IF(Q$16=\"\",\"\",VLOOKUP(Q136,漢字読み!$A$2:$O$506,8,0))","v":"りき"},{"$f":"IF(R$16=\"\",\"\",VLOOKUP(R136,漢字読み!$A$2:$O$506,8,0))","v":"あ"},{"$f":"IF(S$16=\"\",\"\",VLOOKUP(S136,漢字読み!$A$2:$O$506,8,0))","v":"き"},{"$f":"IF(T$16=\"\",\"\",VLOOKUP(T136,漢字読み!$A$2:$O$506,8,0))","v":"きん"},null,"名前"]
[{"$f":"IF(A136=\"\",\"\",IF(VLOOKUP(A136,漢字書き!$A$2:$N$502,7,0)=0,\"\",VLOOKUP(A136,漢字書き!$A$2:$N$502,7,0)))","v":"たん"},{"$f":"IF(B136=\"\",\"\",IF(VLOOKUP(B136,漢字書き!$A$2:$N$502,7,0)=0,\"\",VLOOKUP(B136,漢字書き!$A$2:$N$502,7,0)))","v":"よう"},{"$f":"IF(C136=\"\",\"\",IF(VLOOKUP(C136,漢字書き!$A$2:$N$502,7,0)=0,\"\",VLOOKUP(C136,漢字書き!$A$2:$N$502,7,0)))","v":""},{"$f":"IF(D136=\"\",\"\",IF(VLOOKUP(D136,漢字書き!$A$2:$N$502,7,0)=0,\"\",VLOOKUP(D136,漢字書き!$A$2:$N$502,7,0)))","v":""},{"$f":"IF(E136=\"\",\"\",IF(VLOOKUP(E136,漢字書き!$A$2:$N$502,7,0)=0,\"\",VLOOKUP(E136,漢字書き!$A$2:$N$502,7,0)))","v":"のり"},{"$f":"IF(F136=\"\",\"\",IF(VLOOKUP(F136,漢字書き!$A$2:$N$502,7,0)=0,\"\",VLOOKUP(F136,漢字書き!$A$2:$N$502,7,0)))","v":"まい"},{"$f":"IF(G136=\"\",\"\",IF(VLOOKUP(G136,漢字書き!$A$2:$N$502,7,0)=0,\"\",VLOOKUP(G136,漢字書き!$A$2:$N$502,7,0)))","v":""},{"$f":"IF(H136=\"\",\"\",IF(VLOOKUP(H136,漢字書き!$A$2:$N$502,7,0)=0,\"\",VLOOKUP(H136,漢字書き!$A$2:$N$502,7,0)))","v":"かい"},{"$f":"IF(I136=\"\",\"\",IF(VLOOKUP(I136,漢字書き!$A$2:$N$502,7,0)=0,\"\",VLOOKUP(I136,漢字書き!$A$2:$N$502,7,0)))","v":"る"},{"$f":"IF(J136=\"\",\"\",IF(VLOOKUP(J136,漢字書き!$A$2:$N$502,7,0)=0,\"\",VLOOKUP(J136,漢字書き!$A$2:$N$502,7,0)))","v":""},{"$f":"IF(K136=\"\",\"\",IF(VLOOKUP(K136,漢字読み!$A$2:$O$502,7,0)=0,\"\",VLOOKUP(K136,漢字読み!$A$2:$O$502,7,0)))","v":""},{"$f":"IF(L136=\"\",\"\",IF(VLOOKUP(L136,漢字読み!$A$2:$O$502,7,0)=0,\"\",VLOOKUP(L136,漢字読み!$A$2:$O$502,7,0)))","v":""},{"$f":"IF(M136=\"\",\"\",IF(VLOOKUP(M136,漢字読み!$A$2:$O$502,7,0)=0,\"\",VLOOKUP(M136,漢字読み!$A$2:$O$502,7,0)))","v":"ち"},{"$f":"IF(N136=\"\",\"\",IF(VLOOKUP(N136,漢字読み!$A$2:$O$502,7,0)=0,\"\",VLOOKUP(N136,漢字読み!$A$2:$O$502,7,0)))","v":"み"},{"$f":"IF(O136=\"\",\"\",IF(VLOOKUP(O136,漢字読み!$A$2:$O$502,7,0)=0,\"\",VLOOKUP(O136,漢字読み!$A$2:$O$502,7,0)))","v":"よう"},{"$f":"IF(P136=\"\",\"\",IF(VLOOKUP(P136,漢字読み!$A$2:$O$502,7,0)=0,\"\",VLOOKUP(P136,漢字読み!$A$2:$O$502,7,0)))","v":""},{"$f":"IF(Q136=\"\",\"\",IF(VLOOKUP(Q136,漢字読み!$A$2:$O$502,7,0)=0,\"\",VLOOKUP(Q136,漢字読み!$A$2:$O$502,7,0)))","v":"み"},{"$f":"IF(R136=\"\",\"\",IF(VLOOKUP(R136,漢字読み!$A$2:$O$502,7,0)=0,\"\",VLOOKUP(R136,漢字読み!$A$2:$O$502,7,0)))","v":"がる"},{"$f":"IF(S136=\"\",\"\",IF(VLOOKUP(S136,漢字読み!$A$2:$O$502,7,0)=0,\"\",VLOOKUP(S136,漢字読み!$A$2:$O$502,7,0)))","v":"ぶん"},{"$f":"IF(T136=\"\",\"\",IF(VLOOKUP(T136,漢字読み!$A$2:$O$502,7,0)=0,\"\",VLOOKUP(T136,漢字読み!$A$2:$O$502,7,0)))","v":"よう"},null,null,"和歌山県教育委員会"]
[{"$f":"INDIRECT(\"'関数（書き）'!C\" & COLUMN(B$1)+SUM($AD$2:$AD142))","v":77},{"$f":"INDIRECT(\"'関数（書き）'!C\" & COLUMN(C$1)+SUM($AD$2:$AD142))","v":71},{"$f":"INDIRECT(\"'関数（書き）'!C\" & COLUMN(D$1)+SUM($AD$2:$AD142))","v":28},{"$f":"INDIRECT(\"'関数（書き）'!C\" & COLUMN(E$1)+SUM($AD$2:$AD142))","v":166},{"$f":"INDIRECT(\"'関数（書き）'!C\" & COLUMN(F$1)+SUM($AD$2:$AD142))","v":144},{"$f":"INDIRECT(\"'関数（書き）'!C\" & COLUMN(G$1)+SUM($AD$2:$AD142))","v":98},{"$f":"INDIRECT(\"'関数（書き）'!C\" & COLUMN(H$1)+SUM($AD$2:$AD142))","v":91},{"$f":"INDIRECT(\"'関数（書き）'!C\" & COLUMN(I$1)+SUM($AD$2:$AD142))","v":76},{"$f":"INDIRECT(\"'関数（書き）'!C\" & COLUMN(J$1)+SUM($AD$2:$AD142))","v":97},{"$f":"INDIRECT(\"'関数（書き）'!C\" & COLUMN(K$1)+SUM($AD$2:$AD142))","v":55},{"$f":"INDIRECT(\"'関数（読み）'!C\" & COLUMN(B$1)+SUM($AD$2:$AD142))","v":55},{"$f":"INDIRECT(\"'関数（読み）'!C\" & COLUMN(C$1)+SUM($AD$2:$AD142))","v":35},{"$f":"INDIRECT(\"'関数（読み）'!C\" & COLUMN(D$1)+SUM($AD$2:$AD142))","v":94},{"$f":"INDIRECT(\"'関数（読み）'!C\" & COLUMN(E$1)+SUM($AD$2:$AD142))","v":116},{"$f":"INDIRECT(\"'関数（読み）'!C\" & COLUMN(F$1)+SUM($AD$2:$AD142))","v":115},{"$f":"INDIRECT(\"'関数（読み）'!C\" & COLUMN(G$1)+SUM($AD$2:$AD142))","v":19},{"$f":"INDIRECT(\"'関数（読み）'!C\" & COLUMN(H$1)+SUM($AD$2:$AD142))","v":151},{"$f":"INDIRECT(\"'関数（読み）'!C\" & COLUMN(I$1)+SUM($AD$2:$AD142))","v":137},{"$f":"INDIRECT(\"'関数（読み）'!C\" & COLUMN(J$1)+SUM($AD$2:$AD142))","v":71},{"$f":"INDIRECT(\"'関数（読み）'!C\" & COLUMN(K$1)+SUM($AD$2:$AD142))","v":53}]
["⑳","⑲","⑱","⑰","⑯","⑮","⑭","⑬","⑫","⑪","⑩","⑨","⑧","⑦","⑥","⑤","④","③","②","①","次の［　　　　］の部分の漢字には読みがなをひらがなで書き、カタカナは漢字に直しなさい。",15,"「漢字の博士検定試験」練習問題　",null,null,null,null,null,"←",10,"問",{"$f":"AH127+1","v":141},"～",{"$f":"SUM($AD$2:$AD142)+10","v":150},"問まで",{"$f":"COUNTIF($A$1:$T$200,T143)","v":2}]
[{"$f":"IF(A141=\"\",\"\",VLOOKUP(A141,漢字書き!$A$2:$N$506,6,0))","v":"［トオ］かぞえる"},{"$f":"IF(B141=\"\",\"\",VLOOKUP(B141,漢字書き!$A$2:$N$506,6,0))","v":"［シャ］どうのそば"},{"$f":"IF(C141=\"\",\"\",VLOOKUP(C141,漢字書き!$A$2:$N$506,6,0))","v":"人の［ケ］はい"},{"$f":"IF(D141=\"\",\"\",VLOOKUP(D141,漢字書き!$A$2:$N$506,6,0))","v":"［モク］じをさがす"},{"$f":"IF(E141=\"\",\"\",VLOOKUP(E141,漢字書き!$A$2:$N$506,6,0))","v":"［フタ］つならべる"},{"$f":"IF(F141=\"\",\"\",VLOOKUP(F141,漢字書き!$A$2:$N$506,6,0))","v":"［セイ］かつのじかん"},{"$f":"IF(G141=\"\",\"\",VLOOKUP(G141,漢字書き!$A$2:$N$506,6,0))","v":"［ヒト］がおおい"},{"$f":"IF(H141=\"\",\"\",VLOOKUP(H141,漢字書き!$A$2:$N$506,6,0))","v":"［ジッ］ぷんたつ"},{"$f":"IF(I141=\"\",\"\",VLOOKUP(I141,漢字書き!$A$2:$N$506,6,0))","v":"やさしい［センセイ］"},{"$f":"IF(J141=\"\",\"\",VLOOKUP(J141,漢字書き!$A$2:$N$506,6,0))","v":"［サン］びきのこぶた"},{"$f":"IF(K141=\"\",\"\",VLOOKUP(K141,漢字読み!$A$2:$O$506,6,0))","v":"［校］かをうたう"},{"$f":"IF(L141=\"\",\"\",VLOOKUP(L141,漢字読み!$A$2:$O$506,6,0))","v":"からだを［休］める"},{"$f":"IF(M141=\"\",\"\",VLOOKUP(M141,漢字読み!$A$2:$O$506,6,0))","v":"［水］よう日"},{"$f":"IF(N141=\"\",\"\",VLOOKUP(N141,漢字読み!$A$2:$O$506,6,0))","v":"［川］がながれる"},{"$f":"IF(O141=\"\",\"\",VLOOKUP(O141,漢字読み!$A$2:$O$506,6,0))","v":"[川]あそびをする"},{"$f":"IF(P141=\"\",\"\",VLOOKUP(P141,漢字読み!$A$2:$O$506,6,0))","v":"たき［火］をする"},{"$f":"IF(Q141=\"\",\"\",VLOOKUP(Q141,漢字読み!$A$2:$O$506,6,0))","v":"［夕日］がしずむ"},{"$f":"IF(R141=\"\",\"\",VLOOKUP(R141,漢字読み!$A$2:$O$506,6,0))","v":"［中］をみる"},{"$f":"IF(S141=\"\",\"\",VLOOKUP(S141,漢字読み!$A$2:$O$506,6,0))","v":"［七］いろのにじ"},{"$f":"IF(T141=\"\",\"\",VLOOKUP(T141,漢字読み!$A$2:$O$506,6,0))","v":"［出口］がない"},null,"級"]
[null,null,null,null,null,null,null,null,null,null,null,null,null,null,null,null,null,null,null,null,null,"名前"]
[{"$f":"IF(A141=\"\",\"\",IF(VLOOKUP(A141,漢字書き!$A$2:$N$502,7,0)=0,\"\",VLOOKUP(A141,漢字書き!$A$2:$N$502,7,0)))","v":""},{"$f":"IF(B141=\"\",\"\",IF(VLOOKUP(B141,漢字書き!$A$2:$N$502,7,0)=0,\"\",VLOOKUP(B141,漢字書き!$A$2:$N$502,7,0)))","v":"どう"},{"$f":"IF(C141=\"\",\"\",IF(VLOOKUP(C141,漢字書き!$A$2:$N$502,7,0)=0,\"\",VLOOKUP(C141,漢字書き!$A$2:$N$502,7,0)))","v":"はい"},{"$f":"IF(D141=\"\",\"\",IF(VLOOKUP(D141,漢字書き!$A$2:$N$502,7,0)=0,\"\",VLOOKUP(D141,漢字書き!$A$2:$N$502,7,0)))","v":"じ"},{"$f":"IF(E141=\"\",\"\",IF(VLOOKUP(E141,漢字書き!$A$2:$N$502,7,0)=0,\"\",VLOOKUP(E141,漢字書き!$A$2:$N$502,7,0)))","v":"つ"},{"$f":"IF(F141=\"\",\"\",IF(VLOOKUP(F141,漢字書き!$A$2:$N$502,7,0)=0,\"\",VLOOKUP(F141,漢字書き!$A$2:$N$502,7,0)))","v":"かつ"},{"$f":"IF(G141=\"\",\"\",IF(VLOOKUP(G141,漢字書き!$A$2:$N$502,7,0)=0,\"\",VLOOKUP(G141,漢字書き!$A$2:$N$502,7,0)))","v":""},{"$f":"IF(H141=\"\",\"\",IF(VLOOKUP(H141,漢字書き!$A$2:$N$502,7,0)=0,\"\",VLOOKUP(H141,漢字書き!$A$2:$N$502,7,0)))","v":"ぷん"},{"$f":"IF(I141=\"\",\"\",IF(VLOOKUP(I141,漢字書き!$A$2:$N$502,7,0)=0,\"\",VLOOKUP(I141,漢字書き!$A$2:$N$502,7,0)))","v":""},{"$f":"IF(J141=\"\",\"\",IF(VLOOKUP(J141,漢字書き!$A$2:$N$502,7,0)=0,\"\",VLOOKUP(J141,漢字書き!$A$2:$N$502,7,0)))","v":"びき"},{"$f":"IF(K141=\"\",\"\",IF(VLOOKUP(K141,漢字読み!$A$2:$O$502,7,0)=0,\"\",VLOOKUP(K141,漢字読み!$A$2:$O$502,7,0)))","v":"か"},{"$f":"IF(L141=\"\",\"\",IF(VLOOKUP(L141,漢字読み!$A$2:$O$502,7,0)=0,\"\",VLOOKUP(L141,漢字読み!$A$2:$O$502,7,0)))","v":"める"},{"$f":"IF(M141=\"\",\"\",IF(VLOOKUP(M141,漢字読み!$A$2:$O$502,7,0)=0,\"\",VLOOKUP(M141,漢字読み!$A$2:$O$502,7,0)))","v":"よう"},{"$f":"IF(N141=\"\",\"\",IF(VLOOKUP(N141,漢字読み!$A$2:$O$502,7,0)=0,\"\",VLOOKUP(N141,漢字読み!$A$2:$O$502,7,0)))","v":""},{"$f":"IF(O141=\"\",\"\",IF(VLOOKUP(O141,漢字読み!$A$2:$O$502,7,0)=0,\"\",VLOOKUP(O141,漢字読み!$A$2:$O$502,7,0)))","v":"あそび"},{"$f":"IF(P141=\"\",\"\",IF(VLOOKUP(P141,漢字読み!$A$2:$O$502,7,0)=0,\"\",VLOOKUP(P141,漢字読み!$A$2:$O$502,7,0)))","v":""},{"$f":"IF(Q141=\"\",\"\",IF(VLOOKUP(Q141,漢字読み!$A$2:$O$502,7,0)=0,\"\",VLOOKUP(Q141,漢字読み!$A$2:$O$502,7,0)))","v":""},{"$f":"IF(R141=\"\",\"\",IF(VLOOKUP(R141,漢字読み!$A$2:$O$502,7,0)=0,\"\",VLOOKUP(R141,漢字読み!$A$2:$O$502,7,0)))","v":""},{"$f":"IF(S141=\"\",\"\",IF(VLOOKUP(S141,漢字読み!$A$2:$O$502,7,0)=0,\"\",VLOOKUP(S141,漢字読み!$A$2:$O$502,7,0)))","v":"いろ"},{"$f":"IF(T141=\"\",\"\",IF(VLOOKUP(T141,漢字読み!$A$2:$O$502,7,0)=0,\"\",VLOOKUP(T141,漢字読み!$A$2:$O$502,7,0)))","v":""},null,null,"和歌山県教育委員会"]
[{"$f":"INDIRECT(\"'関数（書き）'!C\" & COLUMN(B$1)+SUM($AD$2:$AD147))","v":130},{"$f":"INDIRECT(\"'関数（書き）'!C\" & COLUMN(C$1)+SUM($AD$2:$AD147))","v":79},{"$f":"INDIRECT(\"'関数（書き）'!C\" & COLUMN(D$1)+SUM($AD$2:$AD147))","v":163},{"$f":"INDIRECT(\"'関数（書き）'!C\" & COLUMN(E$1)+SUM($AD$2:$AD147))","v":81},{"$f":"INDIRECT(\"'関数（書き）'!C\" & COLUMN(F$1)+SUM($AD$2:$AD147))","v":74},{"$f":"INDIRECT(\"'関数（書き）'!C\" & COLUMN(G$1)+SUM($AD$2:$AD147))","v":111},{"$f":"INDIRECT(\"'関数（書き）'!C\" & COLUMN(H$1)+SUM($AD$2:$AD147))","v":67},{"$f":"INDIRECT(\"'関数（書き）'!C\" & COLUMN(I$1)+SUM($AD$2:$AD147))","v":26},{"$f":"INDIRECT(\"'関数（書き）'!C\" & COLUMN(J$1)+SUM($AD$2:$AD147))","v":119},{"$f":"INDIRECT(\"'関数（書き）'!C\" & COLUMN(K$1)+SUM($AD$2:$AD147))","v":137},{"$f":"INDIRECT(\"'関数（読み）'!C\" & COLUMN(B$1)+SUM($AD$2:$AD147))","v":46},{"$f":"INDIRECT(\"'関数（読み）'!C\" & COLUMN(C$1)+SUM($AD$2:$AD147))","v":149},{"$f":"INDIRECT(\"'関数（読み）'!C\" & COLUMN(D$1)+SUM($AD$2:$AD147))","v":22},{"$f":"INDIRECT(\"'関数（読み）'!C\" & COLUMN(E$1)+SUM($AD$2:$AD147))","v":170},{"$f":"INDIRECT(\"'関数（読み）'!C\" & COLUMN(F$1)+SUM($AD$2:$AD147))","v":92},{"$f":"INDIRECT(\"'関数（読み）'!C\" & COLUMN(G$1)+SUM($AD$2:$AD147))","v":103},{"$f":"INDIRECT(\"'関数（読み）'!C\" & COLUMN(H$1)+SUM($AD$2:$AD147))","v":44},{"$f":"INDIRECT(\"'関数（読み）'!C\" & COLUMN(I$1)+SUM($AD$2:$AD147))","v":84},{"$f":"INDIRECT(\"'関数（読み）'!C\" & COLUMN(J$1)+SUM($AD$2:$AD147))","v":42},{"$f":"INDIRECT(\"'関数（読み）'!C\" & COLUMN(K$1)+SUM($AD$2:$AD147))","v":33}]
["⑳","⑲","⑱","⑰","⑯","⑮","⑭","⑬","⑫","⑪","⑩","⑨","⑧","⑦","⑥","⑤","④","③","②","①","次の［　　　　］の部分の漢字には読みがなをひらがなで書き、カタカナは漢字に直しなさい。",15,"「漢字の博士検定試験」練習問題　",null,null,null,null,null,"←",10,"問",{"$f":"AH142+1","v":151},"～",{"$f":"SUM($AD$2:$AD147)+10","v":160},"問まで",{"$f":"COUNTIF($A$1:$T$200,T148)","v":2}]
[{"$f":"IF(A146=\"\",\"\",VLOOKUP(A146,漢字書き!$A$2:$N$506,6,0))","v":"［ダイチュウショウ］"},{"$f":"IF(B146=\"\",\"\",VLOOKUP(B146,漢字書き!$A$2:$N$506,6,0))","v":"めいろから［デ］る"},{"$f":"IF(C146=\"\",\"\",VLOOKUP(C146,漢字書き!$A$2:$N$506,6,0))","v":"［メイ］ぶつをさがす"},{"$f":"IF(D146=\"\",\"\",VLOOKUP(D146,漢字書き!$A$2:$N$506,6,0))","v":"ゆき［オンナ］"},{"$f":"IF(E146=\"\",\"\",VLOOKUP(E146,漢字書き!$A$2:$N$506,6,0))","v":"［テ］をあらう"},{"$f":"IF(F146=\"\",\"\",VLOOKUP(F146,漢字書き!$A$2:$N$506,6,0))","v":"［オガワ］がながれる"},{"$f":"IF(G146=\"\",\"\",VLOOKUP(G146,漢字書き!$A$2:$N$506,6,0))","v":"［ミミ］をすます"},{"$f":"IF(H146=\"\",\"\",VLOOKUP(H146,漢字書き!$A$2:$N$506,6,0))","v":"しっかり［マナ］ぶ"},{"$f":"IF(I146=\"\",\"\",VLOOKUP(I146,漢字書き!$A$2:$N$506,6,0))","v":"えん［ソク］にいく"},{"$f":"IF(J146=\"\",\"\",VLOOKUP(J146,漢字書き!$A$2:$N$506,6,0))","v":"［テンキ］よほう"},{"$f":"IF(K146=\"\",\"\",VLOOKUP(K146,漢字読み!$A$2:$O$506,6,0))","v":"もうどう［犬］"},{"$f":"IF(L146=\"\",\"\",VLOOKUP(L146,漢字読み!$A$2:$O$506,6,0))","v":"［二］つにわける"},{"$f":"IF(M146=\"\",\"\",VLOOKUP(M146,漢字読み!$A$2:$O$506,6,0))","v":"［花］がさく"},{"$f":"IF(N146=\"\",\"\",VLOOKUP(N146,漢字読み!$A$2:$O$506,6,0))","v":"［五本］のゆび"},{"$f":"IF(O146=\"\",\"\",VLOOKUP(O146,漢字読み!$A$2:$O$506,6,0))","v":"［人気］もの"},{"$f":"IF(P146=\"\",\"\",VLOOKUP(P146,漢字読み!$A$2:$O$506,6,0))","v":"メダカの[一生]"},{"$f":"IF(Q146=\"\",\"\",VLOOKUP(Q146,漢字読み!$A$2:$O$506,6,0))","v":"［月］ようになる"},{"$f":"IF(R146=\"\",\"\",VLOOKUP(R146,漢字読み!$A$2:$O$506,6,0))","v":"［小］さくなる"},{"$f":"IF(S146=\"\",\"\",VLOOKUP(S146,漢字読み!$A$2:$O$506,6,0))","v":"きれいな［青空］"},{"$f":"IF(T146=\"\",\"\",VLOOKUP(T146,漢字読み!$A$2:$O$506,6,0))","v":"［休］けいをする"},null,"級"]
[null,null,null,null,null,null,null,null,null,null,null,null,null,null,null,null,null,null,null,null,null,"名前"]
[{"$f":"IF(A146=\"\",\"\",IF(VLOOKUP(A146,漢字書き!$A$2:$N$502,7,0)=0,\"\",VLOOKUP(A146,漢字書き!$A$2:$N$502,7,0)))","v":""},{"$f":"IF(B146=\"\",\"\",IF(VLOOKUP(B146,漢字書き!$A$2:$N$502,7,0)=0,\"\",VLOOKUP(B146,漢字書き!$A$2:$N$502,7,0)))","v":"る"},{"$f":"IF(C146=\"\",\"\",IF(VLOOKUP(C146,漢字書き!$A$2:$N$502,7,0)=0,\"\",VLOOKUP(C146,漢字書き!$A$2:$N$502,7,0)))","v":"ぶつ"},{"$f":"IF(D146=\"\",\"\",IF(VLOOKUP(D146,漢字書き!$A$2:$N$502,7,0)=0,\"\",VLOOKUP(D146,漢字書き!$A$2:$N$502,7,0)))","v":""},{"$f":"IF(E146=\"\",\"\",IF(VLOOKUP(E146,漢字書き!$A$2:$N$502,7,0)=0,\"\",VLOOKUP(E146,漢字書き!$A$2:$N$502,7,0)))","v":""},{"$f":"IF(F146=\"\",\"\",IF(VLOOKUP(F146,漢字書き!$A$2:$N$502,7,0)=0,\"\",VLOOKUP(F146,漢字書き!$A$2:$N$502,7,0)))","v":""},{"$f":"IF(G146=\"\",\"\",IF(VLOOKUP(G146,漢字書き!$A$2:$N$502,7,0)=0,\"\",VLOOKUP(G146,漢字書き!$A$2:$N$502,7,0)))","v":""},{"$f":"IF(H146=\"\",\"\",IF(VLOOKUP(H146,漢字書き!$A$2:$N$502,7,0)=0,\"\",VLOOKUP(H146,漢字書き!$A$2:$N$502,7,0)))","v":"ぶ"},{"$f":"IF(I146=\"\",\"\",IF(VLOOKUP(I146,漢字書き!$A$2:$N$502,7,0)=0,\"\",VLOOKUP(I146,漢字書き!$A$2:$N$502,7,0)))","v":""},{"$f":"IF(J146=\"\",\"\",IF(VLOOKUP(J146,漢字書き!$A$2:$N$502,7,0)=0,\"\",VLOOKUP(J146,漢字書き!$A$2:$N$502,7,0)))","v":"よほう"},{"$f":"IF(K146=\"\",\"\",IF(VLOOKUP(K146,漢字読み!$A$2:$O$502,7,0)=0,\"\",VLOOKUP(K146,漢字読み!$A$2:$O$502,7,0)))","v":""},{"$f":"IF(L146=\"\",\"\",IF(VLOOKUP(L146,漢字読み!$A$2:$O$502,7,0)=0,\"\",VLOOKUP(L146,漢字読み!$A$2:$O$502,7,0)))","v":"つ"},{"$f":"IF(M146=\"\",\"\",IF(VLOOKUP(M146,漢字読み!$A$2:$O$502,7,0)=0,\"\",VLOOKUP(M146,漢字読み!$A$2:$O$502,7,0)))","v":""},{"$f":"IF(N146=\"\",\"\",IF(VLOOKUP(N146,漢字読み!$A$2:$O$502,7,0)=0,\"\",VLOOKUP(N146,漢字読み!$A$2:$O$502,7,0)))","v":""},{"$f":"IF(O146=\"\",\"\",IF(VLOOKUP(O146,漢字読み!$A$2:$O$502,7,0)=0,\"\",VLOOKUP(O146,漢字読み!$A$2:$O$502,7,0)))","v":"もの"},{"$f":"IF(P146=\"\",\"\",IF(VLOOKUP(P146,漢字読み!$A$2:$O$502,7,0)=0,\"\",VLOOKUP(P146,漢字読み!$A$2:$O$502,7,0)))","v":""},{"$f":"IF(Q146=\"\",\"\",IF(VLOOKUP(Q146,漢字読み!$A$2:$O$502,7,0)=0,\"\",VLOOKUP(Q146,漢字読み!$A$2:$O$502,7,0)))","v":"よう"},{"$f":"IF(R146=\"\",\"\",IF(VLOOKUP(R146,漢字読み!$A$2:$O$502,7,0)=0,\"\",VLOOKUP(R146,漢字読み!$A$2:$O$502,7,0)))","v":"さく"},{"$f":"IF(S146=\"\",\"\",IF(VLOOKUP(S146,漢字読み!$A$2:$O$502,7,0)=0,\"\",VLOOKUP(S146,漢字読み!$A$2:$O$502,7,0)))","v":""},{"$f":"IF(T146=\"\",\"\",IF(VLOOKUP(T146,漢字読み!$A$2:$O$502,7,0)=0,\"\",VLOOKUP(T146,漢字読み!$A$2:$O$502,7,0)))","v":"けい"},null,null,"和歌山県教育委員会"]
[{"$f":"A141","v":77},{"$f":"B141","v":71},28,166,144,98,91,76,97,55,55,35,94,116,115,19,151,137,71,53]
["⑳","⑲","⑱","⑰","⑯","⑮","⑭","⑬","⑫","⑪","⑩","⑨","⑧","⑦","⑥","⑤","④","③","②","①","次の［　　　　］の部分の漢字には読みがなをひらがなで書き、カタカナは漢字に直しなさい。",15,"「漢字の博士検定試験」練習問題　"]
[{"$f":"IF(A151=\"\",\"\",VLOOKUP(A151,漢字書き!$A$2:$N$506,6,0))","v":"［トオ］かぞえる"},{"$f":"IF(B151=\"\",\"\",VLOOKUP(B151,漢字書き!$A$2:$N$506,6,0))","v":"［シャ］どうのそば"},{"$f":"IF(C151=\"\",\"\",VLOOKUP(C151,漢字書き!$A$2:$N$506,6,0))","v":"人の［ケ］はい"},{"$f":"IF(D151=\"\",\"\",VLOOKUP(D151,漢字書き!$A$2:$N$506,6,0))","v":"［モク］じをさがす"},{"$f":"IF(E151=\"\",\"\",VLOOKUP(E151,漢字書き!$A$2:$N$506,6,0))","v":"［フタ］つならべる"},{"$f":"IF(F151=\"\",\"\",VLOOKUP(F151,漢字書き!$A$2:$N$506,6,0))","v":"［セイ］かつのじかん"},{"$f":"IF(G151=\"\",\"\",VLOOKUP(G151,漢字書き!$A$2:$N$506,6,0))","v":"［ヒト］がおおい"},{"$f":"IF(H151=\"\",\"\",VLOOKUP(H151,漢字書き!$A$2:$N$506,6,0))","v":"［ジッ］ぷんたつ"},{"$f":"IF(I151=\"\",\"\",VLOOKUP(I151,漢字書き!$A$2:$N$506,6,0))","v":"やさしい［センセイ］"},{"$f":"IF(J151=\"\",\"\",VLOOKUP(J151,漢字書き!$A$2:$N$506,6,0))","v":"［サン］びきのこぶた"},{"$f":"IF(K151=\"\",\"\",VLOOKUP(K151,漢字読み!$A$2:$O$506,6,0))","v":"［校］かをうたう"},{"$f":"IF(L151=\"\",\"\",VLOOKUP(L151,漢字読み!$A$2:$O$506,6,0))","v":"からだを［休］める"},{"$f":"IF(M151=\"\",\"\",VLOOKUP(M151,漢字読み!$A$2:$O$506,6,0))","v":"［水］よう日"},{"$f":"IF(N151=\"\",\"\",VLOOKUP(N151,漢字読み!$A$2:$O$506,6,0))","v":"［川］がながれる"},{"$f":"IF(O151=\"\",\"\",VLOOKUP(O151,漢字読み!$A$2:$O$506,6,0))","v":"[川]あそびをする"},{"$f":"IF(P151=\"\",\"\",VLOOKUP(P151,漢字読み!$A$2:$O$506,6,0))","v":"たき［火］をする"},{"$f":"IF(Q151=\"\",\"\",VLOOKUP(Q151,漢字読み!$A$2:$O$506,6,0))","v":"［夕日］がしずむ"},{"$f":"IF(R151=\"\",\"\",VLOOKUP(R151,漢字読み!$A$2:$O$506,6,0))","v":"［中］をみる"},{"$f":"IF(S151=\"\",\"\",VLOOKUP(S151,漢字読み!$A$2:$O$506,6,0))","v":"［七］いろのにじ"},{"$f":"IF(T151=\"\",\"\",VLOOKUP(T151,漢字読み!$A$2:$O$506,6,0))","v":"［出口］がない"},null,"級"]
[{"$f":"IF(A$11=\"\",\"\",VLOOKUP(A151,漢字書き!$A$2:$O$506,8,0))","v":"十"},{"$f":"IF(B$11=\"\",\"\",VLOOKUP(B151,漢字書き!$A$2:$O$506,8,0))","v":"車"},{"$f":"IF(C$11=\"\",\"\",VLOOKUP(C151,漢字書き!$A$2:$O$506,8,0))","v":"気"},{"$f":"IF(D$11=\"\",\"\",VLOOKUP(D151,漢字書き!$A$2:$O$506,8,0))","v":"目"},{"$f":"IF(E$11=\"\",\"\",VLOOKUP(E151,漢字書き!$A$2:$O$506,8,0))","v":"二"},{"$f":"IF(F$11=\"\",\"\",VLOOKUP(F151,漢字書き!$A$2:$O$506,8,0))","v":"生"},{"$f":"IF(G$11=\"\",\"\",VLOOKUP(G151,漢字書き!$A$2:$O$506,8,0))","v":"人"},{"$f":"IF(H$11=\"\",\"\",VLOOKUP(H151,漢字書き!$A$2:$O$506,8,0))","v":"十"},{"$f":"IF(I$11=\"\",\"\",VLOOKUP(I151,漢字書き!$A$2:$O$506,8,0))","v":"先生"},{"$f":"IF(J$11=\"\",\"\",VLOOKUP(J151,漢字書き!$A$2:$O$506,8,0))","v":"三"},{"$f":"IF(K$11=\"\",\"\",VLOOKUP(K151,漢字読み!$A$2:$O$506,8,0))","v":"こう"},{"$f":"IF(L$11=\"\",\"\",VLOOKUP(L151,漢字読み!$A$2:$O$506,8,0))","v":"やす"},{"$f":"IF(M$11=\"\",\"\",VLOOKUP(M151,漢字読み!$A$2:$O$506,8,0))","v":"すい"},{"$f":"IF(N$11=\"\",\"\",VLOOKUP(N151,漢字読み!$A$2:$O$506,8,0))","v":"かわ"},{"$f":"IF(O$11=\"\",\"\",VLOOKUP(O151,漢字読み!$A$2:$O$506,8,0))","v":"かわ"},{"$f":"IF(P$11=\"\",\"\",VLOOKUP(P151,漢字読み!$A$2:$O$506,8,0))","v":"び"},{"$f":"IF(Q$11=\"\",\"\",VLOOKUP(Q151,漢字読み!$A$2:$O$506,8,0))","v":"ゆうひ"},{"$f":"IF(R$11=\"\",\"\",VLOOKUP(R151,漢字読み!$A$2:$O$506,8,0))","v":"なか"},{"$f":"IF(S$11=\"\",\"\",VLOOKUP(S151,漢字読み!$A$2:$O$506,8,0))","v":"なな"},{"$f":"IF(T$11=\"\",\"\",VLOOKUP(T151,漢字読み!$A$2:$O$506,8,0))","v":"でぐち"},null,"名前"]
[{"$f":"IF(A151=\"\",\"\",IF(VLOOKUP(A151,漢字書き!$A$2:$N$502,7,0)=0,\"\",VLOOKUP(A151,漢字書き!$A$2:$N$502,7,0)))","v":""},{"$f":"IF(B151=\"\",\"\",IF(VLOOKUP(B151,漢字書き!$A$2:$N$502,7,0)=0,\"\",VLOOKUP(B151,漢字書き!$A$2:$N$502,7,0)))","v":"どう"},{"$f":"IF(C151=\"\",\"\",IF(VLOOKUP(C151,漢字書き!$A$2:$N$502,7,0)=0,\"\",VLOOKUP(C151,漢字書き!$A$2:$N$502,7,0)))","v":"はい"},{"$f":"IF(D151=\"\",\"\",IF(VLOOKUP(D151,漢字書き!$A$2:$N$502,7,0)=0,\"\",VLOOKUP(D151,漢字書き!$A$2:$N$502,7,0)))","v":"じ"},{"$f":"IF(E151=\"\",\"\",IF(VLOOKUP(E151,漢字書き!$A$2:$N$502,7,0)=0,\"\",VLOOKUP(E151,漢字書き!$A$2:$N$502,7,0)))","v":"つ"},{"$f":"IF(F151=\"\",\"\",IF(VLOOKUP(F151,漢字書き!$A$2:$N$502,7,0)=0,\"\",VLOOKUP(F151,漢字書き!$A$2:$N$502,7,0)))","v":"かつ"},{"$f":"IF(G151=\"\",\"\",IF(VLOOKUP(G151,漢字書き!$A$2:$N$502,7,0)=0,\"\",VLOOKUP(G151,漢字書き!$A$2:$N$502,7,0)))","v":""},{"$f":"IF(H151=\"\",\"\",IF(VLOOKUP(H151,漢字書き!$A$2:$N$502,7,0)=0,\"\",VLOOKUP(H151,漢字書き!$A$2:$N$502,7,0)))","v":"ぷん"},{"$f":"IF(I151=\"\",\"\",IF(VLOOKUP(I151,漢字書き!$A$2:$N$502,7,0)=0,\"\",VLOOKUP(I151,漢字書き!$A$2:$N$502,7,0)))","v":""},{"$f":"IF(J151=\"\",\"\",IF(VLOOKUP(J151,漢字書き!$A$2:$N$502,7,0)=0,\"\",VLOOKUP(J151,漢字書き!$A$2:$N$502,7,0)))","v":"びき"},{"$f":"IF(K151=\"\",\"\",IF(VLOOKUP(K151,漢字読み!$A$2:$O$502,7,0)=0,\"\",VLOOKUP(K151,漢字読み!$A$2:$O$502,7,0)))","v":"か"},{"$f":"IF(L151=\"\",\"\",IF(VLOOKUP(L151,漢字読み!$A$2:$O$502,7,0)=0,\"\",VLOOKUP(L151,漢字読み!$A$2:$O$502,7,0)))","v":"める"},{"$f":"IF(M151=\"\",\"\",IF(VLOOKUP(M151,漢字読み!$A$2:$O$502,7,0)=0,\"\",VLOOKUP(M151,漢字読み!$A$2:$O$502,7,0)))","v":"よう"},{"$f":"IF(N151=\"\",\"\",IF(VLOOKUP(N151,漢字読み!$A$2:$O$502,7,0)=0,\"\",VLOOKUP(N151,漢字読み!$A$2:$O$502,7,0)))","v":""},{"$f":"IF(O151=\"\",\"\",IF(VLOOKUP(O151,漢字読み!$A$2:$O$502,7,0)=0,\"\",VLOOKUP(O151,漢字読み!$A$2:$O$502,7,0)))","v":"あそび"},{"$f":"IF(P151=\"\",\"\",IF(VLOOKUP(P151,漢字読み!$A$2:$O$502,7,0)=0,\"\",VLOOKUP(P151,漢字読み!$A$2:$O$502,7,0)))","v":""},{"$f":"IF(Q151=\"\",\"\",IF(VLOOKUP(Q151,漢字読み!$A$2:$O$502,7,0)=0,\"\",VLOOKUP(Q151,漢字読み!$A$2:$O$502,7,0)))","v":""},{"$f":"IF(R151=\"\",\"\",IF(VLOOKUP(R151,漢字読み!$A$2:$O$502,7,0)=0,\"\",VLOOKUP(R151,漢字読み!$A$2:$O$502,7,0)))","v":""},{"$f":"IF(S151=\"\",\"\",IF(VLOOKUP(S151,漢字読み!$A$2:$O$502,7,0)=0,\"\",VLOOKUP(S151,漢字読み!$A$2:$O$502,7,0)))","v":"いろ"},{"$f":"IF(T151=\"\",\"\",IF(VLOOKUP(T151,漢字読み!$A$2:$O$502,7,0)=0,\"\",VLOOKUP(T151,漢字読み!$A$2:$O$502,7,0)))","v":""},null,null,"和歌山県教育委員会"]
[{"$f":"A146","v":130},{"$f":"B146","v":79},163,81,74,111,67,26,119,137,46,149,22,170,92,103,44,84,42,33]
["⑳","⑲","⑱","⑰","⑯","⑮","⑭","⑬","⑫","⑪","⑩","⑨","⑧","⑦","⑥","⑤","④","③","②","①","次の［　　　　］の部分の漢字には読みがなをひらがなで書き、カタカナは漢字に直しなさい。",15,"「漢字の博士検定試験」練習問題　"]
[{"$f":"IF(A156=\"\",\"\",VLOOKUP(A156,漢字書き!$A$2:$N$506,6,0))","v":"［ダイチュウショウ］"},{"$f":"IF(B156=\"\",\"\",VLOOKUP(B156,漢字書き!$A$2:$N$506,6,0))","v":"めいろから［デ］る"},{"$f":"IF(C156=\"\",\"\",VLOOKUP(C156,漢字書き!$A$2:$N$506,6,0))","v":"［メイ］ぶつをさがす"},{"$f":"IF(D156=\"\",\"\",VLOOKUP(D156,漢字書き!$A$2:$N$506,6,0))","v":"ゆき［オンナ］"},{"$f":"IF(E156=\"\",\"\",VLOOKUP(E156,漢字書き!$A$2:$N$506,6,0))","v":"［テ］をあらう"},{"$f":"IF(F156=\"\",\"\",VLOOKUP(F156,漢字書き!$A$2:$N$506,6,0))","v":"［オガワ］がながれる"},{"$f":"IF(G156=\"\",\"\",VLOOKUP(G156,漢字書き!$A$2:$N$506,6,0))","v":"［ミミ］をすます"},{"$f":"IF(H156=\"\",\"\",VLOOKUP(H156,漢字書き!$A$2:$N$506,6,0))","v":"しっかり［マナ］ぶ"},{"$f":"IF(I156=\"\",\"\",VLOOKUP(I156,漢字書き!$A$2:$N$506,6,0))","v":"えん［ソク］にいく"},{"$f":"IF(J156=\"\",\"\",VLOOKUP(J156,漢字書き!$A$2:$N$506,6,0))","v":"［テンキ］よほう"},{"$f":"IF(K156=\"\",\"\",VLOOKUP(K156,漢字読み!$A$2:$O$506,6,0))","v":"もうどう［犬］"},{"$f":"IF(L156=\"\",\"\",VLOOKUP(L156,漢字読み!$A$2:$O$506,6,0))","v":"［二］つにわける"},{"$f":"IF(M156=\"\",\"\",VLOOKUP(M156,漢字読み!$A$2:$O$506,6,0))","v":"［花］がさく"},{"$f":"IF(N156=\"\",\"\",VLOOKUP(N156,漢字読み!$A$2:$O$506,6,0))","v":"［五本］のゆび"},{"$f":"IF(O156=\"\",\"\",VLOOKUP(O156,漢字読み!$A$2:$O$506,6,0))","v":"［人気］もの"},{"$f":"IF(P156=\"\",\"\",VLOOKUP(P156,漢字読み!$A$2:$O$506,6,0))","v":"メダカの[一生]"},{"$f":"IF(Q156=\"\",\"\",VLOOKUP(Q156,漢字読み!$A$2:$O$506,6,0))","v":"［月］ようになる"},{"$f":"IF(R156=\"\",\"\",VLOOKUP(R156,漢字読み!$A$2:$O$506,6,0))","v":"［小］さくなる"},{"$f":"IF(S156=\"\",\"\",VLOOKUP(S156,漢字読み!$A$2:$O$506,6,0))","v":"きれいな［青空］"},{"$f":"IF(T156=\"\",\"\",VLOOKUP(T156,漢字読み!$A$2:$O$506,6,0))","v":"［休］けいをする"},null,"級"]
[{"$f":"IF(A$16=\"\",\"\",VLOOKUP(A156,漢字書き!$A$2:$O$506,8,0))","v":"大中小"},{"$f":"IF(B$16=\"\",\"\",VLOOKUP(B156,漢字書き!$A$2:$O$506,8,0))","v":"出"},{"$f":"IF(C$16=\"\",\"\",VLOOKUP(C156,漢字書き!$A$2:$O$506,8,0))","v":"名"},{"$f":"IF(D$16=\"\",\"\",VLOOKUP(D156,漢字書き!$A$2:$O$506,8,0))","v":"女"},{"$f":"IF(E$16=\"\",\"\",VLOOKUP(E156,漢字書き!$A$2:$O$506,8,0))","v":"手"},{"$f":"IF(F$16=\"\",\"\",VLOOKUP(F156,漢字書き!$A$2:$O$506,8,0))","v":"小川"},{"$f":"IF(G$16=\"\",\"\",VLOOKUP(G156,漢字書き!$A$2:$O$506,8,0))","v":"耳"},{"$f":"IF(H$16=\"\",\"\",VLOOKUP(H156,漢字書き!$A$2:$O$506,8,0))","v":"学"},{"$f":"IF(I$16=\"\",\"\",VLOOKUP(I156,漢字書き!$A$2:$O$506,8,0))","v":"足"},{"$f":"IF(J$16=\"\",\"\",VLOOKUP(J156,漢字書き!$A$2:$O$506,8,0))","v":"天気"},{"$f":"IF(K$16=\"\",\"\",VLOOKUP(K156,漢字読み!$A$2:$O$506,8,0))","v":"けん"},{"$f":"IF(L$16=\"\",\"\",VLOOKUP(L156,漢字読み!$A$2:$O$506,8,0))","v":"ふた"},{"$f":"IF(M$16=\"\",\"\",VLOOKUP(M156,漢字読み!$A$2:$O$506,8,0))","v":"はな"},{"$f":"IF(N$16=\"\",\"\",VLOOKUP(N156,漢字読み!$A$2:$O$506,8,0))","v":"ごほん"},{"$f":"IF(O$16=\"\",\"\",VLOOKUP(O156,漢字読み!$A$2:$O$506,8,0))","v":"にんき"},{"$f":"IF(P$16=\"\",\"\",VLOOKUP(P156,漢字読み!$A$2:$O$506,8,0))","v":"いっしょう"},{"$f":"IF(Q$16=\"\",\"\",VLOOKUP(Q156,漢字読み!$A$2:$O$506,8,0))","v":"げつ"},{"$f":"IF(R$16=\"\",\"\",VLOOKUP(R156,漢字読み!$A$2:$O$506,8,0))","v":"ちい"},{"$f":"IF(S$16=\"\",\"\",VLOOKUP(S156,漢字読み!$A$2:$O$506,8,0))","v":"あおぞら"},{"$f":"IF(T$16=\"\",\"\",VLOOKUP(T156,漢字読み!$A$2:$O$506,8,0))","v":"きゅう"},null,"名前"]
[{"$f":"IF(A156=\"\",\"\",IF(VLOOKUP(A156,漢字書き!$A$2:$N$502,7,0)=0,\"\",VLOOKUP(A156,漢字書き!$A$2:$N$502,7,0)))","v":""},{"$f":"IF(B156=\"\",\"\",IF(VLOOKUP(B156,漢字書き!$A$2:$N$502,7,0)=0,\"\",VLOOKUP(B156,漢字書き!$A$2:$N$502,7,0)))","v":"る"},{"$f":"IF(C156=\"\",\"\",IF(VLOOKUP(C156,漢字書き!$A$2:$N$502,7,0)=0,\"\",VLOOKUP(C156,漢字書き!$A$2:$N$502,7,0)))","v":"ぶつ"},{"$f":"IF(D156=\"\",\"\",IF(VLOOKUP(D156,漢字書き!$A$2:$N$502,7,0)=0,\"\",VLOOKUP(D156,漢字書き!$A$2:$N$502,7,0)))","v":""},{"$f":"IF(E156=\"\",\"\",IF(VLOOKUP(E156,漢字書き!$A$2:$N$502,7,0)=0,\"\",VLOOKUP(E156,漢字書き!$A$2:$N$502,7,0)))","v":""},{"$f":"IF(F156=\"\",\"\",IF(VLOOKUP(F156,漢字書き!$A$2:$N$502,7,0)=0,\"\",VLOOKUP(F156,漢字書き!$A$2:$N$502,7,0)))","v":""},{"$f":"IF(G156=\"\",\"\",IF(VLOOKUP(G156,漢字書き!$A$2:$N$502,7,0)=0,\"\",VLOOKUP(G156,漢字書き!$A$2:$N$502,7,0)))","v":""},{"$f":"IF(H156=\"\",\"\",IF(VLOOKUP(H156,漢字書き!$A$2:$N$502,7,0)=0,\"\",VLOOKUP(H156,漢字書き!$A$2:$N$502,7,0)))","v":"ぶ"},{"$f":"IF(I156=\"\",\"\",IF(VLOOKUP(I156,漢字書き!$A$2:$N$502,7,0)=0,\"\",VLOOKUP(I156,漢字書き!$A$2:$N$502,7,0)))","v":""},{"$f":"IF(J156=\"\",\"\",IF(VLOOKUP(J156,漢字書き!$A$2:$N$502,7,0)=0,\"\",VLOOKUP(J156,漢字書き!$A$2:$N$502,7,0)))","v":"よほう"},{"$f":"IF(K156=\"\",\"\",IF(VLOOKUP(K156,漢字読み!$A$2:$O$502,7,0)=0,\"\",VLOOKUP(K156,漢字読み!$A$2:$O$502,7,0)))","v":""},{"$f":"IF(L156=\"\",\"\",IF(VLOOKUP(L156,漢字読み!$A$2:$O$502,7,0)=0,\"\",VLOOKUP(L156,漢字読み!$A$2:$O$502,7,0)))","v":"つ"},{"$f":"IF(M156=\"\",\"\",IF(VLOOKUP(M156,漢字読み!$A$2:$O$502,7,0)=0,\"\",VLOOKUP(M156,漢字読み!$A$2:$O$502,7,0)))","v":""},{"$f":"IF(N156=\"\",\"\",IF(VLOOKUP(N156,漢字読み!$A$2:$O$502,7,0)=0,\"\",VLOOKUP(N156,漢字読み!$A$2:$O$502,7,0)))","v":""},{"$f":"IF(O156=\"\",\"\",IF(VLOOKUP(O156,漢字読み!$A$2:$O$502,7,0)=0,\"\",VLOOKUP(O156,漢字読み!$A$2:$O$502,7,0)))","v":"もの"},{"$f":"IF(P156=\"\",\"\",IF(VLOOKUP(P156,漢字読み!$A$2:$O$502,7,0)=0,\"\",VLOOKUP(P156,漢字読み!$A$2:$O$502,7,0)))","v":""},{"$f":"IF(Q156=\"\",\"\",IF(VLOOKUP(Q156,漢字読み!$A$2:$O$502,7,0)=0,\"\",VLOOKUP(Q156,漢字読み!$A$2:$O$502,7,0)))","v":"よう"},{"$f":"IF(R156=\"\",\"\",IF(VLOOKUP(R156,漢字読み!$A$2:$O$502,7,0)=0,\"\",VLOOKUP(R156,漢字読み!$A$2:$O$502,7,0)))","v":"さく"},{"$f":"IF(S156=\"\",\"\",IF(VLOOKUP(S156,漢字読み!$A$2:$O$502,7,0)=0,\"\",VLOOKUP(S156,漢字読み!$A$2:$O$502,7,0)))","v":""},{"$f":"IF(T156=\"\",\"\",IF(VLOOKUP(T156,漢字読み!$A$2:$O$502,7,0)=0,\"\",VLOOKUP(T156,漢字読み!$A$2:$O$502,7,0)))","v":"けい"},null,null,"和歌山県教育委員会"]
[{"$f":"INDIRECT(\"'関数（書き）'!C\" & COLUMN(B$1)+SUM($AD$2:$AD162))","v":101},{"$f":"INDIRECT(\"'関数（書き）'!C\" & COLUMN(C$1)+SUM($AD$2:$AD162))","v":49},{"$f":"INDIRECT(\"'関数（書き）'!C\" & COLUMN(D$1)+SUM($AD$2:$AD162))","v":52},{"$f":"INDIRECT(\"'関数（書き）'!C\" & COLUMN(E$1)+SUM($AD$2:$AD162))","v":135},{"$f":"INDIRECT(\"'関数（書き）'!C\" & COLUMN(F$1)+SUM($AD$2:$AD162))","v":96},{"$f":"INDIRECT(\"'関数（書き）'!C\" & COLUMN(G$1)+SUM($AD$2:$AD162))","v":100},{"$f":"INDIRECT(\"'関数（書き）'!C\" & COLUMN(H$1)+SUM($AD$2:$AD162))","v":56},{"$f":"INDIRECT(\"'関数（書き）'!C\" & COLUMN(I$1)+SUM($AD$2:$AD162))","v":54},{"$f":"INDIRECT(\"'関数（書き）'!C\" & COLUMN(J$1)+SUM($AD$2:$AD162))","v":51},{"$f":"INDIRECT(\"'関数（書き）'!C\" & COLUMN(K$1)+SUM($AD$2:$AD162))","v":19},{"$f":"INDIRECT(\"'関数（読み）'!C\" & COLUMN(B$1)+SUM($AD$2:$AD162))","v":113},{"$f":"INDIRECT(\"'関数（読み）'!C\" & COLUMN(C$1)+SUM($AD$2:$AD162))","v":5},{"$f":"INDIRECT(\"'関数（読み）'!C\" & COLUMN(D$1)+SUM($AD$2:$AD162))","v":41},{"$f":"INDIRECT(\"'関数（読み）'!C\" & COLUMN(E$1)+SUM($AD$2:$AD162))","v":123},{"$f":"INDIRECT(\"'関数（読み）'!C\" & COLUMN(F$1)+SUM($AD$2:$AD162))","v":49},{"$f":"INDIRECT(\"'関数（読み）'!C\" & COLUMN(G$1)+SUM($AD$2:$AD162))","v":158},{"$f":"INDIRECT(\"'関数（読み）'!C\" & COLUMN(H$1)+SUM($AD$2:$AD162))","v":54},{"$f":"INDIRECT(\"'関数（読み）'!C\" & COLUMN(I$1)+SUM($AD$2:$AD162))","v":163},{"$f":"INDIRECT(\"'関数（読み）'!C\" & COLUMN(J$1)+SUM($AD$2:$AD162))","v":135},{"$f":"INDIRECT(\"'関数（読み）'!C\" & COLUMN(K$1)+SUM($AD$2:$AD162))","v":112}]
["⑳","⑲","⑱","⑰","⑯","⑮","⑭","⑬","⑫","⑪","⑩","⑨","⑧","⑦","⑥","⑤","④","③","②","①","次の［　　　　］の部分の漢字には読みがなをひらがなで書き、カタカナは漢字に直しなさい。",15,"「漢字の博士検定試験」練習問題　",null,null,null,null,null,"←",10,"問",{"$f":"AH147+1","v":161},"～",{"$f":"SUM($AD$2:$AD162)+10","v":170},"問まで",{"$f":"COUNTIF($A$1:$T$200,T163)","v":2}]
[{"$f":"IF(A161=\"\",\"\",VLOOKUP(A161,漢字書き!$A$2:$N$506,6,0))","v":"［アオゾラ］を見る"},{"$f":"IF(B161=\"\",\"\",VLOOKUP(B161,漢字書き!$A$2:$N$506,6,0))","v":"［クチ］から出す"},{"$f":"IF(C161=\"\",\"\",VLOOKUP(C161,漢字書き!$A$2:$N$506,6,0))","v":"［コウ］もんに入る"},{"$f":"IF(D161=\"\",\"\",VLOOKUP(D161,漢字書き!$A$2:$N$506,6,0))","v":"［チョウ］ないかい"},{"$f":"IF(E161=\"\",\"\",VLOOKUP(E161,漢字書き!$A$2:$N$506,6,0))","v":"［タダ］しいこたえ"},{"$f":"IF(F161=\"\",\"\",VLOOKUP(F161,漢字書き!$A$2:$N$506,6,0))","v":"［アオ］いうみ"},{"$f":"IF(G161=\"\",\"\",VLOOKUP(G161,漢字書き!$A$2:$N$506,6,0))","v":"［ミッ］つある"},{"$f":"IF(H161=\"\",\"\",VLOOKUP(H161,漢字書き!$A$2:$N$506,6,0))","v":"［ヒダリ］にまがる"},{"$f":"IF(I161=\"\",\"\",VLOOKUP(I161,漢字書き!$A$2:$N$506,6,0))","v":"［ガッコウ］にいく"},{"$f":"IF(J161=\"\",\"\",VLOOKUP(J161,漢字書き!$A$2:$N$506,6,0))","v":"［カ］ようび"},{"$f":"IF(K161=\"\",\"\",VLOOKUP(K161,漢字読み!$A$2:$O$506,6,0))","v":"ねこの［赤］ちゃん"},{"$f":"IF(L161=\"\",\"\",VLOOKUP(L161,漢字読み!$A$2:$O$506,6,0))","v":"［雨天］にちゅうい"},{"$f":"IF(M161=\"\",\"\",VLOOKUP(M161,漢字読み!$A$2:$O$506,6,0))","v":"［上空］をとぶ"},{"$f":"IF(N161=\"\",\"\",VLOOKUP(N161,漢字読み!$A$2:$O$506,6,0))","v":"［草］むらであそぶ"},{"$f":"IF(O161=\"\",\"\",VLOOKUP(O161,漢字読み!$A$2:$O$506,6,0))","v":"とけいを［見］る"},{"$f":"IF(P161=\"\",\"\",VLOOKUP(P161,漢字読み!$A$2:$O$506,6,0))","v":"こう［白］のはた"},{"$f":"IF(Q161=\"\",\"\",VLOOKUP(Q161,漢字読み!$A$2:$O$506,6,0))","v":"［口］をあける"},{"$f":"IF(R161=\"\",\"\",VLOOKUP(R161,漢字読み!$A$2:$O$506,6,0))","v":"［百円］のおかし"},{"$f":"IF(S161=\"\",\"\",VLOOKUP(S161,漢字読み!$A$2:$O$506,6,0))","v":"［竹］とんぼ"},{"$f":"IF(T161=\"\",\"\",VLOOKUP(T161,漢字読み!$A$2:$O$506,6,0))","v":"［赤］はんをたく"},null,"級"]
[null,null,null,null,null,null,null,null,null,null,null,null,null,null,null,null,null,null,null,null,null,"名前"]
[{"$f":"IF(A161=\"\",\"\",IF(VLOOKUP(A161,漢字書き!$A$2:$N$502,7,0)=0,\"\",VLOOKUP(A161,漢字書き!$A$2:$N$502,7,0)))","v":""},{"$f":"IF(B161=\"\",\"\",IF(VLOOKUP(B161,漢字書き!$A$2:$N$502,7,0)=0,\"\",VLOOKUP(B161,漢字書き!$A$2:$N$502,7,0)))","v":""},{"$f":"IF(C161=\"\",\"\",IF(VLOOKUP(C161,漢字書き!$A$2:$N$502,7,0)=0,\"\",VLOOKUP(C161,漢字書き!$A$2:$N$502,7,0)))","v":"もん"},{"$f":"IF(D161=\"\",\"\",IF(VLOOKUP(D161,漢字書き!$A$2:$N$502,7,0)=0,\"\",VLOOKUP(D161,漢字書き!$A$2:$N$502,7,0)))","v":"ない"},{"$f":"IF(E161=\"\",\"\",IF(VLOOKUP(E161,漢字書き!$A$2:$N$502,7,0)=0,\"\",VLOOKUP(E161,漢字書き!$A$2:$N$502,7,0)))","v":"しい"},{"$f":"IF(F161=\"\",\"\",IF(VLOOKUP(F161,漢字書き!$A$2:$N$502,7,0)=0,\"\",VLOOKUP(F161,漢字書き!$A$2:$N$502,7,0)))","v":"い"},{"$f":"IF(G161=\"\",\"\",IF(VLOOKUP(G161,漢字書き!$A$2:$N$502,7,0)=0,\"\",VLOOKUP(G161,漢字書き!$A$2:$N$502,7,0)))","v":"つ"},{"$f":"IF(H161=\"\",\"\",IF(VLOOKUP(H161,漢字書き!$A$2:$N$502,7,0)=0,\"\",VLOOKUP(H161,漢字書き!$A$2:$N$502,7,0)))","v":""},{"$f":"IF(I161=\"\",\"\",IF(VLOOKUP(I161,漢字書き!$A$2:$N$502,7,0)=0,\"\",VLOOKUP(I161,漢字書き!$A$2:$N$502,7,0)))","v":""},{"$f":"IF(J161=\"\",\"\",IF(VLOOKUP(J161,漢字書き!$A$2:$N$502,7,0)=0,\"\",VLOOKUP(J161,漢字書き!$A$2:$N$502,7,0)))","v":"ようび"},{"$f":"IF(K161=\"\",\"\",IF(VLOOKUP(K161,漢字読み!$A$2:$O$502,7,0)=0,\"\",VLOOKUP(K161,漢字読み!$A$2:$O$502,7,0)))","v":"ちゃん"},{"$f":"IF(L161=\"\",\"\",IF(VLOOKUP(L161,漢字読み!$A$2:$O$502,7,0)=0,\"\",VLOOKUP(L161,漢字読み!$A$2:$O$502,7,0)))","v":""},{"$f":"IF(M161=\"\",\"\",IF(VLOOKUP(M161,漢字読み!$A$2:$O$502,7,0)=0,\"\",VLOOKUP(M161,漢字読み!$A$2:$O$502,7,0)))","v":""},{"$f":"IF(N161=\"\",\"\",IF(VLOOKUP(N161,漢字読み!$A$2:$O$502,7,0)=0,\"\",VLOOKUP(N161,漢字読み!$A$2:$O$502,7,0)))","v":"むら"},{"$f":"IF(O161=\"\",\"\",IF(VLOOKUP(O161,漢字読み!$A$2:$O$502,7,0)=0,\"\",VLOOKUP(O161,漢字読み!$A$2:$O$502,7,0)))","v":"る"},{"$f":"IF(P161=\"\",\"\",IF(VLOOKUP(P161,漢字読み!$A$2:$O$502,7,0)=0,\"\",VLOOKUP(P161,漢字読み!$A$2:$O$502,7,0)))","v":""},{"$f":"IF(Q161=\"\",\"\",IF(VLOOKUP(Q161,漢字読み!$A$2:$O$502,7,0)=0,\"\",VLOOKUP(Q161,漢字読み!$A$2:$O$502,7,0)))","v":""},{"$f":"IF(R161=\"\",\"\",IF(VLOOKUP(R161,漢字読み!$A$2:$O$502,7,0)=0,\"\",VLOOKUP(R161,漢字読み!$A$2:$O$502,7,0)))","v":""},{"$f":"IF(S161=\"\",\"\",IF(VLOOKUP(S161,漢字読み!$A$2:$O$502,7,0)=0,\"\",VLOOKUP(S161,漢字読み!$A$2:$O$502,7,0)))","v":"とんぼ"},{"$f":"IF(T161=\"\",\"\",IF(VLOOKUP(T161,漢字読み!$A$2:$O$502,7,0)=0,\"\",VLOOKUP(T161,漢字読み!$A$2:$O$502,7,0)))","v":"はん"},null,null,"和歌山県教育委員会"]
[{"$f":"INDIRECT(\"'関数（書き）'!C\" & COLUMN(B$1)+SUM($AD$2:$AD167))","v":155},{"$f":"INDIRECT(\"'関数（書き）'!C\" & COLUMN(C$1)+SUM($AD$2:$AD167))","v":68},{"$f":"INDIRECT(\"'関数（書き）'!C\" & COLUMN(D$1)+SUM($AD$2:$AD167))","v":72},{"$f":"INDIRECT(\"'関数（書き）'!C\" & COLUMN(E$1)+SUM($AD$2:$AD167))","v":30},{"$f":"INDIRECT(\"'関数（書き）'!C\" & COLUMN(F$1)+SUM($AD$2:$AD167))","v":162},{"$f":"INDIRECT(\"'関数（書き）'!C\" & COLUMN(G$1)+SUM($AD$2:$AD167))","v":0},{"$f":"INDIRECT(\"'関数（書き）'!C\" & COLUMN(H$1)+SUM($AD$2:$AD167))","v":0},{"$f":"INDIRECT(\"'関数（書き）'!C\" & COLUMN(I$1)+SUM($AD$2:$AD167))","v":0},{"$f":"INDIRECT(\"'関数（書き）'!C\" & COLUMN(J$1)+SUM($AD$2:$AD167))","v":0},{"$f":"INDIRECT(\"'関数（書き）'!C\" & COLUMN(K$1)+SUM($AD$2:$AD167))","v":0},{"$f":"INDIRECT(\"'関数（読み）'!C\" & COLUMN(B$1)+SUM($AD$2:$AD167))","v":166},{"$f":"INDIRECT(\"'関数（読み）'!C\" & COLUMN(C$1)+SUM($AD$2:$AD167))","v":178},{"$f":"INDIRECT(\"'関数（読み）'!C\" & COLUMN(D$1)+SUM($AD$2:$AD167))","v":58},{"$f":"INDIRECT(\"'関数（読み）'!C\" & COLUMN(E$1)+SUM($AD$2:$AD167))","v":169},{"$f":"INDIRECT(\"'関数（読み）'!C\" & COLUMN(F$1)+SUM($AD$2:$AD167))","v":60},{"$f":"INDIRECT(\"'関数（読み）'!C\" & COLUMN(G$1)+SUM($AD$2:$AD167))","v":82},{"$f":"INDIRECT(\"'関数（読み）'!C\" & COLUMN(H$1)+SUM($AD$2:$AD167))","v":13},{"$f":"INDIRECT(\"'関数（読み）'!C\" & COLUMN(I$1)+SUM($AD$2:$AD167))","v":47},{"$f":"INDIRECT(\"'関数（読み）'!C\" & COLUMN(J$1)+SUM($AD$2:$AD167))","v":176},{"$f":"INDIRECT(\"'関数（読み）'!C\" & COLUMN(K$1)+SUM($AD$2:$AD167))","v":120}]
["⑳","⑲","⑱","⑰","⑯","⑮","⑭","⑬","⑫","⑪","⑩","⑨","⑧","⑦","⑥","⑤","④","③","②","①","次の［　　　　］の部分の漢字には読みがなをひらがなで書き、カタカナは漢字に直しなさい。",15,"「漢字の博士検定試験」練習問題　",null,null,null,null,null,"←",10,"問",{"$f":"AH162+1","v":171},"～",{"$f":"SUM($AD$2:$AD167)+10","v":180},"問まで",{"$f":"COUNTIF($A$1:$T$200,T168)","v":2}]
[{"$f":"IF(A166=\"\",\"\",VLOOKUP(A166,漢字書き!$A$2:$N$506,6,0))","v":"［ヒャクヤッ］つ"},{"$f":"IF(B166=\"\",\"\",VLOOKUP(B166,漢字書き!$A$2:$N$506,6,0))","v":"［ミミ］かきをする"},{"$f":"IF(C166=\"\",\"\",VLOOKUP(C166,漢字書き!$A$2:$N$506,6,0))","v":"［クルマ］にのる"},{"$f":"IF(D166=\"\",\"\",VLOOKUP(D166,漢字書き!$A$2:$N$506,6,0))","v":"［ココノ］つ"},{"$f":"IF(E166=\"\",\"\",VLOOKUP(E166,漢字書き!$A$2:$N$506,6,0))","v":"［ホンブン］をよむ"},{"$f":"IF(F166=\"\",\"\",VLOOKUP(F166,漢字書き!$A$2:$N$506,6,0))","v":{"$error":"#N/A"}},{"$f":"IF(G166=\"\",\"\",VLOOKUP(G166,漢字書き!$A$2:$N$506,6,0))","v":{"$error":"#N/A"}},{"$f":"IF(H166=\"\",\"\",VLOOKUP(H166,漢字書き!$A$2:$N$506,6,0))","v":{"$error":"#N/A"}},{"$f":"IF(I166=\"\",\"\",VLOOKUP(I166,漢字書き!$A$2:$N$506,6,0))","v":{"$error":"#N/A"}},{"$f":"IF(J166=\"\",\"\",VLOOKUP(J166,漢字書き!$A$2:$N$506,6,0))","v":{"$error":"#N/A"}},{"$f":"IF(K166=\"\",\"\",VLOOKUP(K166,漢字読み!$A$2:$O$506,6,0))","v":"［文学］をよむ"},{"$f":"IF(L166=\"\",\"\",VLOOKUP(L166,漢字読み!$A$2:$O$506,6,0))","v":"［立］たいもけい"},{"$f":"IF(M166=\"\",\"\",VLOOKUP(M166,漢字読み!$A$2:$O$506,6,0))","v":"［左手］をあげる"},{"$f":"IF(N166=\"\",\"\",VLOOKUP(N166,漢字読み!$A$2:$O$506,6,0))","v":"［木］のぼり"},{"$f":"IF(O166=\"\",\"\",VLOOKUP(O166,漢字読み!$A$2:$O$506,6,0))","v":"［三］つのねがい"},{"$f":"IF(P166=\"\",\"\",VLOOKUP(P166,漢字読み!$A$2:$O$506,6,0))","v":"［女］の子"},{"$f":"IF(Q166=\"\",\"\",VLOOKUP(Q166,漢字読み!$A$2:$O$506,6,0))","v":"［音］がひびく"},{"$f":"IF(R166=\"\",\"\",VLOOKUP(R166,漢字読み!$A$2:$O$506,6,0))","v":"［犬］をかう"},{"$f":"IF(S166=\"\",\"\",VLOOKUP(S166,漢字読み!$A$2:$O$506,6,0))","v":"［目］ひょうをもつ"},{"$f":"IF(T166=\"\",\"\",VLOOKUP(T166,漢字読み!$A$2:$O$506,6,0))","v":"［早］ちょうれんしゅう"},null,"級"]
[null,null,null,null,null,null,null,null,null,null,null,null,null,null,null,null,null,null,null,null,null,"名前"]
[{"$f":"IF(A166=\"\",\"\",IF(VLOOKUP(A166,漢字書き!$A$2:$N$502,7,0)=0,\"\",VLOOKUP(A166,漢字書き!$A$2:$N$502,7,0)))","v":"つ"},{"$f":"IF(B166=\"\",\"\",IF(VLOOKUP(B166,漢字書き!$A$2:$N$502,7,0)=0,\"\",VLOOKUP(B166,漢字書き!$A$2:$N$502,7,0)))","v":"かき"},{"$f":"IF(C166=\"\",\"\",IF(VLOOKUP(C166,漢字書き!$A$2:$N$502,7,0)=0,\"\",VLOOKUP(C166,漢字書き!$A$2:$N$502,7,0)))","v":""},{"$f":"IF(D166=\"\",\"\",IF(VLOOKUP(D166,漢字書き!$A$2:$N$502,7,0)=0,\"\",VLOOKUP(D166,漢字書き!$A$2:$N$502,7,0)))","v":"つ"},{"$f":"IF(E166=\"\",\"\",IF(VLOOKUP(E166,漢字書き!$A$2:$N$502,7,0)=0,\"\",VLOOKUP(E166,漢字書き!$A$2:$N$502,7,0)))","v":""},{"$f":"IF(F166=\"\",\"\",IF(VLOOKUP(F166,漢字書き!$A$2:$N$502,7,0)=0,\"\",VLOOKUP(F166,漢字書き!$A$2:$N$502,7,0)))","v":{"$error":"#N/A"}},{"$f":"IF(G166=\"\",\"\",IF(VLOOKUP(G166,漢字書き!$A$2:$N$502,7,0)=0,\"\",VLOOKUP(G166,漢字書き!$A$2:$N$502,7,0)))","v":{"$error":"#N/A"}},{"$f":"IF(H166=\"\",\"\",IF(VLOOKUP(H166,漢字書き!$A$2:$N$502,7,0)=0,\"\",VLOOKUP(H166,漢字書き!$A$2:$N$502,7,0)))","v":{"$error":"#N/A"}},{"$f":"IF(I166=\"\",\"\",IF(VLOOKUP(I166,漢字書き!$A$2:$N$502,7,0)=0,\"\",VLOOKUP(I166,漢字書き!$A$2:$N$502,7,0)))","v":{"$error":"#N/A"}},{"$f":"IF(J166=\"\",\"\",IF(VLOOKUP(J166,漢字書き!$A$2:$N$502,7,0)=0,\"\",VLOOKUP(J166,漢字書き!$A$2:$N$502,7,0)))","v":{"$error":"#N/A"}},{"$f":"IF(K166=\"\",\"\",IF(VLOOKUP(K166,漢字読み!$A$2:$O$502,7,0)=0,\"\",VLOOKUP(K166,漢字読み!$A$2:$O$502,7,0)))","v":""},{"$f":"IF(L166=\"\",\"\",IF(VLOOKUP(L166,漢字読み!$A$2:$O$502,7,0)=0,\"\",VLOOKUP(L166,漢字読み!$A$2:$O$502,7,0)))","v":"たい"},{"$f":"IF(M166=\"\",\"\",IF(VLOOKUP(M166,漢字読み!$A$2:$O$502,7,0)=0,\"\",VLOOKUP(M166,漢字読み!$A$2:$O$502,7,0)))","v":""},{"$f":"IF(N166=\"\",\"\",IF(VLOOKUP(N166,漢字読み!$A$2:$O$502,7,0)=0,\"\",VLOOKUP(N166,漢字読み!$A$2:$O$502,7,0)))","v":"のぼり"},{"$f":"IF(O166=\"\",\"\",IF(VLOOKUP(O166,漢字読み!$A$2:$O$502,7,0)=0,\"\",VLOOKUP(O166,漢字読み!$A$2:$O$502,7,0)))","v":"つ"},{"$f":"IF(P166=\"\",\"\",IF(VLOOKUP(P166,漢字読み!$A$2:$O$502,7,0)=0,\"\",VLOOKUP(P166,漢字読み!$A$2:$O$502,7,0)))","v":""},{"$f":"IF(Q166=\"\",\"\",IF(VLOOKUP(Q166,漢字読み!$A$2:$O$502,7,0)=0,\"\",VLOOKUP(Q166,漢字読み!$A$2:$O$502,7,0)))","v":""},{"$f":"IF(R166=\"\",\"\",IF(VLOOKUP(R166,漢字読み!$A$2:$O$502,7,0)=0,\"\",VLOOKUP(R166,漢字読み!$A$2:$O$502,7,0)))","v":""},{"$f":"IF(S166=\"\",\"\",IF(VLOOKUP(S166,漢字読み!$A$2:$O$502,7,0)=0,\"\",VLOOKUP(S166,漢字読み!$A$2:$O$502,7,0)))","v":"ひょう"},{"$f":"IF(T166=\"\",\"\",IF(VLOOKUP(T166,漢字読み!$A$2:$O$502,7,0)=0,\"\",VLOOKUP(T166,漢字読み!$A$2:$O$502,7,0)))","v":"ちょう"},null,null,"和歌山県教育委員会"]
[{"$f":"A161","v":101},{"$f":"B161","v":49},52,135,96,100,56,54,51,19,113,5,41,123,49,158,54,163,135,112]
["⑳","⑲","⑱","⑰","⑯","⑮","⑭","⑬","⑫","⑪","⑩","⑨","⑧","⑦","⑥","⑤","④","③","②","①","次の［　　　　］の部分の漢字には読みがなをひらがなで書き、カタカナは漢字に直しなさい。",15,"「漢字の博士検定試験」練習問題　"]
[{"$f":"IF(A171=\"\",\"\",VLOOKUP(A171,漢字書き!$A$2:$N$506,6,0))","v":"［アオゾラ］を見る"},{"$f":"IF(B171=\"\",\"\",VLOOKUP(B171,漢字書き!$A$2:$N$506,6,0))","v":"［クチ］から出す"},{"$f":"IF(C171=\"\",\"\",VLOOKUP(C171,漢字書き!$A$2:$N$506,6,0))","v":"［コウ］もんに入る"},{"$f":"IF(D171=\"\",\"\",VLOOKUP(D171,漢字書き!$A$2:$N$506,6,0))","v":"［チョウ］ないかい"},{"$f":"IF(E171=\"\",\"\",VLOOKUP(E171,漢字書き!$A$2:$N$506,6,0))","v":"［タダ］しいこたえ"},{"$f":"IF(F171=\"\",\"\",VLOOKUP(F171,漢字書き!$A$2:$N$506,6,0))","v":"［アオ］いうみ"},{"$f":"IF(G171=\"\",\"\",VLOOKUP(G171,漢字書き!$A$2:$N$506,6,0))","v":"［ミッ］つある"},{"$f":"IF(H171=\"\",\"\",VLOOKUP(H171,漢字書き!$A$2:$N$506,6,0))","v":"［ヒダリ］にまがる"},{"$f":"IF(I171=\"\",\"\",VLOOKUP(I171,漢字書き!$A$2:$N$506,6,0))","v":"［ガッコウ］にいく"},{"$f":"IF(J171=\"\",\"\",VLOOKUP(J171,漢字書き!$A$2:$N$506,6,0))","v":"［カ］ようび"},{"$f":"IF(K171=\"\",\"\",VLOOKUP(K171,漢字読み!$A$2:$O$506,6,0))","v":"ねこの［赤］ちゃん"},{"$f":"IF(L171=\"\",\"\",VLOOKUP(L171,漢字読み!$A$2:$O$506,6,0))","v":"［雨天］にちゅうい"},{"$f":"IF(M171=\"\",\"\",VLOOKUP(M171,漢字読み!$A$2:$O$506,6,0))","v":"［上空］をとぶ"},{"$f":"IF(N171=\"\",\"\",VLOOKUP(N171,漢字読み!$A$2:$O$506,6,0))","v":"［草］むらであそぶ"},{"$f":"IF(O171=\"\",\"\",VLOOKUP(O171,漢字読み!$A$2:$O$506,6,0))","v":"とけいを［見］る"},{"$f":"IF(P171=\"\",\"\",VLOOKUP(P171,漢字読み!$A$2:$O$506,6,0))","v":"こう［白］のはた"},{"$f":"IF(Q171=\"\",\"\",VLOOKUP(Q171,漢字読み!$A$2:$O$506,6,0))","v":"［口］をあける"},{"$f":"IF(R171=\"\",\"\",VLOOKUP(R171,漢字読み!$A$2:$O$506,6,0))","v":"［百円］のおかし"},{"$f":"IF(S171=\"\",\"\",VLOOKUP(S171,漢字読み!$A$2:$O$506,6,0))","v":"［竹］とんぼ"},{"$f":"IF(T171=\"\",\"\",VLOOKUP(T171,漢字読み!$A$2:$O$506,6,0))","v":"［赤］はんをたく"},null,"級"]
[{"$f":"IF(A$11=\"\",\"\",VLOOKUP(A171,漢字書き!$A$2:$O$506,8,0))","v":"青空"},{"$f":"IF(B$11=\"\",\"\",VLOOKUP(B171,漢字書き!$A$2:$O$506,8,0))","v":"口"},{"$f":"IF(C$11=\"\",\"\",VLOOKUP(C171,漢字書き!$A$2:$O$506,8,0))","v":"校"},{"$f":"IF(D$11=\"\",\"\",VLOOKUP(D171,漢字書き!$A$2:$O$506,8,0))","v":"町"},{"$f":"IF(E$11=\"\",\"\",VLOOKUP(E171,漢字書き!$A$2:$O$506,8,0))","v":"正"},{"$f":"IF(F$11=\"\",\"\",VLOOKUP(F171,漢字書き!$A$2:$O$506,8,0))","v":"青"},{"$f":"IF(G$11=\"\",\"\",VLOOKUP(G171,漢字書き!$A$2:$O$506,8,0))","v":"三"},{"$f":"IF(H$11=\"\",\"\",VLOOKUP(H171,漢字書き!$A$2:$O$506,8,0))","v":"左"},{"$f":"IF(I$11=\"\",\"\",VLOOKUP(I171,漢字書き!$A$2:$O$506,8,0))","v":"学校"},{"$f":"IF(J$11=\"\",\"\",VLOOKUP(J171,漢字書き!$A$2:$O$506,8,0))","v":"火"},{"$f":"IF(K$11=\"\",\"\",VLOOKUP(K171,漢字読み!$A$2:$O$506,8,0))","v":"あか"},{"$f":"IF(L$11=\"\",\"\",VLOOKUP(L171,漢字読み!$A$2:$O$506,8,0))","v":"うてん"},{"$f":"IF(M$11=\"\",\"\",VLOOKUP(M171,漢字読み!$A$2:$O$506,8,0))","v":"じょうくう"},{"$f":"IF(N$11=\"\",\"\",VLOOKUP(N171,漢字読み!$A$2:$O$506,8,0))","v":"くさ"},{"$f":"IF(O$11=\"\",\"\",VLOOKUP(O171,漢字読み!$A$2:$O$506,8,0))","v":"み"},{"$f":"IF(P$11=\"\",\"\",VLOOKUP(P171,漢字読み!$A$2:$O$506,8,0))","v":"はく"},{"$f":"IF(Q$11=\"\",\"\",VLOOKUP(Q171,漢字読み!$A$2:$O$506,8,0))","v":"くち"},{"$f":"IF(R$11=\"\",\"\",VLOOKUP(R171,漢字読み!$A$2:$O$506,8,0))","v":"ひゃくえん"},{"$f":"IF(S$11=\"\",\"\",VLOOKUP(S171,漢字読み!$A$2:$O$506,8,0))","v":"たけ"},{"$f":"IF(T$11=\"\",\"\",VLOOKUP(T171,漢字読み!$A$2:$O$506,8,0))","v":"せき"},null,"名前"]
[{"$f":"IF(A171=\"\",\"\",IF(VLOOKUP(A171,漢字書き!$A$2:$N$502,7,0)=0,\"\",VLOOKUP(A171,漢字書き!$A$2:$N$502,7,0)))","v":""},{"$f":"IF(B171=\"\",\"\",IF(VLOOKUP(B171,漢字書き!$A$2:$N$502,7,0)=0,\"\",VLOOKUP(B171,漢字書き!$A$2:$N$502,7,0)))","v":""},{"$f":"IF(C171=\"\",\"\",IF(VLOOKUP(C171,漢字書き!$A$2:$N$502,7,0)=0,\"\",VLOOKUP(C171,漢字書き!$A$2:$N$502,7,0)))","v":"もん"},{"$f":"IF(D171=\"\",\"\",IF(VLOOKUP(D171,漢字書き!$A$2:$N$502,7,0)=0,\"\",VLOOKUP(D171,漢字書き!$A$2:$N$502,7,0)))","v":"ない"},{"$f":"IF(E171=\"\",\"\",IF(VLOOKUP(E171,漢字書き!$A$2:$N$502,7,0)=0,\"\",VLOOKUP(E171,漢字書き!$A$2:$N$502,7,0)))","v":"しい"},{"$f":"IF(F171=\"\",\"\",IF(VLOOKUP(F171,漢字書き!$A$2:$N$502,7,0)=0,\"\",VLOOKUP(F171,漢字書き!$A$2:$N$502,7,0)))","v":"い"},{"$f":"IF(G171=\"\",\"\",IF(VLOOKUP(G171,漢字書き!$A$2:$N$502,7,0)=0,\"\",VLOOKUP(G171,漢字書き!$A$2:$N$502,7,0)))","v":"つ"},{"$f":"IF(H171=\"\",\"\",IF(VLOOKUP(H171,漢字書き!$A$2:$N$502,7,0)=0,\"\",VLOOKUP(H171,漢字書き!$A$2:$N$502,7,0)))","v":""},{"$f":"IF(I171=\"\",\"\",IF(VLOOKUP(I171,漢字書き!$A$2:$N$502,7,0)=0,\"\",VLOOKUP(I171,漢字書き!$A$2:$N$502,7,0)))","v":""},{"$f":"IF(J171=\"\",\"\",IF(VLOOKUP(J171,漢字書き!$A$2:$N$502,7,0)=0,\"\",VLOOKUP(J171,漢字書き!$A$2:$N$502,7,0)))","v":"ようび"},{"$f":"IF(K171=\"\",\"\",IF(VLOOKUP(K171,漢字読み!$A$2:$O$502,7,0)=0,\"\",VLOOKUP(K171,漢字読み!$A$2:$O$502,7,0)))","v":"ちゃん"},{"$f":"IF(L171=\"\",\"\",IF(VLOOKUP(L171,漢字読み!$A$2:$O$502,7,0)=0,\"\",VLOOKUP(L171,漢字読み!$A$2:$O$502,7,0)))","v":""},{"$f":"IF(M171=\"\",\"\",IF(VLOOKUP(M171,漢字読み!$A$2:$O$502,7,0)=0,\"\",VLOOKUP(M171,漢字読み!$A$2:$O$502,7,0)))","v":""},{"$f":"IF(N171=\"\",\"\",IF(VLOOKUP(N171,漢字読み!$A$2:$O$502,7,0)=0,\"\",VLOOKUP(N171,漢字読み!$A$2:$O$502,7,0)))","v":"むら"},{"$f":"IF(O171=\"\",\"\",IF(VLOOKUP(O171,漢字読み!$A$2:$O$502,7,0)=0,\"\",VLOOKUP(O171,漢字読み!$A$2:$O$502,7,0)))","v":"る"},{"$f":"IF(P171=\"\",\"\",IF(VLOOKUP(P171,漢字読み!$A$2:$O$502,7,0)=0,\"\",VLOOKUP(P171,漢字読み!$A$2:$O$502,7,0)))","v":""},{"$f":"IF(Q171=\"\",\"\",IF(VLOOKUP(Q171,漢字読み!$A$2:$O$502,7,0)=0,\"\",VLOOKUP(Q171,漢字読み!$A$2:$O$502,7,0)))","v":""},{"$f":"IF(R171=\"\",\"\",IF(VLOOKUP(R171,漢字読み!$A$2:$O$502,7,0)=0,\"\",VLOOKUP(R171,漢字読み!$A$2:$O$502,7,0)))","v":""},{"$f":"IF(S171=\"\",\"\",IF(VLOOKUP(S171,漢字読み!$A$2:$O$502,7,0)=0,\"\",VLOOKUP(S171,漢字読み!$A$2:$O$502,7,0)))","v":"とんぼ"},{"$f":"IF(T171=\"\",\"\",IF(VLOOKUP(T171,漢字読み!$A$2:$O$502,7,0)=0,\"\",VLOOKUP(T171,漢字読み!$A$2:$O$502,7,0)))","v":"はん"},null,null,"和歌山県教育委員会"]
[{"$f":"A166","v":155},{"$f":"B166","v":68},72,30,162,0,0,0,0,0,166,178,58,169,60,82,13,47,176,120]
["⑳","⑲","⑱","⑰","⑯","⑮","⑭","⑬","⑫","⑪","⑩","⑨","⑧","⑦","⑥","⑤","④","③","②","①","次の［　　　　］の部分の漢字には読みがなをひらがなで書き、カタカナは漢字に直しなさい。",15,"「漢字の博士検定試験」練習問題　"]
[{"$f":"IF(A176=\"\",\"\",VLOOKUP(A176,漢字書き!$A$2:$N$506,6,0))","v":"［ヒャクヤッ］つ"},{"$f":"IF(B176=\"\",\"\",VLOOKUP(B176,漢字書き!$A$2:$N$506,6,0))","v":"［ミミ］かきをする"},{"$f":"IF(C176=\"\",\"\",VLOOKUP(C176,漢字書き!$A$2:$N$506,6,0))","v":"［クルマ］にのる"},{"$f":"IF(D176=\"\",\"\",VLOOKUP(D176,漢字書き!$A$2:$N$506,6,0))","v":"［ココノ］つ"},{"$f":"IF(E176=\"\",\"\",VLOOKUP(E176,漢字書き!$A$2:$N$506,6,0))","v":"［ホンブン］をよむ"},{"$f":"IF(F176=\"\",\"\",VLOOKUP(F176,漢字書き!$A$2:$N$506,6,0))","v":{"$error":"#N/A"}},{"$f":"IF(G176=\"\",\"\",VLOOKUP(G176,漢字書き!$A$2:$N$506,6,0))","v":{"$error":"#N/A"}},{"$f":"IF(H176=\"\",\"\",VLOOKUP(H176,漢字書き!$A$2:$N$506,6,0))","v":{"$error":"#N/A"}},{"$f":"IF(I176=\"\",\"\",VLOOKUP(I176,漢字書き!$A$2:$N$506,6,0))","v":{"$error":"#N/A"}},{"$f":"IF(J176=\"\",\"\",VLOOKUP(J176,漢字書き!$A$2:$N$506,6,0))","v":{"$error":"#N/A"}},{"$f":"IF(K176=\"\",\"\",VLOOKUP(K176,漢字読み!$A$2:$O$506,6,0))","v":"［文学］をよむ"},{"$f":"IF(L176=\"\",\"\",VLOOKUP(L176,漢字読み!$A$2:$O$506,6,0))","v":"［立］たいもけい"},{"$f":"IF(M176=\"\",\"\",VLOOKUP(M176,漢字読み!$A$2:$O$506,6,0))","v":"［左手］をあげる"},{"$f":"IF(N176=\"\",\"\",VLOOKUP(N176,漢字読み!$A$2:$O$506,6,0))","v":"［木］のぼり"},{"$f":"IF(O176=\"\",\"\",VLOOKUP(O176,漢字読み!$A$2:$O$506,6,0))","v":"［三］つのねがい"},{"$f":"IF(P176=\"\",\"\",VLOOKUP(P176,漢字読み!$A$2:$O$506,6,0))","v":"［女］の子"},{"$f":"IF(Q176=\"\",\"\",VLOOKUP(Q176,漢字読み!$A$2:$O$506,6,0))","v":"［音］がひびく"},{"$f":"IF(R176=\"\",\"\",VLOOKUP(R176,漢字読み!$A$2:$O$506,6,0))","v":"［犬］をかう"},{"$f":"IF(S176=\"\",\"\",VLOOKUP(S176,漢字読み!$A$2:$O$506,6,0))","v":"［目］ひょうをもつ"},{"$f":"IF(T176=\"\",\"\",VLOOKUP(T176,漢字読み!$A$2:$O$506,6,0))","v":"［早］ちょうれんしゅう"},null,"級"]
[{"$f":"IF(A$16=\"\",\"\",VLOOKUP(A176,漢字書き!$A$2:$O$506,8,0))","v":"百八"},{"$f":"IF(B$16=\"\",\"\",VLOOKUP(B176,漢字書き!$A$2:$O$506,8,0))","v":"耳"},{"$f":"IF(C$16=\"\",\"\",VLOOKUP(C176,漢字書き!$A$2:$O$506,8,0))","v":"車"},{"$f":"IF(D$16=\"\",\"\",VLOOKUP(D176,漢字書き!$A$2:$O$506,8,0))","v":"九"},{"$f":"IF(E$16=\"\",\"\",VLOOKUP(E176,漢字書き!$A$2:$O$506,8,0))","v":"本文"},{"$f":"IF(F$16=\"\",\"\",VLOOKUP(F176,漢字書き!$A$2:$O$506,8,0))","v":{"$error":"#N/A"}},{"$f":"IF(G$16=\"\",\"\",VLOOKUP(G176,漢字書き!$A$2:$O$506,8,0))","v":{"$error":"#N/A"}},{"$f":"IF(H$16=\"\",\"\",VLOOKUP(H176,漢字書き!$A$2:$O$506,8,0))","v":{"$error":"#N/A"}},{"$f":"IF(I$16=\"\",\"\",VLOOKUP(I176,漢字書き!$A$2:$O$506,8,0))","v":{"$error":"#N/A"}},{"$f":"IF(J$16=\"\",\"\",VLOOKUP(J176,漢字書き!$A$2:$O$506,8,0))","v":{"$error":"#N/A"}},{"$f":"IF(K$16=\"\",\"\",VLOOKUP(K176,漢字読み!$A$2:$O$506,8,0))","v":"ぶんがく"},{"$f":"IF(L$16=\"\",\"\",VLOOKUP(L176,漢字読み!$A$2:$O$506,8,0))","v":"りっ"},{"$f":"IF(M$16=\"\",\"\",VLOOKUP(M176,漢字読み!$A$2:$O$506,8,0))","v":"ひだりて"},{"$f":"IF(N$16=\"\",\"\",VLOOKUP(N176,漢字読み!$A$2:$O$506,8,0))","v":"き"},{"$f":"IF(O$16=\"\",\"\",VLOOKUP(O176,漢字読み!$A$2:$O$506,8,0))","v":"みっ"},{"$f":"IF(P$16=\"\",\"\",VLOOKUP(P176,漢字読み!$A$2:$O$506,8,0))","v":"おんな"},{"$f":"IF(Q$16=\"\",\"\",VLOOKUP(Q176,漢字読み!$A$2:$O$506,8,0))","v":"おと"},{"$f":"IF(R$16=\"\",\"\",VLOOKUP(R176,漢字読み!$A$2:$O$506,8,0))","v":"いぬ"},{"$f":"IF(S$16=\"\",\"\",VLOOKUP(S176,漢字読み!$A$2:$O$506,8,0))","v":"もく"},{"$f":"IF(T$16=\"\",\"\",VLOOKUP(T176,漢字読み!$A$2:$O$506,8,0))","v":"そう"},null,"名前"]
[{"$f":"IF(A176=\"\",\"\",IF(VLOOKUP(A176,漢字書き!$A$2:$N$502,7,0)=0,\"\",VLOOKUP(A176,漢字書き!$A$2:$N$502,7,0)))","v":"つ"},{"$f":"IF(B176=\"\",\"\",IF(VLOOKUP(B176,漢字書き!$A$2:$N$502,7,0)=0,\"\",VLOOKUP(B176,漢字書き!$A$2:$N$502,7,0)))","v":"かき"},{"$f":"IF(C176=\"\",\"\",IF(VLOOKUP(C176,漢字書き!$A$2:$N$502,7,0)=0,\"\",VLOOKUP(C176,漢字書き!$A$2:$N$502,7,0)))","v":""},{"$f":"IF(D176=\"\",\"\",IF(VLOOKUP(D176,漢字書き!$A$2:$N$502,7,0)=0,\"\",VLOOKUP(D176,漢字書き!$A$2:$N$502,7,0)))","v":"つ"},{"$f":"IF(E176=\"\",\"\",IF(VLOOKUP(E176,漢字書き!$A$2:$N$502,7,0)=0,\"\",VLOOKUP(E176,漢字書き!$A$2:$N$502,7,0)))","v":""},{"$f":"IF(F176=\"\",\"\",IF(VLOOKUP(F176,漢字書き!$A$2:$N$502,7,0)=0,\"\",VLOOKUP(F176,漢字書き!$A$2:$N$502,7,0)))","v":{"$error":"#N/A"}},{"$f":"IF(G176=\"\",\"\",IF(VLOOKUP(G176,漢字書き!$A$2:$N$502,7,0)=0,\"\",VLOOKUP(G176,漢字書き!$A$2:$N$502,7,0)))","v":{"$error":"#N/A"}},{"$f":"IF(H176=\"\",\"\",IF(VLOOKUP(H176,漢字書き!$A$2:$N$502,7,0)=0,\"\",VLOOKUP(H176,漢字書き!$A$2:$N$502,7,0)))","v":{"$error":"#N/A"}},{"$f":"IF(I176=\"\",\"\",IF(VLOOKUP(I176,漢字書き!$A$2:$N$502,7,0)=0,\"\",VLOOKUP(I176,漢字書き!$A$2:$N$502,7,0)))","v":{"$error":"#N/A"}},{"$f":"IF(J176=\"\",\"\",IF(VLOOKUP(J176,漢字書き!$A$2:$N$502,7,0)=0,\"\",VLOOKUP(J176,漢字書き!$A$2:$N$502,7,0)))","v":{"$error":"#N/A"}},{"$f":"IF(K176=\"\",\"\",IF(VLOOKUP(K176,漢字読み!$A$2:$O$502,7,0)=0,\"\",VLOOKUP(K176,漢字読み!$A$2:$O$502,7,0)))","v":""},{"$f":"IF(L176=\"\",\"\",IF(VLOOKUP(L176,漢字読み!$A$2:$O$502,7,0)=0,\"\",VLOOKUP(L176,漢字読み!$A$2:$O$502,7,0)))","v":"たい"},{"$f":"IF(M176=\"\",\"\",IF(VLOOKUP(M176,漢字読み!$A$2:$O$502,7,0)=0,\"\",VLOOKUP(M176,漢字読み!$A$2:$O$502,7,0)))","v":""},{"$f":"IF(N176=\"\",\"\",IF(VLOOKUP(N176,漢字読み!$A$2:$O$502,7,0)=0,\"\",VLOOKUP(N176,漢字読み!$A$2:$O$502,7,0)))","v":"のぼり"},{"$f":"IF(O176=\"\",\"\",IF(VLOOKUP(O176,漢字読み!$A$2:$O$502,7,0)=0,\"\",VLOOKUP(O176,漢字読み!$A$2:$O$502,7,0)))","v":"つ"},{"$f":"IF(P176=\"\",\"\",IF(VLOOKUP(P176,漢字読み!$A$2:$O$502,7,0)=0,\"\",VLOOKUP(P176,漢字読み!$A$2:$O$502,7,0)))","v":""},{"$f":"IF(Q176=\"\",\"\",IF(VLOOKUP(Q176,漢字読み!$A$2:$O$502,7,0)=0,\"\",VLOOKUP(Q176,漢字読み!$A$2:$O$502,7,0)))","v":""},{"$f":"IF(R176=\"\",\"\",IF(VLOOKUP(R176,漢字読み!$A$2:$O$502,7,0)=0,\"\",VLOOKUP(R176,漢字読み!$A$2:$O$502,7,0)))","v":""},{"$f":"IF(S176=\"\",\"\",IF(VLOOKUP(S176,漢字読み!$A$2:$O$502,7,0)=0,\"\",VLOOKUP(S176,漢字読み!$A$2:$O$502,7,0)))","v":"ひょう"},{"$f":"IF(T176=\"\",\"\",IF(VLOOKUP(T176,漢字読み!$A$2:$O$502,7,0)=0,\"\",VLOOKUP(T176,漢字読み!$A$2:$O$502,7,0)))","v":"ちょう"},null,null,"和歌山県教育委員会"]
[{"$f":"INDIRECT(\"'関数（書き）'!C\" & COLUMN(B$1)+SUM($AD$2:$AD182))","v":0},{"$f":"INDIRECT(\"'関数（書き）'!C\" & COLUMN(C$1)+SUM($AD$2:$AD182))","v":0},{"$f":"INDIRECT(\"'関数（書き）'!C\" & COLUMN(D$1)+SUM($AD$2:$AD182))","v":0},{"$f":"INDIRECT(\"'関数（書き）'!C\" & COLUMN(E$1)+SUM($AD$2:$AD182))","v":0},{"$f":"INDIRECT(\"'関数（書き）'!C\" & COLUMN(F$1)+SUM($AD$2:$AD182))","v":0},{"$f":"INDIRECT(\"'関数（書き）'!C\" & COLUMN(G$1)+SUM($AD$2:$AD182))","v":0},{"$f":"INDIRECT(\"'関数（書き）'!C\" & COLUMN(H$1)+SUM($AD$2:$AD182))","v":0},{"$f":"INDIRECT(\"'関数（書き）'!C\" & COLUMN(I$1)+SUM($AD$2:$AD182))","v":0},{"$f":"INDIRECT(\"'関数（書き）'!C\" & COLUMN(J$1)+SUM($AD$2:$AD182))","v":0},{"$f":"INDIRECT(\"'関数（書き）'!C\" & COLUMN(K$1)+SUM($AD$2:$AD182))","v":0},{"$f":"INDIRECT(\"'関数（読み）'!C\" & COLUMN(B$1)+SUM($AD$2:$AD182))","v":146},{"$f":"INDIRECT(\"'関数（読み）'!C\" & COLUMN(C$1)+SUM($AD$2:$AD182))","v":48},{"$f":"INDIRECT(\"'関数（読み）'!C\" & COLUMN(D$1)+SUM($AD$2:$AD182))","v":186},{"$f":"INDIRECT(\"'関数（読み）'!C\" & COLUMN(E$1)+SUM($AD$2:$AD182))","v":142},{"$f":"INDIRECT(\"'関数（読み）'!C\" & COLUMN(F$1)+SUM($AD$2:$AD182))","v":102},{"$f":"INDIRECT(\"'関数（読み）'!C\" & COLUMN(G$1)+SUM($AD$2:$AD182))","v":63},{"$f":"INDIRECT(\"'関数（読み）'!C\" & COLUMN(H$1)+SUM($AD$2:$AD182))","v":0},{"$f":"INDIRECT(\"'関数（読み）'!C\" & COLUMN(I$1)+SUM($AD$2:$AD182))","v":0},{"$f":"INDIRECT(\"'関数（読み）'!C\" & COLUMN(J$1)+SUM($AD$2:$AD182))","v":0},{"$f":"INDIRECT(\"'関数（読み）'!C\" & COLUMN(K$1)+SUM($AD$2:$AD182))","v":0}]
["⑳","⑲","⑱","⑰","⑯","⑮","⑭","⑬","⑫","⑪","⑩","⑨","⑧","⑦","⑥","⑤","④","③","②","①","次の［　　　　］の部分の漢字には読みがなをひらがなで書き、カタカナは漢字に直しなさい。",15,"「漢字の博士検定試験」練習問題　",null,null,null,null,null,"←",10,"問",{"$f":"AH167+1","v":181},"～",{"$f":"SUM($AD$2:$AD182)+10","v":190},"問まで",{"$f":"COUNTIF($A$1:$T$200,T183)","v":195}]
[{"$f":"IF(A181=\"\",\"\",VLOOKUP(A181,漢字書き!$A$2:$N$506,6,0))","v":{"$error":"#N/A"}},{"$f":"IF(B181=\"\",\"\",VLOOKUP(B181,漢字書き!$A$2:$N$506,6,0))","v":{"$error":"#N/A"}},{"$f":"IF(C181=\"\",\"\",VLOOKUP(C181,漢字書き!$A$2:$N$506,6,0))","v":{"$error":"#N/A"}},{"$f":"IF(D181=\"\",\"\",VLOOKUP(D181,漢字書き!$A$2:$N$506,6,0))","v":{"$error":"#N/A"}},{"$f":"IF(E181=\"\",\"\",VLOOKUP(E181,漢字書き!$A$2:$N$506,6,0))","v":{"$error":"#N/A"}},{"$f":"IF(F181=\"\",\"\",VLOOKUP(F181,漢字書き!$A$2:$N$506,6,0))","v":{"$error":"#N/A"}},{"$f":"IF(G181=\"\",\"\",VLOOKUP(G181,漢字書き!$A$2:$N$506,6,0))","v":{"$error":"#N/A"}},{"$f":"IF(H181=\"\",\"\",VLOOKUP(H181,漢字書き!$A$2:$N$506,6,0))","v":{"$error":"#N/A"}},{"$f":"IF(I181=\"\",\"\",VLOOKUP(I181,漢字書き!$A$2:$N$506,6,0))","v":{"$error":"#N/A"}},{"$f":"IF(J181=\"\",\"\",VLOOKUP(J181,漢字書き!$A$2:$N$506,6,0))","v":{"$error":"#N/A"}},{"$f":"IF(K181=\"\",\"\",VLOOKUP(K181,漢字読み!$A$2:$O$506,6,0))","v":"かみねん［土］"},{"$f":"IF(L181=\"\",\"\",VLOOKUP(L181,漢字読み!$A$2:$O$506,6,0))","v":"こうじょうの［見学］"},{"$f":"IF(M181=\"\",\"\",VLOOKUP(M181,漢字読み!$A$2:$O$506,6,0))","v":"［六］つならぶ"},{"$f":"IF(N181=\"\",\"\",VLOOKUP(N181,漢字読み!$A$2:$O$506,6,0))","v":"［天］たいかんそく"},{"$f":"IF(O181=\"\",\"\",VLOOKUP(O181,漢字読み!$A$2:$O$506,6,0))","v":"はが［生］える"},{"$f":"IF(P181=\"\",\"\",VLOOKUP(P181,漢字読み!$A$2:$O$506,6,0))","v":"［子］ねこのせわ"},{"$f":"IF(Q181=\"\",\"\",VLOOKUP(Q181,漢字読み!$A$2:$O$506,6,0))","v":{"$error":"#N/A"}},{"$f":"IF(R181=\"\",\"\",VLOOKUP(R181,漢字読み!$A$2:$O$506,6,0))","v":{"$error":"#N/A"}},{"$f":"IF(S181=\"\",\"\",VLOOKUP(S181,漢字読み!$A$2:$O$506,6,0))","v":{"$error":"#N/A"}},{"$f":"IF(T181=\"\",\"\",VLOOKUP(T181,漢字読み!$A$2:$O$506,6,0))","v":{"$error":"#N/A"}},null,"級"]
[null,null,null,null,null,null,null,null,null,null,null,null,null,null,null,null,null,null,null,null,null,"名前"]
[{"$f":"IF(A181=\"\",\"\",IF(VLOOKUP(A181,漢字書き!$A$2:$N$502,7,0)=0,\"\",VLOOKUP(A181,漢字書き!$A$2:$N$502,7,0)))","v":{"$error":"#N/A"}},{"$f":"IF(B181=\"\",\"\",IF(VLOOKUP(B181,漢字書き!$A$2:$N$502,7,0)=0,\"\",VLOOKUP(B181,漢字書き!$A$2:$N$502,7,0)))","v":{"$error":"#N/A"}},{"$f":"IF(C181=\"\",\"\",IF(VLOOKUP(C181,漢字書き!$A$2:$N$502,7,0)=0,\"\",VLOOKUP(C181,漢字書き!$A$2:$N$502,7,0)))","v":{"$error":"#N/A"}},{"$f":"IF(D181=\"\",\"\",IF(VLOOKUP(D181,漢字書き!$A$2:$N$502,7,0)=0,\"\",VLOOKUP(D181,漢字書き!$A$2:$N$502,7,0)))","v":{"$error":"#N/A"}},{"$f":"IF(E181=\"\",\"\",IF(VLOOKUP(E181,漢字書き!$A$2:$N$502,7,0)=0,\"\",VLOOKUP(E181,漢字書き!$A$2:$N$502,7,0)))","v":{"$error":"#N/A"}},{"$f":"IF(F181=\"\",\"\",IF(VLOOKUP(F181,漢字書き!$A$2:$N$502,7,0)=0,\"\",VLOOKUP(F181,漢字書き!$A$2:$N$502,7,0)))","v":{"$error":"#N/A"}},{"$f":"IF(G181=\"\",\"\",IF(VLOOKUP(G181,漢字書き!$A$2:$N$502,7,0)=0,\"\",VLOOKUP(G181,漢字書き!$A$2:$N$502,7,0)))","v":{"$error":"#N/A"}},{"$f":"IF(H181=\"\",\"\",IF(VLOOKUP(H181,漢字書き!$A$2:$N$502,7,0)=0,\"\",VLOOKUP(H181,漢字書き!$A$2:$N$502,7,0)))","v":{"$error":"#N/A"}},{"$f":"IF(I181=\"\",\"\",IF(VLOOKUP(I181,漢字書き!$A$2:$N$502,7,0)=0,\"\",VLOOKUP(I181,漢字書き!$A$2:$N$502,7,0)))","v":{"$error":"#N/A"}},{"$f":"IF(J181=\"\",\"\",IF(VLOOKUP(J181,漢字書き!$A$2:$N$502,7,0)=0,\"\",VLOOKUP(J181,漢字書き!$A$2:$N$502,7,0)))","v":{"$error":"#N/A"}},{"$f":"IF(K181=\"\",\"\",IF(VLOOKUP(K181,漢字読み!$A$2:$O$502,7,0)=0,\"\",VLOOKUP(K181,漢字読み!$A$2:$O$502,7,0)))","v":""},{"$f":"IF(L181=\"\",\"\",IF(VLOOKUP(L181,漢字読み!$A$2:$O$502,7,0)=0,\"\",VLOOKUP(L181,漢字読み!$A$2:$O$502,7,0)))","v":""},{"$f":"IF(M181=\"\",\"\",IF(VLOOKUP(M181,漢字読み!$A$2:$O$502,7,0)=0,\"\",VLOOKUP(M181,漢字読み!$A$2:$O$502,7,0)))","v":"つ"},{"$f":"IF(N181=\"\",\"\",IF(VLOOKUP(N181,漢字読み!$A$2:$O$502,7,0)=0,\"\",VLOOKUP(N181,漢字読み!$A$2:$O$502,7,0)))","v":"たい"},{"$f":"IF(O181=\"\",\"\",IF(VLOOKUP(O181,漢字読み!$A$2:$O$502,7,0)=0,\"\",VLOOKUP(O181,漢字読み!$A$2:$O$502,7,0)))","v":"える"},{"$f":"IF(P181=\"\",\"\",IF(VLOOKUP(P181,漢字読み!$A$2:$O$502,7,0)=0,\"\",VLOOKUP(P181,漢字読み!$A$2:$O$502,7,0)))","v":"ねこ"},{"$f":"IF(Q181=\"\",\"\",IF(VLOOKUP(Q181,漢字読み!$A$2:$O$502,7,0)=0,\"\",VLOOKUP(Q181,漢字読み!$A$2:$O$502,7,0)))","v":{"$error":"#N/A"}},{"$f":"IF(R181=\"\",\"\",IF(VLOOKUP(R181,漢字読み!$A$2:$O$502,7,0)=0,\"\",VLOOKUP(R181,漢字読み!$A$2:$O$502,7,0)))","v":{"$error":"#N/A"}},{"$f":"IF(S181=\"\",\"\",IF(VLOOKUP(S181,漢字読み!$A$2:$O$502,7,0)=0,\"\",VLOOKUP(S181,漢字読み!$A$2:$O$502,7,0)))","v":{"$error":"#N/A"}},{"$f":"IF(T181=\"\",\"\",IF(VLOOKUP(T181,漢字読み!$A$2:$O$502,7,0)=0,\"\",VLOOKUP(T181,漢字読み!$A$2:$O$502,7,0)))","v":{"$error":"#N/A"}},null,null,"和歌山県教育委員会"]
[{"$f":"INDIRECT(\"'関数（書き）'!C\" & COLUMN(B$1)+SUM($AD$2:$AD187))","v":0},{"$f":"INDIRECT(\"'関数（書き）'!C\" & COLUMN(C$1)+SUM($AD$2:$AD187))","v":0},{"$f":"INDIRECT(\"'関数（書き）'!C\" & COLUMN(D$1)+SUM($AD$2:$AD187))","v":0},{"$f":"INDIRECT(\"'関数（書き）'!C\" & COLUMN(E$1)+SUM($AD$2:$AD187))","v":0},{"$f":"INDIRECT(\"'関数（書き）'!C\" & COLUMN(F$1)+SUM($AD$2:$AD187))","v":0},{"$f":"INDIRECT(\"'関数（書き）'!C\" & COLUMN(G$1)+SUM($AD$2:$AD187))","v":0},{"$f":"INDIRECT(\"'関数（書き）'!C\" & COLUMN(H$1)+SUM($AD$2:$AD187))","v":0},{"$f":"INDIRECT(\"'関数（書き）'!C\" & COLUMN(I$1)+SUM($AD$2:$AD187))","v":0},{"$f":"INDIRECT(\"'関数（書き）'!C\" & COLUMN(J$1)+SUM($AD$2:$AD187))","v":0},{"$f":"INDIRECT(\"'関数（書き）'!C\" & COLUMN(K$1)+SUM($AD$2:$AD187))","v":0},{"$f":"INDIRECT(\"'関数（読み）'!C\" & COLUMN(B$1)+SUM($AD$2:$AD187))","v":0},{"$f":"INDIRECT(\"'関数（読み）'!C\" & COLUMN(C$1)+SUM($AD$2:$AD187))","v":0},{"$f":"INDIRECT(\"'関数（読み）'!C\" & COLUMN(D$1)+SUM($AD$2:$AD187))","v":0},{"$f":"INDIRECT(\"'関数（読み）'!C\" & COLUMN(E$1)+SUM($AD$2:$AD187))","v":0},{"$f":"INDIRECT(\"'関数（読み）'!C\" & COLUMN(F$1)+SUM($AD$2:$AD187))","v":0},{"$f":"INDIRECT(\"'関数（読み）'!C\" & COLUMN(G$1)+SUM($AD$2:$AD187))","v":0},{"$f":"INDIRECT(\"'関数（読み）'!C\" & COLUMN(H$1)+SUM($AD$2:$AD187))","v":0},{"$f":"INDIRECT(\"'関数（読み）'!C\" & COLUMN(I$1)+SUM($AD$2:$AD187))","v":0},{"$f":"INDIRECT(\"'関数（読み）'!C\" & COLUMN(J$1)+SUM($AD$2:$AD187))","v":0},{"$f":"INDIRECT(\"'関数（読み）'!C\" & COLUMN(K$1)+SUM($AD$2:$AD187))","v":0}]
["⑳","⑲","⑱","⑰","⑯","⑮","⑭","⑬","⑫","⑪","⑩","⑨","⑧","⑦","⑥","⑤","④","③","②","①","次の［　　　　］の部分の漢字には読みがなをひらがなで書き、カタカナは漢字に直しなさい。",15,"「漢字の博士検定試験」練習問題　",null,null,null,null,null,"←",10,"問",{"$f":"AH182+1","v":191},"～",{"$f":"SUM($AD$2:$AD187)+10","v":200},"問まで",{"$f":"COUNTIF($A$1:$T$200,T188)","v":195}]
[{"$f":"IF(A186=\"\",\"\",VLOOKUP(A186,漢字書き!$A$2:$N$506,6,0))","v":{"$error":"#N/A"}},{"$f":"IF(B186=\"\",\"\",VLOOKUP(B186,漢字書き!$A$2:$N$506,6,0))","v":{"$error":"#N/A"}},{"$f":"IF(C186=\"\",\"\",VLOOKUP(C186,漢字書き!$A$2:$N$506,6,0))","v":{"$error":"#N/A"}},{"$f":"IF(D186=\"\",\"\",VLOOKUP(D186,漢字書き!$A$2:$N$506,6,0))","v":{"$error":"#N/A"}},{"$f":"IF(E186=\"\",\"\",VLOOKUP(E186,漢字書き!$A$2:$N$506,6,0))","v":{"$error":"#N/A"}},{"$f":"IF(F186=\"\",\"\",VLOOKUP(F186,漢字書き!$A$2:$N$506,6,0))","v":{"$error":"#N/A"}},{"$f":"IF(G186=\"\",\"\",VLOOKUP(G186,漢字書き!$A$2:$N$506,6,0))","v":{"$error":"#N/A"}},{"$f":"IF(H186=\"\",\"\",VLOOKUP(H186,漢字書き!$A$2:$N$506,6,0))","v":{"$error":"#N/A"}},{"$f":"IF(I186=\"\",\"\",VLOOKUP(I186,漢字書き!$A$2:$N$506,6,0))","v":{"$error":"#N/A"}},{"$f":"IF(J186=\"\",\"\",VLOOKUP(J186,漢字書き!$A$2:$N$506,6,0))","v":{"$error":"#N/A"}},{"$f":"IF(K186=\"\",\"\",VLOOKUP(K186,漢字読み!$A$2:$O$506,6,0))","v":{"$error":"#N/A"}},{"$f":"IF(L186=\"\",\"\",VLOOKUP(L186,漢字読み!$A$2:$O$506,6,0))","v":{"$error":"#N/A"}},{"$f":"IF(M186=\"\",\"\",VLOOKUP(M186,漢字読み!$A$2:$O$506,6,0))","v":{"$error":"#N/A"}},{"$f":"IF(N186=\"\",\"\",VLOOKUP(N186,漢字読み!$A$2:$O$506,6,0))","v":{"$error":"#N/A"}},{"$f":"IF(O186=\"\",\"\",VLOOKUP(O186,漢字読み!$A$2:$O$506,6,0))","v":{"$error":"#N/A"}},{"$f":"IF(P186=\"\",\"\",VLOOKUP(P186,漢字読み!$A$2:$O$506,6,0))","v":{"$error":"#N/A"}},{"$f":"IF(Q186=\"\",\"\",VLOOKUP(Q186,漢字読み!$A$2:$O$506,6,0))","v":{"$error":"#N/A"}},{"$f":"IF(R186=\"\",\"\",VLOOKUP(R186,漢字読み!$A$2:$O$506,6,0))","v":{"$error":"#N/A"}},{"$f":"IF(S186=\"\",\"\",VLOOKUP(S186,漢字読み!$A$2:$O$506,6,0))","v":{"$error":"#N/A"}},{"$f":"IF(T186=\"\",\"\",VLOOKUP(T186,漢字読み!$A$2:$O$506,6,0))","v":{"$error":"#N/A"}},null,"級"]
[null,null,null,null,null,null,null,null,null,null,null,null,null,null,null,null,null,null,null,null,null,"名前"]
[{"$f":"IF(A186=\"\",\"\",IF(VLOOKUP(A186,漢字書き!$A$2:$N$502,7,0)=0,\"\",VLOOKUP(A186,漢字書き!$A$2:$N$502,7,0)))","v":{"$error":"#N/A"}},{"$f":"IF(B186=\"\",\"\",IF(VLOOKUP(B186,漢字書き!$A$2:$N$502,7,0)=0,\"\",VLOOKUP(B186,漢字書き!$A$2:$N$502,7,0)))","v":{"$error":"#N/A"}},{"$f":"IF(C186=\"\",\"\",IF(VLOOKUP(C186,漢字書き!$A$2:$N$502,7,0)=0,\"\",VLOOKUP(C186,漢字書き!$A$2:$N$502,7,0)))","v":{"$error":"#N/A"}},{"$f":"IF(D186=\"\",\"\",IF(VLOOKUP(D186,漢字書き!$A$2:$N$502,7,0)=0,\"\",VLOOKUP(D186,漢字書き!$A$2:$N$502,7,0)))","v":{"$error":"#N/A"}},{"$f":"IF(E186=\"\",\"\",IF(VLOOKUP(E186,漢字書き!$A$2:$N$502,7,0)=0,\"\",VLOOKUP(E186,漢字書き!$A$2:$N$502,7,0)))","v":{"$error":"#N/A"}},{"$f":"IF(F186=\"\",\"\",IF(VLOOKUP(F186,漢字書き!$A$2:$N$502,7,0)=0,\"\",VLOOKUP(F186,漢字書き!$A$2:$N$502,7,0)))","v":{"$error":"#N/A"}},{"$f":"IF(G186=\"\",\"\",IF(VLOOKUP(G186,漢字書き!$A$2:$N$502,7,0)=0,\"\",VLOOKUP(G186,漢字書き!$A$2:$N$502,7,0)))","v":{"$error":"#N/A"}},{"$f":"IF(H186=\"\",\"\",IF(VLOOKUP(H186,漢字書き!$A$2:$N$502,7,0)=0,\"\",VLOOKUP(H186,漢字書き!$A$2:$N$502,7,0)))","v":{"$error":"#N/A"}},{"$f":"IF(I186=\"\",\"\",IF(VLOOKUP(I186,漢字書き!$A$2:$N$502,7,0)=0,\"\",VLOOKUP(I186,漢字書き!$A$2:$N$502,7,0)))","v":{"$error":"#N/A"}},{"$f":"IF(J186=\"\",\"\",IF(VLOOKUP(J186,漢字書き!$A$2:$N$502,7,0)=0,\"\",VLOOKUP(J186,漢字書き!$A$2:$N$502,7,0)))","v":{"$error":"#N/A"}},{"$f":"IF(K186=\"\",\"\",IF(VLOOKUP(K186,漢字読み!$A$2:$O$502,7,0)=0,\"\",VLOOKUP(K186,漢字読み!$A$2:$O$502,7,0)))","v":{"$error":"#N/A"}},{"$f":"IF(L186=\"\",\"\",IF(VLOOKUP(L186,漢字読み!$A$2:$O$502,7,0)=0,\"\",VLOOKUP(L186,漢字読み!$A$2:$O$502,7,0)))","v":{"$error":"#N/A"}},{"$f":"IF(M186=\"\",\"\",IF(VLOOKUP(M186,漢字読み!$A$2:$O$502,7,0)=0,\"\",VLOOKUP(M186,漢字読み!$A$2:$O$502,7,0)))","v":{"$error":"#N/A"}},{"$f":"IF(N186=\"\",\"\",IF(VLOOKUP(N186,漢字読み!$A$2:$O$502,7,0)=0,\"\",VLOOKUP(N186,漢字読み!$A$2:$O$502,7,0)))","v":{"$error":"#N/A"}},{"$f":"IF(O186=\"\",\"\",IF(VLOOKUP(O186,漢字読み!$A$2:$O$502,7,0)=0,\"\",VLOOKUP(O186,漢字読み!$A$2:$O$502,7,0)))","v":{"$error":"#N/A"}},{"$f":"IF(P186=\"\",\"\",IF(VLOOKUP(P186,漢字読み!$A$2:$O$502,7,0)=0,\"\",VLOOKUP(P186,漢字読み!$A$2:$O$502,7,0)))","v":{"$error":"#N/A"}},{"$f":"IF(Q186=\"\",\"\",IF(VLOOKUP(Q186,漢字読み!$A$2:$O$502,7,0)=0,\"\",VLOOKUP(Q186,漢字読み!$A$2:$O$502,7,0)))","v":{"$error":"#N/A"}},{"$f":"IF(R186=\"\",\"\",IF(VLOOKUP(R186,漢字読み!$A$2:$O$502,7,0)=0,\"\",VLOOKUP(R186,漢字読み!$A$2:$O$502,7,0)))","v":{"$error":"#N/A"}},{"$f":"IF(S186=\"\",\"\",IF(VLOOKUP(S186,漢字読み!$A$2:$O$502,7,0)=0,\"\",VLOOKUP(S186,漢字読み!$A$2:$O$502,7,0)))","v":{"$error":"#N/A"}},{"$f":"IF(T186=\"\",\"\",IF(VLOOKUP(T186,漢字読み!$A$2:$O$502,7,0)=0,\"\",VLOOKUP(T186,漢字読み!$A$2:$O$502,7,0)))","v":{"$error":"#N/A"}},null,null,"和歌山県教育委員会"]
[{"$f":"A181","v":0},{"$f":"B181","v":0},0,0,0,0,0,0,0,0,146,48,186,142,102,63,0,0,0,0]
["⑳","⑲","⑱","⑰","⑯","⑮","⑭","⑬","⑫","⑪","⑩","⑨","⑧","⑦","⑥","⑤","④","③","②","①","次の［　　　　］の部分の漢字には読みがなをひらがなで書き、カタカナは漢字に直しなさい。",15,"「漢字の博士検定試験」練習問題　"]
[{"$f":"IF(A191=\"\",\"\",VLOOKUP(A191,漢字書き!$A$2:$N$506,6,0))","v":{"$error":"#N/A"}},{"$f":"IF(B191=\"\",\"\",VLOOKUP(B191,漢字書き!$A$2:$N$506,6,0))","v":{"$error":"#N/A"}},{"$f":"IF(C191=\"\",\"\",VLOOKUP(C191,漢字書き!$A$2:$N$506,6,0))","v":{"$error":"#N/A"}},{"$f":"IF(D191=\"\",\"\",VLOOKUP(D191,漢字書き!$A$2:$N$506,6,0))","v":{"$error":"#N/A"}},{"$f":"IF(E191=\"\",\"\",VLOOKUP(E191,漢字書き!$A$2:$N$506,6,0))","v":{"$error":"#N/A"}},{"$f":"IF(F191=\"\",\"\",VLOOKUP(F191,漢字書き!$A$2:$N$506,6,0))","v":{"$error":"#N/A"}},{"$f":"IF(G191=\"\",\"\",VLOOKUP(G191,漢字書き!$A$2:$N$506,6,0))","v":{"$error":"#N/A"}},{"$f":"IF(H191=\"\",\"\",VLOOKUP(H191,漢字書き!$A$2:$N$506,6,0))","v":{"$error":"#N/A"}},{"$f":"IF(I191=\"\",\"\",VLOOKUP(I191,漢字書き!$A$2:$N$506,6,0))","v":{"$error":"#N/A"}},{"$f":"IF(J191=\"\",\"\",VLOOKUP(J191,漢字書き!$A$2:$N$506,6,0))","v":{"$error":"#N/A"}},{"$f":"IF(K191=\"\",\"\",VLOOKUP(K191,漢字読み!$A$2:$O$506,6,0))","v":"かみねん［土］"},{"$f":"IF(L191=\"\",\"\",VLOOKUP(L191,漢字読み!$A$2:$O$506,6,0))","v":"こうじょうの［見学］"},{"$f":"IF(M191=\"\",\"\",VLOOKUP(M191,漢字読み!$A$2:$O$506,6,0))","v":"［六］つならぶ"},{"$f":"IF(N191=\"\",\"\",VLOOKUP(N191,漢字読み!$A$2:$O$506,6,0))","v":"［天］たいかんそく"},{"$f":"IF(O191=\"\",\"\",VLOOKUP(O191,漢字読み!$A$2:$O$506,6,0))","v":"はが［生］える"},{"$f":"IF(P191=\"\",\"\",VLOOKUP(P191,漢字読み!$A$2:$O$506,6,0))","v":"［子］ねこのせわ"},{"$f":"IF(Q191=\"\",\"\",VLOOKUP(Q191,漢字読み!$A$2:$O$506,6,0))","v":{"$error":"#N/A"}},{"$f":"IF(R191=\"\",\"\",VLOOKUP(R191,漢字読み!$A$2:$O$506,6,0))","v":{"$error":"#N/A"}},{"$f":"IF(S191=\"\",\"\",VLOOKUP(S191,漢字読み!$A$2:$O$506,6,0))","v":{"$error":"#N/A"}},{"$f":"IF(T191=\"\",\"\",VLOOKUP(T191,漢字読み!$A$2:$O$506,6,0))","v":{"$error":"#N/A"}},null,"級"]
[{"$f":"IF(A$11=\"\",\"\",VLOOKUP(A191,漢字書き!$A$2:$O$506,8,0))","v":{"$error":"#N/A"}},{"$f":"IF(B$11=\"\",\"\",VLOOKUP(B191,漢字書き!$A$2:$O$506,8,0))","v":{"$error":"#N/A"}},{"$f":"IF(C$11=\"\",\"\",VLOOKUP(C191,漢字書き!$A$2:$O$506,8,0))","v":{"$error":"#N/A"}},{"$f":"IF(D$11=\"\",\"\",VLOOKUP(D191,漢字書き!$A$2:$O$506,8,0))","v":{"$error":"#N/A"}},{"$f":"IF(E$11=\"\",\"\",VLOOKUP(E191,漢字書き!$A$2:$O$506,8,0))","v":{"$error":"#N/A"}},{"$f":"IF(F$11=\"\",\"\",VLOOKUP(F191,漢字書き!$A$2:$O$506,8,0))","v":{"$error":"#N/A"}},{"$f":"IF(G$11=\"\",\"\",VLOOKUP(G191,漢字書き!$A$2:$O$506,8,0))","v":{"$error":"#N/A"}},{"$f":"IF(H$11=\"\",\"\",VLOOKUP(H191,漢字書き!$A$2:$O$506,8,0))","v":{"$error":"#N/A"}},{"$f":"IF(I$11=\"\",\"\",VLOOKUP(I191,漢字書き!$A$2:$O$506,8,0))","v":{"$error":"#N/A"}},{"$f":"IF(J$11=\"\",\"\",VLOOKUP(J191,漢字書き!$A$2:$O$506,8,0))","v":{"$error":"#N/A"}},{"$f":"IF(K$11=\"\",\"\",VLOOKUP(K191,漢字読み!$A$2:$O$506,8,0))","v":"ど"},{"$f":"IF(L$11=\"\",\"\",VLOOKUP(L191,漢字読み!$A$2:$O$506,8,0))","v":"けんがく"},{"$f":"IF(M$11=\"\",\"\",VLOOKUP(M191,漢字読み!$A$2:$O$506,8,0))","v":"むっ"},{"$f":"IF(N$11=\"\",\"\",VLOOKUP(N191,漢字読み!$A$2:$O$506,8,0))","v":"てん"},{"$f":"IF(O$11=\"\",\"\",VLOOKUP(O191,漢字読み!$A$2:$O$506,8,0))","v":"は"},{"$f":"IF(P$11=\"\",\"\",VLOOKUP(P191,漢字読み!$A$2:$O$506,8,0))","v":"こ"},{"$f":"IF(Q$11=\"\",\"\",VLOOKUP(Q191,漢字読み!$A$2:$O$506,8,0))","v":{"$error":"#N/A"}},{"$f":"IF(R$11=\"\",\"\",VLOOKUP(R191,漢字読み!$A$2:$O$506,8,0))","v":{"$error":"#N/A"}},{"$f":"IF(S$11=\"\",\"\",VLOOKUP(S191,漢字読み!$A$2:$O$506,8,0))","v":{"$error":"#N/A"}},{"$f":"IF(T$11=\"\",\"\",VLOOKUP(T191,漢字読み!$A$2:$O$506,8,0))","v":{"$error":"#N/A"}},null,"名前"]
[{"$f":"IF(A191=\"\",\"\",IF(VLOOKUP(A191,漢字書き!$A$2:$N$502,7,0)=0,\"\",VLOOKUP(A191,漢字書き!$A$2:$N$502,7,0)))","v":{"$error":"#N/A"}},{"$f":"IF(B191=\"\",\"\",IF(VLOOKUP(B191,漢字書き!$A$2:$N$502,7,0)=0,\"\",VLOOKUP(B191,漢字書き!$A$2:$N$502,7,0)))","v":{"$error":"#N/A"}},{"$f":"IF(C191=\"\",\"\",IF(VLOOKUP(C191,漢字書き!$A$2:$N$502,7,0)=0,\"\",VLOOKUP(C191,漢字書き!$A$2:$N$502,7,0)))","v":{"$error":"#N/A"}},{"$f":"IF(D191=\"\",\"\",IF(VLOOKUP(D191,漢字書き!$A$2:$N$502,7,0)=0,\"\",VLOOKUP(D191,漢字書き!$A$2:$N$502,7,0)))","v":{"$error":"#N/A"}},{"$f":"IF(E191=\"\",\"\",IF(VLOOKUP(E191,漢字書き!$A$2:$N$502,7,0)=0,\"\",VLOOKUP(E191,漢字書き!$A$2:$N$502,7,0)))","v":{"$error":"#N/A"}},{"$f":"IF(F191=\"\",\"\",IF(VLOOKUP(F191,漢字書き!$A$2:$N$502,7,0)=0,\"\",VLOOKUP(F191,漢字書き!$A$2:$N$502,7,0)))","v":{"$error":"#N/A"}},{"$f":"IF(G191=\"\",\"\",IF(VLOOKUP(G191,漢字書き!$A$2:$N$502,7,0)=0,\"\",VLOOKUP(G191,漢字書き!$A$2:$N$502,7,0)))","v":{"$error":"#N/A"}},{"$f":"IF(H191=\"\",\"\",IF(VLOOKUP(H191,漢字書き!$A$2:$N$502,7,0)=0,\"\",VLOOKUP(H191,漢字書き!$A$2:$N$502,7,0)))","v":{"$error":"#N/A"}},{"$f":"IF(I191=\"\",\"\",IF(VLOOKUP(I191,漢字書き!$A$2:$N$502,7,0)=0,\"\",VLOOKUP(I191,漢字書き!$A$2:$N$502,7,0)))","v":{"$error":"#N/A"}},{"$f":"IF(J191=\"\",\"\",IF(VLOOKUP(J191,漢字書き!$A$2:$N$502,7,0)=0,\"\",VLOOKUP(J191,漢字書き!$A$2:$N$502,7,0)))","v":{"$error":"#N/A"}},{"$f":"IF(K191=\"\",\"\",IF(VLOOKUP(K191,漢字読み!$A$2:$O$502,7,0)=0,\"\",VLOOKUP(K191,漢字読み!$A$2:$O$502,7,0)))","v":""},{"$f":"IF(L191=\"\",\"\",IF(VLOOKUP(L191,漢字読み!$A$2:$O$502,7,0)=0,\"\",VLOOKUP(L191,漢字読み!$A$2:$O$502,7,0)))","v":""},{"$f":"IF(M191=\"\",\"\",IF(VLOOKUP(M191,漢字読み!$A$2:$O$502,7,0)=0,\"\",VLOOKUP(M191,漢字読み!$A$2:$O$502,7,0)))","v":"つ"},{"$f":"IF(N191=\"\",\"\",IF(VLOOKUP(N191,漢字読み!$A$2:$O$502,7,0)=0,\"\",VLOOKUP(N191,漢字読み!$A$2:$O$502,7,0)))","v":"たい"},{"$f":"IF(O191=\"\",\"\",IF(VLOOKUP(O191,漢字読み!$A$2:$O$502,7,0)=0,\"\",VLOOKUP(O191,漢字読み!$A$2:$O$502,7,0)))","v":"える"},{"$f":"IF(P191=\"\",\"\",IF(VLOOKUP(P191,漢字読み!$A$2:$O$502,7,0)=0,\"\",VLOOKUP(P191,漢字読み!$A$2:$O$502,7,0)))","v":"ねこ"},{"$f":"IF(Q191=\"\",\"\",IF(VLOOKUP(Q191,漢字読み!$A$2:$O$502,7,0)=0,\"\",VLOOKUP(Q191,漢字読み!$A$2:$O$502,7,0)))","v":{"$error":"#N/A"}},{"$f":"IF(R191=\"\",\"\",IF(VLOOKUP(R191,漢字読み!$A$2:$O$502,7,0)=0,\"\",VLOOKUP(R191,漢字読み!$A$2:$O$502,7,0)))","v":{"$error":"#N/A"}},{"$f":"IF(S191=\"\",\"\",IF(VLOOKUP(S191,漢字読み!$A$2:$O$502,7,0)=0,\"\",VLOOKUP(S191,漢字読み!$A$2:$O$502,7,0)))","v":{"$error":"#N/A"}},{"$f":"IF(T191=\"\",\"\",IF(VLOOKUP(T191,漢字読み!$A$2:$O$502,7,0)=0,\"\",VLOOKUP(T191,漢字読み!$A$2:$O$502,7,0)))","v":{"$error":"#N/A"}},null,null,"和歌山県教育委員会"]
[{"$f":"A186","v":0},{"$f":"B186","v":0},0,0,0,0,0,0,0,0,0,0,0,0,0,0,0,0,0,0]
["⑳","⑲","⑱","⑰","⑯","⑮","⑭","⑬","⑫","⑪","⑩","⑨","⑧","⑦","⑥","⑤","④","③","②","①","次の［　　　　］の部分の漢字には読みがなをひらがなで書き、カタカナは漢字に直しなさい。",15,"「漢字の博士検定試験」練習問題　"]
[{"$f":"IF(A196=\"\",\"\",VLOOKUP(A196,漢字書き!$A$2:$N$506,6,0))","v":{"$error":"#N/A"}},{"$f":"IF(B196=\"\",\"\",VLOOKUP(B196,漢字書き!$A$2:$N$506,6,0))","v":{"$error":"#N/A"}},{"$f":"IF(C196=\"\",\"\",VLOOKUP(C196,漢字書き!$A$2:$N$506,6,0))","v":{"$error":"#N/A"}},{"$f":"IF(D196=\"\",\"\",VLOOKUP(D196,漢字書き!$A$2:$N$506,6,0))","v":{"$error":"#N/A"}},{"$f":"IF(E196=\"\",\"\",VLOOKUP(E196,漢字書き!$A$2:$N$506,6,0))","v":{"$error":"#N/A"}},{"$f":"IF(F196=\"\",\"\",VLOOKUP(F196,漢字書き!$A$2:$N$506,6,0))","v":{"$error":"#N/A"}},{"$f":"IF(G196=\"\",\"\",VLOOKUP(G196,漢字書き!$A$2:$N$506,6,0))","v":{"$error":"#N/A"}},{"$f":"IF(H196=\"\",\"\",VLOOKUP(H196,漢字書き!$A$2:$N$506,6,0))","v":{"$error":"#N/A"}},{"$f":"IF(I196=\"\",\"\",VLOOKUP(I196,漢字書き!$A$2:$N$506,6,0))","v":{"$error":"#N/A"}},{"$f":"IF(J196=\"\",\"\",VLOOKUP(J196,漢字書き!$A$2:$N$506,6,0))","v":{"$error":"#N/A"}},{"$f":"IF(K196=\"\",\"\",VLOOKUP(K196,漢字読み!$A$2:$O$506,6,0))","v":{"$error":"#N/A"}},{"$f":"IF(L196=\"\",\"\",VLOOKUP(L196,漢字読み!$A$2:$O$506,6,0))","v":{"$error":"#N/A"}},{"$f":"IF(M196=\"\",\"\",VLOOKUP(M196,漢字読み!$A$2:$O$506,6,0))","v":{"$error":"#N/A"}},{"$f":"IF(N196=\"\",\"\",VLOOKUP(N196,漢字読み!$A$2:$O$506,6,0))","v":{"$error":"#N/A"}},{"$f":"IF(O196=\"\",\"\",VLOOKUP(O196,漢字読み!$A$2:$O$506,6,0))","v":{"$error":"#N/A"}},{"$f":"IF(P196=\"\",\"\",VLOOKUP(P196,漢字読み!$A$2:$O$506,6,0))","v":{"$error":"#N/A"}},{"$f":"IF(Q196=\"\",\"\",VLOOKUP(Q196,漢字読み!$A$2:$O$506,6,0))","v":{"$error":"#N/A"}},{"$f":"IF(R196=\"\",\"\",VLOOKUP(R196,漢字読み!$A$2:$O$506,6,0))","v":{"$error":"#N/A"}},{"$f":"IF(S196=\"\",\"\",VLOOKUP(S196,漢字読み!$A$2:$O$506,6,0))","v":{"$error":"#N/A"}},{"$f":"IF(T196=\"\",\"\",VLOOKUP(T196,漢字読み!$A$2:$O$506,6,0))","v":{"$error":"#N/A"}},null,"級"]
[{"$f":"IF(A$16=\"\",\"\",VLOOKUP(A196,漢字書き!$A$2:$O$506,8,0))","v":{"$error":"#N/A"}},{"$f":"IF(B$16=\"\",\"\",VLOOKUP(B196,漢字書き!$A$2:$O$506,8,0))","v":{"$error":"#N/A"}},{"$f":"IF(C$16=\"\",\"\",VLOOKUP(C196,漢字書き!$A$2:$O$506,8,0))","v":{"$error":"#N/A"}},{"$f":"IF(D$16=\"\",\"\",VLOOKUP(D196,漢字書き!$A$2:$O$506,8,0))","v":{"$error":"#N/A"}},{"$f":"IF(E$16=\"\",\"\",VLOOKUP(E196,漢字書き!$A$2:$O$506,8,0))","v":{"$error":"#N/A"}},{"$f":"IF(F$16=\"\",\"\",VLOOKUP(F196,漢字書き!$A$2:$O$506,8,0))","v":{"$error":"#N/A"}},{"$f":"IF(G$16=\"\",\"\",VLOOKUP(G196,漢字書き!$A$2:$O$506,8,0))","v":{"$error":"#N/A"}},{"$f":"IF(H$16=\"\",\"\",VLOOKUP(H196,漢字書き!$A$2:$O$506,8,0))","v":{"$error":"#N/A"}},{"$f":"IF(I$16=\"\",\"\",VLOOKUP(I196,漢字書き!$A$2:$O$506,8,0))","v":{"$error":"#N/A"}},{"$f":"IF(J$16=\"\",\"\",VLOOKUP(J196,漢字書き!$A$2:$O$506,8,0))","v":{"$error":"#N/A"}},{"$f":"IF(K$16=\"\",\"\",VLOOKUP(K196,漢字読み!$A$2:$O$506,8,0))","v":{"$error":"#N/A"}},{"$f":"IF(L$16=\"\",\"\",VLOOKUP(L196,漢字読み!$A$2:$O$506,8,0))","v":{"$error":"#N/A"}},{"$f":"IF(M$16=\"\",\"\",VLOOKUP(M196,漢字読み!$A$2:$O$506,8,0))","v":{"$error":"#N/A"}},{"$f":"IF(N$16=\"\",\"\",VLOOKUP(N196,漢字読み!$A$2:$O$506,8,0))","v":{"$error":"#N/A"}},{"$f":"IF(O$16=\"\",\"\",VLOOKUP(O196,漢字読み!$A$2:$O$506,8,0))","v":{"$error":"#N/A"}},{"$f":"IF(P$16=\"\",\"\",VLOOKUP(P196,漢字読み!$A$2:$O$506,8,0))","v":{"$error":"#N/A"}},{"$f":"IF(Q$16=\"\",\"\",VLOOKUP(Q196,漢字読み!$A$2:$O$506,8,0))","v":{"$error":"#N/A"}},{"$f":"IF(R$16=\"\",\"\",VLOOKUP(R196,漢字読み!$A$2:$O$506,8,0))","v":{"$error":"#N/A"}},{"$f":"IF(S$16=\"\",\"\",VLOOKUP(S196,漢字読み!$A$2:$O$506,8,0))","v":{"$error":"#N/A"}},{"$f":"IF(T$16=\"\",\"\",VLOOKUP(T196,漢字読み!$A$2:$O$506,8,0))","v":{"$error":"#N/A"}},null,"名前"]
[{"$f":"IF(A196=\"\",\"\",IF(VLOOKUP(A196,漢字書き!$A$2:$N$502,7,0)=0,\"\",VLOOKUP(A196,漢字書き!$A$2:$N$502,7,0)))","v":{"$error":"#N/A"}},{"$f":"IF(B196=\"\",\"\",IF(VLOOKUP(B196,漢字書き!$A$2:$N$502,7,0)=0,\"\",VLOOKUP(B196,漢字書き!$A$2:$N$502,7,0)))","v":{"$error":"#N/A"}},{"$f":"IF(C196=\"\",\"\",IF(VLOOKUP(C196,漢字書き!$A$2:$N$502,7,0)=0,\"\",VLOOKUP(C196,漢字書き!$A$2:$N$502,7,0)))","v":{"$error":"#N/A"}},{"$f":"IF(D196=\"\",\"\",IF(VLOOKUP(D196,漢字書き!$A$2:$N$502,7,0)=0,\"\",VLOOKUP(D196,漢字書き!$A$2:$N$502,7,0)))","v":{"$error":"#N/A"}},{"$f":"IF(E196=\"\",\"\",IF(VLOOKUP(E196,漢字書き!$A$2:$N$502,7,0)=0,\"\",VLOOKUP(E196,漢字書き!$A$2:$N$502,7,0)))","v":{"$error":"#N/A"}},{"$f":"IF(F196=\"\",\"\",IF(VLOOKUP(F196,漢字書き!$A$2:$N$502,7,0)=0,\"\",VLOOKUP(F196,漢字書き!$A$2:$N$502,7,0)))","v":{"$error":"#N/A"}},{"$f":"IF(G196=\"\",\"\",IF(VLOOKUP(G196,漢字書き!$A$2:$N$502,7,0)=0,\"\",VLOOKUP(G196,漢字書き!$A$2:$N$502,7,0)))","v":{"$error":"#N/A"}},{"$f":"IF(H196=\"\",\"\",IF(VLOOKUP(H196,漢字書き!$A$2:$N$502,7,0)=0,\"\",VLOOKUP(H196,漢字書き!$A$2:$N$502,7,0)))","v":{"$error":"#N/A"}},{"$f":"IF(I196=\"\",\"\",IF(VLOOKUP(I196,漢字書き!$A$2:$N$502,7,0)=0,\"\",VLOOKUP(I196,漢字書き!$A$2:$N$502,7,0)))","v":{"$error":"#N/A"}},{"$f":"IF(J196=\"\",\"\",IF(VLOOKUP(J196,漢字書き!$A$2:$N$502,7,0)=0,\"\",VLOOKUP(J196,漢字書き!$A$2:$N$502,7,0)))","v":{"$error":"#N/A"}},{"$f":"IF(K196=\"\",\"\",IF(VLOOKUP(K196,漢字読み!$A$2:$O$502,7,0)=0,\"\",VLOOKUP(K196,漢字読み!$A$2:$O$502,7,0)))","v":{"$error":"#N/A"}},{"$f":"IF(L196=\"\",\"\",IF(VLOOKUP(L196,漢字読み!$A$2:$O$502,7,0)=0,\"\",VLOOKUP(L196,漢字読み!$A$2:$O$502,7,0)))","v":{"$error":"#N/A"}},{"$f":"IF(M196=\"\",\"\",IF(VLOOKUP(M196,漢字読み!$A$2:$O$502,7,0)=0,\"\",VLOOKUP(M196,漢字読み!$A$2:$O$502,7,0)))","v":{"$error":"#N/A"}},{"$f":"IF(N196=\"\",\"\",IF(VLOOKUP(N196,漢字読み!$A$2:$O$502,7,0)=0,\"\",VLOOKUP(N196,漢字読み!$A$2:$O$502,7,0)))","v":{"$error":"#N/A"}},{"$f":"IF(O196=\"\",\"\",IF(VLOOKUP(O196,漢字読み!$A$2:$O$502,7,0)=0,\"\",VLOOKUP(O196,漢字読み!$A$2:$O$502,7,0)))","v":{"$error":"#N/A"}},{"$f":"IF(P196=\"\",\"\",IF(VLOOKUP(P196,漢字読み!$A$2:$O$502,7,0)=0,\"\",VLOOKUP(P196,漢字読み!$A$2:$O$502,7,0)))","v":{"$error":"#N/A"}},{"$f":"IF(Q196=\"\",\"\",IF(VLOOKUP(Q196,漢字読み!$A$2:$O$502,7,0)=0,\"\",VLOOKUP(Q196,漢字読み!$A$2:$O$502,7,0)))","v":{"$error":"#N/A"}},{"$f":"IF(R196=\"\",\"\",IF(VLOOKUP(R196,漢字読み!$A$2:$O$502,7,0)=0,\"\",VLOOKUP(R196,漢字読み!$A$2:$O$502,7,0)))","v":{"$error":"#N/A"}},{"$f":"IF(S196=\"\",\"\",IF(VLOOKUP(S196,漢字読み!$A$2:$O$502,7,0)=0,\"\",VLOOKUP(S196,漢字読み!$A$2:$O$502,7,0)))","v":{"$error":"#N/A"}},{"$f":"IF(T196=\"\",\"\",IF(VLOOKUP(T196,漢字読み!$A$2:$O$502,7,0)=0,\"\",VLOOKUP(T196,漢字読み!$A$2:$O$502,7,0)))","v":{"$error":"#N/A"}},null,null,"和歌山県教育委員会"]
[{"$f":"INDIRECT(\"'関数（書き）'!C\" & COLUMN(B$1)+SUM($AD$2:$AD202))","v":0},{"$f":"INDIRECT(\"'関数（書き）'!C\" & COLUMN(C$1)+SUM($AD$2:$AD202))","v":0},{"$f":"INDIRECT(\"'関数（書き）'!C\" & COLUMN(D$1)+SUM($AD$2:$AD202))","v":0},{"$f":"INDIRECT(\"'関数（書き）'!C\" & COLUMN(E$1)+SUM($AD$2:$AD202))","v":0},{"$f":"INDIRECT(\"'関数（書き）'!C\" & COLUMN(F$1)+SUM($AD$2:$AD202))","v":0},{"$f":"INDIRECT(\"'関数（書き）'!C\" & COLUMN(G$1)+SUM($AD$2:$AD202))","v":0},{"$f":"INDIRECT(\"'関数（書き）'!C\" & COLUMN(H$1)+SUM($AD$2:$AD202))","v":0},{"$f":"INDIRECT(\"'関数（書き）'!C\" & COLUMN(I$1)+SUM($AD$2:$AD202))","v":0},{"$f":"INDIRECT(\"'関数（書き）'!C\" & COLUMN(J$1)+SUM($AD$2:$AD202))","v":0},{"$f":"INDIRECT(\"'関数（書き）'!C\" & COLUMN(K$1)+SUM($AD$2:$AD202))","v":0},{"$f":"INDIRECT(\"'関数（読み）'!C\" & COLUMN(B$1)+SUM($AD$2:$AD202))","v":0},{"$f":"INDIRECT(\"'関数（読み）'!C\" & COLUMN(C$1)+SUM($AD$2:$AD202))","v":0},{"$f":"INDIRECT(\"'関数（読み）'!C\" & COLUMN(D$1)+SUM($AD$2:$AD202))","v":0},{"$f":"INDIRECT(\"'関数（読み）'!C\" & COLUMN(E$1)+SUM($AD$2:$AD202))","v":0},{"$f":"INDIRECT(\"'関数（読み）'!C\" & COLUMN(F$1)+SUM($AD$2:$AD202))","v":0},{"$f":"INDIRECT(\"'関数（読み）'!C\" & COLUMN(G$1)+SUM($AD$2:$AD202))","v":0},{"$f":"INDIRECT(\"'関数（読み）'!C\" & COLUMN(H$1)+SUM($AD$2:$AD202))","v":0},{"$f":"INDIRECT(\"'関数（読み）'!C\" & COLUMN(I$1)+SUM($AD$2:$AD202))","v":0},{"$f":"INDIRECT(\"'関数（読み）'!C\" & COLUMN(J$1)+SUM($AD$2:$AD202))","v":0},{"$f":"INDIRECT(\"'関数（読み）'!C\" & COLUMN(K$1)+SUM($AD$2:$AD202))","v":0}]
["⑳","⑲","⑱","⑰","⑯","⑮","⑭","⑬","⑫","⑪","⑩","⑨","⑧","⑦","⑥","⑤","④","③","②","①","次の［　　　　］の部分の漢字には読みがなをひらがなで書き、カタカナは漢字に直しなさい。",15,"「漢字の博士検定試験」練習問題　",null,null,null,null,null,"←",10,"問",{"$f":"AH187+1","v":201},"～",{"$f":"SUM($AD$2:$AD202)+10","v":210},"問まで",{"$f":"COUNTIF($A$1:$T$200,T203)","v":195}]
[{"$f":"IF(A201=\"\",\"\",VLOOKUP(A201,漢字書き!$A$2:$N$506,6,0))","v":{"$error":"#N/A"}},{"$f":"IF(B201=\"\",\"\",VLOOKUP(B201,漢字書き!$A$2:$N$506,6,0))","v":{"$error":"#N/A"}},{"$f":"IF(C201=\"\",\"\",VLOOKUP(C201,漢字書き!$A$2:$N$506,6,0))","v":{"$error":"#N/A"}},{"$f":"IF(D201=\"\",\"\",VLOOKUP(D201,漢字書き!$A$2:$N$506,6,0))","v":{"$error":"#N/A"}},{"$f":"IF(E201=\"\",\"\",VLOOKUP(E201,漢字書き!$A$2:$N$506,6,0))","v":{"$error":"#N/A"}},{"$f":"IF(F201=\"\",\"\",VLOOKUP(F201,漢字書き!$A$2:$N$506,6,0))","v":{"$error":"#N/A"}},{"$f":"IF(G201=\"\",\"\",VLOOKUP(G201,漢字書き!$A$2:$N$506,6,0))","v":{"$error":"#N/A"}},{"$f":"IF(H201=\"\",\"\",VLOOKUP(H201,漢字書き!$A$2:$N$506,6,0))","v":{"$error":"#N/A"}},{"$f":"IF(I201=\"\",\"\",VLOOKUP(I201,漢字書き!$A$2:$N$506,6,0))","v":{"$error":"#N/A"}},{"$f":"IF(J201=\"\",\"\",VLOOKUP(J201,漢字書き!$A$2:$N$506,6,0))","v":{"$error":"#N/A"}},{"$f":"IF(K201=\"\",\"\",VLOOKUP(K201,漢字読み!$A$2:$O$506,6,0))","v":{"$error":"#N/A"}},{"$f":"IF(L201=\"\",\"\",VLOOKUP(L201,漢字読み!$A$2:$O$506,6,0))","v":{"$error":"#N/A"}},{"$f":"IF(M201=\"\",\"\",VLOOKUP(M201,漢字読み!$A$2:$O$506,6,0))","v":{"$error":"#N/A"}},{"$f":"IF(N201=\"\",\"\",VLOOKUP(N201,漢字読み!$A$2:$O$506,6,0))","v":{"$error":"#N/A"}},{"$f":"IF(O201=\"\",\"\",VLOOKUP(O201,漢字読み!$A$2:$O$506,6,0))","v":{"$error":"#N/A"}},{"$f":"IF(P201=\"\",\"\",VLOOKUP(P201,漢字読み!$A$2:$O$506,6,0))","v":{"$error":"#N/A"}},{"$f":"IF(Q201=\"\",\"\",VLOOKUP(Q201,漢字読み!$A$2:$O$506,6,0))","v":{"$error":"#N/A"}},{"$f":"IF(R201=\"\",\"\",VLOOKUP(R201,漢字読み!$A$2:$O$506,6,0))","v":{"$error":"#N/A"}},{"$f":"IF(S201=\"\",\"\",VLOOKUP(S201,漢字読み!$A$2:$O$506,6,0))","v":{"$error":"#N/A"}},{"$f":"IF(T201=\"\",\"\",VLOOKUP(T201,漢字読み!$A$2:$O$506,6,0))","v":{"$error":"#N/A"}},null,"級"]
[null,null,null,null,null,null,null,null,null,null,null,null,null,null,null,null,null,null,null,null,null,"名前"]
[{"$f":"IF(A201=\"\",\"\",IF(VLOOKUP(A201,漢字書き!$A$2:$N$502,7,0)=0,\"\",VLOOKUP(A201,漢字書き!$A$2:$N$502,7,0)))","v":{"$error":"#N/A"}},{"$f":"IF(B201=\"\",\"\",IF(VLOOKUP(B201,漢字書き!$A$2:$N$502,7,0)=0,\"\",VLOOKUP(B201,漢字書き!$A$2:$N$502,7,0)))","v":{"$error":"#N/A"}},{"$f":"IF(C201=\"\",\"\",IF(VLOOKUP(C201,漢字書き!$A$2:$N$502,7,0)=0,\"\",VLOOKUP(C201,漢字書き!$A$2:$N$502,7,0)))","v":{"$error":"#N/A"}},{"$f":"IF(D201=\"\",\"\",IF(VLOOKUP(D201,漢字書き!$A$2:$N$502,7,0)=0,\"\",VLOOKUP(D201,漢字書き!$A$2:$N$502,7,0)))","v":{"$error":"#N/A"}},{"$f":"IF(E201=\"\",\"\",IF(VLOOKUP(E201,漢字書き!$A$2:$N$502,7,0)=0,\"\",VLOOKUP(E201,漢字書き!$A$2:$N$502,7,0)))","v":{"$error":"#N/A"}},{"$f":"IF(F201=\"\",\"\",IF(VLOOKUP(F201,漢字書き!$A$2:$N$502,7,0)=0,\"\",VLOOKUP(F201,漢字書き!$A$2:$N$502,7,0)))","v":{"$error":"#N/A"}},{"$f":"IF(G201=\"\",\"\",IF(VLOOKUP(G201,漢字書き!$A$2:$N$502,7,0)=0,\"\",VLOOKUP(G201,漢字書き!$A$2:$N$502,7,0)))","v":{"$error":"#N/A"}},{"$f":"IF(H201=\"\",\"\",IF(VLOOKUP(H201,漢字書き!$A$2:$N$502,7,0)=0,\"\",VLOOKUP(H201,漢字書き!$A$2:$N$502,7,0)))","v":{"$error":"#N/A"}},{"$f":"IF(I201=\"\",\"\",IF(VLOOKUP(I201,漢字書き!$A$2:$N$502,7,0)=0,\"\",VLOOKUP(I201,漢字書き!$A$2:$N$502,7,0)))","v":{"$error":"#N/A"}},{"$f":"IF(J201=\"\",\"\",IF(VLOOKUP(J201,漢字書き!$A$2:$N$502,7,0)=0,\"\",VLOOKUP(J201,漢字書き!$A$2:$N$502,7,0)))","v":{"$error":"#N/A"}},{"$f":"IF(K201=\"\",\"\",IF(VLOOKUP(K201,漢字読み!$A$2:$O$502,7,0)=0,\"\",VLOOKUP(K201,漢字読み!$A$2:$O$502,7,0)))","v":{"$error":"#N/A"}},{"$f":"IF(L201=\"\",\"\",IF(VLOOKUP(L201,漢字読み!$A$2:$O$502,7,0)=0,\"\",VLOOKUP(L201,漢字読み!$A$2:$O$502,7,0)))","v":{"$error":"#N/A"}},{"$f":"IF(M201=\"\",\"\",IF(VLOOKUP(M201,漢字読み!$A$2:$O$502,7,0)=0,\"\",VLOOKUP(M201,漢字読み!$A$2:$O$502,7,0)))","v":{"$error":"#N/A"}},{"$f":"IF(N201=\"\",\"\",IF(VLOOKUP(N201,漢字読み!$A$2:$O$502,7,0)=0,\"\",VLOOKUP(N201,漢字読み!$A$2:$O$502,7,0)))","v":{"$error":"#N/A"}},{"$f":"IF(O201=\"\",\"\",IF(VLOOKUP(O201,漢字読み!$A$2:$O$502,7,0)=0,\"\",VLOOKUP(O201,漢字読み!$A$2:$O$502,7,0)))","v":{"$error":"#N/A"}},{"$f":"IF(P201=\"\",\"\",IF(VLOOKUP(P201,漢字読み!$A$2:$O$502,7,0)=0,\"\",VLOOKUP(P201,漢字読み!$A$2:$O$502,7,0)))","v":{"$error":"#N/A"}},{"$f":"IF(Q201=\"\",\"\",IF(VLOOKUP(Q201,漢字読み!$A$2:$O$502,7,0)=0,\"\",VLOOKUP(Q201,漢字読み!$A$2:$O$502,7,0)))","v":{"$error":"#N/A"}},{"$f":"IF(R201=\"\",\"\",IF(VLOOKUP(R201,漢字読み!$A$2:$O$502,7,0)=0,\"\",VLOOKUP(R201,漢字読み!$A$2:$O$502,7,0)))","v":{"$error":"#N/A"}},{"$f":"IF(S201=\"\",\"\",IF(VLOOKUP(S201,漢字読み!$A$2:$O$502,7,0)=0,\"\",VLOOKUP(S201,漢字読み!$A$2:$O$502,7,0)))","v":{"$error":"#N/A"}},{"$f":"IF(T201=\"\",\"\",IF(VLOOKUP(T201,漢字読み!$A$2:$O$502,7,0)=0,\"\",VLOOKUP(T201,漢字読み!$A$2:$O$502,7,0)))","v":{"$error":"#N/A"}},null,null,"和歌山県教育委員会"]
[{"$f":"INDIRECT(\"'関数（書き）'!C\" & COLUMN(B$1)+SUM($AD$2:$AD207))","v":0},{"$f":"INDIRECT(\"'関数（書き）'!C\" & COLUMN(C$1)+SUM($AD$2:$AD207))","v":0},{"$f":"INDIRECT(\"'関数（書き）'!C\" & COLUMN(D$1)+SUM($AD$2:$AD207))","v":0},{"$f":"INDIRECT(\"'関数（書き）'!C\" & COLUMN(E$1)+SUM($AD$2:$AD207))","v":0},{"$f":"INDIRECT(\"'関数（書き）'!C\" & COLUMN(F$1)+SUM($AD$2:$AD207))","v":0},{"$f":"INDIRECT(\"'関数（書き）'!C\" & COLUMN(G$1)+SUM($AD$2:$AD207))","v":0},{"$f":"INDIRECT(\"'関数（書き）'!C\" & COLUMN(H$1)+SUM($AD$2:$AD207))","v":0},{"$f":"INDIRECT(\"'関数（書き）'!C\" & COLUMN(I$1)+SUM($AD$2:$AD207))","v":0},{"$f":"INDIRECT(\"'関数（書き）'!C\" & COLUMN(J$1)+SUM($AD$2:$AD207))","v":0},{"$f":"INDIRECT(\"'関数（書き）'!C\" & COLUMN(K$1)+SUM($AD$2:$AD207))","v":0},{"$f":"INDIRECT(\"'関数（読み）'!C\" & COLUMN(B$1)+SUM($AD$2:$AD207))","v":0},{"$f":"INDIRECT(\"'関数（読み）'!C\" & COLUMN(C$1)+SUM($AD$2:$AD207))","v":0},{"$f":"INDIRECT(\"'関数（読み）'!C\" & COLUMN(D$1)+SUM($AD$2:$AD207))","v":0},{"$f":"INDIRECT(\"'関数（読み）'!C\" & COLUMN(E$1)+SUM($AD$2:$AD207))","v":0},{"$f":"INDIRECT(\"'関数（読み）'!C\" & COLUMN(F$1)+SUM($AD$2:$AD207))","v":0},{"$f":"INDIRECT(\"'関数（読み）'!C\" & COLUMN(G$1)+SUM($AD$2:$AD207))","v":0},{"$f":"INDIRECT(\"'関数（読み）'!C\" & COLUMN(H$1)+SUM($AD$2:$AD207))","v":0},{"$f":"INDIRECT(\"'関数（読み）'!C\" & COLUMN(I$1)+SUM($AD$2:$AD207))","v":0},{"$f":"INDIRECT(\"'関数（読み）'!C\" & COLUMN(J$1)+SUM($AD$2:$AD207))","v":0},{"$f":"INDIRECT(\"'関数（読み）'!C\" & COLUMN(K$1)+SUM($AD$2:$AD207))","v":0}]
["⑳","⑲","⑱","⑰","⑯","⑮","⑭","⑬","⑫","⑪","⑩","⑨","⑧","⑦","⑥","⑤","④","③","②","①","次の［　　　　］の部分の漢字には読みがなをひらがなで書き、カタカナは漢字に直しなさい。",15,"「漢字の博士検定試験」練習問題　",null,null,null,null,null,"←",10,"問",{"$f":"AH202+1","v":211},"～",{"$f":"SUM($AD$2:$AD207)+10","v":220},"問まで",{"$f":"COUNTIF($A$1:$T$200,T208)","v":195}]
[{"$f":"IF(A206=\"\",\"\",VLOOKUP(A206,漢字書き!$A$2:$N$506,6,0))","v":{"$error":"#N/A"}},{"$f":"IF(B206=\"\",\"\",VLOOKUP(B206,漢字書き!$A$2:$N$506,6,0))","v":{"$error":"#N/A"}},{"$f":"IF(C206=\"\",\"\",VLOOKUP(C206,漢字書き!$A$2:$N$506,6,0))","v":{"$error":"#N/A"}},{"$f":"IF(D206=\"\",\"\",VLOOKUP(D206,漢字書き!$A$2:$N$506,6,0))","v":{"$error":"#N/A"}},{"$f":"IF(E206=\"\",\"\",VLOOKUP(E206,漢字書き!$A$2:$N$506,6,0))","v":{"$error":"#N/A"}},{"$f":"IF(F206=\"\",\"\",VLOOKUP(F206,漢字書き!$A$2:$N$506,6,0))","v":{"$error":"#N/A"}},{"$f":"IF(G206=\"\",\"\",VLOOKUP(G206,漢字書き!$A$2:$N$506,6,0))","v":{"$error":"#N/A"}},{"$f":"IF(H206=\"\",\"\",VLOOKUP(H206,漢字書き!$A$2:$N$506,6,0))","v":{"$error":"#N/A"}},{"$f":"IF(I206=\"\",\"\",VLOOKUP(I206,漢字書き!$A$2:$N$506,6,0))","v":{"$error":"#N/A"}},{"$f":"IF(J206=\"\",\"\",VLOOKUP(J206,漢字書き!$A$2:$N$506,6,0))","v":{"$error":"#N/A"}},{"$f":"IF(K206=\"\",\"\",VLOOKUP(K206,漢字読み!$A$2:$O$506,6,0))","v":{"$error":"#N/A"}},{"$f":"IF(L206=\"\",\"\",VLOOKUP(L206,漢字読み!$A$2:$O$506,6,0))","v":{"$error":"#N/A"}},{"$f":"IF(M206=\"\",\"\",VLOOKUP(M206,漢字読み!$A$2:$O$506,6,0))","v":{"$error":"#N/A"}},{"$f":"IF(N206=\"\",\"\",VLOOKUP(N206,漢字読み!$A$2:$O$506,6,0))","v":{"$error":"#N/A"}},{"$f":"IF(O206=\"\",\"\",VLOOKUP(O206,漢字読み!$A$2:$O$506,6,0))","v":{"$error":"#N/A"}},{"$f":"IF(P206=\"\",\"\",VLOOKUP(P206,漢字読み!$A$2:$O$506,6,0))","v":{"$error":"#N/A"}},{"$f":"IF(Q206=\"\",\"\",VLOOKUP(Q206,漢字読み!$A$2:$O$506,6,0))","v":{"$error":"#N/A"}},{"$f":"IF(R206=\"\",\"\",VLOOKUP(R206,漢字読み!$A$2:$O$506,6,0))","v":{"$error":"#N/A"}},{"$f":"IF(S206=\"\",\"\",VLOOKUP(S206,漢字読み!$A$2:$O$506,6,0))","v":{"$error":"#N/A"}},{"$f":"IF(T206=\"\",\"\",VLOOKUP(T206,漢字読み!$A$2:$O$506,6,0))","v":{"$error":"#N/A"}},null,"級"]
[null,null,null,null,null,null,null,null,null,null,null,null,null,null,null,null,null,null,null,null,null,"名前"]
[{"$f":"IF(A206=\"\",\"\",IF(VLOOKUP(A206,漢字書き!$A$2:$N$502,7,0)=0,\"\",VLOOKUP(A206,漢字書き!$A$2:$N$502,7,0)))","v":{"$error":"#N/A"}},{"$f":"IF(B206=\"\",\"\",IF(VLOOKUP(B206,漢字書き!$A$2:$N$502,7,0)=0,\"\",VLOOKUP(B206,漢字書き!$A$2:$N$502,7,0)))","v":{"$error":"#N/A"}},{"$f":"IF(C206=\"\",\"\",IF(VLOOKUP(C206,漢字書き!$A$2:$N$502,7,0)=0,\"\",VLOOKUP(C206,漢字書き!$A$2:$N$502,7,0)))","v":{"$error":"#N/A"}},{"$f":"IF(D206=\"\",\"\",IF(VLOOKUP(D206,漢字書き!$A$2:$N$502,7,0)=0,\"\",VLOOKUP(D206,漢字書き!$A$2:$N$502,7,0)))","v":{"$error":"#N/A"}},{"$f":"IF(E206=\"\",\"\",IF(VLOOKUP(E206,漢字書き!$A$2:$N$502,7,0)=0,\"\",VLOOKUP(E206,漢字書き!$A$2:$N$502,7,0)))","v":{"$error":"#N/A"}},{"$f":"IF(F206=\"\",\"\",IF(VLOOKUP(F206,漢字書き!$A$2:$N$502,7,0)=0,\"\",VLOOKUP(F206,漢字書き!$A$2:$N$502,7,0)))","v":{"$error":"#N/A"}},{"$f":"IF(G206=\"\",\"\",IF(VLOOKUP(G206,漢字書き!$A$2:$N$502,7,0)=0,\"\",VLOOKUP(G206,漢字書き!$A$2:$N$502,7,0)))","v":{"$error":"#N/A"}},{"$f":"IF(H206=\"\",\"\",IF(VLOOKUP(H206,漢字書き!$A$2:$N$502,7,0)=0,\"\",VLOOKUP(H206,漢字書き!$A$2:$N$502,7,0)))","v":{"$error":"#N/A"}},{"$f":"IF(I206=\"\",\"\",IF(VLOOKUP(I206,漢字書き!$A$2:$N$502,7,0)=0,\"\",VLOOKUP(I206,漢字書き!$A$2:$N$502,7,0)))","v":{"$error":"#N/A"}},{"$f":"IF(J206=\"\",\"\",IF(VLOOKUP(J206,漢字書き!$A$2:$N$502,7,0)=0,\"\",VLOOKUP(J206,漢字書き!$A$2:$N$502,7,0)))","v":{"$error":"#N/A"}},{"$f":"IF(K206=\"\",\"\",IF(VLOOKUP(K206,漢字読み!$A$2:$O$502,7,0)=0,\"\",VLOOKUP(K206,漢字読み!$A$2:$O$502,7,0)))","v":{"$error":"#N/A"}},{"$f":"IF(L206=\"\",\"\",IF(VLOOKUP(L206,漢字読み!$A$2:$O$502,7,0)=0,\"\",VLOOKUP(L206,漢字読み!$A$2:$O$502,7,0)))","v":{"$error":"#N/A"}},{"$f":"IF(M206=\"\",\"\",IF(VLOOKUP(M206,漢字読み!$A$2:$O$502,7,0)=0,\"\",VLOOKUP(M206,漢字読み!$A$2:$O$502,7,0)))","v":{"$error":"#N/A"}},{"$f":"IF(N206=\"\",\"\",IF(VLOOKUP(N206,漢字読み!$A$2:$O$502,7,0)=0,\"\",VLOOKUP(N206,漢字読み!$A$2:$O$502,7,0)))","v":{"$error":"#N/A"}},{"$f":"IF(O206=\"\",\"\",IF(VLOOKUP(O206,漢字読み!$A$2:$O$502,7,0)=0,\"\",VLOOKUP(O206,漢字読み!$A$2:$O$502,7,0)))","v":{"$error":"#N/A"}},{"$f":"IF(P206=\"\",\"\",IF(VLOOKUP(P206,漢字読み!$A$2:$O$502,7,0)=0,\"\",VLOOKUP(P206,漢字読み!$A$2:$O$502,7,0)))","v":{"$error":"#N/A"}},{"$f":"IF(Q206=\"\",\"\",IF(VLOOKUP(Q206,漢字読み!$A$2:$O$502,7,0)=0,\"\",VLOOKUP(Q206,漢字読み!$A$2:$O$502,7,0)))","v":{"$error":"#N/A"}},{"$f":"IF(R206=\"\",\"\",IF(VLOOKUP(R206,漢字読み!$A$2:$O$502,7,0)=0,\"\",VLOOKUP(R206,漢字読み!$A$2:$O$502,7,0)))","v":{"$error":"#N/A"}},{"$f":"IF(S206=\"\",\"\",IF(VLOOKUP(S206,漢字読み!$A$2:$O$502,7,0)=0,\"\",VLOOKUP(S206,漢字読み!$A$2:$O$502,7,0)))","v":{"$error":"#N/A"}},{"$f":"IF(T206=\"\",\"\",IF(VLOOKUP(T206,漢字読み!$A$2:$O$502,7,0)=0,\"\",VLOOKUP(T206,漢字読み!$A$2:$O$502,7,0)))","v":{"$error":"#N/A"}},null,null,"和歌山県教育委員会"]
[{"$f":"A201","v":0},{"$f":"B201","v":0},0,0,0,0,0,0,0,0,0,0,0,0,0,0,0,0,0,0]
["⑳","⑲","⑱","⑰","⑯","⑮","⑭","⑬","⑫","⑪","⑩","⑨","⑧","⑦","⑥","⑤","④","③","②","①","次の［　　　　］の部分の漢字には読みがなをひらがなで書き、カタカナは漢字に直しなさい。",15,"「漢字の博士検定試験」練習問題　"]
[{"$f":"IF(A211=\"\",\"\",VLOOKUP(A211,漢字書き!$A$2:$N$506,6,0))","v":{"$error":"#N/A"}},{"$f":"IF(B211=\"\",\"\",VLOOKUP(B211,漢字書き!$A$2:$N$506,6,0))","v":{"$error":"#N/A"}},{"$f":"IF(C211=\"\",\"\",VLOOKUP(C211,漢字書き!$A$2:$N$506,6,0))","v":{"$error":"#N/A"}},{"$f":"IF(D211=\"\",\"\",VLOOKUP(D211,漢字書き!$A$2:$N$506,6,0))","v":{"$error":"#N/A"}},{"$f":"IF(E211=\"\",\"\",VLOOKUP(E211,漢字書き!$A$2:$N$506,6,0))","v":{"$error":"#N/A"}},{"$f":"IF(F211=\"\",\"\",VLOOKUP(F211,漢字書き!$A$2:$N$506,6,0))","v":{"$error":"#N/A"}},{"$f":"IF(G211=\"\",\"\",VLOOKUP(G211,漢字書き!$A$2:$N$506,6,0))","v":{"$error":"#N/A"}},{"$f":"IF(H211=\"\",\"\",VLOOKUP(H211,漢字書き!$A$2:$N$506,6,0))","v":{"$error":"#N/A"}},{"$f":"IF(I211=\"\",\"\",VLOOKUP(I211,漢字書き!$A$2:$N$506,6,0))","v":{"$error":"#N/A"}},{"$f":"IF(J211=\"\",\"\",VLOOKUP(J211,漢字書き!$A$2:$N$506,6,0))","v":{"$error":"#N/A"}},{"$f":"IF(K211=\"\",\"\",VLOOKUP(K211,漢字読み!$A$2:$O$506,6,0))","v":{"$error":"#N/A"}},{"$f":"IF(L211=\"\",\"\",VLOOKUP(L211,漢字読み!$A$2:$O$506,6,0))","v":{"$error":"#N/A"}},{"$f":"IF(M211=\"\",\"\",VLOOKUP(M211,漢字読み!$A$2:$O$506,6,0))","v":{"$error":"#N/A"}},{"$f":"IF(N211=\"\",\"\",VLOOKUP(N211,漢字読み!$A$2:$O$506,6,0))","v":{"$error":"#N/A"}},{"$f":"IF(O211=\"\",\"\",VLOOKUP(O211,漢字読み!$A$2:$O$506,6,0))","v":{"$error":"#N/A"}},{"$f":"IF(P211=\"\",\"\",VLOOKUP(P211,漢字読み!$A$2:$O$506,6,0))","v":{"$error":"#N/A"}},{"$f":"IF(Q211=\"\",\"\",VLOOKUP(Q211,漢字読み!$A$2:$O$506,6,0))","v":{"$error":"#N/A"}},{"$f":"IF(R211=\"\",\"\",VLOOKUP(R211,漢字読み!$A$2:$O$506,6,0))","v":{"$error":"#N/A"}},{"$f":"IF(S211=\"\",\"\",VLOOKUP(S211,漢字読み!$A$2:$O$506,6,0))","v":{"$error":"#N/A"}},{"$f":"IF(T211=\"\",\"\",VLOOKUP(T211,漢字読み!$A$2:$O$506,6,0))","v":{"$error":"#N/A"}},null,"級"]
[{"$f":"IF(A$11=\"\",\"\",VLOOKUP(A211,漢字書き!$A$2:$O$506,8,0))","v":{"$error":"#N/A"}},{"$f":"IF(B$11=\"\",\"\",VLOOKUP(B211,漢字書き!$A$2:$O$506,8,0))","v":{"$error":"#N/A"}},{"$f":"IF(C$11=\"\",\"\",VLOOKUP(C211,漢字書き!$A$2:$O$506,8,0))","v":{"$error":"#N/A"}},{"$f":"IF(D$11=\"\",\"\",VLOOKUP(D211,漢字書き!$A$2:$O$506,8,0))","v":{"$error":"#N/A"}},{"$f":"IF(E$11=\"\",\"\",VLOOKUP(E211,漢字書き!$A$2:$O$506,8,0))","v":{"$error":"#N/A"}},{"$f":"IF(F$11=\"\",\"\",VLOOKUP(F211,漢字書き!$A$2:$O$506,8,0))","v":{"$error":"#N/A"}},{"$f":"IF(G$11=\"\",\"\",VLOOKUP(G211,漢字書き!$A$2:$O$506,8,0))","v":{"$error":"#N/A"}},{"$f":"IF(H$11=\"\",\"\",VLOOKUP(H211,漢字書き!$A$2:$O$506,8,0))","v":{"$error":"#N/A"}},{"$f":"IF(I$11=\"\",\"\",VLOOKUP(I211,漢字書き!$A$2:$O$506,8,0))","v":{"$error":"#N/A"}},{"$f":"IF(J$11=\"\",\"\",VLOOKUP(J211,漢字書き!$A$2:$O$506,8,0))","v":{"$error":"#N/A"}},{"$f":"IF(K$11=\"\",\"\",VLOOKUP(K211,漢字読み!$A$2:$O$506,8,0))","v":{"$error":"#N/A"}},{"$f":"IF(L$11=\"\",\"\",VLOOKUP(L211,漢字読み!$A$2:$O$506,8,0))","v":{"$error":"#N/A"}},{"$f":"IF(M$11=\"\",\"\",VLOOKUP(M211,漢字読み!$A$2:$O$506,8,0))","v":{"$error":"#N/A"}},{"$f":"IF(N$11=\"\",\"\",VLOOKUP(N211,漢字読み!$A$2:$O$506,8,0))","v":{"$error":"#N/A"}},{"$f":"IF(O$11=\"\",\"\",VLOOKUP(O211,漢字読み!$A$2:$O$506,8,0))","v":{"$error":"#N/A"}},{"$f":"IF(P$11=\"\",\"\",VLOOKUP(P211,漢字読み!$A$2:$O$506,8,0))","v":{"$error":"#N/A"}},{"$f":"IF(Q$11=\"\",\"\",VLOOKUP(Q211,漢字読み!$A$2:$O$506,8,0))","v":{"$error":"#N/A"}},{"$f":"IF(R$11=\"\",\"\",VLOOKUP(R211,漢字読み!$A$2:$O$506,8,0))","v":{"$error":"#N/A"}},{"$f":"IF(S$11=\"\",\"\",VLOOKUP(S211,漢字読み!$A$2:$O$506,8,0))","v":{"$error":"#N/A"}},{"$f":"IF(T$11=\"\",\"\",VLOOKUP(T211,漢字読み!$A$2:$O$506,8,0))","v":{"$error":"#N/A"}},null,"名前"]
[{"$f":"IF(A211=\"\",\"\",IF(VLOOKUP(A211,漢字書き!$A$2:$N$502,7,0)=0,\"\",VLOOKUP(A211,漢字書き!$A$2:$N$502,7,0)))","v":{"$error":"#N/A"}},{"$f":"IF(B211=\"\",\"\",IF(VLOOKUP(B211,漢字書き!$A$2:$N$502,7,0)=0,\"\",VLOOKUP(B211,漢字書き!$A$2:$N$502,7,0)))","v":{"$error":"#N/A"}},{"$f":"IF(C211=\"\",\"\",IF(VLOOKUP(C211,漢字書き!$A$2:$N$502,7,0)=0,\"\",VLOOKUP(C211,漢字書き!$A$2:$N$502,7,0)))","v":{"$error":"#N/A"}},{"$f":"IF(D211=\"\",\"\",IF(VLOOKUP(D211,漢字書き!$A$2:$N$502,7,0)=0,\"\",VLOOKUP(D211,漢字書き!$A$2:$N$502,7,0)))","v":{"$error":"#N/A"}},{"$f":"IF(E211=\"\",\"\",IF(VLOOKUP(E211,漢字書き!$A$2:$N$502,7,0)=0,\"\",VLOOKUP(E211,漢字書き!$A$2:$N$502,7,0)))","v":{"$error":"#N/A"}},{"$f":"IF(F211=\"\",\"\",IF(VLOOKUP(F211,漢字書き!$A$2:$N$502,7,0)=0,\"\",VLOOKUP(F211,漢字書き!$A$2:$N$502,7,0)))","v":{"$error":"#N/A"}},{"$f":"IF(G211=\"\",\"\",IF(VLOOKUP(G211,漢字書き!$A$2:$N$502,7,0)=0,\"\",VLOOKUP(G211,漢字書き!$A$2:$N$502,7,0)))","v":{"$error":"#N/A"}},{"$f":"IF(H211=\"\",\"\",IF(VLOOKUP(H211,漢字書き!$A$2:$N$502,7,0)=0,\"\",VLOOKUP(H211,漢字書き!$A$2:$N$502,7,0)))","v":{"$error":"#N/A"}},{"$f":"IF(I211=\"\",\"\",IF(VLOOKUP(I211,漢字書き!$A$2:$N$502,7,0)=0,\"\",VLOOKUP(I211,漢字書き!$A$2:$N$502,7,0)))","v":{"$error":"#N/A"}},{"$f":"IF(J211=\"\",\"\",IF(VLOOKUP(J211,漢字書き!$A$2:$N$502,7,0)=0,\"\",VLOOKUP(J211,漢字書き!$A$2:$N$502,7,0)))","v":{"$error":"#N/A"}},{"$f":"IF(K211=\"\",\"\",IF(VLOOKUP(K211,漢字読み!$A$2:$O$502,7,0)=0,\"\",VLOOKUP(K211,漢字読み!$A$2:$O$502,7,0)))","v":{"$error":"#N/A"}},{"$f":"IF(L211=\"\",\"\",IF(VLOOKUP(L211,漢字読み!$A$2:$O$502,7,0)=0,\"\",VLOOKUP(L211,漢字読み!$A$2:$O$502,7,0)))","v":{"$error":"#N/A"}},{"$f":"IF(M211=\"\",\"\",IF(VLOOKUP(M211,漢字読み!$A$2:$O$502,7,0)=0,\"\",VLOOKUP(M211,漢字読み!$A$2:$O$502,7,0)))","v":{"$error":"#N/A"}},{"$f":"IF(N211=\"\",\"\",IF(VLOOKUP(N211,漢字読み!$A$2:$O$502,7,0)=0,\"\",VLOOKUP(N211,漢字読み!$A$2:$O$502,7,0)))","v":{"$error":"#N/A"}},{"$f":"IF(O211=\"\",\"\",IF(VLOOKUP(O211,漢字読み!$A$2:$O$502,7,0)=0,\"\",VLOOKUP(O211,漢字読み!$A$2:$O$502,7,0)))","v":{"$error":"#N/A"}},{"$f":"IF(P211=\"\",\"\",IF(VLOOKUP(P211,漢字読み!$A$2:$O$502,7,0)=0,\"\",VLOOKUP(P211,漢字読み!$A$2:$O$502,7,0)))","v":{"$error":"#N/A"}},{"$f":"IF(Q211=\"\",\"\",IF(VLOOKUP(Q211,漢字読み!$A$2:$O$502,7,0)=0,\"\",VLOOKUP(Q211,漢字読み!$A$2:$O$502,7,0)))","v":{"$error":"#N/A"}},{"$f":"IF(R211=\"\",\"\",IF(VLOOKUP(R211,漢字読み!$A$2:$O$502,7,0)=0,\"\",VLOOKUP(R211,漢字読み!$A$2:$O$502,7,0)))","v":{"$error":"#N/A"}},{"$f":"IF(S211=\"\",\"\",IF(VLOOKUP(S211,漢字読み!$A$2:$O$502,7,0)=0,\"\",VLOOKUP(S211,漢字読み!$A$2:$O$502,7,0)))","v":{"$error":"#N/A"}},{"$f":"IF(T211=\"\",\"\",IF(VLOOKUP(T211,漢字読み!$A$2:$O$502,7,0)=0,\"\",VLOOKUP(T211,漢字読み!$A$2:$O$502,7,0)))","v":{"$error":"#N/A"}},null,null,"和歌山県教育委員会"]
[{"$f":"A206","v":0},{"$f":"B206","v":0},0,0,0,0,0,0,0,0,0,0,0,0,0,0,0,0,0,0]
["⑳","⑲","⑱","⑰","⑯","⑮","⑭","⑬","⑫","⑪","⑩","⑨","⑧","⑦","⑥","⑤","④","③","②","①","次の［　　　　］の部分の漢字には読みがなをひらがなで書き、カタカナは漢字に直しなさい。",15,"「漢字の博士検定試験」練習問題　"]
[{"$f":"IF(A216=\"\",\"\",VLOOKUP(A216,漢字書き!$A$2:$N$506,6,0))","v":{"$error":"#N/A"}},{"$f":"IF(B216=\"\",\"\",VLOOKUP(B216,漢字書き!$A$2:$N$506,6,0))","v":{"$error":"#N/A"}},{"$f":"IF(C216=\"\",\"\",VLOOKUP(C216,漢字書き!$A$2:$N$506,6,0))","v":{"$error":"#N/A"}},{"$f":"IF(D216=\"\",\"\",VLOOKUP(D216,漢字書き!$A$2:$N$506,6,0))","v":{"$error":"#N/A"}},{"$f":"IF(E216=\"\",\"\",VLOOKUP(E216,漢字書き!$A$2:$N$506,6,0))","v":{"$error":"#N/A"}},{"$f":"IF(F216=\"\",\"\",VLOOKUP(F216,漢字書き!$A$2:$N$506,6,0))","v":{"$error":"#N/A"}},{"$f":"IF(G216=\"\",\"\",VLOOKUP(G216,漢字書き!$A$2:$N$506,6,0))","v":{"$error":"#N/A"}},{"$f":"IF(H216=\"\",\"\",VLOOKUP(H216,漢字書き!$A$2:$N$506,6,0))","v":{"$error":"#N/A"}},{"$f":"IF(I216=\"\",\"\",VLOOKUP(I216,漢字書き!$A$2:$N$506,6,0))","v":{"$error":"#N/A"}},{"$f":"IF(J216=\"\",\"\",VLOOKUP(J216,漢字書き!$A$2:$N$506,6,0))","v":{"$error":"#N/A"}},{"$f":"IF(K216=\"\",\"\",VLOOKUP(K216,漢字読み!$A$2:$O$506,6,0))","v":{"$error":"#N/A"}},{"$f":"IF(L216=\"\",\"\",VLOOKUP(L216,漢字読み!$A$2:$O$506,6,0))","v":{"$error":"#N/A"}},{"$f":"IF(M216=\"\",\"\",VLOOKUP(M216,漢字読み!$A$2:$O$506,6,0))","v":{"$error":"#N/A"}},{"$f":"IF(N216=\"\",\"\",VLOOKUP(N216,漢字読み!$A$2:$O$506,6,0))","v":{"$error":"#N/A"}},{"$f":"IF(O216=\"\",\"\",VLOOKUP(O216,漢字読み!$A$2:$O$506,6,0))","v":{"$error":"#N/A"}},{"$f":"IF(P216=\"\",\"\",VLOOKUP(P216,漢字読み!$A$2:$O$506,6,0))","v":{"$error":"#N/A"}},{"$f":"IF(Q216=\"\",\"\",VLOOKUP(Q216,漢字読み!$A$2:$O$506,6,0))","v":{"$error":"#N/A"}},{"$f":"IF(R216=\"\",\"\",VLOOKUP(R216,漢字読み!$A$2:$O$506,6,0))","v":{"$error":"#N/A"}},{"$f":"IF(S216=\"\",\"\",VLOOKUP(S216,漢字読み!$A$2:$O$506,6,0))","v":{"$error":"#N/A"}},{"$f":"IF(T216=\"\",\"\",VLOOKUP(T216,漢字読み!$A$2:$O$506,6,0))","v":{"$error":"#N/A"}},null,"級"]
[{"$f":"IF(A$16=\"\",\"\",VLOOKUP(A216,漢字書き!$A$2:$O$506,8,0))","v":{"$error":"#N/A"}},{"$f":"IF(B$16=\"\",\"\",VLOOKUP(B216,漢字書き!$A$2:$O$506,8,0))","v":{"$error":"#N/A"}},{"$f":"IF(C$16=\"\",\"\",VLOOKUP(C216,漢字書き!$A$2:$O$506,8,0))","v":{"$error":"#N/A"}},{"$f":"IF(D$16=\"\",\"\",VLOOKUP(D216,漢字書き!$A$2:$O$506,8,0))","v":{"$error":"#N/A"}},{"$f":"IF(E$16=\"\",\"\",VLOOKUP(E216,漢字書き!$A$2:$O$506,8,0))","v":{"$error":"#N/A"}},{"$f":"IF(F$16=\"\",\"\",VLOOKUP(F216,漢字書き!$A$2:$O$506,8,0))","v":{"$error":"#N/A"}},{"$f":"IF(G$16=\"\",\"\",VLOOKUP(G216,漢字書き!$A$2:$O$506,8,0))","v":{"$error":"#N/A"}},{"$f":"IF(H$16=\"\",\"\",VLOOKUP(H216,漢字書き!$A$2:$O$506,8,0))","v":{"$error":"#N/A"}},{"$f":"IF(I$16=\"\",\"\",VLOOKUP(I216,漢字書き!$A$2:$O$506,8,0))","v":{"$error":"#N/A"}},{"$f":"IF(J$16=\"\",\"\",VLOOKUP(J216,漢字書き!$A$2:$O$506,8,0))","v":{"$error":"#N/A"}},{"$f":"IF(K$16=\"\",\"\",VLOOKUP(K216,漢字読み!$A$2:$O$506,8,0))","v":{"$error":"#N/A"}},{"$f":"IF(L$16=\"\",\"\",VLOOKUP(L216,漢字読み!$A$2:$O$506,8,0))","v":{"$error":"#N/A"}},{"$f":"IF(M$16=\"\",\"\",VLOOKUP(M216,漢字読み!$A$2:$O$506,8,0))","v":{"$error":"#N/A"}},{"$f":"IF(N$16=\"\",\"\",VLOOKUP(N216,漢字読み!$A$2:$O$506,8,0))","v":{"$error":"#N/A"}},{"$f":"IF(O$16=\"\",\"\",VLOOKUP(O216,漢字読み!$A$2:$O$506,8,0))","v":{"$error":"#N/A"}},{"$f":"IF(P$16=\"\",\"\",VLOOKUP(P216,漢字読み!$A$2:$O$506,8,0))","v":{"$error":"#N/A"}},{"$f":"IF(Q$16=\"\",\"\",VLOOKUP(Q216,漢字読み!$A$2:$O$506,8,0))","v":{"$error":"#N/A"}},{"$f":"IF(R$16=\"\",\"\",VLOOKUP(R216,漢字読み!$A$2:$O$506,8,0))","v":{"$error":"#N/A"}},{"$f":"IF(S$16=\"\",\"\",VLOOKUP(S216,漢字読み!$A$2:$O$506,8,0))","v":{"$error":"#N/A"}},{"$f":"IF(T$16=\"\",\"\",VLOOKUP(T216,漢字読み!$A$2:$O$506,8,0))","v":{"$error":"#N/A"}},null,"名前"]
[{"$f":"IF(A216=\"\",\"\",IF(VLOOKUP(A216,漢字書き!$A$2:$N$502,7,0)=0,\"\",VLOOKUP(A216,漢字書き!$A$2:$N$502,7,0)))","v":{"$error":"#N/A"}},{"$f":"IF(B216=\"\",\"\",IF(VLOOKUP(B216,漢字書き!$A$2:$N$502,7,0)=0,\"\",VLOOKUP(B216,漢字書き!$A$2:$N$502,7,0)))","v":{"$error":"#N/A"}},{"$f":"IF(C216=\"\",\"\",IF(VLOOKUP(C216,漢字書き!$A$2:$N$502,7,0)=0,\"\",VLOOKUP(C216,漢字書き!$A$2:$N$502,7,0)))","v":{"$error":"#N/A"}},{"$f":"IF(D216=\"\",\"\",IF(VLOOKUP(D216,漢字書き!$A$2:$N$502,7,0)=0,\"\",VLOOKUP(D216,漢字書き!$A$2:$N$502,7,0)))","v":{"$error":"#N/A"}},{"$f":"IF(E216=\"\",\"\",IF(VLOOKUP(E216,漢字書き!$A$2:$N$502,7,0)=0,\"\",VLOOKUP(E216,漢字書き!$A$2:$N$502,7,0)))","v":{"$error":"#N/A"}},{"$f":"IF(F216=\"\",\"\",IF(VLOOKUP(F216,漢字書き!$A$2:$N$502,7,0)=0,\"\",VLOOKUP(F216,漢字書き!$A$2:$N$502,7,0)))","v":{"$error":"#N/A"}},{"$f":"IF(G216=\"\",\"\",IF(VLOOKUP(G216,漢字書き!$A$2:$N$502,7,0)=0,\"\",VLOOKUP(G216,漢字書き!$A$2:$N$502,7,0)))","v":{"$error":"#N/A"}},{"$f":"IF(H216=\"\",\"\",IF(VLOOKUP(H216,漢字書き!$A$2:$N$502,7,0)=0,\"\",VLOOKUP(H216,漢字書き!$A$2:$N$502,7,0)))","v":{"$error":"#N/A"}},{"$f":"IF(I216=\"\",\"\",IF(VLOOKUP(I216,漢字書き!$A$2:$N$502,7,0)=0,\"\",VLOOKUP(I216,漢字書き!$A$2:$N$502,7,0)))","v":{"$error":"#N/A"}},{"$f":"IF(J216=\"\",\"\",IF(VLOOKUP(J216,漢字書き!$A$2:$N$502,7,0)=0,\"\",VLOOKUP(J216,漢字書き!$A$2:$N$502,7,0)))","v":{"$error":"#N/A"}},{"$f":"IF(K216=\"\",\"\",IF(VLOOKUP(K216,漢字読み!$A$2:$O$502,7,0)=0,\"\",VLOOKUP(K216,漢字読み!$A$2:$O$502,7,0)))","v":{"$error":"#N/A"}},{"$f":"IF(L216=\"\",\"\",IF(VLOOKUP(L216,漢字読み!$A$2:$O$502,7,0)=0,\"\",VLOOKUP(L216,漢字読み!$A$2:$O$502,7,0)))","v":{"$error":"#N/A"}},{"$f":"IF(M216=\"\",\"\",IF(VLOOKUP(M216,漢字読み!$A$2:$O$502,7,0)=0,\"\",VLOOKUP(M216,漢字読み!$A$2:$O$502,7,0)))","v":{"$error":"#N/A"}},{"$f":"IF(N216=\"\",\"\",IF(VLOOKUP(N216,漢字読み!$A$2:$O$502,7,0)=0,\"\",VLOOKUP(N216,漢字読み!$A$2:$O$502,7,0)))","v":{"$error":"#N/A"}},{"$f":"IF(O216=\"\",\"\",IF(VLOOKUP(O216,漢字読み!$A$2:$O$502,7,0)=0,\"\",VLOOKUP(O216,漢字読み!$A$2:$O$502,7,0)))","v":{"$error":"#N/A"}},{"$f":"IF(P216=\"\",\"\",IF(VLOOKUP(P216,漢字読み!$A$2:$O$502,7,0)=0,\"\",VLOOKUP(P216,漢字読み!$A$2:$O$502,7,0)))","v":{"$error":"#N/A"}},{"$f":"IF(Q216=\"\",\"\",IF(VLOOKUP(Q216,漢字読み!$A$2:$O$502,7,0)=0,\"\",VLOOKUP(Q216,漢字読み!$A$2:$O$502,7,0)))","v":{"$error":"#N/A"}},{"$f":"IF(R216=\"\",\"\",IF(VLOOKUP(R216,漢字読み!$A$2:$O$502,7,0)=0,\"\",VLOOKUP(R216,漢字読み!$A$2:$O$502,7,0)))","v":{"$error":"#N/A"}},{"$f":"IF(S216=\"\",\"\",IF(VLOOKUP(S216,漢字読み!$A$2:$O$502,7,0)=0,\"\",VLOOKUP(S216,漢字読み!$A$2:$O$502,7,0)))","v":{"$error":"#N/A"}},{"$f":"IF(T216=\"\",\"\",IF(VLOOKUP(T216,漢字読み!$A$2:$O$502,7,0)=0,\"\",VLOOKUP(T216,漢字読み!$A$2:$O$502,7,0)))","v":{"$error":"#N/A"}},null,null,"和歌山県教育委員会"]
[{"$f":"INDIRECT(\"'関数（書き）'!C\" & COLUMN(B$1)+SUM($AD$2:$AD222))","v":0},{"$f":"INDIRECT(\"'関数（書き）'!C\" & COLUMN(C$1)+SUM($AD$2:$AD222))","v":0},{"$f":"INDIRECT(\"'関数（書き）'!C\" & COLUMN(D$1)+SUM($AD$2:$AD222))","v":0},{"$f":"INDIRECT(\"'関数（書き）'!C\" & COLUMN(E$1)+SUM($AD$2:$AD222))","v":0},{"$f":"INDIRECT(\"'関数（書き）'!C\" & COLUMN(F$1)+SUM($AD$2:$AD222))","v":0},{"$f":"INDIRECT(\"'関数（書き）'!C\" & COLUMN(G$1)+SUM($AD$2:$AD222))","v":0},{"$f":"INDIRECT(\"'関数（書き）'!C\" & COLUMN(H$1)+SUM($AD$2:$AD222))","v":0},{"$f":"INDIRECT(\"'関数（書き）'!C\" & COLUMN(I$1)+SUM($AD$2:$AD222))","v":0},{"$f":"INDIRECT(\"'関数（書き）'!C\" & COLUMN(J$1)+SUM($AD$2:$AD222))","v":0},{"$f":"INDIRECT(\"'関数（書き）'!C\" & COLUMN(K$1)+SUM($AD$2:$AD222))","v":0},{"$f":"INDIRECT(\"'関数（読み）'!C\" & COLUMN(B$1)+SUM($AD$2:$AD222))","v":0},{"$f":"INDIRECT(\"'関数（読み）'!C\" & COLUMN(C$1)+SUM($AD$2:$AD222))","v":0},{"$f":"INDIRECT(\"'関数（読み）'!C\" & COLUMN(D$1)+SUM($AD$2:$AD222))","v":0},{"$f":"INDIRECT(\"'関数（読み）'!C\" & COLUMN(E$1)+SUM($AD$2:$AD222))","v":0},{"$f":"INDIRECT(\"'関数（読み）'!C\" & COLUMN(F$1)+SUM($AD$2:$AD222))","v":0},{"$f":"INDIRECT(\"'関数（読み）'!C\" & COLUMN(G$1)+SUM($AD$2:$AD222))","v":0},{"$f":"INDIRECT(\"'関数（読み）'!C\" & COLUMN(H$1)+SUM($AD$2:$AD222))","v":0},{"$f":"INDIRECT(\"'関数（読み）'!C\" & COLUMN(I$1)+SUM($AD$2:$AD222))","v":0},{"$f":"INDIRECT(\"'関数（読み）'!C\" & COLUMN(J$1)+SUM($AD$2:$AD222))","v":0},{"$f":"INDIRECT(\"'関数（読み）'!C\" & COLUMN(K$1)+SUM($AD$2:$AD222))","v":0}]
["⑳","⑲","⑱","⑰","⑯","⑮","⑭","⑬","⑫","⑪","⑩","⑨","⑧","⑦","⑥","⑤","④","③","②","①","次の［　　　　］の部分の漢字には読みがなをひらがなで書き、カタカナは漢字に直しなさい。",15,"「漢字の博士検定試験」練習問題　",null,null,null,null,null,"←",10,"問",{"$f":"AH207+1","v":221},"～",{"$f":"SUM($AD$2:$AD222)+10","v":230},"問まで",{"$f":"COUNTIF($A$1:$T$200,T223)","v":195}]
[{"$f":"IF(A221=\"\",\"\",VLOOKUP(A221,漢字書き!$A$2:$N$506,6,0))","v":{"$error":"#N/A"}},{"$f":"IF(B221=\"\",\"\",VLOOKUP(B221,漢字書き!$A$2:$N$506,6,0))","v":{"$error":"#N/A"}},{"$f":"IF(C221=\"\",\"\",VLOOKUP(C221,漢字書き!$A$2:$N$506,6,0))","v":{"$error":"#N/A"}},{"$f":"IF(D221=\"\",\"\",VLOOKUP(D221,漢字書き!$A$2:$N$506,6,0))","v":{"$error":"#N/A"}},{"$f":"IF(E221=\"\",\"\",VLOOKUP(E221,漢字書き!$A$2:$N$506,6,0))","v":{"$error":"#N/A"}},{"$f":"IF(F221=\"\",\"\",VLOOKUP(F221,漢字書き!$A$2:$N$506,6,0))","v":{"$error":"#N/A"}},{"$f":"IF(G221=\"\",\"\",VLOOKUP(G221,漢字書き!$A$2:$N$506,6,0))","v":{"$error":"#N/A"}},{"$f":"IF(H221=\"\",\"\",VLOOKUP(H221,漢字書き!$A$2:$N$506,6,0))","v":{"$error":"#N/A"}},{"$f":"IF(I221=\"\",\"\",VLOOKUP(I221,漢字書き!$A$2:$N$506,6,0))","v":{"$error":"#N/A"}},{"$f":"IF(J221=\"\",\"\",VLOOKUP(J221,漢字書き!$A$2:$N$506,6,0))","v":{"$error":"#N/A"}},{"$f":"IF(K221=\"\",\"\",VLOOKUP(K221,漢字読み!$A$2:$O$506,6,0))","v":{"$error":"#N/A"}},{"$f":"IF(L221=\"\",\"\",VLOOKUP(L221,漢字読み!$A$2:$O$506,6,0))","v":{"$error":"#N/A"}},{"$f":"IF(M221=\"\",\"\",VLOOKUP(M221,漢字読み!$A$2:$O$506,6,0))","v":{"$error":"#N/A"}},{"$f":"IF(N221=\"\",\"\",VLOOKUP(N221,漢字読み!$A$2:$O$506,6,0))","v":{"$error":"#N/A"}},{"$f":"IF(O221=\"\",\"\",VLOOKUP(O221,漢字読み!$A$2:$O$506,6,0))","v":{"$error":"#N/A"}},{"$f":"IF(P221=\"\",\"\",VLOOKUP(P221,漢字読み!$A$2:$O$506,6,0))","v":{"$error":"#N/A"}},{"$f":"IF(Q221=\"\",\"\",VLOOKUP(Q221,漢字読み!$A$2:$O$506,6,0))","v":{"$error":"#N/A"}},{"$f":"IF(R221=\"\",\"\",VLOOKUP(R221,漢字読み!$A$2:$O$506,6,0))","v":{"$error":"#N/A"}},{"$f":"IF(S221=\"\",\"\",VLOOKUP(S221,漢字読み!$A$2:$O$506,6,0))","v":{"$error":"#N/A"}},{"$f":"IF(T221=\"\",\"\",VLOOKUP(T221,漢字読み!$A$2:$O$506,6,0))","v":{"$error":"#N/A"}},null,"級"]
[null,null,null,null,null,null,null,null,null,null,null,null,null,null,null,null,null,null,null,null,null,"名前"]
[{"$f":"IF(A221=\"\",\"\",IF(VLOOKUP(A221,漢字書き!$A$2:$N$502,7,0)=0,\"\",VLOOKUP(A221,漢字書き!$A$2:$N$502,7,0)))","v":{"$error":"#N/A"}},{"$f":"IF(B221=\"\",\"\",IF(VLOOKUP(B221,漢字書き!$A$2:$N$502,7,0)=0,\"\",VLOOKUP(B221,漢字書き!$A$2:$N$502,7,0)))","v":{"$error":"#N/A"}},{"$f":"IF(C221=\"\",\"\",IF(VLOOKUP(C221,漢字書き!$A$2:$N$502,7,0)=0,\"\",VLOOKUP(C221,漢字書き!$A$2:$N$502,7,0)))","v":{"$error":"#N/A"}},{"$f":"IF(D221=\"\",\"\",IF(VLOOKUP(D221,漢字書き!$A$2:$N$502,7,0)=0,\"\",VLOOKUP(D221,漢字書き!$A$2:$N$502,7,0)))","v":{"$error":"#N/A"}},{"$f":"IF(E221=\"\",\"\",IF(VLOOKUP(E221,漢字書き!$A$2:$N$502,7,0)=0,\"\",VLOOKUP(E221,漢字書き!$A$2:$N$502,7,0)))","v":{"$error":"#N/A"}},{"$f":"IF(F221=\"\",\"\",IF(VLOOKUP(F221,漢字書き!$A$2:$N$502,7,0)=0,\"\",VLOOKUP(F221,漢字書き!$A$2:$N$502,7,0)))","v":{"$error":"#N/A"}},{"$f":"IF(G221=\"\",\"\",IF(VLOOKUP(G221,漢字書き!$A$2:$N$502,7,0)=0,\"\",VLOOKUP(G221,漢字書き!$A$2:$N$502,7,0)))","v":{"$error":"#N/A"}},{"$f":"IF(H221=\"\",\"\",IF(VLOOKUP(H221,漢字書き!$A$2:$N$502,7,0)=0,\"\",VLOOKUP(H221,漢字書き!$A$2:$N$502,7,0)))","v":{"$error":"#N/A"}},{"$f":"IF(I221=\"\",\"\",IF(VLOOKUP(I221,漢字書き!$A$2:$N$502,7,0)=0,\"\",VLOOKUP(I221,漢字書き!$A$2:$N$502,7,0)))","v":{"$error":"#N/A"}},{"$f":"IF(J221=\"\",\"\",IF(VLOOKUP(J221,漢字書き!$A$2:$N$502,7,0)=0,\"\",VLOOKUP(J221,漢字書き!$A$2:$N$502,7,0)))","v":{"$error":"#N/A"}},{"$f":"IF(K221=\"\",\"\",IF(VLOOKUP(K221,漢字読み!$A$2:$O$502,7,0)=0,\"\",VLOOKUP(K221,漢字読み!$A$2:$O$502,7,0)))","v":{"$error":"#N/A"}},{"$f":"IF(L221=\"\",\"\",IF(VLOOKUP(L221,漢字読み!$A$2:$O$502,7,0)=0,\"\",VLOOKUP(L221,漢字読み!$A$2:$O$502,7,0)))","v":{"$error":"#N/A"}},{"$f":"IF(M221=\"\",\"\",IF(VLOOKUP(M221,漢字読み!$A$2:$O$502,7,0)=0,\"\",VLOOKUP(M221,漢字読み!$A$2:$O$502,7,0)))","v":{"$error":"#N/A"}},{"$f":"IF(N221=\"\",\"\",IF(VLOOKUP(N221,漢字読み!$A$2:$O$502,7,0)=0,\"\",VLOOKUP(N221,漢字読み!$A$2:$O$502,7,0)))","v":{"$error":"#N/A"}},{"$f":"IF(O221=\"\",\"\",IF(VLOOKUP(O221,漢字読み!$A$2:$O$502,7,0)=0,\"\",VLOOKUP(O221,漢字読み!$A$2:$O$502,7,0)))","v":{"$error":"#N/A"}},{"$f":"IF(P221=\"\",\"\",IF(VLOOKUP(P221,漢字読み!$A$2:$O$502,7,0)=0,\"\",VLOOKUP(P221,漢字読み!$A$2:$O$502,7,0)))","v":{"$error":"#N/A"}},{"$f":"IF(Q221=\"\",\"\",IF(VLOOKUP(Q221,漢字読み!$A$2:$O$502,7,0)=0,\"\",VLOOKUP(Q221,漢字読み!$A$2:$O$502,7,0)))","v":{"$error":"#N/A"}},{"$f":"IF(R221=\"\",\"\",IF(VLOOKUP(R221,漢字読み!$A$2:$O$502,7,0)=0,\"\",VLOOKUP(R221,漢字読み!$A$2:$O$502,7,0)))","v":{"$error":"#N/A"}},{"$f":"IF(S221=\"\",\"\",IF(VLOOKUP(S221,漢字読み!$A$2:$O$502,7,0)=0,\"\",VLOOKUP(S221,漢字読み!$A$2:$O$502,7,0)))","v":{"$error":"#N/A"}},{"$f":"IF(T221=\"\",\"\",IF(VLOOKUP(T221,漢字読み!$A$2:$O$502,7,0)=0,\"\",VLOOKUP(T221,漢字読み!$A$2:$O$502,7,0)))","v":{"$error":"#N/A"}},null,null,"和歌山県教育委員会"]
[{"$f":"INDIRECT(\"'関数（書き）'!C\" & COLUMN(B$1)+SUM($AD$2:$AD227))","v":0},{"$f":"INDIRECT(\"'関数（書き）'!C\" & COLUMN(C$1)+SUM($AD$2:$AD227))","v":0},{"$f":"INDIRECT(\"'関数（書き）'!C\" & COLUMN(D$1)+SUM($AD$2:$AD227))","v":0},{"$f":"INDIRECT(\"'関数（書き）'!C\" & COLUMN(E$1)+SUM($AD$2:$AD227))","v":0},{"$f":"INDIRECT(\"'関数（書き）'!C\" & COLUMN(F$1)+SUM($AD$2:$AD227))","v":0},{"$f":"INDIRECT(\"'関数（書き）'!C\" & COLUMN(G$1)+SUM($AD$2:$AD227))","v":0},{"$f":"INDIRECT(\"'関数（書き）'!C\" & COLUMN(H$1)+SUM($AD$2:$AD227))","v":0},{"$f":"INDIRECT(\"'関数（書き）'!C\" & COLUMN(I$1)+SUM($AD$2:$AD227))","v":0},{"$f":"INDIRECT(\"'関数（書き）'!C\" & COLUMN(J$1)+SUM($AD$2:$AD227))","v":0},{"$f":"INDIRECT(\"'関数（書き）'!C\" & COLUMN(K$1)+SUM($AD$2:$AD227))","v":0},{"$f":"INDIRECT(\"'関数（読み）'!C\" & COLUMN(B$1)+SUM($AD$2:$AD227))","v":0},{"$f":"INDIRECT(\"'関数（読み）'!C\" & COLUMN(C$1)+SUM($AD$2:$AD227))","v":0},{"$f":"INDIRECT(\"'関数（読み）'!C\" & COLUMN(D$1)+SUM($AD$2:$AD227))","v":0},{"$f":"INDIRECT(\"'関数（読み）'!C\" & COLUMN(E$1)+SUM($AD$2:$AD227))","v":0},{"$f":"INDIRECT(\"'関数（読み）'!C\" & COLUMN(F$1)+SUM($AD$2:$AD227))","v":0},{"$f":"INDIRECT(\"'関数（読み）'!C\" & COLUMN(G$1)+SUM($AD$2:$AD227))","v":0},{"$f":"INDIRECT(\"'関数（読み）'!C\" & COLUMN(H$1)+SUM($AD$2:$AD227))","v":0},{"$f":"INDIRECT(\"'関数（読み）'!C\" & COLUMN(I$1)+SUM($AD$2:$AD227))","v":0},{"$f":"INDIRECT(\"'関数（読み）'!C\" & COLUMN(J$1)+SUM($AD$2:$AD227))","v":0},{"$f":"INDIRECT(\"'関数（読み）'!C\" & COLUMN(K$1)+SUM($AD$2:$AD227))","v":0}]
["⑳","⑲","⑱","⑰","⑯","⑮","⑭","⑬","⑫","⑪","⑩","⑨","⑧","⑦","⑥","⑤","④","③","②","①","次の［　　　　］の部分の漢字には読みがなをひらがなで書き、カタカナは漢字に直しなさい。",15,"「漢字の博士検定試験」練習問題　",null,null,null,null,null,"←",10,"問",{"$f":"AH222+1","v":231},"～",{"$f":"SUM($AD$2:$AD227)+10","v":240},"問まで",{"$f":"COUNTIF($A$1:$T$200,T228)","v":195}]
[{"$f":"IF(A226=\"\",\"\",VLOOKUP(A226,漢字書き!$A$2:$N$506,6,0))","v":{"$error":"#N/A"}},{"$f":"IF(B226=\"\",\"\",VLOOKUP(B226,漢字書き!$A$2:$N$506,6,0))","v":{"$error":"#N/A"}},{"$f":"IF(C226=\"\",\"\",VLOOKUP(C226,漢字書き!$A$2:$N$506,6,0))","v":{"$error":"#N/A"}},{"$f":"IF(D226=\"\",\"\",VLOOKUP(D226,漢字書き!$A$2:$N$506,6,0))","v":{"$error":"#N/A"}},{"$f":"IF(E226=\"\",\"\",VLOOKUP(E226,漢字書き!$A$2:$N$506,6,0))","v":{"$error":"#N/A"}},{"$f":"IF(F226=\"\",\"\",VLOOKUP(F226,漢字書き!$A$2:$N$506,6,0))","v":{"$error":"#N/A"}},{"$f":"IF(G226=\"\",\"\",VLOOKUP(G226,漢字書き!$A$2:$N$506,6,0))","v":{"$error":"#N/A"}},{"$f":"IF(H226=\"\",\"\",VLOOKUP(H226,漢字書き!$A$2:$N$506,6,0))","v":{"$error":"#N/A"}},{"$f":"IF(I226=\"\",\"\",VLOOKUP(I226,漢字書き!$A$2:$N$506,6,0))","v":{"$error":"#N/A"}},{"$f":"IF(J226=\"\",\"\",VLOOKUP(J226,漢字書き!$A$2:$N$506,6,0))","v":{"$error":"#N/A"}},{"$f":"IF(K226=\"\",\"\",VLOOKUP(K226,漢字読み!$A$2:$O$506,6,0))","v":{"$error":"#N/A"}},{"$f":"IF(L226=\"\",\"\",VLOOKUP(L226,漢字読み!$A$2:$O$506,6,0))","v":{"$error":"#N/A"}},{"$f":"IF(M226=\"\",\"\",VLOOKUP(M226,漢字読み!$A$2:$O$506,6,0))","v":{"$error":"#N/A"}},{"$f":"IF(N226=\"\",\"\",VLOOKUP(N226,漢字読み!$A$2:$O$506,6,0))","v":{"$error":"#N/A"}},{"$f":"IF(O226=\"\",\"\",VLOOKUP(O226,漢字読み!$A$2:$O$506,6,0))","v":{"$error":"#N/A"}},{"$f":"IF(P226=\"\",\"\",VLOOKUP(P226,漢字読み!$A$2:$O$506,6,0))","v":{"$error":"#N/A"}},{"$f":"IF(Q226=\"\",\"\",VLOOKUP(Q226,漢字読み!$A$2:$O$506,6,0))","v":{"$error":"#N/A"}},{"$f":"IF(R226=\"\",\"\",VLOOKUP(R226,漢字読み!$A$2:$O$506,6,0))","v":{"$error":"#N/A"}},{"$f":"IF(S226=\"\",\"\",VLOOKUP(S226,漢字読み!$A$2:$O$506,6,0))","v":{"$error":"#N/A"}},{"$f":"IF(T226=\"\",\"\",VLOOKUP(T226,漢字読み!$A$2:$O$506,6,0))","v":{"$error":"#N/A"}},null,"級"]
[null,null,null,null,null,null,null,null,null,null,null,null,null,null,null,null,null,null,null,null,null,"名前"]
[{"$f":"IF(A226=\"\",\"\",IF(VLOOKUP(A226,漢字書き!$A$2:$N$502,7,0)=0,\"\",VLOOKUP(A226,漢字書き!$A$2:$N$502,7,0)))","v":{"$error":"#N/A"}},{"$f":"IF(B226=\"\",\"\",IF(VLOOKUP(B226,漢字書き!$A$2:$N$502,7,0)=0,\"\",VLOOKUP(B226,漢字書き!$A$2:$N$502,7,0)))","v":{"$error":"#N/A"}},{"$f":"IF(C226=\"\",\"\",IF(VLOOKUP(C226,漢字書き!$A$2:$N$502,7,0)=0,\"\",VLOOKUP(C226,漢字書き!$A$2:$N$502,7,0)))","v":{"$error":"#N/A"}},{"$f":"IF(D226=\"\",\"\",IF(VLOOKUP(D226,漢字書き!$A$2:$N$502,7,0)=0,\"\",VLOOKUP(D226,漢字書き!$A$2:$N$502,7,0)))","v":{"$error":"#N/A"}},{"$f":"IF(E226=\"\",\"\",IF(VLOOKUP(E226,漢字書き!$A$2:$N$502,7,0)=0,\"\",VLOOKUP(E226,漢字書き!$A$2:$N$502,7,0)))","v":{"$error":"#N/A"}},{"$f":"IF(F226=\"\",\"\",IF(VLOOKUP(F226,漢字書き!$A$2:$N$502,7,0)=0,\"\",VLOOKUP(F226,漢字書き!$A$2:$N$502,7,0)))","v":{"$error":"#N/A"}},{"$f":"IF(G226=\"\",\"\",IF(VLOOKUP(G226,漢字書き!$A$2:$N$502,7,0)=0,\"\",VLOOKUP(G226,漢字書き!$A$2:$N$502,7,0)))","v":{"$error":"#N/A"}},{"$f":"IF(H226=\"\",\"\",IF(VLOOKUP(H226,漢字書き!$A$2:$N$502,7,0)=0,\"\",VLOOKUP(H226,漢字書き!$A$2:$N$502,7,0)))","v":{"$error":"#N/A"}},{"$f":"IF(I226=\"\",\"\",IF(VLOOKUP(I226,漢字書き!$A$2:$N$502,7,0)=0,\"\",VLOOKUP(I226,漢字書き!$A$2:$N$502,7,0)))","v":{"$error":"#N/A"}},{"$f":"IF(J226=\"\",\"\",IF(VLOOKUP(J226,漢字書き!$A$2:$N$502,7,0)=0,\"\",VLOOKUP(J226,漢字書き!$A$2:$N$502,7,0)))","v":{"$error":"#N/A"}},{"$f":"IF(K226=\"\",\"\",IF(VLOOKUP(K226,漢字読み!$A$2:$O$502,7,0)=0,\"\",VLOOKUP(K226,漢字読み!$A$2:$O$502,7,0)))","v":{"$error":"#N/A"}},{"$f":"IF(L226=\"\",\"\",IF(VLOOKUP(L226,漢字読み!$A$2:$O$502,7,0)=0,\"\",VLOOKUP(L226,漢字読み!$A$2:$O$502,7,0)))","v":{"$error":"#N/A"}},{"$f":"IF(M226=\"\",\"\",IF(VLOOKUP(M226,漢字読み!$A$2:$O$502,7,0)=0,\"\",VLOOKUP(M226,漢字読み!$A$2:$O$502,7,0)))","v":{"$error":"#N/A"}},{"$f":"IF(N226=\"\",\"\",IF(VLOOKUP(N226,漢字読み!$A$2:$O$502,7,0)=0,\"\",VLOOKUP(N226,漢字読み!$A$2:$O$502,7,0)))","v":{"$error":"#N/A"}},{"$f":"IF(O226=\"\",\"\",IF(VLOOKUP(O226,漢字読み!$A$2:$O$502,7,0)=0,\"\",VLOOKUP(O226,漢字読み!$A$2:$O$502,7,0)))","v":{"$error":"#N/A"}},{"$f":"IF(P226=\"\",\"\",IF(VLOOKUP(P226,漢字読み!$A$2:$O$502,7,0)=0,\"\",VLOOKUP(P226,漢字読み!$A$2:$O$502,7,0)))","v":{"$error":"#N/A"}},{"$f":"IF(Q226=\"\",\"\",IF(VLOOKUP(Q226,漢字読み!$A$2:$O$502,7,0)=0,\"\",VLOOKUP(Q226,漢字読み!$A$2:$O$502,7,0)))","v":{"$error":"#N/A"}},{"$f":"IF(R226=\"\",\"\",IF(VLOOKUP(R226,漢字読み!$A$2:$O$502,7,0)=0,\"\",VLOOKUP(R226,漢字読み!$A$2:$O$502,7,0)))","v":{"$error":"#N/A"}},{"$f":"IF(S226=\"\",\"\",IF(VLOOKUP(S226,漢字読み!$A$2:$O$502,7,0)=0,\"\",VLOOKUP(S226,漢字読み!$A$2:$O$502,7,0)))","v":{"$error":"#N/A"}},{"$f":"IF(T226=\"\",\"\",IF(VLOOKUP(T226,漢字読み!$A$2:$O$502,7,0)=0,\"\",VLOOKUP(T226,漢字読み!$A$2:$O$502,7,0)))","v":{"$error":"#N/A"}},null,null,"和歌山県教育委員会"]
[{"$f":"A221","v":0},{"$f":"B221","v":0},0,0,0,0,0,0,0,0,0,0,0,0,0,0,0,0,0,0]
["⑳","⑲","⑱","⑰","⑯","⑮","⑭","⑬","⑫","⑪","⑩","⑨","⑧","⑦","⑥","⑤","④","③","②","①","次の［　　　　］の部分の漢字には読みがなをひらがなで書き、カタカナは漢字に直しなさい。",15,"「漢字の博士検定試験」練習問題　"]
[{"$f":"IF(A231=\"\",\"\",VLOOKUP(A231,漢字書き!$A$2:$N$506,6,0))","v":{"$error":"#N/A"}},{"$f":"IF(B231=\"\",\"\",VLOOKUP(B231,漢字書き!$A$2:$N$506,6,0))","v":{"$error":"#N/A"}},{"$f":"IF(C231=\"\",\"\",VLOOKUP(C231,漢字書き!$A$2:$N$506,6,0))","v":{"$error":"#N/A"}},{"$f":"IF(D231=\"\",\"\",VLOOKUP(D231,漢字書き!$A$2:$N$506,6,0))","v":{"$error":"#N/A"}},{"$f":"IF(E231=\"\",\"\",VLOOKUP(E231,漢字書き!$A$2:$N$506,6,0))","v":{"$error":"#N/A"}},{"$f":"IF(F231=\"\",\"\",VLOOKUP(F231,漢字書き!$A$2:$N$506,6,0))","v":{"$error":"#N/A"}},{"$f":"IF(G231=\"\",\"\",VLOOKUP(G231,漢字書き!$A$2:$N$506,6,0))","v":{"$error":"#N/A"}},{"$f":"IF(H231=\"\",\"\",VLOOKUP(H231,漢字書き!$A$2:$N$506,6,0))","v":{"$error":"#N/A"}},{"$f":"IF(I231=\"\",\"\",VLOOKUP(I231,漢字書き!$A$2:$N$506,6,0))","v":{"$error":"#N/A"}},{"$f":"IF(J231=\"\",\"\",VLOOKUP(J231,漢字書き!$A$2:$N$506,6,0))","v":{"$error":"#N/A"}},{"$f":"IF(K231=\"\",\"\",VLOOKUP(K231,漢字読み!$A$2:$O$506,6,0))","v":{"$error":"#N/A"}},{"$f":"IF(L231=\"\",\"\",VLOOKUP(L231,漢字読み!$A$2:$O$506,6,0))","v":{"$error":"#N/A"}},{"$f":"IF(M231=\"\",\"\",VLOOKUP(M231,漢字読み!$A$2:$O$506,6,0))","v":{"$error":"#N/A"}},{"$f":"IF(N231=\"\",\"\",VLOOKUP(N231,漢字読み!$A$2:$O$506,6,0))","v":{"$error":"#N/A"}},{"$f":"IF(O231=\"\",\"\",VLOOKUP(O231,漢字読み!$A$2:$O$506,6,0))","v":{"$error":"#N/A"}},{"$f":"IF(P231=\"\",\"\",VLOOKUP(P231,漢字読み!$A$2:$O$506,6,0))","v":{"$error":"#N/A"}},{"$f":"IF(Q231=\"\",\"\",VLOOKUP(Q231,漢字読み!$A$2:$O$506,6,0))","v":{"$error":"#N/A"}},{"$f":"IF(R231=\"\",\"\",VLOOKUP(R231,漢字読み!$A$2:$O$506,6,0))","v":{"$error":"#N/A"}},{"$f":"IF(S231=\"\",\"\",VLOOKUP(S231,漢字読み!$A$2:$O$506,6,0))","v":{"$error":"#N/A"}},{"$f":"IF(T231=\"\",\"\",VLOOKUP(T231,漢字読み!$A$2:$O$506,6,0))","v":{"$error":"#N/A"}},null,"級"]
[{"$f":"IF(A$11=\"\",\"\",VLOOKUP(A231,漢字書き!$A$2:$O$506,8,0))","v":{"$error":"#N/A"}},{"$f":"IF(B$11=\"\",\"\",VLOOKUP(B231,漢字書き!$A$2:$O$506,8,0))","v":{"$error":"#N/A"}},{"$f":"IF(C$11=\"\",\"\",VLOOKUP(C231,漢字書き!$A$2:$O$506,8,0))","v":{"$error":"#N/A"}},{"$f":"IF(D$11=\"\",\"\",VLOOKUP(D231,漢字書き!$A$2:$O$506,8,0))","v":{"$error":"#N/A"}},{"$f":"IF(E$11=\"\",\"\",VLOOKUP(E231,漢字書き!$A$2:$O$506,8,0))","v":{"$error":"#N/A"}},{"$f":"IF(F$11=\"\",\"\",VLOOKUP(F231,漢字書き!$A$2:$O$506,8,0))","v":{"$error":"#N/A"}},{"$f":"IF(G$11=\"\",\"\",VLOOKUP(G231,漢字書き!$A$2:$O$506,8,0))","v":{"$error":"#N/A"}},{"$f":"IF(H$11=\"\",\"\",VLOOKUP(H231,漢字書き!$A$2:$O$506,8,0))","v":{"$error":"#N/A"}},{"$f":"IF(I$11=\"\",\"\",VLOOKUP(I231,漢字書き!$A$2:$O$506,8,0))","v":{"$error":"#N/A"}},{"$f":"IF(J$11=\"\",\"\",VLOOKUP(J231,漢字書き!$A$2:$O$506,8,0))","v":{"$error":"#N/A"}},{"$f":"IF(K$11=\"\",\"\",VLOOKUP(K231,漢字読み!$A$2:$O$506,8,0))","v":{"$error":"#N/A"}},{"$f":"IF(L$11=\"\",\"\",VLOOKUP(L231,漢字読み!$A$2:$O$506,8,0))","v":{"$error":"#N/A"}},{"$f":"IF(M$11=\"\",\"\",VLOOKUP(M231,漢字読み!$A$2:$O$506,8,0))","v":{"$error":"#N/A"}},{"$f":"IF(N$11=\"\",\"\",VLOOKUP(N231,漢字読み!$A$2:$O$506,8,0))","v":{"$error":"#N/A"}},{"$f":"IF(O$11=\"\",\"\",VLOOKUP(O231,漢字読み!$A$2:$O$506,8,0))","v":{"$error":"#N/A"}},{"$f":"IF(P$11=\"\",\"\",VLOOKUP(P231,漢字読み!$A$2:$O$506,8,0))","v":{"$error":"#N/A"}},{"$f":"IF(Q$11=\"\",\"\",VLOOKUP(Q231,漢字読み!$A$2:$O$506,8,0))","v":{"$error":"#N/A"}},{"$f":"IF(R$11=\"\",\"\",VLOOKUP(R231,漢字読み!$A$2:$O$506,8,0))","v":{"$error":"#N/A"}},{"$f":"IF(S$11=\"\",\"\",VLOOKUP(S231,漢字読み!$A$2:$O$506,8,0))","v":{"$error":"#N/A"}},{"$f":"IF(T$11=\"\",\"\",VLOOKUP(T231,漢字読み!$A$2:$O$506,8,0))","v":{"$error":"#N/A"}},null,"名前"]
[{"$f":"IF(A231=\"\",\"\",IF(VLOOKUP(A231,漢字書き!$A$2:$N$502,7,0)=0,\"\",VLOOKUP(A231,漢字書き!$A$2:$N$502,7,0)))","v":{"$error":"#N/A"}},{"$f":"IF(B231=\"\",\"\",IF(VLOOKUP(B231,漢字書き!$A$2:$N$502,7,0)=0,\"\",VLOOKUP(B231,漢字書き!$A$2:$N$502,7,0)))","v":{"$error":"#N/A"}},{"$f":"IF(C231=\"\",\"\",IF(VLOOKUP(C231,漢字書き!$A$2:$N$502,7,0)=0,\"\",VLOOKUP(C231,漢字書き!$A$2:$N$502,7,0)))","v":{"$error":"#N/A"}},{"$f":"IF(D231=\"\",\"\",IF(VLOOKUP(D231,漢字書き!$A$2:$N$502,7,0)=0,\"\",VLOOKUP(D231,漢字書き!$A$2:$N$502,7,0)))","v":{"$error":"#N/A"}},{"$f":"IF(E231=\"\",\"\",IF(VLOOKUP(E231,漢字書き!$A$2:$N$502,7,0)=0,\"\",VLOOKUP(E231,漢字書き!$A$2:$N$502,7,0)))","v":{"$error":"#N/A"}},{"$f":"IF(F231=\"\",\"\",IF(VLOOKUP(F231,漢字書き!$A$2:$N$502,7,0)=0,\"\",VLOOKUP(F231,漢字書き!$A$2:$N$502,7,0)))","v":{"$error":"#N/A"}},{"$f":"IF(G231=\"\",\"\",IF(VLOOKUP(G231,漢字書き!$A$2:$N$502,7,0)=0,\"\",VLOOKUP(G231,漢字書き!$A$2:$N$502,7,0)))","v":{"$error":"#N/A"}},{"$f":"IF(H231=\"\",\"\",IF(VLOOKUP(H231,漢字書き!$A$2:$N$502,7,0)=0,\"\",VLOOKUP(H231,漢字書き!$A$2:$N$502,7,0)))","v":{"$error":"#N/A"}},{"$f":"IF(I231=\"\",\"\",IF(VLOOKUP(I231,漢字書き!$A$2:$N$502,7,0)=0,\"\",VLOOKUP(I231,漢字書き!$A$2:$N$502,7,0)))","v":{"$error":"#N/A"}},{"$f":"IF(J231=\"\",\"\",IF(VLOOKUP(J231,漢字書き!$A$2:$N$502,7,0)=0,\"\",VLOOKUP(J231,漢字書き!$A$2:$N$502,7,0)))","v":{"$error":"#N/A"}},{"$f":"IF(K231=\"\",\"\",IF(VLOOKUP(K231,漢字読み!$A$2:$O$502,7,0)=0,\"\",VLOOKUP(K231,漢字読み!$A$2:$O$502,7,0)))","v":{"$error":"#N/A"}},{"$f":"IF(L231=\"\",\"\",IF(VLOOKUP(L231,漢字読み!$A$2:$O$502,7,0)=0,\"\",VLOOKUP(L231,漢字読み!$A$2:$O$502,7,0)))","v":{"$error":"#N/A"}},{"$f":"IF(M231=\"\",\"\",IF(VLOOKUP(M231,漢字読み!$A$2:$O$502,7,0)=0,\"\",VLOOKUP(M231,漢字読み!$A$2:$O$502,7,0)))","v":{"$error":"#N/A"}},{"$f":"IF(N231=\"\",\"\",IF(VLOOKUP(N231,漢字読み!$A$2:$O$502,7,0)=0,\"\",VLOOKUP(N231,漢字読み!$A$2:$O$502,7,0)))","v":{"$error":"#N/A"}},{"$f":"IF(O231=\"\",\"\",IF(VLOOKUP(O231,漢字読み!$A$2:$O$502,7,0)=0,\"\",VLOOKUP(O231,漢字読み!$A$2:$O$502,7,0)))","v":{"$error":"#N/A"}},{"$f":"IF(P231=\"\",\"\",IF(VLOOKUP(P231,漢字読み!$A$2:$O$502,7,0)=0,\"\",VLOOKUP(P231,漢字読み!$A$2:$O$502,7,0)))","v":{"$error":"#N/A"}},{"$f":"IF(Q231=\"\",\"\",IF(VLOOKUP(Q231,漢字読み!$A$2:$O$502,7,0)=0,\"\",VLOOKUP(Q231,漢字読み!$A$2:$O$502,7,0)))","v":{"$error":"#N/A"}},{"$f":"IF(R231=\"\",\"\",IF(VLOOKUP(R231,漢字読み!$A$2:$O$502,7,0)=0,\"\",VLOOKUP(R231,漢字読み!$A$2:$O$502,7,0)))","v":{"$error":"#N/A"}},{"$f":"IF(S231=\"\",\"\",IF(VLOOKUP(S231,漢字読み!$A$2:$O$502,7,0)=0,\"\",VLOOKUP(S231,漢字読み!$A$2:$O$502,7,0)))","v":{"$error":"#N/A"}},{"$f":"IF(T231=\"\",\"\",IF(VLOOKUP(T231,漢字読み!$A$2:$O$502,7,0)=0,\"\",VLOOKUP(T231,漢字読み!$A$2:$O$502,7,0)))","v":{"$error":"#N/A"}},null,null,"和歌山県教育委員会"]
[{"$f":"A226","v":0},{"$f":"B226","v":0},0,0,0,0,0,0,0,0,0,0,0,0,0,0,0,0,0,0]
["⑳","⑲","⑱","⑰","⑯","⑮","⑭","⑬","⑫","⑪","⑩","⑨","⑧","⑦","⑥","⑤","④","③","②","①","次の［　　　　］の部分の漢字には読みがなをひらがなで書き、カタカナは漢字に直しなさい。",15,"「漢字の博士検定試験」練習問題　"]
[{"$f":"IF(A236=\"\",\"\",VLOOKUP(A236,漢字書き!$A$2:$N$506,6,0))","v":{"$error":"#N/A"}},{"$f":"IF(B236=\"\",\"\",VLOOKUP(B236,漢字書き!$A$2:$N$506,6,0))","v":{"$error":"#N/A"}},{"$f":"IF(C236=\"\",\"\",VLOOKUP(C236,漢字書き!$A$2:$N$506,6,0))","v":{"$error":"#N/A"}},{"$f":"IF(D236=\"\",\"\",VLOOKUP(D236,漢字書き!$A$2:$N$506,6,0))","v":{"$error":"#N/A"}},{"$f":"IF(E236=\"\",\"\",VLOOKUP(E236,漢字書き!$A$2:$N$506,6,0))","v":{"$error":"#N/A"}},{"$f":"IF(F236=\"\",\"\",VLOOKUP(F236,漢字書き!$A$2:$N$506,6,0))","v":{"$error":"#N/A"}},{"$f":"IF(G236=\"\",\"\",VLOOKUP(G236,漢字書き!$A$2:$N$506,6,0))","v":{"$error":"#N/A"}},{"$f":"IF(H236=\"\",\"\",VLOOKUP(H236,漢字書き!$A$2:$N$506,6,0))","v":{"$error":"#N/A"}},{"$f":"IF(I236=\"\",\"\",VLOOKUP(I236,漢字書き!$A$2:$N$506,6,0))","v":{"$error":"#N/A"}},{"$f":"IF(J236=\"\",\"\",VLOOKUP(J236,漢字書き!$A$2:$N$506,6,0))","v":{"$error":"#N/A"}},{"$f":"IF(K236=\"\",\"\",VLOOKUP(K236,漢字読み!$A$2:$O$506,6,0))","v":{"$error":"#N/A"}},{"$f":"IF(L236=\"\",\"\",VLOOKUP(L236,漢字読み!$A$2:$O$506,6,0))","v":{"$error":"#N/A"}},{"$f":"IF(M236=\"\",\"\",VLOOKUP(M236,漢字読み!$A$2:$O$506,6,0))","v":{"$error":"#N/A"}},{"$f":"IF(N236=\"\",\"\",VLOOKUP(N236,漢字読み!$A$2:$O$506,6,0))","v":{"$error":"#N/A"}},{"$f":"IF(O236=\"\",\"\",VLOOKUP(O236,漢字読み!$A$2:$O$506,6,0))","v":{"$error":"#N/A"}},{"$f":"IF(P236=\"\",\"\",VLOOKUP(P236,漢字読み!$A$2:$O$506,6,0))","v":{"$error":"#N/A"}},{"$f":"IF(Q236=\"\",\"\",VLOOKUP(Q236,漢字読み!$A$2:$O$506,6,0))","v":{"$error":"#N/A"}},{"$f":"IF(R236=\"\",\"\",VLOOKUP(R236,漢字読み!$A$2:$O$506,6,0))","v":{"$error":"#N/A"}},{"$f":"IF(S236=\"\",\"\",VLOOKUP(S236,漢字読み!$A$2:$O$506,6,0))","v":{"$error":"#N/A"}},{"$f":"IF(T236=\"\",\"\",VLOOKUP(T236,漢字読み!$A$2:$O$506,6,0))","v":{"$error":"#N/A"}},null,"級"]
[{"$f":"IF(A$16=\"\",\"\",VLOOKUP(A236,漢字書き!$A$2:$O$506,8,0))","v":{"$error":"#N/A"}},{"$f":"IF(B$16=\"\",\"\",VLOOKUP(B236,漢字書き!$A$2:$O$506,8,0))","v":{"$error":"#N/A"}},{"$f":"IF(C$16=\"\",\"\",VLOOKUP(C236,漢字書き!$A$2:$O$506,8,0))","v":{"$error":"#N/A"}},{"$f":"IF(D$16=\"\",\"\",VLOOKUP(D236,漢字書き!$A$2:$O$506,8,0))","v":{"$error":"#N/A"}},{"$f":"IF(E$16=\"\",\"\",VLOOKUP(E236,漢字書き!$A$2:$O$506,8,0))","v":{"$error":"#N/A"}},{"$f":"IF(F$16=\"\",\"\",VLOOKUP(F236,漢字書き!$A$2:$O$506,8,0))","v":{"$error":"#N/A"}},{"$f":"IF(G$16=\"\",\"\",VLOOKUP(G236,漢字書き!$A$2:$O$506,8,0))","v":{"$error":"#N/A"}},{"$f":"IF(H$16=\"\",\"\",VLOOKUP(H236,漢字書き!$A$2:$O$506,8,0))","v":{"$error":"#N/A"}},{"$f":"IF(I$16=\"\",\"\",VLOOKUP(I236,漢字書き!$A$2:$O$506,8,0))","v":{"$error":"#N/A"}},{"$f":"IF(J$16=\"\",\"\",VLOOKUP(J236,漢字書き!$A$2:$O$506,8,0))","v":{"$error":"#N/A"}},{"$f":"IF(K$16=\"\",\"\",VLOOKUP(K236,漢字読み!$A$2:$O$506,8,0))","v":{"$error":"#N/A"}},{"$f":"IF(L$16=\"\",\"\",VLOOKUP(L236,漢字読み!$A$2:$O$506,8,0))","v":{"$error":"#N/A"}},{"$f":"IF(M$16=\"\",\"\",VLOOKUP(M236,漢字読み!$A$2:$O$506,8,0))","v":{"$error":"#N/A"}},{"$f":"IF(N$16=\"\",\"\",VLOOKUP(N236,漢字読み!$A$2:$O$506,8,0))","v":{"$error":"#N/A"}},{"$f":"IF(O$16=\"\",\"\",VLOOKUP(O236,漢字読み!$A$2:$O$506,8,0))","v":{"$error":"#N/A"}},{"$f":"IF(P$16=\"\",\"\",VLOOKUP(P236,漢字読み!$A$2:$O$506,8,0))","v":{"$error":"#N/A"}},{"$f":"IF(Q$16=\"\",\"\",VLOOKUP(Q236,漢字読み!$A$2:$O$506,8,0))","v":{"$error":"#N/A"}},{"$f":"IF(R$16=\"\",\"\",VLOOKUP(R236,漢字読み!$A$2:$O$506,8,0))","v":{"$error":"#N/A"}},{"$f":"IF(S$16=\"\",\"\",VLOOKUP(S236,漢字読み!$A$2:$O$506,8,0))","v":{"$error":"#N/A"}},{"$f":"IF(T$16=\"\",\"\",VLOOKUP(T236,漢字読み!$A$2:$O$506,8,0))","v":{"$error":"#N/A"}},null,"名前"]
[{"$f":"IF(A236=\"\",\"\",IF(VLOOKUP(A236,漢字書き!$A$2:$N$502,7,0)=0,\"\",VLOOKUP(A236,漢字書き!$A$2:$N$502,7,0)))","v":{"$error":"#N/A"}},{"$f":"IF(B236=\"\",\"\",IF(VLOOKUP(B236,漢字書き!$A$2:$N$502,7,0)=0,\"\",VLOOKUP(B236,漢字書き!$A$2:$N$502,7,0)))","v":{"$error":"#N/A"}},{"$f":"IF(C236=\"\",\"\",IF(VLOOKUP(C236,漢字書き!$A$2:$N$502,7,0)=0,\"\",VLOOKUP(C236,漢字書き!$A$2:$N$502,7,0)))","v":{"$error":"#N/A"}},{"$f":"IF(D236=\"\",\"\",IF(VLOOKUP(D236,漢字書き!$A$2:$N$502,7,0)=0,\"\",VLOOKUP(D236,漢字書き!$A$2:$N$502,7,0)))","v":{"$error":"#N/A"}},{"$f":"IF(E236=\"\",\"\",IF(VLOOKUP(E236,漢字書き!$A$2:$N$502,7,0)=0,\"\",VLOOKUP(E236,漢字書き!$A$2:$N$502,7,0)))","v":{"$error":"#N/A"}},{"$f":"IF(F236=\"\",\"\",IF(VLOOKUP(F236,漢字書き!$A$2:$N$502,7,0)=0,\"\",VLOOKUP(F236,漢字書き!$A$2:$N$502,7,0)))","v":{"$error":"#N/A"}},{"$f":"IF(G236=\"\",\"\",IF(VLOOKUP(G236,漢字書き!$A$2:$N$502,7,0)=0,\"\",VLOOKUP(G236,漢字書き!$A$2:$N$502,7,0)))","v":{"$error":"#N/A"}},{"$f":"IF(H236=\"\",\"\",IF(VLOOKUP(H236,漢字書き!$A$2:$N$502,7,0)=0,\"\",VLOOKUP(H236,漢字書き!$A$2:$N$502,7,0)))","v":{"$error":"#N/A"}},{"$f":"IF(I236=\"\",\"\",IF(VLOOKUP(I236,漢字書き!$A$2:$N$502,7,0)=0,\"\",VLOOKUP(I236,漢字書き!$A$2:$N$502,7,0)))","v":{"$error":"#N/A"}},{"$f":"IF(J236=\"\",\"\",IF(VLOOKUP(J236,漢字書き!$A$2:$N$502,7,0)=0,\"\",VLOOKUP(J236,漢字書き!$A$2:$N$502,7,0)))","v":{"$error":"#N/A"}},{"$f":"IF(K236=\"\",\"\",IF(VLOOKUP(K236,漢字読み!$A$2:$O$502,7,0)=0,\"\",VLOOKUP(K236,漢字読み!$A$2:$O$502,7,0)))","v":{"$error":"#N/A"}},{"$f":"IF(L236=\"\",\"\",IF(VLOOKUP(L236,漢字読み!$A$2:$O$502,7,0)=0,\"\",VLOOKUP(L236,漢字読み!$A$2:$O$502,7,0)))","v":{"$error":"#N/A"}},{"$f":"IF(M236=\"\",\"\",IF(VLOOKUP(M236,漢字読み!$A$2:$O$502,7,0)=0,\"\",VLOOKUP(M236,漢字読み!$A$2:$O$502,7,0)))","v":{"$error":"#N/A"}},{"$f":"IF(N236=\"\",\"\",IF(VLOOKUP(N236,漢字読み!$A$2:$O$502,7,0)=0,\"\",VLOOKUP(N236,漢字読み!$A$2:$O$502,7,0)))","v":{"$error":"#N/A"}},{"$f":"IF(O236=\"\",\"\",IF(VLOOKUP(O236,漢字読み!$A$2:$O$502,7,0)=0,\"\",VLOOKUP(O236,漢字読み!$A$2:$O$502,7,0)))","v":{"$error":"#N/A"}},{"$f":"IF(P236=\"\",\"\",IF(VLOOKUP(P236,漢字読み!$A$2:$O$502,7,0)=0,\"\",VLOOKUP(P236,漢字読み!$A$2:$O$502,7,0)))","v":{"$error":"#N/A"}},{"$f":"IF(Q236=\"\",\"\",IF(VLOOKUP(Q236,漢字読み!$A$2:$O$502,7,0)=0,\"\",VLOOKUP(Q236,漢字読み!$A$2:$O$502,7,0)))","v":{"$error":"#N/A"}},{"$f":"IF(R236=\"\",\"\",IF(VLOOKUP(R236,漢字読み!$A$2:$O$502,7,0)=0,\"\",VLOOKUP(R236,漢字読み!$A$2:$O$502,7,0)))","v":{"$error":"#N/A"}},{"$f":"IF(S236=\"\",\"\",IF(VLOOKUP(S236,漢字読み!$A$2:$O$502,7,0)=0,\"\",VLOOKUP(S236,漢字読み!$A$2:$O$502,7,0)))","v":{"$error":"#N/A"}},{"$f":"IF(T236=\"\",\"\",IF(VLOOKUP(T236,漢字読み!$A$2:$O$502,7,0)=0,\"\",VLOOKUP(T236,漢字読み!$A$2:$O$502,7,0)))","v":{"$error":"#N/A"}},null,null,"和歌山県教育委員会"]
[{"$f":"INDIRECT(\"'関数（書き）'!C\" & COLUMN(B$1)+SUM($AD$2:$AD242))","v":0},{"$f":"INDIRECT(\"'関数（書き）'!C\" & COLUMN(C$1)+SUM($AD$2:$AD242))","v":0},{"$f":"INDIRECT(\"'関数（書き）'!C\" & COLUMN(D$1)+SUM($AD$2:$AD242))","v":0},{"$f":"INDIRECT(\"'関数（書き）'!C\" & COLUMN(E$1)+SUM($AD$2:$AD242))","v":0},{"$f":"INDIRECT(\"'関数（書き）'!C\" & COLUMN(F$1)+SUM($AD$2:$AD242))","v":0},{"$f":"INDIRECT(\"'関数（書き）'!C\" & COLUMN(G$1)+SUM($AD$2:$AD242))","v":0},{"$f":"INDIRECT(\"'関数（書き）'!C\" & COLUMN(H$1)+SUM($AD$2:$AD242))","v":0},{"$f":"INDIRECT(\"'関数（書き）'!C\" & COLUMN(I$1)+SUM($AD$2:$AD242))","v":0},{"$f":"INDIRECT(\"'関数（書き）'!C\" & COLUMN(J$1)+SUM($AD$2:$AD242))","v":0},{"$f":"INDIRECT(\"'関数（書き）'!C\" & COLUMN(K$1)+SUM($AD$2:$AD242))","v":0},{"$f":"INDIRECT(\"'関数（読み）'!C\" & COLUMN(B$1)+SUM($AD$2:$AD242))","v":0},{"$f":"INDIRECT(\"'関数（読み）'!C\" & COLUMN(C$1)+SUM($AD$2:$AD242))","v":0},{"$f":"INDIRECT(\"'関数（読み）'!C\" & COLUMN(D$1)+SUM($AD$2:$AD242))","v":0},{"$f":"INDIRECT(\"'関数（読み）'!C\" & COLUMN(E$1)+SUM($AD$2:$AD242))","v":0},{"$f":"INDIRECT(\"'関数（読み）'!C\" & COLUMN(F$1)+SUM($AD$2:$AD242))","v":0},{"$f":"INDIRECT(\"'関数（読み）'!C\" & COLUMN(G$1)+SUM($AD$2:$AD242))","v":0},{"$f":"INDIRECT(\"'関数（読み）'!C\" & COLUMN(H$1)+SUM($AD$2:$AD242))","v":0},{"$f":"INDIRECT(\"'関数（読み）'!C\" & COLUMN(I$1)+SUM($AD$2:$AD242))","v":0},{"$f":"INDIRECT(\"'関数（読み）'!C\" & COLUMN(J$1)+SUM($AD$2:$AD242))","v":0},{"$f":"INDIRECT(\"'関数（読み）'!C\" & COLUMN(K$1)+SUM($AD$2:$AD242))","v":0}]
["⑳","⑲","⑱","⑰","⑯","⑮","⑭","⑬","⑫","⑪","⑩","⑨","⑧","⑦","⑥","⑤","④","③","②","①","次の［　　　　］の部分の漢字には読みがなをひらがなで書き、カタカナは漢字に直しなさい。",15,"「漢字の博士検定試験」練習問題　",null,null,null,null,null,"←",10,"問",{"$f":"AH227+1","v":241},"～",{"$f":"SUM($AD$2:$AD242)+10","v":250},"問まで",{"$f":"COUNTIF($A$1:$T$200,T243)","v":195}]
[{"$f":"IF(A241=\"\",\"\",VLOOKUP(A241,漢字書き!$A$2:$N$506,6,0))","v":{"$error":"#N/A"}},{"$f":"IF(B241=\"\",\"\",VLOOKUP(B241,漢字書き!$A$2:$N$506,6,0))","v":{"$error":"#N/A"}},{"$f":"IF(C241=\"\",\"\",VLOOKUP(C241,漢字書き!$A$2:$N$506,6,0))","v":{"$error":"#N/A"}},{"$f":"IF(D241=\"\",\"\",VLOOKUP(D241,漢字書き!$A$2:$N$506,6,0))","v":{"$error":"#N/A"}},{"$f":"IF(E241=\"\",\"\",VLOOKUP(E241,漢字書き!$A$2:$N$506,6,0))","v":{"$error":"#N/A"}},{"$f":"IF(F241=\"\",\"\",VLOOKUP(F241,漢字書き!$A$2:$N$506,6,0))","v":{"$error":"#N/A"}},{"$f":"IF(G241=\"\",\"\",VLOOKUP(G241,漢字書き!$A$2:$N$506,6,0))","v":{"$error":"#N/A"}},{"$f":"IF(H241=\"\",\"\",VLOOKUP(H241,漢字書き!$A$2:$N$506,6,0))","v":{"$error":"#N/A"}},{"$f":"IF(I241=\"\",\"\",VLOOKUP(I241,漢字書き!$A$2:$N$506,6,0))","v":{"$error":"#N/A"}},{"$f":"IF(J241=\"\",\"\",VLOOKUP(J241,漢字書き!$A$2:$N$506,6,0))","v":{"$error":"#N/A"}},{"$f":"IF(K241=\"\",\"\",VLOOKUP(K241,漢字読み!$A$2:$O$506,6,0))","v":{"$error":"#N/A"}},{"$f":"IF(L241=\"\",\"\",VLOOKUP(L241,漢字読み!$A$2:$O$506,6,0))","v":{"$error":"#N/A"}},{"$f":"IF(M241=\"\",\"\",VLOOKUP(M241,漢字読み!$A$2:$O$506,6,0))","v":{"$error":"#N/A"}},{"$f":"IF(N241=\"\",\"\",VLOOKUP(N241,漢字読み!$A$2:$O$506,6,0))","v":{"$error":"#N/A"}},{"$f":"IF(O241=\"\",\"\",VLOOKUP(O241,漢字読み!$A$2:$O$506,6,0))","v":{"$error":"#N/A"}},{"$f":"IF(P241=\"\",\"\",VLOOKUP(P241,漢字読み!$A$2:$O$506,6,0))","v":{"$error":"#N/A"}},{"$f":"IF(Q241=\"\",\"\",VLOOKUP(Q241,漢字読み!$A$2:$O$506,6,0))","v":{"$error":"#N/A"}},{"$f":"IF(R241=\"\",\"\",VLOOKUP(R241,漢字読み!$A$2:$O$506,6,0))","v":{"$error":"#N/A"}},{"$f":"IF(S241=\"\",\"\",VLOOKUP(S241,漢字読み!$A$2:$O$506,6,0))","v":{"$error":"#N/A"}},{"$f":"IF(T241=\"\",\"\",VLOOKUP(T241,漢字読み!$A$2:$O$506,6,0))","v":{"$error":"#N/A"}},null,"級"]
[null,null,null,null,null,null,null,null,null,null,null,null,null,null,null,null,null,null,null,null,null,"名前"]
[{"$f":"IF(A241=\"\",\"\",IF(VLOOKUP(A241,漢字書き!$A$2:$N$502,7,0)=0,\"\",VLOOKUP(A241,漢字書き!$A$2:$N$502,7,0)))","v":{"$error":"#N/A"}},{"$f":"IF(B241=\"\",\"\",IF(VLOOKUP(B241,漢字書き!$A$2:$N$502,7,0)=0,\"\",VLOOKUP(B241,漢字書き!$A$2:$N$502,7,0)))","v":{"$error":"#N/A"}},{"$f":"IF(C241=\"\",\"\",IF(VLOOKUP(C241,漢字書き!$A$2:$N$502,7,0)=0,\"\",VLOOKUP(C241,漢字書き!$A$2:$N$502,7,0)))","v":{"$error":"#N/A"}},{"$f":"IF(D241=\"\",\"\",IF(VLOOKUP(D241,漢字書き!$A$2:$N$502,7,0)=0,\"\",VLOOKUP(D241,漢字書き!$A$2:$N$502,7,0)))","v":{"$error":"#N/A"}},{"$f":"IF(E241=\"\",\"\",IF(VLOOKUP(E241,漢字書き!$A$2:$N$502,7,0)=0,\"\",VLOOKUP(E241,漢字書き!$A$2:$N$502,7,0)))","v":{"$error":"#N/A"}},{"$f":"IF(F241=\"\",\"\",IF(VLOOKUP(F241,漢字書き!$A$2:$N$502,7,0)=0,\"\",VLOOKUP(F241,漢字書き!$A$2:$N$502,7,0)))","v":{"$error":"#N/A"}},{"$f":"IF(G241=\"\",\"\",IF(VLOOKUP(G241,漢字書き!$A$2:$N$502,7,0)=0,\"\",VLOOKUP(G241,漢字書き!$A$2:$N$502,7,0)))","v":{"$error":"#N/A"}},{"$f":"IF(H241=\"\",\"\",IF(VLOOKUP(H241,漢字書き!$A$2:$N$502,7,0)=0,\"\",VLOOKUP(H241,漢字書き!$A$2:$N$502,7,0)))","v":{"$error":"#N/A"}},{"$f":"IF(I241=\"\",\"\",IF(VLOOKUP(I241,漢字書き!$A$2:$N$502,7,0)=0,\"\",VLOOKUP(I241,漢字書き!$A$2:$N$502,7,0)))","v":{"$error":"#N/A"}},{"$f":"IF(J241=\"\",\"\",IF(VLOOKUP(J241,漢字書き!$A$2:$N$502,7,0)=0,\"\",VLOOKUP(J241,漢字書き!$A$2:$N$502,7,0)))","v":{"$error":"#N/A"}},{"$f":"IF(K241=\"\",\"\",IF(VLOOKUP(K241,漢字読み!$A$2:$O$502,7,0)=0,\"\",VLOOKUP(K241,漢字読み!$A$2:$O$502,7,0)))","v":{"$error":"#N/A"}},{"$f":"IF(L241=\"\",\"\",IF(VLOOKUP(L241,漢字読み!$A$2:$O$502,7,0)=0,\"\",VLOOKUP(L241,漢字読み!$A$2:$O$502,7,0)))","v":{"$error":"#N/A"}},{"$f":"IF(M241=\"\",\"\",IF(VLOOKUP(M241,漢字読み!$A$2:$O$502,7,0)=0,\"\",VLOOKUP(M241,漢字読み!$A$2:$O$502,7,0)))","v":{"$error":"#N/A"}},{"$f":"IF(N241=\"\",\"\",IF(VLOOKUP(N241,漢字読み!$A$2:$O$502,7,0)=0,\"\",VLOOKUP(N241,漢字読み!$A$2:$O$502,7,0)))","v":{"$error":"#N/A"}},{"$f":"IF(O241=\"\",\"\",IF(VLOOKUP(O241,漢字読み!$A$2:$O$502,7,0)=0,\"\",VLOOKUP(O241,漢字読み!$A$2:$O$502,7,0)))","v":{"$error":"#N/A"}},{"$f":"IF(P241=\"\",\"\",IF(VLOOKUP(P241,漢字読み!$A$2:$O$502,7,0)=0,\"\",VLOOKUP(P241,漢字読み!$A$2:$O$502,7,0)))","v":{"$error":"#N/A"}},{"$f":"IF(Q241=\"\",\"\",IF(VLOOKUP(Q241,漢字読み!$A$2:$O$502,7,0)=0,\"\",VLOOKUP(Q241,漢字読み!$A$2:$O$502,7,0)))","v":{"$error":"#N/A"}},{"$f":"IF(R241=\"\",\"\",IF(VLOOKUP(R241,漢字読み!$A$2:$O$502,7,0)=0,\"\",VLOOKUP(R241,漢字読み!$A$2:$O$502,7,0)))","v":{"$error":"#N/A"}},{"$f":"IF(S241=\"\",\"\",IF(VLOOKUP(S241,漢字読み!$A$2:$O$502,7,0)=0,\"\",VLOOKUP(S241,漢字読み!$A$2:$O$502,7,0)))","v":{"$error":"#N/A"}},{"$f":"IF(T241=\"\",\"\",IF(VLOOKUP(T241,漢字読み!$A$2:$O$502,7,0)=0,\"\",VLOOKUP(T241,漢字読み!$A$2:$O$502,7,0)))","v":{"$error":"#N/A"}},null,null,"和歌山県教育委員会"]
[{"$f":"INDIRECT(\"'関数（書き）'!C\" & COLUMN(B$1)+SUM($AD$2:$AD247))","v":0},{"$f":"INDIRECT(\"'関数（書き）'!C\" & COLUMN(C$1)+SUM($AD$2:$AD247))","v":0},{"$f":"INDIRECT(\"'関数（書き）'!C\" & COLUMN(D$1)+SUM($AD$2:$AD247))","v":0},{"$f":"INDIRECT(\"'関数（書き）'!C\" & COLUMN(E$1)+SUM($AD$2:$AD247))","v":0},{"$f":"INDIRECT(\"'関数（書き）'!C\" & COLUMN(F$1)+SUM($AD$2:$AD247))","v":0},{"$f":"INDIRECT(\"'関数（書き）'!C\" & COLUMN(G$1)+SUM($AD$2:$AD247))","v":0},{"$f":"INDIRECT(\"'関数（書き）'!C\" & COLUMN(H$1)+SUM($AD$2:$AD247))","v":0},{"$f":"INDIRECT(\"'関数（書き）'!C\" & COLUMN(I$1)+SUM($AD$2:$AD247))","v":0},{"$f":"INDIRECT(\"'関数（書き）'!C\" & COLUMN(J$1)+SUM($AD$2:$AD247))","v":0},{"$f":"INDIRECT(\"'関数（書き）'!C\" & COLUMN(K$1)+SUM($AD$2:$AD247))","v":0},{"$f":"INDIRECT(\"'関数（読み）'!C\" & COLUMN(B$1)+SUM($AD$2:$AD247))","v":0},{"$f":"INDIRECT(\"'関数（読み）'!C\" & COLUMN(C$1)+SUM($AD$2:$AD247))","v":0},{"$f":"INDIRECT(\"'関数（読み）'!C\" & COLUMN(D$1)+SUM($AD$2:$AD247))","v":0},{"$f":"INDIRECT(\"'関数（読み）'!C\" & COLUMN(E$1)+SUM($AD$2:$AD247))","v":0},{"$f":"INDIRECT(\"'関数（読み）'!C\" & COLUMN(F$1)+SUM($AD$2:$AD247))","v":0},{"$f":"INDIRECT(\"'関数（読み）'!C\" & COLUMN(G$1)+SUM($AD$2:$AD247))","v":0},{"$f":"INDIRECT(\"'関数（読み）'!C\" & COLUMN(H$1)+SUM($AD$2:$AD247))","v":0},{"$f":"INDIRECT(\"'関数（読み）'!C\" & COLUMN(I$1)+SUM($AD$2:$AD247))","v":0},{"$f":"INDIRECT(\"'関数（読み）'!C\" & COLUMN(J$1)+SUM($AD$2:$AD247))","v":0},{"$f":"INDIRECT(\"'関数（読み）'!C\" & COLUMN(K$1)+SUM($AD$2:$AD247))","v":0}]
["⑳","⑲","⑱","⑰","⑯","⑮","⑭","⑬","⑫","⑪","⑩","⑨","⑧","⑦","⑥","⑤","④","③","②","①","次の［　　　　］の部分の漢字には読みがなをひらがなで書き、カタカナは漢字に直しなさい。",15,"「漢字の博士検定試験」練習問題　",null,null,null,null,null,"←",10,"問",{"$f":"AH242+1","v":251},"～",{"$f":"SUM($AD$2:$AD247)+10","v":260},"問まで",{"$f":"COUNTIF($A$1:$T$200,T248)","v":195}]
[{"$f":"IF(A246=\"\",\"\",VLOOKUP(A246,漢字書き!$A$2:$N$506,6,0))","v":{"$error":"#N/A"}},{"$f":"IF(B246=\"\",\"\",VLOOKUP(B246,漢字書き!$A$2:$N$506,6,0))","v":{"$error":"#N/A"}},{"$f":"IF(C246=\"\",\"\",VLOOKUP(C246,漢字書き!$A$2:$N$506,6,0))","v":{"$error":"#N/A"}},{"$f":"IF(D246=\"\",\"\",VLOOKUP(D246,漢字書き!$A$2:$N$506,6,0))","v":{"$error":"#N/A"}},{"$f":"IF(E246=\"\",\"\",VLOOKUP(E246,漢字書き!$A$2:$N$506,6,0))","v":{"$error":"#N/A"}},{"$f":"IF(F246=\"\",\"\",VLOOKUP(F246,漢字書き!$A$2:$N$506,6,0))","v":{"$error":"#N/A"}},{"$f":"IF(G246=\"\",\"\",VLOOKUP(G246,漢字書き!$A$2:$N$506,6,0))","v":{"$error":"#N/A"}},{"$f":"IF(H246=\"\",\"\",VLOOKUP(H246,漢字書き!$A$2:$N$506,6,0))","v":{"$error":"#N/A"}},{"$f":"IF(I246=\"\",\"\",VLOOKUP(I246,漢字書き!$A$2:$N$506,6,0))","v":{"$error":"#N/A"}},{"$f":"IF(J246=\"\",\"\",VLOOKUP(J246,漢字書き!$A$2:$N$506,6,0))","v":{"$error":"#N/A"}},{"$f":"IF(K246=\"\",\"\",VLOOKUP(K246,漢字読み!$A$2:$O$506,6,0))","v":{"$error":"#N/A"}},{"$f":"IF(L246=\"\",\"\",VLOOKUP(L246,漢字読み!$A$2:$O$506,6,0))","v":{"$error":"#N/A"}},{"$f":"IF(M246=\"\",\"\",VLOOKUP(M246,漢字読み!$A$2:$O$506,6,0))","v":{"$error":"#N/A"}},{"$f":"IF(N246=\"\",\"\",VLOOKUP(N246,漢字読み!$A$2:$O$506,6,0))","v":{"$error":"#N/A"}},{"$f":"IF(O246=\"\",\"\",VLOOKUP(O246,漢字読み!$A$2:$O$506,6,0))","v":{"$error":"#N/A"}},{"$f":"IF(P246=\"\",\"\",VLOOKUP(P246,漢字読み!$A$2:$O$506,6,0))","v":{"$error":"#N/A"}},{"$f":"IF(Q246=\"\",\"\",VLOOKUP(Q246,漢字読み!$A$2:$O$506,6,0))","v":{"$error":"#N/A"}},{"$f":"IF(R246=\"\",\"\",VLOOKUP(R246,漢字読み!$A$2:$O$506,6,0))","v":{"$error":"#N/A"}},{"$f":"IF(S246=\"\",\"\",VLOOKUP(S246,漢字読み!$A$2:$O$506,6,0))","v":{"$error":"#N/A"}},{"$f":"IF(T246=\"\",\"\",VLOOKUP(T246,漢字読み!$A$2:$O$506,6,0))","v":{"$error":"#N/A"}},null,"級"]
[null,null,null,null,null,null,null,null,null,null,null,null,null,null,null,null,null,null,null,null,null,"名前"]
[{"$f":"IF(A246=\"\",\"\",IF(VLOOKUP(A246,漢字書き!$A$2:$N$502,7,0)=0,\"\",VLOOKUP(A246,漢字書き!$A$2:$N$502,7,0)))","v":{"$error":"#N/A"}},{"$f":"IF(B246=\"\",\"\",IF(VLOOKUP(B246,漢字書き!$A$2:$N$502,7,0)=0,\"\",VLOOKUP(B246,漢字書き!$A$2:$N$502,7,0)))","v":{"$error":"#N/A"}},{"$f":"IF(C246=\"\",\"\",IF(VLOOKUP(C246,漢字書き!$A$2:$N$502,7,0)=0,\"\",VLOOKUP(C246,漢字書き!$A$2:$N$502,7,0)))","v":{"$error":"#N/A"}},{"$f":"IF(D246=\"\",\"\",IF(VLOOKUP(D246,漢字書き!$A$2:$N$502,7,0)=0,\"\",VLOOKUP(D246,漢字書き!$A$2:$N$502,7,0)))","v":{"$error":"#N/A"}},{"$f":"IF(E246=\"\",\"\",IF(VLOOKUP(E246,漢字書き!$A$2:$N$502,7,0)=0,\"\",VLOOKUP(E246,漢字書き!$A$2:$N$502,7,0)))","v":{"$error":"#N/A"}},{"$f":"IF(F246=\"\",\"\",IF(VLOOKUP(F246,漢字書き!$A$2:$N$502,7,0)=0,\"\",VLOOKUP(F246,漢字書き!$A$2:$N$502,7,0)))","v":{"$error":"#N/A"}},{"$f":"IF(G246=\"\",\"\",IF(VLOOKUP(G246,漢字書き!$A$2:$N$502,7,0)=0,\"\",VLOOKUP(G246,漢字書き!$A$2:$N$502,7,0)))","v":{"$error":"#N/A"}},{"$f":"IF(H246=\"\",\"\",IF(VLOOKUP(H246,漢字書き!$A$2:$N$502,7,0)=0,\"\",VLOOKUP(H246,漢字書き!$A$2:$N$502,7,0)))","v":{"$error":"#N/A"}},{"$f":"IF(I246=\"\",\"\",IF(VLOOKUP(I246,漢字書き!$A$2:$N$502,7,0)=0,\"\",VLOOKUP(I246,漢字書き!$A$2:$N$502,7,0)))","v":{"$error":"#N/A"}},{"$f":"IF(J246=\"\",\"\",IF(VLOOKUP(J246,漢字書き!$A$2:$N$502,7,0)=0,\"\",VLOOKUP(J246,漢字書き!$A$2:$N$502,7,0)))","v":{"$error":"#N/A"}},{"$f":"IF(K246=\"\",\"\",IF(VLOOKUP(K246,漢字読み!$A$2:$O$502,7,0)=0,\"\",VLOOKUP(K246,漢字読み!$A$2:$O$502,7,0)))","v":{"$error":"#N/A"}},{"$f":"IF(L246=\"\",\"\",IF(VLOOKUP(L246,漢字読み!$A$2:$O$502,7,0)=0,\"\",VLOOKUP(L246,漢字読み!$A$2:$O$502,7,0)))","v":{"$error":"#N/A"}},{"$f":"IF(M246=\"\",\"\",IF(VLOOKUP(M246,漢字読み!$A$2:$O$502,7,0)=0,\"\",VLOOKUP(M246,漢字読み!$A$2:$O$502,7,0)))","v":{"$error":"#N/A"}},{"$f":"IF(N246=\"\",\"\",IF(VLOOKUP(N246,漢字読み!$A$2:$O$502,7,0)=0,\"\",VLOOKUP(N246,漢字読み!$A$2:$O$502,7,0)))","v":{"$error":"#N/A"}},{"$f":"IF(O246=\"\",\"\",IF(VLOOKUP(O246,漢字読み!$A$2:$O$502,7,0)=0,\"\",VLOOKUP(O246,漢字読み!$A$2:$O$502,7,0)))","v":{"$error":"#N/A"}},{"$f":"IF(P246=\"\",\"\",IF(VLOOKUP(P246,漢字読み!$A$2:$O$502,7,0)=0,\"\",VLOOKUP(P246,漢字読み!$A$2:$O$502,7,0)))","v":{"$error":"#N/A"}},{"$f":"IF(Q246=\"\",\"\",IF(VLOOKUP(Q246,漢字読み!$A$2:$O$502,7,0)=0,\"\",VLOOKUP(Q246,漢字読み!$A$2:$O$502,7,0)))","v":{"$error":"#N/A"}},{"$f":"IF(R246=\"\",\"\",IF(VLOOKUP(R246,漢字読み!$A$2:$O$502,7,0)=0,\"\",VLOOKUP(R246,漢字読み!$A$2:$O$502,7,0)))","v":{"$error":"#N/A"}},{"$f":"IF(S246=\"\",\"\",IF(VLOOKUP(S246,漢字読み!$A$2:$O$502,7,0)=0,\"\",VLOOKUP(S246,漢字読み!$A$2:$O$502,7,0)))","v":{"$error":"#N/A"}},{"$f":"IF(T246=\"\",\"\",IF(VLOOKUP(T246,漢字読み!$A$2:$O$502,7,0)=0,\"\",VLOOKUP(T246,漢字読み!$A$2:$O$502,7,0)))","v":{"$error":"#N/A"}},null,null,"和歌山県教育委員会"]
[{"$f":"A241","v":0},{"$f":"B241","v":0},0,0,0,0,0,0,0,0,0,0,0,0,0,0,0,0,0,0]
["⑳","⑲","⑱","⑰","⑯","⑮","⑭","⑬","⑫","⑪","⑩","⑨","⑧","⑦","⑥","⑤","④","③","②","①","次の［　　　　］の部分の漢字には読みがなをひらがなで書き、カタカナは漢字に直しなさい。",15,"「漢字の博士検定試験」練習問題　"]
[{"$f":"IF(A251=\"\",\"\",VLOOKUP(A251,漢字書き!$A$2:$N$506,6,0))","v":{"$error":"#N/A"}},{"$f":"IF(B251=\"\",\"\",VLOOKUP(B251,漢字書き!$A$2:$N$506,6,0))","v":{"$error":"#N/A"}},{"$f":"IF(C251=\"\",\"\",VLOOKUP(C251,漢字書き!$A$2:$N$506,6,0))","v":{"$error":"#N/A"}},{"$f":"IF(D251=\"\",\"\",VLOOKUP(D251,漢字書き!$A$2:$N$506,6,0))","v":{"$error":"#N/A"}},{"$f":"IF(E251=\"\",\"\",VLOOKUP(E251,漢字書き!$A$2:$N$506,6,0))","v":{"$error":"#N/A"}},{"$f":"IF(F251=\"\",\"\",VLOOKUP(F251,漢字書き!$A$2:$N$506,6,0))","v":{"$error":"#N/A"}},{"$f":"IF(G251=\"\",\"\",VLOOKUP(G251,漢字書き!$A$2:$N$506,6,0))","v":{"$error":"#N/A"}},{"$f":"IF(H251=\"\",\"\",VLOOKUP(H251,漢字書き!$A$2:$N$506,6,0))","v":{"$error":"#N/A"}},{"$f":"IF(I251=\"\",\"\",VLOOKUP(I251,漢字書き!$A$2:$N$506,6,0))","v":{"$error":"#N/A"}},{"$f":"IF(J251=\"\",\"\",VLOOKUP(J251,漢字書き!$A$2:$N$506,6,0))","v":{"$error":"#N/A"}},{"$f":"IF(K251=\"\",\"\",VLOOKUP(K251,漢字読み!$A$2:$O$506,6,0))","v":{"$error":"#N/A"}},{"$f":"IF(L251=\"\",\"\",VLOOKUP(L251,漢字読み!$A$2:$O$506,6,0))","v":{"$error":"#N/A"}},{"$f":"IF(M251=\"\",\"\",VLOOKUP(M251,漢字読み!$A$2:$O$506,6,0))","v":{"$error":"#N/A"}},{"$f":"IF(N251=\"\",\"\",VLOOKUP(N251,漢字読み!$A$2:$O$506,6,0))","v":{"$error":"#N/A"}},{"$f":"IF(O251=\"\",\"\",VLOOKUP(O251,漢字読み!$A$2:$O$506,6,0))","v":{"$error":"#N/A"}},{"$f":"IF(P251=\"\",\"\",VLOOKUP(P251,漢字読み!$A$2:$O$506,6,0))","v":{"$error":"#N/A"}},{"$f":"IF(Q251=\"\",\"\",VLOOKUP(Q251,漢字読み!$A$2:$O$506,6,0))","v":{"$error":"#N/A"}},{"$f":"IF(R251=\"\",\"\",VLOOKUP(R251,漢字読み!$A$2:$O$506,6,0))","v":{"$error":"#N/A"}},{"$f":"IF(S251=\"\",\"\",VLOOKUP(S251,漢字読み!$A$2:$O$506,6,0))","v":{"$error":"#N/A"}},{"$f":"IF(T251=\"\",\"\",VLOOKUP(T251,漢字読み!$A$2:$O$506,6,0))","v":{"$error":"#N/A"}},null,"級"]
[{"$f":"IF(A$11=\"\",\"\",VLOOKUP(A251,漢字書き!$A$2:$O$506,8,0))","v":{"$error":"#N/A"}},{"$f":"IF(B$11=\"\",\"\",VLOOKUP(B251,漢字書き!$A$2:$O$506,8,0))","v":{"$error":"#N/A"}},{"$f":"IF(C$11=\"\",\"\",VLOOKUP(C251,漢字書き!$A$2:$O$506,8,0))","v":{"$error":"#N/A"}},{"$f":"IF(D$11=\"\",\"\",VLOOKUP(D251,漢字書き!$A$2:$O$506,8,0))","v":{"$error":"#N/A"}},{"$f":"IF(E$11=\"\",\"\",VLOOKUP(E251,漢字書き!$A$2:$O$506,8,0))","v":{"$error":"#N/A"}},{"$f":"IF(F$11=\"\",\"\",VLOOKUP(F251,漢字書き!$A$2:$O$506,8,0))","v":{"$error":"#N/A"}},{"$f":"IF(G$11=\"\",\"\",VLOOKUP(G251,漢字書き!$A$2:$O$506,8,0))","v":{"$error":"#N/A"}},{"$f":"IF(H$11=\"\",\"\",VLOOKUP(H251,漢字書き!$A$2:$O$506,8,0))","v":{"$error":"#N/A"}},{"$f":"IF(I$11=\"\",\"\",VLOOKUP(I251,漢字書き!$A$2:$O$506,8,0))","v":{"$error":"#N/A"}},{"$f":"IF(J$11=\"\",\"\",VLOOKUP(J251,漢字書き!$A$2:$O$506,8,0))","v":{"$error":"#N/A"}},{"$f":"IF(K$11=\"\",\"\",VLOOKUP(K251,漢字読み!$A$2:$O$506,8,0))","v":{"$error":"#N/A"}},{"$f":"IF(L$11=\"\",\"\",VLOOKUP(L251,漢字読み!$A$2:$O$506,8,0))","v":{"$error":"#N/A"}},{"$f":"IF(M$11=\"\",\"\",VLOOKUP(M251,漢字読み!$A$2:$O$506,8,0))","v":{"$error":"#N/A"}},{"$f":"IF(N$11=\"\",\"\",VLOOKUP(N251,漢字読み!$A$2:$O$506,8,0))","v":{"$error":"#N/A"}},{"$f":"IF(O$11=\"\",\"\",VLOOKUP(O251,漢字読み!$A$2:$O$506,8,0))","v":{"$error":"#N/A"}},{"$f":"IF(P$11=\"\",\"\",VLOOKUP(P251,漢字読み!$A$2:$O$506,8,0))","v":{"$error":"#N/A"}},{"$f":"IF(Q$11=\"\",\"\",VLOOKUP(Q251,漢字読み!$A$2:$O$506,8,0))","v":{"$error":"#N/A"}},{"$f":"IF(R$11=\"\",\"\",VLOOKUP(R251,漢字読み!$A$2:$O$506,8,0))","v":{"$error":"#N/A"}},{"$f":"IF(S$11=\"\",\"\",VLOOKUP(S251,漢字読み!$A$2:$O$506,8,0))","v":{"$error":"#N/A"}},{"$f":"IF(T$11=\"\",\"\",VLOOKUP(T251,漢字読み!$A$2:$O$506,8,0))","v":{"$error":"#N/A"}},null,"名前"]
[{"$f":"IF(A251=\"\",\"\",IF(VLOOKUP(A251,漢字書き!$A$2:$N$502,7,0)=0,\"\",VLOOKUP(A251,漢字書き!$A$2:$N$502,7,0)))","v":{"$error":"#N/A"}},{"$f":"IF(B251=\"\",\"\",IF(VLOOKUP(B251,漢字書き!$A$2:$N$502,7,0)=0,\"\",VLOOKUP(B251,漢字書き!$A$2:$N$502,7,0)))","v":{"$error":"#N/A"}},{"$f":"IF(C251=\"\",\"\",IF(VLOOKUP(C251,漢字書き!$A$2:$N$502,7,0)=0,\"\",VLOOKUP(C251,漢字書き!$A$2:$N$502,7,0)))","v":{"$error":"#N/A"}},{"$f":"IF(D251=\"\",\"\",IF(VLOOKUP(D251,漢字書き!$A$2:$N$502,7,0)=0,\"\",VLOOKUP(D251,漢字書き!$A$2:$N$502,7,0)))","v":{"$error":"#N/A"}},{"$f":"IF(E251=\"\",\"\",IF(VLOOKUP(E251,漢字書き!$A$2:$N$502,7,0)=0,\"\",VLOOKUP(E251,漢字書き!$A$2:$N$502,7,0)))","v":{"$error":"#N/A"}},{"$f":"IF(F251=\"\",\"\",IF(VLOOKUP(F251,漢字書き!$A$2:$N$502,7,0)=0,\"\",VLOOKUP(F251,漢字書き!$A$2:$N$502,7,0)))","v":{"$error":"#N/A"}},{"$f":"IF(G251=\"\",\"\",IF(VLOOKUP(G251,漢字書き!$A$2:$N$502,7,0)=0,\"\",VLOOKUP(G251,漢字書き!$A$2:$N$502,7,0)))","v":{"$error":"#N/A"}},{"$f":"IF(H251=\"\",\"\",IF(VLOOKUP(H251,漢字書き!$A$2:$N$502,7,0)=0,\"\",VLOOKUP(H251,漢字書き!$A$2:$N$502,7,0)))","v":{"$error":"#N/A"}},{"$f":"IF(I251=\"\",\"\",IF(VLOOKUP(I251,漢字書き!$A$2:$N$502,7,0)=0,\"\",VLOOKUP(I251,漢字書き!$A$2:$N$502,7,0)))","v":{"$error":"#N/A"}},{"$f":"IF(J251=\"\",\"\",IF(VLOOKUP(J251,漢字書き!$A$2:$N$502,7,0)=0,\"\",VLOOKUP(J251,漢字書き!$A$2:$N$502,7,0)))","v":{"$error":"#N/A"}},{"$f":"IF(K251=\"\",\"\",IF(VLOOKUP(K251,漢字読み!$A$2:$O$502,7,0)=0,\"\",VLOOKUP(K251,漢字読み!$A$2:$O$502,7,0)))","v":{"$error":"#N/A"}},{"$f":"IF(L251=\"\",\"\",IF(VLOOKUP(L251,漢字読み!$A$2:$O$502,7,0)=0,\"\",VLOOKUP(L251,漢字読み!$A$2:$O$502,7,0)))","v":{"$error":"#N/A"}},{"$f":"IF(M251=\"\",\"\",IF(VLOOKUP(M251,漢字読み!$A$2:$O$502,7,0)=0,\"\",VLOOKUP(M251,漢字読み!$A$2:$O$502,7,0)))","v":{"$error":"#N/A"}},{"$f":"IF(N251=\"\",\"\",IF(VLOOKUP(N251,漢字読み!$A$2:$O$502,7,0)=0,\"\",VLOOKUP(N251,漢字読み!$A$2:$O$502,7,0)))","v":{"$error":"#N/A"}},{"$f":"IF(O251=\"\",\"\",IF(VLOOKUP(O251,漢字読み!$A$2:$O$502,7,0)=0,\"\",VLOOKUP(O251,漢字読み!$A$2:$O$502,7,0)))","v":{"$error":"#N/A"}},{"$f":"IF(P251=\"\",\"\",IF(VLOOKUP(P251,漢字読み!$A$2:$O$502,7,0)=0,\"\",VLOOKUP(P251,漢字読み!$A$2:$O$502,7,0)))","v":{"$error":"#N/A"}},{"$f":"IF(Q251=\"\",\"\",IF(VLOOKUP(Q251,漢字読み!$A$2:$O$502,7,0)=0,\"\",VLOOKUP(Q251,漢字読み!$A$2:$O$502,7,0)))","v":{"$error":"#N/A"}},{"$f":"IF(R251=\"\",\"\",IF(VLOOKUP(R251,漢字読み!$A$2:$O$502,7,0)=0,\"\",VLOOKUP(R251,漢字読み!$A$2:$O$502,7,0)))","v":{"$error":"#N/A"}},{"$f":"IF(S251=\"\",\"\",IF(VLOOKUP(S251,漢字読み!$A$2:$O$502,7,0)=0,\"\",VLOOKUP(S251,漢字読み!$A$2:$O$502,7,0)))","v":{"$error":"#N/A"}},{"$f":"IF(T251=\"\",\"\",IF(VLOOKUP(T251,漢字読み!$A$2:$O$502,7,0)=0,\"\",VLOOKUP(T251,漢字読み!$A$2:$O$502,7,0)))","v":{"$error":"#N/A"}},null,null,"和歌山県教育委員会"]
[{"$f":"A246","v":0},{"$f":"B246","v":0},0,0,0,0,0,0,0,0,0,0,0,0,0,0,0,0,0,0]
["⑳","⑲","⑱","⑰","⑯","⑮","⑭","⑬","⑫","⑪","⑩","⑨","⑧","⑦","⑥","⑤","④","③","②","①","次の［　　　　］の部分の漢字には読みがなをひらがなで書き、カタカナは漢字に直しなさい。",15,"「漢字の博士検定試験」練習問題　"]
[{"$f":"IF(A256=\"\",\"\",VLOOKUP(A256,漢字書き!$A$2:$N$506,6,0))","v":{"$error":"#N/A"}},{"$f":"IF(B256=\"\",\"\",VLOOKUP(B256,漢字書き!$A$2:$N$506,6,0))","v":{"$error":"#N/A"}},{"$f":"IF(C256=\"\",\"\",VLOOKUP(C256,漢字書き!$A$2:$N$506,6,0))","v":{"$error":"#N/A"}},{"$f":"IF(D256=\"\",\"\",VLOOKUP(D256,漢字書き!$A$2:$N$506,6,0))","v":{"$error":"#N/A"}},{"$f":"IF(E256=\"\",\"\",VLOOKUP(E256,漢字書き!$A$2:$N$506,6,0))","v":{"$error":"#N/A"}},{"$f":"IF(F256=\"\",\"\",VLOOKUP(F256,漢字書き!$A$2:$N$506,6,0))","v":{"$error":"#N/A"}},{"$f":"IF(G256=\"\",\"\",VLOOKUP(G256,漢字書き!$A$2:$N$506,6,0))","v":{"$error":"#N/A"}},{"$f":"IF(H256=\"\",\"\",VLOOKUP(H256,漢字書き!$A$2:$N$506,6,0))","v":{"$error":"#N/A"}},{"$f":"IF(I256=\"\",\"\",VLOOKUP(I256,漢字書き!$A$2:$N$506,6,0))","v":{"$error":"#N/A"}},{"$f":"IF(J256=\"\",\"\",VLOOKUP(J256,漢字書き!$A$2:$N$506,6,0))","v":{"$error":"#N/A"}},{"$f":"IF(K256=\"\",\"\",VLOOKUP(K256,漢字読み!$A$2:$O$506,6,0))","v":{"$error":"#N/A"}},{"$f":"IF(L256=\"\",\"\",VLOOKUP(L256,漢字読み!$A$2:$O$506,6,0))","v":{"$error":"#N/A"}},{"$f":"IF(M256=\"\",\"\",VLOOKUP(M256,漢字読み!$A$2:$O$506,6,0))","v":{"$error":"#N/A"}},{"$f":"IF(N256=\"\",\"\",VLOOKUP(N256,漢字読み!$A$2:$O$506,6,0))","v":{"$error":"#N/A"}},{"$f":"IF(O256=\"\",\"\",VLOOKUP(O256,漢字読み!$A$2:$O$506,6,0))","v":{"$error":"#N/A"}},{"$f":"IF(P256=\"\",\"\",VLOOKUP(P256,漢字読み!$A$2:$O$506,6,0))","v":{"$error":"#N/A"}},{"$f":"IF(Q256=\"\",\"\",VLOOKUP(Q256,漢字読み!$A$2:$O$506,6,0))","v":{"$error":"#N/A"}},{"$f":"IF(R256=\"\",\"\",VLOOKUP(R256,漢字読み!$A$2:$O$506,6,0))","v":{"$error":"#N/A"}},{"$f":"IF(S256=\"\",\"\",VLOOKUP(S256,漢字読み!$A$2:$O$506,6,0))","v":{"$error":"#N/A"}},{"$f":"IF(T256=\"\",\"\",VLOOKUP(T256,漢字読み!$A$2:$O$506,6,0))","v":{"$error":"#N/A"}},null,"級"]
[{"$f":"IF(A$16=\"\",\"\",VLOOKUP(A256,漢字書き!$A$2:$O$506,8,0))","v":{"$error":"#N/A"}},{"$f":"IF(B$16=\"\",\"\",VLOOKUP(B256,漢字書き!$A$2:$O$506,8,0))","v":{"$error":"#N/A"}},{"$f":"IF(C$16=\"\",\"\",VLOOKUP(C256,漢字書き!$A$2:$O$506,8,0))","v":{"$error":"#N/A"}},{"$f":"IF(D$16=\"\",\"\",VLOOKUP(D256,漢字書き!$A$2:$O$506,8,0))","v":{"$error":"#N/A"}},{"$f":"IF(E$16=\"\",\"\",VLOOKUP(E256,漢字書き!$A$2:$O$506,8,0))","v":{"$error":"#N/A"}},{"$f":"IF(F$16=\"\",\"\",VLOOKUP(F256,漢字書き!$A$2:$O$506,8,0))","v":{"$error":"#N/A"}},{"$f":"IF(G$16=\"\",\"\",VLOOKUP(G256,漢字書き!$A$2:$O$506,8,0))","v":{"$error":"#N/A"}},{"$f":"IF(H$16=\"\",\"\",VLOOKUP(H256,漢字書き!$A$2:$O$506,8,0))","v":{"$error":"#N/A"}},{"$f":"IF(I$16=\"\",\"\",VLOOKUP(I256,漢字書き!$A$2:$O$506,8,0))","v":{"$error":"#N/A"}},{"$f":"IF(J$16=\"\",\"\",VLOOKUP(J256,漢字書き!$A$2:$O$506,8,0))","v":{"$error":"#N/A"}},{"$f":"IF(K$16=\"\",\"\",VLOOKUP(K256,漢字読み!$A$2:$O$506,8,0))","v":{"$error":"#N/A"}},{"$f":"IF(L$16=\"\",\"\",VLOOKUP(L256,漢字読み!$A$2:$O$506,8,0))","v":{"$error":"#N/A"}},{"$f":"IF(M$16=\"\",\"\",VLOOKUP(M256,漢字読み!$A$2:$O$506,8,0))","v":{"$error":"#N/A"}},{"$f":"IF(N$16=\"\",\"\",VLOOKUP(N256,漢字読み!$A$2:$O$506,8,0))","v":{"$error":"#N/A"}},{"$f":"IF(O$16=\"\",\"\",VLOOKUP(O256,漢字読み!$A$2:$O$506,8,0))","v":{"$error":"#N/A"}},{"$f":"IF(P$16=\"\",\"\",VLOOKUP(P256,漢字読み!$A$2:$O$506,8,0))","v":{"$error":"#N/A"}},{"$f":"IF(Q$16=\"\",\"\",VLOOKUP(Q256,漢字読み!$A$2:$O$506,8,0))","v":{"$error":"#N/A"}},{"$f":"IF(R$16=\"\",\"\",VLOOKUP(R256,漢字読み!$A$2:$O$506,8,0))","v":{"$error":"#N/A"}},{"$f":"IF(S$16=\"\",\"\",VLOOKUP(S256,漢字読み!$A$2:$O$506,8,0))","v":{"$error":"#N/A"}},{"$f":"IF(T$16=\"\",\"\",VLOOKUP(T256,漢字読み!$A$2:$O$506,8,0))","v":{"$error":"#N/A"}},null,"名前"]
[{"$f":"IF(A256=\"\",\"\",IF(VLOOKUP(A256,漢字書き!$A$2:$N$502,7,0)=0,\"\",VLOOKUP(A256,漢字書き!$A$2:$N$502,7,0)))","v":{"$error":"#N/A"}},{"$f":"IF(B256=\"\",\"\",IF(VLOOKUP(B256,漢字書き!$A$2:$N$502,7,0)=0,\"\",VLOOKUP(B256,漢字書き!$A$2:$N$502,7,0)))","v":{"$error":"#N/A"}},{"$f":"IF(C256=\"\",\"\",IF(VLOOKUP(C256,漢字書き!$A$2:$N$502,7,0)=0,\"\",VLOOKUP(C256,漢字書き!$A$2:$N$502,7,0)))","v":{"$error":"#N/A"}},{"$f":"IF(D256=\"\",\"\",IF(VLOOKUP(D256,漢字書き!$A$2:$N$502,7,0)=0,\"\",VLOOKUP(D256,漢字書き!$A$2:$N$502,7,0)))","v":{"$error":"#N/A"}},{"$f":"IF(E256=\"\",\"\",IF(VLOOKUP(E256,漢字書き!$A$2:$N$502,7,0)=0,\"\",VLOOKUP(E256,漢字書き!$A$2:$N$502,7,0)))","v":{"$error":"#N/A"}},{"$f":"IF(F256=\"\",\"\",IF(VLOOKUP(F256,漢字書き!$A$2:$N$502,7,0)=0,\"\",VLOOKUP(F256,漢字書き!$A$2:$N$502,7,0)))","v":{"$error":"#N/A"}},{"$f":"IF(G256=\"\",\"\",IF(VLOOKUP(G256,漢字書き!$A$2:$N$502,7,0)=0,\"\",VLOOKUP(G256,漢字書き!$A$2:$N$502,7,0)))","v":{"$error":"#N/A"}},{"$f":"IF(H256=\"\",\"\",IF(VLOOKUP(H256,漢字書き!$A$2:$N$502,7,0)=0,\"\",VLOOKUP(H256,漢字書き!$A$2:$N$502,7,0)))","v":{"$error":"#N/A"}},{"$f":"IF(I256=\"\",\"\",IF(VLOOKUP(I256,漢字書き!$A$2:$N$502,7,0)=0,\"\",VLOOKUP(I256,漢字書き!$A$2:$N$502,7,0)))","v":{"$error":"#N/A"}},{"$f":"IF(J256=\"\",\"\",IF(VLOOKUP(J256,漢字書き!$A$2:$N$502,7,0)=0,\"\",VLOOKUP(J256,漢字書き!$A$2:$N$502,7,0)))","v":{"$error":"#N/A"}},{"$f":"IF(K256=\"\",\"\",IF(VLOOKUP(K256,漢字読み!$A$2:$O$502,7,0)=0,\"\",VLOOKUP(K256,漢字読み!$A$2:$O$502,7,0)))","v":{"$error":"#N/A"}},{"$f":"IF(L256=\"\",\"\",IF(VLOOKUP(L256,漢字読み!$A$2:$O$502,7,0)=0,\"\",VLOOKUP(L256,漢字読み!$A$2:$O$502,7,0)))","v":{"$error":"#N/A"}},{"$f":"IF(M256=\"\",\"\",IF(VLOOKUP(M256,漢字読み!$A$2:$O$502,7,0)=0,\"\",VLOOKUP(M256,漢字読み!$A$2:$O$502,7,0)))","v":{"$error":"#N/A"}},{"$f":"IF(N256=\"\",\"\",IF(VLOOKUP(N256,漢字読み!$A$2:$O$502,7,0)=0,\"\",VLOOKUP(N256,漢字読み!$A$2:$O$502,7,0)))","v":{"$error":"#N/A"}},{"$f":"IF(O256=\"\",\"\",IF(VLOOKUP(O256,漢字読み!$A$2:$O$502,7,0)=0,\"\",VLOOKUP(O256,漢字読み!$A$2:$O$502,7,0)))","v":{"$error":"#N/A"}},{"$f":"IF(P256=\"\",\"\",IF(VLOOKUP(P256,漢字読み!$A$2:$O$502,7,0)=0,\"\",VLOOKUP(P256,漢字読み!$A$2:$O$502,7,0)))","v":{"$error":"#N/A"}},{"$f":"IF(Q256=\"\",\"\",IF(VLOOKUP(Q256,漢字読み!$A$2:$O$502,7,0)=0,\"\",VLOOKUP(Q256,漢字読み!$A$2:$O$502,7,0)))","v":{"$error":"#N/A"}},{"$f":"IF(R256=\"\",\"\",IF(VLOOKUP(R256,漢字読み!$A$2:$O$502,7,0)=0,\"\",VLOOKUP(R256,漢字読み!$A$2:$O$502,7,0)))","v":{"$error":"#N/A"}},{"$f":"IF(S256=\"\",\"\",IF(VLOOKUP(S256,漢字読み!$A$2:$O$502,7,0)=0,\"\",VLOOKUP(S256,漢字読み!$A$2:$O$502,7,0)))","v":{"$error":"#N/A"}},{"$f":"IF(T256=\"\",\"\",IF(VLOOKUP(T256,漢字読み!$A$2:$O$502,7,0)=0,\"\",VLOOKUP(T256,漢字読み!$A$2:$O$502,7,0)))","v":{"$error":"#N/A"}},null,null,"和歌山県教育委員会"]
[{"$f":"INDIRECT(\"'関数（書き）'!C\" & COLUMN(B$1)+SUM($AD$2:$AD262))","v":0},{"$f":"INDIRECT(\"'関数（書き）'!C\" & COLUMN(C$1)+SUM($AD$2:$AD262))","v":0},{"$f":"INDIRECT(\"'関数（書き）'!C\" & COLUMN(D$1)+SUM($AD$2:$AD262))","v":0},{"$f":"INDIRECT(\"'関数（書き）'!C\" & COLUMN(E$1)+SUM($AD$2:$AD262))","v":0},{"$f":"INDIRECT(\"'関数（書き）'!C\" & COLUMN(F$1)+SUM($AD$2:$AD262))","v":0},{"$f":"INDIRECT(\"'関数（書き）'!C\" & COLUMN(G$1)+SUM($AD$2:$AD262))","v":0},{"$f":"INDIRECT(\"'関数（書き）'!C\" & COLUMN(H$1)+SUM($AD$2:$AD262))","v":0},{"$f":"INDIRECT(\"'関数（書き）'!C\" & COLUMN(I$1)+SUM($AD$2:$AD262))","v":0},{"$f":"INDIRECT(\"'関数（書き）'!C\" & COLUMN(J$1)+SUM($AD$2:$AD262))","v":0},{"$f":"INDIRECT(\"'関数（書き）'!C\" & COLUMN(K$1)+SUM($AD$2:$AD262))","v":0},{"$f":"INDIRECT(\"'関数（読み）'!C\" & COLUMN(B$1)+SUM($AD$2:$AD262))","v":0},{"$f":"INDIRECT(\"'関数（読み）'!C\" & COLUMN(C$1)+SUM($AD$2:$AD262))","v":0},{"$f":"INDIRECT(\"'関数（読み）'!C\" & COLUMN(D$1)+SUM($AD$2:$AD262))","v":0},{"$f":"INDIRECT(\"'関数（読み）'!C\" & COLUMN(E$1)+SUM($AD$2:$AD262))","v":0},{"$f":"INDIRECT(\"'関数（読み）'!C\" & COLUMN(F$1)+SUM($AD$2:$AD262))","v":0},{"$f":"INDIRECT(\"'関数（読み）'!C\" & COLUMN(G$1)+SUM($AD$2:$AD262))","v":0},{"$f":"INDIRECT(\"'関数（読み）'!C\" & COLUMN(H$1)+SUM($AD$2:$AD262))","v":0},{"$f":"INDIRECT(\"'関数（読み）'!C\" & COLUMN(I$1)+SUM($AD$2:$AD262))","v":0},{"$f":"INDIRECT(\"'関数（読み）'!C\" & COLUMN(J$1)+SUM($AD$2:$AD262))","v":0},{"$f":"INDIRECT(\"'関数（読み）'!C\" & COLUMN(K$1)+SUM($AD$2:$AD262))","v":0}]
["⑳","⑲","⑱","⑰","⑯","⑮","⑭","⑬","⑫","⑪","⑩","⑨","⑧","⑦","⑥","⑤","④","③","②","①","次の［　　　　］の部分の漢字には読みがなをひらがなで書き、カタカナは漢字に直しなさい。",15,"「漢字の博士検定試験」練習問題　",null,null,null,null,null,"←",10,"問",{"$f":"AH247+1","v":261},"～",{"$f":"SUM($AD$2:$AD262)+10","v":270},"問まで",{"$f":"COUNTIF($A$1:$T$200,T263)","v":195}]
[{"$f":"IF(A261=\"\",\"\",VLOOKUP(A261,漢字書き!$A$2:$N$506,6,0))","v":{"$error":"#N/A"}},{"$f":"IF(B261=\"\",\"\",VLOOKUP(B261,漢字書き!$A$2:$N$506,6,0))","v":{"$error":"#N/A"}},{"$f":"IF(C261=\"\",\"\",VLOOKUP(C261,漢字書き!$A$2:$N$506,6,0))","v":{"$error":"#N/A"}},{"$f":"IF(D261=\"\",\"\",VLOOKUP(D261,漢字書き!$A$2:$N$506,6,0))","v":{"$error":"#N/A"}},{"$f":"IF(E261=\"\",\"\",VLOOKUP(E261,漢字書き!$A$2:$N$506,6,0))","v":{"$error":"#N/A"}},{"$f":"IF(F261=\"\",\"\",VLOOKUP(F261,漢字書き!$A$2:$N$506,6,0))","v":{"$error":"#N/A"}},{"$f":"IF(G261=\"\",\"\",VLOOKUP(G261,漢字書き!$A$2:$N$506,6,0))","v":{"$error":"#N/A"}},{"$f":"IF(H261=\"\",\"\",VLOOKUP(H261,漢字書き!$A$2:$N$506,6,0))","v":{"$error":"#N/A"}},{"$f":"IF(I261=\"\",\"\",VLOOKUP(I261,漢字書き!$A$2:$N$506,6,0))","v":{"$error":"#N/A"}},{"$f":"IF(J261=\"\",\"\",VLOOKUP(J261,漢字書き!$A$2:$N$506,6,0))","v":{"$error":"#N/A"}},{"$f":"IF(K261=\"\",\"\",VLOOKUP(K261,漢字読み!$A$2:$O$506,6,0))","v":{"$error":"#N/A"}},{"$f":"IF(L261=\"\",\"\",VLOOKUP(L261,漢字読み!$A$2:$O$506,6,0))","v":{"$error":"#N/A"}},{"$f":"IF(M261=\"\",\"\",VLOOKUP(M261,漢字読み!$A$2:$O$506,6,0))","v":{"$error":"#N/A"}},{"$f":"IF(N261=\"\",\"\",VLOOKUP(N261,漢字読み!$A$2:$O$506,6,0))","v":{"$error":"#N/A"}},{"$f":"IF(O261=\"\",\"\",VLOOKUP(O261,漢字読み!$A$2:$O$506,6,0))","v":{"$error":"#N/A"}},{"$f":"IF(P261=\"\",\"\",VLOOKUP(P261,漢字読み!$A$2:$O$506,6,0))","v":{"$error":"#N/A"}},{"$f":"IF(Q261=\"\",\"\",VLOOKUP(Q261,漢字読み!$A$2:$O$506,6,0))","v":{"$error":"#N/A"}},{"$f":"IF(R261=\"\",\"\",VLOOKUP(R261,漢字読み!$A$2:$O$506,6,0))","v":{"$error":"#N/A"}},{"$f":"IF(S261=\"\",\"\",VLOOKUP(S261,漢字読み!$A$2:$O$506,6,0))","v":{"$error":"#N/A"}},{"$f":"IF(T261=\"\",\"\",VLOOKUP(T261,漢字読み!$A$2:$O$506,6,0))","v":{"$error":"#N/A"}},null,"級"]
[null,null,null,null,null,null,null,null,null,null,null,null,null,null,null,null,null,null,null,null,null,"名前"]
[{"$f":"IF(A261=\"\",\"\",IF(VLOOKUP(A261,漢字書き!$A$2:$N$502,7,0)=0,\"\",VLOOKUP(A261,漢字書き!$A$2:$N$502,7,0)))","v":{"$error":"#N/A"}},{"$f":"IF(B261=\"\",\"\",IF(VLOOKUP(B261,漢字書き!$A$2:$N$502,7,0)=0,\"\",VLOOKUP(B261,漢字書き!$A$2:$N$502,7,0)))","v":{"$error":"#N/A"}},{"$f":"IF(C261=\"\",\"\",IF(VLOOKUP(C261,漢字書き!$A$2:$N$502,7,0)=0,\"\",VLOOKUP(C261,漢字書き!$A$2:$N$502,7,0)))","v":{"$error":"#N/A"}},{"$f":"IF(D261=\"\",\"\",IF(VLOOKUP(D261,漢字書き!$A$2:$N$502,7,0)=0,\"\",VLOOKUP(D261,漢字書き!$A$2:$N$502,7,0)))","v":{"$error":"#N/A"}},{"$f":"IF(E261=\"\",\"\",IF(VLOOKUP(E261,漢字書き!$A$2:$N$502,7,0)=0,\"\",VLOOKUP(E261,漢字書き!$A$2:$N$502,7,0)))","v":{"$error":"#N/A"}},{"$f":"IF(F261=\"\",\"\",IF(VLOOKUP(F261,漢字書き!$A$2:$N$502,7,0)=0,\"\",VLOOKUP(F261,漢字書き!$A$2:$N$502,7,0)))","v":{"$error":"#N/A"}},{"$f":"IF(G261=\"\",\"\",IF(VLOOKUP(G261,漢字書き!$A$2:$N$502,7,0)=0,\"\",VLOOKUP(G261,漢字書き!$A$2:$N$502,7,0)))","v":{"$error":"#N/A"}},{"$f":"IF(H261=\"\",\"\",IF(VLOOKUP(H261,漢字書き!$A$2:$N$502,7,0)=0,\"\",VLOOKUP(H261,漢字書き!$A$2:$N$502,7,0)))","v":{"$error":"#N/A"}},{"$f":"IF(I261=\"\",\"\",IF(VLOOKUP(I261,漢字書き!$A$2:$N$502,7,0)=0,\"\",VLOOKUP(I261,漢字書き!$A$2:$N$502,7,0)))","v":{"$error":"#N/A"}},{"$f":"IF(J261=\"\",\"\",IF(VLOOKUP(J261,漢字書き!$A$2:$N$502,7,0)=0,\"\",VLOOKUP(J261,漢字書き!$A$2:$N$502,7,0)))","v":{"$error":"#N/A"}},{"$f":"IF(K261=\"\",\"\",IF(VLOOKUP(K261,漢字読み!$A$2:$O$502,7,0)=0,\"\",VLOOKUP(K261,漢字読み!$A$2:$O$502,7,0)))","v":{"$error":"#N/A"}},{"$f":"IF(L261=\"\",\"\",IF(VLOOKUP(L261,漢字読み!$A$2:$O$502,7,0)=0,\"\",VLOOKUP(L261,漢字読み!$A$2:$O$502,7,0)))","v":{"$error":"#N/A"}},{"$f":"IF(M261=\"\",\"\",IF(VLOOKUP(M261,漢字読み!$A$2:$O$502,7,0)=0,\"\",VLOOKUP(M261,漢字読み!$A$2:$O$502,7,0)))","v":{"$error":"#N/A"}},{"$f":"IF(N261=\"\",\"\",IF(VLOOKUP(N261,漢字読み!$A$2:$O$502,7,0)=0,\"\",VLOOKUP(N261,漢字読み!$A$2:$O$502,7,0)))","v":{"$error":"#N/A"}},{"$f":"IF(O261=\"\",\"\",IF(VLOOKUP(O261,漢字読み!$A$2:$O$502,7,0)=0,\"\",VLOOKUP(O261,漢字読み!$A$2:$O$502,7,0)))","v":{"$error":"#N/A"}},{"$f":"IF(P261=\"\",\"\",IF(VLOOKUP(P261,漢字読み!$A$2:$O$502,7,0)=0,\"\",VLOOKUP(P261,漢字読み!$A$2:$O$502,7,0)))","v":{"$error":"#N/A"}},{"$f":"IF(Q261=\"\",\"\",IF(VLOOKUP(Q261,漢字読み!$A$2:$O$502,7,0)=0,\"\",VLOOKUP(Q261,漢字読み!$A$2:$O$502,7,0)))","v":{"$error":"#N/A"}},{"$f":"IF(R261=\"\",\"\",IF(VLOOKUP(R261,漢字読み!$A$2:$O$502,7,0)=0,\"\",VLOOKUP(R261,漢字読み!$A$2:$O$502,7,0)))","v":{"$error":"#N/A"}},{"$f":"IF(S261=\"\",\"\",IF(VLOOKUP(S261,漢字読み!$A$2:$O$502,7,0)=0,\"\",VLOOKUP(S261,漢字読み!$A$2:$O$502,7,0)))","v":{"$error":"#N/A"}},{"$f":"IF(T261=\"\",\"\",IF(VLOOKUP(T261,漢字読み!$A$2:$O$502,7,0)=0,\"\",VLOOKUP(T261,漢字読み!$A$2:$O$502,7,0)))","v":{"$error":"#N/A"}},null,null,"和歌山県教育委員会"]
[{"$f":"INDIRECT(\"'関数（書き）'!C\" & COLUMN(B$1)+SUM($AD$2:$AD267))","v":0},{"$f":"INDIRECT(\"'関数（書き）'!C\" & COLUMN(C$1)+SUM($AD$2:$AD267))","v":0},{"$f":"INDIRECT(\"'関数（書き）'!C\" & COLUMN(D$1)+SUM($AD$2:$AD267))","v":0},{"$f":"INDIRECT(\"'関数（書き）'!C\" & COLUMN(E$1)+SUM($AD$2:$AD267))","v":0},{"$f":"INDIRECT(\"'関数（書き）'!C\" & COLUMN(F$1)+SUM($AD$2:$AD267))","v":0},{"$f":"INDIRECT(\"'関数（書き）'!C\" & COLUMN(G$1)+SUM($AD$2:$AD267))","v":0},{"$f":"INDIRECT(\"'関数（書き）'!C\" & COLUMN(H$1)+SUM($AD$2:$AD267))","v":0},{"$f":"INDIRECT(\"'関数（書き）'!C\" & COLUMN(I$1)+SUM($AD$2:$AD267))","v":0},{"$f":"INDIRECT(\"'関数（書き）'!C\" & COLUMN(J$1)+SUM($AD$2:$AD267))","v":0},{"$f":"INDIRECT(\"'関数（書き）'!C\" & COLUMN(K$1)+SUM($AD$2:$AD267))","v":0},{"$f":"INDIRECT(\"'関数（読み）'!C\" & COLUMN(B$1)+SUM($AD$2:$AD267))","v":0},{"$f":"INDIRECT(\"'関数（読み）'!C\" & COLUMN(C$1)+SUM($AD$2:$AD267))","v":0},{"$f":"INDIRECT(\"'関数（読み）'!C\" & COLUMN(D$1)+SUM($AD$2:$AD267))","v":0},{"$f":"INDIRECT(\"'関数（読み）'!C\" & COLUMN(E$1)+SUM($AD$2:$AD267))","v":0},{"$f":"INDIRECT(\"'関数（読み）'!C\" & COLUMN(F$1)+SUM($AD$2:$AD267))","v":0},{"$f":"INDIRECT(\"'関数（読み）'!C\" & COLUMN(G$1)+SUM($AD$2:$AD267))","v":0},{"$f":"INDIRECT(\"'関数（読み）'!C\" & COLUMN(H$1)+SUM($AD$2:$AD267))","v":0},{"$f":"INDIRECT(\"'関数（読み）'!C\" & COLUMN(I$1)+SUM($AD$2:$AD267))","v":0},{"$f":"INDIRECT(\"'関数（読み）'!C\" & COLUMN(J$1)+SUM($AD$2:$AD267))","v":0},{"$f":"INDIRECT(\"'関数（読み）'!C\" & COLUMN(K$1)+SUM($AD$2:$AD267))","v":0}]
["⑳","⑲","⑱","⑰","⑯","⑮","⑭","⑬","⑫","⑪","⑩","⑨","⑧","⑦","⑥","⑤","④","③","②","①","次の［　　　　］の部分の漢字には読みがなをひらがなで書き、カタカナは漢字に直しなさい。",15,"「漢字の博士検定試験」練習問題　",null,null,null,null,null,"←",10,"問",{"$f":"AH262+1","v":271},"～",{"$f":"SUM($AD$2:$AD267)+10","v":280},"問まで",{"$f":"COUNTIF($A$1:$T$200,T268)","v":195}]
[{"$f":"IF(A266=\"\",\"\",VLOOKUP(A266,漢字書き!$A$2:$N$506,6,0))","v":{"$error":"#N/A"}},{"$f":"IF(B266=\"\",\"\",VLOOKUP(B266,漢字書き!$A$2:$N$506,6,0))","v":{"$error":"#N/A"}},{"$f":"IF(C266=\"\",\"\",VLOOKUP(C266,漢字書き!$A$2:$N$506,6,0))","v":{"$error":"#N/A"}},{"$f":"IF(D266=\"\",\"\",VLOOKUP(D266,漢字書き!$A$2:$N$506,6,0))","v":{"$error":"#N/A"}},{"$f":"IF(E266=\"\",\"\",VLOOKUP(E266,漢字書き!$A$2:$N$506,6,0))","v":{"$error":"#N/A"}},{"$f":"IF(F266=\"\",\"\",VLOOKUP(F266,漢字書き!$A$2:$N$506,6,0))","v":{"$error":"#N/A"}},{"$f":"IF(G266=\"\",\"\",VLOOKUP(G266,漢字書き!$A$2:$N$506,6,0))","v":{"$error":"#N/A"}},{"$f":"IF(H266=\"\",\"\",VLOOKUP(H266,漢字書き!$A$2:$N$506,6,0))","v":{"$error":"#N/A"}},{"$f":"IF(I266=\"\",\"\",VLOOKUP(I266,漢字書き!$A$2:$N$506,6,0))","v":{"$error":"#N/A"}},{"$f":"IF(J266=\"\",\"\",VLOOKUP(J266,漢字書き!$A$2:$N$506,6,0))","v":{"$error":"#N/A"}},{"$f":"IF(K266=\"\",\"\",VLOOKUP(K266,漢字読み!$A$2:$O$506,6,0))","v":{"$error":"#N/A"}},{"$f":"IF(L266=\"\",\"\",VLOOKUP(L266,漢字読み!$A$2:$O$506,6,0))","v":{"$error":"#N/A"}},{"$f":"IF(M266=\"\",\"\",VLOOKUP(M266,漢字読み!$A$2:$O$506,6,0))","v":{"$error":"#N/A"}},{"$f":"IF(N266=\"\",\"\",VLOOKUP(N266,漢字読み!$A$2:$O$506,6,0))","v":{"$error":"#N/A"}},{"$f":"IF(O266=\"\",\"\",VLOOKUP(O266,漢字読み!$A$2:$O$506,6,0))","v":{"$error":"#N/A"}},{"$f":"IF(P266=\"\",\"\",VLOOKUP(P266,漢字読み!$A$2:$O$506,6,0))","v":{"$error":"#N/A"}},{"$f":"IF(Q266=\"\",\"\",VLOOKUP(Q266,漢字読み!$A$2:$O$506,6,0))","v":{"$error":"#N/A"}},{"$f":"IF(R266=\"\",\"\",VLOOKUP(R266,漢字読み!$A$2:$O$506,6,0))","v":{"$error":"#N/A"}},{"$f":"IF(S266=\"\",\"\",VLOOKUP(S266,漢字読み!$A$2:$O$506,6,0))","v":{"$error":"#N/A"}},{"$f":"IF(T266=\"\",\"\",VLOOKUP(T266,漢字読み!$A$2:$O$506,6,0))","v":{"$error":"#N/A"}},null,"級"]
[null,null,null,null,null,null,null,null,null,null,null,null,null,null,null,null,null,null,null,null,null,"名前"]
[{"$f":"IF(A266=\"\",\"\",IF(VLOOKUP(A266,漢字書き!$A$2:$N$502,7,0)=0,\"\",VLOOKUP(A266,漢字書き!$A$2:$N$502,7,0)))","v":{"$error":"#N/A"}},{"$f":"IF(B266=\"\",\"\",IF(VLOOKUP(B266,漢字書き!$A$2:$N$502,7,0)=0,\"\",VLOOKUP(B266,漢字書き!$A$2:$N$502,7,0)))","v":{"$error":"#N/A"}},{"$f":"IF(C266=\"\",\"\",IF(VLOOKUP(C266,漢字書き!$A$2:$N$502,7,0)=0,\"\",VLOOKUP(C266,漢字書き!$A$2:$N$502,7,0)))","v":{"$error":"#N/A"}},{"$f":"IF(D266=\"\",\"\",IF(VLOOKUP(D266,漢字書き!$A$2:$N$502,7,0)=0,\"\",VLOOKUP(D266,漢字書き!$A$2:$N$502,7,0)))","v":{"$error":"#N/A"}},{"$f":"IF(E266=\"\",\"\",IF(VLOOKUP(E266,漢字書き!$A$2:$N$502,7,0)=0,\"\",VLOOKUP(E266,漢字書き!$A$2:$N$502,7,0)))","v":{"$error":"#N/A"}},{"$f":"IF(F266=\"\",\"\",IF(VLOOKUP(F266,漢字書き!$A$2:$N$502,7,0)=0,\"\",VLOOKUP(F266,漢字書き!$A$2:$N$502,7,0)))","v":{"$error":"#N/A"}},{"$f":"IF(G266=\"\",\"\",IF(VLOOKUP(G266,漢字書き!$A$2:$N$502,7,0)=0,\"\",VLOOKUP(G266,漢字書き!$A$2:$N$502,7,0)))","v":{"$error":"#N/A"}},{"$f":"IF(H266=\"\",\"\",IF(VLOOKUP(H266,漢字書き!$A$2:$N$502,7,0)=0,\"\",VLOOKUP(H266,漢字書き!$A$2:$N$502,7,0)))","v":{"$error":"#N/A"}},{"$f":"IF(I266=\"\",\"\",IF(VLOOKUP(I266,漢字書き!$A$2:$N$502,7,0)=0,\"\",VLOOKUP(I266,漢字書き!$A$2:$N$502,7,0)))","v":{"$error":"#N/A"}},{"$f":"IF(J266=\"\",\"\",IF(VLOOKUP(J266,漢字書き!$A$2:$N$502,7,0)=0,\"\",VLOOKUP(J266,漢字書き!$A$2:$N$502,7,0)))","v":{"$error":"#N/A"}},{"$f":"IF(K266=\"\",\"\",IF(VLOOKUP(K266,漢字読み!$A$2:$O$502,7,0)=0,\"\",VLOOKUP(K266,漢字読み!$A$2:$O$502,7,0)))","v":{"$error":"#N/A"}},{"$f":"IF(L266=\"\",\"\",IF(VLOOKUP(L266,漢字読み!$A$2:$O$502,7,0)=0,\"\",VLOOKUP(L266,漢字読み!$A$2:$O$502,7,0)))","v":{"$error":"#N/A"}},{"$f":"IF(M266=\"\",\"\",IF(VLOOKUP(M266,漢字読み!$A$2:$O$502,7,0)=0,\"\",VLOOKUP(M266,漢字読み!$A$2:$O$502,7,0)))","v":{"$error":"#N/A"}},{"$f":"IF(N266=\"\",\"\",IF(VLOOKUP(N266,漢字読み!$A$2:$O$502,7,0)=0,\"\",VLOOKUP(N266,漢字読み!$A$2:$O$502,7,0)))","v":{"$error":"#N/A"}},{"$f":"IF(O266=\"\",\"\",IF(VLOOKUP(O266,漢字読み!$A$2:$O$502,7,0)=0,\"\",VLOOKUP(O266,漢字読み!$A$2:$O$502,7,0)))","v":{"$error":"#N/A"}},{"$f":"IF(P266=\"\",\"\",IF(VLOOKUP(P266,漢字読み!$A$2:$O$502,7,0)=0,\"\",VLOOKUP(P266,漢字読み!$A$2:$O$502,7,0)))","v":{"$error":"#N/A"}},{"$f":"IF(Q266=\"\",\"\",IF(VLOOKUP(Q266,漢字読み!$A$2:$O$502,7,0)=0,\"\",VLOOKUP(Q266,漢字読み!$A$2:$O$502,7,0)))","v":{"$error":"#N/A"}},{"$f":"IF(R266=\"\",\"\",IF(VLOOKUP(R266,漢字読み!$A$2:$O$502,7,0)=0,\"\",VLOOKUP(R266,漢字読み!$A$2:$O$502,7,0)))","v":{"$error":"#N/A"}},{"$f":"IF(S266=\"\",\"\",IF(VLOOKUP(S266,漢字読み!$A$2:$O$502,7,0)=0,\"\",VLOOKUP(S266,漢字読み!$A$2:$O$502,7,0)))","v":{"$error":"#N/A"}},{"$f":"IF(T266=\"\",\"\",IF(VLOOKUP(T266,漢字読み!$A$2:$O$502,7,0)=0,\"\",VLOOKUP(T266,漢字読み!$A$2:$O$502,7,0)))","v":{"$error":"#N/A"}},null,null,"和歌山県教育委員会"]
[{"$f":"A261","v":0},{"$f":"B261","v":0},0,0,0,0,0,0,0,0,0,0,0,0,0,0,0,0,0,0]
["⑳","⑲","⑱","⑰","⑯","⑮","⑭","⑬","⑫","⑪","⑩","⑨","⑧","⑦","⑥","⑤","④","③","②","①","次の［　　　　］の部分の漢字には読みがなをひらがなで書き、カタカナは漢字に直しなさい。",15,"「漢字の博士検定試験」練習問題　"]
[{"$f":"IF(A271=\"\",\"\",VLOOKUP(A271,漢字書き!$A$2:$N$506,6,0))","v":{"$error":"#N/A"}},{"$f":"IF(B271=\"\",\"\",VLOOKUP(B271,漢字書き!$A$2:$N$506,6,0))","v":{"$error":"#N/A"}},{"$f":"IF(C271=\"\",\"\",VLOOKUP(C271,漢字書き!$A$2:$N$506,6,0))","v":{"$error":"#N/A"}},{"$f":"IF(D271=\"\",\"\",VLOOKUP(D271,漢字書き!$A$2:$N$506,6,0))","v":{"$error":"#N/A"}},{"$f":"IF(E271=\"\",\"\",VLOOKUP(E271,漢字書き!$A$2:$N$506,6,0))","v":{"$error":"#N/A"}},{"$f":"IF(F271=\"\",\"\",VLOOKUP(F271,漢字書き!$A$2:$N$506,6,0))","v":{"$error":"#N/A"}},{"$f":"IF(G271=\"\",\"\",VLOOKUP(G271,漢字書き!$A$2:$N$506,6,0))","v":{"$error":"#N/A"}},{"$f":"IF(H271=\"\",\"\",VLOOKUP(H271,漢字書き!$A$2:$N$506,6,0))","v":{"$error":"#N/A"}},{"$f":"IF(I271=\"\",\"\",VLOOKUP(I271,漢字書き!$A$2:$N$506,6,0))","v":{"$error":"#N/A"}},{"$f":"IF(J271=\"\",\"\",VLOOKUP(J271,漢字書き!$A$2:$N$506,6,0))","v":{"$error":"#N/A"}},{"$f":"IF(K271=\"\",\"\",VLOOKUP(K271,漢字読み!$A$2:$O$506,6,0))","v":{"$error":"#N/A"}},{"$f":"IF(L271=\"\",\"\",VLOOKUP(L271,漢字読み!$A$2:$O$506,6,0))","v":{"$error":"#N/A"}},{"$f":"IF(M271=\"\",\"\",VLOOKUP(M271,漢字読み!$A$2:$O$506,6,0))","v":{"$error":"#N/A"}},{"$f":"IF(N271=\"\",\"\",VLOOKUP(N271,漢字読み!$A$2:$O$506,6,0))","v":{"$error":"#N/A"}},{"$f":"IF(O271=\"\",\"\",VLOOKUP(O271,漢字読み!$A$2:$O$506,6,0))","v":{"$error":"#N/A"}},{"$f":"IF(P271=\"\",\"\",VLOOKUP(P271,漢字読み!$A$2:$O$506,6,0))","v":{"$error":"#N/A"}},{"$f":"IF(Q271=\"\",\"\",VLOOKUP(Q271,漢字読み!$A$2:$O$506,6,0))","v":{"$error":"#N/A"}},{"$f":"IF(R271=\"\",\"\",VLOOKUP(R271,漢字読み!$A$2:$O$506,6,0))","v":{"$error":"#N/A"}},{"$f":"IF(S271=\"\",\"\",VLOOKUP(S271,漢字読み!$A$2:$O$506,6,0))","v":{"$error":"#N/A"}},{"$f":"IF(T271=\"\",\"\",VLOOKUP(T271,漢字読み!$A$2:$O$506,6,0))","v":{"$error":"#N/A"}},null,"級"]
[{"$f":"IF(A$11=\"\",\"\",VLOOKUP(A271,漢字書き!$A$2:$O$506,8,0))","v":{"$error":"#N/A"}},{"$f":"IF(B$11=\"\",\"\",VLOOKUP(B271,漢字書き!$A$2:$O$506,8,0))","v":{"$error":"#N/A"}},{"$f":"IF(C$11=\"\",\"\",VLOOKUP(C271,漢字書き!$A$2:$O$506,8,0))","v":{"$error":"#N/A"}},{"$f":"IF(D$11=\"\",\"\",VLOOKUP(D271,漢字書き!$A$2:$O$506,8,0))","v":{"$error":"#N/A"}},{"$f":"IF(E$11=\"\",\"\",VLOOKUP(E271,漢字書き!$A$2:$O$506,8,0))","v":{"$error":"#N/A"}},{"$f":"IF(F$11=\"\",\"\",VLOOKUP(F271,漢字書き!$A$2:$O$506,8,0))","v":{"$error":"#N/A"}},{"$f":"IF(G$11=\"\",\"\",VLOOKUP(G271,漢字書き!$A$2:$O$506,8,0))","v":{"$error":"#N/A"}},{"$f":"IF(H$11=\"\",\"\",VLOOKUP(H271,漢字書き!$A$2:$O$506,8,0))","v":{"$error":"#N/A"}},{"$f":"IF(I$11=\"\",\"\",VLOOKUP(I271,漢字書き!$A$2:$O$506,8,0))","v":{"$error":"#N/A"}},{"$f":"IF(J$11=\"\",\"\",VLOOKUP(J271,漢字書き!$A$2:$O$506,8,0))","v":{"$error":"#N/A"}},{"$f":"IF(K$11=\"\",\"\",VLOOKUP(K271,漢字読み!$A$2:$O$506,8,0))","v":{"$error":"#N/A"}},{"$f":"IF(L$11=\"\",\"\",VLOOKUP(L271,漢字読み!$A$2:$O$506,8,0))","v":{"$error":"#N/A"}},{"$f":"IF(M$11=\"\",\"\",VLOOKUP(M271,漢字読み!$A$2:$O$506,8,0))","v":{"$error":"#N/A"}},{"$f":"IF(N$11=\"\",\"\",VLOOKUP(N271,漢字読み!$A$2:$O$506,8,0))","v":{"$error":"#N/A"}},{"$f":"IF(O$11=\"\",\"\",VLOOKUP(O271,漢字読み!$A$2:$O$506,8,0))","v":{"$error":"#N/A"}},{"$f":"IF(P$11=\"\",\"\",VLOOKUP(P271,漢字読み!$A$2:$O$506,8,0))","v":{"$error":"#N/A"}},{"$f":"IF(Q$11=\"\",\"\",VLOOKUP(Q271,漢字読み!$A$2:$O$506,8,0))","v":{"$error":"#N/A"}},{"$f":"IF(R$11=\"\",\"\",VLOOKUP(R271,漢字読み!$A$2:$O$506,8,0))","v":{"$error":"#N/A"}},{"$f":"IF(S$11=\"\",\"\",VLOOKUP(S271,漢字読み!$A$2:$O$506,8,0))","v":{"$error":"#N/A"}},{"$f":"IF(T$11=\"\",\"\",VLOOKUP(T271,漢字読み!$A$2:$O$506,8,0))","v":{"$error":"#N/A"}},null,"名前"]
[{"$f":"IF(A271=\"\",\"\",IF(VLOOKUP(A271,漢字書き!$A$2:$N$502,7,0)=0,\"\",VLOOKUP(A271,漢字書き!$A$2:$N$502,7,0)))","v":{"$error":"#N/A"}},{"$f":"IF(B271=\"\",\"\",IF(VLOOKUP(B271,漢字書き!$A$2:$N$502,7,0)=0,\"\",VLOOKUP(B271,漢字書き!$A$2:$N$502,7,0)))","v":{"$error":"#N/A"}},{"$f":"IF(C271=\"\",\"\",IF(VLOOKUP(C271,漢字書き!$A$2:$N$502,7,0)=0,\"\",VLOOKUP(C271,漢字書き!$A$2:$N$502,7,0)))","v":{"$error":"#N/A"}},{"$f":"IF(D271=\"\",\"\",IF(VLOOKUP(D271,漢字書き!$A$2:$N$502,7,0)=0,\"\",VLOOKUP(D271,漢字書き!$A$2:$N$502,7,0)))","v":{"$error":"#N/A"}},{"$f":"IF(E271=\"\",\"\",IF(VLOOKUP(E271,漢字書き!$A$2:$N$502,7,0)=0,\"\",VLOOKUP(E271,漢字書き!$A$2:$N$502,7,0)))","v":{"$error":"#N/A"}},{"$f":"IF(F271=\"\",\"\",IF(VLOOKUP(F271,漢字書き!$A$2:$N$502,7,0)=0,\"\",VLOOKUP(F271,漢字書き!$A$2:$N$502,7,0)))","v":{"$error":"#N/A"}},{"$f":"IF(G271=\"\",\"\",IF(VLOOKUP(G271,漢字書き!$A$2:$N$502,7,0)=0,\"\",VLOOKUP(G271,漢字書き!$A$2:$N$502,7,0)))","v":{"$error":"#N/A"}},{"$f":"IF(H271=\"\",\"\",IF(VLOOKUP(H271,漢字書き!$A$2:$N$502,7,0)=0,\"\",VLOOKUP(H271,漢字書き!$A$2:$N$502,7,0)))","v":{"$error":"#N/A"}},{"$f":"IF(I271=\"\",\"\",IF(VLOOKUP(I271,漢字書き!$A$2:$N$502,7,0)=0,\"\",VLOOKUP(I271,漢字書き!$A$2:$N$502,7,0)))","v":{"$error":"#N/A"}},{"$f":"IF(J271=\"\",\"\",IF(VLOOKUP(J271,漢字書き!$A$2:$N$502,7,0)=0,\"\",VLOOKUP(J271,漢字書き!$A$2:$N$502,7,0)))","v":{"$error":"#N/A"}},{"$f":"IF(K271=\"\",\"\",IF(VLOOKUP(K271,漢字読み!$A$2:$O$502,7,0)=0,\"\",VLOOKUP(K271,漢字読み!$A$2:$O$502,7,0)))","v":{"$error":"#N/A"}},{"$f":"IF(L271=\"\",\"\",IF(VLOOKUP(L271,漢字読み!$A$2:$O$502,7,0)=0,\"\",VLOOKUP(L271,漢字読み!$A$2:$O$502,7,0)))","v":{"$error":"#N/A"}},{"$f":"IF(M271=\"\",\"\",IF(VLOOKUP(M271,漢字読み!$A$2:$O$502,7,0)=0,\"\",VLOOKUP(M271,漢字読み!$A$2:$O$502,7,0)))","v":{"$error":"#N/A"}},{"$f":"IF(N271=\"\",\"\",IF(VLOOKUP(N271,漢字読み!$A$2:$O$502,7,0)=0,\"\",VLOOKUP(N271,漢字読み!$A$2:$O$502,7,0)))","v":{"$error":"#N/A"}},{"$f":"IF(O271=\"\",\"\",IF(VLOOKUP(O271,漢字読み!$A$2:$O$502,7,0)=0,\"\",VLOOKUP(O271,漢字読み!$A$2:$O$502,7,0)))","v":{"$error":"#N/A"}},{"$f":"IF(P271=\"\",\"\",IF(VLOOKUP(P271,漢字読み!$A$2:$O$502,7,0)=0,\"\",VLOOKUP(P271,漢字読み!$A$2:$O$502,7,0)))","v":{"$error":"#N/A"}},{"$f":"IF(Q271=\"\",\"\",IF(VLOOKUP(Q271,漢字読み!$A$2:$O$502,7,0)=0,\"\",VLOOKUP(Q271,漢字読み!$A$2:$O$502,7,0)))","v":{"$error":"#N/A"}},{"$f":"IF(R271=\"\",\"\",IF(VLOOKUP(R271,漢字読み!$A$2:$O$502,7,0)=0,\"\",VLOOKUP(R271,漢字読み!$A$2:$O$502,7,0)))","v":{"$error":"#N/A"}},{"$f":"IF(S271=\"\",\"\",IF(VLOOKUP(S271,漢字読み!$A$2:$O$502,7,0)=0,\"\",VLOOKUP(S271,漢字読み!$A$2:$O$502,7,0)))","v":{"$error":"#N/A"}},{"$f":"IF(T271=\"\",\"\",IF(VLOOKUP(T271,漢字読み!$A$2:$O$502,7,0)=0,\"\",VLOOKUP(T271,漢字読み!$A$2:$O$502,7,0)))","v":{"$error":"#N/A"}},null,null,"和歌山県教育委員会"]
[{"$f":"A266","v":0},{"$f":"B266","v":0},0,0,0,0,0,0,0,0,0,0,0,0,0,0,0,0,0,0]
["⑳","⑲","⑱","⑰","⑯","⑮","⑭","⑬","⑫","⑪","⑩","⑨","⑧","⑦","⑥","⑤","④","③","②","①","次の［　　　　］の部分の漢字には読みがなをひらがなで書き、カタカナは漢字に直しなさい。",15,"「漢字の博士検定試験」練習問題　"]
[{"$f":"IF(A276=\"\",\"\",VLOOKUP(A276,漢字書き!$A$2:$N$506,6,0))","v":{"$error":"#N/A"}},{"$f":"IF(B276=\"\",\"\",VLOOKUP(B276,漢字書き!$A$2:$N$506,6,0))","v":{"$error":"#N/A"}},{"$f":"IF(C276=\"\",\"\",VLOOKUP(C276,漢字書き!$A$2:$N$506,6,0))","v":{"$error":"#N/A"}},{"$f":"IF(D276=\"\",\"\",VLOOKUP(D276,漢字書き!$A$2:$N$506,6,0))","v":{"$error":"#N/A"}},{"$f":"IF(E276=\"\",\"\",VLOOKUP(E276,漢字書き!$A$2:$N$506,6,0))","v":{"$error":"#N/A"}},{"$f":"IF(F276=\"\",\"\",VLOOKUP(F276,漢字書き!$A$2:$N$506,6,0))","v":{"$error":"#N/A"}},{"$f":"IF(G276=\"\",\"\",VLOOKUP(G276,漢字書き!$A$2:$N$506,6,0))","v":{"$error":"#N/A"}},{"$f":"IF(H276=\"\",\"\",VLOOKUP(H276,漢字書き!$A$2:$N$506,6,0))","v":{"$error":"#N/A"}},{"$f":"IF(I276=\"\",\"\",VLOOKUP(I276,漢字書き!$A$2:$N$506,6,0))","v":{"$error":"#N/A"}},{"$f":"IF(J276=\"\",\"\",VLOOKUP(J276,漢字書き!$A$2:$N$506,6,0))","v":{"$error":"#N/A"}},{"$f":"IF(K276=\"\",\"\",VLOOKUP(K276,漢字読み!$A$2:$O$506,6,0))","v":{"$error":"#N/A"}},{"$f":"IF(L276=\"\",\"\",VLOOKUP(L276,漢字読み!$A$2:$O$506,6,0))","v":{"$error":"#N/A"}},{"$f":"IF(M276=\"\",\"\",VLOOKUP(M276,漢字読み!$A$2:$O$506,6,0))","v":{"$error":"#N/A"}},{"$f":"IF(N276=\"\",\"\",VLOOKUP(N276,漢字読み!$A$2:$O$506,6,0))","v":{"$error":"#N/A"}},{"$f":"IF(O276=\"\",\"\",VLOOKUP(O276,漢字読み!$A$2:$O$506,6,0))","v":{"$error":"#N/A"}},{"$f":"IF(P276=\"\",\"\",VLOOKUP(P276,漢字読み!$A$2:$O$506,6,0))","v":{"$error":"#N/A"}},{"$f":"IF(Q276=\"\",\"\",VLOOKUP(Q276,漢字読み!$A$2:$O$506,6,0))","v":{"$error":"#N/A"}},{"$f":"IF(R276=\"\",\"\",VLOOKUP(R276,漢字読み!$A$2:$O$506,6,0))","v":{"$error":"#N/A"}},{"$f":"IF(S276=\"\",\"\",VLOOKUP(S276,漢字読み!$A$2:$O$506,6,0))","v":{"$error":"#N/A"}},{"$f":"IF(T276=\"\",\"\",VLOOKUP(T276,漢字読み!$A$2:$O$506,6,0))","v":{"$error":"#N/A"}},null,"級"]
[{"$f":"IF(A$16=\"\",\"\",VLOOKUP(A276,漢字書き!$A$2:$O$506,8,0))","v":{"$error":"#N/A"}},{"$f":"IF(B$16=\"\",\"\",VLOOKUP(B276,漢字書き!$A$2:$O$506,8,0))","v":{"$error":"#N/A"}},{"$f":"IF(C$16=\"\",\"\",VLOOKUP(C276,漢字書き!$A$2:$O$506,8,0))","v":{"$error":"#N/A"}},{"$f":"IF(D$16=\"\",\"\",VLOOKUP(D276,漢字書き!$A$2:$O$506,8,0))","v":{"$error":"#N/A"}},{"$f":"IF(E$16=\"\",\"\",VLOOKUP(E276,漢字書き!$A$2:$O$506,8,0))","v":{"$error":"#N/A"}},{"$f":"IF(F$16=\"\",\"\",VLOOKUP(F276,漢字書き!$A$2:$O$506,8,0))","v":{"$error":"#N/A"}},{"$f":"IF(G$16=\"\",\"\",VLOOKUP(G276,漢字書き!$A$2:$O$506,8,0))","v":{"$error":"#N/A"}},{"$f":"IF(H$16=\"\",\"\",VLOOKUP(H276,漢字書き!$A$2:$O$506,8,0))","v":{"$error":"#N/A"}},{"$f":"IF(I$16=\"\",\"\",VLOOKUP(I276,漢字書き!$A$2:$O$506,8,0))","v":{"$error":"#N/A"}},{"$f":"IF(J$16=\"\",\"\",VLOOKUP(J276,漢字書き!$A$2:$O$506,8,0))","v":{"$error":"#N/A"}},{"$f":"IF(K$16=\"\",\"\",VLOOKUP(K276,漢字読み!$A$2:$O$506,8,0))","v":{"$error":"#N/A"}},{"$f":"IF(L$16=\"\",\"\",VLOOKUP(L276,漢字読み!$A$2:$O$506,8,0))","v":{"$error":"#N/A"}},{"$f":"IF(M$16=\"\",\"\",VLOOKUP(M276,漢字読み!$A$2:$O$506,8,0))","v":{"$error":"#N/A"}},{"$f":"IF(N$16=\"\",\"\",VLOOKUP(N276,漢字読み!$A$2:$O$506,8,0))","v":{"$error":"#N/A"}},{"$f":"IF(O$16=\"\",\"\",VLOOKUP(O276,漢字読み!$A$2:$O$506,8,0))","v":{"$error":"#N/A"}},{"$f":"IF(P$16=\"\",\"\",VLOOKUP(P276,漢字読み!$A$2:$O$506,8,0))","v":{"$error":"#N/A"}},{"$f":"IF(Q$16=\"\",\"\",VLOOKUP(Q276,漢字読み!$A$2:$O$506,8,0))","v":{"$error":"#N/A"}},{"$f":"IF(R$16=\"\",\"\",VLOOKUP(R276,漢字読み!$A$2:$O$506,8,0))","v":{"$error":"#N/A"}},{"$f":"IF(S$16=\"\",\"\",VLOOKUP(S276,漢字読み!$A$2:$O$506,8,0))","v":{"$error":"#N/A"}},{"$f":"IF(T$16=\"\",\"\",VLOOKUP(T276,漢字読み!$A$2:$O$506,8,0))","v":{"$error":"#N/A"}},null,"名前"]
[{"$f":"IF(A276=\"\",\"\",IF(VLOOKUP(A276,漢字書き!$A$2:$N$502,7,0)=0,\"\",VLOOKUP(A276,漢字書き!$A$2:$N$502,7,0)))","v":{"$error":"#N/A"}},{"$f":"IF(B276=\"\",\"\",IF(VLOOKUP(B276,漢字書き!$A$2:$N$502,7,0)=0,\"\",VLOOKUP(B276,漢字書き!$A$2:$N$502,7,0)))","v":{"$error":"#N/A"}},{"$f":"IF(C276=\"\",\"\",IF(VLOOKUP(C276,漢字書き!$A$2:$N$502,7,0)=0,\"\",VLOOKUP(C276,漢字書き!$A$2:$N$502,7,0)))","v":{"$error":"#N/A"}},{"$f":"IF(D276=\"\",\"\",IF(VLOOKUP(D276,漢字書き!$A$2:$N$502,7,0)=0,\"\",VLOOKUP(D276,漢字書き!$A$2:$N$502,7,0)))","v":{"$error":"#N/A"}},{"$f":"IF(E276=\"\",\"\",IF(VLOOKUP(E276,漢字書き!$A$2:$N$502,7,0)=0,\"\",VLOOKUP(E276,漢字書き!$A$2:$N$502,7,0)))","v":{"$error":"#N/A"}},{"$f":"IF(F276=\"\",\"\",IF(VLOOKUP(F276,漢字書き!$A$2:$N$502,7,0)=0,\"\",VLOOKUP(F276,漢字書き!$A$2:$N$502,7,0)))","v":{"$error":"#N/A"}},{"$f":"IF(G276=\"\",\"\",IF(VLOOKUP(G276,漢字書き!$A$2:$N$502,7,0)=0,\"\",VLOOKUP(G276,漢字書き!$A$2:$N$502,7,0)))","v":{"$error":"#N/A"}},{"$f":"IF(H276=\"\",\"\",IF(VLOOKUP(H276,漢字書き!$A$2:$N$502,7,0)=0,\"\",VLOOKUP(H276,漢字書き!$A$2:$N$502,7,0)))","v":{"$error":"#N/A"}},{"$f":"IF(I276=\"\",\"\",IF(VLOOKUP(I276,漢字書き!$A$2:$N$502,7,0)=0,\"\",VLOOKUP(I276,漢字書き!$A$2:$N$502,7,0)))","v":{"$error":"#N/A"}},{"$f":"IF(J276=\"\",\"\",IF(VLOOKUP(J276,漢字書き!$A$2:$N$502,7,0)=0,\"\",VLOOKUP(J276,漢字書き!$A$2:$N$502,7,0)))","v":{"$error":"#N/A"}},{"$f":"IF(K276=\"\",\"\",IF(VLOOKUP(K276,漢字読み!$A$2:$O$502,7,0)=0,\"\",VLOOKUP(K276,漢字読み!$A$2:$O$502,7,0)))","v":{"$error":"#N/A"}},{"$f":"IF(L276=\"\",\"\",IF(VLOOKUP(L276,漢字読み!$A$2:$O$502,7,0)=0,\"\",VLOOKUP(L276,漢字読み!$A$2:$O$502,7,0)))","v":{"$error":"#N/A"}},{"$f":"IF(M276=\"\",\"\",IF(VLOOKUP(M276,漢字読み!$A$2:$O$502,7,0)=0,\"\",VLOOKUP(M276,漢字読み!$A$2:$O$502,7,0)))","v":{"$error":"#N/A"}},{"$f":"IF(N276=\"\",\"\",IF(VLOOKUP(N276,漢字読み!$A$2:$O$502,7,0)=0,\"\",VLOOKUP(N276,漢字読み!$A$2:$O$502,7,0)))","v":{"$error":"#N/A"}},{"$f":"IF(O276=\"\",\"\",IF(VLOOKUP(O276,漢字読み!$A$2:$O$502,7,0)=0,\"\",VLOOKUP(O276,漢字読み!$A$2:$O$502,7,0)))","v":{"$error":"#N/A"}},{"$f":"IF(P276=\"\",\"\",IF(VLOOKUP(P276,漢字読み!$A$2:$O$502,7,0)=0,\"\",VLOOKUP(P276,漢字読み!$A$2:$O$502,7,0)))","v":{"$error":"#N/A"}},{"$f":"IF(Q276=\"\",\"\",IF(VLOOKUP(Q276,漢字読み!$A$2:$O$502,7,0)=0,\"\",VLOOKUP(Q276,漢字読み!$A$2:$O$502,7,0)))","v":{"$error":"#N/A"}},{"$f":"IF(R276=\"\",\"\",IF(VLOOKUP(R276,漢字読み!$A$2:$O$502,7,0)=0,\"\",VLOOKUP(R276,漢字読み!$A$2:$O$502,7,0)))","v":{"$error":"#N/A"}},{"$f":"IF(S276=\"\",\"\",IF(VLOOKUP(S276,漢字読み!$A$2:$O$502,7,0)=0,\"\",VLOOKUP(S276,漢字読み!$A$2:$O$502,7,0)))","v":{"$error":"#N/A"}},{"$f":"IF(T276=\"\",\"\",IF(VLOOKUP(T276,漢字読み!$A$2:$O$502,7,0)=0,\"\",VLOOKUP(T276,漢字読み!$A$2:$O$502,7,0)))","v":{"$error":"#N/A"}},null,null,"和歌山県教育委員会"]
[{"$f":"INDIRECT(\"'関数（書き）'!C\" & COLUMN(B$1)+SUM($AD$2:$AD282))","v":0},{"$f":"INDIRECT(\"'関数（書き）'!C\" & COLUMN(C$1)+SUM($AD$2:$AD282))","v":0},{"$f":"INDIRECT(\"'関数（書き）'!C\" & COLUMN(D$1)+SUM($AD$2:$AD282))","v":0},{"$f":"INDIRECT(\"'関数（書き）'!C\" & COLUMN(E$1)+SUM($AD$2:$AD282))","v":0},{"$f":"INDIRECT(\"'関数（書き）'!C\" & COLUMN(F$1)+SUM($AD$2:$AD282))","v":0},{"$f":"INDIRECT(\"'関数（書き）'!C\" & COLUMN(G$1)+SUM($AD$2:$AD282))","v":0},{"$f":"INDIRECT(\"'関数（書き）'!C\" & COLUMN(H$1)+SUM($AD$2:$AD282))","v":0},{"$f":"INDIRECT(\"'関数（書き）'!C\" & COLUMN(I$1)+SUM($AD$2:$AD282))","v":0},{"$f":"INDIRECT(\"'関数（書き）'!C\" & COLUMN(J$1)+SUM($AD$2:$AD282))","v":0},{"$f":"INDIRECT(\"'関数（書き）'!C\" & COLUMN(K$1)+SUM($AD$2:$AD282))","v":0},{"$f":"INDIRECT(\"'関数（読み）'!C\" & COLUMN(B$1)+SUM($AD$2:$AD282))","v":0},{"$f":"INDIRECT(\"'関数（読み）'!C\" & COLUMN(C$1)+SUM($AD$2:$AD282))","v":0},{"$f":"INDIRECT(\"'関数（読み）'!C\" & COLUMN(D$1)+SUM($AD$2:$AD282))","v":0},{"$f":"INDIRECT(\"'関数（読み）'!C\" & COLUMN(E$1)+SUM($AD$2:$AD282))","v":0},{"$f":"INDIRECT(\"'関数（読み）'!C\" & COLUMN(F$1)+SUM($AD$2:$AD282))","v":0},{"$f":"INDIRECT(\"'関数（読み）'!C\" & COLUMN(G$1)+SUM($AD$2:$AD282))","v":0},{"$f":"INDIRECT(\"'関数（読み）'!C\" & COLUMN(H$1)+SUM($AD$2:$AD282))","v":0},{"$f":"INDIRECT(\"'関数（読み）'!C\" & COLUMN(I$1)+SUM($AD$2:$AD282))","v":0},{"$f":"INDIRECT(\"'関数（読み）'!C\" & COLUMN(J$1)+SUM($AD$2:$AD282))","v":0},{"$f":"INDIRECT(\"'関数（読み）'!C\" & COLUMN(K$1)+SUM($AD$2:$AD282))","v":0}]
["⑳","⑲","⑱","⑰","⑯","⑮","⑭","⑬","⑫","⑪","⑩","⑨","⑧","⑦","⑥","⑤","④","③","②","①","次の［　　　　］の部分の漢字には読みがなをひらがなで書き、カタカナは漢字に直しなさい。",15,"「漢字の博士検定試験」練習問題　",null,null,null,null,null,"←",10,"問",{"$f":"AH267+1","v":281},"～",{"$f":"SUM($AD$2:$AD282)+10","v":290},"問まで",{"$f":"COUNTIF($A$1:$T$200,T283)","v":195}]
[{"$f":"IF(A281=\"\",\"\",VLOOKUP(A281,漢字書き!$A$2:$N$506,6,0))","v":{"$error":"#N/A"}},{"$f":"IF(B281=\"\",\"\",VLOOKUP(B281,漢字書き!$A$2:$N$506,6,0))","v":{"$error":"#N/A"}},{"$f":"IF(C281=\"\",\"\",VLOOKUP(C281,漢字書き!$A$2:$N$506,6,0))","v":{"$error":"#N/A"}},{"$f":"IF(D281=\"\",\"\",VLOOKUP(D281,漢字書き!$A$2:$N$506,6,0))","v":{"$error":"#N/A"}},{"$f":"IF(E281=\"\",\"\",VLOOKUP(E281,漢字書き!$A$2:$N$506,6,0))","v":{"$error":"#N/A"}},{"$f":"IF(F281=\"\",\"\",VLOOKUP(F281,漢字書き!$A$2:$N$506,6,0))","v":{"$error":"#N/A"}},{"$f":"IF(G281=\"\",\"\",VLOOKUP(G281,漢字書き!$A$2:$N$506,6,0))","v":{"$error":"#N/A"}},{"$f":"IF(H281=\"\",\"\",VLOOKUP(H281,漢字書き!$A$2:$N$506,6,0))","v":{"$error":"#N/A"}},{"$f":"IF(I281=\"\",\"\",VLOOKUP(I281,漢字書き!$A$2:$N$506,6,0))","v":{"$error":"#N/A"}},{"$f":"IF(J281=\"\",\"\",VLOOKUP(J281,漢字書き!$A$2:$N$506,6,0))","v":{"$error":"#N/A"}},{"$f":"IF(K281=\"\",\"\",VLOOKUP(K281,漢字読み!$A$2:$O$506,6,0))","v":{"$error":"#N/A"}},{"$f":"IF(L281=\"\",\"\",VLOOKUP(L281,漢字読み!$A$2:$O$506,6,0))","v":{"$error":"#N/A"}},{"$f":"IF(M281=\"\",\"\",VLOOKUP(M281,漢字読み!$A$2:$O$506,6,0))","v":{"$error":"#N/A"}},{"$f":"IF(N281=\"\",\"\",VLOOKUP(N281,漢字読み!$A$2:$O$506,6,0))","v":{"$error":"#N/A"}},{"$f":"IF(O281=\"\",\"\",VLOOKUP(O281,漢字読み!$A$2:$O$506,6,0))","v":{"$error":"#N/A"}},{"$f":"IF(P281=\"\",\"\",VLOOKUP(P281,漢字読み!$A$2:$O$506,6,0))","v":{"$error":"#N/A"}},{"$f":"IF(Q281=\"\",\"\",VLOOKUP(Q281,漢字読み!$A$2:$O$506,6,0))","v":{"$error":"#N/A"}},{"$f":"IF(R281=\"\",\"\",VLOOKUP(R281,漢字読み!$A$2:$O$506,6,0))","v":{"$error":"#N/A"}},{"$f":"IF(S281=\"\",\"\",VLOOKUP(S281,漢字読み!$A$2:$O$506,6,0))","v":{"$error":"#N/A"}},{"$f":"IF(T281=\"\",\"\",VLOOKUP(T281,漢字読み!$A$2:$O$506,6,0))","v":{"$error":"#N/A"}},null,"級"]
[null,null,null,null,null,null,null,null,null,null,null,null,null,null,null,null,null,null,null,null,null,"名前"]
[{"$f":"IF(A281=\"\",\"\",IF(VLOOKUP(A281,漢字書き!$A$2:$N$502,7,0)=0,\"\",VLOOKUP(A281,漢字書き!$A$2:$N$502,7,0)))","v":{"$error":"#N/A"}},{"$f":"IF(B281=\"\",\"\",IF(VLOOKUP(B281,漢字書き!$A$2:$N$502,7,0)=0,\"\",VLOOKUP(B281,漢字書き!$A$2:$N$502,7,0)))","v":{"$error":"#N/A"}},{"$f":"IF(C281=\"\",\"\",IF(VLOOKUP(C281,漢字書き!$A$2:$N$502,7,0)=0,\"\",VLOOKUP(C281,漢字書き!$A$2:$N$502,7,0)))","v":{"$error":"#N/A"}},{"$f":"IF(D281=\"\",\"\",IF(VLOOKUP(D281,漢字書き!$A$2:$N$502,7,0)=0,\"\",VLOOKUP(D281,漢字書き!$A$2:$N$502,7,0)))","v":{"$error":"#N/A"}},{"$f":"IF(E281=\"\",\"\",IF(VLOOKUP(E281,漢字書き!$A$2:$N$502,7,0)=0,\"\",VLOOKUP(E281,漢字書き!$A$2:$N$502,7,0)))","v":{"$error":"#N/A"}},{"$f":"IF(F281=\"\",\"\",IF(VLOOKUP(F281,漢字書き!$A$2:$N$502,7,0)=0,\"\",VLOOKUP(F281,漢字書き!$A$2:$N$502,7,0)))","v":{"$error":"#N/A"}},{"$f":"IF(G281=\"\",\"\",IF(VLOOKUP(G281,漢字書き!$A$2:$N$502,7,0)=0,\"\",VLOOKUP(G281,漢字書き!$A$2:$N$502,7,0)))","v":{"$error":"#N/A"}},{"$f":"IF(H281=\"\",\"\",IF(VLOOKUP(H281,漢字書き!$A$2:$N$502,7,0)=0,\"\",VLOOKUP(H281,漢字書き!$A$2:$N$502,7,0)))","v":{"$error":"#N/A"}},{"$f":"IF(I281=\"\",\"\",IF(VLOOKUP(I281,漢字書き!$A$2:$N$502,7,0)=0,\"\",VLOOKUP(I281,漢字書き!$A$2:$N$502,7,0)))","v":{"$error":"#N/A"}},{"$f":"IF(J281=\"\",\"\",IF(VLOOKUP(J281,漢字書き!$A$2:$N$502,7,0)=0,\"\",VLOOKUP(J281,漢字書き!$A$2:$N$502,7,0)))","v":{"$error":"#N/A"}},{"$f":"IF(K281=\"\",\"\",IF(VLOOKUP(K281,漢字読み!$A$2:$O$502,7,0)=0,\"\",VLOOKUP(K281,漢字読み!$A$2:$O$502,7,0)))","v":{"$error":"#N/A"}},{"$f":"IF(L281=\"\",\"\",IF(VLOOKUP(L281,漢字読み!$A$2:$O$502,7,0)=0,\"\",VLOOKUP(L281,漢字読み!$A$2:$O$502,7,0)))","v":{"$error":"#N/A"}},{"$f":"IF(M281=\"\",\"\",IF(VLOOKUP(M281,漢字読み!$A$2:$O$502,7,0)=0,\"\",VLOOKUP(M281,漢字読み!$A$2:$O$502,7,0)))","v":{"$error":"#N/A"}},{"$f":"IF(N281=\"\",\"\",IF(VLOOKUP(N281,漢字読み!$A$2:$O$502,7,0)=0,\"\",VLOOKUP(N281,漢字読み!$A$2:$O$502,7,0)))","v":{"$error":"#N/A"}},{"$f":"IF(O281=\"\",\"\",IF(VLOOKUP(O281,漢字読み!$A$2:$O$502,7,0)=0,\"\",VLOOKUP(O281,漢字読み!$A$2:$O$502,7,0)))","v":{"$error":"#N/A"}},{"$f":"IF(P281=\"\",\"\",IF(VLOOKUP(P281,漢字読み!$A$2:$O$502,7,0)=0,\"\",VLOOKUP(P281,漢字読み!$A$2:$O$502,7,0)))","v":{"$error":"#N/A"}},{"$f":"IF(Q281=\"\",\"\",IF(VLOOKUP(Q281,漢字読み!$A$2:$O$502,7,0)=0,\"\",VLOOKUP(Q281,漢字読み!$A$2:$O$502,7,0)))","v":{"$error":"#N/A"}},{"$f":"IF(R281=\"\",\"\",IF(VLOOKUP(R281,漢字読み!$A$2:$O$502,7,0)=0,\"\",VLOOKUP(R281,漢字読み!$A$2:$O$502,7,0)))","v":{"$error":"#N/A"}},{"$f":"IF(S281=\"\",\"\",IF(VLOOKUP(S281,漢字読み!$A$2:$O$502,7,0)=0,\"\",VLOOKUP(S281,漢字読み!$A$2:$O$502,7,0)))","v":{"$error":"#N/A"}},{"$f":"IF(T281=\"\",\"\",IF(VLOOKUP(T281,漢字読み!$A$2:$O$502,7,0)=0,\"\",VLOOKUP(T281,漢字読み!$A$2:$O$502,7,0)))","v":{"$error":"#N/A"}},null,null,"和歌山県教育委員会"]
[{"$f":"INDIRECT(\"'関数（書き）'!C\" & COLUMN(B$1)+SUM($AD$2:$AD287))","v":0},{"$f":"INDIRECT(\"'関数（書き）'!C\" & COLUMN(C$1)+SUM($AD$2:$AD287))","v":0},{"$f":"INDIRECT(\"'関数（書き）'!C\" & COLUMN(D$1)+SUM($AD$2:$AD287))","v":0},{"$f":"INDIRECT(\"'関数（書き）'!C\" & COLUMN(E$1)+SUM($AD$2:$AD287))","v":0},{"$f":"INDIRECT(\"'関数（書き）'!C\" & COLUMN(F$1)+SUM($AD$2:$AD287))","v":0},{"$f":"INDIRECT(\"'関数（書き）'!C\" & COLUMN(G$1)+SUM($AD$2:$AD287))","v":0},{"$f":"INDIRECT(\"'関数（書き）'!C\" & COLUMN(H$1)+SUM($AD$2:$AD287))","v":0},{"$f":"INDIRECT(\"'関数（書き）'!C\" & COLUMN(I$1)+SUM($AD$2:$AD287))","v":0},{"$f":"INDIRECT(\"'関数（書き）'!C\" & COLUMN(J$1)+SUM($AD$2:$AD287))","v":0},{"$f":"INDIRECT(\"'関数（書き）'!C\" & COLUMN(K$1)+SUM($AD$2:$AD287))","v":0},{"$f":"INDIRECT(\"'関数（読み）'!C\" & COLUMN(B$1)+SUM($AD$2:$AD287))","v":0},{"$f":"INDIRECT(\"'関数（読み）'!C\" & COLUMN(C$1)+SUM($AD$2:$AD287))","v":0},{"$f":"INDIRECT(\"'関数（読み）'!C\" & COLUMN(D$1)+SUM($AD$2:$AD287))","v":0},{"$f":"INDIRECT(\"'関数（読み）'!C\" & COLUMN(E$1)+SUM($AD$2:$AD287))","v":0},{"$f":"INDIRECT(\"'関数（読み）'!C\" & COLUMN(F$1)+SUM($AD$2:$AD287))","v":0},{"$f":"INDIRECT(\"'関数（読み）'!C\" & COLUMN(G$1)+SUM($AD$2:$AD287))","v":0},{"$f":"INDIRECT(\"'関数（読み）'!C\" & COLUMN(H$1)+SUM($AD$2:$AD287))","v":0},{"$f":"INDIRECT(\"'関数（読み）'!C\" & COLUMN(I$1)+SUM($AD$2:$AD287))","v":0},{"$f":"INDIRECT(\"'関数（読み）'!C\" & COLUMN(J$1)+SUM($AD$2:$AD287))","v":0},{"$f":"INDIRECT(\"'関数（読み）'!C\" & COLUMN(K$1)+SUM($AD$2:$AD287))","v":0}]
["⑳","⑲","⑱","⑰","⑯","⑮","⑭","⑬","⑫","⑪","⑩","⑨","⑧","⑦","⑥","⑤","④","③","②","①","次の［　　　　］の部分の漢字には読みがなをひらがなで書き、カタカナは漢字に直しなさい。",15,"「漢字の博士検定試験」練習問題　",null,null,null,null,null,"←",10,"問",{"$f":"AH282+1","v":291},"～",{"$f":"SUM($AD$2:$AD287)+10","v":300},"問まで",{"$f":"COUNTIF($A$1:$T$200,T288)","v":195}]
[{"$f":"IF(A286=\"\",\"\",VLOOKUP(A286,漢字書き!$A$2:$N$506,6,0))","v":{"$error":"#N/A"}},{"$f":"IF(B286=\"\",\"\",VLOOKUP(B286,漢字書き!$A$2:$N$506,6,0))","v":{"$error":"#N/A"}},{"$f":"IF(C286=\"\",\"\",VLOOKUP(C286,漢字書き!$A$2:$N$506,6,0))","v":{"$error":"#N/A"}},{"$f":"IF(D286=\"\",\"\",VLOOKUP(D286,漢字書き!$A$2:$N$506,6,0))","v":{"$error":"#N/A"}},{"$f":"IF(E286=\"\",\"\",VLOOKUP(E286,漢字書き!$A$2:$N$506,6,0))","v":{"$error":"#N/A"}},{"$f":"IF(F286=\"\",\"\",VLOOKUP(F286,漢字書き!$A$2:$N$506,6,0))","v":{"$error":"#N/A"}},{"$f":"IF(G286=\"\",\"\",VLOOKUP(G286,漢字書き!$A$2:$N$506,6,0))","v":{"$error":"#N/A"}},{"$f":"IF(H286=\"\",\"\",VLOOKUP(H286,漢字書き!$A$2:$N$506,6,0))","v":{"$error":"#N/A"}},{"$f":"IF(I286=\"\",\"\",VLOOKUP(I286,漢字書き!$A$2:$N$506,6,0))","v":{"$error":"#N/A"}},{"$f":"IF(J286=\"\",\"\",VLOOKUP(J286,漢字書き!$A$2:$N$506,6,0))","v":{"$error":"#N/A"}},{"$f":"IF(K286=\"\",\"\",VLOOKUP(K286,漢字読み!$A$2:$O$506,6,0))","v":{"$error":"#N/A"}},{"$f":"IF(L286=\"\",\"\",VLOOKUP(L286,漢字読み!$A$2:$O$506,6,0))","v":{"$error":"#N/A"}},{"$f":"IF(M286=\"\",\"\",VLOOKUP(M286,漢字読み!$A$2:$O$506,6,0))","v":{"$error":"#N/A"}},{"$f":"IF(N286=\"\",\"\",VLOOKUP(N286,漢字読み!$A$2:$O$506,6,0))","v":{"$error":"#N/A"}},{"$f":"IF(O286=\"\",\"\",VLOOKUP(O286,漢字読み!$A$2:$O$506,6,0))","v":{"$error":"#N/A"}},{"$f":"IF(P286=\"\",\"\",VLOOKUP(P286,漢字読み!$A$2:$O$506,6,0))","v":{"$error":"#N/A"}},{"$f":"IF(Q286=\"\",\"\",VLOOKUP(Q286,漢字読み!$A$2:$O$506,6,0))","v":{"$error":"#N/A"}},{"$f":"IF(R286=\"\",\"\",VLOOKUP(R286,漢字読み!$A$2:$O$506,6,0))","v":{"$error":"#N/A"}},{"$f":"IF(S286=\"\",\"\",VLOOKUP(S286,漢字読み!$A$2:$O$506,6,0))","v":{"$error":"#N/A"}},{"$f":"IF(T286=\"\",\"\",VLOOKUP(T286,漢字読み!$A$2:$O$506,6,0))","v":{"$error":"#N/A"}},null,"級"]
[null,null,null,null,null,null,null,null,null,null,null,null,null,null,null,null,null,null,null,null,null,"名前"]
[{"$f":"IF(A286=\"\",\"\",IF(VLOOKUP(A286,漢字書き!$A$2:$N$502,7,0)=0,\"\",VLOOKUP(A286,漢字書き!$A$2:$N$502,7,0)))","v":{"$error":"#N/A"}},{"$f":"IF(B286=\"\",\"\",IF(VLOOKUP(B286,漢字書き!$A$2:$N$502,7,0)=0,\"\",VLOOKUP(B286,漢字書き!$A$2:$N$502,7,0)))","v":{"$error":"#N/A"}},{"$f":"IF(C286=\"\",\"\",IF(VLOOKUP(C286,漢字書き!$A$2:$N$502,7,0)=0,\"\",VLOOKUP(C286,漢字書き!$A$2:$N$502,7,0)))","v":{"$error":"#N/A"}},{"$f":"IF(D286=\"\",\"\",IF(VLOOKUP(D286,漢字書き!$A$2:$N$502,7,0)=0,\"\",VLOOKUP(D286,漢字書き!$A$2:$N$502,7,0)))","v":{"$error":"#N/A"}},{"$f":"IF(E286=\"\",\"\",IF(VLOOKUP(E286,漢字書き!$A$2:$N$502,7,0)=0,\"\",VLOOKUP(E286,漢字書き!$A$2:$N$502,7,0)))","v":{"$error":"#N/A"}},{"$f":"IF(F286=\"\",\"\",IF(VLOOKUP(F286,漢字書き!$A$2:$N$502,7,0)=0,\"\",VLOOKUP(F286,漢字書き!$A$2:$N$502,7,0)))","v":{"$error":"#N/A"}},{"$f":"IF(G286=\"\",\"\",IF(VLOOKUP(G286,漢字書き!$A$2:$N$502,7,0)=0,\"\",VLOOKUP(G286,漢字書き!$A$2:$N$502,7,0)))","v":{"$error":"#N/A"}},{"$f":"IF(H286=\"\",\"\",IF(VLOOKUP(H286,漢字書き!$A$2:$N$502,7,0)=0,\"\",VLOOKUP(H286,漢字書き!$A$2:$N$502,7,0)))","v":{"$error":"#N/A"}},{"$f":"IF(I286=\"\",\"\",IF(VLOOKUP(I286,漢字書き!$A$2:$N$502,7,0)=0,\"\",VLOOKUP(I286,漢字書き!$A$2:$N$502,7,0)))","v":{"$error":"#N/A"}},{"$f":"IF(J286=\"\",\"\",IF(VLOOKUP(J286,漢字書き!$A$2:$N$502,7,0)=0,\"\",VLOOKUP(J286,漢字書き!$A$2:$N$502,7,0)))","v":{"$error":"#N/A"}},{"$f":"IF(K286=\"\",\"\",IF(VLOOKUP(K286,漢字読み!$A$2:$O$502,7,0)=0,\"\",VLOOKUP(K286,漢字読み!$A$2:$O$502,7,0)))","v":{"$error":"#N/A"}},{"$f":"IF(L286=\"\",\"\",IF(VLOOKUP(L286,漢字読み!$A$2:$O$502,7,0)=0,\"\",VLOOKUP(L286,漢字読み!$A$2:$O$502,7,0)))","v":{"$error":"#N/A"}},{"$f":"IF(M286=\"\",\"\",IF(VLOOKUP(M286,漢字読み!$A$2:$O$502,7,0)=0,\"\",VLOOKUP(M286,漢字読み!$A$2:$O$502,7,0)))","v":{"$error":"#N/A"}},{"$f":"IF(N286=\"\",\"\",IF(VLOOKUP(N286,漢字読み!$A$2:$O$502,7,0)=0,\"\",VLOOKUP(N286,漢字読み!$A$2:$O$502,7,0)))","v":{"$error":"#N/A"}},{"$f":"IF(O286=\"\",\"\",IF(VLOOKUP(O286,漢字読み!$A$2:$O$502,7,0)=0,\"\",VLOOKUP(O286,漢字読み!$A$2:$O$502,7,0)))","v":{"$error":"#N/A"}},{"$f":"IF(P286=\"\",\"\",IF(VLOOKUP(P286,漢字読み!$A$2:$O$502,7,0)=0,\"\",VLOOKUP(P286,漢字読み!$A$2:$O$502,7,0)))","v":{"$error":"#N/A"}},{"$f":"IF(Q286=\"\",\"\",IF(VLOOKUP(Q286,漢字読み!$A$2:$O$502,7,0)=0,\"\",VLOOKUP(Q286,漢字読み!$A$2:$O$502,7,0)))","v":{"$error":"#N/A"}},{"$f":"IF(R286=\"\",\"\",IF(VLOOKUP(R286,漢字読み!$A$2:$O$502,7,0)=0,\"\",VLOOKUP(R286,漢字読み!$A$2:$O$502,7,0)))","v":{"$error":"#N/A"}},{"$f":"IF(S286=\"\",\"\",IF(VLOOKUP(S286,漢字読み!$A$2:$O$502,7,0)=0,\"\",VLOOKUP(S286,漢字読み!$A$2:$O$502,7,0)))","v":{"$error":"#N/A"}},{"$f":"IF(T286=\"\",\"\",IF(VLOOKUP(T286,漢字読み!$A$2:$O$502,7,0)=0,\"\",VLOOKUP(T286,漢字読み!$A$2:$O$502,7,0)))","v":{"$error":"#N/A"}},null,null,"和歌山県教育委員会"]
[{"$f":"A281","v":0},{"$f":"B281","v":0},0,0,0,0,0,0,0,0,0,0,0,0,0,0,0,0,0,0]
["⑳","⑲","⑱","⑰","⑯","⑮","⑭","⑬","⑫","⑪","⑩","⑨","⑧","⑦","⑥","⑤","④","③","②","①","次の［　　　　］の部分の漢字には読みがなをひらがなで書き、カタカナは漢字に直しなさい。",15,"「漢字の博士検定試験」練習問題　"]
[{"$f":"IF(A291=\"\",\"\",VLOOKUP(A291,漢字書き!$A$2:$N$506,6,0))","v":{"$error":"#N/A"}},{"$f":"IF(B291=\"\",\"\",VLOOKUP(B291,漢字書き!$A$2:$N$506,6,0))","v":{"$error":"#N/A"}},{"$f":"IF(C291=\"\",\"\",VLOOKUP(C291,漢字書き!$A$2:$N$506,6,0))","v":{"$error":"#N/A"}},{"$f":"IF(D291=\"\",\"\",VLOOKUP(D291,漢字書き!$A$2:$N$506,6,0))","v":{"$error":"#N/A"}},{"$f":"IF(E291=\"\",\"\",VLOOKUP(E291,漢字書き!$A$2:$N$506,6,0))","v":{"$error":"#N/A"}},{"$f":"IF(F291=\"\",\"\",VLOOKUP(F291,漢字書き!$A$2:$N$506,6,0))","v":{"$error":"#N/A"}},{"$f":"IF(G291=\"\",\"\",VLOOKUP(G291,漢字書き!$A$2:$N$506,6,0))","v":{"$error":"#N/A"}},{"$f":"IF(H291=\"\",\"\",VLOOKUP(H291,漢字書き!$A$2:$N$506,6,0))","v":{"$error":"#N/A"}},{"$f":"IF(I291=\"\",\"\",VLOOKUP(I291,漢字書き!$A$2:$N$506,6,0))","v":{"$error":"#N/A"}},{"$f":"IF(J291=\"\",\"\",VLOOKUP(J291,漢字書き!$A$2:$N$506,6,0))","v":{"$error":"#N/A"}},{"$f":"IF(K291=\"\",\"\",VLOOKUP(K291,漢字読み!$A$2:$O$506,6,0))","v":{"$error":"#N/A"}},{"$f":"IF(L291=\"\",\"\",VLOOKUP(L291,漢字読み!$A$2:$O$506,6,0))","v":{"$error":"#N/A"}},{"$f":"IF(M291=\"\",\"\",VLOOKUP(M291,漢字読み!$A$2:$O$506,6,0))","v":{"$error":"#N/A"}},{"$f":"IF(N291=\"\",\"\",VLOOKUP(N291,漢字読み!$A$2:$O$506,6,0))","v":{"$error":"#N/A"}},{"$f":"IF(O291=\"\",\"\",VLOOKUP(O291,漢字読み!$A$2:$O$506,6,0))","v":{"$error":"#N/A"}},{"$f":"IF(P291=\"\",\"\",VLOOKUP(P291,漢字読み!$A$2:$O$506,6,0))","v":{"$error":"#N/A"}},{"$f":"IF(Q291=\"\",\"\",VLOOKUP(Q291,漢字読み!$A$2:$O$506,6,0))","v":{"$error":"#N/A"}},{"$f":"IF(R291=\"\",\"\",VLOOKUP(R291,漢字読み!$A$2:$O$506,6,0))","v":{"$error":"#N/A"}},{"$f":"IF(S291=\"\",\"\",VLOOKUP(S291,漢字読み!$A$2:$O$506,6,0))","v":{"$error":"#N/A"}},{"$f":"IF(T291=\"\",\"\",VLOOKUP(T291,漢字読み!$A$2:$O$506,6,0))","v":{"$error":"#N/A"}},null,"級"]
[{"$f":"IF(A$11=\"\",\"\",VLOOKUP(A291,漢字書き!$A$2:$O$506,8,0))","v":{"$error":"#N/A"}},{"$f":"IF(B$11=\"\",\"\",VLOOKUP(B291,漢字書き!$A$2:$O$506,8,0))","v":{"$error":"#N/A"}},{"$f":"IF(C$11=\"\",\"\",VLOOKUP(C291,漢字書き!$A$2:$O$506,8,0))","v":{"$error":"#N/A"}},{"$f":"IF(D$11=\"\",\"\",VLOOKUP(D291,漢字書き!$A$2:$O$506,8,0))","v":{"$error":"#N/A"}},{"$f":"IF(E$11=\"\",\"\",VLOOKUP(E291,漢字書き!$A$2:$O$506,8,0))","v":{"$error":"#N/A"}},{"$f":"IF(F$11=\"\",\"\",VLOOKUP(F291,漢字書き!$A$2:$O$506,8,0))","v":{"$error":"#N/A"}},{"$f":"IF(G$11=\"\",\"\",VLOOKUP(G291,漢字書き!$A$2:$O$506,8,0))","v":{"$error":"#N/A"}},{"$f":"IF(H$11=\"\",\"\",VLOOKUP(H291,漢字書き!$A$2:$O$506,8,0))","v":{"$error":"#N/A"}},{"$f":"IF(I$11=\"\",\"\",VLOOKUP(I291,漢字書き!$A$2:$O$506,8,0))","v":{"$error":"#N/A"}},{"$f":"IF(J$11=\"\",\"\",VLOOKUP(J291,漢字書き!$A$2:$O$506,8,0))","v":{"$error":"#N/A"}},{"$f":"IF(K$11=\"\",\"\",VLOOKUP(K291,漢字読み!$A$2:$O$506,8,0))","v":{"$error":"#N/A"}},{"$f":"IF(L$11=\"\",\"\",VLOOKUP(L291,漢字読み!$A$2:$O$506,8,0))","v":{"$error":"#N/A"}},{"$f":"IF(M$11=\"\",\"\",VLOOKUP(M291,漢字読み!$A$2:$O$506,8,0))","v":{"$error":"#N/A"}},{"$f":"IF(N$11=\"\",\"\",VLOOKUP(N291,漢字読み!$A$2:$O$506,8,0))","v":{"$error":"#N/A"}},{"$f":"IF(O$11=\"\",\"\",VLOOKUP(O291,漢字読み!$A$2:$O$506,8,0))","v":{"$error":"#N/A"}},{"$f":"IF(P$11=\"\",\"\",VLOOKUP(P291,漢字読み!$A$2:$O$506,8,0))","v":{"$error":"#N/A"}},{"$f":"IF(Q$11=\"\",\"\",VLOOKUP(Q291,漢字読み!$A$2:$O$506,8,0))","v":{"$error":"#N/A"}},{"$f":"IF(R$11=\"\",\"\",VLOOKUP(R291,漢字読み!$A$2:$O$506,8,0))","v":{"$error":"#N/A"}},{"$f":"IF(S$11=\"\",\"\",VLOOKUP(S291,漢字読み!$A$2:$O$506,8,0))","v":{"$error":"#N/A"}},{"$f":"IF(T$11=\"\",\"\",VLOOKUP(T291,漢字読み!$A$2:$O$506,8,0))","v":{"$error":"#N/A"}},null,"名前"]
[{"$f":"IF(A291=\"\",\"\",IF(VLOOKUP(A291,漢字書き!$A$2:$N$502,7,0)=0,\"\",VLOOKUP(A291,漢字書き!$A$2:$N$502,7,0)))","v":{"$error":"#N/A"}},{"$f":"IF(B291=\"\",\"\",IF(VLOOKUP(B291,漢字書き!$A$2:$N$502,7,0)=0,\"\",VLOOKUP(B291,漢字書き!$A$2:$N$502,7,0)))","v":{"$error":"#N/A"}},{"$f":"IF(C291=\"\",\"\",IF(VLOOKUP(C291,漢字書き!$A$2:$N$502,7,0)=0,\"\",VLOOKUP(C291,漢字書き!$A$2:$N$502,7,0)))","v":{"$error":"#N/A"}},{"$f":"IF(D291=\"\",\"\",IF(VLOOKUP(D291,漢字書き!$A$2:$N$502,7,0)=0,\"\",VLOOKUP(D291,漢字書き!$A$2:$N$502,7,0)))","v":{"$error":"#N/A"}},{"$f":"IF(E291=\"\",\"\",IF(VLOOKUP(E291,漢字書き!$A$2:$N$502,7,0)=0,\"\",VLOOKUP(E291,漢字書き!$A$2:$N$502,7,0)))","v":{"$error":"#N/A"}},{"$f":"IF(F291=\"\",\"\",IF(VLOOKUP(F291,漢字書き!$A$2:$N$502,7,0)=0,\"\",VLOOKUP(F291,漢字書き!$A$2:$N$502,7,0)))","v":{"$error":"#N/A"}},{"$f":"IF(G291=\"\",\"\",IF(VLOOKUP(G291,漢字書き!$A$2:$N$502,7,0)=0,\"\",VLOOKUP(G291,漢字書き!$A$2:$N$502,7,0)))","v":{"$error":"#N/A"}},{"$f":"IF(H291=\"\",\"\",IF(VLOOKUP(H291,漢字書き!$A$2:$N$502,7,0)=0,\"\",VLOOKUP(H291,漢字書き!$A$2:$N$502,7,0)))","v":{"$error":"#N/A"}},{"$f":"IF(I291=\"\",\"\",IF(VLOOKUP(I291,漢字書き!$A$2:$N$502,7,0)=0,\"\",VLOOKUP(I291,漢字書き!$A$2:$N$502,7,0)))","v":{"$error":"#N/A"}},{"$f":"IF(J291=\"\",\"\",IF(VLOOKUP(J291,漢字書き!$A$2:$N$502,7,0)=0,\"\",VLOOKUP(J291,漢字書き!$A$2:$N$502,7,0)))","v":{"$error":"#N/A"}},{"$f":"IF(K291=\"\",\"\",IF(VLOOKUP(K291,漢字読み!$A$2:$O$502,7,0)=0,\"\",VLOOKUP(K291,漢字読み!$A$2:$O$502,7,0)))","v":{"$error":"#N/A"}},{"$f":"IF(L291=\"\",\"\",IF(VLOOKUP(L291,漢字読み!$A$2:$O$502,7,0)=0,\"\",VLOOKUP(L291,漢字読み!$A$2:$O$502,7,0)))","v":{"$error":"#N/A"}},{"$f":"IF(M291=\"\",\"\",IF(VLOOKUP(M291,漢字読み!$A$2:$O$502,7,0)=0,\"\",VLOOKUP(M291,漢字読み!$A$2:$O$502,7,0)))","v":{"$error":"#N/A"}},{"$f":"IF(N291=\"\",\"\",IF(VLOOKUP(N291,漢字読み!$A$2:$O$502,7,0)=0,\"\",VLOOKUP(N291,漢字読み!$A$2:$O$502,7,0)))","v":{"$error":"#N/A"}},{"$f":"IF(O291=\"\",\"\",IF(VLOOKUP(O291,漢字読み!$A$2:$O$502,7,0)=0,\"\",VLOOKUP(O291,漢字読み!$A$2:$O$502,7,0)))","v":{"$error":"#N/A"}},{"$f":"IF(P291=\"\",\"\",IF(VLOOKUP(P291,漢字読み!$A$2:$O$502,7,0)=0,\"\",VLOOKUP(P291,漢字読み!$A$2:$O$502,7,0)))","v":{"$error":"#N/A"}},{"$f":"IF(Q291=\"\",\"\",IF(VLOOKUP(Q291,漢字読み!$A$2:$O$502,7,0)=0,\"\",VLOOKUP(Q291,漢字読み!$A$2:$O$502,7,0)))","v":{"$error":"#N/A"}},{"$f":"IF(R291=\"\",\"\",IF(VLOOKUP(R291,漢字読み!$A$2:$O$502,7,0)=0,\"\",VLOOKUP(R291,漢字読み!$A$2:$O$502,7,0)))","v":{"$error":"#N/A"}},{"$f":"IF(S291=\"\",\"\",IF(VLOOKUP(S291,漢字読み!$A$2:$O$502,7,0)=0,\"\",VLOOKUP(S291,漢字読み!$A$2:$O$502,7,0)))","v":{"$error":"#N/A"}},{"$f":"IF(T291=\"\",\"\",IF(VLOOKUP(T291,漢字読み!$A$2:$O$502,7,0)=0,\"\",VLOOKUP(T291,漢字読み!$A$2:$O$502,7,0)))","v":{"$error":"#N/A"}},null,null,"和歌山県教育委員会"]
[{"$f":"A286","v":0},{"$f":"B286","v":0},0,0,0,0,0,0,0,0,0,0,0,0,0,0,0,0,0,0]
["⑳","⑲","⑱","⑰","⑯","⑮","⑭","⑬","⑫","⑪","⑩","⑨","⑧","⑦","⑥","⑤","④","③","②","①","次の［　　　　］の部分の漢字には読みがなをひらがなで書き、カタカナは漢字に直しなさい。",15,"「漢字の博士検定試験」練習問題　"]
[{"$f":"IF(A296=\"\",\"\",VLOOKUP(A296,漢字書き!$A$2:$N$506,6,0))","v":{"$error":"#N/A"}},{"$f":"IF(B296=\"\",\"\",VLOOKUP(B296,漢字書き!$A$2:$N$506,6,0))","v":{"$error":"#N/A"}},{"$f":"IF(C296=\"\",\"\",VLOOKUP(C296,漢字書き!$A$2:$N$506,6,0))","v":{"$error":"#N/A"}},{"$f":"IF(D296=\"\",\"\",VLOOKUP(D296,漢字書き!$A$2:$N$506,6,0))","v":{"$error":"#N/A"}},{"$f":"IF(E296=\"\",\"\",VLOOKUP(E296,漢字書き!$A$2:$N$506,6,0))","v":{"$error":"#N/A"}},{"$f":"IF(F296=\"\",\"\",VLOOKUP(F296,漢字書き!$A$2:$N$506,6,0))","v":{"$error":"#N/A"}},{"$f":"IF(G296=\"\",\"\",VLOOKUP(G296,漢字書き!$A$2:$N$506,6,0))","v":{"$error":"#N/A"}},{"$f":"IF(H296=\"\",\"\",VLOOKUP(H296,漢字書き!$A$2:$N$506,6,0))","v":{"$error":"#N/A"}},{"$f":"IF(I296=\"\",\"\",VLOOKUP(I296,漢字書き!$A$2:$N$506,6,0))","v":{"$error":"#N/A"}},{"$f":"IF(J296=\"\",\"\",VLOOKUP(J296,漢字書き!$A$2:$N$506,6,0))","v":{"$error":"#N/A"}},{"$f":"IF(K296=\"\",\"\",VLOOKUP(K296,漢字読み!$A$2:$O$506,6,0))","v":{"$error":"#N/A"}},{"$f":"IF(L296=\"\",\"\",VLOOKUP(L296,漢字読み!$A$2:$O$506,6,0))","v":{"$error":"#N/A"}},{"$f":"IF(M296=\"\",\"\",VLOOKUP(M296,漢字読み!$A$2:$O$506,6,0))","v":{"$error":"#N/A"}},{"$f":"IF(N296=\"\",\"\",VLOOKUP(N296,漢字読み!$A$2:$O$506,6,0))","v":{"$error":"#N/A"}},{"$f":"IF(O296=\"\",\"\",VLOOKUP(O296,漢字読み!$A$2:$O$506,6,0))","v":{"$error":"#N/A"}},{"$f":"IF(P296=\"\",\"\",VLOOKUP(P296,漢字読み!$A$2:$O$506,6,0))","v":{"$error":"#N/A"}},{"$f":"IF(Q296=\"\",\"\",VLOOKUP(Q296,漢字読み!$A$2:$O$506,6,0))","v":{"$error":"#N/A"}},{"$f":"IF(R296=\"\",\"\",VLOOKUP(R296,漢字読み!$A$2:$O$506,6,0))","v":{"$error":"#N/A"}},{"$f":"IF(S296=\"\",\"\",VLOOKUP(S296,漢字読み!$A$2:$O$506,6,0))","v":{"$error":"#N/A"}},{"$f":"IF(T296=\"\",\"\",VLOOKUP(T296,漢字読み!$A$2:$O$506,6,0))","v":{"$error":"#N/A"}},null,"級"]
[{"$f":"IF(A$16=\"\",\"\",VLOOKUP(A296,漢字書き!$A$2:$O$506,8,0))","v":{"$error":"#N/A"}},{"$f":"IF(B$16=\"\",\"\",VLOOKUP(B296,漢字書き!$A$2:$O$506,8,0))","v":{"$error":"#N/A"}},{"$f":"IF(C$16=\"\",\"\",VLOOKUP(C296,漢字書き!$A$2:$O$506,8,0))","v":{"$error":"#N/A"}},{"$f":"IF(D$16=\"\",\"\",VLOOKUP(D296,漢字書き!$A$2:$O$506,8,0))","v":{"$error":"#N/A"}},{"$f":"IF(E$16=\"\",\"\",VLOOKUP(E296,漢字書き!$A$2:$O$506,8,0))","v":{"$error":"#N/A"}},{"$f":"IF(F$16=\"\",\"\",VLOOKUP(F296,漢字書き!$A$2:$O$506,8,0))","v":{"$error":"#N/A"}},{"$f":"IF(G$16=\"\",\"\",VLOOKUP(G296,漢字書き!$A$2:$O$506,8,0))","v":{"$error":"#N/A"}},{"$f":"IF(H$16=\"\",\"\",VLOOKUP(H296,漢字書き!$A$2:$O$506,8,0))","v":{"$error":"#N/A"}},{"$f":"IF(I$16=\"\",\"\",VLOOKUP(I296,漢字書き!$A$2:$O$506,8,0))","v":{"$error":"#N/A"}},{"$f":"IF(J$16=\"\",\"\",VLOOKUP(J296,漢字書き!$A$2:$O$506,8,0))","v":{"$error":"#N/A"}},{"$f":"IF(K$16=\"\",\"\",VLOOKUP(K296,漢字読み!$A$2:$O$506,8,0))","v":{"$error":"#N/A"}},{"$f":"IF(L$16=\"\",\"\",VLOOKUP(L296,漢字読み!$A$2:$O$506,8,0))","v":{"$error":"#N/A"}},{"$f":"IF(M$16=\"\",\"\",VLOOKUP(M296,漢字読み!$A$2:$O$506,8,0))","v":{"$error":"#N/A"}},{"$f":"IF(N$16=\"\",\"\",VLOOKUP(N296,漢字読み!$A$2:$O$506,8,0))","v":{"$error":"#N/A"}},{"$f":"IF(O$16=\"\",\"\",VLOOKUP(O296,漢字読み!$A$2:$O$506,8,0))","v":{"$error":"#N/A"}},{"$f":"IF(P$16=\"\",\"\",VLOOKUP(P296,漢字読み!$A$2:$O$506,8,0))","v":{"$error":"#N/A"}},{"$f":"IF(Q$16=\"\",\"\",VLOOKUP(Q296,漢字読み!$A$2:$O$506,8,0))","v":{"$error":"#N/A"}},{"$f":"IF(R$16=\"\",\"\",VLOOKUP(R296,漢字読み!$A$2:$O$506,8,0))","v":{"$error":"#N/A"}},{"$f":"IF(S$16=\"\",\"\",VLOOKUP(S296,漢字読み!$A$2:$O$506,8,0))","v":{"$error":"#N/A"}},{"$f":"IF(T$16=\"\",\"\",VLOOKUP(T296,漢字読み!$A$2:$O$506,8,0))","v":{"$error":"#N/A"}},null,"名前"]
[{"$f":"IF(A296=\"\",\"\",IF(VLOOKUP(A296,漢字書き!$A$2:$N$502,7,0)=0,\"\",VLOOKUP(A296,漢字書き!$A$2:$N$502,7,0)))","v":{"$error":"#N/A"}},{"$f":"IF(B296=\"\",\"\",IF(VLOOKUP(B296,漢字書き!$A$2:$N$502,7,0)=0,\"\",VLOOKUP(B296,漢字書き!$A$2:$N$502,7,0)))","v":{"$error":"#N/A"}},{"$f":"IF(C296=\"\",\"\",IF(VLOOKUP(C296,漢字書き!$A$2:$N$502,7,0)=0,\"\",VLOOKUP(C296,漢字書き!$A$2:$N$502,7,0)))","v":{"$error":"#N/A"}},{"$f":"IF(D296=\"\",\"\",IF(VLOOKUP(D296,漢字書き!$A$2:$N$502,7,0)=0,\"\",VLOOKUP(D296,漢字書き!$A$2:$N$502,7,0)))","v":{"$error":"#N/A"}},{"$f":"IF(E296=\"\",\"\",IF(VLOOKUP(E296,漢字書き!$A$2:$N$502,7,0)=0,\"\",VLOOKUP(E296,漢字書き!$A$2:$N$502,7,0)))","v":{"$error":"#N/A"}},{"$f":"IF(F296=\"\",\"\",IF(VLOOKUP(F296,漢字書き!$A$2:$N$502,7,0)=0,\"\",VLOOKUP(F296,漢字書き!$A$2:$N$502,7,0)))","v":{"$error":"#N/A"}},{"$f":"IF(G296=\"\",\"\",IF(VLOOKUP(G296,漢字書き!$A$2:$N$502,7,0)=0,\"\",VLOOKUP(G296,漢字書き!$A$2:$N$502,7,0)))","v":{"$error":"#N/A"}},{"$f":"IF(H296=\"\",\"\",IF(VLOOKUP(H296,漢字書き!$A$2:$N$502,7,0)=0,\"\",VLOOKUP(H296,漢字書き!$A$2:$N$502,7,0)))","v":{"$error":"#N/A"}},{"$f":"IF(I296=\"\",\"\",IF(VLOOKUP(I296,漢字書き!$A$2:$N$502,7,0)=0,\"\",VLOOKUP(I296,漢字書き!$A$2:$N$502,7,0)))","v":{"$error":"#N/A"}},{"$f":"IF(J296=\"\",\"\",IF(VLOOKUP(J296,漢字書き!$A$2:$N$502,7,0)=0,\"\",VLOOKUP(J296,漢字書き!$A$2:$N$502,7,0)))","v":{"$error":"#N/A"}},{"$f":"IF(K296=\"\",\"\",IF(VLOOKUP(K296,漢字読み!$A$2:$O$502,7,0)=0,\"\",VLOOKUP(K296,漢字読み!$A$2:$O$502,7,0)))","v":{"$error":"#N/A"}},{"$f":"IF(L296=\"\",\"\",IF(VLOOKUP(L296,漢字読み!$A$2:$O$502,7,0)=0,\"\",VLOOKUP(L296,漢字読み!$A$2:$O$502,7,0)))","v":{"$error":"#N/A"}},{"$f":"IF(M296=\"\",\"\",IF(VLOOKUP(M296,漢字読み!$A$2:$O$502,7,0)=0,\"\",VLOOKUP(M296,漢字読み!$A$2:$O$502,7,0)))","v":{"$error":"#N/A"}},{"$f":"IF(N296=\"\",\"\",IF(VLOOKUP(N296,漢字読み!$A$2:$O$502,7,0)=0,\"\",VLOOKUP(N296,漢字読み!$A$2:$O$502,7,0)))","v":{"$error":"#N/A"}},{"$f":"IF(O296=\"\",\"\",IF(VLOOKUP(O296,漢字読み!$A$2:$O$502,7,0)=0,\"\",VLOOKUP(O296,漢字読み!$A$2:$O$502,7,0)))","v":{"$error":"#N/A"}},{"$f":"IF(P296=\"\",\"\",IF(VLOOKUP(P296,漢字読み!$A$2:$O$502,7,0)=0,\"\",VLOOKUP(P296,漢字読み!$A$2:$O$502,7,0)))","v":{"$error":"#N/A"}},{"$f":"IF(Q296=\"\",\"\",IF(VLOOKUP(Q296,漢字読み!$A$2:$O$502,7,0)=0,\"\",VLOOKUP(Q296,漢字読み!$A$2:$O$502,7,0)))","v":{"$error":"#N/A"}},{"$f":"IF(R296=\"\",\"\",IF(VLOOKUP(R296,漢字読み!$A$2:$O$502,7,0)=0,\"\",VLOOKUP(R296,漢字読み!$A$2:$O$502,7,0)))","v":{"$error":"#N/A"}},{"$f":"IF(S296=\"\",\"\",IF(VLOOKUP(S296,漢字読み!$A$2:$O$502,7,0)=0,\"\",VLOOKUP(S296,漢字読み!$A$2:$O$502,7,0)))","v":{"$error":"#N/A"}},{"$f":"IF(T296=\"\",\"\",IF(VLOOKUP(T296,漢字読み!$A$2:$O$502,7,0)=0,\"\",VLOOKUP(T296,漢字読み!$A$2:$O$502,7,0)))","v":{"$error":"#N/A"}},null,null,"和歌山県教育委員会"]
[{"$f":"INDIRECT(\"'関数（書き）'!C\" & COLUMN(B$1)+SUM($AD$2:$AD302))","v":0},{"$f":"INDIRECT(\"'関数（書き）'!C\" & COLUMN(C$1)+SUM($AD$2:$AD302))","v":0},{"$f":"INDIRECT(\"'関数（書き）'!C\" & COLUMN(D$1)+SUM($AD$2:$AD302))","v":0},{"$f":"INDIRECT(\"'関数（書き）'!C\" & COLUMN(E$1)+SUM($AD$2:$AD302))","v":0},{"$f":"INDIRECT(\"'関数（書き）'!C\" & COLUMN(F$1)+SUM($AD$2:$AD302))","v":0},{"$f":"INDIRECT(\"'関数（書き）'!C\" & COLUMN(G$1)+SUM($AD$2:$AD302))","v":0},{"$f":"INDIRECT(\"'関数（書き）'!C\" & COLUMN(H$1)+SUM($AD$2:$AD302))","v":0},{"$f":"INDIRECT(\"'関数（書き）'!C\" & COLUMN(I$1)+SUM($AD$2:$AD302))","v":0},{"$f":"INDIRECT(\"'関数（書き）'!C\" & COLUMN(J$1)+SUM($AD$2:$AD302))","v":0},{"$f":"INDIRECT(\"'関数（書き）'!C\" & COLUMN(K$1)+SUM($AD$2:$AD302))","v":0},{"$f":"INDIRECT(\"'関数（読み）'!C\" & COLUMN(B$1)+SUM($AD$2:$AD302))","v":0},{"$f":"INDIRECT(\"'関数（読み）'!C\" & COLUMN(C$1)+SUM($AD$2:$AD302))","v":0},{"$f":"INDIRECT(\"'関数（読み）'!C\" & COLUMN(D$1)+SUM($AD$2:$AD302))","v":0},{"$f":"INDIRECT(\"'関数（読み）'!C\" & COLUMN(E$1)+SUM($AD$2:$AD302))","v":0},{"$f":"INDIRECT(\"'関数（読み）'!C\" & COLUMN(F$1)+SUM($AD$2:$AD302))","v":0},{"$f":"INDIRECT(\"'関数（読み）'!C\" & COLUMN(G$1)+SUM($AD$2:$AD302))","v":0},{"$f":"INDIRECT(\"'関数（読み）'!C\" & COLUMN(H$1)+SUM($AD$2:$AD302))","v":0},{"$f":"INDIRECT(\"'関数（読み）'!C\" & COLUMN(I$1)+SUM($AD$2:$AD302))","v":0},{"$f":"INDIRECT(\"'関数（読み）'!C\" & COLUMN(J$1)+SUM($AD$2:$AD302))","v":0},{"$f":"INDIRECT(\"'関数（読み）'!C\" & COLUMN(K$1)+SUM($AD$2:$AD302))","v":0}]
["⑳","⑲","⑱","⑰","⑯","⑮","⑭","⑬","⑫","⑪","⑩","⑨","⑧","⑦","⑥","⑤","④","③","②","①","次の［　　　　］の部分の漢字には読みがなをひらがなで書き、カタカナは漢字に直しなさい。",15,"「漢字の博士検定試験」練習問題　",null,null,null,null,null,"←",10,"問",{"$f":"AH287+1","v":301},"～",{"$f":"SUM($AD$2:$AD302)+10","v":310},"問まで",{"$f":"COUNTIF($A$1:$T$200,T303)","v":195}]
[{"$f":"IF(A301=\"\",\"\",VLOOKUP(A301,漢字書き!$A$2:$N$506,6,0))","v":{"$error":"#N/A"}},{"$f":"IF(B301=\"\",\"\",VLOOKUP(B301,漢字書き!$A$2:$N$506,6,0))","v":{"$error":"#N/A"}},{"$f":"IF(C301=\"\",\"\",VLOOKUP(C301,漢字書き!$A$2:$N$506,6,0))","v":{"$error":"#N/A"}},{"$f":"IF(D301=\"\",\"\",VLOOKUP(D301,漢字書き!$A$2:$N$506,6,0))","v":{"$error":"#N/A"}},{"$f":"IF(E301=\"\",\"\",VLOOKUP(E301,漢字書き!$A$2:$N$506,6,0))","v":{"$error":"#N/A"}},{"$f":"IF(F301=\"\",\"\",VLOOKUP(F301,漢字書き!$A$2:$N$506,6,0))","v":{"$error":"#N/A"}},{"$f":"IF(G301=\"\",\"\",VLOOKUP(G301,漢字書き!$A$2:$N$506,6,0))","v":{"$error":"#N/A"}},{"$f":"IF(H301=\"\",\"\",VLOOKUP(H301,漢字書き!$A$2:$N$506,6,0))","v":{"$error":"#N/A"}},{"$f":"IF(I301=\"\",\"\",VLOOKUP(I301,漢字書き!$A$2:$N$506,6,0))","v":{"$error":"#N/A"}},{"$f":"IF(J301=\"\",\"\",VLOOKUP(J301,漢字書き!$A$2:$N$506,6,0))","v":{"$error":"#N/A"}},{"$f":"IF(K301=\"\",\"\",VLOOKUP(K301,漢字読み!$A$2:$O$506,6,0))","v":{"$error":"#N/A"}},{"$f":"IF(L301=\"\",\"\",VLOOKUP(L301,漢字読み!$A$2:$O$506,6,0))","v":{"$error":"#N/A"}},{"$f":"IF(M301=\"\",\"\",VLOOKUP(M301,漢字読み!$A$2:$O$506,6,0))","v":{"$error":"#N/A"}},{"$f":"IF(N301=\"\",\"\",VLOOKUP(N301,漢字読み!$A$2:$O$506,6,0))","v":{"$error":"#N/A"}},{"$f":"IF(O301=\"\",\"\",VLOOKUP(O301,漢字読み!$A$2:$O$506,6,0))","v":{"$error":"#N/A"}},{"$f":"IF(P301=\"\",\"\",VLOOKUP(P301,漢字読み!$A$2:$O$506,6,0))","v":{"$error":"#N/A"}},{"$f":"IF(Q301=\"\",\"\",VLOOKUP(Q301,漢字読み!$A$2:$O$506,6,0))","v":{"$error":"#N/A"}},{"$f":"IF(R301=\"\",\"\",VLOOKUP(R301,漢字読み!$A$2:$O$506,6,0))","v":{"$error":"#N/A"}},{"$f":"IF(S301=\"\",\"\",VLOOKUP(S301,漢字読み!$A$2:$O$506,6,0))","v":{"$error":"#N/A"}},{"$f":"IF(T301=\"\",\"\",VLOOKUP(T301,漢字読み!$A$2:$O$506,6,0))","v":{"$error":"#N/A"}},null,"級"]
[null,null,null,null,null,null,null,null,null,null,null,null,null,null,null,null,null,null,null,null,null,"名前"]
[{"$f":"IF(A301=\"\",\"\",IF(VLOOKUP(A301,漢字書き!$A$2:$N$502,7,0)=0,\"\",VLOOKUP(A301,漢字書き!$A$2:$N$502,7,0)))","v":{"$error":"#N/A"}},{"$f":"IF(B301=\"\",\"\",IF(VLOOKUP(B301,漢字書き!$A$2:$N$502,7,0)=0,\"\",VLOOKUP(B301,漢字書き!$A$2:$N$502,7,0)))","v":{"$error":"#N/A"}},{"$f":"IF(C301=\"\",\"\",IF(VLOOKUP(C301,漢字書き!$A$2:$N$502,7,0)=0,\"\",VLOOKUP(C301,漢字書き!$A$2:$N$502,7,0)))","v":{"$error":"#N/A"}},{"$f":"IF(D301=\"\",\"\",IF(VLOOKUP(D301,漢字書き!$A$2:$N$502,7,0)=0,\"\",VLOOKUP(D301,漢字書き!$A$2:$N$502,7,0)))","v":{"$error":"#N/A"}},{"$f":"IF(E301=\"\",\"\",IF(VLOOKUP(E301,漢字書き!$A$2:$N$502,7,0)=0,\"\",VLOOKUP(E301,漢字書き!$A$2:$N$502,7,0)))","v":{"$error":"#N/A"}},{"$f":"IF(F301=\"\",\"\",IF(VLOOKUP(F301,漢字書き!$A$2:$N$502,7,0)=0,\"\",VLOOKUP(F301,漢字書き!$A$2:$N$502,7,0)))","v":{"$error":"#N/A"}},{"$f":"IF(G301=\"\",\"\",IF(VLOOKUP(G301,漢字書き!$A$2:$N$502,7,0)=0,\"\",VLOOKUP(G301,漢字書き!$A$2:$N$502,7,0)))","v":{"$error":"#N/A"}},{"$f":"IF(H301=\"\",\"\",IF(VLOOKUP(H301,漢字書き!$A$2:$N$502,7,0)=0,\"\",VLOOKUP(H301,漢字書き!$A$2:$N$502,7,0)))","v":{"$error":"#N/A"}},{"$f":"IF(I301=\"\",\"\",IF(VLOOKUP(I301,漢字書き!$A$2:$N$502,7,0)=0,\"\",VLOOKUP(I301,漢字書き!$A$2:$N$502,7,0)))","v":{"$error":"#N/A"}},{"$f":"IF(J301=\"\",\"\",IF(VLOOKUP(J301,漢字書き!$A$2:$N$502,7,0)=0,\"\",VLOOKUP(J301,漢字書き!$A$2:$N$502,7,0)))","v":{"$error":"#N/A"}},{"$f":"IF(K301=\"\",\"\",IF(VLOOKUP(K301,漢字読み!$A$2:$O$502,7,0)=0,\"\",VLOOKUP(K301,漢字読み!$A$2:$O$502,7,0)))","v":{"$error":"#N/A"}},{"$f":"IF(L301=\"\",\"\",IF(VLOOKUP(L301,漢字読み!$A$2:$O$502,7,0)=0,\"\",VLOOKUP(L301,漢字読み!$A$2:$O$502,7,0)))","v":{"$error":"#N/A"}},{"$f":"IF(M301=\"\",\"\",IF(VLOOKUP(M301,漢字読み!$A$2:$O$502,7,0)=0,\"\",VLOOKUP(M301,漢字読み!$A$2:$O$502,7,0)))","v":{"$error":"#N/A"}},{"$f":"IF(N301=\"\",\"\",IF(VLOOKUP(N301,漢字読み!$A$2:$O$502,7,0)=0,\"\",VLOOKUP(N301,漢字読み!$A$2:$O$502,7,0)))","v":{"$error":"#N/A"}},{"$f":"IF(O301=\"\",\"\",IF(VLOOKUP(O301,漢字読み!$A$2:$O$502,7,0)=0,\"\",VLOOKUP(O301,漢字読み!$A$2:$O$502,7,0)))","v":{"$error":"#N/A"}},{"$f":"IF(P301=\"\",\"\",IF(VLOOKUP(P301,漢字読み!$A$2:$O$502,7,0)=0,\"\",VLOOKUP(P301,漢字読み!$A$2:$O$502,7,0)))","v":{"$error":"#N/A"}},{"$f":"IF(Q301=\"\",\"\",IF(VLOOKUP(Q301,漢字読み!$A$2:$O$502,7,0)=0,\"\",VLOOKUP(Q301,漢字読み!$A$2:$O$502,7,0)))","v":{"$error":"#N/A"}},{"$f":"IF(R301=\"\",\"\",IF(VLOOKUP(R301,漢字読み!$A$2:$O$502,7,0)=0,\"\",VLOOKUP(R301,漢字読み!$A$2:$O$502,7,0)))","v":{"$error":"#N/A"}},{"$f":"IF(S301=\"\",\"\",IF(VLOOKUP(S301,漢字読み!$A$2:$O$502,7,0)=0,\"\",VLOOKUP(S301,漢字読み!$A$2:$O$502,7,0)))","v":{"$error":"#N/A"}},{"$f":"IF(T301=\"\",\"\",IF(VLOOKUP(T301,漢字読み!$A$2:$O$502,7,0)=0,\"\",VLOOKUP(T301,漢字読み!$A$2:$O$502,7,0)))","v":{"$error":"#N/A"}},null,null,"和歌山県教育委員会"]
[{"$f":"INDIRECT(\"'関数（書き）'!C\" & COLUMN(B$1)+SUM($AD$2:$AD307))","v":0},{"$f":"INDIRECT(\"'関数（書き）'!C\" & COLUMN(C$1)+SUM($AD$2:$AD307))","v":0},{"$f":"INDIRECT(\"'関数（書き）'!C\" & COLUMN(D$1)+SUM($AD$2:$AD307))","v":0},{"$f":"INDIRECT(\"'関数（書き）'!C\" & COLUMN(E$1)+SUM($AD$2:$AD307))","v":0},{"$f":"INDIRECT(\"'関数（書き）'!C\" & COLUMN(F$1)+SUM($AD$2:$AD307))","v":0},{"$f":"INDIRECT(\"'関数（書き）'!C\" & COLUMN(G$1)+SUM($AD$2:$AD307))","v":0},{"$f":"INDIRECT(\"'関数（書き）'!C\" & COLUMN(H$1)+SUM($AD$2:$AD307))","v":0},{"$f":"INDIRECT(\"'関数（書き）'!C\" & COLUMN(I$1)+SUM($AD$2:$AD307))","v":0},{"$f":"INDIRECT(\"'関数（書き）'!C\" & COLUMN(J$1)+SUM($AD$2:$AD307))","v":0},{"$f":"INDIRECT(\"'関数（書き）'!C\" & COLUMN(K$1)+SUM($AD$2:$AD307))","v":0},{"$f":"INDIRECT(\"'関数（読み）'!C\" & COLUMN(B$1)+SUM($AD$2:$AD307))","v":0},{"$f":"INDIRECT(\"'関数（読み）'!C\" & COLUMN(C$1)+SUM($AD$2:$AD307))","v":0},{"$f":"INDIRECT(\"'関数（読み）'!C\" & COLUMN(D$1)+SUM($AD$2:$AD307))","v":0},{"$f":"INDIRECT(\"'関数（読み）'!C\" & COLUMN(E$1)+SUM($AD$2:$AD307))","v":0},{"$f":"INDIRECT(\"'関数（読み）'!C\" & COLUMN(F$1)+SUM($AD$2:$AD307))","v":0},{"$f":"INDIRECT(\"'関数（読み）'!C\" & COLUMN(G$1)+SUM($AD$2:$AD307))","v":0},{"$f":"INDIRECT(\"'関数（読み）'!C\" & COLUMN(H$1)+SUM($AD$2:$AD307))","v":0},{"$f":"INDIRECT(\"'関数（読み）'!C\" & COLUMN(I$1)+SUM($AD$2:$AD307))","v":0},{"$f":"INDIRECT(\"'関数（読み）'!C\" & COLUMN(J$1)+SUM($AD$2:$AD307))","v":0},{"$f":"INDIRECT(\"'関数（読み）'!C\" & COLUMN(K$1)+SUM($AD$2:$AD307))","v":0}]
["⑳","⑲","⑱","⑰","⑯","⑮","⑭","⑬","⑫","⑪","⑩","⑨","⑧","⑦","⑥","⑤","④","③","②","①","次の［　　　　］の部分の漢字には読みがなをひらがなで書き、カタカナは漢字に直しなさい。",15,"「漢字の博士検定試験」練習問題　",null,null,null,null,null,"←",10,"問",{"$f":"AH302+1","v":311},"～",{"$f":"SUM($AD$2:$AD307)+10","v":320},"問まで",{"$f":"COUNTIF($A$1:$T$200,T308)","v":195}]
[{"$f":"IF(A306=\"\",\"\",VLOOKUP(A306,漢字書き!$A$2:$N$506,6,0))","v":{"$error":"#N/A"}},{"$f":"IF(B306=\"\",\"\",VLOOKUP(B306,漢字書き!$A$2:$N$506,6,0))","v":{"$error":"#N/A"}},{"$f":"IF(C306=\"\",\"\",VLOOKUP(C306,漢字書き!$A$2:$N$506,6,0))","v":{"$error":"#N/A"}},{"$f":"IF(D306=\"\",\"\",VLOOKUP(D306,漢字書き!$A$2:$N$506,6,0))","v":{"$error":"#N/A"}},{"$f":"IF(E306=\"\",\"\",VLOOKUP(E306,漢字書き!$A$2:$N$506,6,0))","v":{"$error":"#N/A"}},{"$f":"IF(F306=\"\",\"\",VLOOKUP(F306,漢字書き!$A$2:$N$506,6,0))","v":{"$error":"#N/A"}},{"$f":"IF(G306=\"\",\"\",VLOOKUP(G306,漢字書き!$A$2:$N$506,6,0))","v":{"$error":"#N/A"}},{"$f":"IF(H306=\"\",\"\",VLOOKUP(H306,漢字書き!$A$2:$N$506,6,0))","v":{"$error":"#N/A"}},{"$f":"IF(I306=\"\",\"\",VLOOKUP(I306,漢字書き!$A$2:$N$506,6,0))","v":{"$error":"#N/A"}},{"$f":"IF(J306=\"\",\"\",VLOOKUP(J306,漢字書き!$A$2:$N$506,6,0))","v":{"$error":"#N/A"}},{"$f":"IF(K306=\"\",\"\",VLOOKUP(K306,漢字読み!$A$2:$O$506,6,0))","v":{"$error":"#N/A"}},{"$f":"IF(L306=\"\",\"\",VLOOKUP(L306,漢字読み!$A$2:$O$506,6,0))","v":{"$error":"#N/A"}},{"$f":"IF(M306=\"\",\"\",VLOOKUP(M306,漢字読み!$A$2:$O$506,6,0))","v":{"$error":"#N/A"}},{"$f":"IF(N306=\"\",\"\",VLOOKUP(N306,漢字読み!$A$2:$O$506,6,0))","v":{"$error":"#N/A"}},{"$f":"IF(O306=\"\",\"\",VLOOKUP(O306,漢字読み!$A$2:$O$506,6,0))","v":{"$error":"#N/A"}},{"$f":"IF(P306=\"\",\"\",VLOOKUP(P306,漢字読み!$A$2:$O$506,6,0))","v":{"$error":"#N/A"}},{"$f":"IF(Q306=\"\",\"\",VLOOKUP(Q306,漢字読み!$A$2:$O$506,6,0))","v":{"$error":"#N/A"}},{"$f":"IF(R306=\"\",\"\",VLOOKUP(R306,漢字読み!$A$2:$O$506,6,0))","v":{"$error":"#N/A"}},{"$f":"IF(S306=\"\",\"\",VLOOKUP(S306,漢字読み!$A$2:$O$506,6,0))","v":{"$error":"#N/A"}},{"$f":"IF(T306=\"\",\"\",VLOOKUP(T306,漢字読み!$A$2:$O$506,6,0))","v":{"$error":"#N/A"}},null,"級"]
[null,null,null,null,null,null,null,null,null,null,null,null,null,null,null,null,null,null,null,null,null,"名前"]
[{"$f":"IF(A306=\"\",\"\",IF(VLOOKUP(A306,漢字書き!$A$2:$N$502,7,0)=0,\"\",VLOOKUP(A306,漢字書き!$A$2:$N$502,7,0)))","v":{"$error":"#N/A"}},{"$f":"IF(B306=\"\",\"\",IF(VLOOKUP(B306,漢字書き!$A$2:$N$502,7,0)=0,\"\",VLOOKUP(B306,漢字書き!$A$2:$N$502,7,0)))","v":{"$error":"#N/A"}},{"$f":"IF(C306=\"\",\"\",IF(VLOOKUP(C306,漢字書き!$A$2:$N$502,7,0)=0,\"\",VLOOKUP(C306,漢字書き!$A$2:$N$502,7,0)))","v":{"$error":"#N/A"}},{"$f":"IF(D306=\"\",\"\",IF(VLOOKUP(D306,漢字書き!$A$2:$N$502,7,0)=0,\"\",VLOOKUP(D306,漢字書き!$A$2:$N$502,7,0)))","v":{"$error":"#N/A"}},{"$f":"IF(E306=\"\",\"\",IF(VLOOKUP(E306,漢字書き!$A$2:$N$502,7,0)=0,\"\",VLOOKUP(E306,漢字書き!$A$2:$N$502,7,0)))","v":{"$error":"#N/A"}},{"$f":"IF(F306=\"\",\"\",IF(VLOOKUP(F306,漢字書き!$A$2:$N$502,7,0)=0,\"\",VLOOKUP(F306,漢字書き!$A$2:$N$502,7,0)))","v":{"$error":"#N/A"}},{"$f":"IF(G306=\"\",\"\",IF(VLOOKUP(G306,漢字書き!$A$2:$N$502,7,0)=0,\"\",VLOOKUP(G306,漢字書き!$A$2:$N$502,7,0)))","v":{"$error":"#N/A"}},{"$f":"IF(H306=\"\",\"\",IF(VLOOKUP(H306,漢字書き!$A$2:$N$502,7,0)=0,\"\",VLOOKUP(H306,漢字書き!$A$2:$N$502,7,0)))","v":{"$error":"#N/A"}},{"$f":"IF(I306=\"\",\"\",IF(VLOOKUP(I306,漢字書き!$A$2:$N$502,7,0)=0,\"\",VLOOKUP(I306,漢字書き!$A$2:$N$502,7,0)))","v":{"$error":"#N/A"}},{"$f":"IF(J306=\"\",\"\",IF(VLOOKUP(J306,漢字書き!$A$2:$N$502,7,0)=0,\"\",VLOOKUP(J306,漢字書き!$A$2:$N$502,7,0)))","v":{"$error":"#N/A"}},{"$f":"IF(K306=\"\",\"\",IF(VLOOKUP(K306,漢字読み!$A$2:$O$502,7,0)=0,\"\",VLOOKUP(K306,漢字読み!$A$2:$O$502,7,0)))","v":{"$error":"#N/A"}},{"$f":"IF(L306=\"\",\"\",IF(VLOOKUP(L306,漢字読み!$A$2:$O$502,7,0)=0,\"\",VLOOKUP(L306,漢字読み!$A$2:$O$502,7,0)))","v":{"$error":"#N/A"}},{"$f":"IF(M306=\"\",\"\",IF(VLOOKUP(M306,漢字読み!$A$2:$O$502,7,0)=0,\"\",VLOOKUP(M306,漢字読み!$A$2:$O$502,7,0)))","v":{"$error":"#N/A"}},{"$f":"IF(N306=\"\",\"\",IF(VLOOKUP(N306,漢字読み!$A$2:$O$502,7,0)=0,\"\",VLOOKUP(N306,漢字読み!$A$2:$O$502,7,0)))","v":{"$error":"#N/A"}},{"$f":"IF(O306=\"\",\"\",IF(VLOOKUP(O306,漢字読み!$A$2:$O$502,7,0)=0,\"\",VLOOKUP(O306,漢字読み!$A$2:$O$502,7,0)))","v":{"$error":"#N/A"}},{"$f":"IF(P306=\"\",\"\",IF(VLOOKUP(P306,漢字読み!$A$2:$O$502,7,0)=0,\"\",VLOOKUP(P306,漢字読み!$A$2:$O$502,7,0)))","v":{"$error":"#N/A"}},{"$f":"IF(Q306=\"\",\"\",IF(VLOOKUP(Q306,漢字読み!$A$2:$O$502,7,0)=0,\"\",VLOOKUP(Q306,漢字読み!$A$2:$O$502,7,0)))","v":{"$error":"#N/A"}},{"$f":"IF(R306=\"\",\"\",IF(VLOOKUP(R306,漢字読み!$A$2:$O$502,7,0)=0,\"\",VLOOKUP(R306,漢字読み!$A$2:$O$502,7,0)))","v":{"$error":"#N/A"}},{"$f":"IF(S306=\"\",\"\",IF(VLOOKUP(S306,漢字読み!$A$2:$O$502,7,0)=0,\"\",VLOOKUP(S306,漢字読み!$A$2:$O$502,7,0)))","v":{"$error":"#N/A"}},{"$f":"IF(T306=\"\",\"\",IF(VLOOKUP(T306,漢字読み!$A$2:$O$502,7,0)=0,\"\",VLOOKUP(T306,漢字読み!$A$2:$O$502,7,0)))","v":{"$error":"#N/A"}},null,null,"和歌山県教育委員会"]
[{"$f":"A301","v":0},{"$f":"B301","v":0},0,0,0,0,0,0,0,0,0,0,0,0,0,0,0,0,0,0]
["⑳","⑲","⑱","⑰","⑯","⑮","⑭","⑬","⑫","⑪","⑩","⑨","⑧","⑦","⑥","⑤","④","③","②","①","次の［　　　　］の部分の漢字には読みがなをひらがなで書き、カタカナは漢字に直しなさい。",15,"「漢字の博士検定試験」練習問題　"]
[{"$f":"IF(A311=\"\",\"\",VLOOKUP(A311,漢字書き!$A$2:$N$506,6,0))","v":{"$error":"#N/A"}},{"$f":"IF(B311=\"\",\"\",VLOOKUP(B311,漢字書き!$A$2:$N$506,6,0))","v":{"$error":"#N/A"}},{"$f":"IF(C311=\"\",\"\",VLOOKUP(C311,漢字書き!$A$2:$N$506,6,0))","v":{"$error":"#N/A"}},{"$f":"IF(D311=\"\",\"\",VLOOKUP(D311,漢字書き!$A$2:$N$506,6,0))","v":{"$error":"#N/A"}},{"$f":"IF(E311=\"\",\"\",VLOOKUP(E311,漢字書き!$A$2:$N$506,6,0))","v":{"$error":"#N/A"}},{"$f":"IF(F311=\"\",\"\",VLOOKUP(F311,漢字書き!$A$2:$N$506,6,0))","v":{"$error":"#N/A"}},{"$f":"IF(G311=\"\",\"\",VLOOKUP(G311,漢字書き!$A$2:$N$506,6,0))","v":{"$error":"#N/A"}},{"$f":"IF(H311=\"\",\"\",VLOOKUP(H311,漢字書き!$A$2:$N$506,6,0))","v":{"$error":"#N/A"}},{"$f":"IF(I311=\"\",\"\",VLOOKUP(I311,漢字書き!$A$2:$N$506,6,0))","v":{"$error":"#N/A"}},{"$f":"IF(J311=\"\",\"\",VLOOKUP(J311,漢字書き!$A$2:$N$506,6,0))","v":{"$error":"#N/A"}},{"$f":"IF(K311=\"\",\"\",VLOOKUP(K311,漢字読み!$A$2:$O$506,6,0))","v":{"$error":"#N/A"}},{"$f":"IF(L311=\"\",\"\",VLOOKUP(L311,漢字読み!$A$2:$O$506,6,0))","v":{"$error":"#N/A"}},{"$f":"IF(M311=\"\",\"\",VLOOKUP(M311,漢字読み!$A$2:$O$506,6,0))","v":{"$error":"#N/A"}},{"$f":"IF(N311=\"\",\"\",VLOOKUP(N311,漢字読み!$A$2:$O$506,6,0))","v":{"$error":"#N/A"}},{"$f":"IF(O311=\"\",\"\",VLOOKUP(O311,漢字読み!$A$2:$O$506,6,0))","v":{"$error":"#N/A"}},{"$f":"IF(P311=\"\",\"\",VLOOKUP(P311,漢字読み!$A$2:$O$506,6,0))","v":{"$error":"#N/A"}},{"$f":"IF(Q311=\"\",\"\",VLOOKUP(Q311,漢字読み!$A$2:$O$506,6,0))","v":{"$error":"#N/A"}},{"$f":"IF(R311=\"\",\"\",VLOOKUP(R311,漢字読み!$A$2:$O$506,6,0))","v":{"$error":"#N/A"}},{"$f":"IF(S311=\"\",\"\",VLOOKUP(S311,漢字読み!$A$2:$O$506,6,0))","v":{"$error":"#N/A"}},{"$f":"IF(T311=\"\",\"\",VLOOKUP(T311,漢字読み!$A$2:$O$506,6,0))","v":{"$error":"#N/A"}},null,"級"]
[{"$f":"IF(A$11=\"\",\"\",VLOOKUP(A311,漢字書き!$A$2:$O$506,8,0))","v":{"$error":"#N/A"}},{"$f":"IF(B$11=\"\",\"\",VLOOKUP(B311,漢字書き!$A$2:$O$506,8,0))","v":{"$error":"#N/A"}},{"$f":"IF(C$11=\"\",\"\",VLOOKUP(C311,漢字書き!$A$2:$O$506,8,0))","v":{"$error":"#N/A"}},{"$f":"IF(D$11=\"\",\"\",VLOOKUP(D311,漢字書き!$A$2:$O$506,8,0))","v":{"$error":"#N/A"}},{"$f":"IF(E$11=\"\",\"\",VLOOKUP(E311,漢字書き!$A$2:$O$506,8,0))","v":{"$error":"#N/A"}},{"$f":"IF(F$11=\"\",\"\",VLOOKUP(F311,漢字書き!$A$2:$O$506,8,0))","v":{"$error":"#N/A"}},{"$f":"IF(G$11=\"\",\"\",VLOOKUP(G311,漢字書き!$A$2:$O$506,8,0))","v":{"$error":"#N/A"}},{"$f":"IF(H$11=\"\",\"\",VLOOKUP(H311,漢字書き!$A$2:$O$506,8,0))","v":{"$error":"#N/A"}},{"$f":"IF(I$11=\"\",\"\",VLOOKUP(I311,漢字書き!$A$2:$O$506,8,0))","v":{"$error":"#N/A"}},{"$f":"IF(J$11=\"\",\"\",VLOOKUP(J311,漢字書き!$A$2:$O$506,8,0))","v":{"$error":"#N/A"}},{"$f":"IF(K$11=\"\",\"\",VLOOKUP(K311,漢字読み!$A$2:$O$506,8,0))","v":{"$error":"#N/A"}},{"$f":"IF(L$11=\"\",\"\",VLOOKUP(L311,漢字読み!$A$2:$O$506,8,0))","v":{"$error":"#N/A"}},{"$f":"IF(M$11=\"\",\"\",VLOOKUP(M311,漢字読み!$A$2:$O$506,8,0))","v":{"$error":"#N/A"}},{"$f":"IF(N$11=\"\",\"\",VLOOKUP(N311,漢字読み!$A$2:$O$506,8,0))","v":{"$error":"#N/A"}},{"$f":"IF(O$11=\"\",\"\",VLOOKUP(O311,漢字読み!$A$2:$O$506,8,0))","v":{"$error":"#N/A"}},{"$f":"IF(P$11=\"\",\"\",VLOOKUP(P311,漢字読み!$A$2:$O$506,8,0))","v":{"$error":"#N/A"}},{"$f":"IF(Q$11=\"\",\"\",VLOOKUP(Q311,漢字読み!$A$2:$O$506,8,0))","v":{"$error":"#N/A"}},{"$f":"IF(R$11=\"\",\"\",VLOOKUP(R311,漢字読み!$A$2:$O$506,8,0))","v":{"$error":"#N/A"}},{"$f":"IF(S$11=\"\",\"\",VLOOKUP(S311,漢字読み!$A$2:$O$506,8,0))","v":{"$error":"#N/A"}},{"$f":"IF(T$11=\"\",\"\",VLOOKUP(T311,漢字読み!$A$2:$O$506,8,0))","v":{"$error":"#N/A"}},null,"名前"]
[{"$f":"IF(A311=\"\",\"\",IF(VLOOKUP(A311,漢字書き!$A$2:$N$502,7,0)=0,\"\",VLOOKUP(A311,漢字書き!$A$2:$N$502,7,0)))","v":{"$error":"#N/A"}},{"$f":"IF(B311=\"\",\"\",IF(VLOOKUP(B311,漢字書き!$A$2:$N$502,7,0)=0,\"\",VLOOKUP(B311,漢字書き!$A$2:$N$502,7,0)))","v":{"$error":"#N/A"}},{"$f":"IF(C311=\"\",\"\",IF(VLOOKUP(C311,漢字書き!$A$2:$N$502,7,0)=0,\"\",VLOOKUP(C311,漢字書き!$A$2:$N$502,7,0)))","v":{"$error":"#N/A"}},{"$f":"IF(D311=\"\",\"\",IF(VLOOKUP(D311,漢字書き!$A$2:$N$502,7,0)=0,\"\",VLOOKUP(D311,漢字書き!$A$2:$N$502,7,0)))","v":{"$error":"#N/A"}},{"$f":"IF(E311=\"\",\"\",IF(VLOOKUP(E311,漢字書き!$A$2:$N$502,7,0)=0,\"\",VLOOKUP(E311,漢字書き!$A$2:$N$502,7,0)))","v":{"$error":"#N/A"}},{"$f":"IF(F311=\"\",\"\",IF(VLOOKUP(F311,漢字書き!$A$2:$N$502,7,0)=0,\"\",VLOOKUP(F311,漢字書き!$A$2:$N$502,7,0)))","v":{"$error":"#N/A"}},{"$f":"IF(G311=\"\",\"\",IF(VLOOKUP(G311,漢字書き!$A$2:$N$502,7,0)=0,\"\",VLOOKUP(G311,漢字書き!$A$2:$N$502,7,0)))","v":{"$error":"#N/A"}},{"$f":"IF(H311=\"\",\"\",IF(VLOOKUP(H311,漢字書き!$A$2:$N$502,7,0)=0,\"\",VLOOKUP(H311,漢字書き!$A$2:$N$502,7,0)))","v":{"$error":"#N/A"}},{"$f":"IF(I311=\"\",\"\",IF(VLOOKUP(I311,漢字書き!$A$2:$N$502,7,0)=0,\"\",VLOOKUP(I311,漢字書き!$A$2:$N$502,7,0)))","v":{"$error":"#N/A"}},{"$f":"IF(J311=\"\",\"\",IF(VLOOKUP(J311,漢字書き!$A$2:$N$502,7,0)=0,\"\",VLOOKUP(J311,漢字書き!$A$2:$N$502,7,0)))","v":{"$error":"#N/A"}},{"$f":"IF(K311=\"\",\"\",IF(VLOOKUP(K311,漢字読み!$A$2:$O$502,7,0)=0,\"\",VLOOKUP(K311,漢字読み!$A$2:$O$502,7,0)))","v":{"$error":"#N/A"}},{"$f":"IF(L311=\"\",\"\",IF(VLOOKUP(L311,漢字読み!$A$2:$O$502,7,0)=0,\"\",VLOOKUP(L311,漢字読み!$A$2:$O$502,7,0)))","v":{"$error":"#N/A"}},{"$f":"IF(M311=\"\",\"\",IF(VLOOKUP(M311,漢字読み!$A$2:$O$502,7,0)=0,\"\",VLOOKUP(M311,漢字読み!$A$2:$O$502,7,0)))","v":{"$error":"#N/A"}},{"$f":"IF(N311=\"\",\"\",IF(VLOOKUP(N311,漢字読み!$A$2:$O$502,7,0)=0,\"\",VLOOKUP(N311,漢字読み!$A$2:$O$502,7,0)))","v":{"$error":"#N/A"}},{"$f":"IF(O311=\"\",\"\",IF(VLOOKUP(O311,漢字読み!$A$2:$O$502,7,0)=0,\"\",VLOOKUP(O311,漢字読み!$A$2:$O$502,7,0)))","v":{"$error":"#N/A"}},{"$f":"IF(P311=\"\",\"\",IF(VLOOKUP(P311,漢字読み!$A$2:$O$502,7,0)=0,\"\",VLOOKUP(P311,漢字読み!$A$2:$O$502,7,0)))","v":{"$error":"#N/A"}},{"$f":"IF(Q311=\"\",\"\",IF(VLOOKUP(Q311,漢字読み!$A$2:$O$502,7,0)=0,\"\",VLOOKUP(Q311,漢字読み!$A$2:$O$502,7,0)))","v":{"$error":"#N/A"}},{"$f":"IF(R311=\"\",\"\",IF(VLOOKUP(R311,漢字読み!$A$2:$O$502,7,0)=0,\"\",VLOOKUP(R311,漢字読み!$A$2:$O$502,7,0)))","v":{"$error":"#N/A"}},{"$f":"IF(S311=\"\",\"\",IF(VLOOKUP(S311,漢字読み!$A$2:$O$502,7,0)=0,\"\",VLOOKUP(S311,漢字読み!$A$2:$O$502,7,0)))","v":{"$error":"#N/A"}},{"$f":"IF(T311=\"\",\"\",IF(VLOOKUP(T311,漢字読み!$A$2:$O$502,7,0)=0,\"\",VLOOKUP(T311,漢字読み!$A$2:$O$502,7,0)))","v":{"$error":"#N/A"}},null,null,"和歌山県教育委員会"]
[{"$f":"A306","v":0},{"$f":"B306","v":0},0,0,0,0,0,0,0,0,0,0,0,0,0,0,0,0,0,0]
["⑳","⑲","⑱","⑰","⑯","⑮","⑭","⑬","⑫","⑪","⑩","⑨","⑧","⑦","⑥","⑤","④","③","②","①","次の［　　　　］の部分の漢字には読みがなをひらがなで書き、カタカナは漢字に直しなさい。",15,"「漢字の博士検定試験」練習問題　"]
[{"$f":"IF(A316=\"\",\"\",VLOOKUP(A316,漢字書き!$A$2:$N$506,6,0))","v":{"$error":"#N/A"}},{"$f":"IF(B316=\"\",\"\",VLOOKUP(B316,漢字書き!$A$2:$N$506,6,0))","v":{"$error":"#N/A"}},{"$f":"IF(C316=\"\",\"\",VLOOKUP(C316,漢字書き!$A$2:$N$506,6,0))","v":{"$error":"#N/A"}},{"$f":"IF(D316=\"\",\"\",VLOOKUP(D316,漢字書き!$A$2:$N$506,6,0))","v":{"$error":"#N/A"}},{"$f":"IF(E316=\"\",\"\",VLOOKUP(E316,漢字書き!$A$2:$N$506,6,0))","v":{"$error":"#N/A"}},{"$f":"IF(F316=\"\",\"\",VLOOKUP(F316,漢字書き!$A$2:$N$506,6,0))","v":{"$error":"#N/A"}},{"$f":"IF(G316=\"\",\"\",VLOOKUP(G316,漢字書き!$A$2:$N$506,6,0))","v":{"$error":"#N/A"}},{"$f":"IF(H316=\"\",\"\",VLOOKUP(H316,漢字書き!$A$2:$N$506,6,0))","v":{"$error":"#N/A"}},{"$f":"IF(I316=\"\",\"\",VLOOKUP(I316,漢字書き!$A$2:$N$506,6,0))","v":{"$error":"#N/A"}},{"$f":"IF(J316=\"\",\"\",VLOOKUP(J316,漢字書き!$A$2:$N$506,6,0))","v":{"$error":"#N/A"}},{"$f":"IF(K316=\"\",\"\",VLOOKUP(K316,漢字読み!$A$2:$O$506,6,0))","v":{"$error":"#N/A"}},{"$f":"IF(L316=\"\",\"\",VLOOKUP(L316,漢字読み!$A$2:$O$506,6,0))","v":{"$error":"#N/A"}},{"$f":"IF(M316=\"\",\"\",VLOOKUP(M316,漢字読み!$A$2:$O$506,6,0))","v":{"$error":"#N/A"}},{"$f":"IF(N316=\"\",\"\",VLOOKUP(N316,漢字読み!$A$2:$O$506,6,0))","v":{"$error":"#N/A"}},{"$f":"IF(O316=\"\",\"\",VLOOKUP(O316,漢字読み!$A$2:$O$506,6,0))","v":{"$error":"#N/A"}},{"$f":"IF(P316=\"\",\"\",VLOOKUP(P316,漢字読み!$A$2:$O$506,6,0))","v":{"$error":"#N/A"}},{"$f":"IF(Q316=\"\",\"\",VLOOKUP(Q316,漢字読み!$A$2:$O$506,6,0))","v":{"$error":"#N/A"}},{"$f":"IF(R316=\"\",\"\",VLOOKUP(R316,漢字読み!$A$2:$O$506,6,0))","v":{"$error":"#N/A"}},{"$f":"IF(S316=\"\",\"\",VLOOKUP(S316,漢字読み!$A$2:$O$506,6,0))","v":{"$error":"#N/A"}},{"$f":"IF(T316=\"\",\"\",VLOOKUP(T316,漢字読み!$A$2:$O$506,6,0))","v":{"$error":"#N/A"}},null,"級"]
[{"$f":"IF(A$16=\"\",\"\",VLOOKUP(A316,漢字書き!$A$2:$O$506,8,0))","v":{"$error":"#N/A"}},{"$f":"IF(B$16=\"\",\"\",VLOOKUP(B316,漢字書き!$A$2:$O$506,8,0))","v":{"$error":"#N/A"}},{"$f":"IF(C$16=\"\",\"\",VLOOKUP(C316,漢字書き!$A$2:$O$506,8,0))","v":{"$error":"#N/A"}},{"$f":"IF(D$16=\"\",\"\",VLOOKUP(D316,漢字書き!$A$2:$O$506,8,0))","v":{"$error":"#N/A"}},{"$f":"IF(E$16=\"\",\"\",VLOOKUP(E316,漢字書き!$A$2:$O$506,8,0))","v":{"$error":"#N/A"}},{"$f":"IF(F$16=\"\",\"\",VLOOKUP(F316,漢字書き!$A$2:$O$506,8,0))","v":{"$error":"#N/A"}},{"$f":"IF(G$16=\"\",\"\",VLOOKUP(G316,漢字書き!$A$2:$O$506,8,0))","v":{"$error":"#N/A"}},{"$f":"IF(H$16=\"\",\"\",VLOOKUP(H316,漢字書き!$A$2:$O$506,8,0))","v":{"$error":"#N/A"}},{"$f":"IF(I$16=\"\",\"\",VLOOKUP(I316,漢字書き!$A$2:$O$506,8,0))","v":{"$error":"#N/A"}},{"$f":"IF(J$16=\"\",\"\",VLOOKUP(J316,漢字書き!$A$2:$O$506,8,0))","v":{"$error":"#N/A"}},{"$f":"IF(K$16=\"\",\"\",VLOOKUP(K316,漢字読み!$A$2:$O$506,8,0))","v":{"$error":"#N/A"}},{"$f":"IF(L$16=\"\",\"\",VLOOKUP(L316,漢字読み!$A$2:$O$506,8,0))","v":{"$error":"#N/A"}},{"$f":"IF(M$16=\"\",\"\",VLOOKUP(M316,漢字読み!$A$2:$O$506,8,0))","v":{"$error":"#N/A"}},{"$f":"IF(N$16=\"\",\"\",VLOOKUP(N316,漢字読み!$A$2:$O$506,8,0))","v":{"$error":"#N/A"}},{"$f":"IF(O$16=\"\",\"\",VLOOKUP(O316,漢字読み!$A$2:$O$506,8,0))","v":{"$error":"#N/A"}},{"$f":"IF(P$16=\"\",\"\",VLOOKUP(P316,漢字読み!$A$2:$O$506,8,0))","v":{"$error":"#N/A"}},{"$f":"IF(Q$16=\"\",\"\",VLOOKUP(Q316,漢字読み!$A$2:$O$506,8,0))","v":{"$error":"#N/A"}},{"$f":"IF(R$16=\"\",\"\",VLOOKUP(R316,漢字読み!$A$2:$O$506,8,0))","v":{"$error":"#N/A"}},{"$f":"IF(S$16=\"\",\"\",VLOOKUP(S316,漢字読み!$A$2:$O$506,8,0))","v":{"$error":"#N/A"}},{"$f":"IF(T$16=\"\",\"\",VLOOKUP(T316,漢字読み!$A$2:$O$506,8,0))","v":{"$error":"#N/A"}},null,"名前"]
[{"$f":"IF(A316=\"\",\"\",IF(VLOOKUP(A316,漢字書き!$A$2:$N$502,7,0)=0,\"\",VLOOKUP(A316,漢字書き!$A$2:$N$502,7,0)))","v":{"$error":"#N/A"}},{"$f":"IF(B316=\"\",\"\",IF(VLOOKUP(B316,漢字書き!$A$2:$N$502,7,0)=0,\"\",VLOOKUP(B316,漢字書き!$A$2:$N$502,7,0)))","v":{"$error":"#N/A"}},{"$f":"IF(C316=\"\",\"\",IF(VLOOKUP(C316,漢字書き!$A$2:$N$502,7,0)=0,\"\",VLOOKUP(C316,漢字書き!$A$2:$N$502,7,0)))","v":{"$error":"#N/A"}},{"$f":"IF(D316=\"\",\"\",IF(VLOOKUP(D316,漢字書き!$A$2:$N$502,7,0)=0,\"\",VLOOKUP(D316,漢字書き!$A$2:$N$502,7,0)))","v":{"$error":"#N/A"}},{"$f":"IF(E316=\"\",\"\",IF(VLOOKUP(E316,漢字書き!$A$2:$N$502,7,0)=0,\"\",VLOOKUP(E316,漢字書き!$A$2:$N$502,7,0)))","v":{"$error":"#N/A"}},{"$f":"IF(F316=\"\",\"\",IF(VLOOKUP(F316,漢字書き!$A$2:$N$502,7,0)=0,\"\",VLOOKUP(F316,漢字書き!$A$2:$N$502,7,0)))","v":{"$error":"#N/A"}},{"$f":"IF(G316=\"\",\"\",IF(VLOOKUP(G316,漢字書き!$A$2:$N$502,7,0)=0,\"\",VLOOKUP(G316,漢字書き!$A$2:$N$502,7,0)))","v":{"$error":"#N/A"}},{"$f":"IF(H316=\"\",\"\",IF(VLOOKUP(H316,漢字書き!$A$2:$N$502,7,0)=0,\"\",VLOOKUP(H316,漢字書き!$A$2:$N$502,7,0)))","v":{"$error":"#N/A"}},{"$f":"IF(I316=\"\",\"\",IF(VLOOKUP(I316,漢字書き!$A$2:$N$502,7,0)=0,\"\",VLOOKUP(I316,漢字書き!$A$2:$N$502,7,0)))","v":{"$error":"#N/A"}},{"$f":"IF(J316=\"\",\"\",IF(VLOOKUP(J316,漢字書き!$A$2:$N$502,7,0)=0,\"\",VLOOKUP(J316,漢字書き!$A$2:$N$502,7,0)))","v":{"$error":"#N/A"}},{"$f":"IF(K316=\"\",\"\",IF(VLOOKUP(K316,漢字読み!$A$2:$O$502,7,0)=0,\"\",VLOOKUP(K316,漢字読み!$A$2:$O$502,7,0)))","v":{"$error":"#N/A"}},{"$f":"IF(L316=\"\",\"\",IF(VLOOKUP(L316,漢字読み!$A$2:$O$502,7,0)=0,\"\",VLOOKUP(L316,漢字読み!$A$2:$O$502,7,0)))","v":{"$error":"#N/A"}},{"$f":"IF(M316=\"\",\"\",IF(VLOOKUP(M316,漢字読み!$A$2:$O$502,7,0)=0,\"\",VLOOKUP(M316,漢字読み!$A$2:$O$502,7,0)))","v":{"$error":"#N/A"}},{"$f":"IF(N316=\"\",\"\",IF(VLOOKUP(N316,漢字読み!$A$2:$O$502,7,0)=0,\"\",VLOOKUP(N316,漢字読み!$A$2:$O$502,7,0)))","v":{"$error":"#N/A"}},{"$f":"IF(O316=\"\",\"\",IF(VLOOKUP(O316,漢字読み!$A$2:$O$502,7,0)=0,\"\",VLOOKUP(O316,漢字読み!$A$2:$O$502,7,0)))","v":{"$error":"#N/A"}},{"$f":"IF(P316=\"\",\"\",IF(VLOOKUP(P316,漢字読み!$A$2:$O$502,7,0)=0,\"\",VLOOKUP(P316,漢字読み!$A$2:$O$502,7,0)))","v":{"$error":"#N/A"}},{"$f":"IF(Q316=\"\",\"\",IF(VLOOKUP(Q316,漢字読み!$A$2:$O$502,7,0)=0,\"\",VLOOKUP(Q316,漢字読み!$A$2:$O$502,7,0)))","v":{"$error":"#N/A"}},{"$f":"IF(R316=\"\",\"\",IF(VLOOKUP(R316,漢字読み!$A$2:$O$502,7,0)=0,\"\",VLOOKUP(R316,漢字読み!$A$2:$O$502,7,0)))","v":{"$error":"#N/A"}},{"$f":"IF(S316=\"\",\"\",IF(VLOOKUP(S316,漢字読み!$A$2:$O$502,7,0)=0,\"\",VLOOKUP(S316,漢字読み!$A$2:$O$502,7,0)))","v":{"$error":"#N/A"}},{"$f":"IF(T316=\"\",\"\",IF(VLOOKUP(T316,漢字読み!$A$2:$O$502,7,0)=0,\"\",VLOOKUP(T316,漢字読み!$A$2:$O$502,7,0)))","v":{"$error":"#N/A"}},null,null,"和歌山県教育委員会"]
[{"$f":"INDIRECT(\"'関数（書き）'!C\" & COLUMN(B$1)+SUM($AD$2:$AD322))","v":0},{"$f":"INDIRECT(\"'関数（書き）'!C\" & COLUMN(C$1)+SUM($AD$2:$AD322))","v":0},{"$f":"INDIRECT(\"'関数（書き）'!C\" & COLUMN(D$1)+SUM($AD$2:$AD322))","v":0},{"$f":"INDIRECT(\"'関数（書き）'!C\" & COLUMN(E$1)+SUM($AD$2:$AD322))","v":0},{"$f":"INDIRECT(\"'関数（書き）'!C\" & COLUMN(F$1)+SUM($AD$2:$AD322))","v":0},{"$f":"INDIRECT(\"'関数（書き）'!C\" & COLUMN(G$1)+SUM($AD$2:$AD322))","v":0},{"$f":"INDIRECT(\"'関数（書き）'!C\" & COLUMN(H$1)+SUM($AD$2:$AD322))","v":0},{"$f":"INDIRECT(\"'関数（書き）'!C\" & COLUMN(I$1)+SUM($AD$2:$AD322))","v":0},{"$f":"INDIRECT(\"'関数（書き）'!C\" & COLUMN(J$1)+SUM($AD$2:$AD322))","v":0},{"$f":"INDIRECT(\"'関数（書き）'!C\" & COLUMN(K$1)+SUM($AD$2:$AD322))","v":0},{"$f":"INDIRECT(\"'関数（読み）'!C\" & COLUMN(B$1)+SUM($AD$2:$AD322))","v":0},{"$f":"INDIRECT(\"'関数（読み）'!C\" & COLUMN(C$1)+SUM($AD$2:$AD322))","v":0},{"$f":"INDIRECT(\"'関数（読み）'!C\" & COLUMN(D$1)+SUM($AD$2:$AD322))","v":0},{"$f":"INDIRECT(\"'関数（読み）'!C\" & COLUMN(E$1)+SUM($AD$2:$AD322))","v":0},{"$f":"INDIRECT(\"'関数（読み）'!C\" & COLUMN(F$1)+SUM($AD$2:$AD322))","v":0},{"$f":"INDIRECT(\"'関数（読み）'!C\" & COLUMN(G$1)+SUM($AD$2:$AD322))","v":0},{"$f":"INDIRECT(\"'関数（読み）'!C\" & COLUMN(H$1)+SUM($AD$2:$AD322))","v":0},{"$f":"INDIRECT(\"'関数（読み）'!C\" & COLUMN(I$1)+SUM($AD$2:$AD322))","v":0},{"$f":"INDIRECT(\"'関数（読み）'!C\" & COLUMN(J$1)+SUM($AD$2:$AD322))","v":0},{"$f":"INDIRECT(\"'関数（読み）'!C\" & COLUMN(K$1)+SUM($AD$2:$AD322))","v":0}]
["⑳","⑲","⑱","⑰","⑯","⑮","⑭","⑬","⑫","⑪","⑩","⑨","⑧","⑦","⑥","⑤","④","③","②","①","次の［　　　　］の部分の漢字には読みがなをひらがなで書き、カタカナは漢字に直しなさい。",15,"「漢字の博士検定試験」練習問題　",null,null,null,null,null,"←",10,"問",{"$f":"AH307+1","v":321},"～",{"$f":"SUM($AD$2:$AD322)+10","v":330},"問まで",{"$f":"COUNTIF($A$1:$T$200,T323)","v":195}]
[{"$f":"IF(A321=\"\",\"\",VLOOKUP(A321,漢字書き!$A$2:$N$506,6,0))","v":{"$error":"#N/A"}},{"$f":"IF(B321=\"\",\"\",VLOOKUP(B321,漢字書き!$A$2:$N$506,6,0))","v":{"$error":"#N/A"}},{"$f":"IF(C321=\"\",\"\",VLOOKUP(C321,漢字書き!$A$2:$N$506,6,0))","v":{"$error":"#N/A"}},{"$f":"IF(D321=\"\",\"\",VLOOKUP(D321,漢字書き!$A$2:$N$506,6,0))","v":{"$error":"#N/A"}},{"$f":"IF(E321=\"\",\"\",VLOOKUP(E321,漢字書き!$A$2:$N$506,6,0))","v":{"$error":"#N/A"}},{"$f":"IF(F321=\"\",\"\",VLOOKUP(F321,漢字書き!$A$2:$N$506,6,0))","v":{"$error":"#N/A"}},{"$f":"IF(G321=\"\",\"\",VLOOKUP(G321,漢字書き!$A$2:$N$506,6,0))","v":{"$error":"#N/A"}},{"$f":"IF(H321=\"\",\"\",VLOOKUP(H321,漢字書き!$A$2:$N$506,6,0))","v":{"$error":"#N/A"}},{"$f":"IF(I321=\"\",\"\",VLOOKUP(I321,漢字書き!$A$2:$N$506,6,0))","v":{"$error":"#N/A"}},{"$f":"IF(J321=\"\",\"\",VLOOKUP(J321,漢字書き!$A$2:$N$506,6,0))","v":{"$error":"#N/A"}},{"$f":"IF(K321=\"\",\"\",VLOOKUP(K321,漢字読み!$A$2:$O$506,6,0))","v":{"$error":"#N/A"}},{"$f":"IF(L321=\"\",\"\",VLOOKUP(L321,漢字読み!$A$2:$O$506,6,0))","v":{"$error":"#N/A"}},{"$f":"IF(M321=\"\",\"\",VLOOKUP(M321,漢字読み!$A$2:$O$506,6,0))","v":{"$error":"#N/A"}},{"$f":"IF(N321=\"\",\"\",VLOOKUP(N321,漢字読み!$A$2:$O$506,6,0))","v":{"$error":"#N/A"}},{"$f":"IF(O321=\"\",\"\",VLOOKUP(O321,漢字読み!$A$2:$O$506,6,0))","v":{"$error":"#N/A"}},{"$f":"IF(P321=\"\",\"\",VLOOKUP(P321,漢字読み!$A$2:$O$506,6,0))","v":{"$error":"#N/A"}},{"$f":"IF(Q321=\"\",\"\",VLOOKUP(Q321,漢字読み!$A$2:$O$506,6,0))","v":{"$error":"#N/A"}},{"$f":"IF(R321=\"\",\"\",VLOOKUP(R321,漢字読み!$A$2:$O$506,6,0))","v":{"$error":"#N/A"}},{"$f":"IF(S321=\"\",\"\",VLOOKUP(S321,漢字読み!$A$2:$O$506,6,0))","v":{"$error":"#N/A"}},{"$f":"IF(T321=\"\",\"\",VLOOKUP(T321,漢字読み!$A$2:$O$506,6,0))","v":{"$error":"#N/A"}},null,"級"]
[null,null,null,null,null,null,null,null,null,null,null,null,null,null,null,null,null,null,null,null,null,"名前"]
[{"$f":"IF(A321=\"\",\"\",IF(VLOOKUP(A321,漢字書き!$A$2:$N$502,7,0)=0,\"\",VLOOKUP(A321,漢字書き!$A$2:$N$502,7,0)))","v":{"$error":"#N/A"}},{"$f":"IF(B321=\"\",\"\",IF(VLOOKUP(B321,漢字書き!$A$2:$N$502,7,0)=0,\"\",VLOOKUP(B321,漢字書き!$A$2:$N$502,7,0)))","v":{"$error":"#N/A"}},{"$f":"IF(C321=\"\",\"\",IF(VLOOKUP(C321,漢字書き!$A$2:$N$502,7,0)=0,\"\",VLOOKUP(C321,漢字書き!$A$2:$N$502,7,0)))","v":{"$error":"#N/A"}},{"$f":"IF(D321=\"\",\"\",IF(VLOOKUP(D321,漢字書き!$A$2:$N$502,7,0)=0,\"\",VLOOKUP(D321,漢字書き!$A$2:$N$502,7,0)))","v":{"$error":"#N/A"}},{"$f":"IF(E321=\"\",\"\",IF(VLOOKUP(E321,漢字書き!$A$2:$N$502,7,0)=0,\"\",VLOOKUP(E321,漢字書き!$A$2:$N$502,7,0)))","v":{"$error":"#N/A"}},{"$f":"IF(F321=\"\",\"\",IF(VLOOKUP(F321,漢字書き!$A$2:$N$502,7,0)=0,\"\",VLOOKUP(F321,漢字書き!$A$2:$N$502,7,0)))","v":{"$error":"#N/A"}},{"$f":"IF(G321=\"\",\"\",IF(VLOOKUP(G321,漢字書き!$A$2:$N$502,7,0)=0,\"\",VLOOKUP(G321,漢字書き!$A$2:$N$502,7,0)))","v":{"$error":"#N/A"}},{"$f":"IF(H321=\"\",\"\",IF(VLOOKUP(H321,漢字書き!$A$2:$N$502,7,0)=0,\"\",VLOOKUP(H321,漢字書き!$A$2:$N$502,7,0)))","v":{"$error":"#N/A"}},{"$f":"IF(I321=\"\",\"\",IF(VLOOKUP(I321,漢字書き!$A$2:$N$502,7,0)=0,\"\",VLOOKUP(I321,漢字書き!$A$2:$N$502,7,0)))","v":{"$error":"#N/A"}},{"$f":"IF(J321=\"\",\"\",IF(VLOOKUP(J321,漢字書き!$A$2:$N$502,7,0)=0,\"\",VLOOKUP(J321,漢字書き!$A$2:$N$502,7,0)))","v":{"$error":"#N/A"}},{"$f":"IF(K321=\"\",\"\",IF(VLOOKUP(K321,漢字読み!$A$2:$O$502,7,0)=0,\"\",VLOOKUP(K321,漢字読み!$A$2:$O$502,7,0)))","v":{"$error":"#N/A"}},{"$f":"IF(L321=\"\",\"\",IF(VLOOKUP(L321,漢字読み!$A$2:$O$502,7,0)=0,\"\",VLOOKUP(L321,漢字読み!$A$2:$O$502,7,0)))","v":{"$error":"#N/A"}},{"$f":"IF(M321=\"\",\"\",IF(VLOOKUP(M321,漢字読み!$A$2:$O$502,7,0)=0,\"\",VLOOKUP(M321,漢字読み!$A$2:$O$502,7,0)))","v":{"$error":"#N/A"}},{"$f":"IF(N321=\"\",\"\",IF(VLOOKUP(N321,漢字読み!$A$2:$O$502,7,0)=0,\"\",VLOOKUP(N321,漢字読み!$A$2:$O$502,7,0)))","v":{"$error":"#N/A"}},{"$f":"IF(O321=\"\",\"\",IF(VLOOKUP(O321,漢字読み!$A$2:$O$502,7,0)=0,\"\",VLOOKUP(O321,漢字読み!$A$2:$O$502,7,0)))","v":{"$error":"#N/A"}},{"$f":"IF(P321=\"\",\"\",IF(VLOOKUP(P321,漢字読み!$A$2:$O$502,7,0)=0,\"\",VLOOKUP(P321,漢字読み!$A$2:$O$502,7,0)))","v":{"$error":"#N/A"}},{"$f":"IF(Q321=\"\",\"\",IF(VLOOKUP(Q321,漢字読み!$A$2:$O$502,7,0)=0,\"\",VLOOKUP(Q321,漢字読み!$A$2:$O$502,7,0)))","v":{"$error":"#N/A"}},{"$f":"IF(R321=\"\",\"\",IF(VLOOKUP(R321,漢字読み!$A$2:$O$502,7,0)=0,\"\",VLOOKUP(R321,漢字読み!$A$2:$O$502,7,0)))","v":{"$error":"#N/A"}},{"$f":"IF(S321=\"\",\"\",IF(VLOOKUP(S321,漢字読み!$A$2:$O$502,7,0)=0,\"\",VLOOKUP(S321,漢字読み!$A$2:$O$502,7,0)))","v":{"$error":"#N/A"}},{"$f":"IF(T321=\"\",\"\",IF(VLOOKUP(T321,漢字読み!$A$2:$O$502,7,0)=0,\"\",VLOOKUP(T321,漢字読み!$A$2:$O$502,7,0)))","v":{"$error":"#N/A"}},null,null,"和歌山県教育委員会"]
[{"$f":"INDIRECT(\"'関数（書き）'!C\" & COLUMN(B$1)+SUM($AD$2:$AD327))","v":0},{"$f":"INDIRECT(\"'関数（書き）'!C\" & COLUMN(C$1)+SUM($AD$2:$AD327))","v":0},{"$f":"INDIRECT(\"'関数（書き）'!C\" & COLUMN(D$1)+SUM($AD$2:$AD327))","v":0},{"$f":"INDIRECT(\"'関数（書き）'!C\" & COLUMN(E$1)+SUM($AD$2:$AD327))","v":0},{"$f":"INDIRECT(\"'関数（書き）'!C\" & COLUMN(F$1)+SUM($AD$2:$AD327))","v":0},{"$f":"INDIRECT(\"'関数（書き）'!C\" & COLUMN(G$1)+SUM($AD$2:$AD327))","v":0},{"$f":"INDIRECT(\"'関数（書き）'!C\" & COLUMN(H$1)+SUM($AD$2:$AD327))","v":0},{"$f":"INDIRECT(\"'関数（書き）'!C\" & COLUMN(I$1)+SUM($AD$2:$AD327))","v":0},{"$f":"INDIRECT(\"'関数（書き）'!C\" & COLUMN(J$1)+SUM($AD$2:$AD327))","v":0},{"$f":"INDIRECT(\"'関数（書き）'!C\" & COLUMN(K$1)+SUM($AD$2:$AD327))","v":0},{"$f":"INDIRECT(\"'関数（読み）'!C\" & COLUMN(B$1)+SUM($AD$2:$AD327))","v":0},{"$f":"INDIRECT(\"'関数（読み）'!C\" & COLUMN(C$1)+SUM($AD$2:$AD327))","v":0},{"$f":"INDIRECT(\"'関数（読み）'!C\" & COLUMN(D$1)+SUM($AD$2:$AD327))","v":0},{"$f":"INDIRECT(\"'関数（読み）'!C\" & COLUMN(E$1)+SUM($AD$2:$AD327))","v":0},{"$f":"INDIRECT(\"'関数（読み）'!C\" & COLUMN(F$1)+SUM($AD$2:$AD327))","v":0},{"$f":"INDIRECT(\"'関数（読み）'!C\" & COLUMN(G$1)+SUM($AD$2:$AD327))","v":0},{"$f":"INDIRECT(\"'関数（読み）'!C\" & COLUMN(H$1)+SUM($AD$2:$AD327))","v":0},{"$f":"INDIRECT(\"'関数（読み）'!C\" & COLUMN(I$1)+SUM($AD$2:$AD327))","v":0},{"$f":"INDIRECT(\"'関数（読み）'!C\" & COLUMN(J$1)+SUM($AD$2:$AD327))","v":0},{"$f":"INDIRECT(\"'関数（読み）'!C\" & COLUMN(K$1)+SUM($AD$2:$AD327))","v":0}]
["⑳","⑲","⑱","⑰","⑯","⑮","⑭","⑬","⑫","⑪","⑩","⑨","⑧","⑦","⑥","⑤","④","③","②","①","次の［　　　　］の部分の漢字には読みがなをひらがなで書き、カタカナは漢字に直しなさい。",15,"「漢字の博士検定試験」練習問題　",null,null,null,null,null,"←",10,"問",{"$f":"AH322+1","v":331},"～",{"$f":"SUM($AD$2:$AD327)+10","v":340},"問まで",{"$f":"COUNTIF($A$1:$T$200,T328)","v":195}]
[{"$f":"IF(A326=\"\",\"\",VLOOKUP(A326,漢字書き!$A$2:$N$506,6,0))","v":{"$error":"#N/A"}},{"$f":"IF(B326=\"\",\"\",VLOOKUP(B326,漢字書き!$A$2:$N$506,6,0))","v":{"$error":"#N/A"}},{"$f":"IF(C326=\"\",\"\",VLOOKUP(C326,漢字書き!$A$2:$N$506,6,0))","v":{"$error":"#N/A"}},{"$f":"IF(D326=\"\",\"\",VLOOKUP(D326,漢字書き!$A$2:$N$506,6,0))","v":{"$error":"#N/A"}},{"$f":"IF(E326=\"\",\"\",VLOOKUP(E326,漢字書き!$A$2:$N$506,6,0))","v":{"$error":"#N/A"}},{"$f":"IF(F326=\"\",\"\",VLOOKUP(F326,漢字書き!$A$2:$N$506,6,0))","v":{"$error":"#N/A"}},{"$f":"IF(G326=\"\",\"\",VLOOKUP(G326,漢字書き!$A$2:$N$506,6,0))","v":{"$error":"#N/A"}},{"$f":"IF(H326=\"\",\"\",VLOOKUP(H326,漢字書き!$A$2:$N$506,6,0))","v":{"$error":"#N/A"}},{"$f":"IF(I326=\"\",\"\",VLOOKUP(I326,漢字書き!$A$2:$N$506,6,0))","v":{"$error":"#N/A"}},{"$f":"IF(J326=\"\",\"\",VLOOKUP(J326,漢字書き!$A$2:$N$506,6,0))","v":{"$error":"#N/A"}},{"$f":"IF(K326=\"\",\"\",VLOOKUP(K326,漢字読み!$A$2:$O$506,6,0))","v":{"$error":"#N/A"}},{"$f":"IF(L326=\"\",\"\",VLOOKUP(L326,漢字読み!$A$2:$O$506,6,0))","v":{"$error":"#N/A"}},{"$f":"IF(M326=\"\",\"\",VLOOKUP(M326,漢字読み!$A$2:$O$506,6,0))","v":{"$error":"#N/A"}},{"$f":"IF(N326=\"\",\"\",VLOOKUP(N326,漢字読み!$A$2:$O$506,6,0))","v":{"$error":"#N/A"}},{"$f":"IF(O326=\"\",\"\",VLOOKUP(O326,漢字読み!$A$2:$O$506,6,0))","v":{"$error":"#N/A"}},{"$f":"IF(P326=\"\",\"\",VLOOKUP(P326,漢字読み!$A$2:$O$506,6,0))","v":{"$error":"#N/A"}},{"$f":"IF(Q326=\"\",\"\",VLOOKUP(Q326,漢字読み!$A$2:$O$506,6,0))","v":{"$error":"#N/A"}},{"$f":"IF(R326=\"\",\"\",VLOOKUP(R326,漢字読み!$A$2:$O$506,6,0))","v":{"$error":"#N/A"}},{"$f":"IF(S326=\"\",\"\",VLOOKUP(S326,漢字読み!$A$2:$O$506,6,0))","v":{"$error":"#N/A"}},{"$f":"IF(T326=\"\",\"\",VLOOKUP(T326,漢字読み!$A$2:$O$506,6,0))","v":{"$error":"#N/A"}},null,"級"]
[null,null,null,null,null,null,null,null,null,null,null,null,null,null,null,null,null,null,null,null,null,"名前"]
[{"$f":"IF(A326=\"\",\"\",IF(VLOOKUP(A326,漢字書き!$A$2:$N$502,7,0)=0,\"\",VLOOKUP(A326,漢字書き!$A$2:$N$502,7,0)))","v":{"$error":"#N/A"}},{"$f":"IF(B326=\"\",\"\",IF(VLOOKUP(B326,漢字書き!$A$2:$N$502,7,0)=0,\"\",VLOOKUP(B326,漢字書き!$A$2:$N$502,7,0)))","v":{"$error":"#N/A"}},{"$f":"IF(C326=\"\",\"\",IF(VLOOKUP(C326,漢字書き!$A$2:$N$502,7,0)=0,\"\",VLOOKUP(C326,漢字書き!$A$2:$N$502,7,0)))","v":{"$error":"#N/A"}},{"$f":"IF(D326=\"\",\"\",IF(VLOOKUP(D326,漢字書き!$A$2:$N$502,7,0)=0,\"\",VLOOKUP(D326,漢字書き!$A$2:$N$502,7,0)))","v":{"$error":"#N/A"}},{"$f":"IF(E326=\"\",\"\",IF(VLOOKUP(E326,漢字書き!$A$2:$N$502,7,0)=0,\"\",VLOOKUP(E326,漢字書き!$A$2:$N$502,7,0)))","v":{"$error":"#N/A"}},{"$f":"IF(F326=\"\",\"\",IF(VLOOKUP(F326,漢字書き!$A$2:$N$502,7,0)=0,\"\",VLOOKUP(F326,漢字書き!$A$2:$N$502,7,0)))","v":{"$error":"#N/A"}},{"$f":"IF(G326=\"\",\"\",IF(VLOOKUP(G326,漢字書き!$A$2:$N$502,7,0)=0,\"\",VLOOKUP(G326,漢字書き!$A$2:$N$502,7,0)))","v":{"$error":"#N/A"}},{"$f":"IF(H326=\"\",\"\",IF(VLOOKUP(H326,漢字書き!$A$2:$N$502,7,0)=0,\"\",VLOOKUP(H326,漢字書き!$A$2:$N$502,7,0)))","v":{"$error":"#N/A"}},{"$f":"IF(I326=\"\",\"\",IF(VLOOKUP(I326,漢字書き!$A$2:$N$502,7,0)=0,\"\",VLOOKUP(I326,漢字書き!$A$2:$N$502,7,0)))","v":{"$error":"#N/A"}},{"$f":"IF(J326=\"\",\"\",IF(VLOOKUP(J326,漢字書き!$A$2:$N$502,7,0)=0,\"\",VLOOKUP(J326,漢字書き!$A$2:$N$502,7,0)))","v":{"$error":"#N/A"}},{"$f":"IF(K326=\"\",\"\",IF(VLOOKUP(K326,漢字読み!$A$2:$O$502,7,0)=0,\"\",VLOOKUP(K326,漢字読み!$A$2:$O$502,7,0)))","v":{"$error":"#N/A"}},{"$f":"IF(L326=\"\",\"\",IF(VLOOKUP(L326,漢字読み!$A$2:$O$502,7,0)=0,\"\",VLOOKUP(L326,漢字読み!$A$2:$O$502,7,0)))","v":{"$error":"#N/A"}},{"$f":"IF(M326=\"\",\"\",IF(VLOOKUP(M326,漢字読み!$A$2:$O$502,7,0)=0,\"\",VLOOKUP(M326,漢字読み!$A$2:$O$502,7,0)))","v":{"$error":"#N/A"}},{"$f":"IF(N326=\"\",\"\",IF(VLOOKUP(N326,漢字読み!$A$2:$O$502,7,0)=0,\"\",VLOOKUP(N326,漢字読み!$A$2:$O$502,7,0)))","v":{"$error":"#N/A"}},{"$f":"IF(O326=\"\",\"\",IF(VLOOKUP(O326,漢字読み!$A$2:$O$502,7,0)=0,\"\",VLOOKUP(O326,漢字読み!$A$2:$O$502,7,0)))","v":{"$error":"#N/A"}},{"$f":"IF(P326=\"\",\"\",IF(VLOOKUP(P326,漢字読み!$A$2:$O$502,7,0)=0,\"\",VLOOKUP(P326,漢字読み!$A$2:$O$502,7,0)))","v":{"$error":"#N/A"}},{"$f":"IF(Q326=\"\",\"\",IF(VLOOKUP(Q326,漢字読み!$A$2:$O$502,7,0)=0,\"\",VLOOKUP(Q326,漢字読み!$A$2:$O$502,7,0)))","v":{"$error":"#N/A"}},{"$f":"IF(R326=\"\",\"\",IF(VLOOKUP(R326,漢字読み!$A$2:$O$502,7,0)=0,\"\",VLOOKUP(R326,漢字読み!$A$2:$O$502,7,0)))","v":{"$error":"#N/A"}},{"$f":"IF(S326=\"\",\"\",IF(VLOOKUP(S326,漢字読み!$A$2:$O$502,7,0)=0,\"\",VLOOKUP(S326,漢字読み!$A$2:$O$502,7,0)))","v":{"$error":"#N/A"}},{"$f":"IF(T326=\"\",\"\",IF(VLOOKUP(T326,漢字読み!$A$2:$O$502,7,0)=0,\"\",VLOOKUP(T326,漢字読み!$A$2:$O$502,7,0)))","v":{"$error":"#N/A"}},null,null,"和歌山県教育委員会"]
[{"$f":"A321","v":0},{"$f":"B321","v":0},0,0,0,0,0,0,0,0,0,0,0,0,0,0,0,0,0,0]
["⑳","⑲","⑱","⑰","⑯","⑮","⑭","⑬","⑫","⑪","⑩","⑨","⑧","⑦","⑥","⑤","④","③","②","①","次の［　　　　］の部分の漢字には読みがなをひらがなで書き、カタカナは漢字に直しなさい。",15,"「漢字の博士検定試験」練習問題　"]
[{"$f":"IF(A331=\"\",\"\",VLOOKUP(A331,漢字書き!$A$2:$N$506,6,0))","v":{"$error":"#N/A"}},{"$f":"IF(B331=\"\",\"\",VLOOKUP(B331,漢字書き!$A$2:$N$506,6,0))","v":{"$error":"#N/A"}},{"$f":"IF(C331=\"\",\"\",VLOOKUP(C331,漢字書き!$A$2:$N$506,6,0))","v":{"$error":"#N/A"}},{"$f":"IF(D331=\"\",\"\",VLOOKUP(D331,漢字書き!$A$2:$N$506,6,0))","v":{"$error":"#N/A"}},{"$f":"IF(E331=\"\",\"\",VLOOKUP(E331,漢字書き!$A$2:$N$506,6,0))","v":{"$error":"#N/A"}},{"$f":"IF(F331=\"\",\"\",VLOOKUP(F331,漢字書き!$A$2:$N$506,6,0))","v":{"$error":"#N/A"}},{"$f":"IF(G331=\"\",\"\",VLOOKUP(G331,漢字書き!$A$2:$N$506,6,0))","v":{"$error":"#N/A"}},{"$f":"IF(H331=\"\",\"\",VLOOKUP(H331,漢字書き!$A$2:$N$506,6,0))","v":{"$error":"#N/A"}},{"$f":"IF(I331=\"\",\"\",VLOOKUP(I331,漢字書き!$A$2:$N$506,6,0))","v":{"$error":"#N/A"}},{"$f":"IF(J331=\"\",\"\",VLOOKUP(J331,漢字書き!$A$2:$N$506,6,0))","v":{"$error":"#N/A"}},{"$f":"IF(K331=\"\",\"\",VLOOKUP(K331,漢字読み!$A$2:$O$506,6,0))","v":{"$error":"#N/A"}},{"$f":"IF(L331=\"\",\"\",VLOOKUP(L331,漢字読み!$A$2:$O$506,6,0))","v":{"$error":"#N/A"}},{"$f":"IF(M331=\"\",\"\",VLOOKUP(M331,漢字読み!$A$2:$O$506,6,0))","v":{"$error":"#N/A"}},{"$f":"IF(N331=\"\",\"\",VLOOKUP(N331,漢字読み!$A$2:$O$506,6,0))","v":{"$error":"#N/A"}},{"$f":"IF(O331=\"\",\"\",VLOOKUP(O331,漢字読み!$A$2:$O$506,6,0))","v":{"$error":"#N/A"}},{"$f":"IF(P331=\"\",\"\",VLOOKUP(P331,漢字読み!$A$2:$O$506,6,0))","v":{"$error":"#N/A"}},{"$f":"IF(Q331=\"\",\"\",VLOOKUP(Q331,漢字読み!$A$2:$O$506,6,0))","v":{"$error":"#N/A"}},{"$f":"IF(R331=\"\",\"\",VLOOKUP(R331,漢字読み!$A$2:$O$506,6,0))","v":{"$error":"#N/A"}},{"$f":"IF(S331=\"\",\"\",VLOOKUP(S331,漢字読み!$A$2:$O$506,6,0))","v":{"$error":"#N/A"}},{"$f":"IF(T331=\"\",\"\",VLOOKUP(T331,漢字読み!$A$2:$O$506,6,0))","v":{"$error":"#N/A"}},null,"級"]
[{"$f":"IF(A$11=\"\",\"\",VLOOKUP(A331,漢字書き!$A$2:$O$506,8,0))","v":{"$error":"#N/A"}},{"$f":"IF(B$11=\"\",\"\",VLOOKUP(B331,漢字書き!$A$2:$O$506,8,0))","v":{"$error":"#N/A"}},{"$f":"IF(C$11=\"\",\"\",VLOOKUP(C331,漢字書き!$A$2:$O$506,8,0))","v":{"$error":"#N/A"}},{"$f":"IF(D$11=\"\",\"\",VLOOKUP(D331,漢字書き!$A$2:$O$506,8,0))","v":{"$error":"#N/A"}},{"$f":"IF(E$11=\"\",\"\",VLOOKUP(E331,漢字書き!$A$2:$O$506,8,0))","v":{"$error":"#N/A"}},{"$f":"IF(F$11=\"\",\"\",VLOOKUP(F331,漢字書き!$A$2:$O$506,8,0))","v":{"$error":"#N/A"}},{"$f":"IF(G$11=\"\",\"\",VLOOKUP(G331,漢字書き!$A$2:$O$506,8,0))","v":{"$error":"#N/A"}},{"$f":"IF(H$11=\"\",\"\",VLOOKUP(H331,漢字書き!$A$2:$O$506,8,0))","v":{"$error":"#N/A"}},{"$f":"IF(I$11=\"\",\"\",VLOOKUP(I331,漢字書き!$A$2:$O$506,8,0))","v":{"$error":"#N/A"}},{"$f":"IF(J$11=\"\",\"\",VLOOKUP(J331,漢字書き!$A$2:$O$506,8,0))","v":{"$error":"#N/A"}},{"$f":"IF(K$11=\"\",\"\",VLOOKUP(K331,漢字読み!$A$2:$O$506,8,0))","v":{"$error":"#N/A"}},{"$f":"IF(L$11=\"\",\"\",VLOOKUP(L331,漢字読み!$A$2:$O$506,8,0))","v":{"$error":"#N/A"}},{"$f":"IF(M$11=\"\",\"\",VLOOKUP(M331,漢字読み!$A$2:$O$506,8,0))","v":{"$error":"#N/A"}},{"$f":"IF(N$11=\"\",\"\",VLOOKUP(N331,漢字読み!$A$2:$O$506,8,0))","v":{"$error":"#N/A"}},{"$f":"IF(O$11=\"\",\"\",VLOOKUP(O331,漢字読み!$A$2:$O$506,8,0))","v":{"$error":"#N/A"}},{"$f":"IF(P$11=\"\",\"\",VLOOKUP(P331,漢字読み!$A$2:$O$506,8,0))","v":{"$error":"#N/A"}},{"$f":"IF(Q$11=\"\",\"\",VLOOKUP(Q331,漢字読み!$A$2:$O$506,8,0))","v":{"$error":"#N/A"}},{"$f":"IF(R$11=\"\",\"\",VLOOKUP(R331,漢字読み!$A$2:$O$506,8,0))","v":{"$error":"#N/A"}},{"$f":"IF(S$11=\"\",\"\",VLOOKUP(S331,漢字読み!$A$2:$O$506,8,0))","v":{"$error":"#N/A"}},{"$f":"IF(T$11=\"\",\"\",VLOOKUP(T331,漢字読み!$A$2:$O$506,8,0))","v":{"$error":"#N/A"}},null,"名前"]
[{"$f":"IF(A331=\"\",\"\",IF(VLOOKUP(A331,漢字書き!$A$2:$N$502,7,0)=0,\"\",VLOOKUP(A331,漢字書き!$A$2:$N$502,7,0)))","v":{"$error":"#N/A"}},{"$f":"IF(B331=\"\",\"\",IF(VLOOKUP(B331,漢字書き!$A$2:$N$502,7,0)=0,\"\",VLOOKUP(B331,漢字書き!$A$2:$N$502,7,0)))","v":{"$error":"#N/A"}},{"$f":"IF(C331=\"\",\"\",IF(VLOOKUP(C331,漢字書き!$A$2:$N$502,7,0)=0,\"\",VLOOKUP(C331,漢字書き!$A$2:$N$502,7,0)))","v":{"$error":"#N/A"}},{"$f":"IF(D331=\"\",\"\",IF(VLOOKUP(D331,漢字書き!$A$2:$N$502,7,0)=0,\"\",VLOOKUP(D331,漢字書き!$A$2:$N$502,7,0)))","v":{"$error":"#N/A"}},{"$f":"IF(E331=\"\",\"\",IF(VLOOKUP(E331,漢字書き!$A$2:$N$502,7,0)=0,\"\",VLOOKUP(E331,漢字書き!$A$2:$N$502,7,0)))","v":{"$error":"#N/A"}},{"$f":"IF(F331=\"\",\"\",IF(VLOOKUP(F331,漢字書き!$A$2:$N$502,7,0)=0,\"\",VLOOKUP(F331,漢字書き!$A$2:$N$502,7,0)))","v":{"$error":"#N/A"}},{"$f":"IF(G331=\"\",\"\",IF(VLOOKUP(G331,漢字書き!$A$2:$N$502,7,0)=0,\"\",VLOOKUP(G331,漢字書き!$A$2:$N$502,7,0)))","v":{"$error":"#N/A"}},{"$f":"IF(H331=\"\",\"\",IF(VLOOKUP(H331,漢字書き!$A$2:$N$502,7,0)=0,\"\",VLOOKUP(H331,漢字書き!$A$2:$N$502,7,0)))","v":{"$error":"#N/A"}},{"$f":"IF(I331=\"\",\"\",IF(VLOOKUP(I331,漢字書き!$A$2:$N$502,7,0)=0,\"\",VLOOKUP(I331,漢字書き!$A$2:$N$502,7,0)))","v":{"$error":"#N/A"}},{"$f":"IF(J331=\"\",\"\",IF(VLOOKUP(J331,漢字書き!$A$2:$N$502,7,0)=0,\"\",VLOOKUP(J331,漢字書き!$A$2:$N$502,7,0)))","v":{"$error":"#N/A"}},{"$f":"IF(K331=\"\",\"\",IF(VLOOKUP(K331,漢字読み!$A$2:$O$502,7,0)=0,\"\",VLOOKUP(K331,漢字読み!$A$2:$O$502,7,0)))","v":{"$error":"#N/A"}},{"$f":"IF(L331=\"\",\"\",IF(VLOOKUP(L331,漢字読み!$A$2:$O$502,7,0)=0,\"\",VLOOKUP(L331,漢字読み!$A$2:$O$502,7,0)))","v":{"$error":"#N/A"}},{"$f":"IF(M331=\"\",\"\",IF(VLOOKUP(M331,漢字読み!$A$2:$O$502,7,0)=0,\"\",VLOOKUP(M331,漢字読み!$A$2:$O$502,7,0)))","v":{"$error":"#N/A"}},{"$f":"IF(N331=\"\",\"\",IF(VLOOKUP(N331,漢字読み!$A$2:$O$502,7,0)=0,\"\",VLOOKUP(N331,漢字読み!$A$2:$O$502,7,0)))","v":{"$error":"#N/A"}},{"$f":"IF(O331=\"\",\"\",IF(VLOOKUP(O331,漢字読み!$A$2:$O$502,7,0)=0,\"\",VLOOKUP(O331,漢字読み!$A$2:$O$502,7,0)))","v":{"$error":"#N/A"}},{"$f":"IF(P331=\"\",\"\",IF(VLOOKUP(P331,漢字読み!$A$2:$O$502,7,0)=0,\"\",VLOOKUP(P331,漢字読み!$A$2:$O$502,7,0)))","v":{"$error":"#N/A"}},{"$f":"IF(Q331=\"\",\"\",IF(VLOOKUP(Q331,漢字読み!$A$2:$O$502,7,0)=0,\"\",VLOOKUP(Q331,漢字読み!$A$2:$O$502,7,0)))","v":{"$error":"#N/A"}},{"$f":"IF(R331=\"\",\"\",IF(VLOOKUP(R331,漢字読み!$A$2:$O$502,7,0)=0,\"\",VLOOKUP(R331,漢字読み!$A$2:$O$502,7,0)))","v":{"$error":"#N/A"}},{"$f":"IF(S331=\"\",\"\",IF(VLOOKUP(S331,漢字読み!$A$2:$O$502,7,0)=0,\"\",VLOOKUP(S331,漢字読み!$A$2:$O$502,7,0)))","v":{"$error":"#N/A"}},{"$f":"IF(T331=\"\",\"\",IF(VLOOKUP(T331,漢字読み!$A$2:$O$502,7,0)=0,\"\",VLOOKUP(T331,漢字読み!$A$2:$O$502,7,0)))","v":{"$error":"#N/A"}},null,null,"和歌山県教育委員会"]
[{"$f":"A326","v":0},{"$f":"B326","v":0},0,0,0,0,0,0,0,0,0,0,0,0,0,0,0,0,0,0]
["⑳","⑲","⑱","⑰","⑯","⑮","⑭","⑬","⑫","⑪","⑩","⑨","⑧","⑦","⑥","⑤","④","③","②","①","次の［　　　　］の部分の漢字には読みがなをひらがなで書き、カタカナは漢字に直しなさい。",15,"「漢字の博士検定試験」練習問題　"]
[{"$f":"IF(A336=\"\",\"\",VLOOKUP(A336,漢字書き!$A$2:$N$506,6,0))","v":{"$error":"#N/A"}},{"$f":"IF(B336=\"\",\"\",VLOOKUP(B336,漢字書き!$A$2:$N$506,6,0))","v":{"$error":"#N/A"}},{"$f":"IF(C336=\"\",\"\",VLOOKUP(C336,漢字書き!$A$2:$N$506,6,0))","v":{"$error":"#N/A"}},{"$f":"IF(D336=\"\",\"\",VLOOKUP(D336,漢字書き!$A$2:$N$506,6,0))","v":{"$error":"#N/A"}},{"$f":"IF(E336=\"\",\"\",VLOOKUP(E336,漢字書き!$A$2:$N$506,6,0))","v":{"$error":"#N/A"}},{"$f":"IF(F336=\"\",\"\",VLOOKUP(F336,漢字書き!$A$2:$N$506,6,0))","v":{"$error":"#N/A"}},{"$f":"IF(G336=\"\",\"\",VLOOKUP(G336,漢字書き!$A$2:$N$506,6,0))","v":{"$error":"#N/A"}},{"$f":"IF(H336=\"\",\"\",VLOOKUP(H336,漢字書き!$A$2:$N$506,6,0))","v":{"$error":"#N/A"}},{"$f":"IF(I336=\"\",\"\",VLOOKUP(I336,漢字書き!$A$2:$N$506,6,0))","v":{"$error":"#N/A"}},{"$f":"IF(J336=\"\",\"\",VLOOKUP(J336,漢字書き!$A$2:$N$506,6,0))","v":{"$error":"#N/A"}},{"$f":"IF(K336=\"\",\"\",VLOOKUP(K336,漢字読み!$A$2:$O$506,6,0))","v":{"$error":"#N/A"}},{"$f":"IF(L336=\"\",\"\",VLOOKUP(L336,漢字読み!$A$2:$O$506,6,0))","v":{"$error":"#N/A"}},{"$f":"IF(M336=\"\",\"\",VLOOKUP(M336,漢字読み!$A$2:$O$506,6,0))","v":{"$error":"#N/A"}},{"$f":"IF(N336=\"\",\"\",VLOOKUP(N336,漢字読み!$A$2:$O$506,6,0))","v":{"$error":"#N/A"}},{"$f":"IF(O336=\"\",\"\",VLOOKUP(O336,漢字読み!$A$2:$O$506,6,0))","v":{"$error":"#N/A"}},{"$f":"IF(P336=\"\",\"\",VLOOKUP(P336,漢字読み!$A$2:$O$506,6,0))","v":{"$error":"#N/A"}},{"$f":"IF(Q336=\"\",\"\",VLOOKUP(Q336,漢字読み!$A$2:$O$506,6,0))","v":{"$error":"#N/A"}},{"$f":"IF(R336=\"\",\"\",VLOOKUP(R336,漢字読み!$A$2:$O$506,6,0))","v":{"$error":"#N/A"}},{"$f":"IF(S336=\"\",\"\",VLOOKUP(S336,漢字読み!$A$2:$O$506,6,0))","v":{"$error":"#N/A"}},{"$f":"IF(T336=\"\",\"\",VLOOKUP(T336,漢字読み!$A$2:$O$506,6,0))","v":{"$error":"#N/A"}},null,"級"]
[{"$f":"IF(A$16=\"\",\"\",VLOOKUP(A336,漢字書き!$A$2:$O$506,8,0))","v":{"$error":"#N/A"}},{"$f":"IF(B$16=\"\",\"\",VLOOKUP(B336,漢字書き!$A$2:$O$506,8,0))","v":{"$error":"#N/A"}},{"$f":"IF(C$16=\"\",\"\",VLOOKUP(C336,漢字書き!$A$2:$O$506,8,0))","v":{"$error":"#N/A"}},{"$f":"IF(D$16=\"\",\"\",VLOOKUP(D336,漢字書き!$A$2:$O$506,8,0))","v":{"$error":"#N/A"}},{"$f":"IF(E$16=\"\",\"\",VLOOKUP(E336,漢字書き!$A$2:$O$506,8,0))","v":{"$error":"#N/A"}},{"$f":"IF(F$16=\"\",\"\",VLOOKUP(F336,漢字書き!$A$2:$O$506,8,0))","v":{"$error":"#N/A"}},{"$f":"IF(G$16=\"\",\"\",VLOOKUP(G336,漢字書き!$A$2:$O$506,8,0))","v":{"$error":"#N/A"}},{"$f":"IF(H$16=\"\",\"\",VLOOKUP(H336,漢字書き!$A$2:$O$506,8,0))","v":{"$error":"#N/A"}},{"$f":"IF(I$16=\"\",\"\",VLOOKUP(I336,漢字書き!$A$2:$O$506,8,0))","v":{"$error":"#N/A"}},{"$f":"IF(J$16=\"\",\"\",VLOOKUP(J336,漢字書き!$A$2:$O$506,8,0))","v":{"$error":"#N/A"}},{"$f":"IF(K$16=\"\",\"\",VLOOKUP(K336,漢字読み!$A$2:$O$506,8,0))","v":{"$error":"#N/A"}},{"$f":"IF(L$16=\"\",\"\",VLOOKUP(L336,漢字読み!$A$2:$O$506,8,0))","v":{"$error":"#N/A"}},{"$f":"IF(M$16=\"\",\"\",VLOOKUP(M336,漢字読み!$A$2:$O$506,8,0))","v":{"$error":"#N/A"}},{"$f":"IF(N$16=\"\",\"\",VLOOKUP(N336,漢字読み!$A$2:$O$506,8,0))","v":{"$error":"#N/A"}},{"$f":"IF(O$16=\"\",\"\",VLOOKUP(O336,漢字読み!$A$2:$O$506,8,0))","v":{"$error":"#N/A"}},{"$f":"IF(P$16=\"\",\"\",VLOOKUP(P336,漢字読み!$A$2:$O$506,8,0))","v":{"$error":"#N/A"}},{"$f":"IF(Q$16=\"\",\"\",VLOOKUP(Q336,漢字読み!$A$2:$O$506,8,0))","v":{"$error":"#N/A"}},{"$f":"IF(R$16=\"\",\"\",VLOOKUP(R336,漢字読み!$A$2:$O$506,8,0))","v":{"$error":"#N/A"}},{"$f":"IF(S$16=\"\",\"\",VLOOKUP(S336,漢字読み!$A$2:$O$506,8,0))","v":{"$error":"#N/A"}},{"$f":"IF(T$16=\"\",\"\",VLOOKUP(T336,漢字読み!$A$2:$O$506,8,0))","v":{"$error":"#N/A"}},null,"名前"]
[{"$f":"IF(A336=\"\",\"\",IF(VLOOKUP(A336,漢字書き!$A$2:$N$502,7,0)=0,\"\",VLOOKUP(A336,漢字書き!$A$2:$N$502,7,0)))","v":{"$error":"#N/A"}},{"$f":"IF(B336=\"\",\"\",IF(VLOOKUP(B336,漢字書き!$A$2:$N$502,7,0)=0,\"\",VLOOKUP(B336,漢字書き!$A$2:$N$502,7,0)))","v":{"$error":"#N/A"}},{"$f":"IF(C336=\"\",\"\",IF(VLOOKUP(C336,漢字書き!$A$2:$N$502,7,0)=0,\"\",VLOOKUP(C336,漢字書き!$A$2:$N$502,7,0)))","v":{"$error":"#N/A"}},{"$f":"IF(D336=\"\",\"\",IF(VLOOKUP(D336,漢字書き!$A$2:$N$502,7,0)=0,\"\",VLOOKUP(D336,漢字書き!$A$2:$N$502,7,0)))","v":{"$error":"#N/A"}},{"$f":"IF(E336=\"\",\"\",IF(VLOOKUP(E336,漢字書き!$A$2:$N$502,7,0)=0,\"\",VLOOKUP(E336,漢字書き!$A$2:$N$502,7,0)))","v":{"$error":"#N/A"}},{"$f":"IF(F336=\"\",\"\",IF(VLOOKUP(F336,漢字書き!$A$2:$N$502,7,0)=0,\"\",VLOOKUP(F336,漢字書き!$A$2:$N$502,7,0)))","v":{"$error":"#N/A"}},{"$f":"IF(G336=\"\",\"\",IF(VLOOKUP(G336,漢字書き!$A$2:$N$502,7,0)=0,\"\",VLOOKUP(G336,漢字書き!$A$2:$N$502,7,0)))","v":{"$error":"#N/A"}},{"$f":"IF(H336=\"\",\"\",IF(VLOOKUP(H336,漢字書き!$A$2:$N$502,7,0)=0,\"\",VLOOKUP(H336,漢字書き!$A$2:$N$502,7,0)))","v":{"$error":"#N/A"}},{"$f":"IF(I336=\"\",\"\",IF(VLOOKUP(I336,漢字書き!$A$2:$N$502,7,0)=0,\"\",VLOOKUP(I336,漢字書き!$A$2:$N$502,7,0)))","v":{"$error":"#N/A"}},{"$f":"IF(J336=\"\",\"\",IF(VLOOKUP(J336,漢字書き!$A$2:$N$502,7,0)=0,\"\",VLOOKUP(J336,漢字書き!$A$2:$N$502,7,0)))","v":{"$error":"#N/A"}},{"$f":"IF(K336=\"\",\"\",IF(VLOOKUP(K336,漢字読み!$A$2:$O$502,7,0)=0,\"\",VLOOKUP(K336,漢字読み!$A$2:$O$502,7,0)))","v":{"$error":"#N/A"}},{"$f":"IF(L336=\"\",\"\",IF(VLOOKUP(L336,漢字読み!$A$2:$O$502,7,0)=0,\"\",VLOOKUP(L336,漢字読み!$A$2:$O$502,7,0)))","v":{"$error":"#N/A"}},{"$f":"IF(M336=\"\",\"\",IF(VLOOKUP(M336,漢字読み!$A$2:$O$502,7,0)=0,\"\",VLOOKUP(M336,漢字読み!$A$2:$O$502,7,0)))","v":{"$error":"#N/A"}},{"$f":"IF(N336=\"\",\"\",IF(VLOOKUP(N336,漢字読み!$A$2:$O$502,7,0)=0,\"\",VLOOKUP(N336,漢字読み!$A$2:$O$502,7,0)))","v":{"$error":"#N/A"}},{"$f":"IF(O336=\"\",\"\",IF(VLOOKUP(O336,漢字読み!$A$2:$O$502,7,0)=0,\"\",VLOOKUP(O336,漢字読み!$A$2:$O$502,7,0)))","v":{"$error":"#N/A"}},{"$f":"IF(P336=\"\",\"\",IF(VLOOKUP(P336,漢字読み!$A$2:$O$502,7,0)=0,\"\",VLOOKUP(P336,漢字読み!$A$2:$O$502,7,0)))","v":{"$error":"#N/A"}},{"$f":"IF(Q336=\"\",\"\",IF(VLOOKUP(Q336,漢字読み!$A$2:$O$502,7,0)=0,\"\",VLOOKUP(Q336,漢字読み!$A$2:$O$502,7,0)))","v":{"$error":"#N/A"}},{"$f":"IF(R336=\"\",\"\",IF(VLOOKUP(R336,漢字読み!$A$2:$O$502,7,0)=0,\"\",VLOOKUP(R336,漢字読み!$A$2:$O$502,7,0)))","v":{"$error":"#N/A"}},{"$f":"IF(S336=\"\",\"\",IF(VLOOKUP(S336,漢字読み!$A$2:$O$502,7,0)=0,\"\",VLOOKUP(S336,漢字読み!$A$2:$O$502,7,0)))","v":{"$error":"#N/A"}},{"$f":"IF(T336=\"\",\"\",IF(VLOOKUP(T336,漢字読み!$A$2:$O$502,7,0)=0,\"\",VLOOKUP(T336,漢字読み!$A$2:$O$502,7,0)))","v":{"$error":"#N/A"}},null,null,"和歌山県教育委員会"]
[{"$f":"INDIRECT(\"'関数（書き）'!C\" & COLUMN(B$1)+SUM($AD$2:$AD342))","v":0},{"$f":"INDIRECT(\"'関数（書き）'!C\" & COLUMN(C$1)+SUM($AD$2:$AD342))","v":0},{"$f":"INDIRECT(\"'関数（書き）'!C\" & COLUMN(D$1)+SUM($AD$2:$AD342))","v":0},{"$f":"INDIRECT(\"'関数（書き）'!C\" & COLUMN(E$1)+SUM($AD$2:$AD342))","v":0},{"$f":"INDIRECT(\"'関数（書き）'!C\" & COLUMN(F$1)+SUM($AD$2:$AD342))","v":0},{"$f":"INDIRECT(\"'関数（書き）'!C\" & COLUMN(G$1)+SUM($AD$2:$AD342))","v":0},{"$f":"INDIRECT(\"'関数（書き）'!C\" & COLUMN(H$1)+SUM($AD$2:$AD342))","v":0},{"$f":"INDIRECT(\"'関数（書き）'!C\" & COLUMN(I$1)+SUM($AD$2:$AD342))","v":0},{"$f":"INDIRECT(\"'関数（書き）'!C\" & COLUMN(J$1)+SUM($AD$2:$AD342))","v":0},{"$f":"INDIRECT(\"'関数（書き）'!C\" & COLUMN(K$1)+SUM($AD$2:$AD342))","v":0},{"$f":"INDIRECT(\"'関数（読み）'!C\" & COLUMN(B$1)+SUM($AD$2:$AD342))","v":0},{"$f":"INDIRECT(\"'関数（読み）'!C\" & COLUMN(C$1)+SUM($AD$2:$AD342))","v":0},{"$f":"INDIRECT(\"'関数（読み）'!C\" & COLUMN(D$1)+SUM($AD$2:$AD342))","v":0},{"$f":"INDIRECT(\"'関数（読み）'!C\" & COLUMN(E$1)+SUM($AD$2:$AD342))","v":0},{"$f":"INDIRECT(\"'関数（読み）'!C\" & COLUMN(F$1)+SUM($AD$2:$AD342))","v":0},{"$f":"INDIRECT(\"'関数（読み）'!C\" & COLUMN(G$1)+SUM($AD$2:$AD342))","v":0},{"$f":"INDIRECT(\"'関数（読み）'!C\" & COLUMN(H$1)+SUM($AD$2:$AD342))","v":0},{"$f":"INDIRECT(\"'関数（読み）'!C\" & COLUMN(I$1)+SUM($AD$2:$AD342))","v":0},{"$f":"INDIRECT(\"'関数（読み）'!C\" & COLUMN(J$1)+SUM($AD$2:$AD342))","v":0},{"$f":"INDIRECT(\"'関数（読み）'!C\" & COLUMN(K$1)+SUM($AD$2:$AD342))","v":0}]
["⑳","⑲","⑱","⑰","⑯","⑮","⑭","⑬","⑫","⑪","⑩","⑨","⑧","⑦","⑥","⑤","④","③","②","①","次の［　　　　］の部分の漢字には読みがなをひらがなで書き、カタカナは漢字に直しなさい。",15,"「漢字の博士検定試験」練習問題　",null,null,null,null,null,"←",10,"問",{"$f":"AH327+1","v":341},"～",{"$f":"SUM($AD$2:$AD342)+10","v":350},"問まで",{"$f":"COUNTIF($A$1:$T$200,T343)","v":195}]
[{"$f":"IF(A341=\"\",\"\",VLOOKUP(A341,漢字書き!$A$2:$N$506,6,0))","v":{"$error":"#N/A"}},{"$f":"IF(B341=\"\",\"\",VLOOKUP(B341,漢字書き!$A$2:$N$506,6,0))","v":{"$error":"#N/A"}},{"$f":"IF(C341=\"\",\"\",VLOOKUP(C341,漢字書き!$A$2:$N$506,6,0))","v":{"$error":"#N/A"}},{"$f":"IF(D341=\"\",\"\",VLOOKUP(D341,漢字書き!$A$2:$N$506,6,0))","v":{"$error":"#N/A"}},{"$f":"IF(E341=\"\",\"\",VLOOKUP(E341,漢字書き!$A$2:$N$506,6,0))","v":{"$error":"#N/A"}},{"$f":"IF(F341=\"\",\"\",VLOOKUP(F341,漢字書き!$A$2:$N$506,6,0))","v":{"$error":"#N/A"}},{"$f":"IF(G341=\"\",\"\",VLOOKUP(G341,漢字書き!$A$2:$N$506,6,0))","v":{"$error":"#N/A"}},{"$f":"IF(H341=\"\",\"\",VLOOKUP(H341,漢字書き!$A$2:$N$506,6,0))","v":{"$error":"#N/A"}},{"$f":"IF(I341=\"\",\"\",VLOOKUP(I341,漢字書き!$A$2:$N$506,6,0))","v":{"$error":"#N/A"}},{"$f":"IF(J341=\"\",\"\",VLOOKUP(J341,漢字書き!$A$2:$N$506,6,0))","v":{"$error":"#N/A"}},{"$f":"IF(K341=\"\",\"\",VLOOKUP(K341,漢字読み!$A$2:$O$506,6,0))","v":{"$error":"#N/A"}},{"$f":"IF(L341=\"\",\"\",VLOOKUP(L341,漢字読み!$A$2:$O$506,6,0))","v":{"$error":"#N/A"}},{"$f":"IF(M341=\"\",\"\",VLOOKUP(M341,漢字読み!$A$2:$O$506,6,0))","v":{"$error":"#N/A"}},{"$f":"IF(N341=\"\",\"\",VLOOKUP(N341,漢字読み!$A$2:$O$506,6,0))","v":{"$error":"#N/A"}},{"$f":"IF(O341=\"\",\"\",VLOOKUP(O341,漢字読み!$A$2:$O$506,6,0))","v":{"$error":"#N/A"}},{"$f":"IF(P341=\"\",\"\",VLOOKUP(P341,漢字読み!$A$2:$O$506,6,0))","v":{"$error":"#N/A"}},{"$f":"IF(Q341=\"\",\"\",VLOOKUP(Q341,漢字読み!$A$2:$O$506,6,0))","v":{"$error":"#N/A"}},{"$f":"IF(R341=\"\",\"\",VLOOKUP(R341,漢字読み!$A$2:$O$506,6,0))","v":{"$error":"#N/A"}},{"$f":"IF(S341=\"\",\"\",VLOOKUP(S341,漢字読み!$A$2:$O$506,6,0))","v":{"$error":"#N/A"}},{"$f":"IF(T341=\"\",\"\",VLOOKUP(T341,漢字読み!$A$2:$O$506,6,0))","v":{"$error":"#N/A"}},null,"級"]
[null,null,null,null,null,null,null,null,null,null,null,null,null,null,null,null,null,null,null,null,null,"名前"]
[{"$f":"IF(A341=\"\",\"\",IF(VLOOKUP(A341,漢字書き!$A$2:$N$502,7,0)=0,\"\",VLOOKUP(A341,漢字書き!$A$2:$N$502,7,0)))","v":{"$error":"#N/A"}},{"$f":"IF(B341=\"\",\"\",IF(VLOOKUP(B341,漢字書き!$A$2:$N$502,7,0)=0,\"\",VLOOKUP(B341,漢字書き!$A$2:$N$502,7,0)))","v":{"$error":"#N/A"}},{"$f":"IF(C341=\"\",\"\",IF(VLOOKUP(C341,漢字書き!$A$2:$N$502,7,0)=0,\"\",VLOOKUP(C341,漢字書き!$A$2:$N$502,7,0)))","v":{"$error":"#N/A"}},{"$f":"IF(D341=\"\",\"\",IF(VLOOKUP(D341,漢字書き!$A$2:$N$502,7,0)=0,\"\",VLOOKUP(D341,漢字書き!$A$2:$N$502,7,0)))","v":{"$error":"#N/A"}},{"$f":"IF(E341=\"\",\"\",IF(VLOOKUP(E341,漢字書き!$A$2:$N$502,7,0)=0,\"\",VLOOKUP(E341,漢字書き!$A$2:$N$502,7,0)))","v":{"$error":"#N/A"}},{"$f":"IF(F341=\"\",\"\",IF(VLOOKUP(F341,漢字書き!$A$2:$N$502,7,0)=0,\"\",VLOOKUP(F341,漢字書き!$A$2:$N$502,7,0)))","v":{"$error":"#N/A"}},{"$f":"IF(G341=\"\",\"\",IF(VLOOKUP(G341,漢字書き!$A$2:$N$502,7,0)=0,\"\",VLOOKUP(G341,漢字書き!$A$2:$N$502,7,0)))","v":{"$error":"#N/A"}},{"$f":"IF(H341=\"\",\"\",IF(VLOOKUP(H341,漢字書き!$A$2:$N$502,7,0)=0,\"\",VLOOKUP(H341,漢字書き!$A$2:$N$502,7,0)))","v":{"$error":"#N/A"}},{"$f":"IF(I341=\"\",\"\",IF(VLOOKUP(I341,漢字書き!$A$2:$N$502,7,0)=0,\"\",VLOOKUP(I341,漢字書き!$A$2:$N$502,7,0)))","v":{"$error":"#N/A"}},{"$f":"IF(J341=\"\",\"\",IF(VLOOKUP(J341,漢字書き!$A$2:$N$502,7,0)=0,\"\",VLOOKUP(J341,漢字書き!$A$2:$N$502,7,0)))","v":{"$error":"#N/A"}},{"$f":"IF(K341=\"\",\"\",IF(VLOOKUP(K341,漢字読み!$A$2:$O$502,7,0)=0,\"\",VLOOKUP(K341,漢字読み!$A$2:$O$502,7,0)))","v":{"$error":"#N/A"}},{"$f":"IF(L341=\"\",\"\",IF(VLOOKUP(L341,漢字読み!$A$2:$O$502,7,0)=0,\"\",VLOOKUP(L341,漢字読み!$A$2:$O$502,7,0)))","v":{"$error":"#N/A"}},{"$f":"IF(M341=\"\",\"\",IF(VLOOKUP(M341,漢字読み!$A$2:$O$502,7,0)=0,\"\",VLOOKUP(M341,漢字読み!$A$2:$O$502,7,0)))","v":{"$error":"#N/A"}},{"$f":"IF(N341=\"\",\"\",IF(VLOOKUP(N341,漢字読み!$A$2:$O$502,7,0)=0,\"\",VLOOKUP(N341,漢字読み!$A$2:$O$502,7,0)))","v":{"$error":"#N/A"}},{"$f":"IF(O341=\"\",\"\",IF(VLOOKUP(O341,漢字読み!$A$2:$O$502,7,0)=0,\"\",VLOOKUP(O341,漢字読み!$A$2:$O$502,7,0)))","v":{"$error":"#N/A"}},{"$f":"IF(P341=\"\",\"\",IF(VLOOKUP(P341,漢字読み!$A$2:$O$502,7,0)=0,\"\",VLOOKUP(P341,漢字読み!$A$2:$O$502,7,0)))","v":{"$error":"#N/A"}},{"$f":"IF(Q341=\"\",\"\",IF(VLOOKUP(Q341,漢字読み!$A$2:$O$502,7,0)=0,\"\",VLOOKUP(Q341,漢字読み!$A$2:$O$502,7,0)))","v":{"$error":"#N/A"}},{"$f":"IF(R341=\"\",\"\",IF(VLOOKUP(R341,漢字読み!$A$2:$O$502,7,0)=0,\"\",VLOOKUP(R341,漢字読み!$A$2:$O$502,7,0)))","v":{"$error":"#N/A"}},{"$f":"IF(S341=\"\",\"\",IF(VLOOKUP(S341,漢字読み!$A$2:$O$502,7,0)=0,\"\",VLOOKUP(S341,漢字読み!$A$2:$O$502,7,0)))","v":{"$error":"#N/A"}},{"$f":"IF(T341=\"\",\"\",IF(VLOOKUP(T341,漢字読み!$A$2:$O$502,7,0)=0,\"\",VLOOKUP(T341,漢字読み!$A$2:$O$502,7,0)))","v":{"$error":"#N/A"}},null,null,"和歌山県教育委員会"]
[{"$f":"INDIRECT(\"'関数（書き）'!C\" & COLUMN(B$1)+SUM($AD$2:$AD347))","v":0},{"$f":"INDIRECT(\"'関数（書き）'!C\" & COLUMN(C$1)+SUM($AD$2:$AD347))","v":0},{"$f":"INDIRECT(\"'関数（書き）'!C\" & COLUMN(D$1)+SUM($AD$2:$AD347))","v":0},{"$f":"INDIRECT(\"'関数（書き）'!C\" & COLUMN(E$1)+SUM($AD$2:$AD347))","v":0},{"$f":"INDIRECT(\"'関数（書き）'!C\" & COLUMN(F$1)+SUM($AD$2:$AD347))","v":0},{"$f":"INDIRECT(\"'関数（書き）'!C\" & COLUMN(G$1)+SUM($AD$2:$AD347))","v":0},{"$f":"INDIRECT(\"'関数（書き）'!C\" & COLUMN(H$1)+SUM($AD$2:$AD347))","v":0},{"$f":"INDIRECT(\"'関数（書き）'!C\" & COLUMN(I$1)+SUM($AD$2:$AD347))","v":0},{"$f":"INDIRECT(\"'関数（書き）'!C\" & COLUMN(J$1)+SUM($AD$2:$AD347))","v":0},{"$f":"INDIRECT(\"'関数（書き）'!C\" & COLUMN(K$1)+SUM($AD$2:$AD347))","v":0},{"$f":"INDIRECT(\"'関数（読み）'!C\" & COLUMN(B$1)+SUM($AD$2:$AD347))","v":0},{"$f":"INDIRECT(\"'関数（読み）'!C\" & COLUMN(C$1)+SUM($AD$2:$AD347))","v":0},{"$f":"INDIRECT(\"'関数（読み）'!C\" & COLUMN(D$1)+SUM($AD$2:$AD347))","v":0},{"$f":"INDIRECT(\"'関数（読み）'!C\" & COLUMN(E$1)+SUM($AD$2:$AD347))","v":0},{"$f":"INDIRECT(\"'関数（読み）'!C\" & COLUMN(F$1)+SUM($AD$2:$AD347))","v":0},{"$f":"INDIRECT(\"'関数（読み）'!C\" & COLUMN(G$1)+SUM($AD$2:$AD347))","v":0},{"$f":"INDIRECT(\"'関数（読み）'!C\" & COLUMN(H$1)+SUM($AD$2:$AD347))","v":0},{"$f":"INDIRECT(\"'関数（読み）'!C\" & COLUMN(I$1)+SUM($AD$2:$AD347))","v":0},{"$f":"INDIRECT(\"'関数（読み）'!C\" & COLUMN(J$1)+SUM($AD$2:$AD347))","v":0},{"$f":"INDIRECT(\"'関数（読み）'!C\" & COLUMN(K$1)+SUM($AD$2:$AD347))","v":0}]
["⑳","⑲","⑱","⑰","⑯","⑮","⑭","⑬","⑫","⑪","⑩","⑨","⑧","⑦","⑥","⑤","④","③","②","①","次の［　　　　］の部分の漢字には読みがなをひらがなで書き、カタカナは漢字に直しなさい。",15,"「漢字の博士検定試験」練習問題　",null,null,null,null,null,"←",10,"問",{"$f":"AH342+1","v":351},"～",{"$f":"SUM($AD$2:$AD347)+10","v":360},"問まで",{"$f":"COUNTIF($A$1:$T$200,T348)","v":195}]
[{"$f":"IF(A346=\"\",\"\",VLOOKUP(A346,漢字書き!$A$2:$N$506,6,0))","v":{"$error":"#N/A"}},{"$f":"IF(B346=\"\",\"\",VLOOKUP(B346,漢字書き!$A$2:$N$506,6,0))","v":{"$error":"#N/A"}},{"$f":"IF(C346=\"\",\"\",VLOOKUP(C346,漢字書き!$A$2:$N$506,6,0))","v":{"$error":"#N/A"}},{"$f":"IF(D346=\"\",\"\",VLOOKUP(D346,漢字書き!$A$2:$N$506,6,0))","v":{"$error":"#N/A"}},{"$f":"IF(E346=\"\",\"\",VLOOKUP(E346,漢字書き!$A$2:$N$506,6,0))","v":{"$error":"#N/A"}},{"$f":"IF(F346=\"\",\"\",VLOOKUP(F346,漢字書き!$A$2:$N$506,6,0))","v":{"$error":"#N/A"}},{"$f":"IF(G346=\"\",\"\",VLOOKUP(G346,漢字書き!$A$2:$N$506,6,0))","v":{"$error":"#N/A"}},{"$f":"IF(H346=\"\",\"\",VLOOKUP(H346,漢字書き!$A$2:$N$506,6,0))","v":{"$error":"#N/A"}},{"$f":"IF(I346=\"\",\"\",VLOOKUP(I346,漢字書き!$A$2:$N$506,6,0))","v":{"$error":"#N/A"}},{"$f":"IF(J346=\"\",\"\",VLOOKUP(J346,漢字書き!$A$2:$N$506,6,0))","v":{"$error":"#N/A"}},{"$f":"IF(K346=\"\",\"\",VLOOKUP(K346,漢字読み!$A$2:$O$506,6,0))","v":{"$error":"#N/A"}},{"$f":"IF(L346=\"\",\"\",VLOOKUP(L346,漢字読み!$A$2:$O$506,6,0))","v":{"$error":"#N/A"}},{"$f":"IF(M346=\"\",\"\",VLOOKUP(M346,漢字読み!$A$2:$O$506,6,0))","v":{"$error":"#N/A"}},{"$f":"IF(N346=\"\",\"\",VLOOKUP(N346,漢字読み!$A$2:$O$506,6,0))","v":{"$error":"#N/A"}},{"$f":"IF(O346=\"\",\"\",VLOOKUP(O346,漢字読み!$A$2:$O$506,6,0))","v":{"$error":"#N/A"}},{"$f":"IF(P346=\"\",\"\",VLOOKUP(P346,漢字読み!$A$2:$O$506,6,0))","v":{"$error":"#N/A"}},{"$f":"IF(Q346=\"\",\"\",VLOOKUP(Q346,漢字読み!$A$2:$O$506,6,0))","v":{"$error":"#N/A"}},{"$f":"IF(R346=\"\",\"\",VLOOKUP(R346,漢字読み!$A$2:$O$506,6,0))","v":{"$error":"#N/A"}},{"$f":"IF(S346=\"\",\"\",VLOOKUP(S346,漢字読み!$A$2:$O$506,6,0))","v":{"$error":"#N/A"}},{"$f":"IF(T346=\"\",\"\",VLOOKUP(T346,漢字読み!$A$2:$O$506,6,0))","v":{"$error":"#N/A"}},null,"級"]
[null,null,null,null,null,null,null,null,null,null,null,null,null,null,null,null,null,null,null,null,null,"名前"]
[{"$f":"IF(A346=\"\",\"\",IF(VLOOKUP(A346,漢字書き!$A$2:$N$502,7,0)=0,\"\",VLOOKUP(A346,漢字書き!$A$2:$N$502,7,0)))","v":{"$error":"#N/A"}},{"$f":"IF(B346=\"\",\"\",IF(VLOOKUP(B346,漢字書き!$A$2:$N$502,7,0)=0,\"\",VLOOKUP(B346,漢字書き!$A$2:$N$502,7,0)))","v":{"$error":"#N/A"}},{"$f":"IF(C346=\"\",\"\",IF(VLOOKUP(C346,漢字書き!$A$2:$N$502,7,0)=0,\"\",VLOOKUP(C346,漢字書き!$A$2:$N$502,7,0)))","v":{"$error":"#N/A"}},{"$f":"IF(D346=\"\",\"\",IF(VLOOKUP(D346,漢字書き!$A$2:$N$502,7,0)=0,\"\",VLOOKUP(D346,漢字書き!$A$2:$N$502,7,0)))","v":{"$error":"#N/A"}},{"$f":"IF(E346=\"\",\"\",IF(VLOOKUP(E346,漢字書き!$A$2:$N$502,7,0)=0,\"\",VLOOKUP(E346,漢字書き!$A$2:$N$502,7,0)))","v":{"$error":"#N/A"}},{"$f":"IF(F346=\"\",\"\",IF(VLOOKUP(F346,漢字書き!$A$2:$N$502,7,0)=0,\"\",VLOOKUP(F346,漢字書き!$A$2:$N$502,7,0)))","v":{"$error":"#N/A"}},{"$f":"IF(G346=\"\",\"\",IF(VLOOKUP(G346,漢字書き!$A$2:$N$502,7,0)=0,\"\",VLOOKUP(G346,漢字書き!$A$2:$N$502,7,0)))","v":{"$error":"#N/A"}},{"$f":"IF(H346=\"\",\"\",IF(VLOOKUP(H346,漢字書き!$A$2:$N$502,7,0)=0,\"\",VLOOKUP(H346,漢字書き!$A$2:$N$502,7,0)))","v":{"$error":"#N/A"}},{"$f":"IF(I346=\"\",\"\",IF(VLOOKUP(I346,漢字書き!$A$2:$N$502,7,0)=0,\"\",VLOOKUP(I346,漢字書き!$A$2:$N$502,7,0)))","v":{"$error":"#N/A"}},{"$f":"IF(J346=\"\",\"\",IF(VLOOKUP(J346,漢字書き!$A$2:$N$502,7,0)=0,\"\",VLOOKUP(J346,漢字書き!$A$2:$N$502,7,0)))","v":{"$error":"#N/A"}},{"$f":"IF(K346=\"\",\"\",IF(VLOOKUP(K346,漢字読み!$A$2:$O$502,7,0)=0,\"\",VLOOKUP(K346,漢字読み!$A$2:$O$502,7,0)))","v":{"$error":"#N/A"}},{"$f":"IF(L346=\"\",\"\",IF(VLOOKUP(L346,漢字読み!$A$2:$O$502,7,0)=0,\"\",VLOOKUP(L346,漢字読み!$A$2:$O$502,7,0)))","v":{"$error":"#N/A"}},{"$f":"IF(M346=\"\",\"\",IF(VLOOKUP(M346,漢字読み!$A$2:$O$502,7,0)=0,\"\",VLOOKUP(M346,漢字読み!$A$2:$O$502,7,0)))","v":{"$error":"#N/A"}},{"$f":"IF(N346=\"\",\"\",IF(VLOOKUP(N346,漢字読み!$A$2:$O$502,7,0)=0,\"\",VLOOKUP(N346,漢字読み!$A$2:$O$502,7,0)))","v":{"$error":"#N/A"}},{"$f":"IF(O346=\"\",\"\",IF(VLOOKUP(O346,漢字読み!$A$2:$O$502,7,0)=0,\"\",VLOOKUP(O346,漢字読み!$A$2:$O$502,7,0)))","v":{"$error":"#N/A"}},{"$f":"IF(P346=\"\",\"\",IF(VLOOKUP(P346,漢字読み!$A$2:$O$502,7,0)=0,\"\",VLOOKUP(P346,漢字読み!$A$2:$O$502,7,0)))","v":{"$error":"#N/A"}},{"$f":"IF(Q346=\"\",\"\",IF(VLOOKUP(Q346,漢字読み!$A$2:$O$502,7,0)=0,\"\",VLOOKUP(Q346,漢字読み!$A$2:$O$502,7,0)))","v":{"$error":"#N/A"}},{"$f":"IF(R346=\"\",\"\",IF(VLOOKUP(R346,漢字読み!$A$2:$O$502,7,0)=0,\"\",VLOOKUP(R346,漢字読み!$A$2:$O$502,7,0)))","v":{"$error":"#N/A"}},{"$f":"IF(S346=\"\",\"\",IF(VLOOKUP(S346,漢字読み!$A$2:$O$502,7,0)=0,\"\",VLOOKUP(S346,漢字読み!$A$2:$O$502,7,0)))","v":{"$error":"#N/A"}},{"$f":"IF(T346=\"\",\"\",IF(VLOOKUP(T346,漢字読み!$A$2:$O$502,7,0)=0,\"\",VLOOKUP(T346,漢字読み!$A$2:$O$502,7,0)))","v":{"$error":"#N/A"}},null,null,"和歌山県教育委員会"]
[{"$f":"A341","v":0},{"$f":"B341","v":0},0,0,0,0,0,0,0,0,0,0,0,0,0,0,0,0,0,0]
["⑳","⑲","⑱","⑰","⑯","⑮","⑭","⑬","⑫","⑪","⑩","⑨","⑧","⑦","⑥","⑤","④","③","②","①","次の［　　　　］の部分の漢字には読みがなをひらがなで書き、カタカナは漢字に直しなさい。",15,"「漢字の博士検定試験」練習問題　"]
[{"$f":"IF(A351=\"\",\"\",VLOOKUP(A351,漢字書き!$A$2:$N$506,6,0))","v":{"$error":"#N/A"}},{"$f":"IF(B351=\"\",\"\",VLOOKUP(B351,漢字書き!$A$2:$N$506,6,0))","v":{"$error":"#N/A"}},{"$f":"IF(C351=\"\",\"\",VLOOKUP(C351,漢字書き!$A$2:$N$506,6,0))","v":{"$error":"#N/A"}},{"$f":"IF(D351=\"\",\"\",VLOOKUP(D351,漢字書き!$A$2:$N$506,6,0))","v":{"$error":"#N/A"}},{"$f":"IF(E351=\"\",\"\",VLOOKUP(E351,漢字書き!$A$2:$N$506,6,0))","v":{"$error":"#N/A"}},{"$f":"IF(F351=\"\",\"\",VLOOKUP(F351,漢字書き!$A$2:$N$506,6,0))","v":{"$error":"#N/A"}},{"$f":"IF(G351=\"\",\"\",VLOOKUP(G351,漢字書き!$A$2:$N$506,6,0))","v":{"$error":"#N/A"}},{"$f":"IF(H351=\"\",\"\",VLOOKUP(H351,漢字書き!$A$2:$N$506,6,0))","v":{"$error":"#N/A"}},{"$f":"IF(I351=\"\",\"\",VLOOKUP(I351,漢字書き!$A$2:$N$506,6,0))","v":{"$error":"#N/A"}},{"$f":"IF(J351=\"\",\"\",VLOOKUP(J351,漢字書き!$A$2:$N$506,6,0))","v":{"$error":"#N/A"}},{"$f":"IF(K351=\"\",\"\",VLOOKUP(K351,漢字読み!$A$2:$O$506,6,0))","v":{"$error":"#N/A"}},{"$f":"IF(L351=\"\",\"\",VLOOKUP(L351,漢字読み!$A$2:$O$506,6,0))","v":{"$error":"#N/A"}},{"$f":"IF(M351=\"\",\"\",VLOOKUP(M351,漢字読み!$A$2:$O$506,6,0))","v":{"$error":"#N/A"}},{"$f":"IF(N351=\"\",\"\",VLOOKUP(N351,漢字読み!$A$2:$O$506,6,0))","v":{"$error":"#N/A"}},{"$f":"IF(O351=\"\",\"\",VLOOKUP(O351,漢字読み!$A$2:$O$506,6,0))","v":{"$error":"#N/A"}},{"$f":"IF(P351=\"\",\"\",VLOOKUP(P351,漢字読み!$A$2:$O$506,6,0))","v":{"$error":"#N/A"}},{"$f":"IF(Q351=\"\",\"\",VLOOKUP(Q351,漢字読み!$A$2:$O$506,6,0))","v":{"$error":"#N/A"}},{"$f":"IF(R351=\"\",\"\",VLOOKUP(R351,漢字読み!$A$2:$O$506,6,0))","v":{"$error":"#N/A"}},{"$f":"IF(S351=\"\",\"\",VLOOKUP(S351,漢字読み!$A$2:$O$506,6,0))","v":{"$error":"#N/A"}},{"$f":"IF(T351=\"\",\"\",VLOOKUP(T351,漢字読み!$A$2:$O$506,6,0))","v":{"$error":"#N/A"}},null,"級"]
[{"$f":"IF(A$11=\"\",\"\",VLOOKUP(A351,漢字書き!$A$2:$O$506,8,0))","v":{"$error":"#N/A"}},{"$f":"IF(B$11=\"\",\"\",VLOOKUP(B351,漢字書き!$A$2:$O$506,8,0))","v":{"$error":"#N/A"}},{"$f":"IF(C$11=\"\",\"\",VLOOKUP(C351,漢字書き!$A$2:$O$506,8,0))","v":{"$error":"#N/A"}},{"$f":"IF(D$11=\"\",\"\",VLOOKUP(D351,漢字書き!$A$2:$O$506,8,0))","v":{"$error":"#N/A"}},{"$f":"IF(E$11=\"\",\"\",VLOOKUP(E351,漢字書き!$A$2:$O$506,8,0))","v":{"$error":"#N/A"}},{"$f":"IF(F$11=\"\",\"\",VLOOKUP(F351,漢字書き!$A$2:$O$506,8,0))","v":{"$error":"#N/A"}},{"$f":"IF(G$11=\"\",\"\",VLOOKUP(G351,漢字書き!$A$2:$O$506,8,0))","v":{"$error":"#N/A"}},{"$f":"IF(H$11=\"\",\"\",VLOOKUP(H351,漢字書き!$A$2:$O$506,8,0))","v":{"$error":"#N/A"}},{"$f":"IF(I$11=\"\",\"\",VLOOKUP(I351,漢字書き!$A$2:$O$506,8,0))","v":{"$error":"#N/A"}},{"$f":"IF(J$11=\"\",\"\",VLOOKUP(J351,漢字書き!$A$2:$O$506,8,0))","v":{"$error":"#N/A"}},{"$f":"IF(K$11=\"\",\"\",VLOOKUP(K351,漢字読み!$A$2:$O$506,8,0))","v":{"$error":"#N/A"}},{"$f":"IF(L$11=\"\",\"\",VLOOKUP(L351,漢字読み!$A$2:$O$506,8,0))","v":{"$error":"#N/A"}},{"$f":"IF(M$11=\"\",\"\",VLOOKUP(M351,漢字読み!$A$2:$O$506,8,0))","v":{"$error":"#N/A"}},{"$f":"IF(N$11=\"\",\"\",VLOOKUP(N351,漢字読み!$A$2:$O$506,8,0))","v":{"$error":"#N/A"}},{"$f":"IF(O$11=\"\",\"\",VLOOKUP(O351,漢字読み!$A$2:$O$506,8,0))","v":{"$error":"#N/A"}},{"$f":"IF(P$11=\"\",\"\",VLOOKUP(P351,漢字読み!$A$2:$O$506,8,0))","v":{"$error":"#N/A"}},{"$f":"IF(Q$11=\"\",\"\",VLOOKUP(Q351,漢字読み!$A$2:$O$506,8,0))","v":{"$error":"#N/A"}},{"$f":"IF(R$11=\"\",\"\",VLOOKUP(R351,漢字読み!$A$2:$O$506,8,0))","v":{"$error":"#N/A"}},{"$f":"IF(S$11=\"\",\"\",VLOOKUP(S351,漢字読み!$A$2:$O$506,8,0))","v":{"$error":"#N/A"}},{"$f":"IF(T$11=\"\",\"\",VLOOKUP(T351,漢字読み!$A$2:$O$506,8,0))","v":{"$error":"#N/A"}},null,"名前"]
[{"$f":"IF(A351=\"\",\"\",IF(VLOOKUP(A351,漢字書き!$A$2:$N$502,7,0)=0,\"\",VLOOKUP(A351,漢字書き!$A$2:$N$502,7,0)))","v":{"$error":"#N/A"}},{"$f":"IF(B351=\"\",\"\",IF(VLOOKUP(B351,漢字書き!$A$2:$N$502,7,0)=0,\"\",VLOOKUP(B351,漢字書き!$A$2:$N$502,7,0)))","v":{"$error":"#N/A"}},{"$f":"IF(C351=\"\",\"\",IF(VLOOKUP(C351,漢字書き!$A$2:$N$502,7,0)=0,\"\",VLOOKUP(C351,漢字書き!$A$2:$N$502,7,0)))","v":{"$error":"#N/A"}},{"$f":"IF(D351=\"\",\"\",IF(VLOOKUP(D351,漢字書き!$A$2:$N$502,7,0)=0,\"\",VLOOKUP(D351,漢字書き!$A$2:$N$502,7,0)))","v":{"$error":"#N/A"}},{"$f":"IF(E351=\"\",\"\",IF(VLOOKUP(E351,漢字書き!$A$2:$N$502,7,0)=0,\"\",VLOOKUP(E351,漢字書き!$A$2:$N$502,7,0)))","v":{"$error":"#N/A"}},{"$f":"IF(F351=\"\",\"\",IF(VLOOKUP(F351,漢字書き!$A$2:$N$502,7,0)=0,\"\",VLOOKUP(F351,漢字書き!$A$2:$N$502,7,0)))","v":{"$error":"#N/A"}},{"$f":"IF(G351=\"\",\"\",IF(VLOOKUP(G351,漢字書き!$A$2:$N$502,7,0)=0,\"\",VLOOKUP(G351,漢字書き!$A$2:$N$502,7,0)))","v":{"$error":"#N/A"}},{"$f":"IF(H351=\"\",\"\",IF(VLOOKUP(H351,漢字書き!$A$2:$N$502,7,0)=0,\"\",VLOOKUP(H351,漢字書き!$A$2:$N$502,7,0)))","v":{"$error":"#N/A"}},{"$f":"IF(I351=\"\",\"\",IF(VLOOKUP(I351,漢字書き!$A$2:$N$502,7,0)=0,\"\",VLOOKUP(I351,漢字書き!$A$2:$N$502,7,0)))","v":{"$error":"#N/A"}},{"$f":"IF(J351=\"\",\"\",IF(VLOOKUP(J351,漢字書き!$A$2:$N$502,7,0)=0,\"\",VLOOKUP(J351,漢字書き!$A$2:$N$502,7,0)))","v":{"$error":"#N/A"}},{"$f":"IF(K351=\"\",\"\",IF(VLOOKUP(K351,漢字読み!$A$2:$O$502,7,0)=0,\"\",VLOOKUP(K351,漢字読み!$A$2:$O$502,7,0)))","v":{"$error":"#N/A"}},{"$f":"IF(L351=\"\",\"\",IF(VLOOKUP(L351,漢字読み!$A$2:$O$502,7,0)=0,\"\",VLOOKUP(L351,漢字読み!$A$2:$O$502,7,0)))","v":{"$error":"#N/A"}},{"$f":"IF(M351=\"\",\"\",IF(VLOOKUP(M351,漢字読み!$A$2:$O$502,7,0)=0,\"\",VLOOKUP(M351,漢字読み!$A$2:$O$502,7,0)))","v":{"$error":"#N/A"}},{"$f":"IF(N351=\"\",\"\",IF(VLOOKUP(N351,漢字読み!$A$2:$O$502,7,0)=0,\"\",VLOOKUP(N351,漢字読み!$A$2:$O$502,7,0)))","v":{"$error":"#N/A"}},{"$f":"IF(O351=\"\",\"\",IF(VLOOKUP(O351,漢字読み!$A$2:$O$502,7,0)=0,\"\",VLOOKUP(O351,漢字読み!$A$2:$O$502,7,0)))","v":{"$error":"#N/A"}},{"$f":"IF(P351=\"\",\"\",IF(VLOOKUP(P351,漢字読み!$A$2:$O$502,7,0)=0,\"\",VLOOKUP(P351,漢字読み!$A$2:$O$502,7,0)))","v":{"$error":"#N/A"}},{"$f":"IF(Q351=\"\",\"\",IF(VLOOKUP(Q351,漢字読み!$A$2:$O$502,7,0)=0,\"\",VLOOKUP(Q351,漢字読み!$A$2:$O$502,7,0)))","v":{"$error":"#N/A"}},{"$f":"IF(R351=\"\",\"\",IF(VLOOKUP(R351,漢字読み!$A$2:$O$502,7,0)=0,\"\",VLOOKUP(R351,漢字読み!$A$2:$O$502,7,0)))","v":{"$error":"#N/A"}},{"$f":"IF(S351=\"\",\"\",IF(VLOOKUP(S351,漢字読み!$A$2:$O$502,7,0)=0,\"\",VLOOKUP(S351,漢字読み!$A$2:$O$502,7,0)))","v":{"$error":"#N/A"}},{"$f":"IF(T351=\"\",\"\",IF(VLOOKUP(T351,漢字読み!$A$2:$O$502,7,0)=0,\"\",VLOOKUP(T351,漢字読み!$A$2:$O$502,7,0)))","v":{"$error":"#N/A"}},null,null,"和歌山県教育委員会"]
[{"$f":"A346","v":0},{"$f":"B346","v":0},0,0,0,0,0,0,0,0,0,0,0,0,0,0,0,0,0,0]
["⑳","⑲","⑱","⑰","⑯","⑮","⑭","⑬","⑫","⑪","⑩","⑨","⑧","⑦","⑥","⑤","④","③","②","①","次の［　　　　］の部分の漢字には読みがなをひらがなで書き、カタカナは漢字に直しなさい。",15,"「漢字の博士検定試験」練習問題　"]
[{"$f":"IF(A356=\"\",\"\",VLOOKUP(A356,漢字書き!$A$2:$N$506,6,0))","v":{"$error":"#N/A"}},{"$f":"IF(B356=\"\",\"\",VLOOKUP(B356,漢字書き!$A$2:$N$506,6,0))","v":{"$error":"#N/A"}},{"$f":"IF(C356=\"\",\"\",VLOOKUP(C356,漢字書き!$A$2:$N$506,6,0))","v":{"$error":"#N/A"}},{"$f":"IF(D356=\"\",\"\",VLOOKUP(D356,漢字書き!$A$2:$N$506,6,0))","v":{"$error":"#N/A"}},{"$f":"IF(E356=\"\",\"\",VLOOKUP(E356,漢字書き!$A$2:$N$506,6,0))","v":{"$error":"#N/A"}},{"$f":"IF(F356=\"\",\"\",VLOOKUP(F356,漢字書き!$A$2:$N$506,6,0))","v":{"$error":"#N/A"}},{"$f":"IF(G356=\"\",\"\",VLOOKUP(G356,漢字書き!$A$2:$N$506,6,0))","v":{"$error":"#N/A"}},{"$f":"IF(H356=\"\",\"\",VLOOKUP(H356,漢字書き!$A$2:$N$506,6,0))","v":{"$error":"#N/A"}},{"$f":"IF(I356=\"\",\"\",VLOOKUP(I356,漢字書き!$A$2:$N$506,6,0))","v":{"$error":"#N/A"}},{"$f":"IF(J356=\"\",\"\",VLOOKUP(J356,漢字書き!$A$2:$N$506,6,0))","v":{"$error":"#N/A"}},{"$f":"IF(K356=\"\",\"\",VLOOKUP(K356,漢字読み!$A$2:$O$506,6,0))","v":{"$error":"#N/A"}},{"$f":"IF(L356=\"\",\"\",VLOOKUP(L356,漢字読み!$A$2:$O$506,6,0))","v":{"$error":"#N/A"}},{"$f":"IF(M356=\"\",\"\",VLOOKUP(M356,漢字読み!$A$2:$O$506,6,0))","v":{"$error":"#N/A"}},{"$f":"IF(N356=\"\",\"\",VLOOKUP(N356,漢字読み!$A$2:$O$506,6,0))","v":{"$error":"#N/A"}},{"$f":"IF(O356=\"\",\"\",VLOOKUP(O356,漢字読み!$A$2:$O$506,6,0))","v":{"$error":"#N/A"}},{"$f":"IF(P356=\"\",\"\",VLOOKUP(P356,漢字読み!$A$2:$O$506,6,0))","v":{"$error":"#N/A"}},{"$f":"IF(Q356=\"\",\"\",VLOOKUP(Q356,漢字読み!$A$2:$O$506,6,0))","v":{"$error":"#N/A"}},{"$f":"IF(R356=\"\",\"\",VLOOKUP(R356,漢字読み!$A$2:$O$506,6,0))","v":{"$error":"#N/A"}},{"$f":"IF(S356=\"\",\"\",VLOOKUP(S356,漢字読み!$A$2:$O$506,6,0))","v":{"$error":"#N/A"}},{"$f":"IF(T356=\"\",\"\",VLOOKUP(T356,漢字読み!$A$2:$O$506,6,0))","v":{"$error":"#N/A"}},null,"級"]
[{"$f":"IF(A$16=\"\",\"\",VLOOKUP(A356,漢字書き!$A$2:$O$506,8,0))","v":{"$error":"#N/A"}},{"$f":"IF(B$16=\"\",\"\",VLOOKUP(B356,漢字書き!$A$2:$O$506,8,0))","v":{"$error":"#N/A"}},{"$f":"IF(C$16=\"\",\"\",VLOOKUP(C356,漢字書き!$A$2:$O$506,8,0))","v":{"$error":"#N/A"}},{"$f":"IF(D$16=\"\",\"\",VLOOKUP(D356,漢字書き!$A$2:$O$506,8,0))","v":{"$error":"#N/A"}},{"$f":"IF(E$16=\"\",\"\",VLOOKUP(E356,漢字書き!$A$2:$O$506,8,0))","v":{"$error":"#N/A"}},{"$f":"IF(F$16=\"\",\"\",VLOOKUP(F356,漢字書き!$A$2:$O$506,8,0))","v":{"$error":"#N/A"}},{"$f":"IF(G$16=\"\",\"\",VLOOKUP(G356,漢字書き!$A$2:$O$506,8,0))","v":{"$error":"#N/A"}},{"$f":"IF(H$16=\"\",\"\",VLOOKUP(H356,漢字書き!$A$2:$O$506,8,0))","v":{"$error":"#N/A"}},{"$f":"IF(I$16=\"\",\"\",VLOOKUP(I356,漢字書き!$A$2:$O$506,8,0))","v":{"$error":"#N/A"}},{"$f":"IF(J$16=\"\",\"\",VLOOKUP(J356,漢字書き!$A$2:$O$506,8,0))","v":{"$error":"#N/A"}},{"$f":"IF(K$16=\"\",\"\",VLOOKUP(K356,漢字読み!$A$2:$O$506,8,0))","v":{"$error":"#N/A"}},{"$f":"IF(L$16=\"\",\"\",VLOOKUP(L356,漢字読み!$A$2:$O$506,8,0))","v":{"$error":"#N/A"}},{"$f":"IF(M$16=\"\",\"\",VLOOKUP(M356,漢字読み!$A$2:$O$506,8,0))","v":{"$error":"#N/A"}},{"$f":"IF(N$16=\"\",\"\",VLOOKUP(N356,漢字読み!$A$2:$O$506,8,0))","v":{"$error":"#N/A"}},{"$f":"IF(O$16=\"\",\"\",VLOOKUP(O356,漢字読み!$A$2:$O$506,8,0))","v":{"$error":"#N/A"}},{"$f":"IF(P$16=\"\",\"\",VLOOKUP(P356,漢字読み!$A$2:$O$506,8,0))","v":{"$error":"#N/A"}},{"$f":"IF(Q$16=\"\",\"\",VLOOKUP(Q356,漢字読み!$A$2:$O$506,8,0))","v":{"$error":"#N/A"}},{"$f":"IF(R$16=\"\",\"\",VLOOKUP(R356,漢字読み!$A$2:$O$506,8,0))","v":{"$error":"#N/A"}},{"$f":"IF(S$16=\"\",\"\",VLOOKUP(S356,漢字読み!$A$2:$O$506,8,0))","v":{"$error":"#N/A"}},{"$f":"IF(T$16=\"\",\"\",VLOOKUP(T356,漢字読み!$A$2:$O$506,8,0))","v":{"$error":"#N/A"}},null,"名前"]
[{"$f":"IF(A356=\"\",\"\",IF(VLOOKUP(A356,漢字書き!$A$2:$N$502,7,0)=0,\"\",VLOOKUP(A356,漢字書き!$A$2:$N$502,7,0)))","v":{"$error":"#N/A"}},{"$f":"IF(B356=\"\",\"\",IF(VLOOKUP(B356,漢字書き!$A$2:$N$502,7,0)=0,\"\",VLOOKUP(B356,漢字書き!$A$2:$N$502,7,0)))","v":{"$error":"#N/A"}},{"$f":"IF(C356=\"\",\"\",IF(VLOOKUP(C356,漢字書き!$A$2:$N$502,7,0)=0,\"\",VLOOKUP(C356,漢字書き!$A$2:$N$502,7,0)))","v":{"$error":"#N/A"}},{"$f":"IF(D356=\"\",\"\",IF(VLOOKUP(D356,漢字書き!$A$2:$N$502,7,0)=0,\"\",VLOOKUP(D356,漢字書き!$A$2:$N$502,7,0)))","v":{"$error":"#N/A"}},{"$f":"IF(E356=\"\",\"\",IF(VLOOKUP(E356,漢字書き!$A$2:$N$502,7,0)=0,\"\",VLOOKUP(E356,漢字書き!$A$2:$N$502,7,0)))","v":{"$error":"#N/A"}},{"$f":"IF(F356=\"\",\"\",IF(VLOOKUP(F356,漢字書き!$A$2:$N$502,7,0)=0,\"\",VLOOKUP(F356,漢字書き!$A$2:$N$502,7,0)))","v":{"$error":"#N/A"}},{"$f":"IF(G356=\"\",\"\",IF(VLOOKUP(G356,漢字書き!$A$2:$N$502,7,0)=0,\"\",VLOOKUP(G356,漢字書き!$A$2:$N$502,7,0)))","v":{"$error":"#N/A"}},{"$f":"IF(H356=\"\",\"\",IF(VLOOKUP(H356,漢字書き!$A$2:$N$502,7,0)=0,\"\",VLOOKUP(H356,漢字書き!$A$2:$N$502,7,0)))","v":{"$error":"#N/A"}},{"$f":"IF(I356=\"\",\"\",IF(VLOOKUP(I356,漢字書き!$A$2:$N$502,7,0)=0,\"\",VLOOKUP(I356,漢字書き!$A$2:$N$502,7,0)))","v":{"$error":"#N/A"}},{"$f":"IF(J356=\"\",\"\",IF(VLOOKUP(J356,漢字書き!$A$2:$N$502,7,0)=0,\"\",VLOOKUP(J356,漢字書き!$A$2:$N$502,7,0)))","v":{"$error":"#N/A"}},{"$f":"IF(K356=\"\",\"\",IF(VLOOKUP(K356,漢字読み!$A$2:$O$502,7,0)=0,\"\",VLOOKUP(K356,漢字読み!$A$2:$O$502,7,0)))","v":{"$error":"#N/A"}},{"$f":"IF(L356=\"\",\"\",IF(VLOOKUP(L356,漢字読み!$A$2:$O$502,7,0)=0,\"\",VLOOKUP(L356,漢字読み!$A$2:$O$502,7,0)))","v":{"$error":"#N/A"}},{"$f":"IF(M356=\"\",\"\",IF(VLOOKUP(M356,漢字読み!$A$2:$O$502,7,0)=0,\"\",VLOOKUP(M356,漢字読み!$A$2:$O$502,7,0)))","v":{"$error":"#N/A"}},{"$f":"IF(N356=\"\",\"\",IF(VLOOKUP(N356,漢字読み!$A$2:$O$502,7,0)=0,\"\",VLOOKUP(N356,漢字読み!$A$2:$O$502,7,0)))","v":{"$error":"#N/A"}},{"$f":"IF(O356=\"\",\"\",IF(VLOOKUP(O356,漢字読み!$A$2:$O$502,7,0)=0,\"\",VLOOKUP(O356,漢字読み!$A$2:$O$502,7,0)))","v":{"$error":"#N/A"}},{"$f":"IF(P356=\"\",\"\",IF(VLOOKUP(P356,漢字読み!$A$2:$O$502,7,0)=0,\"\",VLOOKUP(P356,漢字読み!$A$2:$O$502,7,0)))","v":{"$error":"#N/A"}},{"$f":"IF(Q356=\"\",\"\",IF(VLOOKUP(Q356,漢字読み!$A$2:$O$502,7,0)=0,\"\",VLOOKUP(Q356,漢字読み!$A$2:$O$502,7,0)))","v":{"$error":"#N/A"}},{"$f":"IF(R356=\"\",\"\",IF(VLOOKUP(R356,漢字読み!$A$2:$O$502,7,0)=0,\"\",VLOOKUP(R356,漢字読み!$A$2:$O$502,7,0)))","v":{"$error":"#N/A"}},{"$f":"IF(S356=\"\",\"\",IF(VLOOKUP(S356,漢字読み!$A$2:$O$502,7,0)=0,\"\",VLOOKUP(S356,漢字読み!$A$2:$O$502,7,0)))","v":{"$error":"#N/A"}},{"$f":"IF(T356=\"\",\"\",IF(VLOOKUP(T356,漢字読み!$A$2:$O$502,7,0)=0,\"\",VLOOKUP(T356,漢字読み!$A$2:$O$502,7,0)))","v":{"$error":"#N/A"}},null,null,"和歌山県教育委員会"]
[{"$f":"INDIRECT(\"'関数（書き）'!C\" & COLUMN(B$1)+SUM($AD$2:$AD362))","v":0},{"$f":"INDIRECT(\"'関数（書き）'!C\" & COLUMN(C$1)+SUM($AD$2:$AD362))","v":0},{"$f":"INDIRECT(\"'関数（書き）'!C\" & COLUMN(D$1)+SUM($AD$2:$AD362))","v":0},{"$f":"INDIRECT(\"'関数（書き）'!C\" & COLUMN(E$1)+SUM($AD$2:$AD362))","v":0},{"$f":"INDIRECT(\"'関数（書き）'!C\" & COLUMN(F$1)+SUM($AD$2:$AD362))","v":0},{"$f":"INDIRECT(\"'関数（書き）'!C\" & COLUMN(G$1)+SUM($AD$2:$AD362))","v":0},{"$f":"INDIRECT(\"'関数（書き）'!C\" & COLUMN(H$1)+SUM($AD$2:$AD362))","v":0},{"$f":"INDIRECT(\"'関数（書き）'!C\" & COLUMN(I$1)+SUM($AD$2:$AD362))","v":0},{"$f":"INDIRECT(\"'関数（書き）'!C\" & COLUMN(J$1)+SUM($AD$2:$AD362))","v":0},{"$f":"INDIRECT(\"'関数（書き）'!C\" & COLUMN(K$1)+SUM($AD$2:$AD362))","v":0},{"$f":"INDIRECT(\"'関数（読み）'!C\" & COLUMN(B$1)+SUM($AD$2:$AD362))","v":0},{"$f":"INDIRECT(\"'関数（読み）'!C\" & COLUMN(C$1)+SUM($AD$2:$AD362))","v":0},{"$f":"INDIRECT(\"'関数（読み）'!C\" & COLUMN(D$1)+SUM($AD$2:$AD362))","v":0},{"$f":"INDIRECT(\"'関数（読み）'!C\" & COLUMN(E$1)+SUM($AD$2:$AD362))","v":0},{"$f":"INDIRECT(\"'関数（読み）'!C\" & COLUMN(F$1)+SUM($AD$2:$AD362))","v":0},{"$f":"INDIRECT(\"'関数（読み）'!C\" & COLUMN(G$1)+SUM($AD$2:$AD362))","v":0},{"$f":"INDIRECT(\"'関数（読み）'!C\" & COLUMN(H$1)+SUM($AD$2:$AD362))","v":0},{"$f":"INDIRECT(\"'関数（読み）'!C\" & COLUMN(I$1)+SUM($AD$2:$AD362))","v":0},{"$f":"INDIRECT(\"'関数（読み）'!C\" & COLUMN(J$1)+SUM($AD$2:$AD362))","v":0},{"$f":"INDIRECT(\"'関数（読み）'!C\" & COLUMN(K$1)+SUM($AD$2:$AD362))","v":0}]
["⑳","⑲","⑱","⑰","⑯","⑮","⑭","⑬","⑫","⑪","⑩","⑨","⑧","⑦","⑥","⑤","④","③","②","①","次の［　　　　］の部分の漢字には読みがなをひらがなで書き、カタカナは漢字に直しなさい。",15,"「漢字の博士検定試験」練習問題　",null,null,null,null,null,"←",10,"問",{"$f":"AH347+1","v":361},"～",{"$f":"SUM($AD$2:$AD362)+10","v":370},"問まで",{"$f":"COUNTIF($A$1:$T$200,T363)","v":195}]
[{"$f":"IF(A361=\"\",\"\",VLOOKUP(A361,漢字書き!$A$2:$N$506,6,0))","v":{"$error":"#N/A"}},{"$f":"IF(B361=\"\",\"\",VLOOKUP(B361,漢字書き!$A$2:$N$506,6,0))","v":{"$error":"#N/A"}},{"$f":"IF(C361=\"\",\"\",VLOOKUP(C361,漢字書き!$A$2:$N$506,6,0))","v":{"$error":"#N/A"}},{"$f":"IF(D361=\"\",\"\",VLOOKUP(D361,漢字書き!$A$2:$N$506,6,0))","v":{"$error":"#N/A"}},{"$f":"IF(E361=\"\",\"\",VLOOKUP(E361,漢字書き!$A$2:$N$506,6,0))","v":{"$error":"#N/A"}},{"$f":"IF(F361=\"\",\"\",VLOOKUP(F361,漢字書き!$A$2:$N$506,6,0))","v":{"$error":"#N/A"}},{"$f":"IF(G361=\"\",\"\",VLOOKUP(G361,漢字書き!$A$2:$N$506,6,0))","v":{"$error":"#N/A"}},{"$f":"IF(H361=\"\",\"\",VLOOKUP(H361,漢字書き!$A$2:$N$506,6,0))","v":{"$error":"#N/A"}},{"$f":"IF(I361=\"\",\"\",VLOOKUP(I361,漢字書き!$A$2:$N$506,6,0))","v":{"$error":"#N/A"}},{"$f":"IF(J361=\"\",\"\",VLOOKUP(J361,漢字書き!$A$2:$N$506,6,0))","v":{"$error":"#N/A"}},{"$f":"IF(K361=\"\",\"\",VLOOKUP(K361,漢字読み!$A$2:$O$506,6,0))","v":{"$error":"#N/A"}},{"$f":"IF(L361=\"\",\"\",VLOOKUP(L361,漢字読み!$A$2:$O$506,6,0))","v":{"$error":"#N/A"}},{"$f":"IF(M361=\"\",\"\",VLOOKUP(M361,漢字読み!$A$2:$O$506,6,0))","v":{"$error":"#N/A"}},{"$f":"IF(N361=\"\",\"\",VLOOKUP(N361,漢字読み!$A$2:$O$506,6,0))","v":{"$error":"#N/A"}},{"$f":"IF(O361=\"\",\"\",VLOOKUP(O361,漢字読み!$A$2:$O$506,6,0))","v":{"$error":"#N/A"}},{"$f":"IF(P361=\"\",\"\",VLOOKUP(P361,漢字読み!$A$2:$O$506,6,0))","v":{"$error":"#N/A"}},{"$f":"IF(Q361=\"\",\"\",VLOOKUP(Q361,漢字読み!$A$2:$O$506,6,0))","v":{"$error":"#N/A"}},{"$f":"IF(R361=\"\",\"\",VLOOKUP(R361,漢字読み!$A$2:$O$506,6,0))","v":{"$error":"#N/A"}},{"$f":"IF(S361=\"\",\"\",VLOOKUP(S361,漢字読み!$A$2:$O$506,6,0))","v":{"$error":"#N/A"}},{"$f":"IF(T361=\"\",\"\",VLOOKUP(T361,漢字読み!$A$2:$O$506,6,0))","v":{"$error":"#N/A"}},null,"級"]
[null,null,null,null,null,null,null,null,null,null,null,null,null,null,null,null,null,null,null,null,null,"名前"]
[{"$f":"IF(A361=\"\",\"\",IF(VLOOKUP(A361,漢字書き!$A$2:$N$502,7,0)=0,\"\",VLOOKUP(A361,漢字書き!$A$2:$N$502,7,0)))","v":{"$error":"#N/A"}},{"$f":"IF(B361=\"\",\"\",IF(VLOOKUP(B361,漢字書き!$A$2:$N$502,7,0)=0,\"\",VLOOKUP(B361,漢字書き!$A$2:$N$502,7,0)))","v":{"$error":"#N/A"}},{"$f":"IF(C361=\"\",\"\",IF(VLOOKUP(C361,漢字書き!$A$2:$N$502,7,0)=0,\"\",VLOOKUP(C361,漢字書き!$A$2:$N$502,7,0)))","v":{"$error":"#N/A"}},{"$f":"IF(D361=\"\",\"\",IF(VLOOKUP(D361,漢字書き!$A$2:$N$502,7,0)=0,\"\",VLOOKUP(D361,漢字書き!$A$2:$N$502,7,0)))","v":{"$error":"#N/A"}},{"$f":"IF(E361=\"\",\"\",IF(VLOOKUP(E361,漢字書き!$A$2:$N$502,7,0)=0,\"\",VLOOKUP(E361,漢字書き!$A$2:$N$502,7,0)))","v":{"$error":"#N/A"}},{"$f":"IF(F361=\"\",\"\",IF(VLOOKUP(F361,漢字書き!$A$2:$N$502,7,0)=0,\"\",VLOOKUP(F361,漢字書き!$A$2:$N$502,7,0)))","v":{"$error":"#N/A"}},{"$f":"IF(G361=\"\",\"\",IF(VLOOKUP(G361,漢字書き!$A$2:$N$502,7,0)=0,\"\",VLOOKUP(G361,漢字書き!$A$2:$N$502,7,0)))","v":{"$error":"#N/A"}},{"$f":"IF(H361=\"\",\"\",IF(VLOOKUP(H361,漢字書き!$A$2:$N$502,7,0)=0,\"\",VLOOKUP(H361,漢字書き!$A$2:$N$502,7,0)))","v":{"$error":"#N/A"}},{"$f":"IF(I361=\"\",\"\",IF(VLOOKUP(I361,漢字書き!$A$2:$N$502,7,0)=0,\"\",VLOOKUP(I361,漢字書き!$A$2:$N$502,7,0)))","v":{"$error":"#N/A"}},{"$f":"IF(J361=\"\",\"\",IF(VLOOKUP(J361,漢字書き!$A$2:$N$502,7,0)=0,\"\",VLOOKUP(J361,漢字書き!$A$2:$N$502,7,0)))","v":{"$error":"#N/A"}},{"$f":"IF(K361=\"\",\"\",IF(VLOOKUP(K361,漢字読み!$A$2:$O$502,7,0)=0,\"\",VLOOKUP(K361,漢字読み!$A$2:$O$502,7,0)))","v":{"$error":"#N/A"}},{"$f":"IF(L361=\"\",\"\",IF(VLOOKUP(L361,漢字読み!$A$2:$O$502,7,0)=0,\"\",VLOOKUP(L361,漢字読み!$A$2:$O$502,7,0)))","v":{"$error":"#N/A"}},{"$f":"IF(M361=\"\",\"\",IF(VLOOKUP(M361,漢字読み!$A$2:$O$502,7,0)=0,\"\",VLOOKUP(M361,漢字読み!$A$2:$O$502,7,0)))","v":{"$error":"#N/A"}},{"$f":"IF(N361=\"\",\"\",IF(VLOOKUP(N361,漢字読み!$A$2:$O$502,7,0)=0,\"\",VLOOKUP(N361,漢字読み!$A$2:$O$502,7,0)))","v":{"$error":"#N/A"}},{"$f":"IF(O361=\"\",\"\",IF(VLOOKUP(O361,漢字読み!$A$2:$O$502,7,0)=0,\"\",VLOOKUP(O361,漢字読み!$A$2:$O$502,7,0)))","v":{"$error":"#N/A"}},{"$f":"IF(P361=\"\",\"\",IF(VLOOKUP(P361,漢字読み!$A$2:$O$502,7,0)=0,\"\",VLOOKUP(P361,漢字読み!$A$2:$O$502,7,0)))","v":{"$error":"#N/A"}},{"$f":"IF(Q361=\"\",\"\",IF(VLOOKUP(Q361,漢字読み!$A$2:$O$502,7,0)=0,\"\",VLOOKUP(Q361,漢字読み!$A$2:$O$502,7,0)))","v":{"$error":"#N/A"}},{"$f":"IF(R361=\"\",\"\",IF(VLOOKUP(R361,漢字読み!$A$2:$O$502,7,0)=0,\"\",VLOOKUP(R361,漢字読み!$A$2:$O$502,7,0)))","v":{"$error":"#N/A"}},{"$f":"IF(S361=\"\",\"\",IF(VLOOKUP(S361,漢字読み!$A$2:$O$502,7,0)=0,\"\",VLOOKUP(S361,漢字読み!$A$2:$O$502,7,0)))","v":{"$error":"#N/A"}},{"$f":"IF(T361=\"\",\"\",IF(VLOOKUP(T361,漢字読み!$A$2:$O$502,7,0)=0,\"\",VLOOKUP(T361,漢字読み!$A$2:$O$502,7,0)))","v":{"$error":"#N/A"}},null,null,"和歌山県教育委員会"]
[{"$f":"INDIRECT(\"'関数（書き）'!C\" & COLUMN(B$1)+SUM($AD$2:$AD367))","v":0},{"$f":"INDIRECT(\"'関数（書き）'!C\" & COLUMN(C$1)+SUM($AD$2:$AD367))","v":0},{"$f":"INDIRECT(\"'関数（書き）'!C\" & COLUMN(D$1)+SUM($AD$2:$AD367))","v":0},{"$f":"INDIRECT(\"'関数（書き）'!C\" & COLUMN(E$1)+SUM($AD$2:$AD367))","v":0},{"$f":"INDIRECT(\"'関数（書き）'!C\" & COLUMN(F$1)+SUM($AD$2:$AD367))","v":0},{"$f":"INDIRECT(\"'関数（書き）'!C\" & COLUMN(G$1)+SUM($AD$2:$AD367))","v":0},{"$f":"INDIRECT(\"'関数（書き）'!C\" & COLUMN(H$1)+SUM($AD$2:$AD367))","v":0},{"$f":"INDIRECT(\"'関数（書き）'!C\" & COLUMN(I$1)+SUM($AD$2:$AD367))","v":0},{"$f":"INDIRECT(\"'関数（書き）'!C\" & COLUMN(J$1)+SUM($AD$2:$AD367))","v":0},{"$f":"INDIRECT(\"'関数（書き）'!C\" & COLUMN(K$1)+SUM($AD$2:$AD367))","v":0},{"$f":"INDIRECT(\"'関数（読み）'!C\" & COLUMN(B$1)+SUM($AD$2:$AD367))","v":0},{"$f":"INDIRECT(\"'関数（読み）'!C\" & COLUMN(C$1)+SUM($AD$2:$AD367))","v":0},{"$f":"INDIRECT(\"'関数（読み）'!C\" & COLUMN(D$1)+SUM($AD$2:$AD367))","v":0},{"$f":"INDIRECT(\"'関数（読み）'!C\" & COLUMN(E$1)+SUM($AD$2:$AD367))","v":0},{"$f":"INDIRECT(\"'関数（読み）'!C\" & COLUMN(F$1)+SUM($AD$2:$AD367))","v":0},{"$f":"INDIRECT(\"'関数（読み）'!C\" & COLUMN(G$1)+SUM($AD$2:$AD367))","v":0},{"$f":"INDIRECT(\"'関数（読み）'!C\" & COLUMN(H$1)+SUM($AD$2:$AD367))","v":0},{"$f":"INDIRECT(\"'関数（読み）'!C\" & COLUMN(I$1)+SUM($AD$2:$AD367))","v":0},{"$f":"INDIRECT(\"'関数（読み）'!C\" & COLUMN(J$1)+SUM($AD$2:$AD367))","v":0},{"$f":"INDIRECT(\"'関数（読み）'!C\" & COLUMN(K$1)+SUM($AD$2:$AD367))","v":0}]
["⑳","⑲","⑱","⑰","⑯","⑮","⑭","⑬","⑫","⑪","⑩","⑨","⑧","⑦","⑥","⑤","④","③","②","①","次の［　　　　］の部分の漢字には読みがなをひらがなで書き、カタカナは漢字に直しなさい。",15,"「漢字の博士検定試験」練習問題　",null,null,null,null,null,"←",10,"問",{"$f":"AH362+1","v":371},"～",{"$f":"SUM($AD$2:$AD367)+10","v":380},"問まで",{"$f":"COUNTIF($A$1:$T$200,T368)","v":195}]
[{"$f":"IF(A366=\"\",\"\",VLOOKUP(A366,漢字書き!$A$2:$N$506,6,0))","v":{"$error":"#N/A"}},{"$f":"IF(B366=\"\",\"\",VLOOKUP(B366,漢字書き!$A$2:$N$506,6,0))","v":{"$error":"#N/A"}},{"$f":"IF(C366=\"\",\"\",VLOOKUP(C366,漢字書き!$A$2:$N$506,6,0))","v":{"$error":"#N/A"}},{"$f":"IF(D366=\"\",\"\",VLOOKUP(D366,漢字書き!$A$2:$N$506,6,0))","v":{"$error":"#N/A"}},{"$f":"IF(E366=\"\",\"\",VLOOKUP(E366,漢字書き!$A$2:$N$506,6,0))","v":{"$error":"#N/A"}},{"$f":"IF(F366=\"\",\"\",VLOOKUP(F366,漢字書き!$A$2:$N$506,6,0))","v":{"$error":"#N/A"}},{"$f":"IF(G366=\"\",\"\",VLOOKUP(G366,漢字書き!$A$2:$N$506,6,0))","v":{"$error":"#N/A"}},{"$f":"IF(H366=\"\",\"\",VLOOKUP(H366,漢字書き!$A$2:$N$506,6,0))","v":{"$error":"#N/A"}},{"$f":"IF(I366=\"\",\"\",VLOOKUP(I366,漢字書き!$A$2:$N$506,6,0))","v":{"$error":"#N/A"}},{"$f":"IF(J366=\"\",\"\",VLOOKUP(J366,漢字書き!$A$2:$N$506,6,0))","v":{"$error":"#N/A"}},{"$f":"IF(K366=\"\",\"\",VLOOKUP(K366,漢字読み!$A$2:$O$506,6,0))","v":{"$error":"#N/A"}},{"$f":"IF(L366=\"\",\"\",VLOOKUP(L366,漢字読み!$A$2:$O$506,6,0))","v":{"$error":"#N/A"}},{"$f":"IF(M366=\"\",\"\",VLOOKUP(M366,漢字読み!$A$2:$O$506,6,0))","v":{"$error":"#N/A"}},{"$f":"IF(N366=\"\",\"\",VLOOKUP(N366,漢字読み!$A$2:$O$506,6,0))","v":{"$error":"#N/A"}},{"$f":"IF(O366=\"\",\"\",VLOOKUP(O366,漢字読み!$A$2:$O$506,6,0))","v":{"$error":"#N/A"}},{"$f":"IF(P366=\"\",\"\",VLOOKUP(P366,漢字読み!$A$2:$O$506,6,0))","v":{"$error":"#N/A"}},{"$f":"IF(Q366=\"\",\"\",VLOOKUP(Q366,漢字読み!$A$2:$O$506,6,0))","v":{"$error":"#N/A"}},{"$f":"IF(R366=\"\",\"\",VLOOKUP(R366,漢字読み!$A$2:$O$506,6,0))","v":{"$error":"#N/A"}},{"$f":"IF(S366=\"\",\"\",VLOOKUP(S366,漢字読み!$A$2:$O$506,6,0))","v":{"$error":"#N/A"}},{"$f":"IF(T366=\"\",\"\",VLOOKUP(T366,漢字読み!$A$2:$O$506,6,0))","v":{"$error":"#N/A"}},null,"級"]
[null,null,null,null,null,null,null,null,null,null,null,null,null,null,null,null,null,null,null,null,null,"名前"]
[{"$f":"IF(A366=\"\",\"\",IF(VLOOKUP(A366,漢字書き!$A$2:$N$502,7,0)=0,\"\",VLOOKUP(A366,漢字書き!$A$2:$N$502,7,0)))","v":{"$error":"#N/A"}},{"$f":"IF(B366=\"\",\"\",IF(VLOOKUP(B366,漢字書き!$A$2:$N$502,7,0)=0,\"\",VLOOKUP(B366,漢字書き!$A$2:$N$502,7,0)))","v":{"$error":"#N/A"}},{"$f":"IF(C366=\"\",\"\",IF(VLOOKUP(C366,漢字書き!$A$2:$N$502,7,0)=0,\"\",VLOOKUP(C366,漢字書き!$A$2:$N$502,7,0)))","v":{"$error":"#N/A"}},{"$f":"IF(D366=\"\",\"\",IF(VLOOKUP(D366,漢字書き!$A$2:$N$502,7,0)=0,\"\",VLOOKUP(D366,漢字書き!$A$2:$N$502,7,0)))","v":{"$error":"#N/A"}},{"$f":"IF(E366=\"\",\"\",IF(VLOOKUP(E366,漢字書き!$A$2:$N$502,7,0)=0,\"\",VLOOKUP(E366,漢字書き!$A$2:$N$502,7,0)))","v":{"$error":"#N/A"}},{"$f":"IF(F366=\"\",\"\",IF(VLOOKUP(F366,漢字書き!$A$2:$N$502,7,0)=0,\"\",VLOOKUP(F366,漢字書き!$A$2:$N$502,7,0)))","v":{"$error":"#N/A"}},{"$f":"IF(G366=\"\",\"\",IF(VLOOKUP(G366,漢字書き!$A$2:$N$502,7,0)=0,\"\",VLOOKUP(G366,漢字書き!$A$2:$N$502,7,0)))","v":{"$error":"#N/A"}},{"$f":"IF(H366=\"\",\"\",IF(VLOOKUP(H366,漢字書き!$A$2:$N$502,7,0)=0,\"\",VLOOKUP(H366,漢字書き!$A$2:$N$502,7,0)))","v":{"$error":"#N/A"}},{"$f":"IF(I366=\"\",\"\",IF(VLOOKUP(I366,漢字書き!$A$2:$N$502,7,0)=0,\"\",VLOOKUP(I366,漢字書き!$A$2:$N$502,7,0)))","v":{"$error":"#N/A"}},{"$f":"IF(J366=\"\",\"\",IF(VLOOKUP(J366,漢字書き!$A$2:$N$502,7,0)=0,\"\",VLOOKUP(J366,漢字書き!$A$2:$N$502,7,0)))","v":{"$error":"#N/A"}},{"$f":"IF(K366=\"\",\"\",IF(VLOOKUP(K366,漢字読み!$A$2:$O$502,7,0)=0,\"\",VLOOKUP(K366,漢字読み!$A$2:$O$502,7,0)))","v":{"$error":"#N/A"}},{"$f":"IF(L366=\"\",\"\",IF(VLOOKUP(L366,漢字読み!$A$2:$O$502,7,0)=0,\"\",VLOOKUP(L366,漢字読み!$A$2:$O$502,7,0)))","v":{"$error":"#N/A"}},{"$f":"IF(M366=\"\",\"\",IF(VLOOKUP(M366,漢字読み!$A$2:$O$502,7,0)=0,\"\",VLOOKUP(M366,漢字読み!$A$2:$O$502,7,0)))","v":{"$error":"#N/A"}},{"$f":"IF(N366=\"\",\"\",IF(VLOOKUP(N366,漢字読み!$A$2:$O$502,7,0)=0,\"\",VLOOKUP(N366,漢字読み!$A$2:$O$502,7,0)))","v":{"$error":"#N/A"}},{"$f":"IF(O366=\"\",\"\",IF(VLOOKUP(O366,漢字読み!$A$2:$O$502,7,0)=0,\"\",VLOOKUP(O366,漢字読み!$A$2:$O$502,7,0)))","v":{"$error":"#N/A"}},{"$f":"IF(P366=\"\",\"\",IF(VLOOKUP(P366,漢字読み!$A$2:$O$502,7,0)=0,\"\",VLOOKUP(P366,漢字読み!$A$2:$O$502,7,0)))","v":{"$error":"#N/A"}},{"$f":"IF(Q366=\"\",\"\",IF(VLOOKUP(Q366,漢字読み!$A$2:$O$502,7,0)=0,\"\",VLOOKUP(Q366,漢字読み!$A$2:$O$502,7,0)))","v":{"$error":"#N/A"}},{"$f":"IF(R366=\"\",\"\",IF(VLOOKUP(R366,漢字読み!$A$2:$O$502,7,0)=0,\"\",VLOOKUP(R366,漢字読み!$A$2:$O$502,7,0)))","v":{"$error":"#N/A"}},{"$f":"IF(S366=\"\",\"\",IF(VLOOKUP(S366,漢字読み!$A$2:$O$502,7,0)=0,\"\",VLOOKUP(S366,漢字読み!$A$2:$O$502,7,0)))","v":{"$error":"#N/A"}},{"$f":"IF(T366=\"\",\"\",IF(VLOOKUP(T366,漢字読み!$A$2:$O$502,7,0)=0,\"\",VLOOKUP(T366,漢字読み!$A$2:$O$502,7,0)))","v":{"$error":"#N/A"}},null,null,"和歌山県教育委員会"]
[{"$f":"A361","v":0},{"$f":"B361","v":0},0,0,0,0,0,0,0,0,0,0,0,0,0,0,0,0,0,0]
["⑳","⑲","⑱","⑰","⑯","⑮","⑭","⑬","⑫","⑪","⑩","⑨","⑧","⑦","⑥","⑤","④","③","②","①","次の［　　　　］の部分の漢字には読みがなをひらがなで書き、カタカナは漢字に直しなさい。",15,"「漢字の博士検定試験」練習問題　"]
[{"$f":"IF(A371=\"\",\"\",VLOOKUP(A371,漢字書き!$A$2:$N$506,6,0))","v":{"$error":"#N/A"}},{"$f":"IF(B371=\"\",\"\",VLOOKUP(B371,漢字書き!$A$2:$N$506,6,0))","v":{"$error":"#N/A"}},{"$f":"IF(C371=\"\",\"\",VLOOKUP(C371,漢字書き!$A$2:$N$506,6,0))","v":{"$error":"#N/A"}},{"$f":"IF(D371=\"\",\"\",VLOOKUP(D371,漢字書き!$A$2:$N$506,6,0))","v":{"$error":"#N/A"}},{"$f":"IF(E371=\"\",\"\",VLOOKUP(E371,漢字書き!$A$2:$N$506,6,0))","v":{"$error":"#N/A"}},{"$f":"IF(F371=\"\",\"\",VLOOKUP(F371,漢字書き!$A$2:$N$506,6,0))","v":{"$error":"#N/A"}},{"$f":"IF(G371=\"\",\"\",VLOOKUP(G371,漢字書き!$A$2:$N$506,6,0))","v":{"$error":"#N/A"}},{"$f":"IF(H371=\"\",\"\",VLOOKUP(H371,漢字書き!$A$2:$N$506,6,0))","v":{"$error":"#N/A"}},{"$f":"IF(I371=\"\",\"\",VLOOKUP(I371,漢字書き!$A$2:$N$506,6,0))","v":{"$error":"#N/A"}},{"$f":"IF(J371=\"\",\"\",VLOOKUP(J371,漢字書き!$A$2:$N$506,6,0))","v":{"$error":"#N/A"}},{"$f":"IF(K371=\"\",\"\",VLOOKUP(K371,漢字読み!$A$2:$O$506,6,0))","v":{"$error":"#N/A"}},{"$f":"IF(L371=\"\",\"\",VLOOKUP(L371,漢字読み!$A$2:$O$506,6,0))","v":{"$error":"#N/A"}},{"$f":"IF(M371=\"\",\"\",VLOOKUP(M371,漢字読み!$A$2:$O$506,6,0))","v":{"$error":"#N/A"}},{"$f":"IF(N371=\"\",\"\",VLOOKUP(N371,漢字読み!$A$2:$O$506,6,0))","v":{"$error":"#N/A"}},{"$f":"IF(O371=\"\",\"\",VLOOKUP(O371,漢字読み!$A$2:$O$506,6,0))","v":{"$error":"#N/A"}},{"$f":"IF(P371=\"\",\"\",VLOOKUP(P371,漢字読み!$A$2:$O$506,6,0))","v":{"$error":"#N/A"}},{"$f":"IF(Q371=\"\",\"\",VLOOKUP(Q371,漢字読み!$A$2:$O$506,6,0))","v":{"$error":"#N/A"}},{"$f":"IF(R371=\"\",\"\",VLOOKUP(R371,漢字読み!$A$2:$O$506,6,0))","v":{"$error":"#N/A"}},{"$f":"IF(S371=\"\",\"\",VLOOKUP(S371,漢字読み!$A$2:$O$506,6,0))","v":{"$error":"#N/A"}},{"$f":"IF(T371=\"\",\"\",VLOOKUP(T371,漢字読み!$A$2:$O$506,6,0))","v":{"$error":"#N/A"}},null,"級"]
[{"$f":"IF(A$11=\"\",\"\",VLOOKUP(A371,漢字書き!$A$2:$O$506,8,0))","v":{"$error":"#N/A"}},{"$f":"IF(B$11=\"\",\"\",VLOOKUP(B371,漢字書き!$A$2:$O$506,8,0))","v":{"$error":"#N/A"}},{"$f":"IF(C$11=\"\",\"\",VLOOKUP(C371,漢字書き!$A$2:$O$506,8,0))","v":{"$error":"#N/A"}},{"$f":"IF(D$11=\"\",\"\",VLOOKUP(D371,漢字書き!$A$2:$O$506,8,0))","v":{"$error":"#N/A"}},{"$f":"IF(E$11=\"\",\"\",VLOOKUP(E371,漢字書き!$A$2:$O$506,8,0))","v":{"$error":"#N/A"}},{"$f":"IF(F$11=\"\",\"\",VLOOKUP(F371,漢字書き!$A$2:$O$506,8,0))","v":{"$error":"#N/A"}},{"$f":"IF(G$11=\"\",\"\",VLOOKUP(G371,漢字書き!$A$2:$O$506,8,0))","v":{"$error":"#N/A"}},{"$f":"IF(H$11=\"\",\"\",VLOOKUP(H371,漢字書き!$A$2:$O$506,8,0))","v":{"$error":"#N/A"}},{"$f":"IF(I$11=\"\",\"\",VLOOKUP(I371,漢字書き!$A$2:$O$506,8,0))","v":{"$error":"#N/A"}},{"$f":"IF(J$11=\"\",\"\",VLOOKUP(J371,漢字書き!$A$2:$O$506,8,0))","v":{"$error":"#N/A"}},{"$f":"IF(K$11=\"\",\"\",VLOOKUP(K371,漢字読み!$A$2:$O$506,8,0))","v":{"$error":"#N/A"}},{"$f":"IF(L$11=\"\",\"\",VLOOKUP(L371,漢字読み!$A$2:$O$506,8,0))","v":{"$error":"#N/A"}},{"$f":"IF(M$11=\"\",\"\",VLOOKUP(M371,漢字読み!$A$2:$O$506,8,0))","v":{"$error":"#N/A"}},{"$f":"IF(N$11=\"\",\"\",VLOOKUP(N371,漢字読み!$A$2:$O$506,8,0))","v":{"$error":"#N/A"}},{"$f":"IF(O$11=\"\",\"\",VLOOKUP(O371,漢字読み!$A$2:$O$506,8,0))","v":{"$error":"#N/A"}},{"$f":"IF(P$11=\"\",\"\",VLOOKUP(P371,漢字読み!$A$2:$O$506,8,0))","v":{"$error":"#N/A"}},{"$f":"IF(Q$11=\"\",\"\",VLOOKUP(Q371,漢字読み!$A$2:$O$506,8,0))","v":{"$error":"#N/A"}},{"$f":"IF(R$11=\"\",\"\",VLOOKUP(R371,漢字読み!$A$2:$O$506,8,0))","v":{"$error":"#N/A"}},{"$f":"IF(S$11=\"\",\"\",VLOOKUP(S371,漢字読み!$A$2:$O$506,8,0))","v":{"$error":"#N/A"}},{"$f":"IF(T$11=\"\",\"\",VLOOKUP(T371,漢字読み!$A$2:$O$506,8,0))","v":{"$error":"#N/A"}},null,"名前"]
[{"$f":"IF(A371=\"\",\"\",IF(VLOOKUP(A371,漢字書き!$A$2:$N$502,7,0)=0,\"\",VLOOKUP(A371,漢字書き!$A$2:$N$502,7,0)))","v":{"$error":"#N/A"}},{"$f":"IF(B371=\"\",\"\",IF(VLOOKUP(B371,漢字書き!$A$2:$N$502,7,0)=0,\"\",VLOOKUP(B371,漢字書き!$A$2:$N$502,7,0)))","v":{"$error":"#N/A"}},{"$f":"IF(C371=\"\",\"\",IF(VLOOKUP(C371,漢字書き!$A$2:$N$502,7,0)=0,\"\",VLOOKUP(C371,漢字書き!$A$2:$N$502,7,0)))","v":{"$error":"#N/A"}},{"$f":"IF(D371=\"\",\"\",IF(VLOOKUP(D371,漢字書き!$A$2:$N$502,7,0)=0,\"\",VLOOKUP(D371,漢字書き!$A$2:$N$502,7,0)))","v":{"$error":"#N/A"}},{"$f":"IF(E371=\"\",\"\",IF(VLOOKUP(E371,漢字書き!$A$2:$N$502,7,0)=0,\"\",VLOOKUP(E371,漢字書き!$A$2:$N$502,7,0)))","v":{"$error":"#N/A"}},{"$f":"IF(F371=\"\",\"\",IF(VLOOKUP(F371,漢字書き!$A$2:$N$502,7,0)=0,\"\",VLOOKUP(F371,漢字書き!$A$2:$N$502,7,0)))","v":{"$error":"#N/A"}},{"$f":"IF(G371=\"\",\"\",IF(VLOOKUP(G371,漢字書き!$A$2:$N$502,7,0)=0,\"\",VLOOKUP(G371,漢字書き!$A$2:$N$502,7,0)))","v":{"$error":"#N/A"}},{"$f":"IF(H371=\"\",\"\",IF(VLOOKUP(H371,漢字書き!$A$2:$N$502,7,0)=0,\"\",VLOOKUP(H371,漢字書き!$A$2:$N$502,7,0)))","v":{"$error":"#N/A"}},{"$f":"IF(I371=\"\",\"\",IF(VLOOKUP(I371,漢字書き!$A$2:$N$502,7,0)=0,\"\",VLOOKUP(I371,漢字書き!$A$2:$N$502,7,0)))","v":{"$error":"#N/A"}},{"$f":"IF(J371=\"\",\"\",IF(VLOOKUP(J371,漢字書き!$A$2:$N$502,7,0)=0,\"\",VLOOKUP(J371,漢字書き!$A$2:$N$502,7,0)))","v":{"$error":"#N/A"}},{"$f":"IF(K371=\"\",\"\",IF(VLOOKUP(K371,漢字読み!$A$2:$O$502,7,0)=0,\"\",VLOOKUP(K371,漢字読み!$A$2:$O$502,7,0)))","v":{"$error":"#N/A"}},{"$f":"IF(L371=\"\",\"\",IF(VLOOKUP(L371,漢字読み!$A$2:$O$502,7,0)=0,\"\",VLOOKUP(L371,漢字読み!$A$2:$O$502,7,0)))","v":{"$error":"#N/A"}},{"$f":"IF(M371=\"\",\"\",IF(VLOOKUP(M371,漢字読み!$A$2:$O$502,7,0)=0,\"\",VLOOKUP(M371,漢字読み!$A$2:$O$502,7,0)))","v":{"$error":"#N/A"}},{"$f":"IF(N371=\"\",\"\",IF(VLOOKUP(N371,漢字読み!$A$2:$O$502,7,0)=0,\"\",VLOOKUP(N371,漢字読み!$A$2:$O$502,7,0)))","v":{"$error":"#N/A"}},{"$f":"IF(O371=\"\",\"\",IF(VLOOKUP(O371,漢字読み!$A$2:$O$502,7,0)=0,\"\",VLOOKUP(O371,漢字読み!$A$2:$O$502,7,0)))","v":{"$error":"#N/A"}},{"$f":"IF(P371=\"\",\"\",IF(VLOOKUP(P371,漢字読み!$A$2:$O$502,7,0)=0,\"\",VLOOKUP(P371,漢字読み!$A$2:$O$502,7,0)))","v":{"$error":"#N/A"}},{"$f":"IF(Q371=\"\",\"\",IF(VLOOKUP(Q371,漢字読み!$A$2:$O$502,7,0)=0,\"\",VLOOKUP(Q371,漢字読み!$A$2:$O$502,7,0)))","v":{"$error":"#N/A"}},{"$f":"IF(R371=\"\",\"\",IF(VLOOKUP(R371,漢字読み!$A$2:$O$502,7,0)=0,\"\",VLOOKUP(R371,漢字読み!$A$2:$O$502,7,0)))","v":{"$error":"#N/A"}},{"$f":"IF(S371=\"\",\"\",IF(VLOOKUP(S371,漢字読み!$A$2:$O$502,7,0)=0,\"\",VLOOKUP(S371,漢字読み!$A$2:$O$502,7,0)))","v":{"$error":"#N/A"}},{"$f":"IF(T371=\"\",\"\",IF(VLOOKUP(T371,漢字読み!$A$2:$O$502,7,0)=0,\"\",VLOOKUP(T371,漢字読み!$A$2:$O$502,7,0)))","v":{"$error":"#N/A"}},null,null,"和歌山県教育委員会"]
[{"$f":"A366","v":0},{"$f":"B366","v":0},0,0,0,0,0,0,0,0,0,0,0,0,0,0,0,0,0,0]
["⑳","⑲","⑱","⑰","⑯","⑮","⑭","⑬","⑫","⑪","⑩","⑨","⑧","⑦","⑥","⑤","④","③","②","①","次の［　　　　］の部分の漢字には読みがなをひらがなで書き、カタカナは漢字に直しなさい。",15,"「漢字の博士検定試験」練習問題　"]
[{"$f":"IF(A376=\"\",\"\",VLOOKUP(A376,漢字書き!$A$2:$N$506,6,0))","v":{"$error":"#N/A"}},{"$f":"IF(B376=\"\",\"\",VLOOKUP(B376,漢字書き!$A$2:$N$506,6,0))","v":{"$error":"#N/A"}},{"$f":"IF(C376=\"\",\"\",VLOOKUP(C376,漢字書き!$A$2:$N$506,6,0))","v":{"$error":"#N/A"}},{"$f":"IF(D376=\"\",\"\",VLOOKUP(D376,漢字書き!$A$2:$N$506,6,0))","v":{"$error":"#N/A"}},{"$f":"IF(E376=\"\",\"\",VLOOKUP(E376,漢字書き!$A$2:$N$506,6,0))","v":{"$error":"#N/A"}},{"$f":"IF(F376=\"\",\"\",VLOOKUP(F376,漢字書き!$A$2:$N$506,6,0))","v":{"$error":"#N/A"}},{"$f":"IF(G376=\"\",\"\",VLOOKUP(G376,漢字書き!$A$2:$N$506,6,0))","v":{"$error":"#N/A"}},{"$f":"IF(H376=\"\",\"\",VLOOKUP(H376,漢字書き!$A$2:$N$506,6,0))","v":{"$error":"#N/A"}},{"$f":"IF(I376=\"\",\"\",VLOOKUP(I376,漢字書き!$A$2:$N$506,6,0))","v":{"$error":"#N/A"}},{"$f":"IF(J376=\"\",\"\",VLOOKUP(J376,漢字書き!$A$2:$N$506,6,0))","v":{"$error":"#N/A"}},{"$f":"IF(K376=\"\",\"\",VLOOKUP(K376,漢字読み!$A$2:$O$506,6,0))","v":{"$error":"#N/A"}},{"$f":"IF(L376=\"\",\"\",VLOOKUP(L376,漢字読み!$A$2:$O$506,6,0))","v":{"$error":"#N/A"}},{"$f":"IF(M376=\"\",\"\",VLOOKUP(M376,漢字読み!$A$2:$O$506,6,0))","v":{"$error":"#N/A"}},{"$f":"IF(N376=\"\",\"\",VLOOKUP(N376,漢字読み!$A$2:$O$506,6,0))","v":{"$error":"#N/A"}},{"$f":"IF(O376=\"\",\"\",VLOOKUP(O376,漢字読み!$A$2:$O$506,6,0))","v":{"$error":"#N/A"}},{"$f":"IF(P376=\"\",\"\",VLOOKUP(P376,漢字読み!$A$2:$O$506,6,0))","v":{"$error":"#N/A"}},{"$f":"IF(Q376=\"\",\"\",VLOOKUP(Q376,漢字読み!$A$2:$O$506,6,0))","v":{"$error":"#N/A"}},{"$f":"IF(R376=\"\",\"\",VLOOKUP(R376,漢字読み!$A$2:$O$506,6,0))","v":{"$error":"#N/A"}},{"$f":"IF(S376=\"\",\"\",VLOOKUP(S376,漢字読み!$A$2:$O$506,6,0))","v":{"$error":"#N/A"}},{"$f":"IF(T376=\"\",\"\",VLOOKUP(T376,漢字読み!$A$2:$O$506,6,0))","v":{"$error":"#N/A"}},null,"級"]
[{"$f":"IF(A$16=\"\",\"\",VLOOKUP(A376,漢字書き!$A$2:$O$506,8,0))","v":{"$error":"#N/A"}},{"$f":"IF(B$16=\"\",\"\",VLOOKUP(B376,漢字書き!$A$2:$O$506,8,0))","v":{"$error":"#N/A"}},{"$f":"IF(C$16=\"\",\"\",VLOOKUP(C376,漢字書き!$A$2:$O$506,8,0))","v":{"$error":"#N/A"}},{"$f":"IF(D$16=\"\",\"\",VLOOKUP(D376,漢字書き!$A$2:$O$506,8,0))","v":{"$error":"#N/A"}},{"$f":"IF(E$16=\"\",\"\",VLOOKUP(E376,漢字書き!$A$2:$O$506,8,0))","v":{"$error":"#N/A"}},{"$f":"IF(F$16=\"\",\"\",VLOOKUP(F376,漢字書き!$A$2:$O$506,8,0))","v":{"$error":"#N/A"}},{"$f":"IF(G$16=\"\",\"\",VLOOKUP(G376,漢字書き!$A$2:$O$506,8,0))","v":{"$error":"#N/A"}},{"$f":"IF(H$16=\"\",\"\",VLOOKUP(H376,漢字書き!$A$2:$O$506,8,0))","v":{"$error":"#N/A"}},{"$f":"IF(I$16=\"\",\"\",VLOOKUP(I376,漢字書き!$A$2:$O$506,8,0))","v":{"$error":"#N/A"}},{"$f":"IF(J$16=\"\",\"\",VLOOKUP(J376,漢字書き!$A$2:$O$506,8,0))","v":{"$error":"#N/A"}},{"$f":"IF(K$16=\"\",\"\",VLOOKUP(K376,漢字読み!$A$2:$O$506,8,0))","v":{"$error":"#N/A"}},{"$f":"IF(L$16=\"\",\"\",VLOOKUP(L376,漢字読み!$A$2:$O$506,8,0))","v":{"$error":"#N/A"}},{"$f":"IF(M$16=\"\",\"\",VLOOKUP(M376,漢字読み!$A$2:$O$506,8,0))","v":{"$error":"#N/A"}},{"$f":"IF(N$16=\"\",\"\",VLOOKUP(N376,漢字読み!$A$2:$O$506,8,0))","v":{"$error":"#N/A"}},{"$f":"IF(O$16=\"\",\"\",VLOOKUP(O376,漢字読み!$A$2:$O$506,8,0))","v":{"$error":"#N/A"}},{"$f":"IF(P$16=\"\",\"\",VLOOKUP(P376,漢字読み!$A$2:$O$506,8,0))","v":{"$error":"#N/A"}},{"$f":"IF(Q$16=\"\",\"\",VLOOKUP(Q376,漢字読み!$A$2:$O$506,8,0))","v":{"$error":"#N/A"}},{"$f":"IF(R$16=\"\",\"\",VLOOKUP(R376,漢字読み!$A$2:$O$506,8,0))","v":{"$error":"#N/A"}},{"$f":"IF(S$16=\"\",\"\",VLOOKUP(S376,漢字読み!$A$2:$O$506,8,0))","v":{"$error":"#N/A"}},{"$f":"IF(T$16=\"\",\"\",VLOOKUP(T376,漢字読み!$A$2:$O$506,8,0))","v":{"$error":"#N/A"}},null,"名前"]
[{"$f":"IF(A376=\"\",\"\",IF(VLOOKUP(A376,漢字書き!$A$2:$N$502,7,0)=0,\"\",VLOOKUP(A376,漢字書き!$A$2:$N$502,7,0)))","v":{"$error":"#N/A"}},{"$f":"IF(B376=\"\",\"\",IF(VLOOKUP(B376,漢字書き!$A$2:$N$502,7,0)=0,\"\",VLOOKUP(B376,漢字書き!$A$2:$N$502,7,0)))","v":{"$error":"#N/A"}},{"$f":"IF(C376=\"\",\"\",IF(VLOOKUP(C376,漢字書き!$A$2:$N$502,7,0)=0,\"\",VLOOKUP(C376,漢字書き!$A$2:$N$502,7,0)))","v":{"$error":"#N/A"}},{"$f":"IF(D376=\"\",\"\",IF(VLOOKUP(D376,漢字書き!$A$2:$N$502,7,0)=0,\"\",VLOOKUP(D376,漢字書き!$A$2:$N$502,7,0)))","v":{"$error":"#N/A"}},{"$f":"IF(E376=\"\",\"\",IF(VLOOKUP(E376,漢字書き!$A$2:$N$502,7,0)=0,\"\",VLOOKUP(E376,漢字書き!$A$2:$N$502,7,0)))","v":{"$error":"#N/A"}},{"$f":"IF(F376=\"\",\"\",IF(VLOOKUP(F376,漢字書き!$A$2:$N$502,7,0)=0,\"\",VLOOKUP(F376,漢字書き!$A$2:$N$502,7,0)))","v":{"$error":"#N/A"}},{"$f":"IF(G376=\"\",\"\",IF(VLOOKUP(G376,漢字書き!$A$2:$N$502,7,0)=0,\"\",VLOOKUP(G376,漢字書き!$A$2:$N$502,7,0)))","v":{"$error":"#N/A"}},{"$f":"IF(H376=\"\",\"\",IF(VLOOKUP(H376,漢字書き!$A$2:$N$502,7,0)=0,\"\",VLOOKUP(H376,漢字書き!$A$2:$N$502,7,0)))","v":{"$error":"#N/A"}},{"$f":"IF(I376=\"\",\"\",IF(VLOOKUP(I376,漢字書き!$A$2:$N$502,7,0)=0,\"\",VLOOKUP(I376,漢字書き!$A$2:$N$502,7,0)))","v":{"$error":"#N/A"}},{"$f":"IF(J376=\"\",\"\",IF(VLOOKUP(J376,漢字書き!$A$2:$N$502,7,0)=0,\"\",VLOOKUP(J376,漢字書き!$A$2:$N$502,7,0)))","v":{"$error":"#N/A"}},{"$f":"IF(K376=\"\",\"\",IF(VLOOKUP(K376,漢字読み!$A$2:$O$502,7,0)=0,\"\",VLOOKUP(K376,漢字読み!$A$2:$O$502,7,0)))","v":{"$error":"#N/A"}},{"$f":"IF(L376=\"\",\"\",IF(VLOOKUP(L376,漢字読み!$A$2:$O$502,7,0)=0,\"\",VLOOKUP(L376,漢字読み!$A$2:$O$502,7,0)))","v":{"$error":"#N/A"}},{"$f":"IF(M376=\"\",\"\",IF(VLOOKUP(M376,漢字読み!$A$2:$O$502,7,0)=0,\"\",VLOOKUP(M376,漢字読み!$A$2:$O$502,7,0)))","v":{"$error":"#N/A"}},{"$f":"IF(N376=\"\",\"\",IF(VLOOKUP(N376,漢字読み!$A$2:$O$502,7,0)=0,\"\",VLOOKUP(N376,漢字読み!$A$2:$O$502,7,0)))","v":{"$error":"#N/A"}},{"$f":"IF(O376=\"\",\"\",IF(VLOOKUP(O376,漢字読み!$A$2:$O$502,7,0)=0,\"\",VLOOKUP(O376,漢字読み!$A$2:$O$502,7,0)))","v":{"$error":"#N/A"}},{"$f":"IF(P376=\"\",\"\",IF(VLOOKUP(P376,漢字読み!$A$2:$O$502,7,0)=0,\"\",VLOOKUP(P376,漢字読み!$A$2:$O$502,7,0)))","v":{"$error":"#N/A"}},{"$f":"IF(Q376=\"\",\"\",IF(VLOOKUP(Q376,漢字読み!$A$2:$O$502,7,0)=0,\"\",VLOOKUP(Q376,漢字読み!$A$2:$O$502,7,0)))","v":{"$error":"#N/A"}},{"$f":"IF(R376=\"\",\"\",IF(VLOOKUP(R376,漢字読み!$A$2:$O$502,7,0)=0,\"\",VLOOKUP(R376,漢字読み!$A$2:$O$502,7,0)))","v":{"$error":"#N/A"}},{"$f":"IF(S376=\"\",\"\",IF(VLOOKUP(S376,漢字読み!$A$2:$O$502,7,0)=0,\"\",VLOOKUP(S376,漢字読み!$A$2:$O$502,7,0)))","v":{"$error":"#N/A"}},{"$f":"IF(T376=\"\",\"\",IF(VLOOKUP(T376,漢字読み!$A$2:$O$502,7,0)=0,\"\",VLOOKUP(T376,漢字読み!$A$2:$O$502,7,0)))","v":{"$error":"#N/A"}},null,null,"和歌山県教育委員会"]
[{"$f":"INDIRECT(\"'関数（書き）'!C\" & COLUMN(B$1)+SUM($AD$2:$AD382))","v":0},{"$f":"INDIRECT(\"'関数（書き）'!C\" & COLUMN(C$1)+SUM($AD$2:$AD382))","v":0},{"$f":"INDIRECT(\"'関数（書き）'!C\" & COLUMN(D$1)+SUM($AD$2:$AD382))","v":0},{"$f":"INDIRECT(\"'関数（書き）'!C\" & COLUMN(E$1)+SUM($AD$2:$AD382))","v":0},{"$f":"INDIRECT(\"'関数（書き）'!C\" & COLUMN(F$1)+SUM($AD$2:$AD382))","v":0},{"$f":"INDIRECT(\"'関数（書き）'!C\" & COLUMN(G$1)+SUM($AD$2:$AD382))","v":0},{"$f":"INDIRECT(\"'関数（書き）'!C\" & COLUMN(H$1)+SUM($AD$2:$AD382))","v":0},{"$f":"INDIRECT(\"'関数（書き）'!C\" & COLUMN(I$1)+SUM($AD$2:$AD382))","v":0},{"$f":"INDIRECT(\"'関数（書き）'!C\" & COLUMN(J$1)+SUM($AD$2:$AD382))","v":0},{"$f":"INDIRECT(\"'関数（書き）'!C\" & COLUMN(K$1)+SUM($AD$2:$AD382))","v":0},{"$f":"INDIRECT(\"'関数（読み）'!C\" & COLUMN(B$1)+SUM($AD$2:$AD382))","v":0},{"$f":"INDIRECT(\"'関数（読み）'!C\" & COLUMN(C$1)+SUM($AD$2:$AD382))","v":0},{"$f":"INDIRECT(\"'関数（読み）'!C\" & COLUMN(D$1)+SUM($AD$2:$AD382))","v":0},{"$f":"INDIRECT(\"'関数（読み）'!C\" & COLUMN(E$1)+SUM($AD$2:$AD382))","v":0},{"$f":"INDIRECT(\"'関数（読み）'!C\" & COLUMN(F$1)+SUM($AD$2:$AD382))","v":0},{"$f":"INDIRECT(\"'関数（読み）'!C\" & COLUMN(G$1)+SUM($AD$2:$AD382))","v":0},{"$f":"INDIRECT(\"'関数（読み）'!C\" & COLUMN(H$1)+SUM($AD$2:$AD382))","v":0},{"$f":"INDIRECT(\"'関数（読み）'!C\" & COLUMN(I$1)+SUM($AD$2:$AD382))","v":0},{"$f":"INDIRECT(\"'関数（読み）'!C\" & COLUMN(J$1)+SUM($AD$2:$AD382))","v":0},{"$f":"INDIRECT(\"'関数（読み）'!C\" & COLUMN(K$1)+SUM($AD$2:$AD382))","v":0}]
["⑳","⑲","⑱","⑰","⑯","⑮","⑭","⑬","⑫","⑪","⑩","⑨","⑧","⑦","⑥","⑤","④","③","②","①","次の［　　　　］の部分の漢字には読みがなをひらがなで書き、カタカナは漢字に直しなさい。",15,"「漢字の博士検定試験」練習問題　",null,null,null,null,null,"←",10,"問",{"$f":"AH367+1","v":381},"～",{"$f":"SUM($AD$2:$AD382)+10","v":390},"問まで",{"$f":"COUNTIF($A$1:$T$200,T383)","v":195}]
[{"$f":"IF(A381=\"\",\"\",VLOOKUP(A381,漢字書き!$A$2:$N$506,6,0))","v":{"$error":"#N/A"}},{"$f":"IF(B381=\"\",\"\",VLOOKUP(B381,漢字書き!$A$2:$N$506,6,0))","v":{"$error":"#N/A"}},{"$f":"IF(C381=\"\",\"\",VLOOKUP(C381,漢字書き!$A$2:$N$506,6,0))","v":{"$error":"#N/A"}},{"$f":"IF(D381=\"\",\"\",VLOOKUP(D381,漢字書き!$A$2:$N$506,6,0))","v":{"$error":"#N/A"}},{"$f":"IF(E381=\"\",\"\",VLOOKUP(E381,漢字書き!$A$2:$N$506,6,0))","v":{"$error":"#N/A"}},{"$f":"IF(F381=\"\",\"\",VLOOKUP(F381,漢字書き!$A$2:$N$506,6,0))","v":{"$error":"#N/A"}},{"$f":"IF(G381=\"\",\"\",VLOOKUP(G381,漢字書き!$A$2:$N$506,6,0))","v":{"$error":"#N/A"}},{"$f":"IF(H381=\"\",\"\",VLOOKUP(H381,漢字書き!$A$2:$N$506,6,0))","v":{"$error":"#N/A"}},{"$f":"IF(I381=\"\",\"\",VLOOKUP(I381,漢字書き!$A$2:$N$506,6,0))","v":{"$error":"#N/A"}},{"$f":"IF(J381=\"\",\"\",VLOOKUP(J381,漢字書き!$A$2:$N$506,6,0))","v":{"$error":"#N/A"}},{"$f":"IF(K381=\"\",\"\",VLOOKUP(K381,漢字読み!$A$2:$O$506,6,0))","v":{"$error":"#N/A"}},{"$f":"IF(L381=\"\",\"\",VLOOKUP(L381,漢字読み!$A$2:$O$506,6,0))","v":{"$error":"#N/A"}},{"$f":"IF(M381=\"\",\"\",VLOOKUP(M381,漢字読み!$A$2:$O$506,6,0))","v":{"$error":"#N/A"}},{"$f":"IF(N381=\"\",\"\",VLOOKUP(N381,漢字読み!$A$2:$O$506,6,0))","v":{"$error":"#N/A"}},{"$f":"IF(O381=\"\",\"\",VLOOKUP(O381,漢字読み!$A$2:$O$506,6,0))","v":{"$error":"#N/A"}},{"$f":"IF(P381=\"\",\"\",VLOOKUP(P381,漢字読み!$A$2:$O$506,6,0))","v":{"$error":"#N/A"}},{"$f":"IF(Q381=\"\",\"\",VLOOKUP(Q381,漢字読み!$A$2:$O$506,6,0))","v":{"$error":"#N/A"}},{"$f":"IF(R381=\"\",\"\",VLOOKUP(R381,漢字読み!$A$2:$O$506,6,0))","v":{"$error":"#N/A"}},{"$f":"IF(S381=\"\",\"\",VLOOKUP(S381,漢字読み!$A$2:$O$506,6,0))","v":{"$error":"#N/A"}},{"$f":"IF(T381=\"\",\"\",VLOOKUP(T381,漢字読み!$A$2:$O$506,6,0))","v":{"$error":"#N/A"}},null,"級"]
[null,null,null,null,null,null,null,null,null,null,null,null,null,null,null,null,null,null,null,null,null,"名前"]
[{"$f":"IF(A381=\"\",\"\",IF(VLOOKUP(A381,漢字書き!$A$2:$N$502,7,0)=0,\"\",VLOOKUP(A381,漢字書き!$A$2:$N$502,7,0)))","v":{"$error":"#N/A"}},{"$f":"IF(B381=\"\",\"\",IF(VLOOKUP(B381,漢字書き!$A$2:$N$502,7,0)=0,\"\",VLOOKUP(B381,漢字書き!$A$2:$N$502,7,0)))","v":{"$error":"#N/A"}},{"$f":"IF(C381=\"\",\"\",IF(VLOOKUP(C381,漢字書き!$A$2:$N$502,7,0)=0,\"\",VLOOKUP(C381,漢字書き!$A$2:$N$502,7,0)))","v":{"$error":"#N/A"}},{"$f":"IF(D381=\"\",\"\",IF(VLOOKUP(D381,漢字書き!$A$2:$N$502,7,0)=0,\"\",VLOOKUP(D381,漢字書き!$A$2:$N$502,7,0)))","v":{"$error":"#N/A"}},{"$f":"IF(E381=\"\",\"\",IF(VLOOKUP(E381,漢字書き!$A$2:$N$502,7,0)=0,\"\",VLOOKUP(E381,漢字書き!$A$2:$N$502,7,0)))","v":{"$error":"#N/A"}},{"$f":"IF(F381=\"\",\"\",IF(VLOOKUP(F381,漢字書き!$A$2:$N$502,7,0)=0,\"\",VLOOKUP(F381,漢字書き!$A$2:$N$502,7,0)))","v":{"$error":"#N/A"}},{"$f":"IF(G381=\"\",\"\",IF(VLOOKUP(G381,漢字書き!$A$2:$N$502,7,0)=0,\"\",VLOOKUP(G381,漢字書き!$A$2:$N$502,7,0)))","v":{"$error":"#N/A"}},{"$f":"IF(H381=\"\",\"\",IF(VLOOKUP(H381,漢字書き!$A$2:$N$502,7,0)=0,\"\",VLOOKUP(H381,漢字書き!$A$2:$N$502,7,0)))","v":{"$error":"#N/A"}},{"$f":"IF(I381=\"\",\"\",IF(VLOOKUP(I381,漢字書き!$A$2:$N$502,7,0)=0,\"\",VLOOKUP(I381,漢字書き!$A$2:$N$502,7,0)))","v":{"$error":"#N/A"}},{"$f":"IF(J381=\"\",\"\",IF(VLOOKUP(J381,漢字書き!$A$2:$N$502,7,0)=0,\"\",VLOOKUP(J381,漢字書き!$A$2:$N$502,7,0)))","v":{"$error":"#N/A"}},{"$f":"IF(K381=\"\",\"\",IF(VLOOKUP(K381,漢字読み!$A$2:$O$502,7,0)=0,\"\",VLOOKUP(K381,漢字読み!$A$2:$O$502,7,0)))","v":{"$error":"#N/A"}},{"$f":"IF(L381=\"\",\"\",IF(VLOOKUP(L381,漢字読み!$A$2:$O$502,7,0)=0,\"\",VLOOKUP(L381,漢字読み!$A$2:$O$502,7,0)))","v":{"$error":"#N/A"}},{"$f":"IF(M381=\"\",\"\",IF(VLOOKUP(M381,漢字読み!$A$2:$O$502,7,0)=0,\"\",VLOOKUP(M381,漢字読み!$A$2:$O$502,7,0)))","v":{"$error":"#N/A"}},{"$f":"IF(N381=\"\",\"\",IF(VLOOKUP(N381,漢字読み!$A$2:$O$502,7,0)=0,\"\",VLOOKUP(N381,漢字読み!$A$2:$O$502,7,0)))","v":{"$error":"#N/A"}},{"$f":"IF(O381=\"\",\"\",IF(VLOOKUP(O381,漢字読み!$A$2:$O$502,7,0)=0,\"\",VLOOKUP(O381,漢字読み!$A$2:$O$502,7,0)))","v":{"$error":"#N/A"}},{"$f":"IF(P381=\"\",\"\",IF(VLOOKUP(P381,漢字読み!$A$2:$O$502,7,0)=0,\"\",VLOOKUP(P381,漢字読み!$A$2:$O$502,7,0)))","v":{"$error":"#N/A"}},{"$f":"IF(Q381=\"\",\"\",IF(VLOOKUP(Q381,漢字読み!$A$2:$O$502,7,0)=0,\"\",VLOOKUP(Q381,漢字読み!$A$2:$O$502,7,0)))","v":{"$error":"#N/A"}},{"$f":"IF(R381=\"\",\"\",IF(VLOOKUP(R381,漢字読み!$A$2:$O$502,7,0)=0,\"\",VLOOKUP(R381,漢字読み!$A$2:$O$502,7,0)))","v":{"$error":"#N/A"}},{"$f":"IF(S381=\"\",\"\",IF(VLOOKUP(S381,漢字読み!$A$2:$O$502,7,0)=0,\"\",VLOOKUP(S381,漢字読み!$A$2:$O$502,7,0)))","v":{"$error":"#N/A"}},{"$f":"IF(T381=\"\",\"\",IF(VLOOKUP(T381,漢字読み!$A$2:$O$502,7,0)=0,\"\",VLOOKUP(T381,漢字読み!$A$2:$O$502,7,0)))","v":{"$error":"#N/A"}},null,null,"和歌山県教育委員会"]
[{"$f":"INDIRECT(\"'関数（書き）'!C\" & COLUMN(B$1)+SUM($AD$2:$AD387))","v":0},{"$f":"INDIRECT(\"'関数（書き）'!C\" & COLUMN(C$1)+SUM($AD$2:$AD387))","v":0},{"$f":"INDIRECT(\"'関数（書き）'!C\" & COLUMN(D$1)+SUM($AD$2:$AD387))","v":0},{"$f":"INDIRECT(\"'関数（書き）'!C\" & COLUMN(E$1)+SUM($AD$2:$AD387))","v":0},{"$f":"INDIRECT(\"'関数（書き）'!C\" & COLUMN(F$1)+SUM($AD$2:$AD387))","v":0},{"$f":"INDIRECT(\"'関数（書き）'!C\" & COLUMN(G$1)+SUM($AD$2:$AD387))","v":0},{"$f":"INDIRECT(\"'関数（書き）'!C\" & COLUMN(H$1)+SUM($AD$2:$AD387))","v":0},{"$f":"INDIRECT(\"'関数（書き）'!C\" & COLUMN(I$1)+SUM($AD$2:$AD387))","v":0},{"$f":"INDIRECT(\"'関数（書き）'!C\" & COLUMN(J$1)+SUM($AD$2:$AD387))","v":0},{"$f":"INDIRECT(\"'関数（書き）'!C\" & COLUMN(K$1)+SUM($AD$2:$AD387))","v":0},{"$f":"INDIRECT(\"'関数（読み）'!C\" & COLUMN(B$1)+SUM($AD$2:$AD387))","v":0},{"$f":"INDIRECT(\"'関数（読み）'!C\" & COLUMN(C$1)+SUM($AD$2:$AD387))","v":0},{"$f":"INDIRECT(\"'関数（読み）'!C\" & COLUMN(D$1)+SUM($AD$2:$AD387))","v":0},{"$f":"INDIRECT(\"'関数（読み）'!C\" & COLUMN(E$1)+SUM($AD$2:$AD387))","v":0},{"$f":"INDIRECT(\"'関数（読み）'!C\" & COLUMN(F$1)+SUM($AD$2:$AD387))","v":0},{"$f":"INDIRECT(\"'関数（読み）'!C\" & COLUMN(G$1)+SUM($AD$2:$AD387))","v":0},{"$f":"INDIRECT(\"'関数（読み）'!C\" & COLUMN(H$1)+SUM($AD$2:$AD387))","v":0},{"$f":"INDIRECT(\"'関数（読み）'!C\" & COLUMN(I$1)+SUM($AD$2:$AD387))","v":0},{"$f":"INDIRECT(\"'関数（読み）'!C\" & COLUMN(J$1)+SUM($AD$2:$AD387))","v":0},{"$f":"INDIRECT(\"'関数（読み）'!C\" & COLUMN(K$1)+SUM($AD$2:$AD387))","v":0}]
["⑳","⑲","⑱","⑰","⑯","⑮","⑭","⑬","⑫","⑪","⑩","⑨","⑧","⑦","⑥","⑤","④","③","②","①","次の［　　　　］の部分の漢字には読みがなをひらがなで書き、カタカナは漢字に直しなさい。",15,"「漢字の博士検定試験」練習問題　",null,null,null,null,null,"←",10,"問",{"$f":"AH382+1","v":391},"～",{"$f":"SUM($AD$2:$AD387)+10","v":400},"問まで",{"$f":"COUNTIF($A$1:$T$200,T388)","v":195}]
[{"$f":"IF(A386=\"\",\"\",VLOOKUP(A386,漢字書き!$A$2:$N$506,6,0))","v":{"$error":"#N/A"}},{"$f":"IF(B386=\"\",\"\",VLOOKUP(B386,漢字書き!$A$2:$N$506,6,0))","v":{"$error":"#N/A"}},{"$f":"IF(C386=\"\",\"\",VLOOKUP(C386,漢字書き!$A$2:$N$506,6,0))","v":{"$error":"#N/A"}},{"$f":"IF(D386=\"\",\"\",VLOOKUP(D386,漢字書き!$A$2:$N$506,6,0))","v":{"$error":"#N/A"}},{"$f":"IF(E386=\"\",\"\",VLOOKUP(E386,漢字書き!$A$2:$N$506,6,0))","v":{"$error":"#N/A"}},{"$f":"IF(F386=\"\",\"\",VLOOKUP(F386,漢字書き!$A$2:$N$506,6,0))","v":{"$error":"#N/A"}},{"$f":"IF(G386=\"\",\"\",VLOOKUP(G386,漢字書き!$A$2:$N$506,6,0))","v":{"$error":"#N/A"}},{"$f":"IF(H386=\"\",\"\",VLOOKUP(H386,漢字書き!$A$2:$N$506,6,0))","v":{"$error":"#N/A"}},{"$f":"IF(I386=\"\",\"\",VLOOKUP(I386,漢字書き!$A$2:$N$506,6,0))","v":{"$error":"#N/A"}},{"$f":"IF(J386=\"\",\"\",VLOOKUP(J386,漢字書き!$A$2:$N$506,6,0))","v":{"$error":"#N/A"}},{"$f":"IF(K386=\"\",\"\",VLOOKUP(K386,漢字読み!$A$2:$O$506,6,0))","v":{"$error":"#N/A"}},{"$f":"IF(L386=\"\",\"\",VLOOKUP(L386,漢字読み!$A$2:$O$506,6,0))","v":{"$error":"#N/A"}},{"$f":"IF(M386=\"\",\"\",VLOOKUP(M386,漢字読み!$A$2:$O$506,6,0))","v":{"$error":"#N/A"}},{"$f":"IF(N386=\"\",\"\",VLOOKUP(N386,漢字読み!$A$2:$O$506,6,0))","v":{"$error":"#N/A"}},{"$f":"IF(O386=\"\",\"\",VLOOKUP(O386,漢字読み!$A$2:$O$506,6,0))","v":{"$error":"#N/A"}},{"$f":"IF(P386=\"\",\"\",VLOOKUP(P386,漢字読み!$A$2:$O$506,6,0))","v":{"$error":"#N/A"}},{"$f":"IF(Q386=\"\",\"\",VLOOKUP(Q386,漢字読み!$A$2:$O$506,6,0))","v":{"$error":"#N/A"}},{"$f":"IF(R386=\"\",\"\",VLOOKUP(R386,漢字読み!$A$2:$O$506,6,0))","v":{"$error":"#N/A"}},{"$f":"IF(S386=\"\",\"\",VLOOKUP(S386,漢字読み!$A$2:$O$506,6,0))","v":{"$error":"#N/A"}},{"$f":"IF(T386=\"\",\"\",VLOOKUP(T386,漢字読み!$A$2:$O$506,6,0))","v":{"$error":"#N/A"}},null,"級"]
[null,null,null,null,null,null,null,null,null,null,null,null,null,null,null,null,null,null,null,null,null,"名前"]
[{"$f":"IF(A386=\"\",\"\",IF(VLOOKUP(A386,漢字書き!$A$2:$N$502,7,0)=0,\"\",VLOOKUP(A386,漢字書き!$A$2:$N$502,7,0)))","v":{"$error":"#N/A"}},{"$f":"IF(B386=\"\",\"\",IF(VLOOKUP(B386,漢字書き!$A$2:$N$502,7,0)=0,\"\",VLOOKUP(B386,漢字書き!$A$2:$N$502,7,0)))","v":{"$error":"#N/A"}},{"$f":"IF(C386=\"\",\"\",IF(VLOOKUP(C386,漢字書き!$A$2:$N$502,7,0)=0,\"\",VLOOKUP(C386,漢字書き!$A$2:$N$502,7,0)))","v":{"$error":"#N/A"}},{"$f":"IF(D386=\"\",\"\",IF(VLOOKUP(D386,漢字書き!$A$2:$N$502,7,0)=0,\"\",VLOOKUP(D386,漢字書き!$A$2:$N$502,7,0)))","v":{"$error":"#N/A"}},{"$f":"IF(E386=\"\",\"\",IF(VLOOKUP(E386,漢字書き!$A$2:$N$502,7,0)=0,\"\",VLOOKUP(E386,漢字書き!$A$2:$N$502,7,0)))","v":{"$error":"#N/A"}},{"$f":"IF(F386=\"\",\"\",IF(VLOOKUP(F386,漢字書き!$A$2:$N$502,7,0)=0,\"\",VLOOKUP(F386,漢字書き!$A$2:$N$502,7,0)))","v":{"$error":"#N/A"}},{"$f":"IF(G386=\"\",\"\",IF(VLOOKUP(G386,漢字書き!$A$2:$N$502,7,0)=0,\"\",VLOOKUP(G386,漢字書き!$A$2:$N$502,7,0)))","v":{"$error":"#N/A"}},{"$f":"IF(H386=\"\",\"\",IF(VLOOKUP(H386,漢字書き!$A$2:$N$502,7,0)=0,\"\",VLOOKUP(H386,漢字書き!$A$2:$N$502,7,0)))","v":{"$error":"#N/A"}},{"$f":"IF(I386=\"\",\"\",IF(VLOOKUP(I386,漢字書き!$A$2:$N$502,7,0)=0,\"\",VLOOKUP(I386,漢字書き!$A$2:$N$502,7,0)))","v":{"$error":"#N/A"}},{"$f":"IF(J386=\"\",\"\",IF(VLOOKUP(J386,漢字書き!$A$2:$N$502,7,0)=0,\"\",VLOOKUP(J386,漢字書き!$A$2:$N$502,7,0)))","v":{"$error":"#N/A"}},{"$f":"IF(K386=\"\",\"\",IF(VLOOKUP(K386,漢字読み!$A$2:$O$502,7,0)=0,\"\",VLOOKUP(K386,漢字読み!$A$2:$O$502,7,0)))","v":{"$error":"#N/A"}},{"$f":"IF(L386=\"\",\"\",IF(VLOOKUP(L386,漢字読み!$A$2:$O$502,7,0)=0,\"\",VLOOKUP(L386,漢字読み!$A$2:$O$502,7,0)))","v":{"$error":"#N/A"}},{"$f":"IF(M386=\"\",\"\",IF(VLOOKUP(M386,漢字読み!$A$2:$O$502,7,0)=0,\"\",VLOOKUP(M386,漢字読み!$A$2:$O$502,7,0)))","v":{"$error":"#N/A"}},{"$f":"IF(N386=\"\",\"\",IF(VLOOKUP(N386,漢字読み!$A$2:$O$502,7,0)=0,\"\",VLOOKUP(N386,漢字読み!$A$2:$O$502,7,0)))","v":{"$error":"#N/A"}},{"$f":"IF(O386=\"\",\"\",IF(VLOOKUP(O386,漢字読み!$A$2:$O$502,7,0)=0,\"\",VLOOKUP(O386,漢字読み!$A$2:$O$502,7,0)))","v":{"$error":"#N/A"}},{"$f":"IF(P386=\"\",\"\",IF(VLOOKUP(P386,漢字読み!$A$2:$O$502,7,0)=0,\"\",VLOOKUP(P386,漢字読み!$A$2:$O$502,7,0)))","v":{"$error":"#N/A"}},{"$f":"IF(Q386=\"\",\"\",IF(VLOOKUP(Q386,漢字読み!$A$2:$O$502,7,0)=0,\"\",VLOOKUP(Q386,漢字読み!$A$2:$O$502,7,0)))","v":{"$error":"#N/A"}},{"$f":"IF(R386=\"\",\"\",IF(VLOOKUP(R386,漢字読み!$A$2:$O$502,7,0)=0,\"\",VLOOKUP(R386,漢字読み!$A$2:$O$502,7,0)))","v":{"$error":"#N/A"}},{"$f":"IF(S386=\"\",\"\",IF(VLOOKUP(S386,漢字読み!$A$2:$O$502,7,0)=0,\"\",VLOOKUP(S386,漢字読み!$A$2:$O$502,7,0)))","v":{"$error":"#N/A"}},{"$f":"IF(T386=\"\",\"\",IF(VLOOKUP(T386,漢字読み!$A$2:$O$502,7,0)=0,\"\",VLOOKUP(T386,漢字読み!$A$2:$O$502,7,0)))","v":{"$error":"#N/A"}},null,null,"和歌山県教育委員会"]
[{"$f":"A381","v":0},{"$f":"B381","v":0},0,0,0,0,0,0,0,0,0,0,0,0,0,0,0,0,0,0]
["⑳","⑲","⑱","⑰","⑯","⑮","⑭","⑬","⑫","⑪","⑩","⑨","⑧","⑦","⑥","⑤","④","③","②","①","次の［　　　　］の部分の漢字には読みがなをひらがなで書き、カタカナは漢字に直しなさい。",15,"「漢字の博士検定試験」練習問題　"]
[{"$f":"IF(A391=\"\",\"\",VLOOKUP(A391,漢字書き!$A$2:$N$506,6,0))","v":{"$error":"#N/A"}},{"$f":"IF(B391=\"\",\"\",VLOOKUP(B391,漢字書き!$A$2:$N$506,6,0))","v":{"$error":"#N/A"}},{"$f":"IF(C391=\"\",\"\",VLOOKUP(C391,漢字書き!$A$2:$N$506,6,0))","v":{"$error":"#N/A"}},{"$f":"IF(D391=\"\",\"\",VLOOKUP(D391,漢字書き!$A$2:$N$506,6,0))","v":{"$error":"#N/A"}},{"$f":"IF(E391=\"\",\"\",VLOOKUP(E391,漢字書き!$A$2:$N$506,6,0))","v":{"$error":"#N/A"}},{"$f":"IF(F391=\"\",\"\",VLOOKUP(F391,漢字書き!$A$2:$N$506,6,0))","v":{"$error":"#N/A"}},{"$f":"IF(G391=\"\",\"\",VLOOKUP(G391,漢字書き!$A$2:$N$506,6,0))","v":{"$error":"#N/A"}},{"$f":"IF(H391=\"\",\"\",VLOOKUP(H391,漢字書き!$A$2:$N$506,6,0))","v":{"$error":"#N/A"}},{"$f":"IF(I391=\"\",\"\",VLOOKUP(I391,漢字書き!$A$2:$N$506,6,0))","v":{"$error":"#N/A"}},{"$f":"IF(J391=\"\",\"\",VLOOKUP(J391,漢字書き!$A$2:$N$506,6,0))","v":{"$error":"#N/A"}},{"$f":"IF(K391=\"\",\"\",VLOOKUP(K391,漢字読み!$A$2:$O$506,6,0))","v":{"$error":"#N/A"}},{"$f":"IF(L391=\"\",\"\",VLOOKUP(L391,漢字読み!$A$2:$O$506,6,0))","v":{"$error":"#N/A"}},{"$f":"IF(M391=\"\",\"\",VLOOKUP(M391,漢字読み!$A$2:$O$506,6,0))","v":{"$error":"#N/A"}},{"$f":"IF(N391=\"\",\"\",VLOOKUP(N391,漢字読み!$A$2:$O$506,6,0))","v":{"$error":"#N/A"}},{"$f":"IF(O391=\"\",\"\",VLOOKUP(O391,漢字読み!$A$2:$O$506,6,0))","v":{"$error":"#N/A"}},{"$f":"IF(P391=\"\",\"\",VLOOKUP(P391,漢字読み!$A$2:$O$506,6,0))","v":{"$error":"#N/A"}},{"$f":"IF(Q391=\"\",\"\",VLOOKUP(Q391,漢字読み!$A$2:$O$506,6,0))","v":{"$error":"#N/A"}},{"$f":"IF(R391=\"\",\"\",VLOOKUP(R391,漢字読み!$A$2:$O$506,6,0))","v":{"$error":"#N/A"}},{"$f":"IF(S391=\"\",\"\",VLOOKUP(S391,漢字読み!$A$2:$O$506,6,0))","v":{"$error":"#N/A"}},{"$f":"IF(T391=\"\",\"\",VLOOKUP(T391,漢字読み!$A$2:$O$506,6,0))","v":{"$error":"#N/A"}},null,"級"]
[{"$f":"IF(A$11=\"\",\"\",VLOOKUP(A391,漢字書き!$A$2:$O$506,8,0))","v":{"$error":"#N/A"}},{"$f":"IF(B$11=\"\",\"\",VLOOKUP(B391,漢字書き!$A$2:$O$506,8,0))","v":{"$error":"#N/A"}},{"$f":"IF(C$11=\"\",\"\",VLOOKUP(C391,漢字書き!$A$2:$O$506,8,0))","v":{"$error":"#N/A"}},{"$f":"IF(D$11=\"\",\"\",VLOOKUP(D391,漢字書き!$A$2:$O$506,8,0))","v":{"$error":"#N/A"}},{"$f":"IF(E$11=\"\",\"\",VLOOKUP(E391,漢字書き!$A$2:$O$506,8,0))","v":{"$error":"#N/A"}},{"$f":"IF(F$11=\"\",\"\",VLOOKUP(F391,漢字書き!$A$2:$O$506,8,0))","v":{"$error":"#N/A"}},{"$f":"IF(G$11=\"\",\"\",VLOOKUP(G391,漢字書き!$A$2:$O$506,8,0))","v":{"$error":"#N/A"}},{"$f":"IF(H$11=\"\",\"\",VLOOKUP(H391,漢字書き!$A$2:$O$506,8,0))","v":{"$error":"#N/A"}},{"$f":"IF(I$11=\"\",\"\",VLOOKUP(I391,漢字書き!$A$2:$O$506,8,0))","v":{"$error":"#N/A"}},{"$f":"IF(J$11=\"\",\"\",VLOOKUP(J391,漢字書き!$A$2:$O$506,8,0))","v":{"$error":"#N/A"}},{"$f":"IF(K$11=\"\",\"\",VLOOKUP(K391,漢字読み!$A$2:$O$506,8,0))","v":{"$error":"#N/A"}},{"$f":"IF(L$11=\"\",\"\",VLOOKUP(L391,漢字読み!$A$2:$O$506,8,0))","v":{"$error":"#N/A"}},{"$f":"IF(M$11=\"\",\"\",VLOOKUP(M391,漢字読み!$A$2:$O$506,8,0))","v":{"$error":"#N/A"}},{"$f":"IF(N$11=\"\",\"\",VLOOKUP(N391,漢字読み!$A$2:$O$506,8,0))","v":{"$error":"#N/A"}},{"$f":"IF(O$11=\"\",\"\",VLOOKUP(O391,漢字読み!$A$2:$O$506,8,0))","v":{"$error":"#N/A"}},{"$f":"IF(P$11=\"\",\"\",VLOOKUP(P391,漢字読み!$A$2:$O$506,8,0))","v":{"$error":"#N/A"}},{"$f":"IF(Q$11=\"\",\"\",VLOOKUP(Q391,漢字読み!$A$2:$O$506,8,0))","v":{"$error":"#N/A"}},{"$f":"IF(R$11=\"\",\"\",VLOOKUP(R391,漢字読み!$A$2:$O$506,8,0))","v":{"$error":"#N/A"}},{"$f":"IF(S$11=\"\",\"\",VLOOKUP(S391,漢字読み!$A$2:$O$506,8,0))","v":{"$error":"#N/A"}},{"$f":"IF(T$11=\"\",\"\",VLOOKUP(T391,漢字読み!$A$2:$O$506,8,0))","v":{"$error":"#N/A"}},null,"名前"]
[{"$f":"IF(A391=\"\",\"\",IF(VLOOKUP(A391,漢字書き!$A$2:$N$502,7,0)=0,\"\",VLOOKUP(A391,漢字書き!$A$2:$N$502,7,0)))","v":{"$error":"#N/A"}},{"$f":"IF(B391=\"\",\"\",IF(VLOOKUP(B391,漢字書き!$A$2:$N$502,7,0)=0,\"\",VLOOKUP(B391,漢字書き!$A$2:$N$502,7,0)))","v":{"$error":"#N/A"}},{"$f":"IF(C391=\"\",\"\",IF(VLOOKUP(C391,漢字書き!$A$2:$N$502,7,0)=0,\"\",VLOOKUP(C391,漢字書き!$A$2:$N$502,7,0)))","v":{"$error":"#N/A"}},{"$f":"IF(D391=\"\",\"\",IF(VLOOKUP(D391,漢字書き!$A$2:$N$502,7,0)=0,\"\",VLOOKUP(D391,漢字書き!$A$2:$N$502,7,0)))","v":{"$error":"#N/A"}},{"$f":"IF(E391=\"\",\"\",IF(VLOOKUP(E391,漢字書き!$A$2:$N$502,7,0)=0,\"\",VLOOKUP(E391,漢字書き!$A$2:$N$502,7,0)))","v":{"$error":"#N/A"}},{"$f":"IF(F391=\"\",\"\",IF(VLOOKUP(F391,漢字書き!$A$2:$N$502,7,0)=0,\"\",VLOOKUP(F391,漢字書き!$A$2:$N$502,7,0)))","v":{"$error":"#N/A"}},{"$f":"IF(G391=\"\",\"\",IF(VLOOKUP(G391,漢字書き!$A$2:$N$502,7,0)=0,\"\",VLOOKUP(G391,漢字書き!$A$2:$N$502,7,0)))","v":{"$error":"#N/A"}},{"$f":"IF(H391=\"\",\"\",IF(VLOOKUP(H391,漢字書き!$A$2:$N$502,7,0)=0,\"\",VLOOKUP(H391,漢字書き!$A$2:$N$502,7,0)))","v":{"$error":"#N/A"}},{"$f":"IF(I391=\"\",\"\",IF(VLOOKUP(I391,漢字書き!$A$2:$N$502,7,0)=0,\"\",VLOOKUP(I391,漢字書き!$A$2:$N$502,7,0)))","v":{"$error":"#N/A"}},{"$f":"IF(J391=\"\",\"\",IF(VLOOKUP(J391,漢字書き!$A$2:$N$502,7,0)=0,\"\",VLOOKUP(J391,漢字書き!$A$2:$N$502,7,0)))","v":{"$error":"#N/A"}},{"$f":"IF(K391=\"\",\"\",IF(VLOOKUP(K391,漢字読み!$A$2:$O$502,7,0)=0,\"\",VLOOKUP(K391,漢字読み!$A$2:$O$502,7,0)))","v":{"$error":"#N/A"}},{"$f":"IF(L391=\"\",\"\",IF(VLOOKUP(L391,漢字読み!$A$2:$O$502,7,0)=0,\"\",VLOOKUP(L391,漢字読み!$A$2:$O$502,7,0)))","v":{"$error":"#N/A"}},{"$f":"IF(M391=\"\",\"\",IF(VLOOKUP(M391,漢字読み!$A$2:$O$502,7,0)=0,\"\",VLOOKUP(M391,漢字読み!$A$2:$O$502,7,0)))","v":{"$error":"#N/A"}},{"$f":"IF(N391=\"\",\"\",IF(VLOOKUP(N391,漢字読み!$A$2:$O$502,7,0)=0,\"\",VLOOKUP(N391,漢字読み!$A$2:$O$502,7,0)))","v":{"$error":"#N/A"}},{"$f":"IF(O391=\"\",\"\",IF(VLOOKUP(O391,漢字読み!$A$2:$O$502,7,0)=0,\"\",VLOOKUP(O391,漢字読み!$A$2:$O$502,7,0)))","v":{"$error":"#N/A"}},{"$f":"IF(P391=\"\",\"\",IF(VLOOKUP(P391,漢字読み!$A$2:$O$502,7,0)=0,\"\",VLOOKUP(P391,漢字読み!$A$2:$O$502,7,0)))","v":{"$error":"#N/A"}},{"$f":"IF(Q391=\"\",\"\",IF(VLOOKUP(Q391,漢字読み!$A$2:$O$502,7,0)=0,\"\",VLOOKUP(Q391,漢字読み!$A$2:$O$502,7,0)))","v":{"$error":"#N/A"}},{"$f":"IF(R391=\"\",\"\",IF(VLOOKUP(R391,漢字読み!$A$2:$O$502,7,0)=0,\"\",VLOOKUP(R391,漢字読み!$A$2:$O$502,7,0)))","v":{"$error":"#N/A"}},{"$f":"IF(S391=\"\",\"\",IF(VLOOKUP(S391,漢字読み!$A$2:$O$502,7,0)=0,\"\",VLOOKUP(S391,漢字読み!$A$2:$O$502,7,0)))","v":{"$error":"#N/A"}},{"$f":"IF(T391=\"\",\"\",IF(VLOOKUP(T391,漢字読み!$A$2:$O$502,7,0)=0,\"\",VLOOKUP(T391,漢字読み!$A$2:$O$502,7,0)))","v":{"$error":"#N/A"}},null,null,"和歌山県教育委員会"]
[{"$f":"A386","v":0},{"$f":"B386","v":0},0,0,0,0,0,0,0,0,0,0,0,0,0,0,0,0,0,0]
["⑳","⑲","⑱","⑰","⑯","⑮","⑭","⑬","⑫","⑪","⑩","⑨","⑧","⑦","⑥","⑤","④","③","②","①","次の［　　　　］の部分の漢字には読みがなをひらがなで書き、カタカナは漢字に直しなさい。",15,"「漢字の博士検定試験」練習問題　"]
[{"$f":"IF(A396=\"\",\"\",VLOOKUP(A396,漢字書き!$A$2:$N$506,6,0))","v":{"$error":"#N/A"}},{"$f":"IF(B396=\"\",\"\",VLOOKUP(B396,漢字書き!$A$2:$N$506,6,0))","v":{"$error":"#N/A"}},{"$f":"IF(C396=\"\",\"\",VLOOKUP(C396,漢字書き!$A$2:$N$506,6,0))","v":{"$error":"#N/A"}},{"$f":"IF(D396=\"\",\"\",VLOOKUP(D396,漢字書き!$A$2:$N$506,6,0))","v":{"$error":"#N/A"}},{"$f":"IF(E396=\"\",\"\",VLOOKUP(E396,漢字書き!$A$2:$N$506,6,0))","v":{"$error":"#N/A"}},{"$f":"IF(F396=\"\",\"\",VLOOKUP(F396,漢字書き!$A$2:$N$506,6,0))","v":{"$error":"#N/A"}},{"$f":"IF(G396=\"\",\"\",VLOOKUP(G396,漢字書き!$A$2:$N$506,6,0))","v":{"$error":"#N/A"}},{"$f":"IF(H396=\"\",\"\",VLOOKUP(H396,漢字書き!$A$2:$N$506,6,0))","v":{"$error":"#N/A"}},{"$f":"IF(I396=\"\",\"\",VLOOKUP(I396,漢字書き!$A$2:$N$506,6,0))","v":{"$error":"#N/A"}},{"$f":"IF(J396=\"\",\"\",VLOOKUP(J396,漢字書き!$A$2:$N$506,6,0))","v":{"$error":"#N/A"}},{"$f":"IF(K396=\"\",\"\",VLOOKUP(K396,漢字読み!$A$2:$O$506,6,0))","v":{"$error":"#N/A"}},{"$f":"IF(L396=\"\",\"\",VLOOKUP(L396,漢字読み!$A$2:$O$506,6,0))","v":{"$error":"#N/A"}},{"$f":"IF(M396=\"\",\"\",VLOOKUP(M396,漢字読み!$A$2:$O$506,6,0))","v":{"$error":"#N/A"}},{"$f":"IF(N396=\"\",\"\",VLOOKUP(N396,漢字読み!$A$2:$O$506,6,0))","v":{"$error":"#N/A"}},{"$f":"IF(O396=\"\",\"\",VLOOKUP(O396,漢字読み!$A$2:$O$506,6,0))","v":{"$error":"#N/A"}},{"$f":"IF(P396=\"\",\"\",VLOOKUP(P396,漢字読み!$A$2:$O$506,6,0))","v":{"$error":"#N/A"}},{"$f":"IF(Q396=\"\",\"\",VLOOKUP(Q396,漢字読み!$A$2:$O$506,6,0))","v":{"$error":"#N/A"}},{"$f":"IF(R396=\"\",\"\",VLOOKUP(R396,漢字読み!$A$2:$O$506,6,0))","v":{"$error":"#N/A"}},{"$f":"IF(S396=\"\",\"\",VLOOKUP(S396,漢字読み!$A$2:$O$506,6,0))","v":{"$error":"#N/A"}},{"$f":"IF(T396=\"\",\"\",VLOOKUP(T396,漢字読み!$A$2:$O$506,6,0))","v":{"$error":"#N/A"}},null,"級"]
[{"$f":"IF(A$16=\"\",\"\",VLOOKUP(A396,漢字書き!$A$2:$O$506,8,0))","v":{"$error":"#N/A"}},{"$f":"IF(B$16=\"\",\"\",VLOOKUP(B396,漢字書き!$A$2:$O$506,8,0))","v":{"$error":"#N/A"}},{"$f":"IF(C$16=\"\",\"\",VLOOKUP(C396,漢字書き!$A$2:$O$506,8,0))","v":{"$error":"#N/A"}},{"$f":"IF(D$16=\"\",\"\",VLOOKUP(D396,漢字書き!$A$2:$O$506,8,0))","v":{"$error":"#N/A"}},{"$f":"IF(E$16=\"\",\"\",VLOOKUP(E396,漢字書き!$A$2:$O$506,8,0))","v":{"$error":"#N/A"}},{"$f":"IF(F$16=\"\",\"\",VLOOKUP(F396,漢字書き!$A$2:$O$506,8,0))","v":{"$error":"#N/A"}},{"$f":"IF(G$16=\"\",\"\",VLOOKUP(G396,漢字書き!$A$2:$O$506,8,0))","v":{"$error":"#N/A"}},{"$f":"IF(H$16=\"\",\"\",VLOOKUP(H396,漢字書き!$A$2:$O$506,8,0))","v":{"$error":"#N/A"}},{"$f":"IF(I$16=\"\",\"\",VLOOKUP(I396,漢字書き!$A$2:$O$506,8,0))","v":{"$error":"#N/A"}},{"$f":"IF(J$16=\"\",\"\",VLOOKUP(J396,漢字書き!$A$2:$O$506,8,0))","v":{"$error":"#N/A"}},{"$f":"IF(K$16=\"\",\"\",VLOOKUP(K396,漢字読み!$A$2:$O$506,8,0))","v":{"$error":"#N/A"}},{"$f":"IF(L$16=\"\",\"\",VLOOKUP(L396,漢字読み!$A$2:$O$506,8,0))","v":{"$error":"#N/A"}},{"$f":"IF(M$16=\"\",\"\",VLOOKUP(M396,漢字読み!$A$2:$O$506,8,0))","v":{"$error":"#N/A"}},{"$f":"IF(N$16=\"\",\"\",VLOOKUP(N396,漢字読み!$A$2:$O$506,8,0))","v":{"$error":"#N/A"}},{"$f":"IF(O$16=\"\",\"\",VLOOKUP(O396,漢字読み!$A$2:$O$506,8,0))","v":{"$error":"#N/A"}},{"$f":"IF(P$16=\"\",\"\",VLOOKUP(P396,漢字読み!$A$2:$O$506,8,0))","v":{"$error":"#N/A"}},{"$f":"IF(Q$16=\"\",\"\",VLOOKUP(Q396,漢字読み!$A$2:$O$506,8,0))","v":{"$error":"#N/A"}},{"$f":"IF(R$16=\"\",\"\",VLOOKUP(R396,漢字読み!$A$2:$O$506,8,0))","v":{"$error":"#N/A"}},{"$f":"IF(S$16=\"\",\"\",VLOOKUP(S396,漢字読み!$A$2:$O$506,8,0))","v":{"$error":"#N/A"}},{"$f":"IF(T$16=\"\",\"\",VLOOKUP(T396,漢字読み!$A$2:$O$506,8,0))","v":{"$error":"#N/A"}},null,"名前"]
[{"$f":"IF(A396=\"\",\"\",IF(VLOOKUP(A396,漢字書き!$A$2:$N$502,7,0)=0,\"\",VLOOKUP(A396,漢字書き!$A$2:$N$502,7,0)))","v":{"$error":"#N/A"}},{"$f":"IF(B396=\"\",\"\",IF(VLOOKUP(B396,漢字書き!$A$2:$N$502,7,0)=0,\"\",VLOOKUP(B396,漢字書き!$A$2:$N$502,7,0)))","v":{"$error":"#N/A"}},{"$f":"IF(C396=\"\",\"\",IF(VLOOKUP(C396,漢字書き!$A$2:$N$502,7,0)=0,\"\",VLOOKUP(C396,漢字書き!$A$2:$N$502,7,0)))","v":{"$error":"#N/A"}},{"$f":"IF(D396=\"\",\"\",IF(VLOOKUP(D396,漢字書き!$A$2:$N$502,7,0)=0,\"\",VLOOKUP(D396,漢字書き!$A$2:$N$502,7,0)))","v":{"$error":"#N/A"}},{"$f":"IF(E396=\"\",\"\",IF(VLOOKUP(E396,漢字書き!$A$2:$N$502,7,0)=0,\"\",VLOOKUP(E396,漢字書き!$A$2:$N$502,7,0)))","v":{"$error":"#N/A"}},{"$f":"IF(F396=\"\",\"\",IF(VLOOKUP(F396,漢字書き!$A$2:$N$502,7,0)=0,\"\",VLOOKUP(F396,漢字書き!$A$2:$N$502,7,0)))","v":{"$error":"#N/A"}},{"$f":"IF(G396=\"\",\"\",IF(VLOOKUP(G396,漢字書き!$A$2:$N$502,7,0)=0,\"\",VLOOKUP(G396,漢字書き!$A$2:$N$502,7,0)))","v":{"$error":"#N/A"}},{"$f":"IF(H396=\"\",\"\",IF(VLOOKUP(H396,漢字書き!$A$2:$N$502,7,0)=0,\"\",VLOOKUP(H396,漢字書き!$A$2:$N$502,7,0)))","v":{"$error":"#N/A"}},{"$f":"IF(I396=\"\",\"\",IF(VLOOKUP(I396,漢字書き!$A$2:$N$502,7,0)=0,\"\",VLOOKUP(I396,漢字書き!$A$2:$N$502,7,0)))","v":{"$error":"#N/A"}},{"$f":"IF(J396=\"\",\"\",IF(VLOOKUP(J396,漢字書き!$A$2:$N$502,7,0)=0,\"\",VLOOKUP(J396,漢字書き!$A$2:$N$502,7,0)))","v":{"$error":"#N/A"}},{"$f":"IF(K396=\"\",\"\",IF(VLOOKUP(K396,漢字読み!$A$2:$O$502,7,0)=0,\"\",VLOOKUP(K396,漢字読み!$A$2:$O$502,7,0)))","v":{"$error":"#N/A"}},{"$f":"IF(L396=\"\",\"\",IF(VLOOKUP(L396,漢字読み!$A$2:$O$502,7,0)=0,\"\",VLOOKUP(L396,漢字読み!$A$2:$O$502,7,0)))","v":{"$error":"#N/A"}},{"$f":"IF(M396=\"\",\"\",IF(VLOOKUP(M396,漢字読み!$A$2:$O$502,7,0)=0,\"\",VLOOKUP(M396,漢字読み!$A$2:$O$502,7,0)))","v":{"$error":"#N/A"}},{"$f":"IF(N396=\"\",\"\",IF(VLOOKUP(N396,漢字読み!$A$2:$O$502,7,0)=0,\"\",VLOOKUP(N396,漢字読み!$A$2:$O$502,7,0)))","v":{"$error":"#N/A"}},{"$f":"IF(O396=\"\",\"\",IF(VLOOKUP(O396,漢字読み!$A$2:$O$502,7,0)=0,\"\",VLOOKUP(O396,漢字読み!$A$2:$O$502,7,0)))","v":{"$error":"#N/A"}},{"$f":"IF(P396=\"\",\"\",IF(VLOOKUP(P396,漢字読み!$A$2:$O$502,7,0)=0,\"\",VLOOKUP(P396,漢字読み!$A$2:$O$502,7,0)))","v":{"$error":"#N/A"}},{"$f":"IF(Q396=\"\",\"\",IF(VLOOKUP(Q396,漢字読み!$A$2:$O$502,7,0)=0,\"\",VLOOKUP(Q396,漢字読み!$A$2:$O$502,7,0)))","v":{"$error":"#N/A"}},{"$f":"IF(R396=\"\",\"\",IF(VLOOKUP(R396,漢字読み!$A$2:$O$502,7,0)=0,\"\",VLOOKUP(R396,漢字読み!$A$2:$O$502,7,0)))","v":{"$error":"#N/A"}},{"$f":"IF(S396=\"\",\"\",IF(VLOOKUP(S396,漢字読み!$A$2:$O$502,7,0)=0,\"\",VLOOKUP(S396,漢字読み!$A$2:$O$502,7,0)))","v":{"$error":"#N/A"}},{"$f":"IF(T396=\"\",\"\",IF(VLOOKUP(T396,漢字読み!$A$2:$O$502,7,0)=0,\"\",VLOOKUP(T396,漢字読み!$A$2:$O$502,7,0)))","v":{"$error":"#N/A"}},null,null,"和歌山県教育委員会"]
[{"$f":"INDIRECT(\"'関数（書き）'!C\" & COLUMN(B$1)+SUM($AD$2:$AD402))","v":0},{"$f":"INDIRECT(\"'関数（書き）'!C\" & COLUMN(C$1)+SUM($AD$2:$AD402))","v":0},{"$f":"INDIRECT(\"'関数（書き）'!C\" & COLUMN(D$1)+SUM($AD$2:$AD402))","v":0},{"$f":"INDIRECT(\"'関数（書き）'!C\" & COLUMN(E$1)+SUM($AD$2:$AD402))","v":0},{"$f":"INDIRECT(\"'関数（書き）'!C\" & COLUMN(F$1)+SUM($AD$2:$AD402))","v":0},{"$f":"INDIRECT(\"'関数（書き）'!C\" & COLUMN(G$1)+SUM($AD$2:$AD402))","v":0},{"$f":"INDIRECT(\"'関数（書き）'!C\" & COLUMN(H$1)+SUM($AD$2:$AD402))","v":0},{"$f":"INDIRECT(\"'関数（書き）'!C\" & COLUMN(I$1)+SUM($AD$2:$AD402))","v":0},{"$f":"INDIRECT(\"'関数（書き）'!C\" & COLUMN(J$1)+SUM($AD$2:$AD402))","v":0},{"$f":"INDIRECT(\"'関数（書き）'!C\" & COLUMN(K$1)+SUM($AD$2:$AD402))","v":0},{"$f":"INDIRECT(\"'関数（読み）'!C\" & COLUMN(B$1)+SUM($AD$2:$AD402))","v":0},{"$f":"INDIRECT(\"'関数（読み）'!C\" & COLUMN(C$1)+SUM($AD$2:$AD402))","v":0},{"$f":"INDIRECT(\"'関数（読み）'!C\" & COLUMN(D$1)+SUM($AD$2:$AD402))","v":0},{"$f":"INDIRECT(\"'関数（読み）'!C\" & COLUMN(E$1)+SUM($AD$2:$AD402))","v":0},{"$f":"INDIRECT(\"'関数（読み）'!C\" & COLUMN(F$1)+SUM($AD$2:$AD402))","v":0},{"$f":"INDIRECT(\"'関数（読み）'!C\" & COLUMN(G$1)+SUM($AD$2:$AD402))","v":0},{"$f":"INDIRECT(\"'関数（読み）'!C\" & COLUMN(H$1)+SUM($AD$2:$AD402))","v":0},{"$f":"INDIRECT(\"'関数（読み）'!C\" & COLUMN(I$1)+SUM($AD$2:$AD402))","v":0},{"$f":"INDIRECT(\"'関数（読み）'!C\" & COLUMN(J$1)+SUM($AD$2:$AD402))","v":0},{"$f":"INDIRECT(\"'関数（読み）'!C\" & COLUMN(K$1)+SUM($AD$2:$AD402))","v":0}]
["⑳","⑲","⑱","⑰","⑯","⑮","⑭","⑬","⑫","⑪","⑩","⑨","⑧","⑦","⑥","⑤","④","③","②","①","次の［　　　　］の部分の漢字には読みがなをひらがなで書き、カタカナは漢字に直しなさい。",15,"「漢字の博士検定試験」練習問題　",null,null,null,null,null,"←",10,"問",{"$f":"AH387+1","v":401},"～",{"$f":"SUM($AD$2:$AD402)+10","v":410},"問まで",{"$f":"COUNTIF($A$1:$T$200,T403)","v":195}]
[{"$f":"IF(A401=\"\",\"\",VLOOKUP(A401,漢字書き!$A$2:$N$506,6,0))","v":{"$error":"#N/A"}},{"$f":"IF(B401=\"\",\"\",VLOOKUP(B401,漢字書き!$A$2:$N$506,6,0))","v":{"$error":"#N/A"}},{"$f":"IF(C401=\"\",\"\",VLOOKUP(C401,漢字書き!$A$2:$N$506,6,0))","v":{"$error":"#N/A"}},{"$f":"IF(D401=\"\",\"\",VLOOKUP(D401,漢字書き!$A$2:$N$506,6,0))","v":{"$error":"#N/A"}},{"$f":"IF(E401=\"\",\"\",VLOOKUP(E401,漢字書き!$A$2:$N$506,6,0))","v":{"$error":"#N/A"}},{"$f":"IF(F401=\"\",\"\",VLOOKUP(F401,漢字書き!$A$2:$N$506,6,0))","v":{"$error":"#N/A"}},{"$f":"IF(G401=\"\",\"\",VLOOKUP(G401,漢字書き!$A$2:$N$506,6,0))","v":{"$error":"#N/A"}},{"$f":"IF(H401=\"\",\"\",VLOOKUP(H401,漢字書き!$A$2:$N$506,6,0))","v":{"$error":"#N/A"}},{"$f":"IF(I401=\"\",\"\",VLOOKUP(I401,漢字書き!$A$2:$N$506,6,0))","v":{"$error":"#N/A"}},{"$f":"IF(J401=\"\",\"\",VLOOKUP(J401,漢字書き!$A$2:$N$506,6,0))","v":{"$error":"#N/A"}},{"$f":"IF(K401=\"\",\"\",VLOOKUP(K401,漢字読み!$A$2:$O$506,6,0))","v":{"$error":"#N/A"}},{"$f":"IF(L401=\"\",\"\",VLOOKUP(L401,漢字読み!$A$2:$O$506,6,0))","v":{"$error":"#N/A"}},{"$f":"IF(M401=\"\",\"\",VLOOKUP(M401,漢字読み!$A$2:$O$506,6,0))","v":{"$error":"#N/A"}},{"$f":"IF(N401=\"\",\"\",VLOOKUP(N401,漢字読み!$A$2:$O$506,6,0))","v":{"$error":"#N/A"}},{"$f":"IF(O401=\"\",\"\",VLOOKUP(O401,漢字読み!$A$2:$O$506,6,0))","v":{"$error":"#N/A"}},{"$f":"IF(P401=\"\",\"\",VLOOKUP(P401,漢字読み!$A$2:$O$506,6,0))","v":{"$error":"#N/A"}},{"$f":"IF(Q401=\"\",\"\",VLOOKUP(Q401,漢字読み!$A$2:$O$506,6,0))","v":{"$error":"#N/A"}},{"$f":"IF(R401=\"\",\"\",VLOOKUP(R401,漢字読み!$A$2:$O$506,6,0))","v":{"$error":"#N/A"}},{"$f":"IF(S401=\"\",\"\",VLOOKUP(S401,漢字読み!$A$2:$O$506,6,0))","v":{"$error":"#N/A"}},{"$f":"IF(T401=\"\",\"\",VLOOKUP(T401,漢字読み!$A$2:$O$506,6,0))","v":{"$error":"#N/A"}},null,"級"]
[null,null,null,null,null,null,null,null,null,null,null,null,null,null,null,null,null,null,null,null,null,"名前"]
[{"$f":"IF(A401=\"\",\"\",IF(VLOOKUP(A401,漢字書き!$A$2:$N$502,7,0)=0,\"\",VLOOKUP(A401,漢字書き!$A$2:$N$502,7,0)))","v":{"$error":"#N/A"}},{"$f":"IF(B401=\"\",\"\",IF(VLOOKUP(B401,漢字書き!$A$2:$N$502,7,0)=0,\"\",VLOOKUP(B401,漢字書き!$A$2:$N$502,7,0)))","v":{"$error":"#N/A"}},{"$f":"IF(C401=\"\",\"\",IF(VLOOKUP(C401,漢字書き!$A$2:$N$502,7,0)=0,\"\",VLOOKUP(C401,漢字書き!$A$2:$N$502,7,0)))","v":{"$error":"#N/A"}},{"$f":"IF(D401=\"\",\"\",IF(VLOOKUP(D401,漢字書き!$A$2:$N$502,7,0)=0,\"\",VLOOKUP(D401,漢字書き!$A$2:$N$502,7,0)))","v":{"$error":"#N/A"}},{"$f":"IF(E401=\"\",\"\",IF(VLOOKUP(E401,漢字書き!$A$2:$N$502,7,0)=0,\"\",VLOOKUP(E401,漢字書き!$A$2:$N$502,7,0)))","v":{"$error":"#N/A"}},{"$f":"IF(F401=\"\",\"\",IF(VLOOKUP(F401,漢字書き!$A$2:$N$502,7,0)=0,\"\",VLOOKUP(F401,漢字書き!$A$2:$N$502,7,0)))","v":{"$error":"#N/A"}},{"$f":"IF(G401=\"\",\"\",IF(VLOOKUP(G401,漢字書き!$A$2:$N$502,7,0)=0,\"\",VLOOKUP(G401,漢字書き!$A$2:$N$502,7,0)))","v":{"$error":"#N/A"}},{"$f":"IF(H401=\"\",\"\",IF(VLOOKUP(H401,漢字書き!$A$2:$N$502,7,0)=0,\"\",VLOOKUP(H401,漢字書き!$A$2:$N$502,7,0)))","v":{"$error":"#N/A"}},{"$f":"IF(I401=\"\",\"\",IF(VLOOKUP(I401,漢字書き!$A$2:$N$502,7,0)=0,\"\",VLOOKUP(I401,漢字書き!$A$2:$N$502,7,0)))","v":{"$error":"#N/A"}},{"$f":"IF(J401=\"\",\"\",IF(VLOOKUP(J401,漢字書き!$A$2:$N$502,7,0)=0,\"\",VLOOKUP(J401,漢字書き!$A$2:$N$502,7,0)))","v":{"$error":"#N/A"}},{"$f":"IF(K401=\"\",\"\",IF(VLOOKUP(K401,漢字読み!$A$2:$O$502,7,0)=0,\"\",VLOOKUP(K401,漢字読み!$A$2:$O$502,7,0)))","v":{"$error":"#N/A"}},{"$f":"IF(L401=\"\",\"\",IF(VLOOKUP(L401,漢字読み!$A$2:$O$502,7,0)=0,\"\",VLOOKUP(L401,漢字読み!$A$2:$O$502,7,0)))","v":{"$error":"#N/A"}},{"$f":"IF(M401=\"\",\"\",IF(VLOOKUP(M401,漢字読み!$A$2:$O$502,7,0)=0,\"\",VLOOKUP(M401,漢字読み!$A$2:$O$502,7,0)))","v":{"$error":"#N/A"}},{"$f":"IF(N401=\"\",\"\",IF(VLOOKUP(N401,漢字読み!$A$2:$O$502,7,0)=0,\"\",VLOOKUP(N401,漢字読み!$A$2:$O$502,7,0)))","v":{"$error":"#N/A"}},{"$f":"IF(O401=\"\",\"\",IF(VLOOKUP(O401,漢字読み!$A$2:$O$502,7,0)=0,\"\",VLOOKUP(O401,漢字読み!$A$2:$O$502,7,0)))","v":{"$error":"#N/A"}},{"$f":"IF(P401=\"\",\"\",IF(VLOOKUP(P401,漢字読み!$A$2:$O$502,7,0)=0,\"\",VLOOKUP(P401,漢字読み!$A$2:$O$502,7,0)))","v":{"$error":"#N/A"}},{"$f":"IF(Q401=\"\",\"\",IF(VLOOKUP(Q401,漢字読み!$A$2:$O$502,7,0)=0,\"\",VLOOKUP(Q401,漢字読み!$A$2:$O$502,7,0)))","v":{"$error":"#N/A"}},{"$f":"IF(R401=\"\",\"\",IF(VLOOKUP(R401,漢字読み!$A$2:$O$502,7,0)=0,\"\",VLOOKUP(R401,漢字読み!$A$2:$O$502,7,0)))","v":{"$error":"#N/A"}},{"$f":"IF(S401=\"\",\"\",IF(VLOOKUP(S401,漢字読み!$A$2:$O$502,7,0)=0,\"\",VLOOKUP(S401,漢字読み!$A$2:$O$502,7,0)))","v":{"$error":"#N/A"}},{"$f":"IF(T401=\"\",\"\",IF(VLOOKUP(T401,漢字読み!$A$2:$O$502,7,0)=0,\"\",VLOOKUP(T401,漢字読み!$A$2:$O$502,7,0)))","v":{"$error":"#N/A"}},null,null,"和歌山県教育委員会"]
[{"$f":"INDIRECT(\"'関数（書き）'!C\" & COLUMN(B$1)+SUM($AD$2:$AD407))","v":0},{"$f":"INDIRECT(\"'関数（書き）'!C\" & COLUMN(C$1)+SUM($AD$2:$AD407))","v":0},{"$f":"INDIRECT(\"'関数（書き）'!C\" & COLUMN(D$1)+SUM($AD$2:$AD407))","v":0},{"$f":"INDIRECT(\"'関数（書き）'!C\" & COLUMN(E$1)+SUM($AD$2:$AD407))","v":0},{"$f":"INDIRECT(\"'関数（書き）'!C\" & COLUMN(F$1)+SUM($AD$2:$AD407))","v":0},{"$f":"INDIRECT(\"'関数（書き）'!C\" & COLUMN(G$1)+SUM($AD$2:$AD407))","v":0},{"$f":"INDIRECT(\"'関数（書き）'!C\" & COLUMN(H$1)+SUM($AD$2:$AD407))","v":0},{"$f":"INDIRECT(\"'関数（書き）'!C\" & COLUMN(I$1)+SUM($AD$2:$AD407))","v":0},{"$f":"INDIRECT(\"'関数（書き）'!C\" & COLUMN(J$1)+SUM($AD$2:$AD407))","v":0},{"$f":"INDIRECT(\"'関数（書き）'!C\" & COLUMN(K$1)+SUM($AD$2:$AD407))","v":0},{"$f":"INDIRECT(\"'関数（読み）'!C\" & COLUMN(B$1)+SUM($AD$2:$AD407))","v":0},{"$f":"INDIRECT(\"'関数（読み）'!C\" & COLUMN(C$1)+SUM($AD$2:$AD407))","v":0},{"$f":"INDIRECT(\"'関数（読み）'!C\" & COLUMN(D$1)+SUM($AD$2:$AD407))","v":0},{"$f":"INDIRECT(\"'関数（読み）'!C\" & COLUMN(E$1)+SUM($AD$2:$AD407))","v":0},{"$f":"INDIRECT(\"'関数（読み）'!C\" & COLUMN(F$1)+SUM($AD$2:$AD407))","v":0},{"$f":"INDIRECT(\"'関数（読み）'!C\" & COLUMN(G$1)+SUM($AD$2:$AD407))","v":0},{"$f":"INDIRECT(\"'関数（読み）'!C\" & COLUMN(H$1)+SUM($AD$2:$AD407))","v":0},{"$f":"INDIRECT(\"'関数（読み）'!C\" & COLUMN(I$1)+SUM($AD$2:$AD407))","v":0},{"$f":"INDIRECT(\"'関数（読み）'!C\" & COLUMN(J$1)+SUM($AD$2:$AD407))","v":0},{"$f":"INDIRECT(\"'関数（読み）'!C\" & COLUMN(K$1)+SUM($AD$2:$AD407))","v":0}]
["⑳","⑲","⑱","⑰","⑯","⑮","⑭","⑬","⑫","⑪","⑩","⑨","⑧","⑦","⑥","⑤","④","③","②","①","次の［　　　　］の部分の漢字には読みがなをひらがなで書き、カタカナは漢字に直しなさい。",15,"「漢字の博士検定試験」練習問題　",null,null,null,null,null,"←",10,"問",{"$f":"AH402+1","v":411},"～",{"$f":"SUM($AD$2:$AD407)+10","v":420},"問まで",{"$f":"COUNTIF($A$1:$T$200,T408)","v":195}]
[{"$f":"IF(A406=\"\",\"\",VLOOKUP(A406,漢字書き!$A$2:$N$506,6,0))","v":{"$error":"#N/A"}},{"$f":"IF(B406=\"\",\"\",VLOOKUP(B406,漢字書き!$A$2:$N$506,6,0))","v":{"$error":"#N/A"}},{"$f":"IF(C406=\"\",\"\",VLOOKUP(C406,漢字書き!$A$2:$N$506,6,0))","v":{"$error":"#N/A"}},{"$f":"IF(D406=\"\",\"\",VLOOKUP(D406,漢字書き!$A$2:$N$506,6,0))","v":{"$error":"#N/A"}},{"$f":"IF(E406=\"\",\"\",VLOOKUP(E406,漢字書き!$A$2:$N$506,6,0))","v":{"$error":"#N/A"}},{"$f":"IF(F406=\"\",\"\",VLOOKUP(F406,漢字書き!$A$2:$N$506,6,0))","v":{"$error":"#N/A"}},{"$f":"IF(G406=\"\",\"\",VLOOKUP(G406,漢字書き!$A$2:$N$506,6,0))","v":{"$error":"#N/A"}},{"$f":"IF(H406=\"\",\"\",VLOOKUP(H406,漢字書き!$A$2:$N$506,6,0))","v":{"$error":"#N/A"}},{"$f":"IF(I406=\"\",\"\",VLOOKUP(I406,漢字書き!$A$2:$N$506,6,0))","v":{"$error":"#N/A"}},{"$f":"IF(J406=\"\",\"\",VLOOKUP(J406,漢字書き!$A$2:$N$506,6,0))","v":{"$error":"#N/A"}},{"$f":"IF(K406=\"\",\"\",VLOOKUP(K406,漢字読み!$A$2:$O$506,6,0))","v":{"$error":"#N/A"}},{"$f":"IF(L406=\"\",\"\",VLOOKUP(L406,漢字読み!$A$2:$O$506,6,0))","v":{"$error":"#N/A"}},{"$f":"IF(M406=\"\",\"\",VLOOKUP(M406,漢字読み!$A$2:$O$506,6,0))","v":{"$error":"#N/A"}},{"$f":"IF(N406=\"\",\"\",VLOOKUP(N406,漢字読み!$A$2:$O$506,6,0))","v":{"$error":"#N/A"}},{"$f":"IF(O406=\"\",\"\",VLOOKUP(O406,漢字読み!$A$2:$O$506,6,0))","v":{"$error":"#N/A"}},{"$f":"IF(P406=\"\",\"\",VLOOKUP(P406,漢字読み!$A$2:$O$506,6,0))","v":{"$error":"#N/A"}},{"$f":"IF(Q406=\"\",\"\",VLOOKUP(Q406,漢字読み!$A$2:$O$506,6,0))","v":{"$error":"#N/A"}},{"$f":"IF(R406=\"\",\"\",VLOOKUP(R406,漢字読み!$A$2:$O$506,6,0))","v":{"$error":"#N/A"}},{"$f":"IF(S406=\"\",\"\",VLOOKUP(S406,漢字読み!$A$2:$O$506,6,0))","v":{"$error":"#N/A"}},{"$f":"IF(T406=\"\",\"\",VLOOKUP(T406,漢字読み!$A$2:$O$506,6,0))","v":{"$error":"#N/A"}},null,"級"]
[null,null,null,null,null,null,null,null,null,null,null,null,null,null,null,null,null,null,null,null,null,"名前"]
[{"$f":"IF(A406=\"\",\"\",IF(VLOOKUP(A406,漢字書き!$A$2:$N$502,7,0)=0,\"\",VLOOKUP(A406,漢字書き!$A$2:$N$502,7,0)))","v":{"$error":"#N/A"}},{"$f":"IF(B406=\"\",\"\",IF(VLOOKUP(B406,漢字書き!$A$2:$N$502,7,0)=0,\"\",VLOOKUP(B406,漢字書き!$A$2:$N$502,7,0)))","v":{"$error":"#N/A"}},{"$f":"IF(C406=\"\",\"\",IF(VLOOKUP(C406,漢字書き!$A$2:$N$502,7,0)=0,\"\",VLOOKUP(C406,漢字書き!$A$2:$N$502,7,0)))","v":{"$error":"#N/A"}},{"$f":"IF(D406=\"\",\"\",IF(VLOOKUP(D406,漢字書き!$A$2:$N$502,7,0)=0,\"\",VLOOKUP(D406,漢字書き!$A$2:$N$502,7,0)))","v":{"$error":"#N/A"}},{"$f":"IF(E406=\"\",\"\",IF(VLOOKUP(E406,漢字書き!$A$2:$N$502,7,0)=0,\"\",VLOOKUP(E406,漢字書き!$A$2:$N$502,7,0)))","v":{"$error":"#N/A"}},{"$f":"IF(F406=\"\",\"\",IF(VLOOKUP(F406,漢字書き!$A$2:$N$502,7,0)=0,\"\",VLOOKUP(F406,漢字書き!$A$2:$N$502,7,0)))","v":{"$error":"#N/A"}},{"$f":"IF(G406=\"\",\"\",IF(VLOOKUP(G406,漢字書き!$A$2:$N$502,7,0)=0,\"\",VLOOKUP(G406,漢字書き!$A$2:$N$502,7,0)))","v":{"$error":"#N/A"}},{"$f":"IF(H406=\"\",\"\",IF(VLOOKUP(H406,漢字書き!$A$2:$N$502,7,0)=0,\"\",VLOOKUP(H406,漢字書き!$A$2:$N$502,7,0)))","v":{"$error":"#N/A"}},{"$f":"IF(I406=\"\",\"\",IF(VLOOKUP(I406,漢字書き!$A$2:$N$502,7,0)=0,\"\",VLOOKUP(I406,漢字書き!$A$2:$N$502,7,0)))","v":{"$error":"#N/A"}},{"$f":"IF(J406=\"\",\"\",IF(VLOOKUP(J406,漢字書き!$A$2:$N$502,7,0)=0,\"\",VLOOKUP(J406,漢字書き!$A$2:$N$502,7,0)))","v":{"$error":"#N/A"}},{"$f":"IF(K406=\"\",\"\",IF(VLOOKUP(K406,漢字読み!$A$2:$O$502,7,0)=0,\"\",VLOOKUP(K406,漢字読み!$A$2:$O$502,7,0)))","v":{"$error":"#N/A"}},{"$f":"IF(L406=\"\",\"\",IF(VLOOKUP(L406,漢字読み!$A$2:$O$502,7,0)=0,\"\",VLOOKUP(L406,漢字読み!$A$2:$O$502,7,0)))","v":{"$error":"#N/A"}},{"$f":"IF(M406=\"\",\"\",IF(VLOOKUP(M406,漢字読み!$A$2:$O$502,7,0)=0,\"\",VLOOKUP(M406,漢字読み!$A$2:$O$502,7,0)))","v":{"$error":"#N/A"}},{"$f":"IF(N406=\"\",\"\",IF(VLOOKUP(N406,漢字読み!$A$2:$O$502,7,0)=0,\"\",VLOOKUP(N406,漢字読み!$A$2:$O$502,7,0)))","v":{"$error":"#N/A"}},{"$f":"IF(O406=\"\",\"\",IF(VLOOKUP(O406,漢字読み!$A$2:$O$502,7,0)=0,\"\",VLOOKUP(O406,漢字読み!$A$2:$O$502,7,0)))","v":{"$error":"#N/A"}},{"$f":"IF(P406=\"\",\"\",IF(VLOOKUP(P406,漢字読み!$A$2:$O$502,7,0)=0,\"\",VLOOKUP(P406,漢字読み!$A$2:$O$502,7,0)))","v":{"$error":"#N/A"}},{"$f":"IF(Q406=\"\",\"\",IF(VLOOKUP(Q406,漢字読み!$A$2:$O$502,7,0)=0,\"\",VLOOKUP(Q406,漢字読み!$A$2:$O$502,7,0)))","v":{"$error":"#N/A"}},{"$f":"IF(R406=\"\",\"\",IF(VLOOKUP(R406,漢字読み!$A$2:$O$502,7,0)=0,\"\",VLOOKUP(R406,漢字読み!$A$2:$O$502,7,0)))","v":{"$error":"#N/A"}},{"$f":"IF(S406=\"\",\"\",IF(VLOOKUP(S406,漢字読み!$A$2:$O$502,7,0)=0,\"\",VLOOKUP(S406,漢字読み!$A$2:$O$502,7,0)))","v":{"$error":"#N/A"}},{"$f":"IF(T406=\"\",\"\",IF(VLOOKUP(T406,漢字読み!$A$2:$O$502,7,0)=0,\"\",VLOOKUP(T406,漢字読み!$A$2:$O$502,7,0)))","v":{"$error":"#N/A"}},null,null,"和歌山県教育委員会"]
[{"$f":"A401","v":0},{"$f":"B401","v":0},0,0,0,0,0,0,0,0,0,0,0,0,0,0,0,0,0,0]
["⑳","⑲","⑱","⑰","⑯","⑮","⑭","⑬","⑫","⑪","⑩","⑨","⑧","⑦","⑥","⑤","④","③","②","①","次の［　　　　］の部分の漢字には読みがなをひらがなで書き、カタカナは漢字に直しなさい。",15,"「漢字の博士検定試験」練習問題　"]
[{"$f":"IF(A411=\"\",\"\",VLOOKUP(A411,漢字書き!$A$2:$N$506,6,0))","v":{"$error":"#N/A"}},{"$f":"IF(B411=\"\",\"\",VLOOKUP(B411,漢字書き!$A$2:$N$506,6,0))","v":{"$error":"#N/A"}},{"$f":"IF(C411=\"\",\"\",VLOOKUP(C411,漢字書き!$A$2:$N$506,6,0))","v":{"$error":"#N/A"}},{"$f":"IF(D411=\"\",\"\",VLOOKUP(D411,漢字書き!$A$2:$N$506,6,0))","v":{"$error":"#N/A"}},{"$f":"IF(E411=\"\",\"\",VLOOKUP(E411,漢字書き!$A$2:$N$506,6,0))","v":{"$error":"#N/A"}},{"$f":"IF(F411=\"\",\"\",VLOOKUP(F411,漢字書き!$A$2:$N$506,6,0))","v":{"$error":"#N/A"}},{"$f":"IF(G411=\"\",\"\",VLOOKUP(G411,漢字書き!$A$2:$N$506,6,0))","v":{"$error":"#N/A"}},{"$f":"IF(H411=\"\",\"\",VLOOKUP(H411,漢字書き!$A$2:$N$506,6,0))","v":{"$error":"#N/A"}},{"$f":"IF(I411=\"\",\"\",VLOOKUP(I411,漢字書き!$A$2:$N$506,6,0))","v":{"$error":"#N/A"}},{"$f":"IF(J411=\"\",\"\",VLOOKUP(J411,漢字書き!$A$2:$N$506,6,0))","v":{"$error":"#N/A"}},{"$f":"IF(K411=\"\",\"\",VLOOKUP(K411,漢字読み!$A$2:$O$506,6,0))","v":{"$error":"#N/A"}},{"$f":"IF(L411=\"\",\"\",VLOOKUP(L411,漢字読み!$A$2:$O$506,6,0))","v":{"$error":"#N/A"}},{"$f":"IF(M411=\"\",\"\",VLOOKUP(M411,漢字読み!$A$2:$O$506,6,0))","v":{"$error":"#N/A"}},{"$f":"IF(N411=\"\",\"\",VLOOKUP(N411,漢字読み!$A$2:$O$506,6,0))","v":{"$error":"#N/A"}},{"$f":"IF(O411=\"\",\"\",VLOOKUP(O411,漢字読み!$A$2:$O$506,6,0))","v":{"$error":"#N/A"}},{"$f":"IF(P411=\"\",\"\",VLOOKUP(P411,漢字読み!$A$2:$O$506,6,0))","v":{"$error":"#N/A"}},{"$f":"IF(Q411=\"\",\"\",VLOOKUP(Q411,漢字読み!$A$2:$O$506,6,0))","v":{"$error":"#N/A"}},{"$f":"IF(R411=\"\",\"\",VLOOKUP(R411,漢字読み!$A$2:$O$506,6,0))","v":{"$error":"#N/A"}},{"$f":"IF(S411=\"\",\"\",VLOOKUP(S411,漢字読み!$A$2:$O$506,6,0))","v":{"$error":"#N/A"}},{"$f":"IF(T411=\"\",\"\",VLOOKUP(T411,漢字読み!$A$2:$O$506,6,0))","v":{"$error":"#N/A"}},null,"級"]
[{"$f":"IF(A$11=\"\",\"\",VLOOKUP(A411,漢字書き!$A$2:$O$506,8,0))","v":{"$error":"#N/A"}},{"$f":"IF(B$11=\"\",\"\",VLOOKUP(B411,漢字書き!$A$2:$O$506,8,0))","v":{"$error":"#N/A"}},{"$f":"IF(C$11=\"\",\"\",VLOOKUP(C411,漢字書き!$A$2:$O$506,8,0))","v":{"$error":"#N/A"}},{"$f":"IF(D$11=\"\",\"\",VLOOKUP(D411,漢字書き!$A$2:$O$506,8,0))","v":{"$error":"#N/A"}},{"$f":"IF(E$11=\"\",\"\",VLOOKUP(E411,漢字書き!$A$2:$O$506,8,0))","v":{"$error":"#N/A"}},{"$f":"IF(F$11=\"\",\"\",VLOOKUP(F411,漢字書き!$A$2:$O$506,8,0))","v":{"$error":"#N/A"}},{"$f":"IF(G$11=\"\",\"\",VLOOKUP(G411,漢字書き!$A$2:$O$506,8,0))","v":{"$error":"#N/A"}},{"$f":"IF(H$11=\"\",\"\",VLOOKUP(H411,漢字書き!$A$2:$O$506,8,0))","v":{"$error":"#N/A"}},{"$f":"IF(I$11=\"\",\"\",VLOOKUP(I411,漢字書き!$A$2:$O$506,8,0))","v":{"$error":"#N/A"}},{"$f":"IF(J$11=\"\",\"\",VLOOKUP(J411,漢字書き!$A$2:$O$506,8,0))","v":{"$error":"#N/A"}},{"$f":"IF(K$11=\"\",\"\",VLOOKUP(K411,漢字読み!$A$2:$O$506,8,0))","v":{"$error":"#N/A"}},{"$f":"IF(L$11=\"\",\"\",VLOOKUP(L411,漢字読み!$A$2:$O$506,8,0))","v":{"$error":"#N/A"}},{"$f":"IF(M$11=\"\",\"\",VLOOKUP(M411,漢字読み!$A$2:$O$506,8,0))","v":{"$error":"#N/A"}},{"$f":"IF(N$11=\"\",\"\",VLOOKUP(N411,漢字読み!$A$2:$O$506,8,0))","v":{"$error":"#N/A"}},{"$f":"IF(O$11=\"\",\"\",VLOOKUP(O411,漢字読み!$A$2:$O$506,8,0))","v":{"$error":"#N/A"}},{"$f":"IF(P$11=\"\",\"\",VLOOKUP(P411,漢字読み!$A$2:$O$506,8,0))","v":{"$error":"#N/A"}},{"$f":"IF(Q$11=\"\",\"\",VLOOKUP(Q411,漢字読み!$A$2:$O$506,8,0))","v":{"$error":"#N/A"}},{"$f":"IF(R$11=\"\",\"\",VLOOKUP(R411,漢字読み!$A$2:$O$506,8,0))","v":{"$error":"#N/A"}},{"$f":"IF(S$11=\"\",\"\",VLOOKUP(S411,漢字読み!$A$2:$O$506,8,0))","v":{"$error":"#N/A"}},{"$f":"IF(T$11=\"\",\"\",VLOOKUP(T411,漢字読み!$A$2:$O$506,8,0))","v":{"$error":"#N/A"}},null,"名前"]
[{"$f":"IF(A411=\"\",\"\",IF(VLOOKUP(A411,漢字書き!$A$2:$N$502,7,0)=0,\"\",VLOOKUP(A411,漢字書き!$A$2:$N$502,7,0)))","v":{"$error":"#N/A"}},{"$f":"IF(B411=\"\",\"\",IF(VLOOKUP(B411,漢字書き!$A$2:$N$502,7,0)=0,\"\",VLOOKUP(B411,漢字書き!$A$2:$N$502,7,0)))","v":{"$error":"#N/A"}},{"$f":"IF(C411=\"\",\"\",IF(VLOOKUP(C411,漢字書き!$A$2:$N$502,7,0)=0,\"\",VLOOKUP(C411,漢字書き!$A$2:$N$502,7,0)))","v":{"$error":"#N/A"}},{"$f":"IF(D411=\"\",\"\",IF(VLOOKUP(D411,漢字書き!$A$2:$N$502,7,0)=0,\"\",VLOOKUP(D411,漢字書き!$A$2:$N$502,7,0)))","v":{"$error":"#N/A"}},{"$f":"IF(E411=\"\",\"\",IF(VLOOKUP(E411,漢字書き!$A$2:$N$502,7,0)=0,\"\",VLOOKUP(E411,漢字書き!$A$2:$N$502,7,0)))","v":{"$error":"#N/A"}},{"$f":"IF(F411=\"\",\"\",IF(VLOOKUP(F411,漢字書き!$A$2:$N$502,7,0)=0,\"\",VLOOKUP(F411,漢字書き!$A$2:$N$502,7,0)))","v":{"$error":"#N/A"}},{"$f":"IF(G411=\"\",\"\",IF(VLOOKUP(G411,漢字書き!$A$2:$N$502,7,0)=0,\"\",VLOOKUP(G411,漢字書き!$A$2:$N$502,7,0)))","v":{"$error":"#N/A"}},{"$f":"IF(H411=\"\",\"\",IF(VLOOKUP(H411,漢字書き!$A$2:$N$502,7,0)=0,\"\",VLOOKUP(H411,漢字書き!$A$2:$N$502,7,0)))","v":{"$error":"#N/A"}},{"$f":"IF(I411=\"\",\"\",IF(VLOOKUP(I411,漢字書き!$A$2:$N$502,7,0)=0,\"\",VLOOKUP(I411,漢字書き!$A$2:$N$502,7,0)))","v":{"$error":"#N/A"}},{"$f":"IF(J411=\"\",\"\",IF(VLOOKUP(J411,漢字書き!$A$2:$N$502,7,0)=0,\"\",VLOOKUP(J411,漢字書き!$A$2:$N$502,7,0)))","v":{"$error":"#N/A"}},{"$f":"IF(K411=\"\",\"\",IF(VLOOKUP(K411,漢字読み!$A$2:$O$502,7,0)=0,\"\",VLOOKUP(K411,漢字読み!$A$2:$O$502,7,0)))","v":{"$error":"#N/A"}},{"$f":"IF(L411=\"\",\"\",IF(VLOOKUP(L411,漢字読み!$A$2:$O$502,7,0)=0,\"\",VLOOKUP(L411,漢字読み!$A$2:$O$502,7,0)))","v":{"$error":"#N/A"}},{"$f":"IF(M411=\"\",\"\",IF(VLOOKUP(M411,漢字読み!$A$2:$O$502,7,0)=0,\"\",VLOOKUP(M411,漢字読み!$A$2:$O$502,7,0)))","v":{"$error":"#N/A"}},{"$f":"IF(N411=\"\",\"\",IF(VLOOKUP(N411,漢字読み!$A$2:$O$502,7,0)=0,\"\",VLOOKUP(N411,漢字読み!$A$2:$O$502,7,0)))","v":{"$error":"#N/A"}},{"$f":"IF(O411=\"\",\"\",IF(VLOOKUP(O411,漢字読み!$A$2:$O$502,7,0)=0,\"\",VLOOKUP(O411,漢字読み!$A$2:$O$502,7,0)))","v":{"$error":"#N/A"}},{"$f":"IF(P411=\"\",\"\",IF(VLOOKUP(P411,漢字読み!$A$2:$O$502,7,0)=0,\"\",VLOOKUP(P411,漢字読み!$A$2:$O$502,7,0)))","v":{"$error":"#N/A"}},{"$f":"IF(Q411=\"\",\"\",IF(VLOOKUP(Q411,漢字読み!$A$2:$O$502,7,0)=0,\"\",VLOOKUP(Q411,漢字読み!$A$2:$O$502,7,0)))","v":{"$error":"#N/A"}},{"$f":"IF(R411=\"\",\"\",IF(VLOOKUP(R411,漢字読み!$A$2:$O$502,7,0)=0,\"\",VLOOKUP(R411,漢字読み!$A$2:$O$502,7,0)))","v":{"$error":"#N/A"}},{"$f":"IF(S411=\"\",\"\",IF(VLOOKUP(S411,漢字読み!$A$2:$O$502,7,0)=0,\"\",VLOOKUP(S411,漢字読み!$A$2:$O$502,7,0)))","v":{"$error":"#N/A"}},{"$f":"IF(T411=\"\",\"\",IF(VLOOKUP(T411,漢字読み!$A$2:$O$502,7,0)=0,\"\",VLOOKUP(T411,漢字読み!$A$2:$O$502,7,0)))","v":{"$error":"#N/A"}},null,null,"和歌山県教育委員会"]
[{"$f":"A406","v":0},{"$f":"B406","v":0},0,0,0,0,0,0,0,0,0,0,0,0,0,0,0,0,0,0]
["⑳","⑲","⑱","⑰","⑯","⑮","⑭","⑬","⑫","⑪","⑩","⑨","⑧","⑦","⑥","⑤","④","③","②","①","次の［　　　　］の部分の漢字には読みがなをひらがなで書き、カタカナは漢字に直しなさい。",15,"「漢字の博士検定試験」練習問題　"]
[{"$f":"IF(A416=\"\",\"\",VLOOKUP(A416,漢字書き!$A$2:$N$506,6,0))","v":{"$error":"#N/A"}},{"$f":"IF(B416=\"\",\"\",VLOOKUP(B416,漢字書き!$A$2:$N$506,6,0))","v":{"$error":"#N/A"}},{"$f":"IF(C416=\"\",\"\",VLOOKUP(C416,漢字書き!$A$2:$N$506,6,0))","v":{"$error":"#N/A"}},{"$f":"IF(D416=\"\",\"\",VLOOKUP(D416,漢字書き!$A$2:$N$506,6,0))","v":{"$error":"#N/A"}},{"$f":"IF(E416=\"\",\"\",VLOOKUP(E416,漢字書き!$A$2:$N$506,6,0))","v":{"$error":"#N/A"}},{"$f":"IF(F416=\"\",\"\",VLOOKUP(F416,漢字書き!$A$2:$N$506,6,0))","v":{"$error":"#N/A"}},{"$f":"IF(G416=\"\",\"\",VLOOKUP(G416,漢字書き!$A$2:$N$506,6,0))","v":{"$error":"#N/A"}},{"$f":"IF(H416=\"\",\"\",VLOOKUP(H416,漢字書き!$A$2:$N$506,6,0))","v":{"$error":"#N/A"}},{"$f":"IF(I416=\"\",\"\",VLOOKUP(I416,漢字書き!$A$2:$N$506,6,0))","v":{"$error":"#N/A"}},{"$f":"IF(J416=\"\",\"\",VLOOKUP(J416,漢字書き!$A$2:$N$506,6,0))","v":{"$error":"#N/A"}},{"$f":"IF(K416=\"\",\"\",VLOOKUP(K416,漢字読み!$A$2:$O$506,6,0))","v":{"$error":"#N/A"}},{"$f":"IF(L416=\"\",\"\",VLOOKUP(L416,漢字読み!$A$2:$O$506,6,0))","v":{"$error":"#N/A"}},{"$f":"IF(M416=\"\",\"\",VLOOKUP(M416,漢字読み!$A$2:$O$506,6,0))","v":{"$error":"#N/A"}},{"$f":"IF(N416=\"\",\"\",VLOOKUP(N416,漢字読み!$A$2:$O$506,6,0))","v":{"$error":"#N/A"}},{"$f":"IF(O416=\"\",\"\",VLOOKUP(O416,漢字読み!$A$2:$O$506,6,0))","v":{"$error":"#N/A"}},{"$f":"IF(P416=\"\",\"\",VLOOKUP(P416,漢字読み!$A$2:$O$506,6,0))","v":{"$error":"#N/A"}},{"$f":"IF(Q416=\"\",\"\",VLOOKUP(Q416,漢字読み!$A$2:$O$506,6,0))","v":{"$error":"#N/A"}},{"$f":"IF(R416=\"\",\"\",VLOOKUP(R416,漢字読み!$A$2:$O$506,6,0))","v":{"$error":"#N/A"}},{"$f":"IF(S416=\"\",\"\",VLOOKUP(S416,漢字読み!$A$2:$O$506,6,0))","v":{"$error":"#N/A"}},{"$f":"IF(T416=\"\",\"\",VLOOKUP(T416,漢字読み!$A$2:$O$506,6,0))","v":{"$error":"#N/A"}},null,"級"]
[{"$f":"IF(A$16=\"\",\"\",VLOOKUP(A416,漢字書き!$A$2:$O$506,8,0))","v":{"$error":"#N/A"}},{"$f":"IF(B$16=\"\",\"\",VLOOKUP(B416,漢字書き!$A$2:$O$506,8,0))","v":{"$error":"#N/A"}},{"$f":"IF(C$16=\"\",\"\",VLOOKUP(C416,漢字書き!$A$2:$O$506,8,0))","v":{"$error":"#N/A"}},{"$f":"IF(D$16=\"\",\"\",VLOOKUP(D416,漢字書き!$A$2:$O$506,8,0))","v":{"$error":"#N/A"}},{"$f":"IF(E$16=\"\",\"\",VLOOKUP(E416,漢字書き!$A$2:$O$506,8,0))","v":{"$error":"#N/A"}},{"$f":"IF(F$16=\"\",\"\",VLOOKUP(F416,漢字書き!$A$2:$O$506,8,0))","v":{"$error":"#N/A"}},{"$f":"IF(G$16=\"\",\"\",VLOOKUP(G416,漢字書き!$A$2:$O$506,8,0))","v":{"$error":"#N/A"}},{"$f":"IF(H$16=\"\",\"\",VLOOKUP(H416,漢字書き!$A$2:$O$506,8,0))","v":{"$error":"#N/A"}},{"$f":"IF(I$16=\"\",\"\",VLOOKUP(I416,漢字書き!$A$2:$O$506,8,0))","v":{"$error":"#N/A"}},{"$f":"IF(J$16=\"\",\"\",VLOOKUP(J416,漢字書き!$A$2:$O$506,8,0))","v":{"$error":"#N/A"}},{"$f":"IF(K$16=\"\",\"\",VLOOKUP(K416,漢字読み!$A$2:$O$506,8,0))","v":{"$error":"#N/A"}},{"$f":"IF(L$16=\"\",\"\",VLOOKUP(L416,漢字読み!$A$2:$O$506,8,0))","v":{"$error":"#N/A"}},{"$f":"IF(M$16=\"\",\"\",VLOOKUP(M416,漢字読み!$A$2:$O$506,8,0))","v":{"$error":"#N/A"}},{"$f":"IF(N$16=\"\",\"\",VLOOKUP(N416,漢字読み!$A$2:$O$506,8,0))","v":{"$error":"#N/A"}},{"$f":"IF(O$16=\"\",\"\",VLOOKUP(O416,漢字読み!$A$2:$O$506,8,0))","v":{"$error":"#N/A"}},{"$f":"IF(P$16=\"\",\"\",VLOOKUP(P416,漢字読み!$A$2:$O$506,8,0))","v":{"$error":"#N/A"}},{"$f":"IF(Q$16=\"\",\"\",VLOOKUP(Q416,漢字読み!$A$2:$O$506,8,0))","v":{"$error":"#N/A"}},{"$f":"IF(R$16=\"\",\"\",VLOOKUP(R416,漢字読み!$A$2:$O$506,8,0))","v":{"$error":"#N/A"}},{"$f":"IF(S$16=\"\",\"\",VLOOKUP(S416,漢字読み!$A$2:$O$506,8,0))","v":{"$error":"#N/A"}},{"$f":"IF(T$16=\"\",\"\",VLOOKUP(T416,漢字読み!$A$2:$O$506,8,0))","v":{"$error":"#N/A"}},null,"名前"]
[{"$f":"IF(A416=\"\",\"\",IF(VLOOKUP(A416,漢字書き!$A$2:$N$502,7,0)=0,\"\",VLOOKUP(A416,漢字書き!$A$2:$N$502,7,0)))","v":{"$error":"#N/A"}},{"$f":"IF(B416=\"\",\"\",IF(VLOOKUP(B416,漢字書き!$A$2:$N$502,7,0)=0,\"\",VLOOKUP(B416,漢字書き!$A$2:$N$502,7,0)))","v":{"$error":"#N/A"}},{"$f":"IF(C416=\"\",\"\",IF(VLOOKUP(C416,漢字書き!$A$2:$N$502,7,0)=0,\"\",VLOOKUP(C416,漢字書き!$A$2:$N$502,7,0)))","v":{"$error":"#N/A"}},{"$f":"IF(D416=\"\",\"\",IF(VLOOKUP(D416,漢字書き!$A$2:$N$502,7,0)=0,\"\",VLOOKUP(D416,漢字書き!$A$2:$N$502,7,0)))","v":{"$error":"#N/A"}},{"$f":"IF(E416=\"\",\"\",IF(VLOOKUP(E416,漢字書き!$A$2:$N$502,7,0)=0,\"\",VLOOKUP(E416,漢字書き!$A$2:$N$502,7,0)))","v":{"$error":"#N/A"}},{"$f":"IF(F416=\"\",\"\",IF(VLOOKUP(F416,漢字書き!$A$2:$N$502,7,0)=0,\"\",VLOOKUP(F416,漢字書き!$A$2:$N$502,7,0)))","v":{"$error":"#N/A"}},{"$f":"IF(G416=\"\",\"\",IF(VLOOKUP(G416,漢字書き!$A$2:$N$502,7,0)=0,\"\",VLOOKUP(G416,漢字書き!$A$2:$N$502,7,0)))","v":{"$error":"#N/A"}},{"$f":"IF(H416=\"\",\"\",IF(VLOOKUP(H416,漢字書き!$A$2:$N$502,7,0)=0,\"\",VLOOKUP(H416,漢字書き!$A$2:$N$502,7,0)))","v":{"$error":"#N/A"}},{"$f":"IF(I416=\"\",\"\",IF(VLOOKUP(I416,漢字書き!$A$2:$N$502,7,0)=0,\"\",VLOOKUP(I416,漢字書き!$A$2:$N$502,7,0)))","v":{"$error":"#N/A"}},{"$f":"IF(J416=\"\",\"\",IF(VLOOKUP(J416,漢字書き!$A$2:$N$502,7,0)=0,\"\",VLOOKUP(J416,漢字書き!$A$2:$N$502,7,0)))","v":{"$error":"#N/A"}},{"$f":"IF(K416=\"\",\"\",IF(VLOOKUP(K416,漢字読み!$A$2:$O$502,7,0)=0,\"\",VLOOKUP(K416,漢字読み!$A$2:$O$502,7,0)))","v":{"$error":"#N/A"}},{"$f":"IF(L416=\"\",\"\",IF(VLOOKUP(L416,漢字読み!$A$2:$O$502,7,0)=0,\"\",VLOOKUP(L416,漢字読み!$A$2:$O$502,7,0)))","v":{"$error":"#N/A"}},{"$f":"IF(M416=\"\",\"\",IF(VLOOKUP(M416,漢字読み!$A$2:$O$502,7,0)=0,\"\",VLOOKUP(M416,漢字読み!$A$2:$O$502,7,0)))","v":{"$error":"#N/A"}},{"$f":"IF(N416=\"\",\"\",IF(VLOOKUP(N416,漢字読み!$A$2:$O$502,7,0)=0,\"\",VLOOKUP(N416,漢字読み!$A$2:$O$502,7,0)))","v":{"$error":"#N/A"}},{"$f":"IF(O416=\"\",\"\",IF(VLOOKUP(O416,漢字読み!$A$2:$O$502,7,0)=0,\"\",VLOOKUP(O416,漢字読み!$A$2:$O$502,7,0)))","v":{"$error":"#N/A"}},{"$f":"IF(P416=\"\",\"\",IF(VLOOKUP(P416,漢字読み!$A$2:$O$502,7,0)=0,\"\",VLOOKUP(P416,漢字読み!$A$2:$O$502,7,0)))","v":{"$error":"#N/A"}},{"$f":"IF(Q416=\"\",\"\",IF(VLOOKUP(Q416,漢字読み!$A$2:$O$502,7,0)=0,\"\",VLOOKUP(Q416,漢字読み!$A$2:$O$502,7,0)))","v":{"$error":"#N/A"}},{"$f":"IF(R416=\"\",\"\",IF(VLOOKUP(R416,漢字読み!$A$2:$O$502,7,0)=0,\"\",VLOOKUP(R416,漢字読み!$A$2:$O$502,7,0)))","v":{"$error":"#N/A"}},{"$f":"IF(S416=\"\",\"\",IF(VLOOKUP(S416,漢字読み!$A$2:$O$502,7,0)=0,\"\",VLOOKUP(S416,漢字読み!$A$2:$O$502,7,0)))","v":{"$error":"#N/A"}},{"$f":"IF(T416=\"\",\"\",IF(VLOOKUP(T416,漢字読み!$A$2:$O$502,7,0)=0,\"\",VLOOKUP(T416,漢字読み!$A$2:$O$502,7,0)))","v":{"$error":"#N/A"}},null,null,"和歌山県教育委員会"]

{"sheet":"漢字読み","index":2,"n_rows":187,"n_cols":9,"rows_kept":187,"cut":false,"hidden":false,"merged":[]}
["通し番号","問題番号","漢字","読み","音訓","問題","送り仮名","読み"]
[1,1,"一","イチ",1,"［一］ばんになる","ばん","いち"]
[2,1,"一","イチ",2,"［一］つの花","つ","ひと"]
[3,2,"右","ウ",2,"まわれ［右］",null,"みぎ"]
[4,2,"右","ウ",2,"［右］にまがる",null,"みぎ"]
[5,3,"雨","ウ",1,"［雨天］にちゅうい",null,"うてん"]
[6,3,"雨","ウ",2,"［雨］がふる",null,"あめ"]
[7,4,"円","エン",1,"［千円］さつ","さつ","せんえん"]
[8,4,"円","エン",1,"［円］のかたち",null,"えん"]
[9,5,"王","オウ",1,"はだかの［王］さま","さま","おう"]
[10,5,"王","オウ",1,"［王子］になる",null,"おうじ"]
[11,5,"王","オウ",1,"［女王］のへや",null,"じょおう"]
[12,6,"音","オン",1,"［音］がくしつ","がく","おん"]
[13,6,"音","オン",2,"［音］がひびく",null,"おと"]
[14,7,"下","カ",1,"川の［下］りゅう","りゅう","か"]
[15,7,"下","カ",1,"［下校］する","する","げこう"]
[16,7,"下","カ",2,"つくえの［下］",null,"した"]
[17,7,"下","カ",2,"気おんが［下］がる","がる","さ"]
[18,8,"火","カ",1,"［火］よう日","よう","か"]
[19,8,"火","カ",2,"たき［火］をする",null,"び"]
[20,9,"花","カ",1,"［花］だんのせわ","だん","か"]
[21,9,"花","カ",2,"コスモスの［花］",null,"はな"]
[22,9,"花","カ",2,"［花］がさく",null,"はな"]
[23,10,"貝","かい",2,"［貝］がらをあつめる","がら","かい"]
[24,10,"貝","かい",2,"［貝］のもよう",null,"かい"]
[25,11,"学","ガク",1,"［見学］する","する","けんがく"]
[26,11,"学","ガク",1,"［入学］しき","しき","にゅうがく"]
[27,11,"学","ガク",2,"［学］びをふかめる","び","まな"]
[28,12,"気","キ",1,"［人気］もの","もの","にんき"]
[29,12,"気","キ",1,"やさしい［気］もち","もち","き"]
[30,12,"気","キ",1,"［気］ぶんがよい","ぶん","き"]
[31,13,"校",null,1,"［学校］のかいだん",null,"がっこう"]
[32,14,"休","キュウ",1,"［一休］さん","さん","いっきゅう"]
[33,14,"休","キュウ",1,"［休］けいをする","けい","きゅう"]
[34,14,"休","キュウ",2,"たのしいふゆ［休］み","み","やす"]
[35,14,"休","キュウ",2,"からだを［休］める","める","やす"]
[36,15,"玉","ギョク",2,"しゃぼん［玉］",null,"だま","☆"]
[37,15,"玉","ギョク",2,"［玉］をころがす",null,"たま"]
[38,16,"金","キン",1,"［金］ぎょをかう","ぎょ","きん"]
[39,16,"金","キン",2,"［金］もちになる","もち","かね"]
[40,16,"金","キン",1,"［金］よう日","よう","きん","☆☆"]
[41,17,"空","クウ",1,"［上空］をとぶ",null,"じょうくう"]
[42,17,"空","クウ",2,"きれいな［青空］",null,"あおぞら"]
[43,18,"月","ゲツ",1,"［一月］九日",null,"いちがつ"]
[44,18,"月","ゲツ",1,"［月］ようになる","よう","げつ"]
[45,18,"月","ゲツ",2,"［月見］をする",null,"つきみ"]
[46,19,"犬","ケン",1,"もうどう［犬］",null,"けん"]
[47,19,"犬","ケン",2,"［犬］をかう",null,"いぬ"]
[48,20,"見","ケン",1,"こうじょうの［見学］",null,"けんがく"]
[49,20,"見","ケン",2,"とけいを［見］る","る","み"]
[50,20,"見","ケン",2,"先が［見］えない","えない","み"]
[51,21,"五","ゴ",1,"［五］まいのおさら","まい","ご"]
[52,21,"五","ゴ",2,"［五］つ子","つ","いつ"]
[53,22,"口","コウ",1,"［出口］がない",null,"でぐち","☆"]
[54,22,"口","コウ",2,"［口］をあける",null,"くち"]
[55,23,"校","コウ",1,"［校］かをうたう","か","こう"]
[56,23,"校","コウ",1,"［校］もんを出る","もん","こう"]
[57,24,"左","サ",1,"［左右］のかくにん",null,"さゆう","☆"]
[58,24,"左","サ",2,"［左手］をあげる",null,"ひだりて"]
[59,25,"三","サン",1,"［三］びきのねこ","が日","さん","☆"]
[60,25,"三","サン",2,"［三］つのねがい","つ","みっ"]
[61,26,"山","サン",1,"ふじ［山］",null,"さん"]
[62,26,"山","サン",2,"［山］にのぼる",null,"やま"]
[63,27,"子","シ",2,"［子］ねこのせわ","ねこ","こ"]
[64,28,"四","シ",1,"［四月］になる",null,"しがつ"]
[65,28,"四","シ",2,"［四］つばのクローバー","つば","よ"]
[66,29,"糸","シ",2,"［糸］でんわ",null,"いと"]
[67,29,"糸","シ",2,"［糸車］をまわす",null,"いとぐるま","☆"]
[68,30,"字","ジ",1,"きれいな［字］",null,"じ"]
[69,31,"耳","ジ",2,"［耳］をすます",null,"みみ"]
[70,32,"七","シチ",1,"［七］ならべをする","ならべ","しち"]
[71,32,"七","シチ",2,"［七］いろのにじ","いろ","なな"]
[72,33,"車","シャ",1,"きゅうきゅう［車］",null,"しゃ"]
[73,33,"車","シャ",2,"［車］がおおい",null,"くるま"]
[74,34,"手","シュ",1,"あく［手］をする",null,"しゅ"]
[75,34,"手","シュ",2,"［手］をあらう",null,"て"]
[76,35,"十","ジュウ",1,"［十二］までかぞえる",null,"じゅうに"]
[77,35,"十","ジュウ",1,"おはじきが［十］こ","こ","じっ"]
[78,35,"十","ジュウ",2,"［十日］がたつ",null,"とうか","☆"]
[79,36,"出","シュツ",1,"［出］ぱつする",null,"しゅっ"]
[80,36,"出","シュツ",2,"はがきを［出］す","す","だ"]
[81,37,"女","ジョ",1,"［女子］のれつ",null,"じょし"]
[82,37,"女","ジョ",2,"［女］の子",null,"おんな"]
[83,38,"小","ショウ",1,"［小学校］に入る",null,"しょうがっこう"]
[84,38,"小","ショウ",2,"［小］さくなる","さく","ちい"]
[85,38,"小","ショウ",2,"［小］とりをかう",null,"こ","☆☆"]
[86,39,"上","ジョウ",1,"［上下］左右にふる",null,"じょうげ"]
[87,39,"上","ジョウ",2,"［上］をむく",null,"うえ"]
[88,39,"上","ジョウ",2,"気おんが［上］がる","がる","あ"]
[89,40,"森","シン",1,"［森林］にいく","よく","しんりん","☆"]
[90,40,"森","シン",2,"［森］の中",null,"もり"]
[91,41,"人","ジン",1,"［日本人］",null,"にほんじん"]
[92,41,"人","ジン",1,"［人気］もの","もの","にんき","☆"]
[93,41,"人","ジン",2,"［人］がおおい",null,"ひと"]
[94,42,"水","スイ",1,"［水］よう日","よう","すい"]
[95,42,"水","スイ",2,"［水］あそび","あそび","みず"]
[96,43,"正","セイ",1,"［正］じきな人","じき","しょう"]
[97,43,"正","セイ",1,"［正］かいを出す","かい","せい"]
[98,43,"正","セイ",2,"［正］しいこたえ","しい","ただ"]
[99,44,"生","セイ",1,"あたらしい［生］めい","めい","せい"]
[100,44,"生","セイ",1,"たん［生日］をいわう",null,"じょうび"]
[101,44,"生","セイ",2,"子どもが［生］まれる","まれる","う"]
[102,44,"生","セイ",2,"はが［生］える","える","は"]
[103,44,"生","セイ",1,"メダカの[一生]",null,"いっしょう","☆"]
[104,44,"生","セイ",2,"［生］クリーム","クリーム","なま"]
[105,44,"生","セイ",2,"百さいまで[生]きる","きる","い"]
[106,45,"青","セイ",1,"［青］しゅんの日々","しゅん","せい"]
[107,45,"青","セイ",2,"［青］いぼうし","い","あお"]
[108,46,"夕","セキ",2,"［夕］がたの空","がた","ゆう","☆☆"]
[109,46,"夕","セキ",2,"きれいな［夕］やけ","やけ","ゆう"]
[110,47,"石","セキ",1,"［石］たんをほる","たん","せき"]
[111,47,"石","セキ",2,"［石］をける",null,"いし"]
[112,48,"赤","セキ",1,"［赤］はんをたく","はん","せき","☆"]
[113,48,"赤","セキ",2,"ねこの［赤］ちゃん","ちゃん","あか"]
[114,49,"千","セン",1,"［千円］さつ","さつ","せんえん"]
[115,50,"川","セン",2,"[川]あそびをする","あそび","かわ"]
[116,50,"川","セン",2,"［川］がながれる",null,"かわ"]
[117,50,"川","セン",2,"［小川］がながれる",null,"おがわ"]
[118,51,"先","セン",1,"［先生］におそわる",null,"せんせい","☆☆"]
[119,51,"先","セン",2,"［先］にいく",null,"さき"]
[120,52,"早","ソウ",1,"［早］ちょうれんしゅう","ちょう","そう","☆"]
[121,52,"早","ソウ",2,"あさ［早］くおきる","く","はや"]
[122,53,"草","ソウ",1,"［草］げんをあるく","げん","そう","☆"]
[123,53,"草","ソウ",2,"［草］むらであそぶ","むら","くさ"]
[124,54,"足","ソク",1,"ねこの［足］あと","あと","あし"]
[125,54,"足","ソク",1,"［足］をあらう",null,"あし"]
[126,54,"足","ソク",1,"［土足］はきんしだ",null,"どそく"]
[127,55,"村","ソン",1,"［村］ちょうさん","ちょうさん","そん"]
[128,55,"村","ソン",2,"［村］にすむ",null,"むら"]
[129,56,"大","ダイ",1,"［大］すきなたべもの","すき","だい"]
[130,56,"大","ダイ",1,"［大学］にすすむ",null,"だいがく"]
[131,56,"大","ダイ",2,"［大］きなかぶ","きな","おお"]
[132,57,"男","ダン",1,"［男女］にわかれる",null,"だんじょ"]
[133,57,"男","ダン",2,"［男］の子","の子","おとこ"]
[134,58,"竹","チク",1,"［竹］わをたべる","わ","ちく","☆"]
[135,58,"竹","チク",2,"［竹］とんぼ","とんぼ","たけ"]
[136,59,"中","チュウ",1,"べんきょう［中］",null,"ちゅう"]
[137,59,"中","チュウ",2,"［中］をみる",null,"なか"]
[138,60,"虫","チュウ",1,"チョウのよう［虫］",null,"ちゅう"]
[139,60,"虫","チュウ",2,"［虫］をとる",null,"むし"]
[140,61,"町","チョウ",1,"［町］ちょうになる",null,"ちょう"]
[141,61,"町","チョウ",2,"［町］にでかける",null,"まち"]
[142,62,"天","テン",1,"［天］たいかんそく","たい","てん"]
[143,62,"天","テン",2,"［天］のがわ",null,"あま","☆"]
[144,63,"田","デン",1,"［田］えんふうけい","えん","でん","☆"]
[145,63,"田","デン",2,"［田］うえをする","うえ","た"]
[146,64,"土","ド",1,"かみねん［土］",null,"ど"]
[147,64,"土","ド",2,"［土］あそび","あそび","つち"]
[148,65,"二","ニ",1,"［二年］生になる","生","にねん"]
[149,65,"二","ニ",2,"［二］つにわける","つ","ふた"]
[150,66,"日","ニチ",1,"［日］ようのあさ","よう","にち"]
[151,66,"日","ニチ",2,"［夕日］がしずむ",null,"ゆうひ"]
[152,66,"日","ニチ",2,"［日本］のくに",null,"にほん"]
[153,67,"入","ニュウ",1,"［入学］手つづき",null,"にゅうがく"]
[154,67,"入","ニュウ",2,"きょうしつに［入］る","る","はい"]
[155,68,"年","ネン",1,"［一年］生になる","生","いちねん"]
[156,68,"年","ネン",2,"お［年玉］",null,"としだま"]
[157,68,"年","ネン",2,"［年］をとる",null,"とし"]
[158,69,"白","ハク",1,"こう［白］のはた",null,"はく"]
[159,69,"白","ハク",2,"［白］いくも","い","しろ"]
[160,70,"八","ハチ",1,"［八月］がすき",null,"はちがつ"]
[161,70,"八","ハチ",2,"あさの［八］じ","つ","はち"]
[162,70,"八","ハチ",2,"五月［八日］",null,"ようか","☆"]
[163,71,"百","ヒャク",1,"［百円］のおかし",null,"ひゃくえん"]
[164,71,"百","ヒャク",1,"［百］てんのテスト","てん","ひゃく","☆"]
[165,72,"文","ブン",1,"［文中］のことば",null,"ぶんちゅう","☆"]
[166,72,"文","ブン",1,"［文学］をよむ",null,"ぶんがく"]
[167,73,"木","モク",1,"［木目］にそう",null,"もくめ","☆"]
[168,73,"木","モク",1,"［大木］をたおす",null,"たいぼく","☆☆"]
[169,73,"木","モク",2,"［木］のぼり","のぼり","き"]
[170,74,"本","ホン",1,"［五本］のゆび",null,"ごほん"]
[171,74,"本","ホン",1,"［本気］をだす",null,"ほんき","☆"]
[172,74,"本","ホン",1,"［本］をよむ",null,"ほん"]
[173,75,"名","メイ",1,"しょうぎの［名人］",null,"めいじん","☆☆"]
[174,75,"名","メイ",1,"［名字］をきく",null,"みょうじ","☆☆"]
[175,75,"名","メイ",2,"［名］まえをかく","まえ","な"]
[176,76,"目","モク",1,"［目］ひょうをもつ","ひょう","もく"]
[177,76,"目","モク",2,"［目］がさめる",null,"め"]
[178,77,"立","リツ",1,"［立］たいもけい","たい","りっ","☆"]
[179,77,"立","リツ",2,"［立］ち上がる","ち","た"]
[180,78,"力","リョク",1,"［学力］がつく",null,"がくりょく"]
[181,78,"力","リョク",1,"［力］みをほぐす","み","りき","☆☆"]
[182,78,"力","リキ",2,"［力］いっぱい",null,"ちから"]
[183,79,"林","リン",1,"［林］かん学校","かん","りん"]
[184,79,"林","リン",2,"［林］をあるく",null,"はやし"]
[185,80,"六","ロク",1,"［六年］生をおくる","生","ろくねん"]
[186,80,"六","ロク",2,"［六］つならぶ","つ","むっ"]

{"sheet":"漢字書き","index":3,"n_rows":437,"n_cols":9,"rows_kept":437,"cut":false,"hidden":false,"merged":[]}
["通し番号","問題番号","漢字","読み","音訓","問題","送り仮名","漢字"]
[1,1,"一","イチ",1,"［イチ］ばんぼし","ばん","一"]
[2,1,"一","イチ",2,"［ヒト］つの花","つ","一"]
[3,2,"右","ウ",1,"［サユウ］を見る",null,"左右"]
[4,2,"右","ウ",2,"［ミギ］にまがる",null,"右"]
[5,3,"雨","ウ",1,"［ウ］りょうがふえる","りょう","雨","☆"]
[6,3,"雨","ウ",2,"［アメ］がふる",null,"雨"]
[7,3,"雨","ウ",2,"はげしい［アメ］",null,"雨"]
[8,4,"円","エン",1,"［イチエン］玉","玉","一円"]
[9,5,"王","オウ",1,"はだかの［オウ］さま","さま","王"]
[10,5,"王","オウ",1,"［オウジョ］のへや",null,"王女","☆"]
[11,6,"音","オン",1,"［オン］がくしつ","がく","音"]
[12,6,"音","オン",2,"［オト］がする",null,"音"]
[13,6,"音","オン",2,"たいこの［オト］",null,"音"]
[14,7,"下","カ",1,"［ゲコウ］する","する","下校"]
[15,7,"下","カ",2,"やねの［シタ］",null,"下"]
[16,7,"下","カ",2,"［カワシモ］の町",null,"川下","☆☆"]
[17,8,"火","カ",1,"［ヒ］のようじん",null,"火"]
[18,8,"火","カ",1,"［カリョク］がよわい",null,"火力"]
[19,8,"火","カ",1,"［カ］ようび","ようび","火"]
[20,9,"花","カ",1,"［カ］だんの水やり","だん","花","☆"]
[21,9,"花","カ",2,"さくらの［ハナ］",null,"花"]
[22,9,"花","カ",2,"きれいな［ハナビ］",null,"花火","☆"]
[23,10,"貝","かい",2,"きれいな［カイ］がら","がら","貝"]
[24,10,"貝","かい",2,"［カイ］をひろう",null,"貝"]
[25,11,"学","ガク",1,"［ガクリョク］があがる",null,"学力"]
[26,11,"学","ガク",2,"しっかり［マナ］ぶ","ぶ","学"]
[27,12,"気","キ",1,"［キ］をつける",null,"気"]
[28,12,"気","キ",1,"人の［ケ］はい","はい","気","☆☆"]
[29,13,"九","キュウ",1,"［キュウ］かんちょう","かんちょう","九","☆"]
[30,13,"九","キュウ",2,"［ココノ］つ","つ","九"]
[31,14,"休","キュウ",1,"［キュウ］けいじかん","けい","休"]
[32,14,"休","キュウ",2,"［ヤス］みじかん","み","休"]
[33,15,"玉","ギョク",2,"［タマ］のり","のり","玉"]
[34,15,"玉","ギョク",2,"きれいなビー［ダマ］",null,"玉"]
[35,16,"金","キン",1,"［キン］しょう","しょう","金"]
[36,16,"金","キン",2,"お［カネ］をはらう",null,"金"]
[37,16,"金","キン",2,"［カナ］もの","もの","金","☆"]
[38,17,"空","クウ",1,"［クウキ］がきれい",null,"空気"]
[39,17,"空","クウ",2,"青い［ソラ］",null,"空"]
[40,18,"月","ゲツ",1,"［ゲツ］よう日","よう","月"]
[41,18,"月","ゲツ",2,"［ツキ］へのたび",null,"月"]
[42,19,"犬","ケン",1,"きしゅう［ケン］をかう",null,"犬"]
[43,19,"犬","ケン",2,"［イヌ］とねこ",null,"犬"]
[44,19,"犬","ケン",2,"こわい［イヌ］",null,"犬"]
[45,20,"見","ケン",1,"［ケンガク］する","する","見学"]
[46,20,"見","ケン",2,"まえを［ミ］る","る","見"]
[47,21,"五","ゴ",1,"［ゴネン］生になる","生","五年"]
[48,21,"五","ゴ",2,"［イツ］つの子","つ","五"]
[49,22,"口","コウ",2,"［クチ］から出す",null,"口"]
[50,22,"口","コウ",2,"［クチ］に入れる",null,"口"]
[51,23,"校","コウ",1,"［ガッコウ］にいく",null,"学校"]
[52,23,"校","コウ",1,"［コウ］もんに入る","もん","校"]
[53,24,"左","サ",1,"［サユウ］を見る",null,"左右","☆"]
[54,24,"左","サ",2,"［ヒダリ］にまがる",null,"左"]
[55,25,"三","サン",1,"［サン］びきのこぶた","びき","三"]
[56,25,"三","サン",2,"［ミッ］つある","つ","三"]
[57,26,"山","サン",1,"ふじ［サン］",null,"山"]
[58,26,"山","サン",2,"たかい［ヤマ］",null,"山"]
[59,26,"山","サン",2,"［ヤマ］にのぼる",null,"山"]
[60,27,"子","シ",1,"［ダンシ］トイレ","トイレ","男子"]
[61,27,"子","シ",2,"［コ］どもの日","ども","子"]
[62,28,"四","シ",1,"［シ］かくのず","かく","四"]
[63,28,"四","シ",2,"［ヨッ］つのやくそく","つ","四"]
[64,29,"糸","シ",2,"くもの［イト］",null,"糸"]
[65,29,"糸","シ",2,"たぬきの［イトグルマ］",null,"糸車"]
[66,30,"字","ジ",1,"［ジ］をかく",null,"字"]
[67,31,"耳","ジ",2,"［ミミ］をすます",null,"耳"]
[68,31,"耳","ジ",2,"［ミミ］かきをする","かき","耳"]
[69,32,"七","シチ",1,"［シチ］ならべ","ならべ","七"]
[70,32,"七","シチ",2,"［ナナ］いろのにじ","いろ","七","☆"]
[71,33,"車","シャ",1,"［シャ］どうのそば","どう","車","☆"]
[72,33,"車","シャ",2,"［クルマ］にのる",null,"車"]
[73,34,"手","シュ",1,"あく［シュ］をする",null,"手"]
[74,34,"手","シュ",2,"［テ］をあらう",null,"手"]
[75,35,"十","ジュウ",1,"［ジュウネン］先","先","十年"]
[76,35,"十","ジュウ",1,"［ジッ］ぷんたつ","ぷん","十","☆"]
[77,35,"十","ジュウ",2,"［トオ］かぞえる",null,"十"]
[78,36,"出","シュツ",1,"［シュツ］じょうする","じょう","出","☆"]
[79,36,"出","シュツ",2,"めいろから［デ］る","る","出"]
[80,37,"女","ジョ",1,"［ジョシ］のれつ",null,"女子"]
[81,37,"女","ジョ",2,"ゆき［オンナ］",null,"女"]
[82,38,"小","ショウ",1,"［ショウガッコウ］にいく",null,"小学校"]
[83,38,"小","ショウ",2,"［チイ］さいこえ","さい","小"]
[84,38,"小","ショウ",2,"［チイ］さな子","さな","小"]
[85,39,"上","ジョウ",1,"［ジョウ］たつする","たつ","上","☆"]
[86,39,"上","ジョウ",2,"つくえの［ウエ］",null,"上"]
[87,40,"森","シン",1,"［シンリン］こうえん",null,"森林","☆"]
[88,40,"森","シン",2,"［モリ］のくまさん",null,"森"]
[89,41,"人","ジン",1,"がいこく［ジン］",null,"人"]
[90,41,"人","ジン",1,"［ヒャクニン］ならぶ",null,"百人"]
[91,41,"人","ジン",2,"［ヒト］がおおい",null,"人"]
[92,42,"水","スイ",1,"［スイ］えい","えい","水"]
[93,42,"水","スイ",2,"［ミズ］がきれい",null,"水"]
[94,43,"正","セイ",1,"お［ショウガツ］",null,"正月"]
[95,43,"正","セイ",1,"［セイ］かいをだす","かい","正"]
[96,43,"正","セイ",2,"［タダ］しいこたえ","しい","正"]
[97,44,"生","セイ",1,"やさしい［センセイ］",null,"先生"]
[98,44,"生","セイ",1,"［セイ］かつのじかん","かつ","生"]
[99,44,"生","セイ",2,"たのしく［イ］きる","きる","生"]
[100,45,"青","セイ",2,"［アオ］いうみ","い","青"]
[101,45,"青","セイ",2,"［アオゾラ］を見る",null,"青空"]
[102,46,"夕","ユウ",1,"［ユウ］がた","がた","夕"]
[103,47,"石","セキ",1,"［セキ］たんをはこぶ","たん","石","☆"]
[104,47,"石","セキ",1,"［セキ］ゆを大せつに","ゆ","石","☆"]
[105,47,"石","セキ",2,"［イシ］をほる",null,"石"]
[106,48,"赤","セキ",1,"［セキ］はんをたく","はん","赤","☆"]
[107,48,"赤","セキ",2,"［アカ］い花","い","赤"]
[108,48,"赤","セキ",2,"［アカ］ちゃんがなく","ちゃん","赤"]
[109,49,"千","セン",1,"［セン］のかぜになる",null,"千"]
[110,50,"川","セン",2,"ふかい［カワ］",null,"川"]
[111,50,"川","セン",2,"［オガワ］がながれる",null,"小川"]
[112,51,"先","セン",1,"［センセイ］にはなす",null,"先生"]
[113,51,"先","セン",2,"［サキ］にいく",null,"先"]
[114,52,"早","ソウ",1,"［ソウ］ちょう","ちょう","早","☆"]
[115,52,"早","ソウ",2,"［ハヤ］くおきる","く","早"]
[116,53,"草","ソウ",1,"ざっ［ソウ］をぬく",null,"草"]
[117,53,"草","ソウ",2,"［クサ］をかる",null,"草"]
[118,53,"草","ソウ",2,"にわの［クサ］とり","とり","草"]
[119,54,"足","ソク",1,"えん［ソク］にいく",null,"足"]
[120,54,"足","ソク",2,"［ミギアシ］をあげる",null,"右足"]
[121,55,"村","ソン",1,"［ソン］ちょうさん","ちょう","村","☆"]
[122,55,"村","ソン",2,"［ムラ］のかみさま",null,"村"]
[123,55,"村","ソン",2,"［ムラ］のまつり",null,"村"]
[124,56,"大","ダイ",1,"［ダイ］きちをひく","きち","大","☆"]
[125,56,"大","ダイ",2,"［オオ］きいはこ","きい","大"]
[126,57,"男","ダン",1,"［ダンジョ］なかよし",null,"男女"]
[127,57,"男","ダン",2,"［オトコ］の子",null,"男"]
[128,58,"竹","チク",2,"［タケ］やぶやけた","やぶ","竹"]
[129,58,"竹","チク",2,"［タケ］をわる",null,"竹"]
[130,59,"中","チュウ",1,"［ダイチュウショウ］",null,"大中小"]
[131,59,"中","チュウ",2,"かばんの［ナカ］",null,"中"]
[132,60,"虫","チュウ",1,"こん［チュウ］",null,"虫"]
[133,60,"虫","チュウ",2,"かぶと［ムシ］",null,"虫"]
[134,60,"虫","チュウ",2,"［ムシ］をさがす",null,"虫"]
[135,61,"町","チョウ",1,"［チョウ］ないかい","ない","町","☆"]
[136,61,"町","チョウ",2,"［マチ］へいく",null,"町"]
[137,62,"天","テン",1,"［テンキ］よほう","よほう","天気"]
[138,62,"天","テン",2,"［アマ］の川",null,"天"]
[139,63,"田","デン",1,"［デン］えん","えん","田","☆"]
[140,63,"田","デン",2,"はたけと［タ］んぼ","んぼ","田"]
[141,64,"土","ド",1,"ねん［ド］であそぶ",null,"土"]
[142,64,"土","ド",2,"［ツチ］をはこぶ",null,"土"]
[143,65,"二","ニ",1,"［ニ］まいのかみ","まい","二"]
[144,65,"二","ニ",2,"［フタ］つならべる","つ","二"]
[145,66,"日","ニチ",1,"［ヒ］の出をおがむ","の出","日"]
[146,66,"日","ニチ",1,"まい［ニチ］あそぶ",null,"日"]
[147,66,"日","ニチ",1,"［ホンジツ］のおすすめ",null,"本日","☆"]
[148,67,"入","ニュウ",1,"［ニュウガク］しき","しき","入学"]
[149,67,"入","ニュウ",2,"あなに［ハイ］る","る","入"]
[150,68,"年","ネン",1,"［ネン］がじょう","がじょう","年"]
[151,68,"年","ネン",2,"あたらしい［トシ］",null,"年"]
[152,69,"白","ハク",1,"［ハク］まいをたべる","まい","白","☆"]
[153,69,"白","ハク",2,"［シロ］いけむり","い","白"]
[154,70,"八","ハチ",1,"［ハチガツ］がすきだ",null,"八月"]
[155,70,"八","ハチ",2,"［ヒャクヤッ］つ","つ","百八","☆"]
[156,71,"百","ヒャク",1,"［ゴヒャクエン］玉","玉","五百円"]
[157,72,"文","ブン",1,"［ブン］をかく",null,"文"]
[158,72,"文","ブン",1,"［ブンガク］をよむ",null,"文学"]
[159,73,"木","モク",1,"［モク］よう日","よう","木"]
[160,73,"木","モク",2,"大きな［キ］の下",null,"木"]
[161,74,"本","ホン",1,"［ホン］をよむ",null,"本"]
[162,74,"本","ホン",1,"［ホンブン］をよむ",null,"本文","☆"]
[163,75,"名","メイ",1,"［メイ］ぶつをさがす","ぶつ","名","☆"]
[164,75,"名","メイ",2,"［ナ］ふだをつける","ふだ","名"]
[165,75,"名","メイ",2,"［ナ］まえをかく","まえ","名"]
[166,76,"目","モク",1,"［モク］じをさがす","じ","目","☆"]
[167,76,"目","モク",2,"［メ］をさます",null,"目"]
[168,77,"立","リツ",1,"［チョウリツ］の小学校",null,"町立","☆"]
[169,77,"立","リツ",2,"いすから［タ］つ","つ","立"]
[170,78,"力","リョク",1,"たい［リョク］がある",null,"力"]
[171,78,"力","リョク",2,"［チカラ］いっぱい",null,"力"]
[172,79,"林","リン",1,"［リン］かん学校","かん","林","☆"]
[173,79,"林","リン",2,"すぎの［ハヤシ］",null,"林"]
[174,80,"六","ロク",1,"［ムッ］つかぞえる","つ","六"]
[175,80,"六","ロク",2,"［ロク］年生","年","六"]
[]
[]
[]
[]
[]
[]
[]
[]
[]
[]
[]
[]
[]
[]
[]
[]
[]
[]
[]
[]
[]
[]
[]
[]
[]
[]
[]
[]
[]
[]
[]
[]
[]
[]
[]
[]
[]
[]
[]
[]
[]
[]
[]
[]
[]
[]
[]
[]
[]
[]
[]
[]
[]
[]
[]
[]
[]
[]
[]
[]
[]
[]
[]
[]
[]
[]
[]
[]
[]
[]
[]
[]
[]
[]
[]
[]
[]
[]
[]
[]
[]
[]
[]
[]
[]
[]
[]
[]
[]
[]
[]
[]
[]
[]
[]
[]
[]
[]
[]
[]
[]
[]
[]
[]
[]
[]
[]
[]
[]
[]
[]
[]
[]
[]
[]
[]
[]
[]
[]
[]
[]
[]
[]
[]
[]
[]
[]
[]
[]
[]
[]
[]
[]
[]
[]
[]
[]
[]
[]
[]
[]
[]
[]
[]
[]
[]
[]
[]
[]
[]
[]
[]
[]
[]
[]
[]
[]
[]
[]
[]
[]
[]
[]
[]
[]
[]
[]
[]
[]
[]
[null,null,null,null,null,null,"　"]
[null,null,null,null,null,null,"　"]
[null,null,null,null,null,null,"　"]
[null,null,null,null,null,null,"　"]
[null,null,null,null,null,null,"　"]
[null,null,null,null,null,null,"　"]
[null,null,null,null,null,null,"　"]
[null,null,null,null,null,null,"　"]
[null,null,null,null,null,null,"　"]
[null,null,null,null,null,null,"　"]
[null,null,null,null,null,null,"　"]
[null,null,null,null,null,null,"　"]
[null,null,null,null,null,null,"　"]
[null,null,null,null,null,null,"　"]
[null,null,null,null,null,null,"　"]
[null,null,null,null,null,null,"　"]
[null,null,null,null,null,null,"　"]
[null,null,null,null,null,null,"　"]
[null,null,null,null,null,null,"　"]
[null,null,null,null,null,null,"　"]
[null,null,null,null,null,null,"　"]
[null,null,null,null,null,null,"　"]
[null,null,null,null,null,null,"　"]
[null,null,null,null,null,null,"　"]
[null,null,null,null,null,null,"　"]
[null,null,null,null,null,null,"　"]
[null,null,null,null,null,null,"　"]
[null,null,null,null,null,null,"　"]
[null,null,null,null,null,null,"　"]
[null,null,null,null,null,null,"　"]
[null,null,null,null,null,null,"　"]
[null,null,null,null,null,null,"　"]
[null,null,null,null,null,null,"　"]
[null,null,null,null,null,null,"　"]
[null,null,null,null,null,null,"　"]
[null,null,null,null,null,null,"　"]
[null,null,null,null,null,null,"　"]
[null,null,null,null,null,null,"　"]
[null,null,null,null,null,null,"　"]
[null,null,null,null,null,null,"　"]
[null,null,null,null,null,null,"　"]
[null,null,null,null,null,null,"　"]
[null,null,null,null,null,null,"　"]
[null,null,null,null,null,null,"　"]
[null,null,null,null,null,null,"　"]
[null,null,null,null,null,null,"　"]
[null,null,null,null,null,null,"　"]
[null,null,null,null,null,null,"　"]
[null,null,null,null,null,null,"　"]
[null,null,null,null,null,null,"　"]
[null,null,null,null,null,null,"　"]
[null,null,null,null,null,null,"　"]
[null,null,null,null,null,null,"　"]
[null,null,null,null,null,null,"　"]
[null,null,null,null,null,null,"　"]
[null,null,null,null,null,null,"　"]
[null,null,null,null,null,null,"　"]
[null,null,null,null,null,null,"　"]
[null,null,null,null,null,null,"　"]
[null,null,null,null,null,null,"　"]
[null,null,null,null,null,null,"　"]
[null,null,null,null,null,null,"　"]
[null,null,null,null,null,null,"　"]
[null,null,null,null,null,null,"　"]
[null,null,null,null,null,null,"　"]
[null,null,null,null,null,null,"　"]
[null,null,null,null,null,null,"　"]
[null,null,null,null,null,null,"　"]
[null,null,null,null,null,null,"　"]
[null,null,null,null,null,null,"　"]
[null,null,null,null,null,null,"　"]
[null,null,null,null,null,null,"　"]
[null,null,null,null,null,null,"　"]
[null,null,null,null,null,null,"　"]
[null,null,null,null,null,null,"　"]
[null,null,null,null,null,null,"　"]
[null,null,null,null,null,null,"　"]
[null,null,null,null,null,null,"　"]
[null,null,null,null,null,null,"　"]
[null,null,null,null,null,null,"　"]
[null,null,null,null,null,null,"　"]
[null,null,null,null,null,null,"　"]
[null,null,null,null,null,null,"　"]
[null,null,null,null,null,null,"　"]
[null,null,null,null,null,null,"　"]
[null,null,null,null,null,null,"　"]
[null,null,null,null,null,null,"　"]
[null,null,null,null,null,null,"　"]
[null,null,null,null,null,null,"　"]
[null,null,null,null,null,null,"　"]
[null,null,null,null,null,null,"　"]

{"sheet":"関数（読み）","index":4,"n_rows":187,"n_cols":3,"rows_kept":187,"cut":false,"hidden":false,"merged":[]}
["番号","ランダム","順位"]
[1,{"$f":"RAND()","v":2.6727040807307922E-2},{"$f":"RANK(B2,$B$2:$B$187)","v":182}]
[2,{"$f":"RAND()","v":0.83455120976075869},{"$f":"RANK(B3,$B$2:$B$187)","v":24}]
[3,7.4490426664540532E-2,171]
[4,0.17534484914671999,153]
[5,1.2207495716740402E-2,184]
[6,7.2247472558709891E-2,172]
[7,0.83673058636455833,23]
[8,0.11163949624830916,164]
[9,0.39974039308820741,104]
[10,6.31741340161035E-2,174]
[11,0.14611711123832105,159]
[12,0.14558677730189418,160]
[13,0.45562951342848046,91]
[14,8.9147007056147309E-2,167]
[15,0.61884189468658934,66]
[16,0.59789948157202322,72]
[17,0.39020154650593808,110]
[18,0.32172949011244045,127]
[19,0.23468640559566167,139]
[20,0.94881631115280862,12]
[21,0.99128279014723564,2]
[22,0.42375059894006462,100]
[23,0.17543595908468845,152]
[24,0.39952599766084618,105]
[25,0.83214052353091461,25]
[26,0.39449615974315977,106]
[27,0.34826072385906159,121]
[28,0.47540294058353438,85]
[29,0.29504092563078288,131]
[30,0.69451580090860365,52]
[31,0.77926177225883686,36]
[32,0.18668495614965852,148]
[33,0.1517904381261086,157]
[34,0.95270184639596944,11]
[35,0.43113867061083111,96]
[36,0.95804948888325858,10]
[37,0.99066840938004463,4]
[38,0.15523778695698354,156]
[39,0.20976111518631513,144]
[40,0.33045180830505072,124]
[41,0.300350712106077,129]
[42,0.35989341596735691,117]
[43,0.39437213920378833,107]
[44,0.92103089973576513,16]
[45,0.99115625956559783,3]
[46,0.58135582441582012,75]
[47,0.81828130763653362,27]
[48,0.56738466746953486,76]
[49,0.69568297966403081,50]
[50,0.73637127776406497,43]
[51,0.28471216293847457,133]
[52,0.34686955560115329,122]
[53,0.47163817532519281,87]
[54,0.8190503465250859,26]
[55,0.31128472308796462,128]
[56,0.80151510601631992,32]
[57,0.264241576489881,134]
[58,0.531695135829093,79]
[59,2.5958514761853291E-2,183]
[60,5.7256002207442425E-2,175]
[61,0.46587181604052053,89]
[62,0.62236531178085064,65]
[63,0.3295296122157001,125]
[64,0.81028533195621588,29]
[65,0.96129453323144332,7]
[66,{"$f":"RAND()","v":0.35676637582400417},{"$f":"RANK(B67,$B$2:$B$187)","v":119}]
[67,0.77193518524231308,38]
[68,0.16112857570527728,155]
[69,0.25280809825688011,136]
[70,0.62701276437398967,64]
[71,0.68182936790470916,57]
[72,2.8956118442639012E-3,185]
[73,0.43189209480292934,95]
[74,0.52629998469517847,80]
[75,0.42546091613603965,99]
[76,0.86685497417460311,21]
[77,0.22306821768710583,141]
[78,0.93527722516542477,14]
[79,0.35968611301369779,118]
[80,0.53284780039352264,78]
[81,0.38957084666504349,111]
[82,0.5862066571727419,74]
[83,0.19908201552836302,145]
[84,7.1832972951393903E-2,173]
[85,0.96344305742234493,6]
[86,0.91515108285960078,18]
[87,4.8199218161041668E-2,177]
[88,4.12984294588713E-2,180]
[89,0.42555219124107335,98]
[90,0.4410597492830679,93]
[91,0.54532097625149567,77]
[92,0.96056448158085828,8]
[93,0.61616712898748494,68]
[94,0.29972473290263546,130]
[95,0.91844878476356573,17]
[96,0.32307528049705403,126]
[97,0.39430059638859294,108]
[98,0.87354268149127257,20]
[99,0.60174194303193762,70]
[100,0.46481171072849969,90]
[101,0.81814122098980657,28]
[102,0.68313584750912681,56]
[103,0.92413393341825423,15]
[104,0.41601845145495553,101]
[105,0.38531250474114231,114]
[106,0.22582159705050076,140]
[107,9.5675695664481974E-2,165]
[108,8.6378232891229478E-2,168]
[109,0.76965149515445375,39]
[110,0.17247630249973311,154]
[111,0.69529272412490462,51]
[112,0.58735372412900899,73]
[113,0.80194984799950553,31]
[114,0.96032626215226724,9]
[115,0.39375862900811043,109]
[116,0.28522244321935974,132]
[117,0.63073757142553255,62]
[118,0.21438853938229485,143]
[119,0.47285470850598621,86]
[120,0.42654484961223293,97]
[121,0.61065185846500791,69]
[122,0.77886248262261404,37]
[123,0.13592839158062298,162]
[124,0.61766254309694535,67]
[125,0.1444183017034979,161]
[126,0.51862141343985724,81]
[127,0.66103175060960562,59]
[128,0.24186087172724513,138]
[129,0.19138622148702222,147]
[130,{"$f":"RAND()","v":0.99391323638246232},{"$f":"RANK(B131,$B$2:$B$187)","v":1}]
[131,0.48519206306966622,83]
[132,0.63695392700249642,61]
[133,4.2051194266306324E-2,179]
[134,0.79192644987915006,34]
[135,0.17954309582198169,150]
[136,0.72035405194610325,45]
[137,3.517707455905017E-2,181]
[138,0.4715881881869125,88]
[139,0.80926604076176778,30]
[140,0.76928784669712014,40]
[141,0.69038513614655617,55]
[142,0.78934014283283727,35]
[143,0.436354251644958,94]
[144,0.37868288422152419,116]
[145,0.38065381883225968,115]
[146,0.87711409795979645,19]
[147,0.17626519525885997,151]
[148,0.2466225736114841,137]
[149,0.6016467893945886,71]
[150,0.69346580704726835,53]
[151,0.71972782081795261,46]
[152,0.18266243930719506,149]
[153,0.8425784610868412,22]
[154,7.5714831308226649E-2,170]
[155,0.44315314729129995,92]
[156,0.41279303245974885,103]
[157,0.72182693467778014,44]
[158,0.47934239070704732,84]
[159,0.75477133409585506,42]
[160,0.79488841145145195,33]
[161,0.3855348316864633,113]
[162,0.97265720622674112,5]
[163,0.76478370496827386,41]
[164,0.3308559992469926,123]
[165,0.69777152064675041,49]
[166,0.14638898497515762,158]
[167,0.69246010784563028,54]
[168,0.11857348298457571,163]
[169,0.26274333949960171,135]
[170,0.38560647512981228,112]
[171,9.0099822819628472E-2,166]
[172,4.4614365772490117E-2,178]
[173,0.67970251264911874,58]
[174,7.7392051836006281E-2,169]
[175,0.64035052464596176,60]
[176,0.48799189210869198,82]
[177,0.94807538181365614,13]
[178,0.71568271415997042,47]
[179,5.4724825588365222E-2,176]
[180,0.35196659938482555,120]
[181,0.1915031505577377,146]
[182,0.6997693979788876,48]
[183,5.83047683173743E-4,186]
[184,0.22040476539576559,142]
[185,0.41410386872111615,102]
[186,0.62844344509931716,63]

{"sheet":"関数（書き）","index":5,"n_rows":176,"n_cols":3,"rows_kept":176,"cut":false,"hidden":false,"merged":[]}
["番号","ランダム","順位"]
[1,{"$f":"RAND()","v":2.5366771617477801E-2},{"$f":"RANK(B2,$B$2:$B$176)","v":171}]
[2,{"$f":"RAND()","v":0.30169715067666814},{"$f":"RANK(B3,$B$2:$B$176)","v":118}]
[3,0.30930372227849356,114]
[4,0.31888458762228566,110]
[5,0.48118682745290664,85]
[6,0.72211797041776082,44]
[7,0.96492310411886573,6]
[8,0.65910870163547453,50]
[9,0.93090578683071268,8]
[10,0.28116444053128009,123]
[11,0.47546545554782793,88]
[12,0.73154740304391574,41]
[13,0.15801060969936509,151]
[14,0.10989379013674938,158]
[15,0.73407604322539921,40]
[16,0.30998507299704592,112]
[17,0.7200455867036698,46]
[18,0.52663325397227367,75]
[19,5.1819829403298989E-3,175]
[20,0.19900985989997799,141]
[21,0.90259929579174725,11]
[22,2.9896962822088757E-2,169]
[23,0.11238095491319255,156]
[24,0.27018531366223475,127]
[25,0.24437236928118189,132]
[26,0.59975154353716609,60]
[27,0.30286278290479274,116]
[28,0.92881590044210993,9]
[29,0.80432192115157775,21]
[30,0.24392847462818679,133]
[31,0.97003243782281623,5]
[32,2.5317811236315046E-2,172]
[33,0.97608146077377633,3]
[34,0.60854833495615768,57]
[35,0.327069368818666,108]
[36,0.47723494728726745,87]
[37,0.74718209706415983,31]
[38,9.0035257753904308E-3,174]
[39,0.5779085297162756,63]
[40,0.14311236366903735,153]
[41,0.43480116454786122,93]
[42,0.57749212606945144,65]
[43,0.88292456655307983,14]
[44,0.8415792115349171,17]
[45,0.21914981135168732,139]
[46,0.74614955155577822,32]
[47,0.78561587583836767,25]
[48,0.36795103626499193,102]
[49,5.4285183435397011E-2,164]
[50,0.79341843422372527,22]
[51,0.19815471836901755,142]
[52,0.46899881228395868,89]
[53,0.22102441715381771,138]
[54,0.32488822123413352,109]
[55,0.97865605897704133,2]
[56,0.67881170542042568,47]
[57,0.26709896560011559,129]
[58,0.50950097200099242,78]
[59,0.38860450069803831,99]
[60,0.33836412683534645,106]
[61,0.15996333891246373,150]
[62,0.60167518994152991,59]
[63,0.47942301564171652,86]
[64,0.21851121075617297,140]
[65,0.30179046040727164,117]
[66,{"$f":"RAND()","v":0.9012582381810561},{"$f":"RANK(B67,$B$2:$B$176)","v":12}]
[67,0.94615713212008878,7]
[68,0.87738189129889033,16]
[69,0.14633613988637106,152]
[70,0.72681965403116655,42]
[71,0.30940225765660978,113]
[72,0.26372051166530963,131]
[73,0.33153202955314387,107]
[74,0.26967974796226879,128]
[75,4.6432642008294667E-2,167]
[76,0.88893031881330131,13]
[77,0.22760334857756748,136]
[78,0.29307063145476508,121]
[79,0.74086834105198329,35]
[80,0.27141742443101613,125]
[81,0.34155690425278606,104]
[82,0.98827641111924835,1]
[83,0.46443724998157065,90]
[84,0.48396655143877931,84]
[85,1.9444225510439339E-2,173]
[86,0.82794372335606503,18]
[87,0.18746657713510428,146]
[88,0.17407616180565455,148]
[89,0.62250350742539484,53]
[90,0.59548149606036582,62]
[91,0.97023779866348048,4]
[92,0.57279466597653872,69]
[93,9.911075848048323E-2,160]
[94,0.81866232152451146,20]
[95,0.49626834936440589,80]
[96,0.73819339238856407,38]
[97,0.29724630696685206,120]
[98,0.24161145194768241,134]
[99,0.75528432221078556,29]
[100,0.73585431492659226,39]
[101,0.45456231272413472,92]
[102,9.6010684717022898E-2,161]
[103,0.48499316805949655,83]
[104,0.59836814766770097,61]
[105,0.67478584414144793,48]
[106,0.2925203469273806,122]
[107,0.72024102177188909,45]
[108,0.33847971598012883,105]
[109,0.73931932828651237,37]
[110,3.8613279285489521E-2,168]
[111,0.54659339477551538,73]
[112,0.56993891295324839,70]
[113,0.57617557327169555,66]
[114,0.72470082351438603,43]
[115,0.12545074029052128,154]
[116,0.74000010401700556,36]
[117,0.11155075645032275,157]
[118,0.30862291795176089,115]
[119,0.27601751852990664,124]
[120,4.8299135320907238E-2,165]
[121,0.4206901387490205,94]
[122,0.48954880872962203,82]
[123,0.27046714316685871,126]
[124,0.57783650197355829,64]
[125,0.19190012537769707,145]
[126,0.18366552937581637,147]
[127,0.77544613682596386,27]
[128,0.79090765395120133,24]
[129,0.79114430782063017,23]
[130,{"$f":"RAND()","v":0.92629267522067904},{"$f":"RANK(B131,$B$2:$B$176)","v":10}]
[131,0.34187897970443959,103]
[132,0.10553262614928927,159]
[133,0.8825920839080742,15]
[134,0.60619585725629832,58]
[135,0.74562703366567762,33]
[136,0.19679782289213088,143]
[137,0.74352188129861696,34]
[138,0.41582617402160882,95]
[139,0.1711000792163756,149]
[140,2.5528519799351557E-2,170]
[141,0.50983427715199692,77]
[142,0.56007685569354682,71]
[143,0.76241291821790125,28]
[144,4.8064708001014145E-2,166]
[145,0.19346472864311481,144]
[146,0.39738654435203735,98]
[147,0.45496136202309112,91]
[148,0.50991758646491225,76]
[149,0.40121347217262049,97]
[150,0.61982073473089017,55]
[151,0.26393864218398255,130]
[152,0.50744354156676941,79]
[153,5.8424630454917414E-2,163]
[154,0.4920429413712184,81]
[155,0.54489803156209915,74]
[156,0.31421116280703643,111]
[157,0.57468321893160146,67]
[158,0.77790843284790478,26]
[159,0.29863124755462556,119]
[160,0.22211142134364303,137]
[161,0.37794521897620992,101]
[162,0.67273938897633978,49]
[163,0.6485926255668546,52]
[164,0.23889486985742336,135]
[165,0.41393912038556213,96]
[166,0.38812274836097937,100]
[167,0.61666032008055893,56]
[168,0.62165174033662018,54]
[169,0.65560983287311847,51]
[170,0.82461904545437104,19]
[171,0.12026614135219782,155]
[172,0.57417317573491533,68]
[173,0.54700257543400033,72]
[174,0.74874707025839515,30]
[175,6.9273546815188936E-2,162]